{"text_format":"1","workbook":"xlsx","n_sheets":8,"sheets":["Instructions","Customer Info","Log Sheet","Overview","Department","Loss Reason","Surplus","Recycling"],"not_rendered":{"charts":6,"images":10,"macros":1,"external_links":0,"defined_names":1,"comments":3,"pivot_tables":28},"unopened":[],"bounds":{"document_bytes":16777216,"sheet_cells":100000,"rows_first":2000,"rows_last":500,"rows_between":2000,"halvings":0,"cell_chars":16384,"cell_head_chars":4096},"cells_cut":0,"cells_raw":0,"read":"whole","date_system":"1900"}

{"sheet":"Instructions","index":0,"n_rows":22,"n_cols":10,"rows_kept":22,"cut":false,"hidden":false,"merged":[[7,11,11,12],[7,13,7,18],[11,2,11,7],[9,2,10,7],[17,0,19,1],[17,2,19,7],[21,0,23,1],[21,2,23,7],[0,0,3,7],[5,0,7,1],[5,2,7,7],[9,0,11,1],[13,2,15,7],[13,0,15,1]]}
["INSTRUCTIONS                                        Food Waste Assessment Results"]
[]
[]
[]
[]
["Step 1",null,"Hit the Enable Content button at the top of the screen."]
[]
[]
[]
["Step 2",null,"Enter sales information into the Customer Info tab."]
[]
[null,null,"These values are used to scale the results."]
[]
["Step 3",null,"Enter data from the log sheet into the Log Sheet tab."]
[]
[]
[]
["Step 4",null,"Click the \"VIEW RESULTS\" button."]
[]
[null,null,null,null,null,null,null,null,null," "]
[]
["Step 5",null,"Review the (5) green tabs to see results."]

{"sheet":"Customer Info","index":1,"n_rows":17,"n_cols":15,"rows_kept":17,"cut":false,"hidden":false,"merged":[[15,1,15,3],[16,1,16,3],[4,0,4,14],[0,0,3,14],[5,0,6,14],[12,1,12,3],[14,1,14,3],[8,6,8,14],[13,1,13,3],[9,1,9,4],[10,1,10,4],[8,1,8,4],[12,6,12,14]]}
["Food Waste Assessment"]
[]
[]
[]
[]
["Customer / Sales Volume Information"]
[]
[]
[null,"Color Code:",null,null,null,null,"Week of Assessment - Total Weekly Sales "]
[null,"Required Information",null,null,null,null,"Current","Sunday","Monday","Tuesday","Wednesday","Thursday","Friday","Saturday","Average"]
[null,"Optional Information",null,null,null,null,"Week 1",null,null,null,null,null,null,null,{"$f":"SUM(H11:N11)/7","v":0}]
[]
[null,"Full-Store Average Weekly Hours Worked",null,null,null,null,"Prior Weeks - Total Weekly Sales (Optional)"]
[null,"Day of the Week Assessment is Performed",null,null,null,null,"Previous","Sunday","Monday","Tuesday","Wednesday","Thursday","Friday","Saturday","Average"]
[null,"Average Daily Sales Volume",null,null,{"$f":"IF(O17=0,IF(O16=0,IF(O15=0,O11,AVERAGE(O15,O11)),AVERAGE(O11,O15,O16)),AVERAGE(O11,O15,O16,O17))","v":0},null,"Week 2",null,null,null,null,null,null,null,{"$f":"SUM(H15:N15)/7","v":0}]
[null,"Assessment Day Sales",null,null,{"$f":"IF(E14=\"Sunday\",H11,IF(E14=\"Monday\",I11,IF(E14=\"Tuesday\",J11,IF(E14=\"Wednesday\",K11,IF(E14=\"Thursday\",L11,IF(E14=\"Friday\",M11,IF(E14=\"Saturday\",N11,)))))))","v":0},null,"Week 3",null,null,null,null,null,null,null,{"$f":"SUM(H16:N16)/7","v":0}]
[null,"Assessment Day Sales Scaling Factor",null,null,{"$f":"IF(E16=0,,E15/E16)","v":0},null,"Week 4",null,null,null,null,null,null,null,{"$f":"SUM(H17:N17)/7","v":0}]

{"sheet":"Log Sheet","index":2,"n_rows":727,"n_cols":14,"rows_kept":727,"cut":false,"hidden":false,"merged":[[2,0,3,2],[2,3,3,4],[6,0,6,8],[1,0,1,2],[1,3,1,4]]}
[null,null,null,null,null,null,null,null,null,null,null,null,"If donation","If All other disposal methods"]
["Assessment Date:",null,null,null,null,null,null,null,"Color Code:",null,null,null,"surplus","prep waste"]
["Team Members:",null,null,null,null,null,null,null,"Required Information",null,null,null,null,"expired"]
[null,null,null,null,null,null,null,null,"Optional Information",null,null,null,null,"plate waste"]
[null,null,null,null,null,null,null,null,null,null,null,null,null,"surplus"]
[null,null,null,null,null,null,null,null,null,null,null,null,null,"quality"]
["LOG SHEET - Study Data",null,null,null,null,null,null,null,null,null,null,null,null,"return"]
["Time / Meal Service","Time Frame  (hrs) - leave blank if 24","Source Location","Disposal Method","Loss Reason","Food Description","Container Weight (lbs)","Total Weight (lbs)","Notes","Food Weight (lbs)","Scaled Food Weight (lbs)",null,null,"other"]
[null,null,null,null,null,null,null,null,null,{"$f":"H9-G9","v":0},{"$f":"IF('Customer Info'!$E$17=0,J9*(IF(B9=0, 1,24/B9)),J9*'Customer Info'!$E$17*(IF(B9=0, 1,24/B9)))","v":0}]
[null,null,null,null,null,null,null,null,null,{"$f":"H10-G10","v":0},{"$f":"IF('Customer Info'!$E$17=0,J10*(IF(B10=0, 1,24/B10)),J10*'Customer Info'!$E$17*(IF(B10=0, 1,24/B10)))","v":0}]
[null,null,null,null,null,null,null,null,null,0,{"$f":"IF('Customer Info'!$E$17=0,J11*(IF(B11=0, 1,24/B11)),J11*'Customer Info'!$E$17*(IF(B11=0, 1,24/B11)))","v":0}]
[null,null,null,null,null,null,null,null,null,0,{"$f":"IF('Customer Info'!$E$17=0,J12*(IF(B12=0, 1,24/B12)),J12*'Customer Info'!$E$17*(IF(B12=0, 1,24/B12)))","v":0}]
[null,null,null,null,null,null,null,null,null,0,{"$f":"IF('Customer Info'!$E$17=0,J13*(IF(B13=0, 1,24/B13)),J13*'Customer Info'!$E$17*(IF(B13=0, 1,24/B13)))","v":0}]
[null,null,null,null,null,null,null,null,null,0,{"$f":"IF('Customer Info'!$E$17=0,J14*(IF(B14=0, 1,24/B14)),J14*'Customer Info'!$E$17*(IF(B14=0, 1,24/B14)))","v":0}]
[null,null,null,null,null,null,null,null,null,0,{"$f":"IF('Customer Info'!$E$17=0,J15*(IF(B15=0, 1,24/B15)),J15*'Customer Info'!$E$17*(IF(B15=0, 1,24/B15)))","v":0}]
[null,null,null,null,null,null,null,null,null,0,{"$f":"IF('Customer Info'!$E$17=0,J16*(IF(B16=0, 1,24/B16)),J16*'Customer Info'!$E$17*(IF(B16=0, 1,24/B16)))","v":0}]
[null,null,null,null,null,null,null,null,null,0,{"$f":"IF('Customer Info'!$E$17=0,J17*(IF(B17=0, 1,24/B17)),J17*'Customer Info'!$E$17*(IF(B17=0, 1,24/B17)))","v":0}]
[null,null,null,null,null,null,null,null,null,0,{"$f":"IF('Customer Info'!$E$17=0,J18*(IF(B18=0, 1,24/B18)),J18*'Customer Info'!$E$17*(IF(B18=0, 1,24/B18)))","v":0}]
[null,null,null,null,null,null,null,null,null,0,{"$f":"IF('Customer Info'!$E$17=0,J19*(IF(B19=0, 1,24/B19)),J19*'Customer Info'!$E$17*(IF(B19=0, 1,24/B19)))","v":0}]
[null,null,null,null,null,null,null,null,null,0,{"$f":"IF('Customer Info'!$E$17=0,J20*(IF(B20=0, 1,24/B20)),J20*'Customer Info'!$E$17*(IF(B20=0, 1,24/B20)))","v":0}]
[null,null,null,null,null,null,null,null,null,0,{"$f":"IF('Customer Info'!$E$17=0,J21*(IF(B21=0, 1,24/B21)),J21*'Customer Info'!$E$17*(IF(B21=0, 1,24/B21)))","v":0}]
[null,null,null,null,null,null,null,null,null,0,{"$f":"IF('Customer Info'!$E$17=0,J22*(IF(B22=0, 1,24/B22)),J22*'Customer Info'!$E$17*(IF(B22=0, 1,24/B22)))","v":0}]
[null,null,null,null,null,null,null,null,null,0,{"$f":"IF('Customer Info'!$E$17=0,J23*(IF(B23=0, 1,24/B23)),J23*'Customer Info'!$E$17*(IF(B23=0, 1,24/B23)))","v":0}]
[null,null,null,null,null,null,null,null,null,0,{"$f":"IF('Customer Info'!$E$17=0,J24*(IF(B24=0, 1,24/B24)),J24*'Customer Info'!$E$17*(IF(B24=0, 1,24/B24)))","v":0}]
[null,null,null,null,null,null,null,null,null,0,{"$f":"IF('Customer Info'!$E$17=0,J25*(IF(B25=0, 1,24/B25)),J25*'Customer Info'!$E$17*(IF(B25=0, 1,24/B25)))","v":0}]
[null,null,null,null,null,null,null,null,null,0,{"$f":"IF('Customer Info'!$E$17=0,J26*(IF(B26=0, 1,24/B26)),J26*'Customer Info'!$E$17*(IF(B26=0, 1,24/B26)))","v":0}]
[null,null,null,null,null,null,null,null,null,0,{"$f":"IF('Customer Info'!$E$17=0,J27*(IF(B27=0, 1,24/B27)),J27*'Customer Info'!$E$17*(IF(B27=0, 1,24/B27)))","v":0}]
[null,null,null,null,null,null,null,null,null,0,{"$f":"IF('Customer Info'!$E$17=0,J28*(IF(B28=0, 1,24/B28)),J28*'Customer Info'!$E$17*(IF(B28=0, 1,24/B28)))","v":0}]
[null,null,null,null,null,null,null,null,null,0,{"$f":"IF('Customer Info'!$E$17=0,J29*(IF(B29=0, 1,24/B29)),J29*'Customer Info'!$E$17*(IF(B29=0, 1,24/B29)))","v":0}]
[null,null,null,null,null,null,null,null,null,0,{"$f":"IF('Customer Info'!$E$17=0,J30*(IF(B30=0, 1,24/B30)),J30*'Customer Info'!$E$17*(IF(B30=0, 1,24/B30)))","v":0}]
[null,null,null,null,null,null,null,null,null,0,{"$f":"IF('Customer Info'!$E$17=0,J31*(IF(B31=0, 1,24/B31)),J31*'Customer Info'!$E$17*(IF(B31=0, 1,24/B31)))","v":0}]
[null,null,null,null,null,null,null,null,null,0,{"$f":"IF('Customer Info'!$E$17=0,J32*(IF(B32=0, 1,24/B32)),J32*'Customer Info'!$E$17*(IF(B32=0, 1,24/B32)))","v":0}]
[null,null,null,null,null,null,null,null,null,0,{"$f":"IF('Customer Info'!$E$17=0,J33*(IF(B33=0, 1,24/B33)),J33*'Customer Info'!$E$17*(IF(B33=0, 1,24/B33)))","v":0}]
[null,null,null,null,null,null,null,null,null,0,{"$f":"IF('Customer Info'!$E$17=0,J34*(IF(B34=0, 1,24/B34)),J34*'Customer Info'!$E$17*(IF(B34=0, 1,24/B34)))","v":0}]
[null,null,null,null,null,null,null,null,null,0,{"$f":"IF('Customer Info'!$E$17=0,J35*(IF(B35=0, 1,24/B35)),J35*'Customer Info'!$E$17*(IF(B35=0, 1,24/B35)))","v":0}]
[null,null,null,null,null,null,null,null,null,0,{"$f":"IF('Customer Info'!$E$17=0,J36*(IF(B36=0, 1,24/B36)),J36*'Customer Info'!$E$17*(IF(B36=0, 1,24/B36)))","v":0}]
[null,null,null,null,null,null,null,null,null,0,{"$f":"IF('Customer Info'!$E$17=0,J37*(IF(B37=0, 1,24/B37)),J37*'Customer Info'!$E$17*(IF(B37=0, 1,24/B37)))","v":0}]
[null,null,null,null,null,null,null,null,null,0,{"$f":"IF('Customer Info'!$E$17=0,J38*(IF(B38=0, 1,24/B38)),J38*'Customer Info'!$E$17*(IF(B38=0, 1,24/B38)))","v":0}]
[null,null,null,null,null,null,null,null,null,0,{"$f":"IF('Customer Info'!$E$17=0,J39*(IF(B39=0, 1,24/B39)),J39*'Customer Info'!$E$17*(IF(B39=0, 1,24/B39)))","v":0}]
[null,null,null,null,null,null,null,null,null,0,{"$f":"IF('Customer Info'!$E$17=0,J40*(IF(B40=0, 1,24/B40)),J40*'Customer Info'!$E$17*(IF(B40=0, 1,24/B40)))","v":0}]
[null,null,null,null,null,null,null,null,null,0,{"$f":"IF('Customer Info'!$E$17=0,J41*(IF(B41=0, 1,24/B41)),J41*'Customer Info'!$E$17*(IF(B41=0, 1,24/B41)))","v":0}]
[null,null,null,null,null,null,null,null,null,0,{"$f":"IF('Customer Info'!$E$17=0,J42*(IF(B42=0, 1,24/B42)),J42*'Customer Info'!$E$17*(IF(B42=0, 1,24/B42)))","v":0}]
[null,null,null,null,null,null,null,null,null,0,{"$f":"IF('Customer Info'!$E$17=0,J43*(IF(B43=0, 1,24/B43)),J43*'Customer Info'!$E$17*(IF(B43=0, 1,24/B43)))","v":0}]
[null,null,null,null,null,null,null,null,null,0,{"$f":"IF('Customer Info'!$E$17=0,J44*(IF(B44=0, 1,24/B44)),J44*'Customer Info'!$E$17*(IF(B44=0, 1,24/B44)))","v":0}]
[null,null,null,null,null,null,null,null,null,0,{"$f":"IF('Customer Info'!$E$17=0,J45*(IF(B45=0, 1,24/B45)),J45*'Customer Info'!$E$17*(IF(B45=0, 1,24/B45)))","v":0}]
[null,null,null,null,null,null,null,null,null,0,{"$f":"IF('Customer Info'!$E$17=0,J46*(IF(B46=0, 1,24/B46)),J46*'Customer Info'!$E$17*(IF(B46=0, 1,24/B46)))","v":0}]
[null,null,null,null,null,null,null,null,null,0,{"$f":"IF('Customer Info'!$E$17=0,J47*(IF(B47=0, 1,24/B47)),J47*'Customer Info'!$E$17*(IF(B47=0, 1,24/B47)))","v":0}]
[null,null,null,null,null,null,null,null,null,0,{"$f":"IF('Customer Info'!$E$17=0,J48*(IF(B48=0, 1,24/B48)),J48*'Customer Info'!$E$17*(IF(B48=0, 1,24/B48)))","v":0}]
[null,null,null,null,null,null,null,null,null,0,{"$f":"IF('Customer Info'!$E$17=0,J49*(IF(B49=0, 1,24/B49)),J49*'Customer Info'!$E$17*(IF(B49=0, 1,24/B49)))","v":0}]
[null,null,null,null,null,null,null,null,null,0,{"$f":"IF('Customer Info'!$E$17=0,J50*(IF(B50=0, 1,24/B50)),J50*'Customer Info'!$E$17*(IF(B50=0, 1,24/B50)))","v":0}]
[null,null,null,null,null,null,null,null,null,0,{"$f":"IF('Customer Info'!$E$17=0,J51*(IF(B51=0, 1,24/B51)),J51*'Customer Info'!$E$17*(IF(B51=0, 1,24/B51)))","v":0}]
[null,null,null,null,null,null,null,null,null,0,{"$f":"IF('Customer Info'!$E$17=0,J52*(IF(B52=0, 1,24/B52)),J52*'Customer Info'!$E$17*(IF(B52=0, 1,24/B52)))","v":0}]
[null,null,null,null,null,null,null,null,null,0,{"$f":"IF('Customer Info'!$E$17=0,J53*(IF(B53=0, 1,24/B53)),J53*'Customer Info'!$E$17*(IF(B53=0, 1,24/B53)))","v":0}]
[null,null,null,null,null,null,null,null,null,0,{"$f":"IF('Customer Info'!$E$17=0,J54*(IF(B54=0, 1,24/B54)),J54*'Customer Info'!$E$17*(IF(B54=0, 1,24/B54)))","v":0}]
[null,null,null,null,null,null,null,null,null,0,{"$f":"IF('Customer Info'!$E$17=0,J55*(IF(B55=0, 1,24/B55)),J55*'Customer Info'!$E$17*(IF(B55=0, 1,24/B55)))","v":0}]
[null,null,null,null,null,null,null,null,null,0,{"$f":"IF('Customer Info'!$E$17=0,J56*(IF(B56=0, 1,24/B56)),J56*'Customer Info'!$E$17*(IF(B56=0, 1,24/B56)))","v":0}]
[null,null,null,null,null,null,null,null,null,0,{"$f":"IF('Customer Info'!$E$17=0,J57*(IF(B57=0, 1,24/B57)),J57*'Customer Info'!$E$17*(IF(B57=0, 1,24/B57)))","v":0}]
[null,null,null,null,null,null,null,null,null,0,{"$f":"IF('Customer Info'!$E$17=0,J58*(IF(B58=0, 1,24/B58)),J58*'Customer Info'!$E$17*(IF(B58=0, 1,24/B58)))","v":0}]
[null,null,null,null,null,null,null,null,null,0,{"$f":"IF('Customer Info'!$E$17=0,J59*(IF(B59=0, 1,24/B59)),J59*'Customer Info'!$E$17*(IF(B59=0, 1,24/B59)))","v":0}]
[null,null,null,null,null,null,null,null,null,0,{"$f":"IF('Customer Info'!$E$17=0,J60*(IF(B60=0, 1,24/B60)),J60*'Customer Info'!$E$17*(IF(B60=0, 1,24/B60)))","v":0}]
[null,null,null,null,null,null,null,null,null,0,{"$f":"IF('Customer Info'!$E$17=0,J61*(IF(B61=0, 1,24/B61)),J61*'Customer Info'!$E$17*(IF(B61=0, 1,24/B61)))","v":0}]
[null,null,null,null,null,null,null,null,null,0,{"$f":"IF('Customer Info'!$E$17=0,J62*(IF(B62=0, 1,24/B62)),J62*'Customer Info'!$E$17*(IF(B62=0, 1,24/B62)))","v":0}]
[null,null,null,null,null,null,null,null,null,0,{"$f":"IF('Customer Info'!$E$17=0,J63*(IF(B63=0, 1,24/B63)),J63*'Customer Info'!$E$17*(IF(B63=0, 1,24/B63)))","v":0}]
[null,null,null,null,null,null,null,null,null,0,{"$f":"IF('Customer Info'!$E$17=0,J64*(IF(B64=0, 1,24/B64)),J64*'Customer Info'!$E$17*(IF(B64=0, 1,24/B64)))","v":0}]
[null,null,null,null,null,null,null,null,null,0,{"$f":"IF('Customer Info'!$E$17=0,J65*(IF(B65=0, 1,24/B65)),J65*'Customer Info'!$E$17*(IF(B65=0, 1,24/B65)))","v":0}]
[null,null,null,null,null,null,null,null,null,0,{"$f":"IF('Customer Info'!$E$17=0,J66*(IF(B66=0, 1,24/B66)),J66*'Customer Info'!$E$17*(IF(B66=0, 1,24/B66)))","v":0}]
[null,null,null,null,null,null,null,null,null,0,{"$f":"IF('Customer Info'!$E$17=0,J67*(IF(B67=0, 1,24/B67)),J67*'Customer Info'!$E$17*(IF(B67=0, 1,24/B67)))","v":0}]
[null,null,null,null,null,null,null,null,null,0,{"$f":"IF('Customer Info'!$E$17=0,J68*(IF(B68=0, 1,24/B68)),J68*'Customer Info'!$E$17*(IF(B68=0, 1,24/B68)))","v":0}]
[null,null,null,null,null,null,null,null,null,0,{"$f":"IF('Customer Info'!$E$17=0,J69*(IF(B69=0, 1,24/B69)),J69*'Customer Info'!$E$17*(IF(B69=0, 1,24/B69)))","v":0}]
[null,null,null,null,null,null,null,null,null,0,{"$f":"IF('Customer Info'!$E$17=0,J70*(IF(B70=0, 1,24/B70)),J70*'Customer Info'!$E$17*(IF(B70=0, 1,24/B70)))","v":0}]
[null,null,null,null,null,null,null,null,null,0,{"$f":"IF('Customer Info'!$E$17=0,J71*(IF(B71=0, 1,24/B71)),J71*'Customer Info'!$E$17*(IF(B71=0, 1,24/B71)))","v":0}]
[null,null,null,null,null,null,null,null,null,0,{"$f":"IF('Customer Info'!$E$17=0,J72*(IF(B72=0, 1,24/B72)),J72*'Customer Info'!$E$17*(IF(B72=0, 1,24/B72)))","v":0}]
[null,null,null,null,null,null,null,null,null,0,{"$f":"IF('Customer Info'!$E$17=0,J73*(IF(B73=0, 1,24/B73)),J73*'Customer Info'!$E$17*(IF(B73=0, 1,24/B73)))","v":0}]
[null,null,null,null,null,null,null,null,null,{"$f":"H74-G74","v":0},{"$f":"IF('Customer Info'!$E$17=0,J74*(IF(B74=0, 1,24/B74)),J74*'Customer Info'!$E$17*(IF(B74=0, 1,24/B74)))","v":0}]
[null,null,null,null,null,null,null,null,null,0,{"$f":"IF('Customer Info'!$E$17=0,J75*(IF(B75=0, 1,24/B75)),J75*'Customer Info'!$E$17*(IF(B75=0, 1,24/B75)))","v":0}]
[null,null,null,null,null,null,null,null,null,0,{"$f":"IF('Customer Info'!$E$17=0,J76*(IF(B76=0, 1,24/B76)),J76*'Customer Info'!$E$17*(IF(B76=0, 1,24/B76)))","v":0}]
[null,null,null,null,null,null,null,null,null,0,{"$f":"IF('Customer Info'!$E$17=0,J77*(IF(B77=0, 1,24/B77)),J77*'Customer Info'!$E$17*(IF(B77=0, 1,24/B77)))","v":0}]
[null,null,null,null,null,null,null,null,null,0,{"$f":"IF('Customer Info'!$E$17=0,J78*(IF(B78=0, 1,24/B78)),J78*'Customer Info'!$E$17*(IF(B78=0, 1,24/B78)))","v":0}]
[null,null,null,null,null,null,null,null,null,0,{"$f":"IF('Customer Info'!$E$17=0,J79*(IF(B79=0, 1,24/B79)),J79*'Customer Info'!$E$17*(IF(B79=0, 1,24/B79)))","v":0}]
[null,null,null,null,null,null,null,null,null,0,{"$f":"IF('Customer Info'!$E$17=0,J80*(IF(B80=0, 1,24/B80)),J80*'Customer Info'!$E$17*(IF(B80=0, 1,24/B80)))","v":0}]
[null,null,null,null,null,null,null,null,null,0,{"$f":"IF('Customer Info'!$E$17=0,J81*(IF(B81=0, 1,24/B81)),J81*'Customer Info'!$E$17*(IF(B81=0, 1,24/B81)))","v":0}]
[null,null,null,null,null,null,null,null,null,0,{"$f":"IF('Customer Info'!$E$17=0,J82*(IF(B82=0, 1,24/B82)),J82*'Customer Info'!$E$17*(IF(B82=0, 1,24/B82)))","v":0}]
[null,null,null,null,null,null,null,null,null,0,{"$f":"IF('Customer Info'!$E$17=0,J83*(IF(B83=0, 1,24/B83)),J83*'Customer Info'!$E$17*(IF(B83=0, 1,24/B83)))","v":0}]
[null,null,null,null,null,null,null,null,null,0,{"$f":"IF('Customer Info'!$E$17=0,J84*(IF(B84=0, 1,24/B84)),J84*'Customer Info'!$E$17*(IF(B84=0, 1,24/B84)))","v":0}]
[null,null,null,null,null,null,null,null,null,0,{"$f":"IF('Customer Info'!$E$17=0,J85*(IF(B85=0, 1,24/B85)),J85*'Customer Info'!$E$17*(IF(B85=0, 1,24/B85)))","v":0}]
[null,null,null,null,null,null,null,null,null,0,{"$f":"IF('Customer Info'!$E$17=0,J86*(IF(B86=0, 1,24/B86)),J86*'Customer Info'!$E$17*(IF(B86=0, 1,24/B86)))","v":0}]
[null,null,null,null,null,null,null,null,null,0,{"$f":"IF('Customer Info'!$E$17=0,J87*(IF(B87=0, 1,24/B87)),J87*'Customer Info'!$E$17*(IF(B87=0, 1,24/B87)))","v":0}]
[null,null,null,null,null,null,null,null,null,0,{"$f":"IF('Customer Info'!$E$17=0,J88*(IF(B88=0, 1,24/B88)),J88*'Customer Info'!$E$17*(IF(B88=0, 1,24/B88)))","v":0}]
[null,null,null,null,null,null,null,null,null,0,{"$f":"IF('Customer Info'!$E$17=0,J89*(IF(B89=0, 1,24/B89)),J89*'Customer Info'!$E$17*(IF(B89=0, 1,24/B89)))","v":0}]
[null,null,null,null,null,null,null,null,null,0,{"$f":"IF('Customer Info'!$E$17=0,J90*(IF(B90=0, 1,24/B90)),J90*'Customer Info'!$E$17*(IF(B90=0, 1,24/B90)))","v":0}]
[null,null,null,null,null,null,null,null,null,0,{"$f":"IF('Customer Info'!$E$17=0,J91*(IF(B91=0, 1,24/B91)),J91*'Customer Info'!$E$17*(IF(B91=0, 1,24/B91)))","v":0}]
[null,null,null,null,null,null,null,null,null,0,{"$f":"IF('Customer Info'!$E$17=0,J92*(IF(B92=0, 1,24/B92)),J92*'Customer Info'!$E$17*(IF(B92=0, 1,24/B92)))","v":0}]
[null,null,null,null,null,null,null,null,null,0,{"$f":"IF('Customer Info'!$E$17=0,J93*(IF(B93=0, 1,24/B93)),J93*'Customer Info'!$E$17*(IF(B93=0, 1,24/B93)))","v":0}]
[null,null,null,null,null,null,null,null,null,0,{"$f":"IF('Customer Info'!$E$17=0,J94*(IF(B94=0, 1,24/B94)),J94*'Customer Info'!$E$17*(IF(B94=0, 1,24/B94)))","v":0}]
[null,null,null,null,null,null,null,null,null,0,{"$f":"IF('Customer Info'!$E$17=0,J95*(IF(B95=0, 1,24/B95)),J95*'Customer Info'!$E$17*(IF(B95=0, 1,24/B95)))","v":0}]
[null,null,null,null,null,null,null,null,null,0,{"$f":"IF('Customer Info'!$E$17=0,J96*(IF(B96=0, 1,24/B96)),J96*'Customer Info'!$E$17*(IF(B96=0, 1,24/B96)))","v":0}]
[null,null,null,null,null,null,null,null,null,0,{"$f":"IF('Customer Info'!$E$17=0,J97*(IF(B97=0, 1,24/B97)),J97*'Customer Info'!$E$17*(IF(B97=0, 1,24/B97)))","v":0}]
[null,null,null,null,null,null,null,null,null,0,{"$f":"IF('Customer Info'!$E$17=0,J98*(IF(B98=0, 1,24/B98)),J98*'Customer Info'!$E$17*(IF(B98=0, 1,24/B98)))","v":0}]
[null,null,null,null,null,null,null,null,null,0,{"$f":"IF('Customer Info'!$E$17=0,J99*(IF(B99=0, 1,24/B99)),J99*'Customer Info'!$E$17*(IF(B99=0, 1,24/B99)))","v":0}]
[null,null,null,null,null,null,null,null,null,0,{"$f":"IF('Customer Info'!$E$17=0,J100*(IF(B100=0, 1,24/B100)),J100*'Customer Info'!$E$17*(IF(B100=0, 1,24/B100)))","v":0}]
[null,null,null,null,null,null,null,null,null,0,{"$f":"IF('Customer Info'!$E$17=0,J101*(IF(B101=0, 1,24/B101)),J101*'Customer Info'!$E$17*(IF(B101=0, 1,24/B101)))","v":0}]
[null,null,null,null,null,null,null,null,null,0,{"$f":"IF('Customer Info'!$E$17=0,J102*(IF(B102=0, 1,24/B102)),J102*'Customer Info'!$E$17*(IF(B102=0, 1,24/B102)))","v":0}]
[null,null,null,null,null,null,null,null,null,0,{"$f":"IF('Customer Info'!$E$17=0,J103*(IF(B103=0, 1,24/B103)),J103*'Customer Info'!$E$17*(IF(B103=0, 1,24/B103)))","v":0}]
[null,null,null,null,null,null,null,null,null,0,{"$f":"IF('Customer Info'!$E$17=0,J104*(IF(B104=0, 1,24/B104)),J104*'Customer Info'!$E$17*(IF(B104=0, 1,24/B104)))","v":0}]
[null,null,null,null,null,null,null,null,null,0,{"$f":"IF('Customer Info'!$E$17=0,J105*(IF(B105=0, 1,24/B105)),J105*'Customer Info'!$E$17*(IF(B105=0, 1,24/B105)))","v":0}]
[null,null,null,null,null,null,null,null,null,0,{"$f":"IF('Customer Info'!$E$17=0,J106*(IF(B106=0, 1,24/B106)),J106*'Customer Info'!$E$17*(IF(B106=0, 1,24/B106)))","v":0}]
[null,null,null,null,null,null,null,null,null,0,{"$f":"IF('Customer Info'!$E$17=0,J107*(IF(B107=0, 1,24/B107)),J107*'Customer Info'!$E$17*(IF(B107=0, 1,24/B107)))","v":0}]
[null,null,null,null,null,null,null,null,null,0,{"$f":"IF('Customer Info'!$E$17=0,J108*(IF(B108=0, 1,24/B108)),J108*'Customer Info'!$E$17*(IF(B108=0, 1,24/B108)))","v":0}]
[null,null,null,null,null,null,null,null,null,0,{"$f":"IF('Customer Info'!$E$17=0,J109*(IF(B109=0, 1,24/B109)),J109*'Customer Info'!$E$17*(IF(B109=0, 1,24/B109)))","v":0}]
[null,null,null,null,null,null,null,null,null,0,{"$f":"IF('Customer Info'!$E$17=0,J110*(IF(B110=0, 1,24/B110)),J110*'Customer Info'!$E$17*(IF(B110=0, 1,24/B110)))","v":0}]
[null,null,null,null,null,null,null,null,null,0,{"$f":"IF('Customer Info'!$E$17=0,J111*(IF(B111=0, 1,24/B111)),J111*'Customer Info'!$E$17*(IF(B111=0, 1,24/B111)))","v":0}]
[null,null,null,null,null,null,null,null,null,0,{"$f":"IF('Customer Info'!$E$17=0,J112*(IF(B112=0, 1,24/B112)),J112*'Customer Info'!$E$17*(IF(B112=0, 1,24/B112)))","v":0}]
[null,null,null,null,null,null,null,null,null,0,{"$f":"IF('Customer Info'!$E$17=0,J113*(IF(B113=0, 1,24/B113)),J113*'Customer Info'!$E$17*(IF(B113=0, 1,24/B113)))","v":0}]
[null,null,null,null,null,null,null,null,null,0,{"$f":"IF('Customer Info'!$E$17=0,J114*(IF(B114=0, 1,24/B114)),J114*'Customer Info'!$E$17*(IF(B114=0, 1,24/B114)))","v":0}]
[null,null,null,null,null,null,null,null,null,0,{"$f":"IF('Customer Info'!$E$17=0,J115*(IF(B115=0, 1,24/B115)),J115*'Customer Info'!$E$17*(IF(B115=0, 1,24/B115)))","v":0}]
[null,null,null,null,null,null,null,null,null,0,{"$f":"IF('Customer Info'!$E$17=0,J116*(IF(B116=0, 1,24/B116)),J116*'Customer Info'!$E$17*(IF(B116=0, 1,24/B116)))","v":0}]
[null,null,null,null,null,null,null,null,null,0,{"$f":"IF('Customer Info'!$E$17=0,J117*(IF(B117=0, 1,24/B117)),J117*'Customer Info'!$E$17*(IF(B117=0, 1,24/B117)))","v":0}]
[null,null,null,null,null,null,null,null,null,0,{"$f":"IF('Customer Info'!$E$17=0,J118*(IF(B118=0, 1,24/B118)),J118*'Customer Info'!$E$17*(IF(B118=0, 1,24/B118)))","v":0}]
[null,null,null,null,null,null,null,null,null,0,{"$f":"IF('Customer Info'!$E$17=0,J119*(IF(B119=0, 1,24/B119)),J119*'Customer Info'!$E$17*(IF(B119=0, 1,24/B119)))","v":0}]
[null,null,null,null,null,null,null,null,null,0,{"$f":"IF('Customer Info'!$E$17=0,J120*(IF(B120=0, 1,24/B120)),J120*'Customer Info'!$E$17*(IF(B120=0, 1,24/B120)))","v":0}]
[null,null,null,null,null,null,null,null,null,0,{"$f":"IF('Customer Info'!$E$17=0,J121*(IF(B121=0, 1,24/B121)),J121*'Customer Info'!$E$17*(IF(B121=0, 1,24/B121)))","v":0}]
[null,null,null,null,null,null,null,null,null,0,{"$f":"IF('Customer Info'!$E$17=0,J122*(IF(B122=0, 1,24/B122)),J122*'Customer Info'!$E$17*(IF(B122=0, 1,24/B122)))","v":0}]
[null,null,null,null,null,null,null,null,null,0,{"$f":"IF('Customer Info'!$E$17=0,J123*(IF(B123=0, 1,24/B123)),J123*'Customer Info'!$E$17*(IF(B123=0, 1,24/B123)))","v":0}]
[null,null,null,null,null,null,null,null,null,0,{"$f":"IF('Customer Info'!$E$17=0,J124*(IF(B124=0, 1,24/B124)),J124*'Customer Info'!$E$17*(IF(B124=0, 1,24/B124)))","v":0}]
[null,null,null,null,null,null,null,null,null,0,{"$f":"IF('Customer Info'!$E$17=0,J125*(IF(B125=0, 1,24/B125)),J125*'Customer Info'!$E$17*(IF(B125=0, 1,24/B125)))","v":0}]
[null,null,null,null,null,null,null,null,null,0,{"$f":"IF('Customer Info'!$E$17=0,J126*(IF(B126=0, 1,24/B126)),J126*'Customer Info'!$E$17*(IF(B126=0, 1,24/B126)))","v":0}]
[null,null,null,null,null,null,null,null,null,0,{"$f":"IF('Customer Info'!$E$17=0,J127*(IF(B127=0, 1,24/B127)),J127*'Customer Info'!$E$17*(IF(B127=0, 1,24/B127)))","v":0}]
[null,null,null,null,null,null,null,null,null,0,{"$f":"IF('Customer Info'!$E$17=0,J128*(IF(B128=0, 1,24/B128)),J128*'Customer Info'!$E$17*(IF(B128=0, 1,24/B128)))","v":0}]
[null,null,null,null,null,null,null,null,null,0,{"$f":"IF('Customer Info'!$E$17=0,J129*(IF(B129=0, 1,24/B129)),J129*'Customer Info'!$E$17*(IF(B129=0, 1,24/B129)))","v":0}]
[null,null,null,null,null,null,null,null,null,0,{"$f":"IF('Customer Info'!$E$17=0,J130*(IF(B130=0, 1,24/B130)),J130*'Customer Info'!$E$17*(IF(B130=0, 1,24/B130)))","v":0}]
[null,null,null,null,null,null,null,null,null,0,{"$f":"IF('Customer Info'!$E$17=0,J131*(IF(B131=0, 1,24/B131)),J131*'Customer Info'!$E$17*(IF(B131=0, 1,24/B131)))","v":0}]
[null,null,null,null,null,null,null,null,null,0,{"$f":"IF('Customer Info'!$E$17=0,J132*(IF(B132=0, 1,24/B132)),J132*'Customer Info'!$E$17*(IF(B132=0, 1,24/B132)))","v":0}]
[null,null,null,null,null,null,null,null,null,0,{"$f":"IF('Customer Info'!$E$17=0,J133*(IF(B133=0, 1,24/B133)),J133*'Customer Info'!$E$17*(IF(B133=0, 1,24/B133)))","v":0}]
[null,null,null,null,null,null,null,null,null,0,{"$f":"IF('Customer Info'!$E$17=0,J134*(IF(B134=0, 1,24/B134)),J134*'Customer Info'!$E$17*(IF(B134=0, 1,24/B134)))","v":0}]
[null,null,null,null,null,null,null,null,null,0,{"$f":"IF('Customer Info'!$E$17=0,J135*(IF(B135=0, 1,24/B135)),J135*'Customer Info'!$E$17*(IF(B135=0, 1,24/B135)))","v":0}]
[null,null,null,null,null,null,null,null,null,0,{"$f":"IF('Customer Info'!$E$17=0,J136*(IF(B136=0, 1,24/B136)),J136*'Customer Info'!$E$17*(IF(B136=0, 1,24/B136)))","v":0}]
[null,null,null,null,null,null,null,null,null,0,{"$f":"IF('Customer Info'!$E$17=0,J137*(IF(B137=0, 1,24/B137)),J137*'Customer Info'!$E$17*(IF(B137=0, 1,24/B137)))","v":0}]
[null,null,null,null,null,null,null,null,null,{"$f":"H138-G138","v":0},{"$f":"IF('Customer Info'!$E$17=0,J138*(IF(B138=0, 1,24/B138)),J138*'Customer Info'!$E$17*(IF(B138=0, 1,24/B138)))","v":0}]
[null,null,null,null,null,null,null,null,null,0,{"$f":"IF('Customer Info'!$E$17=0,J139*(IF(B139=0, 1,24/B139)),J139*'Customer Info'!$E$17*(IF(B139=0, 1,24/B139)))","v":0}]
[null,null,null,null,null,null,null,null,null,0,{"$f":"IF('Customer Info'!$E$17=0,J140*(IF(B140=0, 1,24/B140)),J140*'Customer Info'!$E$17*(IF(B140=0, 1,24/B140)))","v":0}]
[null,null,null,null,null,null,null,null,null,0,{"$f":"IF('Customer Info'!$E$17=0,J141*(IF(B141=0, 1,24/B141)),J141*'Customer Info'!$E$17*(IF(B141=0, 1,24/B141)))","v":0}]
[null,null,null,null,null,null,null,null,null,0,{"$f":"IF('Customer Info'!$E$17=0,J142*(IF(B142=0, 1,24/B142)),J142*'Customer Info'!$E$17*(IF(B142=0, 1,24/B142)))","v":0}]
[null,null,null,null,null,null,null,null,null,0,{"$f":"IF('Customer Info'!$E$17=0,J143*(IF(B143=0, 1,24/B143)),J143*'Customer Info'!$E$17*(IF(B143=0, 1,24/B143)))","v":0}]
[null,null,null,null,null,null,null,null,null,0,{"$f":"IF('Customer Info'!$E$17=0,J144*(IF(B144=0, 1,24/B144)),J144*'Customer Info'!$E$17*(IF(B144=0, 1,24/B144)))","v":0}]
[null,null,null,null,null,null,null,null,null,0,{"$f":"IF('Customer Info'!$E$17=0,J145*(IF(B145=0, 1,24/B145)),J145*'Customer Info'!$E$17*(IF(B145=0, 1,24/B145)))","v":0}]
[null,null,null,null,null,null,null,null,null,0,{"$f":"IF('Customer Info'!$E$17=0,J146*(IF(B146=0, 1,24/B146)),J146*'Customer Info'!$E$17*(IF(B146=0, 1,24/B146)))","v":0}]
[null,null,null,null,null,null,null,null,null,0,{"$f":"IF('Customer Info'!$E$17=0,J147*(IF(B147=0, 1,24/B147)),J147*'Customer Info'!$E$17*(IF(B147=0, 1,24/B147)))","v":0}]
[null,null,null,null,null,null,null,null,null,0,{"$f":"IF('Customer Info'!$E$17=0,J148*(IF(B148=0, 1,24/B148)),J148*'Customer Info'!$E$17*(IF(B148=0, 1,24/B148)))","v":0}]
[null,null,null,null,null,null,null,null,null,0,{"$f":"IF('Customer Info'!$E$17=0,J149*(IF(B149=0, 1,24/B149)),J149*'Customer Info'!$E$17*(IF(B149=0, 1,24/B149)))","v":0}]
[null,null,null,null,null,null,null,null,null,0,{"$f":"IF('Customer Info'!$E$17=0,J150*(IF(B150=0, 1,24/B150)),J150*'Customer Info'!$E$17*(IF(B150=0, 1,24/B150)))","v":0}]
[null,null,null,null,null,null,null,null,null,0,{"$f":"IF('Customer Info'!$E$17=0,J151*(IF(B151=0, 1,24/B151)),J151*'Customer Info'!$E$17*(IF(B151=0, 1,24/B151)))","v":0}]
[null,null,null,null,null,null,null,null,null,0,{"$f":"IF('Customer Info'!$E$17=0,J152*(IF(B152=0, 1,24/B152)),J152*'Customer Info'!$E$17*(IF(B152=0, 1,24/B152)))","v":0}]
[null,null,null,null,null,null,null,null,null,0,{"$f":"IF('Customer Info'!$E$17=0,J153*(IF(B153=0, 1,24/B153)),J153*'Customer Info'!$E$17*(IF(B153=0, 1,24/B153)))","v":0}]
[null,null,null,null,null,null,null,null,null,0,{"$f":"IF('Customer Info'!$E$17=0,J154*(IF(B154=0, 1,24/B154)),J154*'Customer Info'!$E$17*(IF(B154=0, 1,24/B154)))","v":0}]
[null,null,null,null,null,null,null,null,null,0,{"$f":"IF('Customer Info'!$E$17=0,J155*(IF(B155=0, 1,24/B155)),J155*'Customer Info'!$E$17*(IF(B155=0, 1,24/B155)))","v":0}]
[null,null,null,null,null,null,null,null,null,0,{"$f":"IF('Customer Info'!$E$17=0,J156*(IF(B156=0, 1,24/B156)),J156*'Customer Info'!$E$17*(IF(B156=0, 1,24/B156)))","v":0}]
[null,null,null,null,null,null,null,null,null,0,{"$f":"IF('Customer Info'!$E$17=0,J157*(IF(B157=0, 1,24/B157)),J157*'Customer Info'!$E$17*(IF(B157=0, 1,24/B157)))","v":0}]
[null,null,null,null,null,null,null,null,null,0,{"$f":"IF('Customer Info'!$E$17=0,J158*(IF(B158=0, 1,24/B158)),J158*'Customer Info'!$E$17*(IF(B158=0, 1,24/B158)))","v":0}]
[null,null,null,null,null,null,null,null,null,0,{"$f":"IF('Customer Info'!$E$17=0,J159*(IF(B159=0, 1,24/B159)),J159*'Customer Info'!$E$17*(IF(B159=0, 1,24/B159)))","v":0}]
[null,null,null,null,null,null,null,null,null,0,{"$f":"IF('Customer Info'!$E$17=0,J160*(IF(B160=0, 1,24/B160)),J160*'Customer Info'!$E$17*(IF(B160=0, 1,24/B160)))","v":0}]
[null,null,null,null,null,null,null,null,null,0,{"$f":"IF('Customer Info'!$E$17=0,J161*(IF(B161=0, 1,24/B161)),J161*'Customer Info'!$E$17*(IF(B161=0, 1,24/B161)))","v":0}]
[null,null,null,null,null,null,null,null,null,0,{"$f":"IF('Customer Info'!$E$17=0,J162*(IF(B162=0, 1,24/B162)),J162*'Customer Info'!$E$17*(IF(B162=0, 1,24/B162)))","v":0}]
[null,null,null,null,null,null,null,null,null,0,{"$f":"IF('Customer Info'!$E$17=0,J163*(IF(B163=0, 1,24/B163)),J163*'Customer Info'!$E$17*(IF(B163=0, 1,24/B163)))","v":0}]
[null,null,null,null,null,null,null,null,null,0,{"$f":"IF('Customer Info'!$E$17=0,J164*(IF(B164=0, 1,24/B164)),J164*'Customer Info'!$E$17*(IF(B164=0, 1,24/B164)))","v":0}]
[null,null,null,null,null,null,null,null,null,0,{"$f":"IF('Customer Info'!$E$17=0,J165*(IF(B165=0, 1,24/B165)),J165*'Customer Info'!$E$17*(IF(B165=0, 1,24/B165)))","v":0}]
[null,null,null,null,null,null,null,null,null,0,{"$f":"IF('Customer Info'!$E$17=0,J166*(IF(B166=0, 1,24/B166)),J166*'Customer Info'!$E$17*(IF(B166=0, 1,24/B166)))","v":0}]
[null,null,null,null,null,null,null,null,null,0,{"$f":"IF('Customer Info'!$E$17=0,J167*(IF(B167=0, 1,24/B167)),J167*'Customer Info'!$E$17*(IF(B167=0, 1,24/B167)))","v":0}]
[null,null,null,null,null,null,null,null,null,0,{"$f":"IF('Customer Info'!$E$17=0,J168*(IF(B168=0, 1,24/B168)),J168*'Customer Info'!$E$17*(IF(B168=0, 1,24/B168)))","v":0}]
[null,null,null,null,null,null,null,null,null,0,{"$f":"IF('Customer Info'!$E$17=0,J169*(IF(B169=0, 1,24/B169)),J169*'Customer Info'!$E$17*(IF(B169=0, 1,24/B169)))","v":0}]
[null,null,null,null,null,null,null,null,null,0,{"$f":"IF('Customer Info'!$E$17=0,J170*(IF(B170=0, 1,24/B170)),J170*'Customer Info'!$E$17*(IF(B170=0, 1,24/B170)))","v":0}]
[null,null,null,null,null,null,null,null,null,0,{"$f":"IF('Customer Info'!$E$17=0,J171*(IF(B171=0, 1,24/B171)),J171*'Customer Info'!$E$17*(IF(B171=0, 1,24/B171)))","v":0}]
[null,null,null,null,null,null,null,null,null,0,{"$f":"IF('Customer Info'!$E$17=0,J172*(IF(B172=0, 1,24/B172)),J172*'Customer Info'!$E$17*(IF(B172=0, 1,24/B172)))","v":0}]
[null,null,null,null,null,null,null,null,null,0,{"$f":"IF('Customer Info'!$E$17=0,J173*(IF(B173=0, 1,24/B173)),J173*'Customer Info'!$E$17*(IF(B173=0, 1,24/B173)))","v":0}]
[null,null,null,null,null,null,null,null,null,0,{"$f":"IF('Customer Info'!$E$17=0,J174*(IF(B174=0, 1,24/B174)),J174*'Customer Info'!$E$17*(IF(B174=0, 1,24/B174)))","v":0}]
[null,null,null,null,null,null,null,null,null,0,{"$f":"IF('Customer Info'!$E$17=0,J175*(IF(B175=0, 1,24/B175)),J175*'Customer Info'!$E$17*(IF(B175=0, 1,24/B175)))","v":0}]
[null,null,null,null,null,null,null,null,null,0,{"$f":"IF('Customer Info'!$E$17=0,J176*(IF(B176=0, 1,24/B176)),J176*'Customer Info'!$E$17*(IF(B176=0, 1,24/B176)))","v":0}]
[null,null,null,null,null,null,null,null,null,0,{"$f":"IF('Customer Info'!$E$17=0,J177*(IF(B177=0, 1,24/B177)),J177*'Customer Info'!$E$17*(IF(B177=0, 1,24/B177)))","v":0}]
[null,null,null,null,null,null,null,null,null,0,{"$f":"IF('Customer Info'!$E$17=0,J178*(IF(B178=0, 1,24/B178)),J178*'Customer Info'!$E$17*(IF(B178=0, 1,24/B178)))","v":0}]
[null,null,null,null,null,null,null,null,null,0,{"$f":"IF('Customer Info'!$E$17=0,J179*(IF(B179=0, 1,24/B179)),J179*'Customer Info'!$E$17*(IF(B179=0, 1,24/B179)))","v":0}]
[null,null,null,null,null,null,null,null,null,0,{"$f":"IF('Customer Info'!$E$17=0,J180*(IF(B180=0, 1,24/B180)),J180*'Customer Info'!$E$17*(IF(B180=0, 1,24/B180)))","v":0}]
[null,null,null,null,null,null,null,null,null,0,{"$f":"IF('Customer Info'!$E$17=0,J181*(IF(B181=0, 1,24/B181)),J181*'Customer Info'!$E$17*(IF(B181=0, 1,24/B181)))","v":0}]
[null,null,null,null,null,null,null,null,null,0,{"$f":"IF('Customer Info'!$E$17=0,J182*(IF(B182=0, 1,24/B182)),J182*'Customer Info'!$E$17*(IF(B182=0, 1,24/B182)))","v":0}]
[null,null,null,null,null,null,null,null,null,0,{"$f":"IF('Customer Info'!$E$17=0,J183*(IF(B183=0, 1,24/B183)),J183*'Customer Info'!$E$17*(IF(B183=0, 1,24/B183)))","v":0}]
[null,null,null,null,null,null,null,null,null,0,{"$f":"IF('Customer Info'!$E$17=0,J184*(IF(B184=0, 1,24/B184)),J184*'Customer Info'!$E$17*(IF(B184=0, 1,24/B184)))","v":0}]
[null,null,null,null,null,null,null,null,null,0,{"$f":"IF('Customer Info'!$E$17=0,J185*(IF(B185=0, 1,24/B185)),J185*'Customer Info'!$E$17*(IF(B185=0, 1,24/B185)))","v":0}]
[null,null,null,null,null,null,null,null,null,0,{"$f":"IF('Customer Info'!$E$17=0,J186*(IF(B186=0, 1,24/B186)),J186*'Customer Info'!$E$17*(IF(B186=0, 1,24/B186)))","v":0}]
[null,null,null,null,null,null,null,null,null,0,{"$f":"IF('Customer Info'!$E$17=0,J187*(IF(B187=0, 1,24/B187)),J187*'Customer Info'!$E$17*(IF(B187=0, 1,24/B187)))","v":0}]
[null,null,null,null,null,null,null,null,null,0,{"$f":"IF('Customer Info'!$E$17=0,J188*(IF(B188=0, 1,24/B188)),J188*'Customer Info'!$E$17*(IF(B188=0, 1,24/B188)))","v":0}]
[null,null,null,null,null,null,null,null,null,0,{"$f":"IF('Customer Info'!$E$17=0,J189*(IF(B189=0, 1,24/B189)),J189*'Customer Info'!$E$17*(IF(B189=0, 1,24/B189)))","v":0}]
[null,null,null,null,null,null,null,null,null,0,{"$f":"IF('Customer Info'!$E$17=0,J190*(IF(B190=0, 1,24/B190)),J190*'Customer Info'!$E$17*(IF(B190=0, 1,24/B190)))","v":0}]
[null,null,null,null,null,null,null,null,null,0,{"$f":"IF('Customer Info'!$E$17=0,J191*(IF(B191=0, 1,24/B191)),J191*'Customer Info'!$E$17*(IF(B191=0, 1,24/B191)))","v":0}]
[null,null,null,null,null,null,null,null,null,0,{"$f":"IF('Customer Info'!$E$17=0,J192*(IF(B192=0, 1,24/B192)),J192*'Customer Info'!$E$17*(IF(B192=0, 1,24/B192)))","v":0}]
[null,null,null,null,null,null,null,null,null,0,{"$f":"IF('Customer Info'!$E$17=0,J193*(IF(B193=0, 1,24/B193)),J193*'Customer Info'!$E$17*(IF(B193=0, 1,24/B193)))","v":0}]
[null,null,null,null,null,null,null,null,null,0,{"$f":"IF('Customer Info'!$E$17=0,J194*(IF(B194=0, 1,24/B194)),J194*'Customer Info'!$E$17*(IF(B194=0, 1,24/B194)))","v":0}]
[null,null,null,null,null,null,null,null,null,0,{"$f":"IF('Customer Info'!$E$17=0,J195*(IF(B195=0, 1,24/B195)),J195*'Customer Info'!$E$17*(IF(B195=0, 1,24/B195)))","v":0}]
[null,null,null,null,null,null,null,null,null,0,{"$f":"IF('Customer Info'!$E$17=0,J196*(IF(B196=0, 1,24/B196)),J196*'Customer Info'!$E$17*(IF(B196=0, 1,24/B196)))","v":0}]
[null,null,null,null,null,null,null,null,null,0,{"$f":"IF('Customer Info'!$E$17=0,J197*(IF(B197=0, 1,24/B197)),J197*'Customer Info'!$E$17*(IF(B197=0, 1,24/B197)))","v":0}]
[null,null,null,null,null,null,null,null,null,0,{"$f":"IF('Customer Info'!$E$17=0,J198*(IF(B198=0, 1,24/B198)),J198*'Customer Info'!$E$17*(IF(B198=0, 1,24/B198)))","v":0}]
[null,null,null,null,null,null,null,null,null,0,{"$f":"IF('Customer Info'!$E$17=0,J199*(IF(B199=0, 1,24/B199)),J199*'Customer Info'!$E$17*(IF(B199=0, 1,24/B199)))","v":0}]
[null,null,null,null,null,null,null,null,null,0,{"$f":"IF('Customer Info'!$E$17=0,J200*(IF(B200=0, 1,24/B200)),J200*'Customer Info'!$E$17*(IF(B200=0, 1,24/B200)))","v":0}]
[null,null,null,null,null,null,null,null,null,0,{"$f":"IF('Customer Info'!$E$17=0,J201*(IF(B201=0, 1,24/B201)),J201*'Customer Info'!$E$17*(IF(B201=0, 1,24/B201)))","v":0}]
[null,null,null,null,null,null,null,null,null,{"$f":"H202-G202","v":0},{"$f":"IF('Customer Info'!$E$17=0,J202*(IF(B202=0, 1,24/B202)),J202*'Customer Info'!$E$17*(IF(B202=0, 1,24/B202)))","v":0}]
[null,null,null,null,null,null,null,null,null,0,{"$f":"IF('Customer Info'!$E$17=0,J203*(IF(B203=0, 1,24/B203)),J203*'Customer Info'!$E$17*(IF(B203=0, 1,24/B203)))","v":0}]
[null,null,null,null,null,null,null,null,null,0,{"$f":"IF('Customer Info'!$E$17=0,J204*(IF(B204=0, 1,24/B204)),J204*'Customer Info'!$E$17*(IF(B204=0, 1,24/B204)))","v":0}]
[null,null,null,null,null,null,null,null,null,0,{"$f":"IF('Customer Info'!$E$17=0,J205*(IF(B205=0, 1,24/B205)),J205*'Customer Info'!$E$17*(IF(B205=0, 1,24/B205)))","v":0}]
[null,null,null,null,null,null,null,null,null,0,{"$f":"IF('Customer Info'!$E$17=0,J206*(IF(B206=0, 1,24/B206)),J206*'Customer Info'!$E$17*(IF(B206=0, 1,24/B206)))","v":0}]
[null,null,null,null,null,null,null,null,null,0,{"$f":"IF('Customer Info'!$E$17=0,J207*(IF(B207=0, 1,24/B207)),J207*'Customer Info'!$E$17*(IF(B207=0, 1,24/B207)))","v":0}]
[null,null,null,null,null,null,null,null,null,0,{"$f":"IF('Customer Info'!$E$17=0,J208*(IF(B208=0, 1,24/B208)),J208*'Customer Info'!$E$17*(IF(B208=0, 1,24/B208)))","v":0}]
[null,null,null,null,null,null,null,null,null,0,{"$f":"IF('Customer Info'!$E$17=0,J209*(IF(B209=0, 1,24/B209)),J209*'Customer Info'!$E$17*(IF(B209=0, 1,24/B209)))","v":0}]
[null,null,null,null,null,null,null,null,null,0,{"$f":"IF('Customer Info'!$E$17=0,J210*(IF(B210=0, 1,24/B210)),J210*'Customer Info'!$E$17*(IF(B210=0, 1,24/B210)))","v":0}]
[null,null,null,null,null,null,null,null,null,0,{"$f":"IF('Customer Info'!$E$17=0,J211*(IF(B211=0, 1,24/B211)),J211*'Customer Info'!$E$17*(IF(B211=0, 1,24/B211)))","v":0}]
[null,null,null,null,null,null,null,null,null,0,{"$f":"IF('Customer Info'!$E$17=0,J212*(IF(B212=0, 1,24/B212)),J212*'Customer Info'!$E$17*(IF(B212=0, 1,24/B212)))","v":0}]
[null,null,null,null,null,null,null,null,null,0,{"$f":"IF('Customer Info'!$E$17=0,J213*(IF(B213=0, 1,24/B213)),J213*'Customer Info'!$E$17*(IF(B213=0, 1,24/B213)))","v":0}]
[null,null,null,null,null,null,null,null,null,0,{"$f":"IF('Customer Info'!$E$17=0,J214*(IF(B214=0, 1,24/B214)),J214*'Customer Info'!$E$17*(IF(B214=0, 1,24/B214)))","v":0}]
[null,null,null,null,null,null,null,null,null,0,{"$f":"IF('Customer Info'!$E$17=0,J215*(IF(B215=0, 1,24/B215)),J215*'Customer Info'!$E$17*(IF(B215=0, 1,24/B215)))","v":0}]
[null,null,null,null,null,null,null,null,null,0,{"$f":"IF('Customer Info'!$E$17=0,J216*(IF(B216=0, 1,24/B216)),J216*'Customer Info'!$E$17*(IF(B216=0, 1,24/B216)))","v":0}]
[null,null,null,null,null,null,null,null,null,0,{"$f":"IF('Customer Info'!$E$17=0,J217*(IF(B217=0, 1,24/B217)),J217*'Customer Info'!$E$17*(IF(B217=0, 1,24/B217)))","v":0}]
[null,null,null,null,null,null,null,null,null,0,{"$f":"IF('Customer Info'!$E$17=0,J218*(IF(B218=0, 1,24/B218)),J218*'Customer Info'!$E$17*(IF(B218=0, 1,24/B218)))","v":0}]
[null,null,null,null,null,null,null,null,null,0,{"$f":"IF('Customer Info'!$E$17=0,J219*(IF(B219=0, 1,24/B219)),J219*'Customer Info'!$E$17*(IF(B219=0, 1,24/B219)))","v":0}]
[null,null,null,null,null,null,null,null,null,0,{"$f":"IF('Customer Info'!$E$17=0,J220*(IF(B220=0, 1,24/B220)),J220*'Customer Info'!$E$17*(IF(B220=0, 1,24/B220)))","v":0}]
[null,null,null,null,null,null,null,null,null,0,{"$f":"IF('Customer Info'!$E$17=0,J221*(IF(B221=0, 1,24/B221)),J221*'Customer Info'!$E$17*(IF(B221=0, 1,24/B221)))","v":0}]
[null,null,null,null,null,null,null,null,null,0,{"$f":"IF('Customer Info'!$E$17=0,J222*(IF(B222=0, 1,24/B222)),J222*'Customer Info'!$E$17*(IF(B222=0, 1,24/B222)))","v":0}]
[null,null,null,null,null,null,null,null,null,0,{"$f":"IF('Customer Info'!$E$17=0,J223*(IF(B223=0, 1,24/B223)),J223*'Customer Info'!$E$17*(IF(B223=0, 1,24/B223)))","v":0}]
[null,null,null,null,null,null,null,null,null,0,{"$f":"IF('Customer Info'!$E$17=0,J224*(IF(B224=0, 1,24/B224)),J224*'Customer Info'!$E$17*(IF(B224=0, 1,24/B224)))","v":0}]
[null,null,null,null,null,null,null,null,null,0,{"$f":"IF('Customer Info'!$E$17=0,J225*(IF(B225=0, 1,24/B225)),J225*'Customer Info'!$E$17*(IF(B225=0, 1,24/B225)))","v":0}]
[null,null,null,null,null,null,null,null,null,0,{"$f":"IF('Customer Info'!$E$17=0,J226*(IF(B226=0, 1,24/B226)),J226*'Customer Info'!$E$17*(IF(B226=0, 1,24/B226)))","v":0}]
[null,null,null,null,null,null,null,null,null,0,{"$f":"IF('Customer Info'!$E$17=0,J227*(IF(B227=0, 1,24/B227)),J227*'Customer Info'!$E$17*(IF(B227=0, 1,24/B227)))","v":0}]
[null,null,null,null,null,null,null,null,null,0,{"$f":"IF('Customer Info'!$E$17=0,J228*(IF(B228=0, 1,24/B228)),J228*'Customer Info'!$E$17*(IF(B228=0, 1,24/B228)))","v":0}]
[null,null,null,null,null,null,null,null,null,0,{"$f":"IF('Customer Info'!$E$17=0,J229*(IF(B229=0, 1,24/B229)),J229*'Customer Info'!$E$17*(IF(B229=0, 1,24/B229)))","v":0}]
[null,null,null,null,null,null,null,null,null,0,{"$f":"IF('Customer Info'!$E$17=0,J230*(IF(B230=0, 1,24/B230)),J230*'Customer Info'!$E$17*(IF(B230=0, 1,24/B230)))","v":0}]
[null,null,null,null,null,null,null,null,null,0,{"$f":"IF('Customer Info'!$E$17=0,J231*(IF(B231=0, 1,24/B231)),J231*'Customer Info'!$E$17*(IF(B231=0, 1,24/B231)))","v":0}]
[null,null,null,null,null,null,null,null,null,0,{"$f":"IF('Customer Info'!$E$17=0,J232*(IF(B232=0, 1,24/B232)),J232*'Customer Info'!$E$17*(IF(B232=0, 1,24/B232)))","v":0}]
[null,null,null,null,null,null,null,null,null,0,{"$f":"IF('Customer Info'!$E$17=0,J233*(IF(B233=0, 1,24/B233)),J233*'Customer Info'!$E$17*(IF(B233=0, 1,24/B233)))","v":0}]
[null,null,null,null,null,null,null,null,null,0,{"$f":"IF('Customer Info'!$E$17=0,J234*(IF(B234=0, 1,24/B234)),J234*'Customer Info'!$E$17*(IF(B234=0, 1,24/B234)))","v":0}]
[null,null,null,null,null,null,null,null,null,0,{"$f":"IF('Customer Info'!$E$17=0,J235*(IF(B235=0, 1,24/B235)),J235*'Customer Info'!$E$17*(IF(B235=0, 1,24/B235)))","v":0}]
[null,null,null,null,null,null,null,null,null,0,{"$f":"IF('Customer Info'!$E$17=0,J236*(IF(B236=0, 1,24/B236)),J236*'Customer Info'!$E$17*(IF(B236=0, 1,24/B236)))","v":0}]
[null,null,null,null,null,null,null,null,null,0,{"$f":"IF('Customer Info'!$E$17=0,J237*(IF(B237=0, 1,24/B237)),J237*'Customer Info'!$E$17*(IF(B237=0, 1,24/B237)))","v":0}]
[null,null,null,null,null,null,null,null,null,0,{"$f":"IF('Customer Info'!$E$17=0,J238*(IF(B238=0, 1,24/B238)),J238*'Customer Info'!$E$17*(IF(B238=0, 1,24/B238)))","v":0}]
[null,null,null,null,null,null,null,null,null,0,{"$f":"IF('Customer Info'!$E$17=0,J239*(IF(B239=0, 1,24/B239)),J239*'Customer Info'!$E$17*(IF(B239=0, 1,24/B239)))","v":0}]
[null,null,null,null,null,null,null,null,null,0,{"$f":"IF('Customer Info'!$E$17=0,J240*(IF(B240=0, 1,24/B240)),J240*'Customer Info'!$E$17*(IF(B240=0, 1,24/B240)))","v":0}]
[null,null,null,null,null,null,null,null,null,0,{"$f":"IF('Customer Info'!$E$17=0,J241*(IF(B241=0, 1,24/B241)),J241*'Customer Info'!$E$17*(IF(B241=0, 1,24/B241)))","v":0}]
[null,null,null,null,null,null,null,null,null,0,{"$f":"IF('Customer Info'!$E$17=0,J242*(IF(B242=0, 1,24/B242)),J242*'Customer Info'!$E$17*(IF(B242=0, 1,24/B242)))","v":0}]
[null,null,null,null,null,null,null,null,null,0,{"$f":"IF('Customer Info'!$E$17=0,J243*(IF(B243=0, 1,24/B243)),J243*'Customer Info'!$E$17*(IF(B243=0, 1,24/B243)))","v":0}]
[null,null,null,null,null,null,null,null,null,0,{"$f":"IF('Customer Info'!$E$17=0,J244*(IF(B244=0, 1,24/B244)),J244*'Customer Info'!$E$17*(IF(B244=0, 1,24/B244)))","v":0}]
[null,null,null,null,null,null,null,null,null,0,{"$f":"IF('Customer Info'!$E$17=0,J245*(IF(B245=0, 1,24/B245)),J245*'Customer Info'!$E$17*(IF(B245=0, 1,24/B245)))","v":0}]
[null,null,null,null,null,null,null,null,null,0,{"$f":"IF('Customer Info'!$E$17=0,J246*(IF(B246=0, 1,24/B246)),J246*'Customer Info'!$E$17*(IF(B246=0, 1,24/B246)))","v":0}]
[null,null,null,null,null,null,null,null,null,0,{"$f":"IF('Customer Info'!$E$17=0,J247*(IF(B247=0, 1,24/B247)),J247*'Customer Info'!$E$17*(IF(B247=0, 1,24/B247)))","v":0}]
[null,null,null,null,null,null,null,null,null,0,{"$f":"IF('Customer Info'!$E$17=0,J248*(IF(B248=0, 1,24/B248)),J248*'Customer Info'!$E$17*(IF(B248=0, 1,24/B248)))","v":0}]
[null,null,null,null,null,null,null,null,null,0,{"$f":"IF('Customer Info'!$E$17=0,J249*(IF(B249=0, 1,24/B249)),J249*'Customer Info'!$E$17*(IF(B249=0, 1,24/B249)))","v":0}]
[null,null,null,null,null,null,null,null,null,0,{"$f":"IF('Customer Info'!$E$17=0,J250*(IF(B250=0, 1,24/B250)),J250*'Customer Info'!$E$17*(IF(B250=0, 1,24/B250)))","v":0}]
[null,null,null,null,null,null,null,null,null,0,{"$f":"IF('Customer Info'!$E$17=0,J251*(IF(B251=0, 1,24/B251)),J251*'Customer Info'!$E$17*(IF(B251=0, 1,24/B251)))","v":0}]
[null,null,null,null,null,null,null,null,null,0,{"$f":"IF('Customer Info'!$E$17=0,J252*(IF(B252=0, 1,24/B252)),J252*'Customer Info'!$E$17*(IF(B252=0, 1,24/B252)))","v":0}]
[null,null,null,null,null,null,null,null,null,0,{"$f":"IF('Customer Info'!$E$17=0,J253*(IF(B253=0, 1,24/B253)),J253*'Customer Info'!$E$17*(IF(B253=0, 1,24/B253)))","v":0}]
[null,null,null,null,null,null,null,null,null,0,{"$f":"IF('Customer Info'!$E$17=0,J254*(IF(B254=0, 1,24/B254)),J254*'Customer Info'!$E$17*(IF(B254=0, 1,24/B254)))","v":0}]
[null,null,null,null,null,null,null,null,null,0,{"$f":"IF('Customer Info'!$E$17=0,J255*(IF(B255=0, 1,24/B255)),J255*'Customer Info'!$E$17*(IF(B255=0, 1,24/B255)))","v":0}]
[null,null,null,null,null,null,null,null,null,0,{"$f":"IF('Customer Info'!$E$17=0,J256*(IF(B256=0, 1,24/B256)),J256*'Customer Info'!$E$17*(IF(B256=0, 1,24/B256)))","v":0}]
[null,null,null,null,null,null,null,null,null,0,{"$f":"IF('Customer Info'!$E$17=0,J257*(IF(B257=0, 1,24/B257)),J257*'Customer Info'!$E$17*(IF(B257=0, 1,24/B257)))","v":0}]
[null,null,null,null,null,null,null,null,null,0,{"$f":"IF('Customer Info'!$E$17=0,J258*(IF(B258=0, 1,24/B258)),J258*'Customer Info'!$E$17*(IF(B258=0, 1,24/B258)))","v":0}]
[null,null,null,null,null,null,null,null,null,0,{"$f":"IF('Customer Info'!$E$17=0,J259*(IF(B259=0, 1,24/B259)),J259*'Customer Info'!$E$17*(IF(B259=0, 1,24/B259)))","v":0}]
[null,null,null,null,null,null,null,null,null,0,{"$f":"IF('Customer Info'!$E$17=0,J260*(IF(B260=0, 1,24/B260)),J260*'Customer Info'!$E$17*(IF(B260=0, 1,24/B260)))","v":0}]
[null,null,null,null,null,null,null,null,null,0,{"$f":"IF('Customer Info'!$E$17=0,J261*(IF(B261=0, 1,24/B261)),J261*'Customer Info'!$E$17*(IF(B261=0, 1,24/B261)))","v":0}]
[null,null,null,null,null,null,null,null,null,0,{"$f":"IF('Customer Info'!$E$17=0,J262*(IF(B262=0, 1,24/B262)),J262*'Customer Info'!$E$17*(IF(B262=0, 1,24/B262)))","v":0}]
[null,null,null,null,null,null,null,null,null,0,{"$f":"IF('Customer Info'!$E$17=0,J263*(IF(B263=0, 1,24/B263)),J263*'Customer Info'!$E$17*(IF(B263=0, 1,24/B263)))","v":0}]
[null,null,null,null,null,null,null,null,null,0,{"$f":"IF('Customer Info'!$E$17=0,J264*(IF(B264=0, 1,24/B264)),J264*'Customer Info'!$E$17*(IF(B264=0, 1,24/B264)))","v":0}]
[null,null,null,null,null,null,null,null,null,0,{"$f":"IF('Customer Info'!$E$17=0,J265*(IF(B265=0, 1,24/B265)),J265*'Customer Info'!$E$17*(IF(B265=0, 1,24/B265)))","v":0}]
[null,null,null,null,null,null,null,null,null,{"$f":"H266-G266","v":0},{"$f":"IF('Customer Info'!$E$17=0,J266*(IF(B266=0, 1,24/B266)),J266*'Customer Info'!$E$17*(IF(B266=0, 1,24/B266)))","v":0}]
[null,null,null,null,null,null,null,null,null,0,{"$f":"IF('Customer Info'!$E$17=0,J267*(IF(B267=0, 1,24/B267)),J267*'Customer Info'!$E$17*(IF(B267=0, 1,24/B267)))","v":0}]
[null,null,null,null,null,null,null,null,null,0,{"$f":"IF('Customer Info'!$E$17=0,J268*(IF(B268=0, 1,24/B268)),J268*'Customer Info'!$E$17*(IF(B268=0, 1,24/B268)))","v":0}]
[null,null,null,null,null,null,null,null,null,0,{"$f":"IF('Customer Info'!$E$17=0,J269*(IF(B269=0, 1,24/B269)),J269*'Customer Info'!$E$17*(IF(B269=0, 1,24/B269)))","v":0}]
[null,null,null,null,null,null,null,null,null,0,{"$f":"IF('Customer Info'!$E$17=0,J270*(IF(B270=0, 1,24/B270)),J270*'Customer Info'!$E$17*(IF(B270=0, 1,24/B270)))","v":0}]
[null,null,null,null,null,null,null,null,null,0,{"$f":"IF('Customer Info'!$E$17=0,J271*(IF(B271=0, 1,24/B271)),J271*'Customer Info'!$E$17*(IF(B271=0, 1,24/B271)))","v":0}]
[null,null,null,null,null,null,null,null,null,0,{"$f":"IF('Customer Info'!$E$17=0,J272*(IF(B272=0, 1,24/B272)),J272*'Customer Info'!$E$17*(IF(B272=0, 1,24/B272)))","v":0}]
[null,null,null,null,null,null,null,null,null,0,{"$f":"IF('Customer Info'!$E$17=0,J273*(IF(B273=0, 1,24/B273)),J273*'Customer Info'!$E$17*(IF(B273=0, 1,24/B273)))","v":0}]
[null,null,null,null,null,null,null,null,null,0,{"$f":"IF('Customer Info'!$E$17=0,J274*(IF(B274=0, 1,24/B274)),J274*'Customer Info'!$E$17*(IF(B274=0, 1,24/B274)))","v":0}]
[null,null,null,null,null,null,null,null,null,0,{"$f":"IF('Customer Info'!$E$17=0,J275*(IF(B275=0, 1,24/B275)),J275*'Customer Info'!$E$17*(IF(B275=0, 1,24/B275)))","v":0}]
[null,null,null,null,null,null,null,null,null,0,{"$f":"IF('Customer Info'!$E$17=0,J276*(IF(B276=0, 1,24/B276)),J276*'Customer Info'!$E$17*(IF(B276=0, 1,24/B276)))","v":0}]
[null,null,null,null,null,null,null,null,null,0,{"$f":"IF('Customer Info'!$E$17=0,J277*(IF(B277=0, 1,24/B277)),J277*'Customer Info'!$E$17*(IF(B277=0, 1,24/B277)))","v":0}]
[null,null,null,null,null,null,null,null,null,0,{"$f":"IF('Customer Info'!$E$17=0,J278*(IF(B278=0, 1,24/B278)),J278*'Customer Info'!$E$17*(IF(B278=0, 1,24/B278)))","v":0}]
[null,null,null,null,null,null,null,null,null,0,{"$f":"IF('Customer Info'!$E$17=0,J279*(IF(B279=0, 1,24/B279)),J279*'Customer Info'!$E$17*(IF(B279=0, 1,24/B279)))","v":0}]
[null,null,null,null,null,null,null,null,null,0,{"$f":"IF('Customer Info'!$E$17=0,J280*(IF(B280=0, 1,24/B280)),J280*'Customer Info'!$E$17*(IF(B280=0, 1,24/B280)))","v":0}]
[null,null,null,null,null,null,null,null,null,0,{"$f":"IF('Customer Info'!$E$17=0,J281*(IF(B281=0, 1,24/B281)),J281*'Customer Info'!$E$17*(IF(B281=0, 1,24/B281)))","v":0}]
[null,null,null,null,null,null,null,null,null,0,{"$f":"IF('Customer Info'!$E$17=0,J282*(IF(B282=0, 1,24/B282)),J282*'Customer Info'!$E$17*(IF(B282=0, 1,24/B282)))","v":0}]
[null,null,null,null,null,null,null,null,null,0,{"$f":"IF('Customer Info'!$E$17=0,J283*(IF(B283=0, 1,24/B283)),J283*'Customer Info'!$E$17*(IF(B283=0, 1,24/B283)))","v":0}]
[null,null,null,null,null,null,null,null,null,0,{"$f":"IF('Customer Info'!$E$17=0,J284*(IF(B284=0, 1,24/B284)),J284*'Customer Info'!$E$17*(IF(B284=0, 1,24/B284)))","v":0}]
[null,null,null,null,null,null,null,null,null,0,{"$f":"IF('Customer Info'!$E$17=0,J285*(IF(B285=0, 1,24/B285)),J285*'Customer Info'!$E$17*(IF(B285=0, 1,24/B285)))","v":0}]
[null,null,null,null,null,null,null,null,null,0,{"$f":"IF('Customer Info'!$E$17=0,J286*(IF(B286=0, 1,24/B286)),J286*'Customer Info'!$E$17*(IF(B286=0, 1,24/B286)))","v":0}]
[null,null,null,null,null,null,null,null,null,0,{"$f":"IF('Customer Info'!$E$17=0,J287*(IF(B287=0, 1,24/B287)),J287*'Customer Info'!$E$17*(IF(B287=0, 1,24/B287)))","v":0}]
[null,null,null,null,null,null,null,null,null,0,{"$f":"IF('Customer Info'!$E$17=0,J288*(IF(B288=0, 1,24/B288)),J288*'Customer Info'!$E$17*(IF(B288=0, 1,24/B288)))","v":0}]
[null,null,null,null,null,null,null,null,null,0,{"$f":"IF('Customer Info'!$E$17=0,J289*(IF(B289=0, 1,24/B289)),J289*'Customer Info'!$E$17*(IF(B289=0, 1,24/B289)))","v":0}]
[null,null,null,null,null,null,null,null,null,0,{"$f":"IF('Customer Info'!$E$17=0,J290*(IF(B290=0, 1,24/B290)),J290*'Customer Info'!$E$17*(IF(B290=0, 1,24/B290)))","v":0}]
[null,null,null,null,null,null,null,null,null,0,{"$f":"IF('Customer Info'!$E$17=0,J291*(IF(B291=0, 1,24/B291)),J291*'Customer Info'!$E$17*(IF(B291=0, 1,24/B291)))","v":0}]
[null,null,null,null,null,null,null,null,null,0,{"$f":"IF('Customer Info'!$E$17=0,J292*(IF(B292=0, 1,24/B292)),J292*'Customer Info'!$E$17*(IF(B292=0, 1,24/B292)))","v":0}]
[null,null,null,null,null,null,null,null,null,0,{"$f":"IF('Customer Info'!$E$17=0,J293*(IF(B293=0, 1,24/B293)),J293*'Customer Info'!$E$17*(IF(B293=0, 1,24/B293)))","v":0}]
[null,null,null,null,null,null,null,null,null,0,{"$f":"IF('Customer Info'!$E$17=0,J294*(IF(B294=0, 1,24/B294)),J294*'Customer Info'!$E$17*(IF(B294=0, 1,24/B294)))","v":0}]
[null,null,null,null,null,null,null,null,null,0,{"$f":"IF('Customer Info'!$E$17=0,J295*(IF(B295=0, 1,24/B295)),J295*'Customer Info'!$E$17*(IF(B295=0, 1,24/B295)))","v":0}]
[null,null,"produce","landfill","prep waste",null,0,0,null,{"$f":"H296-G296","v":0},{"$f":"IF('Customer Info'!$E$17=0,J296*(IF(B296=0, 1,24/B296)),J296*'Customer Info'!$E$17*(IF(B296=0, 1,24/B296)))","v":0}]
[null,null,"produce","landfill","expired",null,0,0,null,0,{"$f":"IF('Customer Info'!$E$17=0,J297*(IF(B297=0, 1,24/B297)),J297*'Customer Info'!$E$17*(IF(B297=0, 1,24/B297)))","v":0}]
[null,null,"produce","landfill","plate waste",null,0,0,null,0,{"$f":"IF('Customer Info'!$E$17=0,J298*(IF(B298=0, 1,24/B298)),J298*'Customer Info'!$E$17*(IF(B298=0, 1,24/B298)))","v":0}]
[null,null,"produce","landfill","surplus",null,0,0,null,0,{"$f":"IF('Customer Info'!$E$17=0,J299*(IF(B299=0, 1,24/B299)),J299*'Customer Info'!$E$17*(IF(B299=0, 1,24/B299)))","v":0}]
[null,null,"produce","landfill","quality",null,0,0,null,0,{"$f":"IF('Customer Info'!$E$17=0,J300*(IF(B300=0, 1,24/B300)),J300*'Customer Info'!$E$17*(IF(B300=0, 1,24/B300)))","v":0}]
[null,null,"produce","landfill","return",null,0,0,null,0,{"$f":"IF('Customer Info'!$E$17=0,J301*(IF(B301=0, 1,24/B301)),J301*'Customer Info'!$E$17*(IF(B301=0, 1,24/B301)))","v":0}]
[null,null,"produce","landfill","other",null,0,0,null,0,{"$f":"IF('Customer Info'!$E$17=0,J302*(IF(B302=0, 1,24/B302)),J302*'Customer Info'!$E$17*(IF(B302=0, 1,24/B302)))","v":0}]
[null,null,"produce","compost","prep waste",null,0,0,null,0,{"$f":"IF('Customer Info'!$E$17=0,J303*(IF(B303=0, 1,24/B303)),J303*'Customer Info'!$E$17*(IF(B303=0, 1,24/B303)))","v":0}]
[null,null,"produce","compost","expired",null,0,0,null,0,{"$f":"IF('Customer Info'!$E$17=0,J304*(IF(B304=0, 1,24/B304)),J304*'Customer Info'!$E$17*(IF(B304=0, 1,24/B304)))","v":0}]
[null,null,"produce","compost","plate waste",null,0,0,null,0,{"$f":"IF('Customer Info'!$E$17=0,J305*(IF(B305=0, 1,24/B305)),J305*'Customer Info'!$E$17*(IF(B305=0, 1,24/B305)))","v":0}]
[null,null,"produce","compost","surplus",null,0,0,null,0,{"$f":"IF('Customer Info'!$E$17=0,J306*(IF(B306=0, 1,24/B306)),J306*'Customer Info'!$E$17*(IF(B306=0, 1,24/B306)))","v":0}]
[null,null,"produce","compost","quality",null,0,0,null,0,{"$f":"IF('Customer Info'!$E$17=0,J307*(IF(B307=0, 1,24/B307)),J307*'Customer Info'!$E$17*(IF(B307=0, 1,24/B307)))","v":0}]
[null,null,"produce","compost","return",null,0,0,null,0,{"$f":"IF('Customer Info'!$E$17=0,J308*(IF(B308=0, 1,24/B308)),J308*'Customer Info'!$E$17*(IF(B308=0, 1,24/B308)))","v":0}]
[null,null,"produce","compost","other",null,0,0,null,0,{"$f":"IF('Customer Info'!$E$17=0,J309*(IF(B309=0, 1,24/B309)),J309*'Customer Info'!$E$17*(IF(B309=0, 1,24/B309)))","v":0}]
[null,null,"produce","donation","surplus",null,0,0,null,0,{"$f":"IF('Customer Info'!$E$17=0,J310*(IF(B310=0, 1,24/B310)),J310*'Customer Info'!$E$17*(IF(B310=0, 1,24/B310)))","v":0}]
[null,null,"produce","rendering","prep waste",null,0,0,null,0,{"$f":"IF('Customer Info'!$E$17=0,J311*(IF(B311=0, 1,24/B311)),J311*'Customer Info'!$E$17*(IF(B311=0, 1,24/B311)))","v":0}]
[null,null,"produce","rendering","expired",null,0,0,null,0,{"$f":"IF('Customer Info'!$E$17=0,J312*(IF(B312=0, 1,24/B312)),J312*'Customer Info'!$E$17*(IF(B312=0, 1,24/B312)))","v":0}]
[null,null,"produce","rendering","plate waste",null,0,0,null,0,{"$f":"IF('Customer Info'!$E$17=0,J313*(IF(B313=0, 1,24/B313)),J313*'Customer Info'!$E$17*(IF(B313=0, 1,24/B313)))","v":0}]
[null,null,"produce","rendering","surplus",null,0,0,null,0,{"$f":"IF('Customer Info'!$E$17=0,J314*(IF(B314=0, 1,24/B314)),J314*'Customer Info'!$E$17*(IF(B314=0, 1,24/B314)))","v":0}]
[null,null,"produce","rendering","quality",null,0,0,null,0,{"$f":"IF('Customer Info'!$E$17=0,J315*(IF(B315=0, 1,24/B315)),J315*'Customer Info'!$E$17*(IF(B315=0, 1,24/B315)))","v":0}]
[null,null,"produce","rendering","return",null,0,0,null,0,{"$f":"IF('Customer Info'!$E$17=0,J316*(IF(B316=0, 1,24/B316)),J316*'Customer Info'!$E$17*(IF(B316=0, 1,24/B316)))","v":0}]
[null,null,"produce","rendering","other",null,0,0,null,0,{"$f":"IF('Customer Info'!$E$17=0,J317*(IF(B317=0, 1,24/B317)),J317*'Customer Info'!$E$17*(IF(B317=0, 1,24/B317)))","v":0}]
[null,null,"produce","animal feed","prep waste",null,0,0,null,0,{"$f":"IF('Customer Info'!$E$17=0,J318*(IF(B318=0, 1,24/B318)),J318*'Customer Info'!$E$17*(IF(B318=0, 1,24/B318)))","v":0}]
[null,null,"produce","animal feed","expired",null,0,0,null,0,{"$f":"IF('Customer Info'!$E$17=0,J319*(IF(B319=0, 1,24/B319)),J319*'Customer Info'!$E$17*(IF(B319=0, 1,24/B319)))","v":0}]
[null,null,"produce","animal feed","plate waste",null,0,0,null,0,{"$f":"IF('Customer Info'!$E$17=0,J320*(IF(B320=0, 1,24/B320)),J320*'Customer Info'!$E$17*(IF(B320=0, 1,24/B320)))","v":0}]
[null,null,"produce","animal feed","surplus",null,0,0,null,0,{"$f":"IF('Customer Info'!$E$17=0,J321*(IF(B321=0, 1,24/B321)),J321*'Customer Info'!$E$17*(IF(B321=0, 1,24/B321)))","v":0}]
[null,null,"produce","animal feed","quality",null,0,0,null,0,{"$f":"IF('Customer Info'!$E$17=0,J322*(IF(B322=0, 1,24/B322)),J322*'Customer Info'!$E$17*(IF(B322=0, 1,24/B322)))","v":0}]
[null,null,"produce","animal feed","return",null,0,0,null,0,{"$f":"IF('Customer Info'!$E$17=0,J323*(IF(B323=0, 1,24/B323)),J323*'Customer Info'!$E$17*(IF(B323=0, 1,24/B323)))","v":0}]
[null,null,"produce","animal feed","other",null,0,0,null,0,{"$f":"IF('Customer Info'!$E$17=0,J324*(IF(B324=0, 1,24/B324)),J324*'Customer Info'!$E$17*(IF(B324=0, 1,24/B324)))","v":0}]
[null,null,"produce","anaerobic digestion","prep waste",null,0,0,null,0,{"$f":"IF('Customer Info'!$E$17=0,J325*(IF(B325=0, 1,24/B325)),J325*'Customer Info'!$E$17*(IF(B325=0, 1,24/B325)))","v":0}]
[null,null,"produce","anaerobic digestion","expired",null,0,0,null,0,{"$f":"IF('Customer Info'!$E$17=0,J326*(IF(B326=0, 1,24/B326)),J326*'Customer Info'!$E$17*(IF(B326=0, 1,24/B326)))","v":0}]
[null,null,"produce","anaerobic digestion","plate waste",null,0,0,null,0,{"$f":"IF('Customer Info'!$E$17=0,J327*(IF(B327=0, 1,24/B327)),J327*'Customer Info'!$E$17*(IF(B327=0, 1,24/B327)))","v":0}]
[null,null,"produce","anaerobic digestion","surplus",null,0,0,null,0,{"$f":"IF('Customer Info'!$E$17=0,J328*(IF(B328=0, 1,24/B328)),J328*'Customer Info'!$E$17*(IF(B328=0, 1,24/B328)))","v":0}]
[null,null,"produce","anaerobic digestion","quality",null,0,0,null,0,{"$f":"IF('Customer Info'!$E$17=0,J329*(IF(B329=0, 1,24/B329)),J329*'Customer Info'!$E$17*(IF(B329=0, 1,24/B329)))","v":0}]
[null,null,"produce","anaerobic digestion","return",null,0,0,null,0,{"$f":"IF('Customer Info'!$E$17=0,J330*(IF(B330=0, 1,24/B330)),J330*'Customer Info'!$E$17*(IF(B330=0, 1,24/B330)))","v":0}]
[null,null,"produce","anaerobic digestion","other",null,0,0,null,0,{"$f":"IF('Customer Info'!$E$17=0,J331*(IF(B331=0, 1,24/B331)),J331*'Customer Info'!$E$17*(IF(B331=0, 1,24/B331)))","v":0}]
[null,null,"produce","other","prep waste",null,0,0,null,0,{"$f":"IF('Customer Info'!$E$17=0,J332*(IF(B332=0, 1,24/B332)),J332*'Customer Info'!$E$17*(IF(B332=0, 1,24/B332)))","v":0}]
[null,null,"produce","other","expired",null,0,0,null,0,{"$f":"IF('Customer Info'!$E$17=0,J333*(IF(B333=0, 1,24/B333)),J333*'Customer Info'!$E$17*(IF(B333=0, 1,24/B333)))","v":0}]
[null,null,"produce","other","plate waste",null,0,0,null,0,{"$f":"IF('Customer Info'!$E$17=0,J334*(IF(B334=0, 1,24/B334)),J334*'Customer Info'!$E$17*(IF(B334=0, 1,24/B334)))","v":0}]
[null,null,"produce","other","surplus",null,0,0,null,0,{"$f":"IF('Customer Info'!$E$17=0,J335*(IF(B335=0, 1,24/B335)),J335*'Customer Info'!$E$17*(IF(B335=0, 1,24/B335)))","v":0}]
[null,null,"produce","other","quality",null,0,0,null,0,{"$f":"IF('Customer Info'!$E$17=0,J336*(IF(B336=0, 1,24/B336)),J336*'Customer Info'!$E$17*(IF(B336=0, 1,24/B336)))","v":0}]
[null,null,"produce","other","return",null,0,0,null,0,{"$f":"IF('Customer Info'!$E$17=0,J337*(IF(B337=0, 1,24/B337)),J337*'Customer Info'!$E$17*(IF(B337=0, 1,24/B337)))","v":0}]
[null,null,"produce","other","other",null,0,0,null,0,{"$f":"IF('Customer Info'!$E$17=0,J338*(IF(B338=0, 1,24/B338)),J338*'Customer Info'!$E$17*(IF(B338=0, 1,24/B338)))","v":0}]
[null,null,"bakery","landfill","prep waste",null,0,0,null,0,{"$f":"IF('Customer Info'!$E$17=0,J339*(IF(B339=0, 1,24/B339)),J339*'Customer Info'!$E$17*(IF(B339=0, 1,24/B339)))","v":0}]
[null,null,"bakery","landfill","expired",null,0,0,null,0,{"$f":"IF('Customer Info'!$E$17=0,J340*(IF(B340=0, 1,24/B340)),J340*'Customer Info'!$E$17*(IF(B340=0, 1,24/B340)))","v":0}]
[null,null,"bakery","landfill","plate waste",null,0,0,null,0,{"$f":"IF('Customer Info'!$E$17=0,J341*(IF(B341=0, 1,24/B341)),J341*'Customer Info'!$E$17*(IF(B341=0, 1,24/B341)))","v":0}]
[null,null,"bakery","landfill","surplus",null,0,0,null,0,{"$f":"IF('Customer Info'!$E$17=0,J342*(IF(B342=0, 1,24/B342)),J342*'Customer Info'!$E$17*(IF(B342=0, 1,24/B342)))","v":0}]
[null,null,"bakery","landfill","quality",null,0,0,null,0,{"$f":"IF('Customer Info'!$E$17=0,J343*(IF(B343=0, 1,24/B343)),J343*'Customer Info'!$E$17*(IF(B343=0, 1,24/B343)))","v":0}]
[null,null,"bakery","landfill","return",null,0,0,null,0,{"$f":"IF('Customer Info'!$E$17=0,J344*(IF(B344=0, 1,24/B344)),J344*'Customer Info'!$E$17*(IF(B344=0, 1,24/B344)))","v":0}]
[null,null,"bakery","landfill","other",null,0,0,null,0,{"$f":"IF('Customer Info'!$E$17=0,J345*(IF(B345=0, 1,24/B345)),J345*'Customer Info'!$E$17*(IF(B345=0, 1,24/B345)))","v":0}]
[null,null,"bakery","compost","prep waste",null,0,0,null,0,{"$f":"IF('Customer Info'!$E$17=0,J346*(IF(B346=0, 1,24/B346)),J346*'Customer Info'!$E$17*(IF(B346=0, 1,24/B346)))","v":0}]
[null,null,"bakery","compost","expired",null,0,0,null,0,{"$f":"IF('Customer Info'!$E$17=0,J347*(IF(B347=0, 1,24/B347)),J347*'Customer Info'!$E$17*(IF(B347=0, 1,24/B347)))","v":0}]
[null,null,"bakery","compost","plate waste",null,0,0,null,0,{"$f":"IF('Customer Info'!$E$17=0,J348*(IF(B348=0, 1,24/B348)),J348*'Customer Info'!$E$17*(IF(B348=0, 1,24/B348)))","v":0}]
[null,null,"bakery","compost","surplus",null,0,0,null,0,{"$f":"IF('Customer Info'!$E$17=0,J349*(IF(B349=0, 1,24/B349)),J349*'Customer Info'!$E$17*(IF(B349=0, 1,24/B349)))","v":0}]
[null,null,"bakery","compost","quality",null,0,0,null,0,{"$f":"IF('Customer Info'!$E$17=0,J350*(IF(B350=0, 1,24/B350)),J350*'Customer Info'!$E$17*(IF(B350=0, 1,24/B350)))","v":0}]
[null,null,"bakery","compost","return",null,0,0,null,0,{"$f":"IF('Customer Info'!$E$17=0,J351*(IF(B351=0, 1,24/B351)),J351*'Customer Info'!$E$17*(IF(B351=0, 1,24/B351)))","v":0}]
[null,null,"bakery","compost","other",null,0,0,null,0,{"$f":"IF('Customer Info'!$E$17=0,J352*(IF(B352=0, 1,24/B352)),J352*'Customer Info'!$E$17*(IF(B352=0, 1,24/B352)))","v":0}]
[null,null,"bakery","donation","surplus",null,0,0,null,{"$f":"H353-G353","v":0},{"$f":"IF('Customer Info'!$E$17=0,J353*(IF(B353=0, 1,24/B353)),J353*'Customer Info'!$E$17*(IF(B353=0, 1,24/B353)))","v":0}]
[null,null,"bakery","donation","other",null,0,0,null,0,{"$f":"IF('Customer Info'!$E$17=0,J354*(IF(B354=0, 1,24/B354)),J354*'Customer Info'!$E$17*(IF(B354=0, 1,24/B354)))","v":0}]
[null,null,"bakery","rendering","prep waste",null,0,0,null,0,{"$f":"IF('Customer Info'!$E$17=0,J355*(IF(B355=0, 1,24/B355)),J355*'Customer Info'!$E$17*(IF(B355=0, 1,24/B355)))","v":0}]
[null,null,"bakery","rendering","expired",null,0,0,null,0,{"$f":"IF('Customer Info'!$E$17=0,J356*(IF(B356=0, 1,24/B356)),J356*'Customer Info'!$E$17*(IF(B356=0, 1,24/B356)))","v":0}]
[null,null,"bakery","rendering","plate waste",null,0,0,null,0,{"$f":"IF('Customer Info'!$E$17=0,J357*(IF(B357=0, 1,24/B357)),J357*'Customer Info'!$E$17*(IF(B357=0, 1,24/B357)))","v":0}]
[null,null,"bakery","rendering","surplus",null,0,0,null,0,{"$f":"IF('Customer Info'!$E$17=0,J358*(IF(B358=0, 1,24/B358)),J358*'Customer Info'!$E$17*(IF(B358=0, 1,24/B358)))","v":0}]
[null,null,"bakery","rendering","quality",null,0,0,null,0,{"$f":"IF('Customer Info'!$E$17=0,J359*(IF(B359=0, 1,24/B359)),J359*'Customer Info'!$E$17*(IF(B359=0, 1,24/B359)))","v":0}]
[null,null,"bakery","rendering","return",null,0,0,null,0,{"$f":"IF('Customer Info'!$E$17=0,J360*(IF(B360=0, 1,24/B360)),J360*'Customer Info'!$E$17*(IF(B360=0, 1,24/B360)))","v":0}]
[null,null,"bakery","rendering","other",null,0,0,null,0,{"$f":"IF('Customer Info'!$E$17=0,J361*(IF(B361=0, 1,24/B361)),J361*'Customer Info'!$E$17*(IF(B361=0, 1,24/B361)))","v":0}]
[null,null,"bakery","animal feed","prep waste",null,0,0,null,0,{"$f":"IF('Customer Info'!$E$17=0,J362*(IF(B362=0, 1,24/B362)),J362*'Customer Info'!$E$17*(IF(B362=0, 1,24/B362)))","v":0}]
[null,null,"bakery","animal feed","expired",null,0,0,null,0,{"$f":"IF('Customer Info'!$E$17=0,J363*(IF(B363=0, 1,24/B363)),J363*'Customer Info'!$E$17*(IF(B363=0, 1,24/B363)))","v":0}]
[null,null,"bakery","animal feed","plate waste",null,0,0,null,0,{"$f":"IF('Customer Info'!$E$17=0,J364*(IF(B364=0, 1,24/B364)),J364*'Customer Info'!$E$17*(IF(B364=0, 1,24/B364)))","v":0}]
[null,null,"bakery","animal feed","surplus",null,0,0,null,{"$f":"H365-G365","v":0},{"$f":"IF('Customer Info'!$E$17=0,J365*(IF(B365=0, 1,24/B365)),J365*'Customer Info'!$E$17*(IF(B365=0, 1,24/B365)))","v":0}]
[null,null,"bakery","animal feed","quality",null,0,0,null,0,{"$f":"IF('Customer Info'!$E$17=0,J366*(IF(B366=0, 1,24/B366)),J366*'Customer Info'!$E$17*(IF(B366=0, 1,24/B366)))","v":0}]
[null,null,"bakery","animal feed","return",null,0,0,null,0,{"$f":"IF('Customer Info'!$E$17=0,J367*(IF(B367=0, 1,24/B367)),J367*'Customer Info'!$E$17*(IF(B367=0, 1,24/B367)))","v":0}]
[null,null,"bakery","animal feed","other",null,0,0,null,0,{"$f":"IF('Customer Info'!$E$17=0,J368*(IF(B368=0, 1,24/B368)),J368*'Customer Info'!$E$17*(IF(B368=0, 1,24/B368)))","v":0}]
[null,null,"bakery","anaerobic digestion","prep waste",null,0,0,null,0,{"$f":"IF('Customer Info'!$E$17=0,J369*(IF(B369=0, 1,24/B369)),J369*'Customer Info'!$E$17*(IF(B369=0, 1,24/B369)))","v":0}]
[null,null,"bakery","anaerobic digestion","expired",null,0,0,null,0,{"$f":"IF('Customer Info'!$E$17=0,J370*(IF(B370=0, 1,24/B370)),J370*'Customer Info'!$E$17*(IF(B370=0, 1,24/B370)))","v":0}]
[null,null,"bakery","anaerobic digestion","plate waste",null,0,0,null,0,{"$f":"IF('Customer Info'!$E$17=0,J371*(IF(B371=0, 1,24/B371)),J371*'Customer Info'!$E$17*(IF(B371=0, 1,24/B371)))","v":0}]
[null,null,"bakery","anaerobic digestion","surplus",null,0,0,null,0,{"$f":"IF('Customer Info'!$E$17=0,J372*(IF(B372=0, 1,24/B372)),J372*'Customer Info'!$E$17*(IF(B372=0, 1,24/B372)))","v":0}]
[null,null,"bakery","anaerobic digestion","quality",null,0,0,null,0,{"$f":"IF('Customer Info'!$E$17=0,J373*(IF(B373=0, 1,24/B373)),J373*'Customer Info'!$E$17*(IF(B373=0, 1,24/B373)))","v":0}]
[null,null,"bakery","anaerobic digestion","return",null,0,0,null,0,{"$f":"IF('Customer Info'!$E$17=0,J374*(IF(B374=0, 1,24/B374)),J374*'Customer Info'!$E$17*(IF(B374=0, 1,24/B374)))","v":0}]
[null,null,"bakery","anaerobic digestion","other",null,0,0,null,0,{"$f":"IF('Customer Info'!$E$17=0,J375*(IF(B375=0, 1,24/B375)),J375*'Customer Info'!$E$17*(IF(B375=0, 1,24/B375)))","v":0}]
[null,null,"bakery","other","prep waste",null,0,0,null,0,{"$f":"IF('Customer Info'!$E$17=0,J376*(IF(B376=0, 1,24/B376)),J376*'Customer Info'!$E$17*(IF(B376=0, 1,24/B376)))","v":0}]
[null,null,"bakery","other","expired",null,0,0,null,0,{"$f":"IF('Customer Info'!$E$17=0,J377*(IF(B377=0, 1,24/B377)),J377*'Customer Info'!$E$17*(IF(B377=0, 1,24/B377)))","v":0}]
[null,null,"bakery","other","plate waste",null,0,0,null,0,{"$f":"IF('Customer Info'!$E$17=0,J378*(IF(B378=0, 1,24/B378)),J378*'Customer Info'!$E$17*(IF(B378=0, 1,24/B378)))","v":0}]
[null,null,"bakery","other","surplus",null,0,0,null,0,{"$f":"IF('Customer Info'!$E$17=0,J379*(IF(B379=0, 1,24/B379)),J379*'Customer Info'!$E$17*(IF(B379=0, 1,24/B379)))","v":0}]
[null,null,"bakery","other","quality",null,0,0,null,0,{"$f":"IF('Customer Info'!$E$17=0,J380*(IF(B380=0, 1,24/B380)),J380*'Customer Info'!$E$17*(IF(B380=0, 1,24/B380)))","v":0}]
[null,null,"bakery","other","return",null,0,0,null,0,{"$f":"IF('Customer Info'!$E$17=0,J381*(IF(B381=0, 1,24/B381)),J381*'Customer Info'!$E$17*(IF(B381=0, 1,24/B381)))","v":0}]
[null,null,"bakery","other","other",null,0,0,null,0,{"$f":"IF('Customer Info'!$E$17=0,J382*(IF(B382=0, 1,24/B382)),J382*'Customer Info'!$E$17*(IF(B382=0, 1,24/B382)))","v":0}]
[null,null,"dairy","landfill","prep waste",null,0,0,null,0,{"$f":"IF('Customer Info'!$E$17=0,J383*(IF(B383=0, 1,24/B383)),J383*'Customer Info'!$E$17*(IF(B383=0, 1,24/B383)))","v":0}]
[null,null,"dairy","landfill","expired",null,0,0,null,0,{"$f":"IF('Customer Info'!$E$17=0,J384*(IF(B384=0, 1,24/B384)),J384*'Customer Info'!$E$17*(IF(B384=0, 1,24/B384)))","v":0}]
[null,null,"dairy","landfill","plate waste",null,0,0,null,0,{"$f":"IF('Customer Info'!$E$17=0,J385*(IF(B385=0, 1,24/B385)),J385*'Customer Info'!$E$17*(IF(B385=0, 1,24/B385)))","v":0}]
[null,null,"dairy","landfill","surplus",null,0,0,null,0,{"$f":"IF('Customer Info'!$E$17=0,J386*(IF(B386=0, 1,24/B386)),J386*'Customer Info'!$E$17*(IF(B386=0, 1,24/B386)))","v":0}]
[null,null,"dairy","landfill","quality",null,0,0,null,0,{"$f":"IF('Customer Info'!$E$17=0,J387*(IF(B387=0, 1,24/B387)),J387*'Customer Info'!$E$17*(IF(B387=0, 1,24/B387)))","v":0}]
[null,null,"dairy","landfill","return",null,0,0,null,0,{"$f":"IF('Customer Info'!$E$17=0,J388*(IF(B388=0, 1,24/B388)),J388*'Customer Info'!$E$17*(IF(B388=0, 1,24/B388)))","v":0}]
[null,null,"dairy","landfill","other",null,0,0,null,0,{"$f":"IF('Customer Info'!$E$17=0,J389*(IF(B389=0, 1,24/B389)),J389*'Customer Info'!$E$17*(IF(B389=0, 1,24/B389)))","v":0}]
[null,null,"dairy","compost","prep waste",null,0,0,null,0,{"$f":"IF('Customer Info'!$E$17=0,J390*(IF(B390=0, 1,24/B390)),J390*'Customer Info'!$E$17*(IF(B390=0, 1,24/B390)))","v":0}]
[null,null,"dairy","compost","expired",null,0,0,null,0,{"$f":"IF('Customer Info'!$E$17=0,J391*(IF(B391=0, 1,24/B391)),J391*'Customer Info'!$E$17*(IF(B391=0, 1,24/B391)))","v":0}]
[null,null,"dairy","compost","plate waste",null,0,0,null,0,{"$f":"IF('Customer Info'!$E$17=0,J392*(IF(B392=0, 1,24/B392)),J392*'Customer Info'!$E$17*(IF(B392=0, 1,24/B392)))","v":0}]
[null,null,"dairy","compost","surplus",null,0,0,null,0,{"$f":"IF('Customer Info'!$E$17=0,J393*(IF(B393=0, 1,24/B393)),J393*'Customer Info'!$E$17*(IF(B393=0, 1,24/B393)))","v":0}]
[null,null,"dairy","compost","quality",null,0,0,null,0,{"$f":"IF('Customer Info'!$E$17=0,J394*(IF(B394=0, 1,24/B394)),J394*'Customer Info'!$E$17*(IF(B394=0, 1,24/B394)))","v":0}]
[null,null,"dairy","compost","return",null,0,0,null,0,{"$f":"IF('Customer Info'!$E$17=0,J395*(IF(B395=0, 1,24/B395)),J395*'Customer Info'!$E$17*(IF(B395=0, 1,24/B395)))","v":0}]
[null,null,"dairy","compost","other",null,0,0,null,0,{"$f":"IF('Customer Info'!$E$17=0,J396*(IF(B396=0, 1,24/B396)),J396*'Customer Info'!$E$17*(IF(B396=0, 1,24/B396)))","v":0}]
[null,null,"dairy","donation","surplus",null,0,0,null,0,{"$f":"IF('Customer Info'!$E$17=0,J397*(IF(B397=0, 1,24/B397)),J397*'Customer Info'!$E$17*(IF(B397=0, 1,24/B397)))","v":0}]
[null,null,"dairy","rendering","prep waste",null,0,0,null,0,{"$f":"IF('Customer Info'!$E$17=0,J398*(IF(B398=0, 1,24/B398)),J398*'Customer Info'!$E$17*(IF(B398=0, 1,24/B398)))","v":0}]
[null,null,"dairy","rendering","expired",null,0,0,null,0,{"$f":"IF('Customer Info'!$E$17=0,J399*(IF(B399=0, 1,24/B399)),J399*'Customer Info'!$E$17*(IF(B399=0, 1,24/B399)))","v":0}]
[null,null,"dairy","rendering","plate waste",null,0,0,null,0,{"$f":"IF('Customer Info'!$E$17=0,J400*(IF(B400=0, 1,24/B400)),J400*'Customer Info'!$E$17*(IF(B400=0, 1,24/B400)))","v":0}]
[null,null,"dairy","rendering","surplus",null,0,0,null,0,{"$f":"IF('Customer Info'!$E$17=0,J401*(IF(B401=0, 1,24/B401)),J401*'Customer Info'!$E$17*(IF(B401=0, 1,24/B401)))","v":0}]
[null,null,"dairy","rendering","quality",null,0,0,null,0,{"$f":"IF('Customer Info'!$E$17=0,J402*(IF(B402=0, 1,24/B402)),J402*'Customer Info'!$E$17*(IF(B402=0, 1,24/B402)))","v":0}]
[null,null,"dairy","rendering","return",null,0,0,null,0,{"$f":"IF('Customer Info'!$E$17=0,J403*(IF(B403=0, 1,24/B403)),J403*'Customer Info'!$E$17*(IF(B403=0, 1,24/B403)))","v":0}]
[null,null,"dairy","rendering","other",null,0,0,null,0,{"$f":"IF('Customer Info'!$E$17=0,J404*(IF(B404=0, 1,24/B404)),J404*'Customer Info'!$E$17*(IF(B404=0, 1,24/B404)))","v":0}]
[null,null,"dairy","animal feed","prep waste",null,0,0,null,0,{"$f":"IF('Customer Info'!$E$17=0,J405*(IF(B405=0, 1,24/B405)),J405*'Customer Info'!$E$17*(IF(B405=0, 1,24/B405)))","v":0}]
[null,null,"dairy","animal feed","expired",null,0,0,null,0,{"$f":"IF('Customer Info'!$E$17=0,J406*(IF(B406=0, 1,24/B406)),J406*'Customer Info'!$E$17*(IF(B406=0, 1,24/B406)))","v":0}]
[null,null,"dairy","animal feed","plate waste",null,0,0,null,0,{"$f":"IF('Customer Info'!$E$17=0,J407*(IF(B407=0, 1,24/B407)),J407*'Customer Info'!$E$17*(IF(B407=0, 1,24/B407)))","v":0}]
[null,null,"dairy","animal feed","surplus",null,0,0,null,0,{"$f":"IF('Customer Info'!$E$17=0,J408*(IF(B408=0, 1,24/B408)),J408*'Customer Info'!$E$17*(IF(B408=0, 1,24/B408)))","v":0}]
[null,null,"dairy","animal feed","quality",null,0,0,null,0,{"$f":"IF('Customer Info'!$E$17=0,J409*(IF(B409=0, 1,24/B409)),J409*'Customer Info'!$E$17*(IF(B409=0, 1,24/B409)))","v":0}]
[null,null,"dairy","animal feed","return",null,0,0,null,0,{"$f":"IF('Customer Info'!$E$17=0,J410*(IF(B410=0, 1,24/B410)),J410*'Customer Info'!$E$17*(IF(B410=0, 1,24/B410)))","v":0}]
[null,null,"dairy","animal feed","other",null,0,0,null,0,{"$f":"IF('Customer Info'!$E$17=0,J411*(IF(B411=0, 1,24/B411)),J411*'Customer Info'!$E$17*(IF(B411=0, 1,24/B411)))","v":0}]
[null,null,"dairy","anaerobic digestion","prep waste",null,0,0,null,0,{"$f":"IF('Customer Info'!$E$17=0,J412*(IF(B412=0, 1,24/B412)),J412*'Customer Info'!$E$17*(IF(B412=0, 1,24/B412)))","v":0}]
[null,null,"dairy","anaerobic digestion","expired",null,0,0,null,0,{"$f":"IF('Customer Info'!$E$17=0,J413*(IF(B413=0, 1,24/B413)),J413*'Customer Info'!$E$17*(IF(B413=0, 1,24/B413)))","v":0}]
[null,null,"dairy","anaerobic digestion","plate waste",null,0,0,null,0,{"$f":"IF('Customer Info'!$E$17=0,J414*(IF(B414=0, 1,24/B414)),J414*'Customer Info'!$E$17*(IF(B414=0, 1,24/B414)))","v":0}]
[null,null,"dairy","anaerobic digestion","surplus",null,0,0,null,0,{"$f":"IF('Customer Info'!$E$17=0,J415*(IF(B415=0, 1,24/B415)),J415*'Customer Info'!$E$17*(IF(B415=0, 1,24/B415)))","v":0}]
[null,null,"dairy","anaerobic digestion","quality",null,0,0,null,0,{"$f":"IF('Customer Info'!$E$17=0,J416*(IF(B416=0, 1,24/B416)),J416*'Customer Info'!$E$17*(IF(B416=0, 1,24/B416)))","v":0}]
[null,null,"dairy","anaerobic digestion","return",null,0,0,null,0,{"$f":"IF('Customer Info'!$E$17=0,J417*(IF(B417=0, 1,24/B417)),J417*'Customer Info'!$E$17*(IF(B417=0, 1,24/B417)))","v":0}]
[null,null,"dairy","anaerobic digestion","other",null,0,0,null,0,{"$f":"IF('Customer Info'!$E$17=0,J418*(IF(B418=0, 1,24/B418)),J418*'Customer Info'!$E$17*(IF(B418=0, 1,24/B418)))","v":0}]
[null,null,"dairy","other","prep waste",null,0,0,null,0,{"$f":"IF('Customer Info'!$E$17=0,J419*(IF(B419=0, 1,24/B419)),J419*'Customer Info'!$E$17*(IF(B419=0, 1,24/B419)))","v":0}]
[null,null,"dairy","other","expired",null,0,0,null,0,{"$f":"IF('Customer Info'!$E$17=0,J420*(IF(B420=0, 1,24/B420)),J420*'Customer Info'!$E$17*(IF(B420=0, 1,24/B420)))","v":0}]
[null,null,"dairy","other","plate waste",null,0,0,null,0,{"$f":"IF('Customer Info'!$E$17=0,J421*(IF(B421=0, 1,24/B421)),J421*'Customer Info'!$E$17*(IF(B421=0, 1,24/B421)))","v":0}]
[null,null,"dairy","other","surplus",null,0,0,null,0,{"$f":"IF('Customer Info'!$E$17=0,J422*(IF(B422=0, 1,24/B422)),J422*'Customer Info'!$E$17*(IF(B422=0, 1,24/B422)))","v":0}]
[null,null,"dairy","other","quality",null,0,0,null,{"$f":"H423-G423","v":0},{"$f":"IF('Customer Info'!$E$17=0,J423*(IF(B423=0, 1,24/B423)),J423*'Customer Info'!$E$17*(IF(B423=0, 1,24/B423)))","v":0}]
[null,null,"dairy","other","return",null,0,0,null,0,{"$f":"IF('Customer Info'!$E$17=0,J424*(IF(B424=0, 1,24/B424)),J424*'Customer Info'!$E$17*(IF(B424=0, 1,24/B424)))","v":0}]
[null,null,"dairy","other","other",null,0,0,null,0,{"$f":"IF('Customer Info'!$E$17=0,J425*(IF(B425=0, 1,24/B425)),J425*'Customer Info'!$E$17*(IF(B425=0, 1,24/B425)))","v":0}]
[null,null,"meat","landfill","prep waste",null,0,0,null,0,{"$f":"IF('Customer Info'!$E$17=0,J426*(IF(B426=0, 1,24/B426)),J426*'Customer Info'!$E$17*(IF(B426=0, 1,24/B426)))","v":0}]
[null,null,"meat","landfill","expired",null,0,0,null,0,{"$f":"IF('Customer Info'!$E$17=0,J427*(IF(B427=0, 1,24/B427)),J427*'Customer Info'!$E$17*(IF(B427=0, 1,24/B427)))","v":0}]
[null,null,"meat","landfill","plate waste",null,0,0,null,0,{"$f":"IF('Customer Info'!$E$17=0,J428*(IF(B428=0, 1,24/B428)),J428*'Customer Info'!$E$17*(IF(B428=0, 1,24/B428)))","v":0}]
[null,null,"meat","landfill","surplus",null,0,0,null,0,{"$f":"IF('Customer Info'!$E$17=0,J429*(IF(B429=0, 1,24/B429)),J429*'Customer Info'!$E$17*(IF(B429=0, 1,24/B429)))","v":0}]
[null,null,"meat","landfill","quality",null,0,0,null,0,{"$f":"IF('Customer Info'!$E$17=0,J430*(IF(B430=0, 1,24/B430)),J430*'Customer Info'!$E$17*(IF(B430=0, 1,24/B430)))","v":0}]
[null,null,"meat","landfill","return",null,0,0,null,0,{"$f":"IF('Customer Info'!$E$17=0,J431*(IF(B431=0, 1,24/B431)),J431*'Customer Info'!$E$17*(IF(B431=0, 1,24/B431)))","v":0}]
[null,null,"meat","landfill","other",null,0,0,null,0,{"$f":"IF('Customer Info'!$E$17=0,J432*(IF(B432=0, 1,24/B432)),J432*'Customer Info'!$E$17*(IF(B432=0, 1,24/B432)))","v":0}]
[null,null,"meat","compost","prep waste",null,0,0,null,0,{"$f":"IF('Customer Info'!$E$17=0,J433*(IF(B433=0, 1,24/B433)),J433*'Customer Info'!$E$17*(IF(B433=0, 1,24/B433)))","v":0}]
[null,null,"meat","compost","expired",null,0,0,null,0,{"$f":"IF('Customer Info'!$E$17=0,J434*(IF(B434=0, 1,24/B434)),J434*'Customer Info'!$E$17*(IF(B434=0, 1,24/B434)))","v":0}]
[null,null,"meat","compost","plate waste",null,0,0,null,0,{"$f":"IF('Customer Info'!$E$17=0,J435*(IF(B435=0, 1,24/B435)),J435*'Customer Info'!$E$17*(IF(B435=0, 1,24/B435)))","v":0}]
[null,null,"meat","compost","surplus",null,0,0,null,0,{"$f":"IF('Customer Info'!$E$17=0,J436*(IF(B436=0, 1,24/B436)),J436*'Customer Info'!$E$17*(IF(B436=0, 1,24/B436)))","v":0}]
[null,null,"meat","compost","quality",null,0,0,null,0,{"$f":"IF('Customer Info'!$E$17=0,J437*(IF(B437=0, 1,24/B437)),J437*'Customer Info'!$E$17*(IF(B437=0, 1,24/B437)))","v":0}]
[null,null,"meat","compost","return",null,0,0,null,0,{"$f":"IF('Customer Info'!$E$17=0,J438*(IF(B438=0, 1,24/B438)),J438*'Customer Info'!$E$17*(IF(B438=0, 1,24/B438)))","v":0}]
[null,null,"meat","compost","other",null,0,0,null,0,{"$f":"IF('Customer Info'!$E$17=0,J439*(IF(B439=0, 1,24/B439)),J439*'Customer Info'!$E$17*(IF(B439=0, 1,24/B439)))","v":0}]
[null,null,"meat","donation","surplus",null,0,0,null,0,{"$f":"IF('Customer Info'!$E$17=0,J440*(IF(B440=0, 1,24/B440)),J440*'Customer Info'!$E$17*(IF(B440=0, 1,24/B440)))","v":0}]
[null,null,"meat","rendering","prep waste",null,0,0,null,0,{"$f":"IF('Customer Info'!$E$17=0,J441*(IF(B441=0, 1,24/B441)),J441*'Customer Info'!$E$17*(IF(B441=0, 1,24/B441)))","v":0}]
[null,null,"meat","rendering","expired",null,0,0,null,0,{"$f":"IF('Customer Info'!$E$17=0,J442*(IF(B442=0, 1,24/B442)),J442*'Customer Info'!$E$17*(IF(B442=0, 1,24/B442)))","v":0}]
[null,null,"meat","rendering","plate waste",null,0,0,null,0,{"$f":"IF('Customer Info'!$E$17=0,J443*(IF(B443=0, 1,24/B443)),J443*'Customer Info'!$E$17*(IF(B443=0, 1,24/B443)))","v":0}]
[null,null,"meat","rendering","surplus",null,0,0,null,0,{"$f":"IF('Customer Info'!$E$17=0,J444*(IF(B444=0, 1,24/B444)),J444*'Customer Info'!$E$17*(IF(B444=0, 1,24/B444)))","v":0}]
[null,null,"meat","rendering","quality",null,0,0,null,0,{"$f":"IF('Customer Info'!$E$17=0,J445*(IF(B445=0, 1,24/B445)),J445*'Customer Info'!$E$17*(IF(B445=0, 1,24/B445)))","v":0}]
[null,null,"meat","rendering","return",null,0,0,null,0,{"$f":"IF('Customer Info'!$E$17=0,J446*(IF(B446=0, 1,24/B446)),J446*'Customer Info'!$E$17*(IF(B446=0, 1,24/B446)))","v":0}]
[null,null,"meat","rendering","other",null,0,0,null,0,{"$f":"IF('Customer Info'!$E$17=0,J447*(IF(B447=0, 1,24/B447)),J447*'Customer Info'!$E$17*(IF(B447=0, 1,24/B447)))","v":0}]
[null,null,"meat","animal feed","prep waste",null,0,0,null,0,{"$f":"IF('Customer Info'!$E$17=0,J448*(IF(B448=0, 1,24/B448)),J448*'Customer Info'!$E$17*(IF(B448=0, 1,24/B448)))","v":0}]
[null,null,"meat","animal feed","expired",null,0,0,null,0,{"$f":"IF('Customer Info'!$E$17=0,J449*(IF(B449=0, 1,24/B449)),J449*'Customer Info'!$E$17*(IF(B449=0, 1,24/B449)))","v":0}]
[null,null,"meat","animal feed","plate waste",null,0,0,null,0,{"$f":"IF('Customer Info'!$E$17=0,J450*(IF(B450=0, 1,24/B450)),J450*'Customer Info'!$E$17*(IF(B450=0, 1,24/B450)))","v":0}]
[null,null,"meat","animal feed","surplus",null,0,0,null,0,{"$f":"IF('Customer Info'!$E$17=0,J451*(IF(B451=0, 1,24/B451)),J451*'Customer Info'!$E$17*(IF(B451=0, 1,24/B451)))","v":0}]
[null,null,"meat","animal feed","quality",null,0,0,null,0,{"$f":"IF('Customer Info'!$E$17=0,J452*(IF(B452=0, 1,24/B452)),J452*'Customer Info'!$E$17*(IF(B452=0, 1,24/B452)))","v":0}]
[null,null,"meat","animal feed","return",null,0,0,null,0,{"$f":"IF('Customer Info'!$E$17=0,J453*(IF(B453=0, 1,24/B453)),J453*'Customer Info'!$E$17*(IF(B453=0, 1,24/B453)))","v":0}]
[null,null,"meat","animal feed","other",null,0,0,null,0,{"$f":"IF('Customer Info'!$E$17=0,J454*(IF(B454=0, 1,24/B454)),J454*'Customer Info'!$E$17*(IF(B454=0, 1,24/B454)))","v":0}]
[null,null,"meat","anaerobic digestion","prep waste",null,0,0,null,0,{"$f":"IF('Customer Info'!$E$17=0,J455*(IF(B455=0, 1,24/B455)),J455*'Customer Info'!$E$17*(IF(B455=0, 1,24/B455)))","v":0}]
[null,null,"meat","anaerobic digestion","expired",null,0,0,null,0,{"$f":"IF('Customer Info'!$E$17=0,J456*(IF(B456=0, 1,24/B456)),J456*'Customer Info'!$E$17*(IF(B456=0, 1,24/B456)))","v":0}]
[null,null,"meat","anaerobic digestion","plate waste",null,0,0,null,0,{"$f":"IF('Customer Info'!$E$17=0,J457*(IF(B457=0, 1,24/B457)),J457*'Customer Info'!$E$17*(IF(B457=0, 1,24/B457)))","v":0}]
[null,null,"meat","anaerobic digestion","surplus",null,0,0,null,0,{"$f":"IF('Customer Info'!$E$17=0,J458*(IF(B458=0, 1,24/B458)),J458*'Customer Info'!$E$17*(IF(B458=0, 1,24/B458)))","v":0}]
[null,null,"meat","anaerobic digestion","quality",null,0,0,null,0,{"$f":"IF('Customer Info'!$E$17=0,J459*(IF(B459=0, 1,24/B459)),J459*'Customer Info'!$E$17*(IF(B459=0, 1,24/B459)))","v":0}]
[null,null,"meat","anaerobic digestion","return",null,0,0,null,0,{"$f":"IF('Customer Info'!$E$17=0,J460*(IF(B460=0, 1,24/B460)),J460*'Customer Info'!$E$17*(IF(B460=0, 1,24/B460)))","v":0}]
[null,null,"meat","anaerobic digestion","other",null,0,0,null,0,{"$f":"IF('Customer Info'!$E$17=0,J461*(IF(B461=0, 1,24/B461)),J461*'Customer Info'!$E$17*(IF(B461=0, 1,24/B461)))","v":0}]
[null,null,"meat","other","prep waste",null,0,0,null,0,{"$f":"IF('Customer Info'!$E$17=0,J462*(IF(B462=0, 1,24/B462)),J462*'Customer Info'!$E$17*(IF(B462=0, 1,24/B462)))","v":0}]
[null,null,"meat","other","expired",null,0,0,null,0,{"$f":"IF('Customer Info'!$E$17=0,J463*(IF(B463=0, 1,24/B463)),J463*'Customer Info'!$E$17*(IF(B463=0, 1,24/B463)))","v":0}]
[null,null,"meat","other","plate waste",null,0,0,null,0,{"$f":"IF('Customer Info'!$E$17=0,J464*(IF(B464=0, 1,24/B464)),J464*'Customer Info'!$E$17*(IF(B464=0, 1,24/B464)))","v":0}]
[null,null,"meat","other","surplus",null,0,0,null,0,{"$f":"IF('Customer Info'!$E$17=0,J465*(IF(B465=0, 1,24/B465)),J465*'Customer Info'!$E$17*(IF(B465=0, 1,24/B465)))","v":0}]
[null,null,"meat","other","quality",null,0,0,null,0,{"$f":"IF('Customer Info'!$E$17=0,J466*(IF(B466=0, 1,24/B466)),J466*'Customer Info'!$E$17*(IF(B466=0, 1,24/B466)))","v":0}]
[null,null,"meat","other","return",null,0,0,null,0,{"$f":"IF('Customer Info'!$E$17=0,J467*(IF(B467=0, 1,24/B467)),J467*'Customer Info'!$E$17*(IF(B467=0, 1,24/B467)))","v":0}]
[null,null,"meat","other","other",null,0,0,null,0,{"$f":"IF('Customer Info'!$E$17=0,J468*(IF(B468=0, 1,24/B468)),J468*'Customer Info'!$E$17*(IF(B468=0, 1,24/B468)))","v":0}]
[null,null,"seafood","landfill","prep waste",null,0,0,null,0,{"$f":"IF('Customer Info'!$E$17=0,J469*(IF(B469=0, 1,24/B469)),J469*'Customer Info'!$E$17*(IF(B469=0, 1,24/B469)))","v":0}]
[null,null,"seafood","landfill","expired",null,0,0,null,0,{"$f":"IF('Customer Info'!$E$17=0,J470*(IF(B470=0, 1,24/B470)),J470*'Customer Info'!$E$17*(IF(B470=0, 1,24/B470)))","v":0}]
[null,null,"seafood","landfill","plate waste",null,0,0,null,0,{"$f":"IF('Customer Info'!$E$17=0,J471*(IF(B471=0, 1,24/B471)),J471*'Customer Info'!$E$17*(IF(B471=0, 1,24/B471)))","v":0}]
[null,null,"seafood","landfill","surplus",null,0,0,null,0,{"$f":"IF('Customer Info'!$E$17=0,J472*(IF(B472=0, 1,24/B472)),J472*'Customer Info'!$E$17*(IF(B472=0, 1,24/B472)))","v":0}]
[null,null,"seafood","landfill","quality",null,0,0,null,0,{"$f":"IF('Customer Info'!$E$17=0,J473*(IF(B473=0, 1,24/B473)),J473*'Customer Info'!$E$17*(IF(B473=0, 1,24/B473)))","v":0}]
[null,null,"seafood","landfill","return",null,0,0,null,0,{"$f":"IF('Customer Info'!$E$17=0,J474*(IF(B474=0, 1,24/B474)),J474*'Customer Info'!$E$17*(IF(B474=0, 1,24/B474)))","v":0}]
[null,null,"seafood","landfill","other",null,0,0,null,0,{"$f":"IF('Customer Info'!$E$17=0,J475*(IF(B475=0, 1,24/B475)),J475*'Customer Info'!$E$17*(IF(B475=0, 1,24/B475)))","v":0}]
[null,null,"seafood","compost","prep waste",null,0,0,null,0,{"$f":"IF('Customer Info'!$E$17=0,J476*(IF(B476=0, 1,24/B476)),J476*'Customer Info'!$E$17*(IF(B476=0, 1,24/B476)))","v":0}]
[null,null,"seafood","compost","expired",null,0,0,null,0,{"$f":"IF('Customer Info'!$E$17=0,J477*(IF(B477=0, 1,24/B477)),J477*'Customer Info'!$E$17*(IF(B477=0, 1,24/B477)))","v":0}]
[null,null,"seafood","compost","plate waste",null,0,0,null,0,{"$f":"IF('Customer Info'!$E$17=0,J478*(IF(B478=0, 1,24/B478)),J478*'Customer Info'!$E$17*(IF(B478=0, 1,24/B478)))","v":0}]
[null,null,"seafood","compost","surplus",null,0,0,null,0,{"$f":"IF('Customer Info'!$E$17=0,J479*(IF(B479=0, 1,24/B479)),J479*'Customer Info'!$E$17*(IF(B479=0, 1,24/B479)))","v":0}]
[null,null,"seafood","compost","quality",null,0,0,null,0,{"$f":"IF('Customer Info'!$E$17=0,J480*(IF(B480=0, 1,24/B480)),J480*'Customer Info'!$E$17*(IF(B480=0, 1,24/B480)))","v":0}]
[null,null,"seafood","compost","return",null,0,0,null,{"$f":"H481-G481","v":0},{"$f":"IF('Customer Info'!$E$17=0,J481*(IF(B481=0, 1,24/B481)),J481*'Customer Info'!$E$17*(IF(B481=0, 1,24/B481)))","v":0}]
[null,null,"seafood","compost","other",null,0,0,null,0,{"$f":"IF('Customer Info'!$E$17=0,J482*(IF(B482=0, 1,24/B482)),J482*'Customer Info'!$E$17*(IF(B482=0, 1,24/B482)))","v":0}]
[null,null,"seafood","donation","surplus",null,0,0,null,0,{"$f":"IF('Customer Info'!$E$17=0,J483*(IF(B483=0, 1,24/B483)),J483*'Customer Info'!$E$17*(IF(B483=0, 1,24/B483)))","v":0}]
[null,null,"seafood","rendering","prep waste",null,0,0,null,0,{"$f":"IF('Customer Info'!$E$17=0,J484*(IF(B484=0, 1,24/B484)),J484*'Customer Info'!$E$17*(IF(B484=0, 1,24/B484)))","v":0}]
[null,null,"seafood","rendering","expired",null,0,0,null,0,{"$f":"IF('Customer Info'!$E$17=0,J485*(IF(B485=0, 1,24/B485)),J485*'Customer Info'!$E$17*(IF(B485=0, 1,24/B485)))","v":0}]
[null,null,"seafood","rendering","plate waste",null,0,0,null,0,{"$f":"IF('Customer Info'!$E$17=0,J486*(IF(B486=0, 1,24/B486)),J486*'Customer Info'!$E$17*(IF(B486=0, 1,24/B486)))","v":0}]
[null,null,"seafood","rendering","surplus",null,0,0,null,0,{"$f":"IF('Customer Info'!$E$17=0,J487*(IF(B487=0, 1,24/B487)),J487*'Customer Info'!$E$17*(IF(B487=0, 1,24/B487)))","v":0}]
[null,null,"seafood","rendering","quality",null,0,0,null,0,{"$f":"IF('Customer Info'!$E$17=0,J488*(IF(B488=0, 1,24/B488)),J488*'Customer Info'!$E$17*(IF(B488=0, 1,24/B488)))","v":0}]
[null,null,"seafood","rendering","return",null,0,0,null,0,{"$f":"IF('Customer Info'!$E$17=0,J489*(IF(B489=0, 1,24/B489)),J489*'Customer Info'!$E$17*(IF(B489=0, 1,24/B489)))","v":0}]
[null,null,"seafood","rendering","other",null,0,0,null,0,{"$f":"IF('Customer Info'!$E$17=0,J490*(IF(B490=0, 1,24/B490)),J490*'Customer Info'!$E$17*(IF(B490=0, 1,24/B490)))","v":0}]
[null,null,"seafood","animal feed","prep waste",null,0,0,null,0,{"$f":"IF('Customer Info'!$E$17=0,J491*(IF(B491=0, 1,24/B491)),J491*'Customer Info'!$E$17*(IF(B491=0, 1,24/B491)))","v":0}]
[null,null,"seafood","animal feed","expired",null,0,0,null,0,{"$f":"IF('Customer Info'!$E$17=0,J492*(IF(B492=0, 1,24/B492)),J492*'Customer Info'!$E$17*(IF(B492=0, 1,24/B492)))","v":0}]
[null,null,"seafood","animal feed","plate waste",null,0,0,null,0,{"$f":"IF('Customer Info'!$E$17=0,J493*(IF(B493=0, 1,24/B493)),J493*'Customer Info'!$E$17*(IF(B493=0, 1,24/B493)))","v":0}]
[null,null,"seafood","animal feed","surplus",null,0,0,null,0,{"$f":"IF('Customer Info'!$E$17=0,J494*(IF(B494=0, 1,24/B494)),J494*'Customer Info'!$E$17*(IF(B494=0, 1,24/B494)))","v":0}]
[null,null,"seafood","animal feed","quality",null,0,0,null,0,{"$f":"IF('Customer Info'!$E$17=0,J495*(IF(B495=0, 1,24/B495)),J495*'Customer Info'!$E$17*(IF(B495=0, 1,24/B495)))","v":0}]
[null,null,"seafood","animal feed","return",null,0,0,null,0,{"$f":"IF('Customer Info'!$E$17=0,J496*(IF(B496=0, 1,24/B496)),J496*'Customer Info'!$E$17*(IF(B496=0, 1,24/B496)))","v":0}]
[null,null,"seafood","animal feed","other",null,0,0,null,0,{"$f":"IF('Customer Info'!$E$17=0,J497*(IF(B497=0, 1,24/B497)),J497*'Customer Info'!$E$17*(IF(B497=0, 1,24/B497)))","v":0}]
[null,null,"seafood","anaerobic digestion","prep waste",null,0,0,null,0,{"$f":"IF('Customer Info'!$E$17=0,J498*(IF(B498=0, 1,24/B498)),J498*'Customer Info'!$E$17*(IF(B498=0, 1,24/B498)))","v":0}]
[null,null,"seafood","anaerobic digestion","expired",null,0,0,null,0,{"$f":"IF('Customer Info'!$E$17=0,J499*(IF(B499=0, 1,24/B499)),J499*'Customer Info'!$E$17*(IF(B499=0, 1,24/B499)))","v":0}]
[null,null,"seafood","anaerobic digestion","plate waste",null,0,0,null,0,{"$f":"IF('Customer Info'!$E$17=0,J500*(IF(B500=0, 1,24/B500)),J500*'Customer Info'!$E$17*(IF(B500=0, 1,24/B500)))","v":0}]
[null,null,"seafood","anaerobic digestion","surplus",null,0,0,null,0,{"$f":"IF('Customer Info'!$E$17=0,J501*(IF(B501=0, 1,24/B501)),J501*'Customer Info'!$E$17*(IF(B501=0, 1,24/B501)))","v":0}]
[null,null,"seafood","anaerobic digestion","quality",null,0,0,null,0,{"$f":"IF('Customer Info'!$E$17=0,J502*(IF(B502=0, 1,24/B502)),J502*'Customer Info'!$E$17*(IF(B502=0, 1,24/B502)))","v":0}]
[null,null,"seafood","anaerobic digestion","return",null,0,0,null,0,{"$f":"IF('Customer Info'!$E$17=0,J503*(IF(B503=0, 1,24/B503)),J503*'Customer Info'!$E$17*(IF(B503=0, 1,24/B503)))","v":0}]
[null,null,"seafood","anaerobic digestion","other",null,0,0,null,0,{"$f":"IF('Customer Info'!$E$17=0,J504*(IF(B504=0, 1,24/B504)),J504*'Customer Info'!$E$17*(IF(B504=0, 1,24/B504)))","v":0}]
[null,null,"seafood","other","prep waste",null,0,0,null,0,{"$f":"IF('Customer Info'!$E$17=0,J505*(IF(B505=0, 1,24/B505)),J505*'Customer Info'!$E$17*(IF(B505=0, 1,24/B505)))","v":0}]
[null,null,"seafood","other","expired",null,0,0,null,0,{"$f":"IF('Customer Info'!$E$17=0,J506*(IF(B506=0, 1,24/B506)),J506*'Customer Info'!$E$17*(IF(B506=0, 1,24/B506)))","v":0}]
[null,null,"seafood","other","plate waste",null,0,0,null,0,{"$f":"IF('Customer Info'!$E$17=0,J507*(IF(B507=0, 1,24/B507)),J507*'Customer Info'!$E$17*(IF(B507=0, 1,24/B507)))","v":0}]
[null,null,"seafood","other","surplus",null,0,0,null,0,{"$f":"IF('Customer Info'!$E$17=0,J508*(IF(B508=0, 1,24/B508)),J508*'Customer Info'!$E$17*(IF(B508=0, 1,24/B508)))","v":0}]
[null,null,"seafood","other","quality",null,0,0,null,0,{"$f":"IF('Customer Info'!$E$17=0,J509*(IF(B509=0, 1,24/B509)),J509*'Customer Info'!$E$17*(IF(B509=0, 1,24/B509)))","v":0}]
[null,null,"seafood","other","return",null,0,0,null,0,{"$f":"IF('Customer Info'!$E$17=0,J510*(IF(B510=0, 1,24/B510)),J510*'Customer Info'!$E$17*(IF(B510=0, 1,24/B510)))","v":0}]
[null,null,"seafood","other","other",null,0,0,null,0,{"$f":"IF('Customer Info'!$E$17=0,J511*(IF(B511=0, 1,24/B511)),J511*'Customer Info'!$E$17*(IF(B511=0, 1,24/B511)))","v":0}]
[null,null,"deli","landfill","prep waste",null,0,0,null,0,{"$f":"IF('Customer Info'!$E$17=0,J512*(IF(B512=0, 1,24/B512)),J512*'Customer Info'!$E$17*(IF(B512=0, 1,24/B512)))","v":0}]
[null,null,"deli","landfill","expired",null,0,0,null,0,{"$f":"IF('Customer Info'!$E$17=0,J513*(IF(B513=0, 1,24/B513)),J513*'Customer Info'!$E$17*(IF(B513=0, 1,24/B513)))","v":0}]
[null,null,"deli","landfill","plate waste",null,0,0,null,0,{"$f":"IF('Customer Info'!$E$17=0,J514*(IF(B514=0, 1,24/B514)),J514*'Customer Info'!$E$17*(IF(B514=0, 1,24/B514)))","v":0}]
[null,null,"deli","landfill","surplus",null,0,0,null,0,{"$f":"IF('Customer Info'!$E$17=0,J515*(IF(B515=0, 1,24/B515)),J515*'Customer Info'!$E$17*(IF(B515=0, 1,24/B515)))","v":0}]
[null,null,"deli","landfill","quality",null,0,0,null,0,{"$f":"IF('Customer Info'!$E$17=0,J516*(IF(B516=0, 1,24/B516)),J516*'Customer Info'!$E$17*(IF(B516=0, 1,24/B516)))","v":0}]
[null,null,"deli","landfill","return",null,0,0,null,0,{"$f":"IF('Customer Info'!$E$17=0,J517*(IF(B517=0, 1,24/B517)),J517*'Customer Info'!$E$17*(IF(B517=0, 1,24/B517)))","v":0}]
[null,null,"deli","landfill","other",null,0,0,null,0,{"$f":"IF('Customer Info'!$E$17=0,J518*(IF(B518=0, 1,24/B518)),J518*'Customer Info'!$E$17*(IF(B518=0, 1,24/B518)))","v":0}]
[null,null,"deli","compost","prep waste",null,0,0,null,0,{"$f":"IF('Customer Info'!$E$17=0,J519*(IF(B519=0, 1,24/B519)),J519*'Customer Info'!$E$17*(IF(B519=0, 1,24/B519)))","v":0}]
[null,null,"deli","compost","expired",null,0,0,null,0,{"$f":"IF('Customer Info'!$E$17=0,J520*(IF(B520=0, 1,24/B520)),J520*'Customer Info'!$E$17*(IF(B520=0, 1,24/B520)))","v":0}]
[null,null,"deli","compost","plate waste",null,0,0,null,0,{"$f":"IF('Customer Info'!$E$17=0,J521*(IF(B521=0, 1,24/B521)),J521*'Customer Info'!$E$17*(IF(B521=0, 1,24/B521)))","v":0}]
[null,null,"deli","compost","surplus",null,0,0,null,0,{"$f":"IF('Customer Info'!$E$17=0,J522*(IF(B522=0, 1,24/B522)),J522*'Customer Info'!$E$17*(IF(B522=0, 1,24/B522)))","v":0}]
[null,null,"deli","compost","quality",null,0,0,null,0,{"$f":"IF('Customer Info'!$E$17=0,J523*(IF(B523=0, 1,24/B523)),J523*'Customer Info'!$E$17*(IF(B523=0, 1,24/B523)))","v":0}]
[null,null,"deli","compost","return",null,0,0,null,0,{"$f":"IF('Customer Info'!$E$17=0,J524*(IF(B524=0, 1,24/B524)),J524*'Customer Info'!$E$17*(IF(B524=0, 1,24/B524)))","v":0}]
[null,null,"deli","compost","other",null,0,0,null,0,{"$f":"IF('Customer Info'!$E$17=0,J525*(IF(B525=0, 1,24/B525)),J525*'Customer Info'!$E$17*(IF(B525=0, 1,24/B525)))","v":0}]
[null,null,"deli","donation","surplus",null,0,0,null,0,{"$f":"IF('Customer Info'!$E$17=0,J526*(IF(B526=0, 1,24/B526)),J526*'Customer Info'!$E$17*(IF(B526=0, 1,24/B526)))","v":0}]
[null,null,"deli","rendering","prep waste",null,0,0,null,0,{"$f":"IF('Customer Info'!$E$17=0,J527*(IF(B527=0, 1,24/B527)),J527*'Customer Info'!$E$17*(IF(B527=0, 1,24/B527)))","v":0}]
[null,null,"deli","rendering","expired",null,0,0,null,0,{"$f":"IF('Customer Info'!$E$17=0,J528*(IF(B528=0, 1,24/B528)),J528*'Customer Info'!$E$17*(IF(B528=0, 1,24/B528)))","v":0}]
[null,null,"deli","rendering","plate waste",null,0,0,null,0,{"$f":"IF('Customer Info'!$E$17=0,J529*(IF(B529=0, 1,24/B529)),J529*'Customer Info'!$E$17*(IF(B529=0, 1,24/B529)))","v":0}]
[null,null,"deli","rendering","surplus",null,0,0,null,0,{"$f":"IF('Customer Info'!$E$17=0,J530*(IF(B530=0, 1,24/B530)),J530*'Customer Info'!$E$17*(IF(B530=0, 1,24/B530)))","v":0}]
[null,null,"deli","rendering","quality",null,0,0,null,0,{"$f":"IF('Customer Info'!$E$17=0,J531*(IF(B531=0, 1,24/B531)),J531*'Customer Info'!$E$17*(IF(B531=0, 1,24/B531)))","v":0}]
[null,null,"deli","rendering","return",null,0,0,null,0,{"$f":"IF('Customer Info'!$E$17=0,J532*(IF(B532=0, 1,24/B532)),J532*'Customer Info'!$E$17*(IF(B532=0, 1,24/B532)))","v":0}]
[null,null,"deli","rendering","other",null,0,0,null,{"$f":"H533-G533","v":0},{"$f":"IF('Customer Info'!$E$17=0,J533*(IF(B533=0, 1,24/B533)),J533*'Customer Info'!$E$17*(IF(B533=0, 1,24/B533)))","v":0}]
[null,null,"deli","animal feed","prep waste",null,0,0,null,0,{"$f":"IF('Customer Info'!$E$17=0,J534*(IF(B534=0, 1,24/B534)),J534*'Customer Info'!$E$17*(IF(B534=0, 1,24/B534)))","v":0}]
[null,null,"deli","animal feed","expired",null,0,0,null,0,{"$f":"IF('Customer Info'!$E$17=0,J535*(IF(B535=0, 1,24/B535)),J535*'Customer Info'!$E$17*(IF(B535=0, 1,24/B535)))","v":0}]
[null,null,"deli","animal feed","plate waste",null,0,0,null,0,{"$f":"IF('Customer Info'!$E$17=0,J536*(IF(B536=0, 1,24/B536)),J536*'Customer Info'!$E$17*(IF(B536=0, 1,24/B536)))","v":0}]
[null,null,"deli","animal feed","surplus",null,0,0,null,0,{"$f":"IF('Customer Info'!$E$17=0,J537*(IF(B537=0, 1,24/B537)),J537*'Customer Info'!$E$17*(IF(B537=0, 1,24/B537)))","v":0}]
[null,null,"deli","animal feed","quality",null,0,0,null,0,{"$f":"IF('Customer Info'!$E$17=0,J538*(IF(B538=0, 1,24/B538)),J538*'Customer Info'!$E$17*(IF(B538=0, 1,24/B538)))","v":0}]
[null,null,"deli","animal feed","return",null,0,0,null,0,{"$f":"IF('Customer Info'!$E$17=0,J539*(IF(B539=0, 1,24/B539)),J539*'Customer Info'!$E$17*(IF(B539=0, 1,24/B539)))","v":0}]
[null,null,"deli","animal feed","other",null,0,0,null,0,{"$f":"IF('Customer Info'!$E$17=0,J540*(IF(B540=0, 1,24/B540)),J540*'Customer Info'!$E$17*(IF(B540=0, 1,24/B540)))","v":0}]
[null,null,"deli","anaerobic digestion","prep waste",null,0,0,null,0,{"$f":"IF('Customer Info'!$E$17=0,J541*(IF(B541=0, 1,24/B541)),J541*'Customer Info'!$E$17*(IF(B541=0, 1,24/B541)))","v":0}]
[null,null,"deli","anaerobic digestion","expired",null,0,0,null,0,{"$f":"IF('Customer Info'!$E$17=0,J542*(IF(B542=0, 1,24/B542)),J542*'Customer Info'!$E$17*(IF(B542=0, 1,24/B542)))","v":0}]
[null,null,"deli","anaerobic digestion","plate waste",null,0,0,null,0,{"$f":"IF('Customer Info'!$E$17=0,J543*(IF(B543=0, 1,24/B543)),J543*'Customer Info'!$E$17*(IF(B543=0, 1,24/B543)))","v":0}]
[null,null,"deli","anaerobic digestion","surplus",null,0,0,null,0,{"$f":"IF('Customer Info'!$E$17=0,J544*(IF(B544=0, 1,24/B544)),J544*'Customer Info'!$E$17*(IF(B544=0, 1,24/B544)))","v":0}]
[null,null,"deli","anaerobic digestion","quality",null,0,0,null,0,{"$f":"IF('Customer Info'!$E$17=0,J545*(IF(B545=0, 1,24/B545)),J545*'Customer Info'!$E$17*(IF(B545=0, 1,24/B545)))","v":0}]
[null,null,"deli","anaerobic digestion","return",null,0,0,null,0,{"$f":"IF('Customer Info'!$E$17=0,J546*(IF(B546=0, 1,24/B546)),J546*'Customer Info'!$E$17*(IF(B546=0, 1,24/B546)))","v":0}]
[null,null,"deli","anaerobic digestion","other",null,0,0,null,0,{"$f":"IF('Customer Info'!$E$17=0,J547*(IF(B547=0, 1,24/B547)),J547*'Customer Info'!$E$17*(IF(B547=0, 1,24/B547)))","v":0}]
[null,null,"deli","other","prep waste",null,0,0,null,0,{"$f":"IF('Customer Info'!$E$17=0,J548*(IF(B548=0, 1,24/B548)),J548*'Customer Info'!$E$17*(IF(B548=0, 1,24/B548)))","v":0}]
[null,null,"deli","other","expired",null,0,0,null,0,{"$f":"IF('Customer Info'!$E$17=0,J549*(IF(B549=0, 1,24/B549)),J549*'Customer Info'!$E$17*(IF(B549=0, 1,24/B549)))","v":0}]
[null,null,"deli","other","plate waste",null,0,0,null,0,{"$f":"IF('Customer Info'!$E$17=0,J550*(IF(B550=0, 1,24/B550)),J550*'Customer Info'!$E$17*(IF(B550=0, 1,24/B550)))","v":0}]
[null,null,"deli","other","surplus",null,0,0,null,0,{"$f":"IF('Customer Info'!$E$17=0,J551*(IF(B551=0, 1,24/B551)),J551*'Customer Info'!$E$17*(IF(B551=0, 1,24/B551)))","v":0}]
[null,null,"deli","other","quality",null,0,0,null,0,{"$f":"IF('Customer Info'!$E$17=0,J552*(IF(B552=0, 1,24/B552)),J552*'Customer Info'!$E$17*(IF(B552=0, 1,24/B552)))","v":0}]
[null,null,"deli","other","return",null,0,0,null,0,{"$f":"IF('Customer Info'!$E$17=0,J553*(IF(B553=0, 1,24/B553)),J553*'Customer Info'!$E$17*(IF(B553=0, 1,24/B553)))","v":0}]
[null,null,"deli","other","other",null,0,0,null,0,{"$f":"IF('Customer Info'!$E$17=0,J554*(IF(B554=0, 1,24/B554)),J554*'Customer Info'!$E$17*(IF(B554=0, 1,24/B554)))","v":0}]
[null,null,"cheese","landfill","prep waste",null,0,0,null,0,{"$f":"IF('Customer Info'!$E$17=0,J555*(IF(B555=0, 1,24/B555)),J555*'Customer Info'!$E$17*(IF(B555=0, 1,24/B555)))","v":0}]
[null,null,"cheese","landfill","expired",null,0,0,null,0,{"$f":"IF('Customer Info'!$E$17=0,J556*(IF(B556=0, 1,24/B556)),J556*'Customer Info'!$E$17*(IF(B556=0, 1,24/B556)))","v":0}]
[null,null,"cheese","landfill","plate waste",null,0,0,null,0,{"$f":"IF('Customer Info'!$E$17=0,J557*(IF(B557=0, 1,24/B557)),J557*'Customer Info'!$E$17*(IF(B557=0, 1,24/B557)))","v":0}]
[null,null,"cheese","landfill","surplus",null,0,0,null,0,{"$f":"IF('Customer Info'!$E$17=0,J558*(IF(B558=0, 1,24/B558)),J558*'Customer Info'!$E$17*(IF(B558=0, 1,24/B558)))","v":0}]
[null,null,"cheese","landfill","quality",null,0,0,null,0,{"$f":"IF('Customer Info'!$E$17=0,J559*(IF(B559=0, 1,24/B559)),J559*'Customer Info'!$E$17*(IF(B559=0, 1,24/B559)))","v":0}]
[null,null,"cheese","landfill","return",null,0,0,null,0,{"$f":"IF('Customer Info'!$E$17=0,J560*(IF(B560=0, 1,24/B560)),J560*'Customer Info'!$E$17*(IF(B560=0, 1,24/B560)))","v":0}]
[null,null,"cheese","landfill","other",null,0,0,null,0,{"$f":"IF('Customer Info'!$E$17=0,J561*(IF(B561=0, 1,24/B561)),J561*'Customer Info'!$E$17*(IF(B561=0, 1,24/B561)))","v":0}]
[null,null,"cheese","compost","prep waste",null,0,0,null,0,{"$f":"IF('Customer Info'!$E$17=0,J562*(IF(B562=0, 1,24/B562)),J562*'Customer Info'!$E$17*(IF(B562=0, 1,24/B562)))","v":0}]
[null,null,"cheese","compost","expired",null,0,0,null,0,{"$f":"IF('Customer Info'!$E$17=0,J563*(IF(B563=0, 1,24/B563)),J563*'Customer Info'!$E$17*(IF(B563=0, 1,24/B563)))","v":0}]
[null,null,"cheese","compost","plate waste",null,0,0,null,0,{"$f":"IF('Customer Info'!$E$17=0,J564*(IF(B564=0, 1,24/B564)),J564*'Customer Info'!$E$17*(IF(B564=0, 1,24/B564)))","v":0}]
[null,null,"cheese","compost","surplus",null,0,0,null,0,{"$f":"IF('Customer Info'!$E$17=0,J565*(IF(B565=0, 1,24/B565)),J565*'Customer Info'!$E$17*(IF(B565=0, 1,24/B565)))","v":0}]
[null,null,"cheese","compost","quality",null,0,0,null,0,{"$f":"IF('Customer Info'!$E$17=0,J566*(IF(B566=0, 1,24/B566)),J566*'Customer Info'!$E$17*(IF(B566=0, 1,24/B566)))","v":0}]
[null,null,"cheese","compost","return",null,0,0,null,0,{"$f":"IF('Customer Info'!$E$17=0,J567*(IF(B567=0, 1,24/B567)),J567*'Customer Info'!$E$17*(IF(B567=0, 1,24/B567)))","v":0}]
[null,null,"cheese","compost","other",null,0,0,null,0,{"$f":"IF('Customer Info'!$E$17=0,J568*(IF(B568=0, 1,24/B568)),J568*'Customer Info'!$E$17*(IF(B568=0, 1,24/B568)))","v":0}]
[null,null,"cheese","donation","surplus",null,0,0,null,0,{"$f":"IF('Customer Info'!$E$17=0,J569*(IF(B569=0, 1,24/B569)),J569*'Customer Info'!$E$17*(IF(B569=0, 1,24/B569)))","v":0}]
[null,null,"cheese","rendering","prep waste",null,0,0,null,0,{"$f":"IF('Customer Info'!$E$17=0,J570*(IF(B570=0, 1,24/B570)),J570*'Customer Info'!$E$17*(IF(B570=0, 1,24/B570)))","v":0}]
[null,null,"cheese","rendering","expired",null,0,0,null,0,{"$f":"IF('Customer Info'!$E$17=0,J571*(IF(B571=0, 1,24/B571)),J571*'Customer Info'!$E$17*(IF(B571=0, 1,24/B571)))","v":0}]
[null,null,"cheese","rendering","plate waste",null,0,0,null,0,{"$f":"IF('Customer Info'!$E$17=0,J572*(IF(B572=0, 1,24/B572)),J572*'Customer Info'!$E$17*(IF(B572=0, 1,24/B572)))","v":0}]
[null,null,"cheese","rendering","surplus",null,0,0,null,0,{"$f":"IF('Customer Info'!$E$17=0,J573*(IF(B573=0, 1,24/B573)),J573*'Customer Info'!$E$17*(IF(B573=0, 1,24/B573)))","v":0}]
[null,null,"cheese","rendering","quality",null,0,0,null,0,{"$f":"IF('Customer Info'!$E$17=0,J574*(IF(B574=0, 1,24/B574)),J574*'Customer Info'!$E$17*(IF(B574=0, 1,24/B574)))","v":0}]
[null,null,"cheese","rendering","return",null,0,0,null,0,{"$f":"IF('Customer Info'!$E$17=0,J575*(IF(B575=0, 1,24/B575)),J575*'Customer Info'!$E$17*(IF(B575=0, 1,24/B575)))","v":0}]
[null,null,"cheese","rendering","other",null,0,0,null,0,{"$f":"IF('Customer Info'!$E$17=0,J576*(IF(B576=0, 1,24/B576)),J576*'Customer Info'!$E$17*(IF(B576=0, 1,24/B576)))","v":0}]
[null,null,"cheese","animal feed","prep waste",null,0,0,null,0,{"$f":"IF('Customer Info'!$E$17=0,J577*(IF(B577=0, 1,24/B577)),J577*'Customer Info'!$E$17*(IF(B577=0, 1,24/B577)))","v":0}]
[null,null,"cheese","animal feed","expired",null,0,0,null,0,{"$f":"IF('Customer Info'!$E$17=0,J578*(IF(B578=0, 1,24/B578)),J578*'Customer Info'!$E$17*(IF(B578=0, 1,24/B578)))","v":0}]
[null,null,"cheese","animal feed","plate waste",null,0,0,null,0,{"$f":"IF('Customer Info'!$E$17=0,J579*(IF(B579=0, 1,24/B579)),J579*'Customer Info'!$E$17*(IF(B579=0, 1,24/B579)))","v":0}]
[null,null,"cheese","animal feed","surplus",null,0,0,null,0,{"$f":"IF('Customer Info'!$E$17=0,J580*(IF(B580=0, 1,24/B580)),J580*'Customer Info'!$E$17*(IF(B580=0, 1,24/B580)))","v":0}]
[null,null,"cheese","animal feed","quality",null,0,0,null,0,{"$f":"IF('Customer Info'!$E$17=0,J581*(IF(B581=0, 1,24/B581)),J581*'Customer Info'!$E$17*(IF(B581=0, 1,24/B581)))","v":0}]
[null,null,"cheese","animal feed","return",null,0,0,null,0,{"$f":"IF('Customer Info'!$E$17=0,J582*(IF(B582=0, 1,24/B582)),J582*'Customer Info'!$E$17*(IF(B582=0, 1,24/B582)))","v":0}]
[null,null,"cheese","animal feed","other",null,0,0,null,0,{"$f":"IF('Customer Info'!$E$17=0,J583*(IF(B583=0, 1,24/B583)),J583*'Customer Info'!$E$17*(IF(B583=0, 1,24/B583)))","v":0}]
[null,null,"cheese","anaerobic digestion","prep waste",null,0,0,null,0,{"$f":"IF('Customer Info'!$E$17=0,J584*(IF(B584=0, 1,24/B584)),J584*'Customer Info'!$E$17*(IF(B584=0, 1,24/B584)))","v":0}]
[null,null,"cheese","anaerobic digestion","expired",null,0,0,null,0,{"$f":"IF('Customer Info'!$E$17=0,J585*(IF(B585=0, 1,24/B585)),J585*'Customer Info'!$E$17*(IF(B585=0, 1,24/B585)))","v":0}]
[null,null,"cheese","anaerobic digestion","plate waste",null,0,0,null,0,{"$f":"IF('Customer Info'!$E$17=0,J586*(IF(B586=0, 1,24/B586)),J586*'Customer Info'!$E$17*(IF(B586=0, 1,24/B586)))","v":0}]
[null,null,"cheese","anaerobic digestion","surplus",null,0,0,null,0,{"$f":"IF('Customer Info'!$E$17=0,J587*(IF(B587=0, 1,24/B587)),J587*'Customer Info'!$E$17*(IF(B587=0, 1,24/B587)))","v":0}]
[null,null,"cheese","anaerobic digestion","quality",null,0,0,null,0,{"$f":"IF('Customer Info'!$E$17=0,J588*(IF(B588=0, 1,24/B588)),J588*'Customer Info'!$E$17*(IF(B588=0, 1,24/B588)))","v":0}]
[null,null,"cheese","anaerobic digestion","return",null,0,0,null,0,{"$f":"IF('Customer Info'!$E$17=0,J589*(IF(B589=0, 1,24/B589)),J589*'Customer Info'!$E$17*(IF(B589=0, 1,24/B589)))","v":0}]
[null,null,"cheese","anaerobic digestion","other",null,0,0,null,0,{"$f":"IF('Customer Info'!$E$17=0,J590*(IF(B590=0, 1,24/B590)),J590*'Customer Info'!$E$17*(IF(B590=0, 1,24/B590)))","v":0}]
[null,null,"cheese","other","prep waste",null,0,0,null,{"$f":"H591-G591","v":0},{"$f":"IF('Customer Info'!$E$17=0,J591*(IF(B591=0, 1,24/B591)),J591*'Customer Info'!$E$17*(IF(B591=0, 1,24/B591)))","v":0}]
[null,null,"cheese","other","expired",null,0,0,null,0,{"$f":"IF('Customer Info'!$E$17=0,J592*(IF(B592=0, 1,24/B592)),J592*'Customer Info'!$E$17*(IF(B592=0, 1,24/B592)))","v":0}]
[null,null,"cheese","other","plate waste",null,0,0,null,0,{"$f":"IF('Customer Info'!$E$17=0,J593*(IF(B593=0, 1,24/B593)),J593*'Customer Info'!$E$17*(IF(B593=0, 1,24/B593)))","v":0}]
[null,null,"cheese","other","surplus",null,0,0,null,0,{"$f":"IF('Customer Info'!$E$17=0,J594*(IF(B594=0, 1,24/B594)),J594*'Customer Info'!$E$17*(IF(B594=0, 1,24/B594)))","v":0}]
[null,null,"cheese","other","quality",null,0,0,null,0,{"$f":"IF('Customer Info'!$E$17=0,J595*(IF(B595=0, 1,24/B595)),J595*'Customer Info'!$E$17*(IF(B595=0, 1,24/B595)))","v":0}]
[null,null,"cheese","other","return",null,0,0,null,0,{"$f":"IF('Customer Info'!$E$17=0,J596*(IF(B596=0, 1,24/B596)),J596*'Customer Info'!$E$17*(IF(B596=0, 1,24/B596)))","v":0}]
[null,null,"cheese","other","other",null,0,0,null,0,{"$f":"IF('Customer Info'!$E$17=0,J597*(IF(B597=0, 1,24/B597)),J597*'Customer Info'!$E$17*(IF(B597=0, 1,24/B597)))","v":0}]
[null,null,"prepared","landfill","prep waste",null,0,0,null,0,{"$f":"IF('Customer Info'!$E$17=0,J598*(IF(B598=0, 1,24/B598)),J598*'Customer Info'!$E$17*(IF(B598=0, 1,24/B598)))","v":0}]
[null,null,"prepared","landfill","expired",null,0,0,null,0,{"$f":"IF('Customer Info'!$E$17=0,J599*(IF(B599=0, 1,24/B599)),J599*'Customer Info'!$E$17*(IF(B599=0, 1,24/B599)))","v":0}]
[null,null,"prepared","landfill","plate waste",null,0,0,null,0,{"$f":"IF('Customer Info'!$E$17=0,J600*(IF(B600=0, 1,24/B600)),J600*'Customer Info'!$E$17*(IF(B600=0, 1,24/B600)))","v":0}]
[null,null,"prepared","landfill","surplus",null,0,0,null,0,{"$f":"IF('Customer Info'!$E$17=0,J601*(IF(B601=0, 1,24/B601)),J601*'Customer Info'!$E$17*(IF(B601=0, 1,24/B601)))","v":0}]
[null,null,"prepared","landfill","quality",null,0,0,null,0,{"$f":"IF('Customer Info'!$E$17=0,J602*(IF(B602=0, 1,24/B602)),J602*'Customer Info'!$E$17*(IF(B602=0, 1,24/B602)))","v":0}]
[null,null,"prepared","landfill","return",null,0,0,null,0,{"$f":"IF('Customer Info'!$E$17=0,J603*(IF(B603=0, 1,24/B603)),J603*'Customer Info'!$E$17*(IF(B603=0, 1,24/B603)))","v":0}]
[null,null,"prepared","landfill","other",null,0,0,null,0,{"$f":"IF('Customer Info'!$E$17=0,J604*(IF(B604=0, 1,24/B604)),J604*'Customer Info'!$E$17*(IF(B604=0, 1,24/B604)))","v":0}]
[null,null,"prepared","compost","prep waste",null,0,0,null,0,{"$f":"IF('Customer Info'!$E$17=0,J605*(IF(B605=0, 1,24/B605)),J605*'Customer Info'!$E$17*(IF(B605=0, 1,24/B605)))","v":0}]
[null,null,"prepared","compost","expired",null,0,0,null,0,{"$f":"IF('Customer Info'!$E$17=0,J606*(IF(B606=0, 1,24/B606)),J606*'Customer Info'!$E$17*(IF(B606=0, 1,24/B606)))","v":0}]
[null,null,"prepared","compost","plate waste",null,0,0,null,0,{"$f":"IF('Customer Info'!$E$17=0,J607*(IF(B607=0, 1,24/B607)),J607*'Customer Info'!$E$17*(IF(B607=0, 1,24/B607)))","v":0}]
[null,null,"prepared","compost","surplus",null,0,0,null,0,{"$f":"IF('Customer Info'!$E$17=0,J608*(IF(B608=0, 1,24/B608)),J608*'Customer Info'!$E$17*(IF(B608=0, 1,24/B608)))","v":0}]
[null,null,"prepared","compost","quality",null,0,0,null,0,{"$f":"IF('Customer Info'!$E$17=0,J609*(IF(B609=0, 1,24/B609)),J609*'Customer Info'!$E$17*(IF(B609=0, 1,24/B609)))","v":0}]
[null,null,"prepared","compost","return",null,0,0,null,0,{"$f":"IF('Customer Info'!$E$17=0,J610*(IF(B610=0, 1,24/B610)),J610*'Customer Info'!$E$17*(IF(B610=0, 1,24/B610)))","v":0}]
[null,null,"prepared","compost","other",null,0,0,null,0,{"$f":"IF('Customer Info'!$E$17=0,J611*(IF(B611=0, 1,24/B611)),J611*'Customer Info'!$E$17*(IF(B611=0, 1,24/B611)))","v":0}]
[null,null,"prepared","donation","surplus",null,0,0,null,0,{"$f":"IF('Customer Info'!$E$17=0,J612*(IF(B612=0, 1,24/B612)),J612*'Customer Info'!$E$17*(IF(B612=0, 1,24/B612)))","v":0}]
[null,null,"prepared","rendering","prep waste",null,0,0,null,0,{"$f":"IF('Customer Info'!$E$17=0,J613*(IF(B613=0, 1,24/B613)),J613*'Customer Info'!$E$17*(IF(B613=0, 1,24/B613)))","v":0}]
[null,null,"prepared","rendering","expired",null,0,0,null,0,{"$f":"IF('Customer Info'!$E$17=0,J614*(IF(B614=0, 1,24/B614)),J614*'Customer Info'!$E$17*(IF(B614=0, 1,24/B614)))","v":0}]
[null,null,"prepared","rendering","plate waste",null,0,0,null,0,{"$f":"IF('Customer Info'!$E$17=0,J615*(IF(B615=0, 1,24/B615)),J615*'Customer Info'!$E$17*(IF(B615=0, 1,24/B615)))","v":0}]
[null,null,"prepared","rendering","surplus",null,0,0,null,0,{"$f":"IF('Customer Info'!$E$17=0,J616*(IF(B616=0, 1,24/B616)),J616*'Customer Info'!$E$17*(IF(B616=0, 1,24/B616)))","v":0}]
[null,null,"prepared","rendering","quality",null,0,0,null,0,{"$f":"IF('Customer Info'!$E$17=0,J617*(IF(B617=0, 1,24/B617)),J617*'Customer Info'!$E$17*(IF(B617=0, 1,24/B617)))","v":0}]
[null,null,"prepared","rendering","return",null,0,0,null,0,{"$f":"IF('Customer Info'!$E$17=0,J618*(IF(B618=0, 1,24/B618)),J618*'Customer Info'!$E$17*(IF(B618=0, 1,24/B618)))","v":0}]
[null,null,"prepared","rendering","other",null,0,0,null,0,{"$f":"IF('Customer Info'!$E$17=0,J619*(IF(B619=0, 1,24/B619)),J619*'Customer Info'!$E$17*(IF(B619=0, 1,24/B619)))","v":0}]
[null,null,"prepared","animal feed","prep waste",null,0,0,null,0,{"$f":"IF('Customer Info'!$E$17=0,J620*(IF(B620=0, 1,24/B620)),J620*'Customer Info'!$E$17*(IF(B620=0, 1,24/B620)))","v":0}]
[null,null,"prepared","animal feed","expired",null,0,0,null,0,{"$f":"IF('Customer Info'!$E$17=0,J621*(IF(B621=0, 1,24/B621)),J621*'Customer Info'!$E$17*(IF(B621=0, 1,24/B621)))","v":0}]
[null,null,"prepared","animal feed","plate waste",null,0,0,null,0,{"$f":"IF('Customer Info'!$E$17=0,J622*(IF(B622=0, 1,24/B622)),J622*'Customer Info'!$E$17*(IF(B622=0, 1,24/B622)))","v":0}]
[null,null,"prepared","animal feed","surplus",null,0,0,null,0,{"$f":"IF('Customer Info'!$E$17=0,J623*(IF(B623=0, 1,24/B623)),J623*'Customer Info'!$E$17*(IF(B623=0, 1,24/B623)))","v":0}]
[null,null,"prepared","animal feed","quality",null,0,0,null,0,{"$f":"IF('Customer Info'!$E$17=0,J624*(IF(B624=0, 1,24/B624)),J624*'Customer Info'!$E$17*(IF(B624=0, 1,24/B624)))","v":0}]
[null,null,"prepared","animal feed","return",null,0,0,null,0,{"$f":"IF('Customer Info'!$E$17=0,J625*(IF(B625=0, 1,24/B625)),J625*'Customer Info'!$E$17*(IF(B625=0, 1,24/B625)))","v":0}]
[null,null,"prepared","animal feed","other",null,0,0,null,0,{"$f":"IF('Customer Info'!$E$17=0,J626*(IF(B626=0, 1,24/B626)),J626*'Customer Info'!$E$17*(IF(B626=0, 1,24/B626)))","v":0}]
[null,null,"prepared","anaerobic digestion","prep waste",null,0,0,null,0,{"$f":"IF('Customer Info'!$E$17=0,J627*(IF(B627=0, 1,24/B627)),J627*'Customer Info'!$E$17*(IF(B627=0, 1,24/B627)))","v":0}]
[null,null,"prepared","anaerobic digestion","expired",null,0,0,null,0,{"$f":"IF('Customer Info'!$E$17=0,J628*(IF(B628=0, 1,24/B628)),J628*'Customer Info'!$E$17*(IF(B628=0, 1,24/B628)))","v":0}]
[null,null,"prepared","anaerobic digestion","plate waste",null,0,0,null,0,{"$f":"IF('Customer Info'!$E$17=0,J629*(IF(B629=0, 1,24/B629)),J629*'Customer Info'!$E$17*(IF(B629=0, 1,24/B629)))","v":0}]
[null,null,"prepared","anaerobic digestion","surplus",null,0,0,null,0,{"$f":"IF('Customer Info'!$E$17=0,J630*(IF(B630=0, 1,24/B630)),J630*'Customer Info'!$E$17*(IF(B630=0, 1,24/B630)))","v":0}]
[null,null,"prepared","anaerobic digestion","quality",null,0,0,null,0,{"$f":"IF('Customer Info'!$E$17=0,J631*(IF(B631=0, 1,24/B631)),J631*'Customer Info'!$E$17*(IF(B631=0, 1,24/B631)))","v":0}]
[null,null,"prepared","anaerobic digestion","return",null,0,0,null,0,{"$f":"IF('Customer Info'!$E$17=0,J632*(IF(B632=0, 1,24/B632)),J632*'Customer Info'!$E$17*(IF(B632=0, 1,24/B632)))","v":0}]
[null,null,"prepared","anaerobic digestion","other",null,0,0,null,0,{"$f":"IF('Customer Info'!$E$17=0,J633*(IF(B633=0, 1,24/B633)),J633*'Customer Info'!$E$17*(IF(B633=0, 1,24/B633)))","v":0}]
[null,null,"prepared","other","prep waste",null,0,0,null,0,{"$f":"IF('Customer Info'!$E$17=0,J634*(IF(B634=0, 1,24/B634)),J634*'Customer Info'!$E$17*(IF(B634=0, 1,24/B634)))","v":0}]
[null,null,"prepared","other","expired",null,0,0,null,0,{"$f":"IF('Customer Info'!$E$17=0,J635*(IF(B635=0, 1,24/B635)),J635*'Customer Info'!$E$17*(IF(B635=0, 1,24/B635)))","v":0}]
[null,null,"prepared","other","plate waste",null,0,0,null,0,{"$f":"IF('Customer Info'!$E$17=0,J636*(IF(B636=0, 1,24/B636)),J636*'Customer Info'!$E$17*(IF(B636=0, 1,24/B636)))","v":0}]
[null,null,"prepared","other","surplus",null,0,0,null,0,{"$f":"IF('Customer Info'!$E$17=0,J637*(IF(B637=0, 1,24/B637)),J637*'Customer Info'!$E$17*(IF(B637=0, 1,24/B637)))","v":0}]
[null,null,"prepared","other","quality",null,0,0,null,0,{"$f":"IF('Customer Info'!$E$17=0,J638*(IF(B638=0, 1,24/B638)),J638*'Customer Info'!$E$17*(IF(B638=0, 1,24/B638)))","v":0}]
[null,null,"prepared","other","return",null,0,0,null,0,{"$f":"IF('Customer Info'!$E$17=0,J639*(IF(B639=0, 1,24/B639)),J639*'Customer Info'!$E$17*(IF(B639=0, 1,24/B639)))","v":0}]
[null,null,"prepared","other","other",null,0,0,null,0,{"$f":"IF('Customer Info'!$E$17=0,J640*(IF(B640=0, 1,24/B640)),J640*'Customer Info'!$E$17*(IF(B640=0, 1,24/B640)))","v":0}]
[null,null,"other1","landfill","prep waste",null,0,0,null,0,{"$f":"IF('Customer Info'!$E$17=0,J641*(IF(B641=0, 1,24/B641)),J641*'Customer Info'!$E$17*(IF(B641=0, 1,24/B641)))","v":0}]
[null,null,"other1","landfill","expired",null,0,0,null,0,{"$f":"IF('Customer Info'!$E$17=0,J642*(IF(B642=0, 1,24/B642)),J642*'Customer Info'!$E$17*(IF(B642=0, 1,24/B642)))","v":0}]
[null,null,"other1","landfill","plate waste",null,0,0,null,0,{"$f":"IF('Customer Info'!$E$17=0,J643*(IF(B643=0, 1,24/B643)),J643*'Customer Info'!$E$17*(IF(B643=0, 1,24/B643)))","v":0}]
[null,null,"other1","landfill","surplus",null,0,0,null,0,{"$f":"IF('Customer Info'!$E$17=0,J644*(IF(B644=0, 1,24/B644)),J644*'Customer Info'!$E$17*(IF(B644=0, 1,24/B644)))","v":0}]
[null,null,"other1","landfill","quality",null,0,0,null,0,{"$f":"IF('Customer Info'!$E$17=0,J645*(IF(B645=0, 1,24/B645)),J645*'Customer Info'!$E$17*(IF(B645=0, 1,24/B645)))","v":0}]
[null,null,"other1","landfill","return",null,0,0,null,0,{"$f":"IF('Customer Info'!$E$17=0,J646*(IF(B646=0, 1,24/B646)),J646*'Customer Info'!$E$17*(IF(B646=0, 1,24/B646)))","v":0}]
[null,null,"other1","landfill","other",null,0,0,null,0,{"$f":"IF('Customer Info'!$E$17=0,J647*(IF(B647=0, 1,24/B647)),J647*'Customer Info'!$E$17*(IF(B647=0, 1,24/B647)))","v":0}]
[null,null,"other1","compost","prep waste",null,0,0,null,0,{"$f":"IF('Customer Info'!$E$17=0,J648*(IF(B648=0, 1,24/B648)),J648*'Customer Info'!$E$17*(IF(B648=0, 1,24/B648)))","v":0}]
[null,null,"other1","compost","expired",null,0,0,null,{"$f":"H649-G649","v":0},{"$f":"IF('Customer Info'!$E$17=0,J649*(IF(B649=0, 1,24/B649)),J649*'Customer Info'!$E$17*(IF(B649=0, 1,24/B649)))","v":0}]
[null,null,"other1","compost","plate waste",null,0,0,null,0,{"$f":"IF('Customer Info'!$E$17=0,J650*(IF(B650=0, 1,24/B650)),J650*'Customer Info'!$E$17*(IF(B650=0, 1,24/B650)))","v":0}]
[null,null,"other1","compost","surplus",null,0,0,null,0,{"$f":"IF('Customer Info'!$E$17=0,J651*(IF(B651=0, 1,24/B651)),J651*'Customer Info'!$E$17*(IF(B651=0, 1,24/B651)))","v":0}]
[null,null,"other1","compost","quality",null,0,0,null,0,{"$f":"IF('Customer Info'!$E$17=0,J652*(IF(B652=0, 1,24/B652)),J652*'Customer Info'!$E$17*(IF(B652=0, 1,24/B652)))","v":0}]
[null,null,"other1","compost","return",null,0,0,null,0,{"$f":"IF('Customer Info'!$E$17=0,J653*(IF(B653=0, 1,24/B653)),J653*'Customer Info'!$E$17*(IF(B653=0, 1,24/B653)))","v":0}]
[null,null,"other1","compost","other",null,0,0,null,0,{"$f":"IF('Customer Info'!$E$17=0,J654*(IF(B654=0, 1,24/B654)),J654*'Customer Info'!$E$17*(IF(B654=0, 1,24/B654)))","v":0}]
[null,null,"other1","donation","surplus",null,0,0,null,0,{"$f":"IF('Customer Info'!$E$17=0,J655*(IF(B655=0, 1,24/B655)),J655*'Customer Info'!$E$17*(IF(B655=0, 1,24/B655)))","v":0}]
[null,null,"other1","rendering","prep waste",null,0,0,null,0,{"$f":"IF('Customer Info'!$E$17=0,J656*(IF(B656=0, 1,24/B656)),J656*'Customer Info'!$E$17*(IF(B656=0, 1,24/B656)))","v":0}]
[null,null,"other1","rendering","expired",null,0,0,null,0,{"$f":"IF('Customer Info'!$E$17=0,J657*(IF(B657=0, 1,24/B657)),J657*'Customer Info'!$E$17*(IF(B657=0, 1,24/B657)))","v":0}]
[null,null,"other1","rendering","plate waste",null,0,0,null,0,{"$f":"IF('Customer Info'!$E$17=0,J658*(IF(B658=0, 1,24/B658)),J658*'Customer Info'!$E$17*(IF(B658=0, 1,24/B658)))","v":0}]
[null,null,"other1","rendering","surplus",null,0,0,null,0,{"$f":"IF('Customer Info'!$E$17=0,J659*(IF(B659=0, 1,24/B659)),J659*'Customer Info'!$E$17*(IF(B659=0, 1,24/B659)))","v":0}]
[null,null,"other1","rendering","quality",null,0,0,null,0,{"$f":"IF('Customer Info'!$E$17=0,J660*(IF(B660=0, 1,24/B660)),J660*'Customer Info'!$E$17*(IF(B660=0, 1,24/B660)))","v":0}]
[null,null,"other1","rendering","return",null,0,0,null,0,{"$f":"IF('Customer Info'!$E$17=0,J661*(IF(B661=0, 1,24/B661)),J661*'Customer Info'!$E$17*(IF(B661=0, 1,24/B661)))","v":0}]
[null,null,"other1","rendering","other",null,0,0,null,0,{"$f":"IF('Customer Info'!$E$17=0,J662*(IF(B662=0, 1,24/B662)),J662*'Customer Info'!$E$17*(IF(B662=0, 1,24/B662)))","v":0}]
[null,null,"other1","animal feed","prep waste",null,0,0,null,0,{"$f":"IF('Customer Info'!$E$17=0,J663*(IF(B663=0, 1,24/B663)),J663*'Customer Info'!$E$17*(IF(B663=0, 1,24/B663)))","v":0}]
[null,null,"other1","animal feed","expired",null,0,0,null,0,{"$f":"IF('Customer Info'!$E$17=0,J664*(IF(B664=0, 1,24/B664)),J664*'Customer Info'!$E$17*(IF(B664=0, 1,24/B664)))","v":0}]
[null,null,"other1","animal feed","plate waste",null,0,0,null,0,{"$f":"IF('Customer Info'!$E$17=0,J665*(IF(B665=0, 1,24/B665)),J665*'Customer Info'!$E$17*(IF(B665=0, 1,24/B665)))","v":0}]
[null,null,"other1","animal feed","surplus",null,0,0,null,0,{"$f":"IF('Customer Info'!$E$17=0,J666*(IF(B666=0, 1,24/B666)),J666*'Customer Info'!$E$17*(IF(B666=0, 1,24/B666)))","v":0}]
[null,null,"other1","animal feed","quality",null,0,0,null,0,{"$f":"IF('Customer Info'!$E$17=0,J667*(IF(B667=0, 1,24/B667)),J667*'Customer Info'!$E$17*(IF(B667=0, 1,24/B667)))","v":0}]
[null,null,"other1","animal feed","return",null,0,0,null,0,{"$f":"IF('Customer Info'!$E$17=0,J668*(IF(B668=0, 1,24/B668)),J668*'Customer Info'!$E$17*(IF(B668=0, 1,24/B668)))","v":0}]
[null,null,"other1","animal feed","other",null,0,0,null,0,{"$f":"IF('Customer Info'!$E$17=0,J669*(IF(B669=0, 1,24/B669)),J669*'Customer Info'!$E$17*(IF(B669=0, 1,24/B669)))","v":0}]
[null,null,"other1","anaerobic digestion","prep waste",null,0,0,null,0,{"$f":"IF('Customer Info'!$E$17=0,J670*(IF(B670=0, 1,24/B670)),J670*'Customer Info'!$E$17*(IF(B670=0, 1,24/B670)))","v":0}]
[null,null,"other1","anaerobic digestion","expired",null,0,0,null,0,{"$f":"IF('Customer Info'!$E$17=0,J671*(IF(B671=0, 1,24/B671)),J671*'Customer Info'!$E$17*(IF(B671=0, 1,24/B671)))","v":0}]
[null,null,"other1","anaerobic digestion","plate waste",null,0,0,null,0,{"$f":"IF('Customer Info'!$E$17=0,J672*(IF(B672=0, 1,24/B672)),J672*'Customer Info'!$E$17*(IF(B672=0, 1,24/B672)))","v":0}]
[null,null,"other1","anaerobic digestion","surplus",null,0,0,null,0,{"$f":"IF('Customer Info'!$E$17=0,J673*(IF(B673=0, 1,24/B673)),J673*'Customer Info'!$E$17*(IF(B673=0, 1,24/B673)))","v":0}]
[null,null,"other1","anaerobic digestion","quality",null,0,0,null,0,{"$f":"IF('Customer Info'!$E$17=0,J674*(IF(B674=0, 1,24/B674)),J674*'Customer Info'!$E$17*(IF(B674=0, 1,24/B674)))","v":0}]
[null,null,"other1","anaerobic digestion","return",null,0,0,null,0,{"$f":"IF('Customer Info'!$E$17=0,J675*(IF(B675=0, 1,24/B675)),J675*'Customer Info'!$E$17*(IF(B675=0, 1,24/B675)))","v":0}]
[null,null,"other1","anaerobic digestion","other",null,0,0,null,0,{"$f":"IF('Customer Info'!$E$17=0,J676*(IF(B676=0, 1,24/B676)),J676*'Customer Info'!$E$17*(IF(B676=0, 1,24/B676)))","v":0}]
[null,null,"other1","other","prep waste",null,0,0,null,0,{"$f":"IF('Customer Info'!$E$17=0,J677*(IF(B677=0, 1,24/B677)),J677*'Customer Info'!$E$17*(IF(B677=0, 1,24/B677)))","v":0}]
[null,null,"other1","other","expired",null,0,0,null,0,{"$f":"IF('Customer Info'!$E$17=0,J678*(IF(B678=0, 1,24/B678)),J678*'Customer Info'!$E$17*(IF(B678=0, 1,24/B678)))","v":0}]
[null,null,"other1","other","plate waste",null,0,0,null,0,{"$f":"IF('Customer Info'!$E$17=0,J679*(IF(B679=0, 1,24/B679)),J679*'Customer Info'!$E$17*(IF(B679=0, 1,24/B679)))","v":0}]
[null,null,"other1","other","surplus",null,0,0,null,0,{"$f":"IF('Customer Info'!$E$17=0,J680*(IF(B680=0, 1,24/B680)),J680*'Customer Info'!$E$17*(IF(B680=0, 1,24/B680)))","v":0}]
[null,null,"other1","other","quality",null,0,0,null,0,{"$f":"IF('Customer Info'!$E$17=0,J681*(IF(B681=0, 1,24/B681)),J681*'Customer Info'!$E$17*(IF(B681=0, 1,24/B681)))","v":0}]
[null,null,"other1","other","return",null,0,0,null,0,{"$f":"IF('Customer Info'!$E$17=0,J682*(IF(B682=0, 1,24/B682)),J682*'Customer Info'!$E$17*(IF(B682=0, 1,24/B682)))","v":0}]
[null,null,"other1","other","other",null,0,0,null,0,{"$f":"IF('Customer Info'!$E$17=0,J683*(IF(B683=0, 1,24/B683)),J683*'Customer Info'!$E$17*(IF(B683=0, 1,24/B683)))","v":0}]
[null,null,"other2","landfill","prep waste",null,0,0,null,0,{"$f":"IF('Customer Info'!$E$17=0,J684*(IF(B684=0, 1,24/B684)),J684*'Customer Info'!$E$17*(IF(B684=0, 1,24/B684)))","v":0}]
[null,null,"other2","landfill","expired",null,0,0,null,0,{"$f":"IF('Customer Info'!$E$17=0,J685*(IF(B685=0, 1,24/B685)),J685*'Customer Info'!$E$17*(IF(B685=0, 1,24/B685)))","v":0}]
[null,null,"other2","landfill","plate waste",null,0,0,null,0,{"$f":"IF('Customer Info'!$E$17=0,J686*(IF(B686=0, 1,24/B686)),J686*'Customer Info'!$E$17*(IF(B686=0, 1,24/B686)))","v":0}]
[null,null,"other2","landfill","surplus",null,0,0,null,0,{"$f":"IF('Customer Info'!$E$17=0,J687*(IF(B687=0, 1,24/B687)),J687*'Customer Info'!$E$17*(IF(B687=0, 1,24/B687)))","v":0}]
[null,null,"other2","landfill","quality",null,0,0,null,0,{"$f":"IF('Customer Info'!$E$17=0,J688*(IF(B688=0, 1,24/B688)),J688*'Customer Info'!$E$17*(IF(B688=0, 1,24/B688)))","v":0}]
[null,null,"other2","landfill","return",null,0,0,null,0,{"$f":"IF('Customer Info'!$E$17=0,J689*(IF(B689=0, 1,24/B689)),J689*'Customer Info'!$E$17*(IF(B689=0, 1,24/B689)))","v":0}]
[null,null,"other2","landfill","other",null,0,0,null,0,{"$f":"IF('Customer Info'!$E$17=0,J690*(IF(B690=0, 1,24/B690)),J690*'Customer Info'!$E$17*(IF(B690=0, 1,24/B690)))","v":0}]
[null,null,"other2","compost","prep waste",null,0,0,null,0,{"$f":"IF('Customer Info'!$E$17=0,J691*(IF(B691=0, 1,24/B691)),J691*'Customer Info'!$E$17*(IF(B691=0, 1,24/B691)))","v":0}]
[null,null,"other2","compost","expired",null,0,0,null,0,{"$f":"IF('Customer Info'!$E$17=0,J692*(IF(B692=0, 1,24/B692)),J692*'Customer Info'!$E$17*(IF(B692=0, 1,24/B692)))","v":0}]
[null,null,"other2","compost","plate waste",null,0,0,null,0,{"$f":"IF('Customer Info'!$E$17=0,J693*(IF(B693=0, 1,24/B693)),J693*'Customer Info'!$E$17*(IF(B693=0, 1,24/B693)))","v":0}]
[null,null,"other2","compost","surplus",null,0,0,null,0,{"$f":"IF('Customer Info'!$E$17=0,J694*(IF(B694=0, 1,24/B694)),J694*'Customer Info'!$E$17*(IF(B694=0, 1,24/B694)))","v":0}]
[null,null,"other2","compost","quality",null,0,0,null,0,{"$f":"IF('Customer Info'!$E$17=0,J695*(IF(B695=0, 1,24/B695)),J695*'Customer Info'!$E$17*(IF(B695=0, 1,24/B695)))","v":0}]
[null,null,"other2","compost","return",null,0,0,null,0,{"$f":"IF('Customer Info'!$E$17=0,J696*(IF(B696=0, 1,24/B696)),J696*'Customer Info'!$E$17*(IF(B696=0, 1,24/B696)))","v":0}]
[null,null,"other2","compost","other",null,0,0,null,0,{"$f":"IF('Customer Info'!$E$17=0,J697*(IF(B697=0, 1,24/B697)),J697*'Customer Info'!$E$17*(IF(B697=0, 1,24/B697)))","v":0}]
[null,null,"other2","donation","surplus",null,0,0,null,0,{"$f":"IF('Customer Info'!$E$17=0,J698*(IF(B698=0, 1,24/B698)),J698*'Customer Info'!$E$17*(IF(B698=0, 1,24/B698)))","v":0}]
[null,null,"other2","rendering","prep waste",null,0,0,null,0,{"$f":"IF('Customer Info'!$E$17=0,J699*(IF(B699=0, 1,24/B699)),J699*'Customer Info'!$E$17*(IF(B699=0, 1,24/B699)))","v":0}]
[null,null,"other2","rendering","expired",null,0,0,null,0,{"$f":"IF('Customer Info'!$E$17=0,J700*(IF(B700=0, 1,24/B700)),J700*'Customer Info'!$E$17*(IF(B700=0, 1,24/B700)))","v":0}]
[null,null,"other2","rendering","plate waste",null,0,0,null,{"$f":"H701-G701","v":0},{"$f":"IF('Customer Info'!$E$17=0,J701*(IF(B701=0, 1,24/B701)),J701*'Customer Info'!$E$17*(IF(B701=0, 1,24/B701)))","v":0}]
[null,null,"other2","rendering","surplus",null,0,0,null,0,{"$f":"IF('Customer Info'!$E$17=0,J702*(IF(B702=0, 1,24/B702)),J702*'Customer Info'!$E$17*(IF(B702=0, 1,24/B702)))","v":0}]
[null,null,"other2","rendering","quality",null,0,0,null,0,{"$f":"IF('Customer Info'!$E$17=0,J703*(IF(B703=0, 1,24/B703)),J703*'Customer Info'!$E$17*(IF(B703=0, 1,24/B703)))","v":0}]
[null,null,"other2","rendering","return",null,0,0,null,0,{"$f":"IF('Customer Info'!$E$17=0,J704*(IF(B704=0, 1,24/B704)),J704*'Customer Info'!$E$17*(IF(B704=0, 1,24/B704)))","v":0}]
[null,null,"other2","rendering","other",null,0,0,null,0,{"$f":"IF('Customer Info'!$E$17=0,J705*(IF(B705=0, 1,24/B705)),J705*'Customer Info'!$E$17*(IF(B705=0, 1,24/B705)))","v":0}]
[null,null,"other2","animal feed","prep waste",null,0,0,null,0,{"$f":"IF('Customer Info'!$E$17=0,J706*(IF(B706=0, 1,24/B706)),J706*'Customer Info'!$E$17*(IF(B706=0, 1,24/B706)))","v":0}]
[null,null,"other2","animal feed","expired",null,0,0,null,0,{"$f":"IF('Customer Info'!$E$17=0,J707*(IF(B707=0, 1,24/B707)),J707*'Customer Info'!$E$17*(IF(B707=0, 1,24/B707)))","v":0}]
[null,null,"other2","animal feed","plate waste",null,0,0,null,0,{"$f":"IF('Customer Info'!$E$17=0,J708*(IF(B708=0, 1,24/B708)),J708*'Customer Info'!$E$17*(IF(B708=0, 1,24/B708)))","v":0}]
[null,null,"other2","animal feed","surplus",null,0,0,null,0,{"$f":"IF('Customer Info'!$E$17=0,J709*(IF(B709=0, 1,24/B709)),J709*'Customer Info'!$E$17*(IF(B709=0, 1,24/B709)))","v":0}]
[null,null,"other2","animal feed","quality",null,0,0,null,0,{"$f":"IF('Customer Info'!$E$17=0,J710*(IF(B710=0, 1,24/B710)),J710*'Customer Info'!$E$17*(IF(B710=0, 1,24/B710)))","v":0}]
[null,null,"other2","animal feed","return",null,0,0,null,0,{"$f":"IF('Customer Info'!$E$17=0,J711*(IF(B711=0, 1,24/B711)),J711*'Customer Info'!$E$17*(IF(B711=0, 1,24/B711)))","v":0}]
[null,null,"other2","animal feed","other",null,0,0,null,0,{"$f":"IF('Customer Info'!$E$17=0,J712*(IF(B712=0, 1,24/B712)),J712*'Customer Info'!$E$17*(IF(B712=0, 1,24/B712)))","v":0}]
[null,null,"other2","anaerobic digestion","prep waste",null,0,0,null,0,{"$f":"IF('Customer Info'!$E$17=0,J713*(IF(B713=0, 1,24/B713)),J713*'Customer Info'!$E$17*(IF(B713=0, 1,24/B713)))","v":0}]
[null,null,"other2","anaerobic digestion","expired",null,0,0,null,0,{"$f":"IF('Customer Info'!$E$17=0,J714*(IF(B714=0, 1,24/B714)),J714*'Customer Info'!$E$17*(IF(B714=0, 1,24/B714)))","v":0}]
[null,null,"other2","anaerobic digestion","plate waste",null,0,0,null,0,{"$f":"IF('Customer Info'!$E$17=0,J715*(IF(B715=0, 1,24/B715)),J715*'Customer Info'!$E$17*(IF(B715=0, 1,24/B715)))","v":0}]
[null,null,"other2","anaerobic digestion","surplus",null,0,0,null,0,{"$f":"IF('Customer Info'!$E$17=0,J716*(IF(B716=0, 1,24/B716)),J716*'Customer Info'!$E$17*(IF(B716=0, 1,24/B716)))","v":0}]
[null,null,"other2","anaerobic digestion","quality",null,0,0,null,0,{"$f":"IF('Customer Info'!$E$17=0,J717*(IF(B717=0, 1,24/B717)),J717*'Customer Info'!$E$17*(IF(B717=0, 1,24/B717)))","v":0}]
[null,null,"other2","anaerobic digestion","return",null,0,0,null,0,{"$f":"IF('Customer Info'!$E$17=0,J718*(IF(B718=0, 1,24/B718)),J718*'Customer Info'!$E$17*(IF(B718=0, 1,24/B718)))","v":0}]
[null,null,"other2","anaerobic digestion","other",null,0,0,null,0,{"$f":"IF('Customer Info'!$E$17=0,J719*(IF(B719=0, 1,24/B719)),J719*'Customer Info'!$E$17*(IF(B719=0, 1,24/B719)))","v":0}]
[null,null,"other2","other","prep waste",null,0,0,null,0,{"$f":"IF('Customer Info'!$E$17=0,J720*(IF(B720=0, 1,24/B720)),J720*'Customer Info'!$E$17*(IF(B720=0, 1,24/B720)))","v":0}]
[null,null,"other2","other","expired",null,0,0,null,0,{"$f":"IF('Customer Info'!$E$17=0,J721*(IF(B721=0, 1,24/B721)),J721*'Customer Info'!$E$17*(IF(B721=0, 1,24/B721)))","v":0}]
[null,null,"other2","other","plate waste",null,0,0,null,0,{"$f":"IF('Customer Info'!$E$17=0,J722*(IF(B722=0, 1,24/B722)),J722*'Customer Info'!$E$17*(IF(B722=0, 1,24/B722)))","v":0}]
[null,null,"other2","other","surplus",null,0,0,null,0,{"$f":"IF('Customer Info'!$E$17=0,J723*(IF(B723=0, 1,24/B723)),J723*'Customer Info'!$E$17*(IF(B723=0, 1,24/B723)))","v":0}]
[null,null,"other2","other","quality",null,0,0,null,0,{"$f":"IF('Customer Info'!$E$17=0,J724*(IF(B724=0, 1,24/B724)),J724*'Customer Info'!$E$17*(IF(B724=0, 1,24/B724)))","v":0}]
[null,null,"other2","other","return",null,0,0,null,0,{"$f":"IF('Customer Info'!$E$17=0,J725*(IF(B725=0, 1,24/B725)),J725*'Customer Info'!$E$17*(IF(B725=0, 1,24/B725)))","v":0}]
[null,null,"other2","other","other",null,0,0,null,0,{"$f":"IF('Customer Info'!$E$17=0,J726*(IF(B726=0, 1,24/B726)),J726*'Customer Info'!$E$17*(IF(B726=0, 1,24/B726)))","v":0}]
[0,0,0,0,0,0,0,0,null,{"$f":"H727-G727","v":0},{"$f":"IF('Customer Info'!$E$17=0,J727*(IF(B727=0, 1,24/B727)),J727*'Customer Info'!$E$17*(IF(B727=0, 1,24/B727)))","v":0}]

{"sheet":"Overview","index":3,"n_rows":181,"n_cols":7,"rows_kept":181,"cut":false,"hidden":false,"merged":[[178,1,178,2],[177,5,177,6],[178,5,178,6],[23,1,23,7],[49,1,49,7],[75,1,75,7],[102,1,102,7],[153,0,154,8],[129,0,130,8],[132,1,132,7],[156,1,156,7],[126,1,127,7],[176,1,176,6],[173,0,174,8],[0,0,3,8],[20,0,21,8],[9,4,11,5],[12,4,12,5],[5,0,6,8],[14,6,14,7],[15,6,15,7],[17,6,17,7],[18,6,18,7],[16,6,16,7],[8,1,8,7]]}
["Food Waste Assessment Results"]
[]
[]
[]
[]
["Summary Information"]
[]
[]
[null,"Total Food Waste Generated"]
[null,"Summary","lbs","tons"]
[null,"Daily Food Waste",{"$f":"C19","v":0},{"$f":"C11/2000","v":0}]
[null,"Weekly Food Waste",{"$f":"D19","v":0},{"$f":"C12/2000","v":0}]
[null,"Yearly Food Waste",{"$f":"F19","v":0},{"$f":"C13/2000","v":0}]
[]
[null,"Disposal Summary (lbs)","per day","per week","per month","per year","percent"]
[null,"Landfilled Food",{"$f":"GETPIVOTDATA(\"Scaled Food Weight (lbs)\",$B$54)","v":0},{"$f":"C16*7","v":0},{"$f":"C16*365/12","v":0},{"$f":"C16*365","v":0},{"$f":"IF($F$19=0,0,F16/$F$19)","v":0}]
[null,"Donated Food",{"$f":"GETPIVOTDATA(\"Scaled Food Weight (lbs)\",$B$80)","v":0},{"$f":"C17*7","v":0},{"$f":"C17*365/12","v":0},{"$f":"C17*365","v":0},{"$f":"IF($F$19=0,0,F17/$F$19)","v":0}]
[null,"Recycled Food",{"$f":"GETPIVOTDATA(\"Scaled Food Weight (lbs)\",$B$107)","v":0},0,0,0,{"$f":"IF($F$19=0,0,F18/$F$19)","v":0}]
[null,"Total",{"$f":"GETPIVOTDATA(\"Scaled Food Weight (lbs)\",$B$28)","v":0},{"$f":"C19*7","v":0},{"$f":"C19*365/12","v":0},{"$f":"C19*365","v":0},{"$f":"SUM(G16:H18)","v":0}]
[]
["Department Information Overview"]
[]
[]
[null,"Total Food Waste Distribution by Department"]
[null,"Percent of Total",{"$f":"G19","v":0}]
[null,"Disposal Method","(Multiple Items)"]
[]
[null,"Source Location","Food Weight (lbs/day)"]
[null,"cheese",0]
[null,"produce",0]
[null,"other2",0]
[null,"dairy",0]
[null,"seafood",0]
[null,"deli",0]
[null,"other1",0]
[null,"meat",0]
[null,"bakery",0]
[null,"prepared",0]
[null,"Total",0]
[]
[]
[]
[]
[]
[]
[null,"See Department Tab for more details"]
[]
[]
[]
[null,"Landfilled Food Scraps by Department"]
[null,"Percent of Total",{"$f":"G16","v":0}]
[null,"Disposal Method","landfill"]
[]
[null,"Source Location","Food Weight (lbs/day)"]
[null,"cheese",0]
[null,"produce",0]
[null,"other2",0]
[null,"dairy",0]
[null,"seafood",0]
[null,"deli",0]
[null,"other1",0]
[null,"meat",0]
[null,"bakery",0]
[null,"prepared",0]
[null,"Landfill Total",0]
[]
[]
[]
[]
[]
[]
[]
[null,"See Department Tab for more details"]
[]
[]
[null,"Donated Surplus by Department"]
[null,"Percent of Total",{"$f":"G17","v":0}]
[null,"Disposal Method","donation"]
[]
[null,"Source Location","Food Weight (lbs/day)"]
[null,"cheese",0]
[null,"produce",0]
[null,"other2",0]
[null,"dairy",0]
[null,"seafood",0]
[null,"deli",0]
[null,"other1",0]
[null,"meat",0]
[null,"bakery",0]
[null,"prepared",0]
[null,"Donation Total",0]
[]
[]
[]
[]
[]
[]
[]
[]
[null,"Learn more about reducing Surplus food in the Surplus tab"]
[]
[]
[null,"Recycled Food Waste by Department*"]
[null,"Percent of Total",{"$f":"G18","v":0}]
[null,"Disposal Method","(Multiple Items)"]
[]
[null,"Source Location","Food Weight (lbs/day)"]
[null,"cheese",0]
[null,"produce",0]
[null,"other2",0]
[null,"dairy",0]
[null,"seafood",0]
[null,"deli",0]
[null,"other1",0]
[null,"meat",0]
[null,"bakery",0]
[null,"prepared",0]
[null,"Recycled Total",0]
[]
[]
[]
[]
[]
[]
[]
[null,"See Department Tab for more details"]
[null,"*Includes items that are composted, sent to animal feed or industrial uses such as food waste to energy (e.g. anaerobic digestion) and animal bedding"]
[]
[]
["Loss Reason Overview"]
[]
[]
[null,"Food Waste by Loss Reason"]
[null,"Source Location","Food Weight (lbs/day)"]
[null,"expired",0]
[null,"return",0]
[null,"quality",0]
[null,"other",0]
[null,"surplus",0]
[null,"plate waste",0]
[null,"prep waste",0]
[null,"Total",0]
[]
[]
[]
[]
[]
[]
[]
[]
[null,"See Loss Reason Tab for more details"]
[]
[]
["Landfill Diversion Rate"]
[]
[]
[null,"Percent of Food Scraps Diverted from Landfill"]
[null,"Food Scraps","lbs/year"]
[null,"Landfilled Food",{"$f":"F16","v":0}]
[null,"Donated Food",{"$f":"F17","v":0}]
[null,"Recycled Food",0]
[]
[null,"Overall Diversion Rate",{"$f":"IF(SUM(C159:C161)=0,0,SUM(C160:C161)/SUM(C159:C161))","v":0}]
[]
[]
[]
[]
[]
[]
[]
[]
[]
[]
["NYS Food System Sustainability Clearinghouse Estimation Tool"]
[]
[]
[null,"Actual vs. Estimated Food Waste Amounts*"]
[null,null,null,"Estimated","Actual",{"$f":"\"% \" &IF(D179>E179,\"Lower\",IF(D179=E179,\"Equal\",\"Above\"))","v":"% Lower"}]
[null,"Food Waste (tons/week)",null,{"$f":"IF(('Customer Info'!E13)/40*3000/52/2000=0,\"Hover for info\",('Customer Info'!E13)/40*3000/52/2000)","v":"Hover for info"},{"$f":"D19/2000","v":0},{"$f":"IF(E179=0,0,ABS((E179-D179)/E179))","v":0}]
[null,"*http://www.rit.edu/affiliate/nysp2i/food/food-waste-estimator"]
[null,"Comparison based upon average waste per Full-time Equivalent (FTE) vs. estimated waste per FTE."]

{"sheet":"Department","index":4,"n_rows":7,"n_cols":32,"rows_kept":7,"cut":false,"hidden":false,"merged":[]}
["Food Waste by Department: Includes all food waste items regardless of disposal method."]
[]
[{"$f":"B4","v":"bakery"},null,null,{"$f":"E4","v":"cheese"},null,null,{"$f":"H4","v":"dairy"},null,null,{"$f":"K4","v":"deli"},null,null,{"$f":"N4","v":"deli"},null,null,{"$f":"Q4","v":"meat"},null,null,{"$f":"T4","v":"prepared"},null,null,{"$f":"W4","v":"produce"},null,null,{"$f":"Z4","v":"seafood"},null,null,{"$f":"AC4","v":"other1"},null,null,{"$f":"AF4","v":"other2"}]
["Source Location","bakery",null,"Source Location","cheese",null,"Source Location","dairy",null,"Source Location","deli",null,"Source Location","deli",null,"Source Location","meat",null,"Source Location","prepared",null,"Source Location","produce",null,"Source Location","seafood",null,"Source Location","other1",null,"Source Location","other2"]
[]
["Source Location","Food Weight (lbs/day)",null,"Source Location","Food Weight (lbs/day)",null,"Source Location","Food Weight (lbs/day)",null,"Source Location","Food Weight (lbs/day)",null,"Source Location","Food Weight (lbs/day)",null,"Source Location","Food Weight (lbs/day)",null,"Source Location","Food Weight (lbs/day)",null,"Source Location","Food Weight (lbs/day)",null,"Source Location","Food Weight (lbs/day)",null,"Source Location","Food Weight (lbs/day)",null,"Source Location","Food Weight (lbs/day)"]
["Total",null,null,"Total",null,null,"Total",null,null,"Total",null,null,"Total",null,null,"Total",null,null,"Total",null,null,"Total",null,null,"Total",null,null,"Total",null,null,"Total"]

{"sheet":"Loss Reason","index":5,"n_rows":7,"n_cols":20,"rows_kept":7,"cut":false,"hidden":false,"merged":[]}
["Food Waste by Loss Reason: Includes all food waste items regardless of disposal method."]
[]
[{"$f":"B4","v":"prep waste"},null,null,{"$f":"E4","v":"plate waste"},null,null,{"$f":"H4","v":"expired"},null,null,{"$f":"K4","v":"surplus"},null,null,{"$f":"N4","v":"quality"},null,null,{"$f":"Q4","v":"return"},null,null,{"$f":"T4","v":"other"}]
["Loss Reason","prep waste",null,"Loss Reason","plate waste",null,"Loss Reason","expired",null,"Loss Reason","surplus",null,"Loss Reason","quality",null,"Loss Reason","return",null,"Loss Reason","other"]
[]
["Source Location","Food Weight (lbs/day)",null,"Source Location","Food Weight (lbs/day)",null,"Source Location","Food Weight (lbs/day)",null,"Source Location","Food Weight (lbs/day)",null,"Source Location","Food Weight (lbs/day)",null,"Source Location","Food Weight (lbs/day)",null,"Source Location","Food Weight (lbs/day)"]
["Total",null,null,"Total",null,null,"Total",null,null,"Total",null,null,"Total",null,null,"Total",null,null,"Total"]

{"sheet":"Surplus","index":6,"n_rows":43,"n_cols":12,"rows_kept":43,"cut":false,"hidden":false,"merged":[[0,1,3,11],[37,7,37,8],[37,10,37,11],[32,4,32,5],[9,1,9,5],[9,7,9,11],[32,7,32,11],[32,1,32,2]]}
[null,"Food Waste Assessment Results"]
[]
[]
[]
[]
[]
[]
[]
[]
[null,"Increasing Food Waste Prevention",null,null,null,null,null,"Increasing Food Waste Donation"]
[]
[]
[]
[]
[]
[]
[]
[]
[]
[]
[]
[]
[]
[]
[]
[]
[]
[]
[]
[]
[]
[]
[null,"Surplus Food Details",null,null,"Surplus Food Impact",null,null,"Donation Summary"]
[null,"Loss Reason","surplus",null,{"$f":"GETPIVOTDATA(\"Scaled Food Weight (lbs)\",$B$36)","v":0},"lbs/day",null,null,"Lbs/day",null,"Lbs/year","% Increase"]
[null,null,null,null,{"$f":"E34*365","v":0},"lbs/year",null,"Current Amount",{"$f":"GETPIVOTDATA(\"Scaled Food Weight (lbs)\",$H$41)","v":0},null,{"$f":"I35*365","v":0},"-"]
[null,"Source Location","Food Weight (lbs/day)",null,null,null,null,"Potential Amount",{"$f":"GETPIVOTDATA(\"Scaled Food Weight (lbs)\",$K$42)+I35","v":0},null,{"$f":"(I36-I35)*365 + K35","v":0},{"$f":"IF(I35=0,100,((I36-I35)/I35)*100)","v":100}]
[null,"Total"]
[null,null,null,null,null,null,null,"Current Donation",null,null,"Potential to Donate"]
[null,null,null,null,null,null,null,"Disposal Method","donation",null,"Loss Reason","surplus"]
[null,null,null,null,null,null,null,null,null,null,"Disposal Method","(Multiple Items)"]
[null,null,null,null,null,null,null,"Source Location","Weight (lbs/day)"]
[null,null,null,null,null,null,null,"Total",null,null,"Source Location","Weight (lbs/day)"]
[null,null,null,null,null,null,null,null,null,null,"Total"]

{"sheet":"Recycling","index":7,"n_rows":49,"n_cols":6,"rows_kept":49,"cut":false,"hidden":false,"merged":[[9,1,9,5],[33,1,33,5],[43,1,43,2],[43,4,43,5],[0,1,3,5]]}
[null,"Food Waste Assessment Results"]
[]
[]
[]
[]
[]
[]
[]
[]
[null,"Increasing Food Waste Recycling"]
[]
[]
[]
[]
[]
[null,null,null,null,null,"v"]
[]
[]
[]
[]
[]
[]
[]
[]
[]
[]
[]
[]
[]
[]
[]
[]
[]
[null,"Recycling Summary"]
[null,null,"Lbs/day",null,"Lbs/year","% Increase"]
[null,"Current Recycled Amount",{"$f":"GETPIVOTDATA(\"Scaled Food Weight (lbs)\",$B$48)","v":0},null,{"$f":"C36*365","v":0},"-"]
[null,"Potential Recycled Amount",{"$f":"GETPIVOTDATA(\"Scaled Food Weight (lbs)\",$E$48)+C36","v":0},null,{"$f":"C37*365","v":0},{"$f":"IF(C36=0,C37/100,((C37-C36)/C36))*100","v":0}]
[]
[]
[]
[]
[]
[]
[null,"Current Recycling",null,null,"Additional Potential to Recycle"]
[null,null,null,null,"Loss Reason","(Multiple Items)"]
[null,"Disposal Method","(Multiple Items)",null,"Disposal Method","landfill"]
[]
[null,"Source Location","Food Weight (lbs/day)",null,"Source Location","Food Weight (lbs/day)"]
[null,"Total",0,null,"Total",0]