{"text_format":"1","workbook":"xlsx","n_sheets":8,"sheets":["Instructions","Customer Info","Log Sheet","Overview","Source","Loss Reason","Surplus","Recycling"],"not_rendered":{"charts":9,"images":8,"macros":1,"external_links":0,"defined_names":1,"comments":3,"pivot_tables":25},"unopened":[],"bounds":{"document_bytes":16777216,"sheet_cells":100000,"rows_first":2000,"rows_last":500,"rows_between":2000,"halvings":0,"cell_chars":16384,"cell_head_chars":4096},"cells_cut":0,"cells_raw":0,"read":"whole","date_system":"1900"}

{"sheet":"Instructions","index":0,"n_rows":22,"n_cols":9,"rows_kept":22,"cut":false,"hidden":false,"merged":[[0,0,3,7],[17,0,19,1],[17,2,19,7],[5,0,7,1],[5,2,7,7],[21,2,23,7],[21,0,23,1],[9,2,10,7],[11,2,11,7],[13,12,15,18],[8,11,9,17],[9,0,11,1],[13,0,15,1],[13,2,15,7]]}
["INSTRUCTIONS                                        Food Waste Assesment Results"]
[]
[]
[]
[]
["Step 1",null,"Hit the Enable Content button at the top of the screen."]
[]
[]
[]
["Step 2",null,"Enter customer volume & capacity information in the Customer Info tab."]
[]
[null,null,"These values are used to scale the results."]
[]
["Step 3",null,"Enter data from the log sheet into the Log Sheet tab.                 .\nEnter tray/plate counts and assumptions into the table at the top of the sheet."]
[null,null,null,null,null,null,null,null,"Enter tray/plate counts and assumptions into the table at the top of the sheet."]
[]
[]
["Step 4",null,"Click the \"VIEW RESULTS\" button."]
[]
[]
[]
["Step 5",null,"Review the (5) green tabs to see results."]

{"sheet":"Customer Info","index":1,"n_rows":30,"n_cols":13,"rows_kept":30,"cut":false,"hidden":false,"merged":[[12,20,14,20],[22,7,22,8],[12,18,14,18],[12,15,14,15],[12,16,14,16],[12,19,14,19],[12,14,14,14],[12,17,14,17],[12,13,14,13],[15,1,15,8],[21,1,21,2],[21,3,21,4],[21,5,21,6],[21,7,21,8],[16,5,16,6],[17,5,17,6],[0,0,3,9],[9,1,9,3],[10,1,10,3],[12,1,12,3],[8,7,8,8],[9,7,9,8],[10,7,10,8],[9,4,9,5],[10,4,10,5],[12,4,12,5],[11,1,11,3],[5,0,6,9],[11,4,11,5],[12,6,12,7],[8,1,8,5],[19,3,19,4],[20,3,20,4],[18,5,18,6],[19,5,19,6],[20,5,20,6],[13,4,13,5],[13,1,13,3],[24,1,24,9],[16,7,16,8],[17,7,17,8],[18,7,18,8],[19,7,19,8],[17,1,17,2],[18,1,18,2],[19,1,19,2],[20,1,20,2],[20,7,20,8],[16,1,16,2],[16,3,16,4],[17,3,17,4],[18,3,18,4]]}
["Food Waste Assessment"]
[]
[]
[]
[]
["Customer Volume Information"]
[]
[]
[null,"General Information",null,null,null,null,null,"Color Code"]
[null,"Healthcare Facility Type:",null,null,"Hospital",null,null,"Required Information"]
[null,"Licensed Number of Beds:",null,null,318,null,null,"Optional Information"]
[null,"Staffed Number of Beds:",null,null,250]
[null,"Average Occupied Beds:",null,null,240,null,{"$f":"IF(E12>0,E13/E12,\"\")","v":0.96}]
[null,"Day of Assesment:",null,null,"Saturday"]
[null,null,null,null,null,null,null,null,null,null,null,"Scale using the waste per person"]
[null,"Total Meals Served on Assessment Day",null,null,null,null,null,null,null,null,null,"Average Diner Volume",{"$f":"$J$30","v":1449}]
[null,"Meal Service",null,"Patients",null,"Cafeteria",null,"Other1",null,null,null,"Assessment Day Diner Volume",{"$f":"$H$23","v":1508}]
[null,"Breakfast ",null,208,null,183,null,null,null,null,null,"Pre-Consumer Scaling Factor",{"$f":"IF(OR(M16=0,M17=0),1,M16/M17)","v":0.96087533156498672}]
[null,"Lunch ",null,214,null,365]
[null,"Dinner ",null,216,null,322]
[null,"Other Meal"]
[null,"Total",null,{"$f":"SUM(D18:E21)","v":638},null,{"$f":"SUM(F18:G21)","v":870},null,{"$f":"SUM(H18:I21)","v":0}]
[null,null,null,null,null,null,"Assessment day total meals",{"$f":"SUM(D22:I22)","v":1508}]
[]
[null,"Average Number of Daily Meals"]
[null,null,"Sunday","Monday","Tuesday","Wednesday","Thursday","Friday","Saturday","Average",null,"Post Consumer Scaling"]
[null,"Patient Diners",720,720,720,720,720,720,720,{"$f":"ROUNDUP(SUM(C27:I27)/7,)","v":720},null,"Patient Scaling Value",{"$f":"IF(D22=0,1,J27/D22)","v":1.128526645768025}]
[null,"Cafeteria Diners",425,850,850,850,850,850,425,{"$f":"ROUNDUP(SUM(C28:I28)/7,)","v":729},null,"Cafeteria Scaling Value",{"$f":"IF(F22=0,1,J28/F22)","v":0.83793103448275863}]
[null,"Other1 Diners",null,null,null,null,null,null,null,{"$f":"IF(COUNTA(C29:I29)=0,,ROUNDUP(SUM(C29:I29)/7,))","v":0},null,"Other dining Scaling Value",{"$f":"IF(H22=0,1,J29/H22)","v":1}]
[null,null,null,null,null,null,null,null,"Total Average Daily meals",{"$f":"J27+J28+J29","v":1449}]

{"sheet":"Log Sheet","index":2,"n_rows":4232,"n_cols":107,"rows_kept":562,"cut":true,"hidden":false,"merged":[[9,6,9,7],[10,6,10,7],[11,6,11,7],[20,12,20,50],[20,0,20,9],[12,0,12,1],[11,0,11,1],[14,6,14,7],[15,6,15,7],[16,6,16,7],[17,6,17,7],[18,6,18,7],[13,0,15,1],[20,102,20,103],[20,54,20,69],[20,70,20,85],[20,86,20,101],[20,104,20,106],[19,61,19,106],[9,0,9,1],[10,0,10,1],[2,0,2,1],[1,0,1,1],[8,0,8,1],[6,0,6,1],[2,6,2,7],[3,6,3,7],[4,6,4,7],[5,6,5,7],[6,6,6,7],[12,6,12,7],[1,3,1,7],[8,6,8,7],[3,0,5,1]],"bounds":{"rows_first":250,"rows_last":62,"rows_between":250,"halvings":3}}
[]
["Color Code:",null,null,"Section B: TRAY/PLATE WASTE SAMPLE COUNTS"]
["Required Information",null,null,"Patients","Tray/Plate Count","Same Per Person Waste As…","Estimated Count"]
["Sample Data (must enter data in one of the columns)",null,null,"Breakfast ",79,null,{"$f":"IF(F4=\"lunch\",E5,IF(F4=\"dinner\",E6,IF(F4=\"other\",E7,IF(OR(F4=\"n/a\",F4=\"\"),\"\"))))","v":""},null,null,{"$f":"IF(F4=\"lunch\",E5,IF(F4=\"dinner\",E6,IF(F4=\"other\",E7,IF(OR(F4=\"n/a\",F4=\"\"),0))))","v":0}]
[null,null,null,"Lunch ",88,null,{"$f":"IF(F5=\"dinner\",E6,IF(F5=\"breakfast\",E4,IF(F5=\"other\",E7,IF(OR(F5=\"n/a\",F5=\"\"),\"\"))))","v":""},null,null,{"$f":"IF(F5=\"dinner\",E6,IF(F5=\"breakfast\",E4,IF(F5=\"other\",E7,IF(OR(F5=\"n/a\",F5=\"\"),0))))","v":0}]
[null,null,null,"Dinner ",99,null,{"$f":"IF(F6=\"lunch\",E5,IF(F6=\"breakfast\",E4,IF(F6=\"other\",E7,IF(OR(F6=\"n/a\",F6=\"\"),\"\"))))","v":""},null,null,{"$f":"IF(F6=\"lunch\",E5,IF(F6=\"breakfast\",E4,IF(F6=\"other\",E7,IF(OR(F6=\"n/a\",F6=\"\"),0))))","v":0}]
["Optional Information",null,null,"Other Meal",null,null,{"$f":"IF(F7=\"breakfast\",E4,IF(F7=\"lunch\",E5,IF(F7=\"dinner\",E6,IF(OR(F7=\"\",F7=\"n/a\"),\"\"))))","v":""},null,null,{"$f":"IF(F7=\"breakfast\",E4,IF(F7=\"lunch\",E5,IF(F7=\"dinner\",E6,IF(OR(F7=\"\",F7=\"n/a\"),0))))","v":0}]
[null,null,null,null,null,null,null,null,null,null,null,null,null,null,null,null,null,null,null,null,null,null,null,null,null,null,null,null,null,null,null,null,null,null,null,null,null,null,null,null,null,null,null,null,null,null,null,null,null,null,null,null,null,null,null,null,null,null,null,null,null,null,null,null,null,null,null,null,null,null,null,null,null,null,null,null,null,null,null,null,null,null,null,null,null,null,null,null,null,null,null,null,null,null,null,null,null,null,null,null,null,null,"Post/day","Pre/day","#Bev/day","Beverages lbs/day"]
["Assessment Date:",null,null,"Cafeteria","Tray/Plate Count","Same Per Person Waste As…","Estimated Count",null,null,null,null,"Loss Reasons:","If kitchen","If beverages","If donation","All other disposal methods",null,null,null,null,null,null,null,null,null,null,null,null,null,null,null,null,null,null,null,null,null,null,null,null,null,null,null,null,null,null,null,null,null,null,null,null,null,null,null,null,null,null,null,null,null,null,null,null,null,null,null,null,null,null,null,null,null,null,null,null,null,null,null,null,null,null,null,null,null,null,null,null,null,null,null,null,null,null,null,null,null,null,null,null,null,"Totals",{"$f":"SUM(CY23:CY322)+SUM(K622:K4232)","v":481.03271659494027},{"$f":"SUM(CZ23:CZ322)","v":82.058753315649867},{"$f":"DB16","v":309.02622723727768},{"$f":"DC16","v":158.66218729377886}]
["6/29/206",null,null,"Breakfast ",null,"lunch",{"$f":"IF(F10=\"lunch\",E11,IF(F10=\"dinner\",E12,IF(F10=\"other\",E13,IF(OR(F10=\"n/a\",F10=\"\"),\"\"))))","v":45},null,null,null,null,null,"prep waste","plate waste","surplus","prep waste"]
["Hours Studied:",null,null,"Lunch ",45,null,{"$f":"IF(F11=\"dinner\",E12,IF(F11=\"breakfast\",E10,IF(F11=\"other\",E13,IF(OR(F11=\"n/a\",F11=\"\"),\"\"))))","v":""},null,null,null,null,null,"expired",null,null,"expired",null,null,null,null,null,null,null,null,null,null,null,null,null,null,null,null,null,null,null,null,null,null,null,null,null,null,null,null,null,null,null,null,null,null,null,null,null,null,null,null,null,null,null,null,null,null,null,null,null,null,null,null,null,null,null,null,null,null,null,null,null,null,null,null,null,null,null,null,null,null,null,null,null,null,null,null,null,null,null,null,null,null,null,null,null,"Patient Beverage Summary Table"]
[24,null,null,"Dinner ",22,null,{"$f":"IF(F12=\"lunch\",E11,IF(F12=\"breakfast\",E10,IF(F12=\"other\",E13,IF(OR(F12=\"n/a\",F12=\"\"),\"\"))))","v":""},null,null,null,null,null,"surplus",null,null,"plate waste",null,null,null,null,null,null,null,null,null,null,null,null,null,null,null,null,null,null,null,null,null,null,null,null,null,null,null,null,null,null,null,null,null,null,null,null,null,null,null,null,null,null,null,null,null,null,null,null,null,null,null,null,null,null,null,null,null,null,null,null,null,null,null,null,null,null,null,null,null,null,null,null,null,null,null,null,null,null,null,null,null,null,null,null,null,"Meal","Count","Scaled #","Scaled lbs","Est #","Est lbs"]
["Team Members:",null,null,"Other Meal",null,null,{"$f":"IF(F13=\"breakfast\",E10,IF(F13=\"lunch\",E11,IF(F13=\"dinner\",E12,IF(OR(F13=\"\",F13=\"n/a\"),\"\"))))","v":""},null,null,null,null,null,"quality",null,null,"surplus",null,null,null,null,null,null,null,null,null,null,null,null,null,null,null,null,null,null,null,null,null,null,null,null,null,null,null,null,null,null,null,null,null,null,null,null,null,null,null,null,null,null,null,null,null,null,null,null,null,null,null,null,null,null,null,null,null,null,null,null,null,null,null,null,null,null,null,null,null,null,null,null,null,null,null,null,null,null,null,null,null,null,null,null,null,"Breakfast",{"$f":"'Customer Info'!$D$18","v":208},{"$f":"SUMIF($DC$23:$DC$322,$CX13,$DA$23:$DA$322)","v":89.139319868259193},{"$f":"SUMIF($DC$23:$DC$322,$CX13,$DB$23:$DB$322)","v":44.569659934129596},{"$f":"IF(CZ13>0,0,IF(AND(CZ14>0,CZ15>0),SUM(CZ14:CZ15)/SUM($CY$14:$CY$15)*$CY$13,IF(CZ14>0,CZ14/$CY$14*$CY$13,IF(CZ15>0,CZ15/$CY$15*$CY$13,0))))","v":0},{"$f":"IF(DA13>0,0,IF(AND(DA14>0,DA15>0),SUM(DA14:DA15)/SUM($CY$14:$CY$15)*$CY$13,IF(DA14>0,DA14/$CY$14*$CY$13,IF(DA15>0,DA15/$CY$15*$CY$13,0))))","v":0}]
["T. Jones, M. Evans",null,null,null,null,null,null,null,null,null,null,null,"other",null,null,"quality",null,null,null,null,null,null,null,null,null,null,null,null,null,null,null,null,null,null,null,null,null,null,null,null,null,null,null,null,null,null,null,null,null,null,null,null,null,null,null,null,null,null,null,null,null,null,null,null,null,null,null,null,null,null,null,null,null,null,null,null,null,null,null,null,null,null,null,null,null,null,null,null,null,null,null,null,null,null,null,null,null,null,null,null,null,"Lunch",{"$f":"'Customer Info'!$D$19","v":214},{"$f":"SUMIF($DC$23:$DC$322,$CX14,$DA$23:$DA$322)","v":115.26360786548874},{"$f":"SUMIF($DC$23:$DC$322,$CX14,$DB$23:$DB$322)","v":60.376175548589337},{"$f":"IF(CZ14>0,0,IF(AND(CZ13>0,CZ15>0),SUM(CZ13,CZ15)/SUM($CY$13,$CY$15)*$CY$14,IF(CZ13>0,CZ13/$CY$13*$CY$14,IF(CZ15>0,CZ15/$CY$15*$CY$14,0))))","v":0},{"$f":"IF(DA14>0,0,IF(AND(DA13>0,DA15>0),SUM(DA13,DA15)/SUM($CY$13,$CY$15)*$CY$14,IF(DA13>0,DA13/$CY$13*$CY$14,IF(DA15>0,DA15/$CY$15*$CY$14,0))))","v":0}]
[null,null,null,"Other1 Area","Tray/Plate Count","Same Per Person Waste As…","Estimated Count",null,null,null,null,null,null,null,null,"other",null,null,null,null,null,null,null,null,null,null,null,null,null,null,null,null,null,null,null,null,null,null,null,null,null,null,null,null,null,null,null,null,null,null,null,null,null,null,null,null,null,null,null,null,null,null,null,null,null,null,null,null,null,null,null,null,null,null,null,null,null,null,null,null,null,null,null,null,null,null,null,null,null,null,null,null,null,null,null,null,null,null,null,null,null,"Dinner",{"$f":"'Customer Info'!$D$20","v":216},{"$f":"SUMIF($DC$23:$DC$322,$CX15,$DA$23:$DA$322)","v":0},{"$f":"SUMIF($DC$23:$DC$322,$CX15,$DB$23:$DB$322)","v":0},{"$f":"IF(CZ15>0,0,IF(AND(CZ13>0,CZ14>0),SUM(CZ13:CZ14)/SUM($CY$13:$CY$14)*$CY$15,IF(CZ13>0,CZ13/$CY$13*$CY$15,IF(CZ14>0,CZ14/$CY$14*$CY$15,0))))","v":104.62329950352975},{"$f":"IF(DA15>0,0,IF(AND(DA13>0,DA14>0),SUM(DA13:DA14)/SUM($CY$13:$CY$14)*$CY$15,IF(DA13>0,DA13/$CY$13*$CY$15,IF(DA14>0,DA14/$CY$14*$CY$15,0))))","v":53.71635181105993}]
[null,null,null,"Breakfast ",null,null,{"$f":"IF(F16=\"lunch\",E17,IF(F16=\"dinner\",E18,IF(F16=\"other\",E19,IF(OR(F16=\"n/a\",F16=\"\"),\"\"))))","v":""},null,null,{"$f":"IF(F16=\"lunch\",E17,IF(F16=\"dinner\",E18,IF(F16=\"other\",E19,IF(OR(F16=\"n/a\",F16=\"\"),0))))","v":0},null,null,null,null,null,null,null,null,null,null,null,null,null,null,null,null,null,null,null,null,null,null,null,null,null,null,null,null,null,null,null,null,null,null,null,null,null,null,null,null,null,null,null,null,null,null,null,null,null,null,null,null,null,null,null,null,null,null,null,null,null,null,null,null,null,null,null,null,null,null,null,null,null,null,null,null,null,null,null,null,null,null,null,null,null,null,null,null,null,null,null,null,{"$f":"SUM(CY13:CY15)","v":638},null,"Totals",{"$f":"SUM(CZ13:CZ15,DB13:DB15)","v":309.02622723727768},{"$f":"SUM(DA13:DA15,DC13:DC15)","v":158.66218729377886}]
[null,null,null,"Lunch ",null,null,{"$f":"IF(F17=\"dinner\",E18,IF(F17=\"breakfast\",E16,IF(F17=\"other\",E19,IF(OR(F17=\"n/a\",F17=\"\"),\"\"))))","v":""},null,null,{"$f":"IF(F17=\"dinner\",E18,IF(F17=\"breakfast\",E16,IF(F17=\"other\",E19,IF(OR(F17=\"n/a\",F17=\"\"),0))))","v":0}]
[null,null,null,"Dinner ",null,null,{"$f":"IF(F18=\"lunch\",E17,IF(F18=\"breakfast\",E16,IF(F18=\"other\",E19,IF(OR(F18=\"n/a\",F18=\"\"),\"\"))))","v":""},null,null,{"$f":"IF(F18=\"lunch\",E17,IF(F18=\"breakfast\",E16,IF(F18=\"other\",E19,IF(OR(F18=\"n/a\",F18=\"\"),0))))","v":0}]
[null,null,null,"Other Meal",null,null,{"$f":"IF(F19=\"breakfast\",E16,IF(F19=\"lunch\",E17,IF(F19=\"dinner\",E18,IF(OR(F19=\"\",F19=\"n/a\"),\"\"))))","v":""},null,null,{"$f":"IF(F19=\"breakfast\",E16,IF(F19=\"lunch\",E17,IF(F19=\"dinner\",E18,IF(OR(F19=\"\",F19=\"n/a\"),0))))","v":0}]
[null,null,null,null,null,null,null,null,null,null,null,null,null,null,null,null,null,null,null,null,null,null,null,null,null,null,null,null,null,null,null,null,null,null,null,null,null,null,null,null,null,null,null,null,null,null,null,null,null,null,null,null,null,null,null,null,null,null,null,null,null,"Making up for Missing Data"]
["Section A: LOG SHEET",null,null,null,null,null,null,null,null,null,null,null,"Sample Size Scaling Formulas",null,null,null,null,null,null,null,null,null,null,null,null,null,null,null,null,null,null,null,null,null,null,null,null,null,null,null,null,null,null,null,null,null,null,null,null,null,null,null,null,null,"Patient",null,null,null,null,null,null,null,null,null,null,null,null,null,null,null,"Cafeteria",null,null,null,null,null,null,null,null,null,null,null,null,null,null,null,"Other1",null,null,null,null,null,null,null,null,null,null,null,null,null,null,null,"Pre vs. Post",null,"Beverages"]
["Meal Service","Timeframe (hrs)","Source Location","Disposal Method","Loss Reason","Food Description","Container Weight (lbs)","Total Weight (lbs)","# Unopened Beverages","Notes","Food Weight (lbs)","Scaled Food Weight (lbs/day)","IF(plate waste)","IF(patient)","IF(cafeteria)","IF(other1)","IF(Patient beverages)","If Patient and breakfast","If Patient and lunch","If Patient and dinner","If Patient and other","If Cafeteria and breakfast","If Cafeteria and lunch","IF Cafeteria and dinner","Cafeteria and other","If Other and breakfast","If Other and lunch","If Other and dinner","Other and other","If PB and breakfast","If PB and lunch","IF PB and dinner","IF PB and other","Scale Patient breakfast","Scale Patient Lunch","Scale Patient Dinner","Scale Patient Other","Scale Cafeteria breakfast","Scale Cafeteria lunch","Scale Cafeteria dinner","Scale Cafeteria other","Scale Other1 breakfast","Scale Other1 lunch","Scale Other1 dinner","Scale Other1 other","Scale PB breakfast","Scale PB lunch","Scale PB dinner","Scale PB other","Scaled by Tray Count","Scaled by Time Frame","Scaling Factor Pre","Scaling Factor Post","Shown Scaled Food Weight","Breakfast assuming lunch","Breakfast assuming dinner","Breakfast assuming other","Sum of Breakfast","Lunch assuming breakfast","Lunch assuming dinner","Lunch assuming other","Sum of Lunch","Dinner assuming breakfast","Dinner assuming lunch","Dinner assuming other","Sum of Dinner","Other assuming breakfast","Other assuming lunch","Other assuming dinner","Sum of Other","Breakfast assuming lunch","Breakfast assuming dinner","Breakfast assuming other","Sum of Breakfast","Lunch assuming breakfast","Lunch assuming dinner","Lunch assuming other","Sum of Lunch","Dinner assuming breakfast","Dinner assuming lunch","Dinner assuming other","Sum of Dinner","Other assuming breakfast","Other assuming lunch","Other assuming dinner","Sum of Other","Breakfast assuming lunch","Breakfast assuming dinner","Breakfast assuming other","Sum of Breakfast","Lunch assuming breakfast","Lunch assuming dinner","Lunch assuming other","Sum of Lunch","Dinner assuming breakfast","Dinner assuming lunch","Dinner assuming other","Sum of Dinner","Other assuming breakfast","Other assuming lunch","Other assuming dinner","Sum of Other","Post Consumer (lbs)","Pre Consumer (lbs)","#Beverages","Scaled lbs of Unopened Beverages","Meal with beverage waste"]
["dinner",null,"kitchen","compost","prep waste","Potato peels and trimmings",2,11,null,null,{"$f":"H23-G23","v":9},{"$f":"BB23","v":8.6478779840848805},{"$f":"IF(E23=\"plate waste\",K23,)","v":0},{"$f":"IF(M23=0,,IF(C23=\"patient\",K23,))","v":0},{"$f":"IF(M23=0,,IF(C23=\"cafeteria\",K23,))","v":0},{"$f":"IF(M23=0,,IF(C23=\"other1\",K23,))","v":0},{"$f":"IF(C23=\"patient beverages\",K23,0)","v":0},{"$f":"IF(N23=0,,IF(A23=\"breakfast\",K23,))","v":0},{"$f":"IF(N23=0,,IF(A23=\"lunch\",K23,))","v":0},{"$f":"IF(N23=0,,IF(A23=\"dinner\",K23,))","v":0},{"$f":"IF(N23=0,,IF(A23=\"other\",K23,))","v":0},{"$f":"IF(O23=0,,IF(A23=\"breakfast\",K23,))","v":0},{"$f":"IF(O23=0,,IF(A23=\"lunch\",K23,))","v":0},{"$f":"IF(O23=0,,IF(A23=\"dinner\",K23,))","v":0},{"$f":"IF(O23=0,,IF(A23=\"other\",K23,))","v":0},{"$f":"IF(P23=0,,IF(A23=\"breakfast\",K23,))","v":0},{"$f":"IF(P23=0,,IF(A23=\"lunch\",K23,))","v":0},{"$f":"IF(P23=0,,IF(A23=\"dinner\",K23,))","v":0},{"$f":"IF(P23=0,,IF(A23=\"other\",K23,))","v":0},{"$f":"IF(Q23=0,,IF(A23=\"breakfast\",Q23,))","v":0},{"$f":"IF(Q23=0,,IF(A23=\"lunch\",Q23,))","v":0},{"$f":"IF(Q23=0,,IF(A23=\"dinner\",Q23,))","v":0},{"$f":"IF(Q23=0,,IF(A23=\"other\",Q23,))","v":0},{"$f":"IF((OR($F$4=0,$F$4=\"none\")),IF(R23=0,,IF(OR($E$4='Customer Info'!$D$18,$E$4=0),R23,(R23/$E$4)*'Customer Info'!$D$18)),)","v":0},{"$f":"IF((OR($F$5=0,$F$5=\"none\")),IF(S23=0,,IF(OR($E$5='Customer Info'!$D$19,$E$5=0),S23,(S23/$E$5)*'Customer Info'!$D$19)),)","v":0},{"$f":"IF((OR($F$6=0,$F$6=\"none\")),IF(T23=0,,IF(OR($E$6='Customer Info'!$D$20,$E$6=0),T23,(T23/$E$6)*'Customer Info'!$D$20)),)","v":0},{"$f":"IF((OR($F$7=0,$F$7=\"none\")),IF(U23=0,,IF(OR($E$7='Customer Info'!$D$21,$E$7=0),U23,(U23/$E$7)*'Customer Info'!$D$21)),)","v":0},{"$f":"IF((OR($F$10=0,$F$10=\"none\")),IF(V23=0,,IF(OR($E$10='Customer Info'!$F$18,$E$10=0),V23,(V23/$E$10)*'Customer Info'!$F$18)),)","v":0},{"$f":"IF((OR($F$11=0,$F$11=\"none\")),IF(W23=0,,IF(OR($E$11='Customer Info'!$F$19,$E$11=0),W23,(W23/$E$11)*'Customer Info'!$F$19)),)","v":0},{"$f":"IF((OR($F$12=0,$F$12=\"none\")),IF(X23=0,,IF(OR($E$12='Customer Info'!$F$20,$E$12=0),X23,(X23/$E$12)*'Customer Info'!$F$20)),)","v":0},{"$f":"IF((OR($F$13=0,$F$13=\"none\")),IF(Y23=0,,IF(OR($E$13='Customer Info'!$F$21,$E$13=0),Y23,(Y23/$E$13)*'Customer Info'!$F$21)),)","v":0},{"$f":"IF((OR($F$16=0,$F$16=\"none\")),IF(Z23=0,,IF(OR($E$16='Customer Info'!$H$18,$E$16=0),Z23,(Z23/$E$16)*'Customer Info'!$H$18)),)","v":0},{"$f":"IF((OR($F$17=0,$F$17=\"none\")),IF(AA23=0,,IF(OR($E$17='Customer Info'!$H$19,$E$17=0),AA23,(AA23/$E$17)*'Customer Info'!$H$19)),)","v":0},{"$f":"IF((OR($F$18=0,$F$18=\"none\")),IF(AB23=0,,IF(OR($E$18='Customer Info'!$H$20,$E$18=0),AB23,(AB23/$E$18)*'Customer Info'!$H$20)),)","v":0},{"$f":"IF((OR($F$19=0,$F$19=\"none\")),IF(AC23=0,,IF(OR($E$19='Customer Info'!$H$21,$E$19=0),AC23,(AC23/$E$19)*'Customer Info'!$H$21)),)","v":0},{"$f":"IF((OR($F$4=0,$F$4=\"none\")),IF(AD23=0,,IF(OR($E$4='Customer Info'!$D$18,$E$4=0),AD23,(AD23/$E$4)*'Customer Info'!$D$18)),)","v":0},{"$f":"IF((OR($F$5=0,$F$5=\"none\")),IF(AE23=0,,IF(OR($E$5='Customer Info'!$D$19,$E$5=0),AE23,(AE23/$E$5)*'Customer Info'!$D$19)),)","v":0},{"$f":"IF((OR($F$6=0,$F$6=\"none\")),IF(AF23=0,,IF(OR($E$6='Customer Info'!$D$20,$E$6=0),AF23,(AF23/$E$6)*'Customer Info'!$D$20)),)","v":0},{"$f":"IF((OR($F$7=0,$F$7=\"none\")),IF(AG23=0,,IF(OR($E$7='Customer Info'!$D$21,$E$7=0),AG23,(AG23/$E$7)*'Customer Info'!$D$21)),)","v":0},{"$f":"SUM(AH23:AW23)","v":0},{"$f":"IF(AX23=0,(IF(B23=0, K23,K23*24/B23)),(IF(B23=0, AX23,AX23*24/B23)))","v":9},{"$f":"IF(E23=\"plate waste\",,IF('Customer Info'!$M$18=0,'Log Sheet'!AY23,'Customer Info'!$M$18*'Log Sheet'!AY23))","v":8.6478779840848805},{"$f":"IF(E23=\"plate waste\",IF(OR(C23=\"patient\",C23=\"patient beverages\"),IF('Customer Info'!$M$27=0,AY23*'Customer Info'!$M$18,AY23*'Customer Info'!$M$27),IF(C23=\"cafeteria\",IF('Customer Info'!$M$28=0,AY23*'Customer Info'!$M$18,AY23*'Customer Info'!$M$28),IF(C23=\"other1\",IF('Customer Info'!$M$29=0,AY23*'Customer Info'!$M$18,AY23*'Customer Info'!$M$29),))),)","v":0},{"$f":"SUM(AZ23:BA23)","v":8.6478779840848805},{"$f":"IF($F$4=\"lunch\",IF(S23=0,,(S23/$E$5)*'Customer Info'!$D$18),)","v":0},{"$f":"IF($F$4=\"dinner\",IF(T23=0,,(T23/$E$6)*'Customer Info'!$D$18),)","v":0},{"$f":"IF($F$4=\"other\",IF(U23=0,,(U23/$E$7)*'Customer Info'!$D$18),)","v":0},{"$f":"SUM(BC23:BE23)","v":0},{"$f":"IF($F$5=\"breakfast\",IF(R23=0,,(R23/$E$4)*'Customer Info'!$D$19),)","v":0},{"$f":"IF($F$5=\"dinner\",IF(T23=0,,(T23/$E$6)*'Customer Info'!$D$19),)","v":0},{"$f":"IF($F$5=\"other\",IF(U23=0,,(U23/$E$7)*'Customer Info'!$D$19),)","v":0},{"$f":"SUM(BG23:BI23)","v":0},{"$f":"IF($F$6=\"breakfast\",IF(R23=0,,(R23/$E$4)*'Customer Info'!$D$20),)","v":0},{"$f":"IF($F$6=\"lunch\",IF(S23=0,,(S23/$E$5)*'Customer Info'!$D$20),)","v":0},{"$f":"IF($F$6=\"other\",IF(U23=0,,(U23/$E$7)*'Customer Info'!$D$20),)","v":0},{"$f":"SUM(BK23:BM23)","v":0},{"$f":"IF($F$7=\"breakfast\",IF(R23=0,,(R23/$E$4)*'Customer Info'!$D$21),)","v":0},{"$f":"IF($F$7=\"lunch\",IF(S23=0,,(S23/$E$5)*'Customer Info'!$D$21),)","v":0},{"$f":"IF($F$7=\"dinner\",IF(T23=0,,(T23/$E$6)*'Customer Info'!$D$21),)","v":0},{"$f":"SUM(BO23:BQ23)","v":0},{"$f":"IF($F$10=\"lunch\",IF(W23=0,,(W23/$E$11)*'Customer Info'!$F$18),)","v":0},{"$f":"IF($F$10=\"dinner\",IF(X23=0,,(X23/$E$12)*'Customer Info'!$F$18),)","v":0},{"$f":"IF($F$10=\"other\",IF(Y23=0,,(Y23/$E$13)*'Customer Info'!$F$18),)","v":0},{"$f":"SUM(BS23:BU23)","v":0},{"$f":"IF($F$11=\"breakfast\",IF(V23=0,,(V23/$E$10)*'Customer Info'!$F$19),)","v":0},{"$f":"IF($F$11=\"dinner\",IF(X23=0,,(X23/$E$12)*'Customer Info'!$F$19),)","v":0},{"$f":"IF($F$11=\"other\",IF(Y23=0,,(Y23/$E$13)*'Customer Info'!$F$19),)","v":0},{"$f":"SUM(BW23:BY23)","v":0},{"$f":"IF($F$12=\"breakfast\",IF(V23=0,,(V23/$E$10)*'Customer Info'!$F$20),)","v":0},{"$f":"IF($F$12=\"lunch\",IF(W23=0,,(W23/$E$11)*'Customer Info'!$F$20),)","v":0},{"$f":"IF($F$12=\"other\",IF(Y23=0,,(Y23/$E$13)*'Customer Info'!$F$20),)","v":0},{"$f":"SUM(CA23:CC23)","v":0},{"$f":"IF($F$13=\"breakfast\",IF(V23=0,,(V23/$E$10)*'Customer Info'!$F$21),)","v":0},{"$f":"IF($F$13=\"lunch\",IF(W23=0,,(W23/$E$11)*'Customer Info'!$F$21),)","v":0},{"$f":"IF($F$13=\"dinner\",IF(X23=0,,(X23/$E$12)*'Customer Info'!$F$21),)","v":0},{"$f":"SUM(CE23:CG23)","v":0},{"$f":"IF($F$16=\"lunch\",IF(AA23=0,,(AA23/$E$17)*'Customer Info'!$H$18),)","v":0},{"$f":"IF($F$16=\"dinner\",IF(AB23=0,,(AB23/$E$18)*'Customer Info'!$H$18),)","v":0},{"$f":"IF($F$16=\"other\",IF(AC23=0,,(AC23/$E$19)*'Customer Info'!$H$18),)","v":0},{"$f":"SUM(CI23:CK23)","v":0},{"$f":"IF($F$17=\"breakfast\",IF(Z23=0,,(Z23/$E$16)*'Customer Info'!$H$19),)","v":0},{"$f":"IF($F$17=\"dinner\",IF(AB23=0,,(AB23/$E$18)*'Customer Info'!$H$19),)","v":0},{"$f":"IF($F$17=\"other\",IF(AC23=0,,(AC23/$E$19)*'Customer Info'!$H$19),)","v":0},{"$f":"SUM(CM23:CO23)","v":0},{"$f":"IF($F$18=\"breakfast\",IF(Z23=0,,(Z23/$E$16)*'Customer Info'!$H$20),)","v":0},{"$f":"IF($F$18=\"lunch\",IF(AA23=0,,(AA23/$E$17)*'Customer Info'!$H$20),)","v":0},{"$f":"IF($F$18=\"other\",IF(AC23=0,,(AC23/$E$19)*'Customer Info'!$H$20),)","v":0},{"$f":"SUM(CQ23:CS23)","v":0},{"$f":"IF($F$19=\"breakfast\",IF(Z23=0,,(Z23/$E$16)*'Customer Info'!$H$21),)","v":0},{"$f":"IF($F$19=\"lunch\",IF(AA23=0,,(AA23/$E$17)*'Customer Info'!$H$21),)","v":0},{"$f":"IF($F$19=\"dinner\",IF(AB23=0,,(AB23/$E$18)*'Customer Info'!$H$21),)","v":0},{"$f":"SUM(CU23:CW23)","v":0},{"$f":"IF(E23=\"plate waste\",BB23,)","v":0},{"$f":"IF(E23=\"plate waste\",,BB23)","v":8.6478779840848805},{"$f":"IF(Q23=0,,I23*(L23/K23))","v":0},{"$f":"IF(Q23=0,,L23)","v":0},{"$f":"IF(I23>0,A23,\"\")","v":""}]
["dinner",null,"kitchen","donation","surplus","Rice, pasta",2,18,null,"Freeze for food bank",16,{"$f":"BB24","v":15.374005305039788},0,0,{"$f":"IF(M24=0,,IF(C24=\"cafeteria\",M24,))","v":0},0,0,0,0,0,0,0,0,0,0,0,0,0,0,0,0,0,0,{"$f":"IF((OR($F$4=0,$F$4=\"none\")),IF(R24=0,,IF(OR($E$4='Customer Info'!$D$18,$E$4=0),R24,(R24/$E$4)*'Customer Info'!$D$18)),)","v":0},{"$f":"IF((OR($F$5=0,$F$5=\"none\")),IF(S24=0,,IF(OR($E$5='Customer Info'!$D$18,$E$5=0),S24,(S24/$E$5)*'Customer Info'!$D$19)),)","v":0},{"$f":"IF((OR($F$6=0,$F$6=\"none\")),IF(T24=0,,IF(OR($E$6='Customer Info'!$D$18,$E$6=0),T24,(T24/$E$6)*'Customer Info'!$D$20)),)","v":0},{"$f":"IF((OR($F$7=0,$F$7=\"none\")),IF(U24=0,,IF(OR($E$7='Customer Info'!$D$18,$E$7=0),U24,(U24/$E$7)*'Customer Info'!$D$21)),)","v":0},{"$f":"IF((OR($F$10=0,$F$10=\"none\")),IF(V24=0,,IF(OR($E$10='Customer Info'!$F$18,$E$10=0),V24,(V24/$E$10)*'Customer Info'!$F$18)),)","v":0},{"$f":"IF((OR($F$11=0,$F$11=\"none\")),IF(W24=0,,IF(OR($E$11='Customer Info'!$F$19,$E$11=0),W24,(W24/$E$11)*'Customer Info'!$F$19)),)","v":0},{"$f":"IF((OR($F$12=0,$F$12=\"none\")),IF(X24=0,,IF(OR($E$12='Customer Info'!$F$20,$E$12=0),X24,(X24/$E$12)*'Customer Info'!$F$20)),)","v":0},{"$f":"IF((OR($F$13=0,$F$13=\"none\")),IF(Y24=0,,IF(OR($E$13='Customer Info'!$F$21,$E$13=0),Y24,(Y24/$E$13)*'Customer Info'!$F$21)),)","v":0},{"$f":"IF((OR($F$16=0,$F$16=\"none\")),IF(Z24=0,,IF(OR($E$16='Customer Info'!$H$18,$E$16=0),Z24,(Z24/$E$16)*'Customer Info'!$H$18)),)","v":0},{"$f":"IF((OR($F$17=0,$F$17=\"none\")),IF(AA24=0,,IF(OR($E$17='Customer Info'!$H$19,$E$17=0),AA24,(AA24/$E$17)*'Customer Info'!$H$19)),)","v":0},{"$f":"IF((OR($F$18=0,$F$18=\"none\")),IF(AB24=0,,IF(OR($E$18='Customer Info'!$H$20,$E$18=0),AB24,(AB24/$E$18)*'Customer Info'!$H$20)),)","v":0},{"$f":"IF((OR($F$19=0,$F$19=\"none\")),IF(AC24=0,,IF(OR($E$19='Customer Info'!$H$21,$E$19=0),AC24,(AC24/$E$19)*'Customer Info'!$H$21)),)","v":0},{"$f":"IF((OR($F$4=0,$F$4=\"none\")),IF(AD24=0,,IF(OR($E$4='Customer Info'!$D$18,$E$4=0),AD24,(AD24/$E$4)*'Customer Info'!$D$18)),)","v":0},{"$f":"IF((OR($F$5=0,$F$5=\"none\")),IF(AE24=0,,IF(OR($E$5='Customer Info'!$D$19,$E$5=0),AE24,(AE24/$E$5)*'Customer Info'!$D$19)),)","v":0},{"$f":"IF((OR($F$6=0,$F$6=\"none\")),IF(AF24=0,,IF(OR($E$6='Customer Info'!$D$20,$E$6=0),AF24,(AF24/$E$6)*'Customer Info'!$D$20)),)","v":0},{"$f":"IF((OR($F$7=0,$F$7=\"none\")),IF(AG24=0,,IF(OR($E$7='Customer Info'!$D$21,$E$7=0),AG24,(AG24/$E$7)*'Customer Info'!$D$21)),)","v":0},{"$f":"SUM(AH24:AW24)","v":0},16,{"$f":"IF(E24=\"plate waste\",,IF('Customer Info'!$M$18=0,'Log Sheet'!AY24,'Customer Info'!$M$18*'Log Sheet'!AY24))","v":15.374005305039788},{"$f":"IF(E24=\"plate waste\",IF(OR(C24=\"patient\",C24=\"patient beverages\"),IF('Customer Info'!$M$27=0,AY24*'Customer Info'!$M$18,AY24*'Customer Info'!$M$27),IF(C24=\"cafeteria\",IF('Customer Info'!$M$28=0,AY24*'Customer Info'!$M$18,AY24*'Customer Info'!$M$28),IF(C24=\"other1\",IF('Customer Info'!$M$29=0,AY24*'Customer Info'!$M$18,AY24*'Customer Info'!$M$29),))),)","v":0},{"$f":"SUM(AZ24:BA24)","v":15.374005305039788},{"$f":"IF($F$4=\"lunch\",IF(S24=0,,(S24/$E$5)*'Customer Info'!$D$18),)","v":0},{"$f":"IF($F$4=\"dinner\",IF(T24=0,,(T24/$E$6)*'Customer Info'!$D$18),)","v":0},{"$f":"IF($F$4=\"other\",IF(U24=0,,(U24/$E$7)*'Customer Info'!$D$18),)","v":0},{"$f":"SUM(BC24:BE24)","v":0},{"$f":"IF($F$5=\"breakfast\",IF(R24=0,,(R24/$E$4)*'Customer Info'!$D$19),)","v":0},{"$f":"IF($F$5=\"dinner\",IF(T24=0,,(T24/$E$6)*'Customer Info'!$D$19),)","v":0},{"$f":"IF($F$5=\"other\",IF(U24=0,,(U24/$E$7)*'Customer Info'!$D$19),)","v":0},{"$f":"SUM(BG24:BI24)","v":0},{"$f":"IF($F$6=\"breakfast\",IF(R24=0,,(R24/$E$4)*'Customer Info'!$D$20),)","v":0},{"$f":"IF($F$6=\"lunch\",IF(S24=0,,(S24/$E$5)*'Customer Info'!$D$20),)","v":0},{"$f":"IF($F$6=\"other\",IF(U24=0,,(U24/$E$7)*'Customer Info'!$D$20),)","v":0},{"$f":"SUM(BK24:BM24)","v":0},{"$f":"IF($F$7=\"breakfast\",IF(R24=0,,(R24/$E$4)*'Customer Info'!$D$21),)","v":0},{"$f":"IF($F$7=\"lunch\",IF(S24=0,,(S24/$E$5)*'Customer Info'!$D$21),)","v":0},{"$f":"IF($F$7=\"dinner\",IF(T24=0,,(T24/$E$6)*'Customer Info'!$D$21),)","v":0},{"$f":"SUM(BO24:BQ24)","v":0},{"$f":"IF($F$10=\"lunch\",IF(W24=0,,(W24/$E$11)*'Customer Info'!$F$18),)","v":0},{"$f":"IF($F$10=\"dinner\",IF(X24=0,,(X24/$E$12)*'Customer Info'!$F$18),)","v":0},{"$f":"IF($F$10=\"other\",IF(Y24=0,,(Y24/$E$13)*'Customer Info'!$F$18),)","v":0},{"$f":"SUM(BS24:BU24)","v":0},{"$f":"IF($F$11=\"breakfast\",IF(V24=0,,(V24/$E$10)*'Customer Info'!$F$19),)","v":0},{"$f":"IF($F$11=\"dinner\",IF(X24=0,,(X24/$E$12)*'Customer Info'!$F$19),)","v":0},{"$f":"IF($F$11=\"other\",IF(Y24=0,,(Y24/$E$13)*'Customer Info'!$F$19),)","v":0},{"$f":"SUM(BW24:BY24)","v":0},{"$f":"IF($F$12=\"breakfast\",IF(V24=0,,(V24/$E$10)*'Customer Info'!$F$20),)","v":0},{"$f":"IF($F$12=\"lunch\",IF(W24=0,,(W24/$E$11)*'Customer Info'!$F$20),)","v":0},{"$f":"IF($F$12=\"other\",IF(Y24=0,,(Y24/$E$13)*'Customer Info'!$F$20),)","v":0},{"$f":"SUM(CA24:CC24)","v":0},{"$f":"IF($F$13=\"breakfast\",IF(V24=0,,(V24/$E$10)*'Customer Info'!$F$21),)","v":0},{"$f":"IF($F$13=\"lunch\",IF(W24=0,,(W24/$E$11)*'Customer Info'!$F$21),)","v":0},{"$f":"IF($F$13=\"dinner\",IF(X24=0,,(X24/$E$12)*'Customer Info'!$F$21),)","v":0},{"$f":"SUM(CE24:CG24)","v":0},{"$f":"IF($F$16=\"lunch\",IF(AA24=0,,(AA24/$E$17)*'Customer Info'!$H$18),)","v":0},{"$f":"IF($F$16=\"dinner\",IF(AB24=0,,(AB24/$E$18)*'Customer Info'!$H$18),)","v":0},{"$f":"IF($F$16=\"other\",IF(AC24=0,,(AC24/$E$19)*'Customer Info'!$H$18),)","v":0},{"$f":"SUM(CI24:CK24)","v":0},{"$f":"IF($F$17=\"breakfast\",IF(Z24=0,,(Z24/$E$16)*'Customer Info'!$H$19),)","v":0},{"$f":"IF($F$17=\"dinner\",IF(AB24=0,,(AB24/$E$18)*'Customer Info'!$H$19),)","v":0},{"$f":"IF($F$17=\"other\",IF(AC24=0,,(AC24/$E$19)*'Customer Info'!$H$19),)","v":0},{"$f":"SUM(CM24:CO24)","v":0},{"$f":"IF($F$18=\"breakfast\",IF(Z24=0,,(Z24/$E$16)*'Customer Info'!$H$20),)","v":0},{"$f":"IF($F$18=\"lunch\",IF(AA24=0,,(AA24/$E$17)*'Customer Info'!$H$20),)","v":0},{"$f":"IF($F$18=\"other\",IF(AC24=0,,(AC24/$E$19)*'Customer Info'!$H$20),)","v":0},{"$f":"SUM(CQ24:CS24)","v":0},{"$f":"IF($F$19=\"breakfast\",IF(Z24=0,,(Z24/$E$16)*'Customer Info'!$H$21),)","v":0},{"$f":"IF($F$19=\"lunch\",IF(AA24=0,,(AA24/$E$17)*'Customer Info'!$H$21),)","v":0},{"$f":"IF($F$19=\"dinner\",IF(AB24=0,,(AB24/$E$18)*'Customer Info'!$H$21),)","v":0},{"$f":"SUM(CU24:CW24)","v":0},0,15.374005305039788,{"$f":"IF(Q24=0,,I24*(L24/K24))","v":0},{"$f":"IF(Q24=0,,L24)","v":0},{"$f":"IF(I24>0,A24,\"\")","v":""}]
["breakfast",null,"kitchen","compost","prep waste","Cut watermelon and cantaloupe rinds",2,34.200000000000003,null,null,32.200000000000003,{"$f":"BB25","v":30.940185676392574},0,0,0,0,0,0,0,0,0,0,0,0,0,0,0,0,0,0,0,0,0,{"$f":"IF((OR($F$4=0,$F$4=\"none\")),IF(R25=0,,IF(OR($E$4='Customer Info'!$D$18,$E$4=0),R25,(R25/$E$4)*'Customer Info'!$D$18)),)","v":0},{"$f":"IF((OR($F$5=0,$F$5=\"none\")),IF(S25=0,,IF(OR($E$5='Customer Info'!$D$18,$E$5=0),S25,(S25/$E$5)*'Customer Info'!$D$19)),)","v":0},{"$f":"IF((OR($F$6=0,$F$6=\"none\")),IF(T25=0,,IF(OR($E$6='Customer Info'!$D$18,$E$6=0),T25,(T25/$E$6)*'Customer Info'!$D$20)),)","v":0},{"$f":"IF((OR($F$7=0,$F$7=\"none\")),IF(U25=0,,IF(OR($E$7='Customer Info'!$D$18,$E$7=0),U25,(U25/$E$7)*'Customer Info'!$D$21)),)","v":0},{"$f":"IF((OR($F$10=0,$F$10=\"none\")),IF(V25=0,,IF(OR($E$10='Customer Info'!$F$18,$E$10=0),V25,(V25/$E$10)*'Customer Info'!$F$18)),)","v":0},{"$f":"IF((OR($F$11=0,$F$11=\"none\")),IF(W25=0,,IF(OR($E$11='Customer Info'!$F$19,$E$11=0),W25,(W25/$E$11)*'Customer Info'!$F$19)),)","v":0},{"$f":"IF((OR($F$12=0,$F$12=\"none\")),IF(X25=0,,IF(OR($E$12='Customer Info'!$F$20,$E$12=0),X25,(X25/$E$12)*'Customer Info'!$F$20)),)","v":0},{"$f":"IF((OR($F$13=0,$F$13=\"none\")),IF(Y25=0,,IF(OR($E$13='Customer Info'!$F$21,$E$13=0),Y25,(Y25/$E$13)*'Customer Info'!$F$21)),)","v":0},{"$f":"IF((OR($F$16=0,$F$16=\"none\")),IF(Z25=0,,IF(OR($E$16='Customer Info'!$H$18,$E$16=0),Z25,(Z25/$E$16)*'Customer Info'!$H$18)),)","v":0},{"$f":"IF((OR($F$17=0,$F$17=\"none\")),IF(AA25=0,,IF(OR($E$17='Customer Info'!$H$19,$E$17=0),AA25,(AA25/$E$17)*'Customer Info'!$H$19)),)","v":0},{"$f":"IF((OR($F$18=0,$F$18=\"none\")),IF(AB25=0,,IF(OR($E$18='Customer Info'!$H$20,$E$18=0),AB25,(AB25/$E$18)*'Customer Info'!$H$20)),)","v":0},{"$f":"IF((OR($F$19=0,$F$19=\"none\")),IF(AC25=0,,IF(OR($E$19='Customer Info'!$H$21,$E$19=0),AC25,(AC25/$E$19)*'Customer Info'!$H$21)),)","v":0},{"$f":"IF((OR($F$4=0,$F$4=\"none\")),IF(AD25=0,,IF(OR($E$4='Customer Info'!$D$18,$E$4=0),AD25,(AD25/$E$4)*'Customer Info'!$D$18)),)","v":0},{"$f":"IF((OR($F$5=0,$F$5=\"none\")),IF(AE25=0,,IF(OR($E$5='Customer Info'!$D$19,$E$5=0),AE25,(AE25/$E$5)*'Customer Info'!$D$19)),)","v":0},{"$f":"IF((OR($F$6=0,$F$6=\"none\")),IF(AF25=0,,IF(OR($E$6='Customer Info'!$D$20,$E$6=0),AF25,(AF25/$E$6)*'Customer Info'!$D$20)),)","v":0},{"$f":"IF((OR($F$7=0,$F$7=\"none\")),IF(AG25=0,,IF(OR($E$7='Customer Info'!$D$21,$E$7=0),AG25,(AG25/$E$7)*'Customer Info'!$D$21)),)","v":0},0,32.200000000000003,{"$f":"IF(E25=\"plate waste\",,IF('Customer Info'!$M$18=0,'Log Sheet'!AY25,'Customer Info'!$M$18*'Log Sheet'!AY25))","v":30.940185676392574},{"$f":"IF(E25=\"plate waste\",IF(OR(C25=\"patient\",C25=\"patient beverages\"),IF('Customer Info'!$M$27=0,AY25*'Customer Info'!$M$18,AY25*'Customer Info'!$M$27),IF(C25=\"cafeteria\",IF('Customer Info'!$M$28=0,AY25*'Customer Info'!$M$18,AY25*'Customer Info'!$M$28),IF(C25=\"other1\",IF('Customer Info'!$M$29=0,AY25*'Customer Info'!$M$18,AY25*'Customer Info'!$M$29),))),)","v":0},{"$f":"SUM(AZ25:BA25)","v":30.940185676392574},{"$f":"IF($F$4=\"lunch\",IF(S25=0,,(S25/$E$5)*'Customer Info'!$D$18),)","v":0},{"$f":"IF($F$4=\"dinner\",IF(T25=0,,(T25/$E$6)*'Customer Info'!$D$18),)","v":0},{"$f":"IF($F$4=\"other\",IF(U25=0,,(U25/$E$7)*'Customer Info'!$D$18),)","v":0},0,{"$f":"IF($F$5=\"breakfast\",IF(R25=0,,(R25/$E$4)*'Customer Info'!$D$19),)","v":0},{"$f":"IF($F$5=\"dinner\",IF(T25=0,,(T25/$E$6)*'Customer Info'!$D$19),)","v":0},{"$f":"IF($F$5=\"other\",IF(U25=0,,(U25/$E$7)*'Customer Info'!$D$19),)","v":0},0,{"$f":"IF($F$6=\"breakfast\",IF(R25=0,,(R25/$E$4)*'Customer Info'!$D$20),)","v":0},{"$f":"IF($F$6=\"lunch\",IF(S25=0,,(S25/$E$5)*'Customer Info'!$D$20),)","v":0},{"$f":"IF($F$6=\"other\",IF(U25=0,,(U25/$E$7)*'Customer Info'!$D$20),)","v":0},0,{"$f":"IF($F$7=\"breakfast\",IF(R25=0,,(R25/$E$4)*'Customer Info'!$D$21),)","v":0},{"$f":"IF($F$7=\"lunch\",IF(S25=0,,(S25/$E$5)*'Customer Info'!$D$21),)","v":0},{"$f":"IF($F$7=\"dinner\",IF(T25=0,,(T25/$E$6)*'Customer Info'!$D$21),)","v":0},0,{"$f":"IF($F$10=\"lunch\",IF(W25=0,,(W25/$E$11)*'Customer Info'!$F$18),)","v":0},{"$f":"IF($F$10=\"dinner\",IF(X25=0,,(X25/$E$12)*'Customer Info'!$F$18),)","v":0},{"$f":"IF($F$10=\"other\",IF(Y25=0,,(Y25/$E$13)*'Customer Info'!$F$18),)","v":0},0,{"$f":"IF($F$11=\"breakfast\",IF(V25=0,,(V25/$E$10)*'Customer Info'!$F$19),)","v":0},{"$f":"IF($F$11=\"dinner\",IF(X25=0,,(X25/$E$12)*'Customer Info'!$F$19),)","v":0},{"$f":"IF($F$11=\"other\",IF(Y25=0,,(Y25/$E$13)*'Customer Info'!$F$19),)","v":0},0,{"$f":"IF($F$12=\"breakfast\",IF(V25=0,,(V25/$E$10)*'Customer Info'!$F$20),)","v":0},{"$f":"IF($F$12=\"lunch\",IF(W25=0,,(W25/$E$11)*'Customer Info'!$F$20),)","v":0},{"$f":"IF($F$12=\"other\",IF(Y25=0,,(Y25/$E$13)*'Customer Info'!$F$20),)","v":0},0,{"$f":"IF($F$13=\"breakfast\",IF(V25=0,,(V25/$E$10)*'Customer Info'!$F$21),)","v":0},{"$f":"IF($F$13=\"lunch\",IF(W25=0,,(W25/$E$11)*'Customer Info'!$F$21),)","v":0},{"$f":"IF($F$13=\"dinner\",IF(X25=0,,(X25/$E$12)*'Customer Info'!$F$21),)","v":0},0,{"$f":"IF($F$16=\"lunch\",IF(AA25=0,,(AA25/$E$17)*'Customer Info'!$H$18),)","v":0},{"$f":"IF($F$16=\"dinner\",IF(AB25=0,,(AB25/$E$18)*'Customer Info'!$H$18),)","v":0},{"$f":"IF($F$16=\"other\",IF(AC25=0,,(AC25/$E$19)*'Customer Info'!$H$18),)","v":0},0,{"$f":"IF($F$17=\"breakfast\",IF(Z25=0,,(Z25/$E$16)*'Customer Info'!$H$19),)","v":0},{"$f":"IF($F$17=\"dinner\",IF(AB25=0,,(AB25/$E$18)*'Customer Info'!$H$19),)","v":0},{"$f":"IF($F$17=\"other\",IF(AC25=0,,(AC25/$E$19)*'Customer Info'!$H$19),)","v":0},0,{"$f":"IF($F$18=\"breakfast\",IF(Z25=0,,(Z25/$E$16)*'Customer Info'!$H$20),)","v":0},{"$f":"IF($F$18=\"lunch\",IF(AA25=0,,(AA25/$E$17)*'Customer Info'!$H$20),)","v":0},{"$f":"IF($F$18=\"other\",IF(AC25=0,,(AC25/$E$19)*'Customer Info'!$H$20),)","v":0},0,{"$f":"IF($F$19=\"breakfast\",IF(Z25=0,,(Z25/$E$16)*'Customer Info'!$H$21),)","v":0},{"$f":"IF($F$19=\"lunch\",IF(AA25=0,,(AA25/$E$17)*'Customer Info'!$H$21),)","v":0},{"$f":"IF($F$19=\"dinner\",IF(AB25=0,,(AB25/$E$18)*'Customer Info'!$H$21),)","v":0},0,0,30.940185676392574,0,0,""]
["breakfast",null,"kitchen","compost","surplus","Scrambled Eggs, Pancakes",2,5.6,null,null,3.5999999999999996,3.4591511936339518,0,0,0,0,0,0,0,0,0,0,0,0,0,0,0,0,0,0,0,0,0,{"$f":"IF((OR($F$4=0,$F$4=\"none\")),IF(R26=0,,IF(OR($E$4='Customer Info'!$D$18,$E$4=0),R26,(R26/$E$4)*'Customer Info'!$D$18)),)","v":0},{"$f":"IF((OR($F$5=0,$F$5=\"none\")),IF(S26=0,,IF(OR($E$5='Customer Info'!$D$18,$E$5=0),S26,(S26/$E$5)*'Customer Info'!$D$19)),)","v":0},{"$f":"IF((OR($F$6=0,$F$6=\"none\")),IF(T26=0,,IF(OR($E$6='Customer Info'!$D$18,$E$6=0),T26,(T26/$E$6)*'Customer Info'!$D$20)),)","v":0},{"$f":"IF((OR($F$7=0,$F$7=\"none\")),IF(U26=0,,IF(OR($E$7='Customer Info'!$D$18,$E$7=0),U26,(U26/$E$7)*'Customer Info'!$D$21)),)","v":0},{"$f":"IF((OR($F$10=0,$F$10=\"none\")),IF(V26=0,,IF(OR($E$10='Customer Info'!$F$18,$E$10=0),V26,(V26/$E$10)*'Customer Info'!$F$18)),)","v":0},{"$f":"IF((OR($F$11=0,$F$11=\"none\")),IF(W26=0,,IF(OR($E$11='Customer Info'!$F$19,$E$11=0),W26,(W26/$E$11)*'Customer Info'!$F$19)),)","v":0},{"$f":"IF((OR($F$12=0,$F$12=\"none\")),IF(X26=0,,IF(OR($E$12='Customer Info'!$F$20,$E$12=0),X26,(X26/$E$12)*'Customer Info'!$F$20)),)","v":0},{"$f":"IF((OR($F$13=0,$F$13=\"none\")),IF(Y26=0,,IF(OR($E$13='Customer Info'!$F$21,$E$13=0),Y26,(Y26/$E$13)*'Customer Info'!$F$21)),)","v":0},{"$f":"IF((OR($F$16=0,$F$16=\"none\")),IF(Z26=0,,IF(OR($E$16='Customer Info'!$H$18,$E$16=0),Z26,(Z26/$E$16)*'Customer Info'!$H$18)),)","v":0},{"$f":"IF((OR($F$17=0,$F$17=\"none\")),IF(AA26=0,,IF(OR($E$17='Customer Info'!$H$19,$E$17=0),AA26,(AA26/$E$17)*'Customer Info'!$H$19)),)","v":0},{"$f":"IF((OR($F$18=0,$F$18=\"none\")),IF(AB26=0,,IF(OR($E$18='Customer Info'!$H$20,$E$18=0),AB26,(AB26/$E$18)*'Customer Info'!$H$20)),)","v":0},{"$f":"IF((OR($F$19=0,$F$19=\"none\")),IF(AC26=0,,IF(OR($E$19='Customer Info'!$H$21,$E$19=0),AC26,(AC26/$E$19)*'Customer Info'!$H$21)),)","v":0},{"$f":"IF((OR($F$4=0,$F$4=\"none\")),IF(AD26=0,,IF(OR($E$4='Customer Info'!$D$18,$E$4=0),AD26,(AD26/$E$4)*'Customer Info'!$D$18)),)","v":0},{"$f":"IF((OR($F$5=0,$F$5=\"none\")),IF(AE26=0,,IF(OR($E$5='Customer Info'!$D$19,$E$5=0),AE26,(AE26/$E$5)*'Customer Info'!$D$19)),)","v":0},{"$f":"IF((OR($F$6=0,$F$6=\"none\")),IF(AF26=0,,IF(OR($E$6='Customer Info'!$D$20,$E$6=0),AF26,(AF26/$E$6)*'Customer Info'!$D$20)),)","v":0},{"$f":"IF((OR($F$7=0,$F$7=\"none\")),IF(AG26=0,,IF(OR($E$7='Customer Info'!$D$21,$E$7=0),AG26,(AG26/$E$7)*'Customer Info'!$D$21)),)","v":0},0,3.5999999999999996,{"$f":"IF(E26=\"plate waste\",,IF('Customer Info'!$M$18=0,'Log Sheet'!AY26,'Customer Info'!$M$18*'Log Sheet'!AY26))","v":3.4591511936339518},{"$f":"IF(E26=\"plate waste\",IF(OR(C26=\"patient\",C26=\"patient beverages\"),IF('Customer Info'!$M$27=0,AY26*'Customer Info'!$M$18,AY26*'Customer Info'!$M$27),IF(C26=\"cafeteria\",IF('Customer Info'!$M$28=0,AY26*'Customer Info'!$M$18,AY26*'Customer Info'!$M$28),IF(C26=\"other1\",IF('Customer Info'!$M$29=0,AY26*'Customer Info'!$M$18,AY26*'Customer Info'!$M$29),))),)","v":0},3.4591511936339518,{"$f":"IF($F$4=\"lunch\",IF(S26=0,,(S26/$E$5)*'Customer Info'!$D$18),)","v":0},{"$f":"IF($F$4=\"dinner\",IF(T26=0,,(T26/$E$6)*'Customer Info'!$D$18),)","v":0},{"$f":"IF($F$4=\"other\",IF(U26=0,,(U26/$E$7)*'Customer Info'!$D$18),)","v":0},0,{"$f":"IF($F$5=\"breakfast\",IF(R26=0,,(R26/$E$4)*'Customer Info'!$D$19),)","v":0},{"$f":"IF($F$5=\"dinner\",IF(T26=0,,(T26/$E$6)*'Customer Info'!$D$19),)","v":0},{"$f":"IF($F$5=\"other\",IF(U26=0,,(U26/$E$7)*'Customer Info'!$D$19),)","v":0},0,{"$f":"IF($F$6=\"breakfast\",IF(R26=0,,(R26/$E$4)*'Customer Info'!$D$20),)","v":0},{"$f":"IF($F$6=\"lunch\",IF(S26=0,,(S26/$E$5)*'Customer Info'!$D$20),)","v":0},{"$f":"IF($F$6=\"other\",IF(U26=0,,(U26/$E$7)*'Customer Info'!$D$20),)","v":0},0,{"$f":"IF($F$7=\"breakfast\",IF(R26=0,,(R26/$E$4)*'Customer Info'!$D$21),)","v":0},{"$f":"IF($F$7=\"lunch\",IF(S26=0,,(S26/$E$5)*'Customer Info'!$D$21),)","v":0},{"$f":"IF($F$7=\"dinner\",IF(T26=0,,(T26/$E$6)*'Customer Info'!$D$21),)","v":0},0,{"$f":"IF($F$10=\"lunch\",IF(W26=0,,(W26/$E$11)*'Customer Info'!$F$18),)","v":0},{"$f":"IF($F$10=\"dinner\",IF(X26=0,,(X26/$E$12)*'Customer Info'!$F$18),)","v":0},{"$f":"IF($F$10=\"other\",IF(Y26=0,,(Y26/$E$13)*'Customer Info'!$F$18),)","v":0},0,{"$f":"IF($F$11=\"breakfast\",IF(V26=0,,(V26/$E$10)*'Customer Info'!$F$19),)","v":0},{"$f":"IF($F$11=\"dinner\",IF(X26=0,,(X26/$E$12)*'Customer Info'!$F$19),)","v":0},{"$f":"IF($F$11=\"other\",IF(Y26=0,,(Y26/$E$13)*'Customer Info'!$F$19),)","v":0},0,{"$f":"IF($F$12=\"breakfast\",IF(V26=0,,(V26/$E$10)*'Customer Info'!$F$20),)","v":0},{"$f":"IF($F$12=\"lunch\",IF(W26=0,,(W26/$E$11)*'Customer Info'!$F$20),)","v":0},{"$f":"IF($F$12=\"other\",IF(Y26=0,,(Y26/$E$13)*'Customer Info'!$F$20),)","v":0},0,{"$f":"IF($F$13=\"breakfast\",IF(V26=0,,(V26/$E$10)*'Customer Info'!$F$21),)","v":0},{"$f":"IF($F$13=\"lunch\",IF(W26=0,,(W26/$E$11)*'Customer Info'!$F$21),)","v":0},{"$f":"IF($F$13=\"dinner\",IF(X26=0,,(X26/$E$12)*'Customer Info'!$F$21),)","v":0},0,{"$f":"IF($F$16=\"lunch\",IF(AA26=0,,(AA26/$E$17)*'Customer Info'!$H$18),)","v":0},{"$f":"IF($F$16=\"dinner\",IF(AB26=0,,(AB26/$E$18)*'Customer Info'!$H$18),)","v":0},{"$f":"IF($F$16=\"other\",IF(AC26=0,,(AC26/$E$19)*'Customer Info'!$H$18),)","v":0},0,{"$f":"IF($F$17=\"breakfast\",IF(Z26=0,,(Z26/$E$16)*'Customer Info'!$H$19),)","v":0},{"$f":"IF($F$17=\"dinner\",IF(AB26=0,,(AB26/$E$18)*'Customer Info'!$H$19),)","v":0},{"$f":"IF($F$17=\"other\",IF(AC26=0,,(AC26/$E$19)*'Customer Info'!$H$19),)","v":0},0,{"$f":"IF($F$18=\"breakfast\",IF(Z26=0,,(Z26/$E$16)*'Customer Info'!$H$20),)","v":0},{"$f":"IF($F$18=\"lunch\",IF(AA26=0,,(AA26/$E$17)*'Customer Info'!$H$20),)","v":0},{"$f":"IF($F$18=\"other\",IF(AC26=0,,(AC26/$E$19)*'Customer Info'!$H$20),)","v":0},0,{"$f":"IF($F$19=\"breakfast\",IF(Z26=0,,(Z26/$E$16)*'Customer Info'!$H$21),)","v":0},{"$f":"IF($F$19=\"lunch\",IF(AA26=0,,(AA26/$E$17)*'Customer Info'!$H$21),)","v":0},{"$f":"IF($F$19=\"dinner\",IF(AB26=0,,(AB26/$E$18)*'Customer Info'!$H$21),)","v":0},0,0,3.4591511936339518,0,0,""]
["breakfast",null,"patient","landfill","surplus","Pan scrapes, leftovers from serving line",3,11.4,null,null,8.4,8.0713527851458888,0,0,0,0,0,0,0,0,0,0,0,0,0,0,0,0,0,0,0,0,0,{"$f":"IF((OR($F$4=0,$F$4=\"none\")),IF(R27=0,,IF(OR($E$4='Customer Info'!$D$18,$E$4=0),R27,(R27/$E$4)*'Customer Info'!$D$18)),)","v":0},{"$f":"IF((OR($F$5=0,$F$5=\"none\")),IF(S27=0,,IF(OR($E$5='Customer Info'!$D$18,$E$5=0),S27,(S27/$E$5)*'Customer Info'!$D$19)),)","v":0},{"$f":"IF((OR($F$6=0,$F$6=\"none\")),IF(T27=0,,IF(OR($E$6='Customer Info'!$D$18,$E$6=0),T27,(T27/$E$6)*'Customer Info'!$D$20)),)","v":0},{"$f":"IF((OR($F$7=0,$F$7=\"none\")),IF(U27=0,,IF(OR($E$7='Customer Info'!$D$18,$E$7=0),U27,(U27/$E$7)*'Customer Info'!$D$21)),)","v":0},{"$f":"IF((OR($F$10=0,$F$10=\"none\")),IF(V27=0,,IF(OR($E$10='Customer Info'!$F$18,$E$10=0),V27,(V27/$E$10)*'Customer Info'!$F$18)),)","v":0},{"$f":"IF((OR($F$11=0,$F$11=\"none\")),IF(W27=0,,IF(OR($E$11='Customer Info'!$F$19,$E$11=0),W27,(W27/$E$11)*'Customer Info'!$F$19)),)","v":0},{"$f":"IF((OR($F$12=0,$F$12=\"none\")),IF(X27=0,,IF(OR($E$12='Customer Info'!$F$20,$E$12=0),X27,(X27/$E$12)*'Customer Info'!$F$20)),)","v":0},{"$f":"IF((OR($F$13=0,$F$13=\"none\")),IF(Y27=0,,IF(OR($E$13='Customer Info'!$F$21,$E$13=0),Y27,(Y27/$E$13)*'Customer Info'!$F$21)),)","v":0},{"$f":"IF((OR($F$16=0,$F$16=\"none\")),IF(Z27=0,,IF(OR($E$16='Customer Info'!$H$18,$E$16=0),Z27,(Z27/$E$16)*'Customer Info'!$H$18)),)","v":0},{"$f":"IF((OR($F$17=0,$F$17=\"none\")),IF(AA27=0,,IF(OR($E$17='Customer Info'!$H$19,$E$17=0),AA27,(AA27/$E$17)*'Customer Info'!$H$19)),)","v":0},{"$f":"IF((OR($F$18=0,$F$18=\"none\")),IF(AB27=0,,IF(OR($E$18='Customer Info'!$H$20,$E$18=0),AB27,(AB27/$E$18)*'Customer Info'!$H$20)),)","v":0},{"$f":"IF((OR($F$19=0,$F$19=\"none\")),IF(AC27=0,,IF(OR($E$19='Customer Info'!$H$21,$E$19=0),AC27,(AC27/$E$19)*'Customer Info'!$H$21)),)","v":0},{"$f":"IF((OR($F$4=0,$F$4=\"none\")),IF(AD27=0,,IF(OR($E$4='Customer Info'!$D$18,$E$4=0),AD27,(AD27/$E$4)*'Customer Info'!$D$18)),)","v":0},{"$f":"IF((OR($F$5=0,$F$5=\"none\")),IF(AE27=0,,IF(OR($E$5='Customer Info'!$D$19,$E$5=0),AE27,(AE27/$E$5)*'Customer Info'!$D$19)),)","v":0},{"$f":"IF((OR($F$6=0,$F$6=\"none\")),IF(AF27=0,,IF(OR($E$6='Customer Info'!$D$20,$E$6=0),AF27,(AF27/$E$6)*'Customer Info'!$D$20)),)","v":0},{"$f":"IF((OR($F$7=0,$F$7=\"none\")),IF(AG27=0,,IF(OR($E$7='Customer Info'!$D$21,$E$7=0),AG27,(AG27/$E$7)*'Customer Info'!$D$21)),)","v":0},0,8.4,{"$f":"IF(E27=\"plate waste\",,IF('Customer Info'!$M$18=0,'Log Sheet'!AY27,'Customer Info'!$M$18*'Log Sheet'!AY27))","v":8.0713527851458888},{"$f":"IF(E27=\"plate waste\",IF(OR(C27=\"patient\",C27=\"patient beverages\"),IF('Customer Info'!$M$27=0,AY27*'Customer Info'!$M$18,AY27*'Customer Info'!$M$27),IF(C27=\"cafeteria\",IF('Customer Info'!$M$28=0,AY27*'Customer Info'!$M$18,AY27*'Customer Info'!$M$28),IF(C27=\"other1\",IF('Customer Info'!$M$29=0,AY27*'Customer Info'!$M$18,AY27*'Customer Info'!$M$29),))),)","v":0},8.0713527851458888,{"$f":"IF($F$4=\"lunch\",IF(S27=0,,(S27/$E$5)*'Customer Info'!$D$18),)","v":0},{"$f":"IF($F$4=\"dinner\",IF(T27=0,,(T27/$E$6)*'Customer Info'!$D$18),)","v":0},{"$f":"IF($F$4=\"other\",IF(U27=0,,(U27/$E$7)*'Customer Info'!$D$18),)","v":0},0,{"$f":"IF($F$5=\"breakfast\",IF(R27=0,,(R27/$E$4)*'Customer Info'!$D$19),)","v":0},{"$f":"IF($F$5=\"dinner\",IF(T27=0,,(T27/$E$6)*'Customer Info'!$D$19),)","v":0},{"$f":"IF($F$5=\"other\",IF(U27=0,,(U27/$E$7)*'Customer Info'!$D$19),)","v":0},0,{"$f":"IF($F$6=\"breakfast\",IF(R27=0,,(R27/$E$4)*'Customer Info'!$D$20),)","v":0},{"$f":"IF($F$6=\"lunch\",IF(S27=0,,(S27/$E$5)*'Customer Info'!$D$20),)","v":0},{"$f":"IF($F$6=\"other\",IF(U27=0,,(U27/$E$7)*'Customer Info'!$D$20),)","v":0},0,{"$f":"IF($F$7=\"breakfast\",IF(R27=0,,(R27/$E$4)*'Customer Info'!$D$21),)","v":0},{"$f":"IF($F$7=\"lunch\",IF(S27=0,,(S27/$E$5)*'Customer Info'!$D$21),)","v":0},{"$f":"IF($F$7=\"dinner\",IF(T27=0,,(T27/$E$6)*'Customer Info'!$D$21),)","v":0},0,{"$f":"IF($F$10=\"lunch\",IF(W27=0,,(W27/$E$11)*'Customer Info'!$F$18),)","v":0},{"$f":"IF($F$10=\"dinner\",IF(X27=0,,(X27/$E$12)*'Customer Info'!$F$18),)","v":0},{"$f":"IF($F$10=\"other\",IF(Y27=0,,(Y27/$E$13)*'Customer Info'!$F$18),)","v":0},0,{"$f":"IF($F$11=\"breakfast\",IF(V27=0,,(V27/$E$10)*'Customer Info'!$F$19),)","v":0},{"$f":"IF($F$11=\"dinner\",IF(X27=0,,(X27/$E$12)*'Customer Info'!$F$19),)","v":0},{"$f":"IF($F$11=\"other\",IF(Y27=0,,(Y27/$E$13)*'Customer Info'!$F$19),)","v":0},0,{"$f":"IF($F$12=\"breakfast\",IF(V27=0,,(V27/$E$10)*'Customer Info'!$F$20),)","v":0},{"$f":"IF($F$12=\"lunch\",IF(W27=0,,(W27/$E$11)*'Customer Info'!$F$20),)","v":0},{"$f":"IF($F$12=\"other\",IF(Y27=0,,(Y27/$E$13)*'Customer Info'!$F$20),)","v":0},0,{"$f":"IF($F$13=\"breakfast\",IF(V27=0,,(V27/$E$10)*'Customer Info'!$F$21),)","v":0},{"$f":"IF($F$13=\"lunch\",IF(W27=0,,(W27/$E$11)*'Customer Info'!$F$21),)","v":0},{"$f":"IF($F$13=\"dinner\",IF(X27=0,,(X27/$E$12)*'Customer Info'!$F$21),)","v":0},0,{"$f":"IF($F$16=\"lunch\",IF(AA27=0,,(AA27/$E$17)*'Customer Info'!$H$18),)","v":0},{"$f":"IF($F$16=\"dinner\",IF(AB27=0,,(AB27/$E$18)*'Customer Info'!$H$18),)","v":0},{"$f":"IF($F$16=\"other\",IF(AC27=0,,(AC27/$E$19)*'Customer Info'!$H$18),)","v":0},0,{"$f":"IF($F$17=\"breakfast\",IF(Z27=0,,(Z27/$E$16)*'Customer Info'!$H$19),)","v":0},{"$f":"IF($F$17=\"dinner\",IF(AB27=0,,(AB27/$E$18)*'Customer Info'!$H$19),)","v":0},{"$f":"IF($F$17=\"other\",IF(AC27=0,,(AC27/$E$19)*'Customer Info'!$H$19),)","v":0},0,{"$f":"IF($F$18=\"breakfast\",IF(Z27=0,,(Z27/$E$16)*'Customer Info'!$H$20),)","v":0},{"$f":"IF($F$18=\"lunch\",IF(AA27=0,,(AA27/$E$17)*'Customer Info'!$H$20),)","v":0},{"$f":"IF($F$18=\"other\",IF(AC27=0,,(AC27/$E$19)*'Customer Info'!$H$20),)","v":0},0,{"$f":"IF($F$19=\"breakfast\",IF(Z27=0,,(Z27/$E$16)*'Customer Info'!$H$21),)","v":0},{"$f":"IF($F$19=\"lunch\",IF(AA27=0,,(AA27/$E$17)*'Customer Info'!$H$21),)","v":0},{"$f":"IF($F$19=\"dinner\",IF(AB27=0,,(AB27/$E$18)*'Customer Info'!$H$21),)","v":0},0,0,8.0713527851458888,0,0,""]
["lunch",48,"kitchen","other","surplus","Pre-made sandwiches",2,12,null,"Two days, 5 lbs./day - given to maternity ward",10,4.8043766578249336,0,0,0,0,0,0,0,0,0,0,0,0,0,0,0,0,0,0,0,0,0,{"$f":"IF((OR($F$4=0,$F$4=\"none\")),IF(R28=0,,IF(OR($E$4='Customer Info'!$D$18,$E$4=0),R28,(R28/$E$4)*'Customer Info'!$D$18)),)","v":0},{"$f":"IF((OR($F$5=0,$F$5=\"none\")),IF(S28=0,,IF(OR($E$5='Customer Info'!$D$18,$E$5=0),S28,(S28/$E$5)*'Customer Info'!$D$19)),)","v":0},{"$f":"IF((OR($F$6=0,$F$6=\"none\")),IF(T28=0,,IF(OR($E$6='Customer Info'!$D$18,$E$6=0),T28,(T28/$E$6)*'Customer Info'!$D$20)),)","v":0},{"$f":"IF((OR($F$7=0,$F$7=\"none\")),IF(U28=0,,IF(OR($E$7='Customer Info'!$D$18,$E$7=0),U28,(U28/$E$7)*'Customer Info'!$D$21)),)","v":0},{"$f":"IF((OR($F$10=0,$F$10=\"none\")),IF(V28=0,,IF(OR($E$10='Customer Info'!$F$18,$E$10=0),V28,(V28/$E$10)*'Customer Info'!$F$18)),)","v":0},{"$f":"IF((OR($F$11=0,$F$11=\"none\")),IF(W28=0,,IF(OR($E$11='Customer Info'!$F$19,$E$11=0),W28,(W28/$E$11)*'Customer Info'!$F$19)),)","v":0},{"$f":"IF((OR($F$12=0,$F$12=\"none\")),IF(X28=0,,IF(OR($E$12='Customer Info'!$F$20,$E$12=0),X28,(X28/$E$12)*'Customer Info'!$F$20)),)","v":0},{"$f":"IF((OR($F$13=0,$F$13=\"none\")),IF(Y28=0,,IF(OR($E$13='Customer Info'!$F$21,$E$13=0),Y28,(Y28/$E$13)*'Customer Info'!$F$21)),)","v":0},{"$f":"IF((OR($F$16=0,$F$16=\"none\")),IF(Z28=0,,IF(OR($E$16='Customer Info'!$H$18,$E$16=0),Z28,(Z28/$E$16)*'Customer Info'!$H$18)),)","v":0},{"$f":"IF((OR($F$17=0,$F$17=\"none\")),IF(AA28=0,,IF(OR($E$17='Customer Info'!$H$19,$E$17=0),AA28,(AA28/$E$17)*'Customer Info'!$H$19)),)","v":0},{"$f":"IF((OR($F$18=0,$F$18=\"none\")),IF(AB28=0,,IF(OR($E$18='Customer Info'!$H$20,$E$18=0),AB28,(AB28/$E$18)*'Customer Info'!$H$20)),)","v":0},{"$f":"IF((OR($F$19=0,$F$19=\"none\")),IF(AC28=0,,IF(OR($E$19='Customer Info'!$H$21,$E$19=0),AC28,(AC28/$E$19)*'Customer Info'!$H$21)),)","v":0},{"$f":"IF((OR($F$4=0,$F$4=\"none\")),IF(AD28=0,,IF(OR($E$4='Customer Info'!$D$18,$E$4=0),AD28,(AD28/$E$4)*'Customer Info'!$D$18)),)","v":0},{"$f":"IF((OR($F$5=0,$F$5=\"none\")),IF(AE28=0,,IF(OR($E$5='Customer Info'!$D$19,$E$5=0),AE28,(AE28/$E$5)*'Customer Info'!$D$19)),)","v":0},{"$f":"IF((OR($F$6=0,$F$6=\"none\")),IF(AF28=0,,IF(OR($E$6='Customer Info'!$D$20,$E$6=0),AF28,(AF28/$E$6)*'Customer Info'!$D$20)),)","v":0},{"$f":"IF((OR($F$7=0,$F$7=\"none\")),IF(AG28=0,,IF(OR($E$7='Customer Info'!$D$21,$E$7=0),AG28,(AG28/$E$7)*'Customer Info'!$D$21)),)","v":0},0,5,{"$f":"IF(E28=\"plate waste\",,IF('Customer Info'!$M$18=0,'Log Sheet'!AY28,'Customer Info'!$M$18*'Log Sheet'!AY28))","v":4.8043766578249336},{"$f":"IF(E28=\"plate waste\",IF(OR(C28=\"patient\",C28=\"patient beverages\"),IF('Customer Info'!$M$27=0,AY28*'Customer Info'!$M$18,AY28*'Customer Info'!$M$27),IF(C28=\"cafeteria\",IF('Customer Info'!$M$28=0,AY28*'Customer Info'!$M$18,AY28*'Customer Info'!$M$28),IF(C28=\"other1\",IF('Customer Info'!$M$29=0,AY28*'Customer Info'!$M$18,AY28*'Customer Info'!$M$29),))),)","v":0},4.8043766578249336,{"$f":"IF($F$4=\"lunch\",IF(S28=0,,(S28/$E$5)*'Customer Info'!$D$18),)","v":0},{"$f":"IF($F$4=\"dinner\",IF(T28=0,,(T28/$E$6)*'Customer Info'!$D$18),)","v":0},{"$f":"IF($F$4=\"other\",IF(U28=0,,(U28/$E$7)*'Customer Info'!$D$18),)","v":0},0,{"$f":"IF($F$5=\"breakfast\",IF(R28=0,,(R28/$E$4)*'Customer Info'!$D$19),)","v":0},{"$f":"IF($F$5=\"dinner\",IF(T28=0,,(T28/$E$6)*'Customer Info'!$D$19),)","v":0},{"$f":"IF($F$5=\"other\",IF(U28=0,,(U28/$E$7)*'Customer Info'!$D$19),)","v":0},0,{"$f":"IF($F$6=\"breakfast\",IF(R28=0,,(R28/$E$4)*'Customer Info'!$D$20),)","v":0},{"$f":"IF($F$6=\"lunch\",IF(S28=0,,(S28/$E$5)*'Customer Info'!$D$20),)","v":0},{"$f":"IF($F$6=\"other\",IF(U28=0,,(U28/$E$7)*'Customer Info'!$D$20),)","v":0},0,{"$f":"IF($F$7=\"breakfast\",IF(R28=0,,(R28/$E$4)*'Customer Info'!$D$21),)","v":0},{"$f":"IF($F$7=\"lunch\",IF(S28=0,,(S28/$E$5)*'Customer Info'!$D$21),)","v":0},{"$f":"IF($F$7=\"dinner\",IF(T28=0,,(T28/$E$6)*'Customer Info'!$D$21),)","v":0},0,{"$f":"IF($F$10=\"lunch\",IF(W28=0,,(W28/$E$11)*'Customer Info'!$F$18),)","v":0},{"$f":"IF($F$10=\"dinner\",IF(X28=0,,(X28/$E$12)*'Customer Info'!$F$18),)","v":0},{"$f":"IF($F$10=\"other\",IF(Y28=0,,(Y28/$E$13)*'Customer Info'!$F$18),)","v":0},0,{"$f":"IF($F$11=\"breakfast\",IF(V28=0,,(V28/$E$10)*'Customer Info'!$F$19),)","v":0},{"$f":"IF($F$11=\"dinner\",IF(X28=0,,(X28/$E$12)*'Customer Info'!$F$19),)","v":0},{"$f":"IF($F$11=\"other\",IF(Y28=0,,(Y28/$E$13)*'Customer Info'!$F$19),)","v":0},0,{"$f":"IF($F$12=\"breakfast\",IF(V28=0,,(V28/$E$10)*'Customer Info'!$F$20),)","v":0},{"$f":"IF($F$12=\"lunch\",IF(W28=0,,(W28/$E$11)*'Customer Info'!$F$20),)","v":0},{"$f":"IF($F$12=\"other\",IF(Y28=0,,(Y28/$E$13)*'Customer Info'!$F$20),)","v":0},0,{"$f":"IF($F$13=\"breakfast\",IF(V28=0,,(V28/$E$10)*'Customer Info'!$F$21),)","v":0},{"$f":"IF($F$13=\"lunch\",IF(W28=0,,(W28/$E$11)*'Customer Info'!$F$21),)","v":0},{"$f":"IF($F$13=\"dinner\",IF(X28=0,,(X28/$E$12)*'Customer Info'!$F$21),)","v":0},0,{"$f":"IF($F$16=\"lunch\",IF(AA28=0,,(AA28/$E$17)*'Customer Info'!$H$18),)","v":0},{"$f":"IF($F$16=\"dinner\",IF(AB28=0,,(AB28/$E$18)*'Customer Info'!$H$18),)","v":0},{"$f":"IF($F$16=\"other\",IF(AC28=0,,(AC28/$E$19)*'Customer Info'!$H$18),)","v":0},0,{"$f":"IF($F$17=\"breakfast\",IF(Z28=0,,(Z28/$E$16)*'Customer Info'!$H$19),)","v":0},{"$f":"IF($F$17=\"dinner\",IF(AB28=0,,(AB28/$E$18)*'Customer Info'!$H$19),)","v":0},{"$f":"IF($F$17=\"other\",IF(AC28=0,,(AC28/$E$19)*'Customer Info'!$H$19),)","v":0},0,{"$f":"IF($F$18=\"breakfast\",IF(Z28=0,,(Z28/$E$16)*'Customer Info'!$H$20),)","v":0},{"$f":"IF($F$18=\"lunch\",IF(AA28=0,,(AA28/$E$17)*'Customer Info'!$H$20),)","v":0},{"$f":"IF($F$18=\"other\",IF(AC28=0,,(AC28/$E$19)*'Customer Info'!$H$20),)","v":0},0,{"$f":"IF($F$19=\"breakfast\",IF(Z28=0,,(Z28/$E$16)*'Customer Info'!$H$21),)","v":0},{"$f":"IF($F$19=\"lunch\",IF(AA28=0,,(AA28/$E$17)*'Customer Info'!$H$21),)","v":0},{"$f":"IF($F$19=\"dinner\",IF(AB28=0,,(AB28/$E$18)*'Customer Info'!$H$21),)","v":0},0,0,4.8043766578249336,0,0,""]
["lunch",null,"patient","compost","prep waste","Carrot, onion, pepper and lettuce trimmings",2,6.8,null,null,4.8,4.6122015915119361,0,0,0,0,0,0,0,0,0,0,0,0,0,0,0,0,0,0,0,0,0,{"$f":"IF((OR($F$4=0,$F$4=\"none\")),IF(R29=0,,IF(OR($E$4='Customer Info'!$D$18,$E$4=0),R29,(R29/$E$4)*'Customer Info'!$D$18)),)","v":0},{"$f":"IF((OR($F$5=0,$F$5=\"none\")),IF(S29=0,,IF(OR($E$5='Customer Info'!$D$18,$E$5=0),S29,(S29/$E$5)*'Customer Info'!$D$19)),)","v":0},{"$f":"IF((OR($F$6=0,$F$6=\"none\")),IF(T29=0,,IF(OR($E$6='Customer Info'!$D$18,$E$6=0),T29,(T29/$E$6)*'Customer Info'!$D$20)),)","v":0},{"$f":"IF((OR($F$7=0,$F$7=\"none\")),IF(U29=0,,IF(OR($E$7='Customer Info'!$D$18,$E$7=0),U29,(U29/$E$7)*'Customer Info'!$D$21)),)","v":0},{"$f":"IF((OR($F$10=0,$F$10=\"none\")),IF(V29=0,,IF(OR($E$10='Customer Info'!$F$18,$E$10=0),V29,(V29/$E$10)*'Customer Info'!$F$18)),)","v":0},{"$f":"IF((OR($F$11=0,$F$11=\"none\")),IF(W29=0,,IF(OR($E$11='Customer Info'!$F$19,$E$11=0),W29,(W29/$E$11)*'Customer Info'!$F$19)),)","v":0},{"$f":"IF((OR($F$12=0,$F$12=\"none\")),IF(X29=0,,IF(OR($E$12='Customer Info'!$F$20,$E$12=0),X29,(X29/$E$12)*'Customer Info'!$F$20)),)","v":0},{"$f":"IF((OR($F$13=0,$F$13=\"none\")),IF(Y29=0,,IF(OR($E$13='Customer Info'!$F$21,$E$13=0),Y29,(Y29/$E$13)*'Customer Info'!$F$21)),)","v":0},{"$f":"IF((OR($F$16=0,$F$16=\"none\")),IF(Z29=0,,IF(OR($E$16='Customer Info'!$H$18,$E$16=0),Z29,(Z29/$E$16)*'Customer Info'!$H$18)),)","v":0},{"$f":"IF((OR($F$17=0,$F$17=\"none\")),IF(AA29=0,,IF(OR($E$17='Customer Info'!$H$19,$E$17=0),AA29,(AA29/$E$17)*'Customer Info'!$H$19)),)","v":0},{"$f":"IF((OR($F$18=0,$F$18=\"none\")),IF(AB29=0,,IF(OR($E$18='Customer Info'!$H$20,$E$18=0),AB29,(AB29/$E$18)*'Customer Info'!$H$20)),)","v":0},{"$f":"IF((OR($F$19=0,$F$19=\"none\")),IF(AC29=0,,IF(OR($E$19='Customer Info'!$H$21,$E$19=0),AC29,(AC29/$E$19)*'Customer Info'!$H$21)),)","v":0},{"$f":"IF((OR($F$4=0,$F$4=\"none\")),IF(AD29=0,,IF(OR($E$4='Customer Info'!$D$18,$E$4=0),AD29,(AD29/$E$4)*'Customer Info'!$D$18)),)","v":0},{"$f":"IF((OR($F$5=0,$F$5=\"none\")),IF(AE29=0,,IF(OR($E$5='Customer Info'!$D$19,$E$5=0),AE29,(AE29/$E$5)*'Customer Info'!$D$19)),)","v":0},{"$f":"IF((OR($F$6=0,$F$6=\"none\")),IF(AF29=0,,IF(OR($E$6='Customer Info'!$D$20,$E$6=0),AF29,(AF29/$E$6)*'Customer Info'!$D$20)),)","v":0},{"$f":"IF((OR($F$7=0,$F$7=\"none\")),IF(AG29=0,,IF(OR($E$7='Customer Info'!$D$21,$E$7=0),AG29,(AG29/$E$7)*'Customer Info'!$D$21)),)","v":0},0,4.8,{"$f":"IF(E29=\"plate waste\",,IF('Customer Info'!$M$18=0,'Log Sheet'!AY29,'Customer Info'!$M$18*'Log Sheet'!AY29))","v":4.6122015915119361},{"$f":"IF(E29=\"plate waste\",IF(OR(C29=\"patient\",C29=\"patient beverages\"),IF('Customer Info'!$M$27=0,AY29*'Customer Info'!$M$18,AY29*'Customer Info'!$M$27),IF(C29=\"cafeteria\",IF('Customer Info'!$M$28=0,AY29*'Customer Info'!$M$18,AY29*'Customer Info'!$M$28),IF(C29=\"other1\",IF('Customer Info'!$M$29=0,AY29*'Customer Info'!$M$18,AY29*'Customer Info'!$M$29),))),)","v":0},4.6122015915119361,{"$f":"IF($F$4=\"lunch\",IF(S29=0,,(S29/$E$5)*'Customer Info'!$D$18),)","v":0},{"$f":"IF($F$4=\"dinner\",IF(T29=0,,(T29/$E$6)*'Customer Info'!$D$18),)","v":0},{"$f":"IF($F$4=\"other\",IF(U29=0,,(U29/$E$7)*'Customer Info'!$D$18),)","v":0},0,{"$f":"IF($F$5=\"breakfast\",IF(R29=0,,(R29/$E$4)*'Customer Info'!$D$19),)","v":0},{"$f":"IF($F$5=\"dinner\",IF(T29=0,,(T29/$E$6)*'Customer Info'!$D$19),)","v":0},{"$f":"IF($F$5=\"other\",IF(U29=0,,(U29/$E$7)*'Customer Info'!$D$19),)","v":0},0,{"$f":"IF($F$6=\"breakfast\",IF(R29=0,,(R29/$E$4)*'Customer Info'!$D$20),)","v":0},{"$f":"IF($F$6=\"lunch\",IF(S29=0,,(S29/$E$5)*'Customer Info'!$D$20),)","v":0},{"$f":"IF($F$6=\"other\",IF(U29=0,,(U29/$E$7)*'Customer Info'!$D$20),)","v":0},0,{"$f":"IF($F$7=\"breakfast\",IF(R29=0,,(R29/$E$4)*'Customer Info'!$D$21),)","v":0},{"$f":"IF($F$7=\"lunch\",IF(S29=0,,(S29/$E$5)*'Customer Info'!$D$21),)","v":0},{"$f":"IF($F$7=\"dinner\",IF(T29=0,,(T29/$E$6)*'Customer Info'!$D$21),)","v":0},0,{"$f":"IF($F$10=\"lunch\",IF(W29=0,,(W29/$E$11)*'Customer Info'!$F$18),)","v":0},{"$f":"IF($F$10=\"dinner\",IF(X29=0,,(X29/$E$12)*'Customer Info'!$F$18),)","v":0},{"$f":"IF($F$10=\"other\",IF(Y29=0,,(Y29/$E$13)*'Customer Info'!$F$18),)","v":0},0,{"$f":"IF($F$11=\"breakfast\",IF(V29=0,,(V29/$E$10)*'Customer Info'!$F$19),)","v":0},{"$f":"IF($F$11=\"dinner\",IF(X29=0,,(X29/$E$12)*'Customer Info'!$F$19),)","v":0},{"$f":"IF($F$11=\"other\",IF(Y29=0,,(Y29/$E$13)*'Customer Info'!$F$19),)","v":0},0,{"$f":"IF($F$12=\"breakfast\",IF(V29=0,,(V29/$E$10)*'Customer Info'!$F$20),)","v":0},{"$f":"IF($F$12=\"lunch\",IF(W29=0,,(W29/$E$11)*'Customer Info'!$F$20),)","v":0},{"$f":"IF($F$12=\"other\",IF(Y29=0,,(Y29/$E$13)*'Customer Info'!$F$20),)","v":0},0,{"$f":"IF($F$13=\"breakfast\",IF(V29=0,,(V29/$E$10)*'Customer Info'!$F$21),)","v":0},{"$f":"IF($F$13=\"lunch\",IF(W29=0,,(W29/$E$11)*'Customer Info'!$F$21),)","v":0},{"$f":"IF($F$13=\"dinner\",IF(X29=0,,(X29/$E$12)*'Customer Info'!$F$21),)","v":0},0,{"$f":"IF($F$16=\"lunch\",IF(AA29=0,,(AA29/$E$17)*'Customer Info'!$H$18),)","v":0},{"$f":"IF($F$16=\"dinner\",IF(AB29=0,,(AB29/$E$18)*'Customer Info'!$H$18),)","v":0},{"$f":"IF($F$16=\"other\",IF(AC29=0,,(AC29/$E$19)*'Customer Info'!$H$18),)","v":0},0,{"$f":"IF($F$17=\"breakfast\",IF(Z29=0,,(Z29/$E$16)*'Customer Info'!$H$19),)","v":0},{"$f":"IF($F$17=\"dinner\",IF(AB29=0,,(AB29/$E$18)*'Customer Info'!$H$19),)","v":0},{"$f":"IF($F$17=\"other\",IF(AC29=0,,(AC29/$E$19)*'Customer Info'!$H$19),)","v":0},0,{"$f":"IF($F$18=\"breakfast\",IF(Z29=0,,(Z29/$E$16)*'Customer Info'!$H$20),)","v":0},{"$f":"IF($F$18=\"lunch\",IF(AA29=0,,(AA29/$E$17)*'Customer Info'!$H$20),)","v":0},{"$f":"IF($F$18=\"other\",IF(AC29=0,,(AC29/$E$19)*'Customer Info'!$H$20),)","v":0},0,{"$f":"IF($F$19=\"breakfast\",IF(Z29=0,,(Z29/$E$16)*'Customer Info'!$H$21),)","v":0},{"$f":"IF($F$19=\"lunch\",IF(AA29=0,,(AA29/$E$17)*'Customer Info'!$H$21),)","v":0},{"$f":"IF($F$19=\"dinner\",IF(AB29=0,,(AB29/$E$18)*'Customer Info'!$H$21),)","v":0},0,0,4.6122015915119361,0,0,""]
["lunch",null,"other1","compost","quality","Burned rice – rice cooker is broken",2,8.4,null,"Cafeteria Prep kitchen",6.4,6.1496021220159154,0,0,0,0,0,0,0,0,0,0,0,0,0,0,0,0,0,0,0,0,0,{"$f":"IF((OR($F$4=0,$F$4=\"none\")),IF(R30=0,,IF(OR($E$4='Customer Info'!$D$18,$E$4=0),R30,(R30/$E$4)*'Customer Info'!$D$18)),)","v":0},{"$f":"IF((OR($F$5=0,$F$5=\"none\")),IF(S30=0,,IF(OR($E$5='Customer Info'!$D$18,$E$5=0),S30,(S30/$E$5)*'Customer Info'!$D$19)),)","v":0},{"$f":"IF((OR($F$6=0,$F$6=\"none\")),IF(T30=0,,IF(OR($E$6='Customer Info'!$D$18,$E$6=0),T30,(T30/$E$6)*'Customer Info'!$D$20)),)","v":0},{"$f":"IF((OR($F$7=0,$F$7=\"none\")),IF(U30=0,,IF(OR($E$7='Customer Info'!$D$18,$E$7=0),U30,(U30/$E$7)*'Customer Info'!$D$21)),)","v":0},{"$f":"IF((OR($F$10=0,$F$10=\"none\")),IF(V30=0,,IF(OR($E$10='Customer Info'!$F$18,$E$10=0),V30,(V30/$E$10)*'Customer Info'!$F$18)),)","v":0},{"$f":"IF((OR($F$11=0,$F$11=\"none\")),IF(W30=0,,IF(OR($E$11='Customer Info'!$F$19,$E$11=0),W30,(W30/$E$11)*'Customer Info'!$F$19)),)","v":0},{"$f":"IF((OR($F$12=0,$F$12=\"none\")),IF(X30=0,,IF(OR($E$12='Customer Info'!$F$20,$E$12=0),X30,(X30/$E$12)*'Customer Info'!$F$20)),)","v":0},{"$f":"IF((OR($F$13=0,$F$13=\"none\")),IF(Y30=0,,IF(OR($E$13='Customer Info'!$F$21,$E$13=0),Y30,(Y30/$E$13)*'Customer Info'!$F$21)),)","v":0},{"$f":"IF((OR($F$16=0,$F$16=\"none\")),IF(Z30=0,,IF(OR($E$16='Customer Info'!$H$18,$E$16=0),Z30,(Z30/$E$16)*'Customer Info'!$H$18)),)","v":0},{"$f":"IF((OR($F$17=0,$F$17=\"none\")),IF(AA30=0,,IF(OR($E$17='Customer Info'!$H$19,$E$17=0),AA30,(AA30/$E$17)*'Customer Info'!$H$19)),)","v":0},{"$f":"IF((OR($F$18=0,$F$18=\"none\")),IF(AB30=0,,IF(OR($E$18='Customer Info'!$H$20,$E$18=0),AB30,(AB30/$E$18)*'Customer Info'!$H$20)),)","v":0},{"$f":"IF((OR($F$19=0,$F$19=\"none\")),IF(AC30=0,,IF(OR($E$19='Customer Info'!$H$21,$E$19=0),AC30,(AC30/$E$19)*'Customer Info'!$H$21)),)","v":0},{"$f":"IF((OR($F$4=0,$F$4=\"none\")),IF(AD30=0,,IF(OR($E$4='Customer Info'!$D$18,$E$4=0),AD30,(AD30/$E$4)*'Customer Info'!$D$18)),)","v":0},{"$f":"IF((OR($F$5=0,$F$5=\"none\")),IF(AE30=0,,IF(OR($E$5='Customer Info'!$D$19,$E$5=0),AE30,(AE30/$E$5)*'Customer Info'!$D$19)),)","v":0},{"$f":"IF((OR($F$6=0,$F$6=\"none\")),IF(AF30=0,,IF(OR($E$6='Customer Info'!$D$20,$E$6=0),AF30,(AF30/$E$6)*'Customer Info'!$D$20)),)","v":0},{"$f":"IF((OR($F$7=0,$F$7=\"none\")),IF(AG30=0,,IF(OR($E$7='Customer Info'!$D$21,$E$7=0),AG30,(AG30/$E$7)*'Customer Info'!$D$21)),)","v":0},0,6.4,{"$f":"IF(E30=\"plate waste\",,IF('Customer Info'!$M$18=0,'Log Sheet'!AY30,'Customer Info'!$M$18*'Log Sheet'!AY30))","v":6.1496021220159154},{"$f":"IF(E30=\"plate waste\",IF(OR(C30=\"patient\",C30=\"patient beverages\"),IF('Customer Info'!$M$27=0,AY30*'Customer Info'!$M$18,AY30*'Customer Info'!$M$27),IF(C30=\"cafeteria\",IF('Customer Info'!$M$28=0,AY30*'Customer Info'!$M$18,AY30*'Customer Info'!$M$28),IF(C30=\"other1\",IF('Customer Info'!$M$29=0,AY30*'Customer Info'!$M$18,AY30*'Customer Info'!$M$29),))),)","v":0},6.1496021220159154,{"$f":"IF($F$4=\"lunch\",IF(S30=0,,(S30/$E$5)*'Customer Info'!$D$18),)","v":0},{"$f":"IF($F$4=\"dinner\",IF(T30=0,,(T30/$E$6)*'Customer Info'!$D$18),)","v":0},{"$f":"IF($F$4=\"other\",IF(U30=0,,(U30/$E$7)*'Customer Info'!$D$18),)","v":0},0,{"$f":"IF($F$5=\"breakfast\",IF(R30=0,,(R30/$E$4)*'Customer Info'!$D$19),)","v":0},{"$f":"IF($F$5=\"dinner\",IF(T30=0,,(T30/$E$6)*'Customer Info'!$D$19),)","v":0},{"$f":"IF($F$5=\"other\",IF(U30=0,,(U30/$E$7)*'Customer Info'!$D$19),)","v":0},0,{"$f":"IF($F$6=\"breakfast\",IF(R30=0,,(R30/$E$4)*'Customer Info'!$D$20),)","v":0},{"$f":"IF($F$6=\"lunch\",IF(S30=0,,(S30/$E$5)*'Customer Info'!$D$20),)","v":0},{"$f":"IF($F$6=\"other\",IF(U30=0,,(U30/$E$7)*'Customer Info'!$D$20),)","v":0},0,{"$f":"IF($F$7=\"breakfast\",IF(R30=0,,(R30/$E$4)*'Customer Info'!$D$21),)","v":0},{"$f":"IF($F$7=\"lunch\",IF(S30=0,,(S30/$E$5)*'Customer Info'!$D$21),)","v":0},{"$f":"IF($F$7=\"dinner\",IF(T30=0,,(T30/$E$6)*'Customer Info'!$D$21),)","v":0},0,{"$f":"IF($F$10=\"lunch\",IF(W30=0,,(W30/$E$11)*'Customer Info'!$F$18),)","v":0},{"$f":"IF($F$10=\"dinner\",IF(X30=0,,(X30/$E$12)*'Customer Info'!$F$18),)","v":0},{"$f":"IF($F$10=\"other\",IF(Y30=0,,(Y30/$E$13)*'Customer Info'!$F$18),)","v":0},0,{"$f":"IF($F$11=\"breakfast\",IF(V30=0,,(V30/$E$10)*'Customer Info'!$F$19),)","v":0},{"$f":"IF($F$11=\"dinner\",IF(X30=0,,(X30/$E$12)*'Customer Info'!$F$19),)","v":0},{"$f":"IF($F$11=\"other\",IF(Y30=0,,(Y30/$E$13)*'Customer Info'!$F$19),)","v":0},0,{"$f":"IF($F$12=\"breakfast\",IF(V30=0,,(V30/$E$10)*'Customer Info'!$F$20),)","v":0},{"$f":"IF($F$12=\"lunch\",IF(W30=0,,(W30/$E$11)*'Customer Info'!$F$20),)","v":0},{"$f":"IF($F$12=\"other\",IF(Y30=0,,(Y30/$E$13)*'Customer Info'!$F$20),)","v":0},0,{"$f":"IF($F$13=\"breakfast\",IF(V30=0,,(V30/$E$10)*'Customer Info'!$F$21),)","v":0},{"$f":"IF($F$13=\"lunch\",IF(W30=0,,(W30/$E$11)*'Customer Info'!$F$21),)","v":0},{"$f":"IF($F$13=\"dinner\",IF(X30=0,,(X30/$E$12)*'Customer Info'!$F$21),)","v":0},0,{"$f":"IF($F$16=\"lunch\",IF(AA30=0,,(AA30/$E$17)*'Customer Info'!$H$18),)","v":0},{"$f":"IF($F$16=\"dinner\",IF(AB30=0,,(AB30/$E$18)*'Customer Info'!$H$18),)","v":0},{"$f":"IF($F$16=\"other\",IF(AC30=0,,(AC30/$E$19)*'Customer Info'!$H$18),)","v":0},0,{"$f":"IF($F$17=\"breakfast\",IF(Z30=0,,(Z30/$E$16)*'Customer Info'!$H$19),)","v":0},{"$f":"IF($F$17=\"dinner\",IF(AB30=0,,(AB30/$E$18)*'Customer Info'!$H$19),)","v":0},{"$f":"IF($F$17=\"other\",IF(AC30=0,,(AC30/$E$19)*'Customer Info'!$H$19),)","v":0},0,{"$f":"IF($F$18=\"breakfast\",IF(Z30=0,,(Z30/$E$16)*'Customer Info'!$H$20),)","v":0},{"$f":"IF($F$18=\"lunch\",IF(AA30=0,,(AA30/$E$17)*'Customer Info'!$H$20),)","v":0},{"$f":"IF($F$18=\"other\",IF(AC30=0,,(AC30/$E$19)*'Customer Info'!$H$20),)","v":0},0,{"$f":"IF($F$19=\"breakfast\",IF(Z30=0,,(Z30/$E$16)*'Customer Info'!$H$21),)","v":0},{"$f":"IF($F$19=\"lunch\",IF(AA30=0,,(AA30/$E$17)*'Customer Info'!$H$21),)","v":0},{"$f":"IF($F$19=\"dinner\",IF(AB30=0,,(AB30/$E$18)*'Customer Info'!$H$21),)","v":0},0,0,6.1496021220159154,0,0,""]
["breakfast",null,"patient","landfill","plate waste","Pancakes, eggs, sausage, applesauce",2,18,null,null,16,47.540970596404897,16,16,0,0,0,16,0,0,0,0,0,0,0,0,0,0,0,0,0,0,0,{"$f":"IF((OR($F$4=0,$F$4=\"none\")),IF(R31=0,,IF(OR($E$4='Customer Info'!$D$18,$E$4=0),R31,(R31/$E$4)*'Customer Info'!$D$18)),)","v":42.12658227848101},{"$f":"IF((OR($F$5=0,$F$5=\"none\")),IF(S31=0,,IF(OR($E$5='Customer Info'!$D$18,$E$5=0),S31,(S31/$E$5)*'Customer Info'!$D$19)),)","v":0},{"$f":"IF((OR($F$6=0,$F$6=\"none\")),IF(T31=0,,IF(OR($E$6='Customer Info'!$D$18,$E$6=0),T31,(T31/$E$6)*'Customer Info'!$D$20)),)","v":0},{"$f":"IF((OR($F$7=0,$F$7=\"none\")),IF(U31=0,,IF(OR($E$7='Customer Info'!$D$18,$E$7=0),U31,(U31/$E$7)*'Customer Info'!$D$21)),)","v":0},{"$f":"IF((OR($F$10=0,$F$10=\"none\")),IF(V31=0,,IF(OR($E$10='Customer Info'!$F$18,$E$10=0),V31,(V31/$E$10)*'Customer Info'!$F$18)),)","v":0},{"$f":"IF((OR($F$11=0,$F$11=\"none\")),IF(W31=0,,IF(OR($E$11='Customer Info'!$F$19,$E$11=0),W31,(W31/$E$11)*'Customer Info'!$F$19)),)","v":0},{"$f":"IF((OR($F$12=0,$F$12=\"none\")),IF(X31=0,,IF(OR($E$12='Customer Info'!$F$20,$E$12=0),X31,(X31/$E$12)*'Customer Info'!$F$20)),)","v":0},{"$f":"IF((OR($F$13=0,$F$13=\"none\")),IF(Y31=0,,IF(OR($E$13='Customer Info'!$F$21,$E$13=0),Y31,(Y31/$E$13)*'Customer Info'!$F$21)),)","v":0},{"$f":"IF((OR($F$16=0,$F$16=\"none\")),IF(Z31=0,,IF(OR($E$16='Customer Info'!$H$18,$E$16=0),Z31,(Z31/$E$16)*'Customer Info'!$H$18)),)","v":0},{"$f":"IF((OR($F$17=0,$F$17=\"none\")),IF(AA31=0,,IF(OR($E$17='Customer Info'!$H$19,$E$17=0),AA31,(AA31/$E$17)*'Customer Info'!$H$19)),)","v":0},{"$f":"IF((OR($F$18=0,$F$18=\"none\")),IF(AB31=0,,IF(OR($E$18='Customer Info'!$H$20,$E$18=0),AB31,(AB31/$E$18)*'Customer Info'!$H$20)),)","v":0},{"$f":"IF((OR($F$19=0,$F$19=\"none\")),IF(AC31=0,,IF(OR($E$19='Customer Info'!$H$21,$E$19=0),AC31,(AC31/$E$19)*'Customer Info'!$H$21)),)","v":0},{"$f":"IF((OR($F$4=0,$F$4=\"none\")),IF(AD31=0,,IF(OR($E$4='Customer Info'!$D$18,$E$4=0),AD31,(AD31/$E$4)*'Customer Info'!$D$18)),)","v":0},{"$f":"IF((OR($F$5=0,$F$5=\"none\")),IF(AE31=0,,IF(OR($E$5='Customer Info'!$D$19,$E$5=0),AE31,(AE31/$E$5)*'Customer Info'!$D$19)),)","v":0},{"$f":"IF((OR($F$6=0,$F$6=\"none\")),IF(AF31=0,,IF(OR($E$6='Customer Info'!$D$20,$E$6=0),AF31,(AF31/$E$6)*'Customer Info'!$D$20)),)","v":0},{"$f":"IF((OR($F$7=0,$F$7=\"none\")),IF(AG31=0,,IF(OR($E$7='Customer Info'!$D$21,$E$7=0),AG31,(AG31/$E$7)*'Customer Info'!$D$21)),)","v":0},42.12658227848101,42.12658227848101,{"$f":"IF(E31=\"plate waste\",,IF('Customer Info'!$M$18=0,'Log Sheet'!AY31,'Customer Info'!$M$18*'Log Sheet'!AY31))","v":0},{"$f":"IF(E31=\"plate waste\",IF(OR(C31=\"patient\",C31=\"patient beverages\"),IF('Customer Info'!$M$27=0,AY31*'Customer Info'!$M$18,AY31*'Customer Info'!$M$27),IF(C31=\"cafeteria\",IF('Customer Info'!$M$28=0,AY31*'Customer Info'!$M$18,AY31*'Customer Info'!$M$28),IF(C31=\"other1\",IF('Customer Info'!$M$29=0,AY31*'Customer Info'!$M$18,AY31*'Customer Info'!$M$29),))),)","v":47.540970596404897},47.540970596404897,{"$f":"IF($F$4=\"lunch\",IF(S31=0,,(S31/$E$5)*'Customer Info'!$D$18),)","v":0},{"$f":"IF($F$4=\"dinner\",IF(T31=0,,(T31/$E$6)*'Customer Info'!$D$18),)","v":0},{"$f":"IF($F$4=\"other\",IF(U31=0,,(U31/$E$7)*'Customer Info'!$D$18),)","v":0},0,{"$f":"IF($F$5=\"breakfast\",IF(R31=0,,(R31/$E$4)*'Customer Info'!$D$19),)","v":0},{"$f":"IF($F$5=\"dinner\",IF(T31=0,,(T31/$E$6)*'Customer Info'!$D$19),)","v":0},{"$f":"IF($F$5=\"other\",IF(U31=0,,(U31/$E$7)*'Customer Info'!$D$19),)","v":0},0,{"$f":"IF($F$6=\"breakfast\",IF(R31=0,,(R31/$E$4)*'Customer Info'!$D$20),)","v":0},{"$f":"IF($F$6=\"lunch\",IF(S31=0,,(S31/$E$5)*'Customer Info'!$D$20),)","v":0},{"$f":"IF($F$6=\"other\",IF(U31=0,,(U31/$E$7)*'Customer Info'!$D$20),)","v":0},0,{"$f":"IF($F$7=\"breakfast\",IF(R31=0,,(R31/$E$4)*'Customer Info'!$D$21),)","v":0},{"$f":"IF($F$7=\"lunch\",IF(S31=0,,(S31/$E$5)*'Customer Info'!$D$21),)","v":0},{"$f":"IF($F$7=\"dinner\",IF(T31=0,,(T31/$E$6)*'Customer Info'!$D$21),)","v":0},0,{"$f":"IF($F$10=\"lunch\",IF(W31=0,,(W31/$E$11)*'Customer Info'!$F$18),)","v":0},{"$f":"IF($F$10=\"dinner\",IF(X31=0,,(X31/$E$12)*'Customer Info'!$F$18),)","v":0},{"$f":"IF($F$10=\"other\",IF(Y31=0,,(Y31/$E$13)*'Customer Info'!$F$18),)","v":0},0,{"$f":"IF($F$11=\"breakfast\",IF(V31=0,,(V31/$E$10)*'Customer Info'!$F$19),)","v":0},{"$f":"IF($F$11=\"dinner\",IF(X31=0,,(X31/$E$12)*'Customer Info'!$F$19),)","v":0},{"$f":"IF($F$11=\"other\",IF(Y31=0,,(Y31/$E$13)*'Customer Info'!$F$19),)","v":0},0,{"$f":"IF($F$12=\"breakfast\",IF(V31=0,,(V31/$E$10)*'Customer Info'!$F$20),)","v":0},{"$f":"IF($F$12=\"lunch\",IF(W31=0,,(W31/$E$11)*'Customer Info'!$F$20),)","v":0},{"$f":"IF($F$12=\"other\",IF(Y31=0,,(Y31/$E$13)*'Customer Info'!$F$20),)","v":0},0,{"$f":"IF($F$13=\"breakfast\",IF(V31=0,,(V31/$E$10)*'Customer Info'!$F$21),)","v":0},{"$f":"IF($F$13=\"lunch\",IF(W31=0,,(W31/$E$11)*'Customer Info'!$F$21),)","v":0},{"$f":"IF($F$13=\"dinner\",IF(X31=0,,(X31/$E$12)*'Customer Info'!$F$21),)","v":0},0,{"$f":"IF($F$16=\"lunch\",IF(AA31=0,,(AA31/$E$17)*'Customer Info'!$H$18),)","v":0},{"$f":"IF($F$16=\"dinner\",IF(AB31=0,,(AB31/$E$18)*'Customer Info'!$H$18),)","v":0},{"$f":"IF($F$16=\"other\",IF(AC31=0,,(AC31/$E$19)*'Customer Info'!$H$18),)","v":0},0,{"$f":"IF($F$17=\"breakfast\",IF(Z31=0,,(Z31/$E$16)*'Customer Info'!$H$19),)","v":0},{"$f":"IF($F$17=\"dinner\",IF(AB31=0,,(AB31/$E$18)*'Customer Info'!$H$19),)","v":0},{"$f":"IF($F$17=\"other\",IF(AC31=0,,(AC31/$E$19)*'Customer Info'!$H$19),)","v":0},0,{"$f":"IF($F$18=\"breakfast\",IF(Z31=0,,(Z31/$E$16)*'Customer Info'!$H$20),)","v":0},{"$f":"IF($F$18=\"lunch\",IF(AA31=0,,(AA31/$E$17)*'Customer Info'!$H$20),)","v":0},{"$f":"IF($F$18=\"other\",IF(AC31=0,,(AC31/$E$19)*'Customer Info'!$H$20),)","v":0},0,{"$f":"IF($F$19=\"breakfast\",IF(Z31=0,,(Z31/$E$16)*'Customer Info'!$H$21),)","v":0},{"$f":"IF($F$19=\"lunch\",IF(AA31=0,,(AA31/$E$17)*'Customer Info'!$H$21),)","v":0},{"$f":"IF($F$19=\"dinner\",IF(AB31=0,,(AB31/$E$18)*'Customer Info'!$H$21),)","v":0},0,47.540970596404897,0,0,0,""]
["breakfast",null,"patient beverages","landfill","plate waste","Milk, Juice – sorted out",2,17,30,null,15,44.569659934129596,15,0,0,0,15,0,0,0,0,0,0,0,0,0,0,0,0,15,0,0,0,{"$f":"IF((OR($F$4=0,$F$4=\"none\")),IF(R32=0,,IF(OR($E$4='Customer Info'!$D$18,$E$4=0),R32,(R32/$E$4)*'Customer Info'!$D$18)),)","v":0},{"$f":"IF((OR($F$5=0,$F$5=\"none\")),IF(S32=0,,IF(OR($E$5='Customer Info'!$D$18,$E$5=0),S32,(S32/$E$5)*'Customer Info'!$D$19)),)","v":0},{"$f":"IF((OR($F$6=0,$F$6=\"none\")),IF(T32=0,,IF(OR($E$6='Customer Info'!$D$18,$E$6=0),T32,(T32/$E$6)*'Customer Info'!$D$20)),)","v":0},{"$f":"IF((OR($F$7=0,$F$7=\"none\")),IF(U32=0,,IF(OR($E$7='Customer Info'!$D$18,$E$7=0),U32,(U32/$E$7)*'Customer Info'!$D$21)),)","v":0},{"$f":"IF((OR($F$10=0,$F$10=\"none\")),IF(V32=0,,IF(OR($E$10='Customer Info'!$F$18,$E$10=0),V32,(V32/$E$10)*'Customer Info'!$F$18)),)","v":0},{"$f":"IF((OR($F$11=0,$F$11=\"none\")),IF(W32=0,,IF(OR($E$11='Customer Info'!$F$19,$E$11=0),W32,(W32/$E$11)*'Customer Info'!$F$19)),)","v":0},{"$f":"IF((OR($F$12=0,$F$12=\"none\")),IF(X32=0,,IF(OR($E$12='Customer Info'!$F$20,$E$12=0),X32,(X32/$E$12)*'Customer Info'!$F$20)),)","v":0},{"$f":"IF((OR($F$13=0,$F$13=\"none\")),IF(Y32=0,,IF(OR($E$13='Customer Info'!$F$21,$E$13=0),Y32,(Y32/$E$13)*'Customer Info'!$F$21)),)","v":0},{"$f":"IF((OR($F$16=0,$F$16=\"none\")),IF(Z32=0,,IF(OR($E$16='Customer Info'!$H$18,$E$16=0),Z32,(Z32/$E$16)*'Customer Info'!$H$18)),)","v":0},{"$f":"IF((OR($F$17=0,$F$17=\"none\")),IF(AA32=0,,IF(OR($E$17='Customer Info'!$H$19,$E$17=0),AA32,(AA32/$E$17)*'Customer Info'!$H$19)),)","v":0},{"$f":"IF((OR($F$18=0,$F$18=\"none\")),IF(AB32=0,,IF(OR($E$18='Customer Info'!$H$20,$E$18=0),AB32,(AB32/$E$18)*'Customer Info'!$H$20)),)","v":0},{"$f":"IF((OR($F$19=0,$F$19=\"none\")),IF(AC32=0,,IF(OR($E$19='Customer Info'!$H$21,$E$19=0),AC32,(AC32/$E$19)*'Customer Info'!$H$21)),)","v":0},{"$f":"IF((OR($F$4=0,$F$4=\"none\")),IF(AD32=0,,IF(OR($E$4='Customer Info'!$D$18,$E$4=0),AD32,(AD32/$E$4)*'Customer Info'!$D$18)),)","v":39.493670886075954},{"$f":"IF((OR($F$5=0,$F$5=\"none\")),IF(AE32=0,,IF(OR($E$5='Customer Info'!$D$19,$E$5=0),AE32,(AE32/$E$5)*'Customer Info'!$D$19)),)","v":0},{"$f":"IF((OR($F$6=0,$F$6=\"none\")),IF(AF32=0,,IF(OR($E$6='Customer Info'!$D$20,$E$6=0),AF32,(AF32/$E$6)*'Customer Info'!$D$20)),)","v":0},{"$f":"IF((OR($F$7=0,$F$7=\"none\")),IF(AG32=0,,IF(OR($E$7='Customer Info'!$D$21,$E$7=0),AG32,(AG32/$E$7)*'Customer Info'!$D$21)),)","v":0},39.493670886075954,39.493670886075954,{"$f":"IF(E32=\"plate waste\",,IF('Customer Info'!$M$18=0,'Log Sheet'!AY32,'Customer Info'!$M$18*'Log Sheet'!AY32))","v":0},{"$f":"IF(E32=\"plate waste\",IF(OR(C32=\"patient\",C32=\"patient beverages\"),IF('Customer Info'!$M$27=0,AY32*'Customer Info'!$M$18,AY32*'Customer Info'!$M$27),IF(C32=\"cafeteria\",IF('Customer Info'!$M$28=0,AY32*'Customer Info'!$M$18,AY32*'Customer Info'!$M$28),IF(C32=\"other1\",IF('Customer Info'!$M$29=0,AY32*'Customer Info'!$M$18,AY32*'Customer Info'!$M$29),))),)","v":44.569659934129596},44.569659934129596,{"$f":"IF($F$4=\"lunch\",IF(S32=0,,(S32/$E$5)*'Customer Info'!$D$18),)","v":0},{"$f":"IF($F$4=\"dinner\",IF(T32=0,,(T32/$E$6)*'Customer Info'!$D$18),)","v":0},{"$f":"IF($F$4=\"other\",IF(U32=0,,(U32/$E$7)*'Customer Info'!$D$18),)","v":0},0,{"$f":"IF($F$5=\"breakfast\",IF(R32=0,,(R32/$E$4)*'Customer Info'!$D$19),)","v":0},{"$f":"IF($F$5=\"dinner\",IF(T32=0,,(T32/$E$6)*'Customer Info'!$D$19),)","v":0},{"$f":"IF($F$5=\"other\",IF(U32=0,,(U32/$E$7)*'Customer Info'!$D$19),)","v":0},0,{"$f":"IF($F$6=\"breakfast\",IF(R32=0,,(R32/$E$4)*'Customer Info'!$D$20),)","v":0},{"$f":"IF($F$6=\"lunch\",IF(S32=0,,(S32/$E$5)*'Customer Info'!$D$20),)","v":0},{"$f":"IF($F$6=\"other\",IF(U32=0,,(U32/$E$7)*'Customer Info'!$D$20),)","v":0},0,{"$f":"IF($F$7=\"breakfast\",IF(R32=0,,(R32/$E$4)*'Customer Info'!$D$21),)","v":0},{"$f":"IF($F$7=\"lunch\",IF(S32=0,,(S32/$E$5)*'Customer Info'!$D$21),)","v":0},{"$f":"IF($F$7=\"dinner\",IF(T32=0,,(T32/$E$6)*'Customer Info'!$D$21),)","v":0},0,{"$f":"IF($F$10=\"lunch\",IF(W32=0,,(W32/$E$11)*'Customer Info'!$F$18),)","v":0},{"$f":"IF($F$10=\"dinner\",IF(X32=0,,(X32/$E$12)*'Customer Info'!$F$18),)","v":0},{"$f":"IF($F$10=\"other\",IF(Y32=0,,(Y32/$E$13)*'Customer Info'!$F$18),)","v":0},0,{"$f":"IF($F$11=\"breakfast\",IF(V32=0,,(V32/$E$10)*'Customer Info'!$F$19),)","v":0},{"$f":"IF($F$11=\"dinner\",IF(X32=0,,(X32/$E$12)*'Customer Info'!$F$19),)","v":0},{"$f":"IF($F$11=\"other\",IF(Y32=0,,(Y32/$E$13)*'Customer Info'!$F$19),)","v":0},0,{"$f":"IF($F$12=\"breakfast\",IF(V32=0,,(V32/$E$10)*'Customer Info'!$F$20),)","v":0},{"$f":"IF($F$12=\"lunch\",IF(W32=0,,(W32/$E$11)*'Customer Info'!$F$20),)","v":0},{"$f":"IF($F$12=\"other\",IF(Y32=0,,(Y32/$E$13)*'Customer Info'!$F$20),)","v":0},0,{"$f":"IF($F$13=\"breakfast\",IF(V32=0,,(V32/$E$10)*'Customer Info'!$F$21),)","v":0},{"$f":"IF($F$13=\"lunch\",IF(W32=0,,(W32/$E$11)*'Customer Info'!$F$21),)","v":0},{"$f":"IF($F$13=\"dinner\",IF(X32=0,,(X32/$E$12)*'Customer Info'!$F$21),)","v":0},0,{"$f":"IF($F$16=\"lunch\",IF(AA32=0,,(AA32/$E$17)*'Customer Info'!$H$18),)","v":0},{"$f":"IF($F$16=\"dinner\",IF(AB32=0,,(AB32/$E$18)*'Customer Info'!$H$18),)","v":0},{"$f":"IF($F$16=\"other\",IF(AC32=0,,(AC32/$E$19)*'Customer Info'!$H$18),)","v":0},0,{"$f":"IF($F$17=\"breakfast\",IF(Z32=0,,(Z32/$E$16)*'Customer Info'!$H$19),)","v":0},{"$f":"IF($F$17=\"dinner\",IF(AB32=0,,(AB32/$E$18)*'Customer Info'!$H$19),)","v":0},{"$f":"IF($F$17=\"other\",IF(AC32=0,,(AC32/$E$19)*'Customer Info'!$H$19),)","v":0},0,{"$f":"IF($F$18=\"breakfast\",IF(Z32=0,,(Z32/$E$16)*'Customer Info'!$H$20),)","v":0},{"$f":"IF($F$18=\"lunch\",IF(AA32=0,,(AA32/$E$17)*'Customer Info'!$H$20),)","v":0},{"$f":"IF($F$18=\"other\",IF(AC32=0,,(AC32/$E$19)*'Customer Info'!$H$20),)","v":0},0,{"$f":"IF($F$19=\"breakfast\",IF(Z32=0,,(Z32/$E$16)*'Customer Info'!$H$21),)","v":0},{"$f":"IF($F$19=\"lunch\",IF(AA32=0,,(AA32/$E$17)*'Customer Info'!$H$21),)","v":0},{"$f":"IF($F$19=\"dinner\",IF(AB32=0,,(AB32/$E$18)*'Customer Info'!$H$21),)","v":0},0,44.569659934129596,0,{"$f":"IF(Q32=0,,I32*(L32/K32))","v":89.139319868259193},44.569659934129596,"breakfast"]
["lunch",null,"patient","landfill","plate waste","Sandwiches, grilled chicken, salad, rice",2,28.4,null,null,26.4,72.451410658307211,26.4,26.4,0,0,0,0,26.4,0,0,0,0,0,0,0,0,0,0,0,0,0,0,{"$f":"IF((OR($F$4=0,$F$4=\"none\")),IF(R33=0,,IF(OR($E$4='Customer Info'!$D$18,$E$4=0),R33,(R33/$E$4)*'Customer Info'!$D$18)),)","v":0},{"$f":"IF((OR($F$5=0,$F$5=\"none\")),IF(S33=0,,IF(OR($E$5='Customer Info'!$D$18,$E$5=0),S33,(S33/$E$5)*'Customer Info'!$D$19)),)","v":64.2},{"$f":"IF((OR($F$6=0,$F$6=\"none\")),IF(T33=0,,IF(OR($E$6='Customer Info'!$D$18,$E$6=0),T33,(T33/$E$6)*'Customer Info'!$D$20)),)","v":0},{"$f":"IF((OR($F$7=0,$F$7=\"none\")),IF(U33=0,,IF(OR($E$7='Customer Info'!$D$18,$E$7=0),U33,(U33/$E$7)*'Customer Info'!$D$21)),)","v":0},{"$f":"IF((OR($F$10=0,$F$10=\"none\")),IF(V33=0,,IF(OR($E$10='Customer Info'!$F$18,$E$10=0),V33,(V33/$E$10)*'Customer Info'!$F$18)),)","v":0},{"$f":"IF((OR($F$11=0,$F$11=\"none\")),IF(W33=0,,IF(OR($E$11='Customer Info'!$F$19,$E$11=0),W33,(W33/$E$11)*'Customer Info'!$F$19)),)","v":0},{"$f":"IF((OR($F$12=0,$F$12=\"none\")),IF(X33=0,,IF(OR($E$12='Customer Info'!$F$20,$E$12=0),X33,(X33/$E$12)*'Customer Info'!$F$20)),)","v":0},{"$f":"IF((OR($F$13=0,$F$13=\"none\")),IF(Y33=0,,IF(OR($E$13='Customer Info'!$F$21,$E$13=0),Y33,(Y33/$E$13)*'Customer Info'!$F$21)),)","v":0},{"$f":"IF((OR($F$16=0,$F$16=\"none\")),IF(Z33=0,,IF(OR($E$16='Customer Info'!$H$18,$E$16=0),Z33,(Z33/$E$16)*'Customer Info'!$H$18)),)","v":0},{"$f":"IF((OR($F$17=0,$F$17=\"none\")),IF(AA33=0,,IF(OR($E$17='Customer Info'!$H$19,$E$17=0),AA33,(AA33/$E$17)*'Customer Info'!$H$19)),)","v":0},{"$f":"IF((OR($F$18=0,$F$18=\"none\")),IF(AB33=0,,IF(OR($E$18='Customer Info'!$H$20,$E$18=0),AB33,(AB33/$E$18)*'Customer Info'!$H$20)),)","v":0},{"$f":"IF((OR($F$19=0,$F$19=\"none\")),IF(AC33=0,,IF(OR($E$19='Customer Info'!$H$21,$E$19=0),AC33,(AC33/$E$19)*'Customer Info'!$H$21)),)","v":0},{"$f":"IF((OR($F$4=0,$F$4=\"none\")),IF(AD33=0,,IF(OR($E$4='Customer Info'!$D$18,$E$4=0),AD33,(AD33/$E$4)*'Customer Info'!$D$18)),)","v":0},{"$f":"IF((OR($F$5=0,$F$5=\"none\")),IF(AE33=0,,IF(OR($E$5='Customer Info'!$D$19,$E$5=0),AE33,(AE33/$E$5)*'Customer Info'!$D$19)),)","v":0},{"$f":"IF((OR($F$6=0,$F$6=\"none\")),IF(AF33=0,,IF(OR($E$6='Customer Info'!$D$20,$E$6=0),AF33,(AF33/$E$6)*'Customer Info'!$D$20)),)","v":0},{"$f":"IF((OR($F$7=0,$F$7=\"none\")),IF(AG33=0,,IF(OR($E$7='Customer Info'!$D$21,$E$7=0),AG33,(AG33/$E$7)*'Customer Info'!$D$21)),)","v":0},64.2,64.2,{"$f":"IF(E33=\"plate waste\",,IF('Customer Info'!$M$18=0,'Log Sheet'!AY33,'Customer Info'!$M$18*'Log Sheet'!AY33))","v":0},{"$f":"IF(E33=\"plate waste\",IF(OR(C33=\"patient\",C33=\"patient beverages\"),IF('Customer Info'!$M$27=0,AY33*'Customer Info'!$M$18,AY33*'Customer Info'!$M$27),IF(C33=\"cafeteria\",IF('Customer Info'!$M$28=0,AY33*'Customer Info'!$M$18,AY33*'Customer Info'!$M$28),IF(C33=\"other1\",IF('Customer Info'!$M$29=0,AY33*'Customer Info'!$M$18,AY33*'Customer Info'!$M$29),))),)","v":72.451410658307211},72.451410658307211,{"$f":"IF($F$4=\"lunch\",IF(S33=0,,(S33/$E$5)*'Customer Info'!$D$18),)","v":0},{"$f":"IF($F$4=\"dinner\",IF(T33=0,,(T33/$E$6)*'Customer Info'!$D$18),)","v":0},{"$f":"IF($F$4=\"other\",IF(U33=0,,(U33/$E$7)*'Customer Info'!$D$18),)","v":0},0,{"$f":"IF($F$5=\"breakfast\",IF(R33=0,,(R33/$E$4)*'Customer Info'!$D$19),)","v":0},{"$f":"IF($F$5=\"dinner\",IF(T33=0,,(T33/$E$6)*'Customer Info'!$D$19),)","v":0},{"$f":"IF($F$5=\"other\",IF(U33=0,,(U33/$E$7)*'Customer Info'!$D$19),)","v":0},0,{"$f":"IF($F$6=\"breakfast\",IF(R33=0,,(R33/$E$4)*'Customer Info'!$D$20),)","v":0},{"$f":"IF($F$6=\"lunch\",IF(S33=0,,(S33/$E$5)*'Customer Info'!$D$20),)","v":0},{"$f":"IF($F$6=\"other\",IF(U33=0,,(U33/$E$7)*'Customer Info'!$D$20),)","v":0},0,{"$f":"IF($F$7=\"breakfast\",IF(R33=0,,(R33/$E$4)*'Customer Info'!$D$21),)","v":0},{"$f":"IF($F$7=\"lunch\",IF(S33=0,,(S33/$E$5)*'Customer Info'!$D$21),)","v":0},{"$f":"IF($F$7=\"dinner\",IF(T33=0,,(T33/$E$6)*'Customer Info'!$D$21),)","v":0},0,{"$f":"IF($F$10=\"lunch\",IF(W33=0,,(W33/$E$11)*'Customer Info'!$F$18),)","v":0},{"$f":"IF($F$10=\"dinner\",IF(X33=0,,(X33/$E$12)*'Customer Info'!$F$18),)","v":0},{"$f":"IF($F$10=\"other\",IF(Y33=0,,(Y33/$E$13)*'Customer Info'!$F$18),)","v":0},0,{"$f":"IF($F$11=\"breakfast\",IF(V33=0,,(V33/$E$10)*'Customer Info'!$F$19),)","v":0},{"$f":"IF($F$11=\"dinner\",IF(X33=0,,(X33/$E$12)*'Customer Info'!$F$19),)","v":0},{"$f":"IF($F$11=\"other\",IF(Y33=0,,(Y33/$E$13)*'Customer Info'!$F$19),)","v":0},0,{"$f":"IF($F$12=\"breakfast\",IF(V33=0,,(V33/$E$10)*'Customer Info'!$F$20),)","v":0},{"$f":"IF($F$12=\"lunch\",IF(W33=0,,(W33/$E$11)*'Customer Info'!$F$20),)","v":0},{"$f":"IF($F$12=\"other\",IF(Y33=0,,(Y33/$E$13)*'Customer Info'!$F$20),)","v":0},0,{"$f":"IF($F$13=\"breakfast\",IF(V33=0,,(V33/$E$10)*'Customer Info'!$F$21),)","v":0},{"$f":"IF($F$13=\"lunch\",IF(W33=0,,(W33/$E$11)*'Customer Info'!$F$21),)","v":0},{"$f":"IF($F$13=\"dinner\",IF(X33=0,,(X33/$E$12)*'Customer Info'!$F$21),)","v":0},0,{"$f":"IF($F$16=\"lunch\",IF(AA33=0,,(AA33/$E$17)*'Customer Info'!$H$18),)","v":0},{"$f":"IF($F$16=\"dinner\",IF(AB33=0,,(AB33/$E$18)*'Customer Info'!$H$18),)","v":0},{"$f":"IF($F$16=\"other\",IF(AC33=0,,(AC33/$E$19)*'Customer Info'!$H$18),)","v":0},0,{"$f":"IF($F$17=\"breakfast\",IF(Z33=0,,(Z33/$E$16)*'Customer Info'!$H$19),)","v":0},{"$f":"IF($F$17=\"dinner\",IF(AB33=0,,(AB33/$E$18)*'Customer Info'!$H$19),)","v":0},{"$f":"IF($F$17=\"other\",IF(AC33=0,,(AC33/$E$19)*'Customer Info'!$H$19),)","v":0},0,{"$f":"IF($F$18=\"breakfast\",IF(Z33=0,,(Z33/$E$16)*'Customer Info'!$H$20),)","v":0},{"$f":"IF($F$18=\"lunch\",IF(AA33=0,,(AA33/$E$17)*'Customer Info'!$H$20),)","v":0},{"$f":"IF($F$18=\"other\",IF(AC33=0,,(AC33/$E$19)*'Customer Info'!$H$20),)","v":0},0,{"$f":"IF($F$19=\"breakfast\",IF(Z33=0,,(Z33/$E$16)*'Customer Info'!$H$21),)","v":0},{"$f":"IF($F$19=\"lunch\",IF(AA33=0,,(AA33/$E$17)*'Customer Info'!$H$21),)","v":0},{"$f":"IF($F$19=\"dinner\",IF(AB33=0,,(AB33/$E$18)*'Customer Info'!$H$21),)","v":0},0,72.451410658307211,0,0,0,""]
["lunch",null,"patient beverages","landfill","plate waste","Milk, Juice – sorted out",2,24,42,null,22,60.376175548589337,22,0,0,0,22,0,0,0,0,0,0,0,0,0,0,0,0,0,22,0,0,{"$f":"IF((OR($F$4=0,$F$4=\"none\")),IF(R34=0,,IF(OR($E$4='Customer Info'!$D$18,$E$4=0),R34,(R34/$E$4)*'Customer Info'!$D$18)),)","v":0},{"$f":"IF((OR($F$5=0,$F$5=\"none\")),IF(S34=0,,IF(OR($E$5='Customer Info'!$D$18,$E$5=0),S34,(S34/$E$5)*'Customer Info'!$D$19)),)","v":0},{"$f":"IF((OR($F$6=0,$F$6=\"none\")),IF(T34=0,,IF(OR($E$6='Customer Info'!$D$18,$E$6=0),T34,(T34/$E$6)*'Customer Info'!$D$20)),)","v":0},{"$f":"IF((OR($F$7=0,$F$7=\"none\")),IF(U34=0,,IF(OR($E$7='Customer Info'!$D$18,$E$7=0),U34,(U34/$E$7)*'Customer Info'!$D$21)),)","v":0},{"$f":"IF((OR($F$10=0,$F$10=\"none\")),IF(V34=0,,IF(OR($E$10='Customer Info'!$F$18,$E$10=0),V34,(V34/$E$10)*'Customer Info'!$F$18)),)","v":0},{"$f":"IF((OR($F$11=0,$F$11=\"none\")),IF(W34=0,,IF(OR($E$11='Customer Info'!$F$19,$E$11=0),W34,(W34/$E$11)*'Customer Info'!$F$19)),)","v":0},{"$f":"IF((OR($F$12=0,$F$12=\"none\")),IF(X34=0,,IF(OR($E$12='Customer Info'!$F$20,$E$12=0),X34,(X34/$E$12)*'Customer Info'!$F$20)),)","v":0},{"$f":"IF((OR($F$13=0,$F$13=\"none\")),IF(Y34=0,,IF(OR($E$13='Customer Info'!$F$21,$E$13=0),Y34,(Y34/$E$13)*'Customer Info'!$F$21)),)","v":0},{"$f":"IF((OR($F$16=0,$F$16=\"none\")),IF(Z34=0,,IF(OR($E$16='Customer Info'!$H$18,$E$16=0),Z34,(Z34/$E$16)*'Customer Info'!$H$18)),)","v":0},{"$f":"IF((OR($F$17=0,$F$17=\"none\")),IF(AA34=0,,IF(OR($E$17='Customer Info'!$H$19,$E$17=0),AA34,(AA34/$E$17)*'Customer Info'!$H$19)),)","v":0},{"$f":"IF((OR($F$18=0,$F$18=\"none\")),IF(AB34=0,,IF(OR($E$18='Customer Info'!$H$20,$E$18=0),AB34,(AB34/$E$18)*'Customer Info'!$H$20)),)","v":0},{"$f":"IF((OR($F$19=0,$F$19=\"none\")),IF(AC34=0,,IF(OR($E$19='Customer Info'!$H$21,$E$19=0),AC34,(AC34/$E$19)*'Customer Info'!$H$21)),)","v":0},{"$f":"IF((OR($F$4=0,$F$4=\"none\")),IF(AD34=0,,IF(OR($E$4='Customer Info'!$D$18,$E$4=0),AD34,(AD34/$E$4)*'Customer Info'!$D$18)),)","v":0},{"$f":"IF((OR($F$5=0,$F$5=\"none\")),IF(AE34=0,,IF(OR($E$5='Customer Info'!$D$19,$E$5=0),AE34,(AE34/$E$5)*'Customer Info'!$D$19)),)","v":53.5},{"$f":"IF((OR($F$6=0,$F$6=\"none\")),IF(AF34=0,,IF(OR($E$6='Customer Info'!$D$20,$E$6=0),AF34,(AF34/$E$6)*'Customer Info'!$D$20)),)","v":0},{"$f":"IF((OR($F$7=0,$F$7=\"none\")),IF(AG34=0,,IF(OR($E$7='Customer Info'!$D$21,$E$7=0),AG34,(AG34/$E$7)*'Customer Info'!$D$21)),)","v":0},53.5,53.5,{"$f":"IF(E34=\"plate waste\",,IF('Customer Info'!$M$18=0,'Log Sheet'!AY34,'Customer Info'!$M$18*'Log Sheet'!AY34))","v":0},{"$f":"IF(E34=\"plate waste\",IF(OR(C34=\"patient\",C34=\"patient beverages\"),IF('Customer Info'!$M$27=0,AY34*'Customer Info'!$M$18,AY34*'Customer Info'!$M$27),IF(C34=\"cafeteria\",IF('Customer Info'!$M$28=0,AY34*'Customer Info'!$M$18,AY34*'Customer Info'!$M$28),IF(C34=\"other1\",IF('Customer Info'!$M$29=0,AY34*'Customer Info'!$M$18,AY34*'Customer Info'!$M$29),))),)","v":60.376175548589337},60.376175548589337,{"$f":"IF($F$4=\"lunch\",IF(S34=0,,(S34/$E$5)*'Customer Info'!$D$18),)","v":0},{"$f":"IF($F$4=\"dinner\",IF(T34=0,,(T34/$E$6)*'Customer Info'!$D$18),)","v":0},{"$f":"IF($F$4=\"other\",IF(U34=0,,(U34/$E$7)*'Customer Info'!$D$18),)","v":0},0,{"$f":"IF($F$5=\"breakfast\",IF(R34=0,,(R34/$E$4)*'Customer Info'!$D$19),)","v":0},{"$f":"IF($F$5=\"dinner\",IF(T34=0,,(T34/$E$6)*'Customer Info'!$D$19),)","v":0},{"$f":"IF($F$5=\"other\",IF(U34=0,,(U34/$E$7)*'Customer Info'!$D$19),)","v":0},0,{"$f":"IF($F$6=\"breakfast\",IF(R34=0,,(R34/$E$4)*'Customer Info'!$D$20),)","v":0},{"$f":"IF($F$6=\"lunch\",IF(S34=0,,(S34/$E$5)*'Customer Info'!$D$20),)","v":0},{"$f":"IF($F$6=\"other\",IF(U34=0,,(U34/$E$7)*'Customer Info'!$D$20),)","v":0},0,{"$f":"IF($F$7=\"breakfast\",IF(R34=0,,(R34/$E$4)*'Customer Info'!$D$21),)","v":0},{"$f":"IF($F$7=\"lunch\",IF(S34=0,,(S34/$E$5)*'Customer Info'!$D$21),)","v":0},{"$f":"IF($F$7=\"dinner\",IF(T34=0,,(T34/$E$6)*'Customer Info'!$D$21),)","v":0},0,{"$f":"IF($F$10=\"lunch\",IF(W34=0,,(W34/$E$11)*'Customer Info'!$F$18),)","v":0},{"$f":"IF($F$10=\"dinner\",IF(X34=0,,(X34/$E$12)*'Customer Info'!$F$18),)","v":0},{"$f":"IF($F$10=\"other\",IF(Y34=0,,(Y34/$E$13)*'Customer Info'!$F$18),)","v":0},0,{"$f":"IF($F$11=\"breakfast\",IF(V34=0,,(V34/$E$10)*'Customer Info'!$F$19),)","v":0},{"$f":"IF($F$11=\"dinner\",IF(X34=0,,(X34/$E$12)*'Customer Info'!$F$19),)","v":0},{"$f":"IF($F$11=\"other\",IF(Y34=0,,(Y34/$E$13)*'Customer Info'!$F$19),)","v":0},0,{"$f":"IF($F$12=\"breakfast\",IF(V34=0,,(V34/$E$10)*'Customer Info'!$F$20),)","v":0},{"$f":"IF($F$12=\"lunch\",IF(W34=0,,(W34/$E$11)*'Customer Info'!$F$20),)","v":0},{"$f":"IF($F$12=\"other\",IF(Y34=0,,(Y34/$E$13)*'Customer Info'!$F$20),)","v":0},0,{"$f":"IF($F$13=\"breakfast\",IF(V34=0,,(V34/$E$10)*'Customer Info'!$F$21),)","v":0},{"$f":"IF($F$13=\"lunch\",IF(W34=0,,(W34/$E$11)*'Customer Info'!$F$21),)","v":0},{"$f":"IF($F$13=\"dinner\",IF(X34=0,,(X34/$E$12)*'Customer Info'!$F$21),)","v":0},0,{"$f":"IF($F$16=\"lunch\",IF(AA34=0,,(AA34/$E$17)*'Customer Info'!$H$18),)","v":0},{"$f":"IF($F$16=\"dinner\",IF(AB34=0,,(AB34/$E$18)*'Customer Info'!$H$18),)","v":0},{"$f":"IF($F$16=\"other\",IF(AC34=0,,(AC34/$E$19)*'Customer Info'!$H$18),)","v":0},0,{"$f":"IF($F$17=\"breakfast\",IF(Z34=0,,(Z34/$E$16)*'Customer Info'!$H$19),)","v":0},{"$f":"IF($F$17=\"dinner\",IF(AB34=0,,(AB34/$E$18)*'Customer Info'!$H$19),)","v":0},{"$f":"IF($F$17=\"other\",IF(AC34=0,,(AC34/$E$19)*'Customer Info'!$H$19),)","v":0},0,{"$f":"IF($F$18=\"breakfast\",IF(Z34=0,,(Z34/$E$16)*'Customer Info'!$H$20),)","v":0},{"$f":"IF($F$18=\"lunch\",IF(AA34=0,,(AA34/$E$17)*'Customer Info'!$H$20),)","v":0},{"$f":"IF($F$18=\"other\",IF(AC34=0,,(AC34/$E$19)*'Customer Info'!$H$20),)","v":0},0,{"$f":"IF($F$19=\"breakfast\",IF(Z34=0,,(Z34/$E$16)*'Customer Info'!$H$21),)","v":0},{"$f":"IF($F$19=\"lunch\",IF(AA34=0,,(AA34/$E$17)*'Customer Info'!$H$21),)","v":0},{"$f":"IF($F$19=\"dinner\",IF(AB34=0,,(AB34/$E$18)*'Customer Info'!$H$21),)","v":0},0,60.376175548589337,0,{"$f":"IF(Q34=0,,I34*(L34/K34))","v":115.26360786548874},60.376175548589337,"lunch"]
["lunch",null,"cafeteria","landfill","plate waste","Pizza, French fries, pasta, roast beef",2,11,null,null,9,61.168965517241382,9,0,9,0,0,0,0,0,0,0,9,0,0,0,0,0,0,0,0,0,0,{"$f":"IF((OR($F$4=0,$F$4=\"none\")),IF(R35=0,,IF(OR($E$4='Customer Info'!$D$18,$E$4=0),R35,(R35/$E$4)*'Customer Info'!$D$18)),)","v":0},{"$f":"IF((OR($F$5=0,$F$5=\"none\")),IF(S35=0,,IF(OR($E$5='Customer Info'!$D$18,$E$5=0),S35,(S35/$E$5)*'Customer Info'!$D$19)),)","v":0},{"$f":"IF((OR($F$6=0,$F$6=\"none\")),IF(T35=0,,IF(OR($E$6='Customer Info'!$D$18,$E$6=0),T35,(T35/$E$6)*'Customer Info'!$D$20)),)","v":0},{"$f":"IF((OR($F$7=0,$F$7=\"none\")),IF(U35=0,,IF(OR($E$7='Customer Info'!$D$18,$E$7=0),U35,(U35/$E$7)*'Customer Info'!$D$21)),)","v":0},{"$f":"IF((OR($F$10=0,$F$10=\"none\")),IF(V35=0,,IF(OR($E$10='Customer Info'!$F$18,$E$10=0),V35,(V35/$E$10)*'Customer Info'!$F$18)),)","v":0},{"$f":"IF((OR($F$11=0,$F$11=\"none\")),IF(W35=0,,IF(OR($E$11='Customer Info'!$F$19,$E$11=0),W35,(W35/$E$11)*'Customer Info'!$F$19)),)","v":73},{"$f":"IF((OR($F$12=0,$F$12=\"none\")),IF(X35=0,,IF(OR($E$12='Customer Info'!$F$20,$E$12=0),X35,(X35/$E$12)*'Customer Info'!$F$20)),)","v":0},{"$f":"IF((OR($F$13=0,$F$13=\"none\")),IF(Y35=0,,IF(OR($E$13='Customer Info'!$F$21,$E$13=0),Y35,(Y35/$E$13)*'Customer Info'!$F$21)),)","v":0},{"$f":"IF((OR($F$16=0,$F$16=\"none\")),IF(Z35=0,,IF(OR($E$16='Customer Info'!$H$18,$E$16=0),Z35,(Z35/$E$16)*'Customer Info'!$H$18)),)","v":0},{"$f":"IF((OR($F$17=0,$F$17=\"none\")),IF(AA35=0,,IF(OR($E$17='Customer Info'!$H$19,$E$17=0),AA35,(AA35/$E$17)*'Customer Info'!$H$19)),)","v":0},{"$f":"IF((OR($F$18=0,$F$18=\"none\")),IF(AB35=0,,IF(OR($E$18='Customer Info'!$H$20,$E$18=0),AB35,(AB35/$E$18)*'Customer Info'!$H$20)),)","v":0},{"$f":"IF((OR($F$19=0,$F$19=\"none\")),IF(AC35=0,,IF(OR($E$19='Customer Info'!$H$21,$E$19=0),AC35,(AC35/$E$19)*'Customer Info'!$H$21)),)","v":0},{"$f":"IF((OR($F$4=0,$F$4=\"none\")),IF(AD35=0,,IF(OR($E$4='Customer Info'!$D$18,$E$4=0),AD35,(AD35/$E$4)*'Customer Info'!$D$18)),)","v":0},{"$f":"IF((OR($F$5=0,$F$5=\"none\")),IF(AE35=0,,IF(OR($E$5='Customer Info'!$D$19,$E$5=0),AE35,(AE35/$E$5)*'Customer Info'!$D$19)),)","v":0},{"$f":"IF((OR($F$6=0,$F$6=\"none\")),IF(AF35=0,,IF(OR($E$6='Customer Info'!$D$20,$E$6=0),AF35,(AF35/$E$6)*'Customer Info'!$D$20)),)","v":0},{"$f":"IF((OR($F$7=0,$F$7=\"none\")),IF(AG35=0,,IF(OR($E$7='Customer Info'!$D$21,$E$7=0),AG35,(AG35/$E$7)*'Customer Info'!$D$21)),)","v":0},73,73,{"$f":"IF(E35=\"plate waste\",,IF('Customer Info'!$M$18=0,'Log Sheet'!AY35,'Customer Info'!$M$18*'Log Sheet'!AY35))","v":0},{"$f":"IF(E35=\"plate waste\",IF(OR(C35=\"patient\",C35=\"patient beverages\"),IF('Customer Info'!$M$27=0,AY35*'Customer Info'!$M$18,AY35*'Customer Info'!$M$27),IF(C35=\"cafeteria\",IF('Customer Info'!$M$28=0,AY35*'Customer Info'!$M$18,AY35*'Customer Info'!$M$28),IF(C35=\"other1\",IF('Customer Info'!$M$29=0,AY35*'Customer Info'!$M$18,AY35*'Customer Info'!$M$29),))),)","v":61.168965517241382},61.168965517241382,{"$f":"IF($F$4=\"lunch\",IF(S35=0,,(S35/$E$5)*'Customer Info'!$D$18),)","v":0},{"$f":"IF($F$4=\"dinner\",IF(T35=0,,(T35/$E$6)*'Customer Info'!$D$18),)","v":0},{"$f":"IF($F$4=\"other\",IF(U35=0,,(U35/$E$7)*'Customer Info'!$D$18),)","v":0},0,{"$f":"IF($F$5=\"breakfast\",IF(R35=0,,(R35/$E$4)*'Customer Info'!$D$19),)","v":0},{"$f":"IF($F$5=\"dinner\",IF(T35=0,,(T35/$E$6)*'Customer Info'!$D$19),)","v":0},{"$f":"IF($F$5=\"other\",IF(U35=0,,(U35/$E$7)*'Customer Info'!$D$19),)","v":0},0,{"$f":"IF($F$6=\"breakfast\",IF(R35=0,,(R35/$E$4)*'Customer Info'!$D$20),)","v":0},{"$f":"IF($F$6=\"lunch\",IF(S35=0,,(S35/$E$5)*'Customer Info'!$D$20),)","v":0},{"$f":"IF($F$6=\"other\",IF(U35=0,,(U35/$E$7)*'Customer Info'!$D$20),)","v":0},0,{"$f":"IF($F$7=\"breakfast\",IF(R35=0,,(R35/$E$4)*'Customer Info'!$D$21),)","v":0},{"$f":"IF($F$7=\"lunch\",IF(S35=0,,(S35/$E$5)*'Customer Info'!$D$21),)","v":0},{"$f":"IF($F$7=\"dinner\",IF(T35=0,,(T35/$E$6)*'Customer Info'!$D$21),)","v":0},0,{"$f":"IF($F$10=\"lunch\",IF(W35=0,,(W35/$E$11)*'Customer Info'!$F$18),)","v":36.6},{"$f":"IF($F$10=\"dinner\",IF(X35=0,,(X35/$E$12)*'Customer Info'!$F$18),)","v":0},{"$f":"IF($F$10=\"other\",IF(Y35=0,,(Y35/$E$13)*'Customer Info'!$F$18),)","v":0},36.6,{"$f":"IF($F$11=\"breakfast\",IF(V35=0,,(V35/$E$10)*'Customer Info'!$F$19),)","v":0},{"$f":"IF($F$11=\"dinner\",IF(X35=0,,(X35/$E$12)*'Customer Info'!$F$19),)","v":0},{"$f":"IF($F$11=\"other\",IF(Y35=0,,(Y35/$E$13)*'Customer Info'!$F$19),)","v":0},0,{"$f":"IF($F$12=\"breakfast\",IF(V35=0,,(V35/$E$10)*'Customer Info'!$F$20),)","v":0},{"$f":"IF($F$12=\"lunch\",IF(W35=0,,(W35/$E$11)*'Customer Info'!$F$20),)","v":0},{"$f":"IF($F$12=\"other\",IF(Y35=0,,(Y35/$E$13)*'Customer Info'!$F$20),)","v":0},0,{"$f":"IF($F$13=\"breakfast\",IF(V35=0,,(V35/$E$10)*'Customer Info'!$F$21),)","v":0},{"$f":"IF($F$13=\"lunch\",IF(W35=0,,(W35/$E$11)*'Customer Info'!$F$21),)","v":0},{"$f":"IF($F$13=\"dinner\",IF(X35=0,,(X35/$E$12)*'Customer Info'!$F$21),)","v":0},0,{"$f":"IF($F$16=\"lunch\",IF(AA35=0,,(AA35/$E$17)*'Customer Info'!$H$18),)","v":0},{"$f":"IF($F$16=\"dinner\",IF(AB35=0,,(AB35/$E$18)*'Customer Info'!$H$18),)","v":0},{"$f":"IF($F$16=\"other\",IF(AC35=0,,(AC35/$E$19)*'Customer Info'!$H$18),)","v":0},0,{"$f":"IF($F$17=\"breakfast\",IF(Z35=0,,(Z35/$E$16)*'Customer Info'!$H$19),)","v":0},{"$f":"IF($F$17=\"dinner\",IF(AB35=0,,(AB35/$E$18)*'Customer Info'!$H$19),)","v":0},{"$f":"IF($F$17=\"other\",IF(AC35=0,,(AC35/$E$19)*'Customer Info'!$H$19),)","v":0},0,{"$f":"IF($F$18=\"breakfast\",IF(Z35=0,,(Z35/$E$16)*'Customer Info'!$H$20),)","v":0},{"$f":"IF($F$18=\"lunch\",IF(AA35=0,,(AA35/$E$17)*'Customer Info'!$H$20),)","v":0},{"$f":"IF($F$18=\"other\",IF(AC35=0,,(AC35/$E$19)*'Customer Info'!$H$20),)","v":0},0,{"$f":"IF($F$19=\"breakfast\",IF(Z35=0,,(Z35/$E$16)*'Customer Info'!$H$21),)","v":0},{"$f":"IF($F$19=\"lunch\",IF(AA35=0,,(AA35/$E$17)*'Customer Info'!$H$21),)","v":0},{"$f":"IF($F$19=\"dinner\",IF(AB35=0,,(AB35/$E$18)*'Customer Info'!$H$21),)","v":0},0,61.168965517241382,0,0,0,""]
["lunch",null,"patient","landfill","plate waste","Refused meal (patient non-selected, ER) – sandwich, salad & dressing, milk",2,3.2,null,null,1.2000000000000002,3.2932459390139646,1.2000000000000002,1.2000000000000002,0,0,0,0,1.2000000000000002,0,0,0,0,0,0,0,0,0,0,0,0,0,0,{"$f":"IF((OR($F$4=0,$F$4=\"none\")),IF(R36=0,,IF(OR($E$4='Customer Info'!$D$18,$E$4=0),R36,(R36/$E$4)*'Customer Info'!$D$18)),)","v":0},{"$f":"IF((OR($F$5=0,$F$5=\"none\")),IF(S36=0,,IF(OR($E$5='Customer Info'!$D$18,$E$5=0),S36,(S36/$E$5)*'Customer Info'!$D$19)),)","v":2.9181818181818189},{"$f":"IF((OR($F$6=0,$F$6=\"none\")),IF(T36=0,,IF(OR($E$6='Customer Info'!$D$18,$E$6=0),T36,(T36/$E$6)*'Customer Info'!$D$20)),)","v":0},{"$f":"IF((OR($F$7=0,$F$7=\"none\")),IF(U36=0,,IF(OR($E$7='Customer Info'!$D$18,$E$7=0),U36,(U36/$E$7)*'Customer Info'!$D$21)),)","v":0},{"$f":"IF((OR($F$10=0,$F$10=\"none\")),IF(V36=0,,IF(OR($E$10='Customer Info'!$F$18,$E$10=0),V36,(V36/$E$10)*'Customer Info'!$F$18)),)","v":0},{"$f":"IF((OR($F$11=0,$F$11=\"none\")),IF(W36=0,,IF(OR($E$11='Customer Info'!$F$19,$E$11=0),W36,(W36/$E$11)*'Customer Info'!$F$19)),)","v":0},{"$f":"IF((OR($F$12=0,$F$12=\"none\")),IF(X36=0,,IF(OR($E$12='Customer Info'!$F$20,$E$12=0),X36,(X36/$E$12)*'Customer Info'!$F$20)),)","v":0},{"$f":"IF((OR($F$13=0,$F$13=\"none\")),IF(Y36=0,,IF(OR($E$13='Customer Info'!$F$21,$E$13=0),Y36,(Y36/$E$13)*'Customer Info'!$F$21)),)","v":0},{"$f":"IF((OR($F$16=0,$F$16=\"none\")),IF(Z36=0,,IF(OR($E$16='Customer Info'!$H$18,$E$16=0),Z36,(Z36/$E$16)*'Customer Info'!$H$18)),)","v":0},{"$f":"IF((OR($F$17=0,$F$17=\"none\")),IF(AA36=0,,IF(OR($E$17='Customer Info'!$H$19,$E$17=0),AA36,(AA36/$E$17)*'Customer Info'!$H$19)),)","v":0},{"$f":"IF((OR($F$18=0,$F$18=\"none\")),IF(AB36=0,,IF(OR($E$18='Customer Info'!$H$20,$E$18=0),AB36,(AB36/$E$18)*'Customer Info'!$H$20)),)","v":0},{"$f":"IF((OR($F$19=0,$F$19=\"none\")),IF(AC36=0,,IF(OR($E$19='Customer Info'!$H$21,$E$19=0),AC36,(AC36/$E$19)*'Customer Info'!$H$21)),)","v":0},{"$f":"IF((OR($F$4=0,$F$4=\"none\")),IF(AD36=0,,IF(OR($E$4='Customer Info'!$D$18,$E$4=0),AD36,(AD36/$E$4)*'Customer Info'!$D$18)),)","v":0},{"$f":"IF((OR($F$5=0,$F$5=\"none\")),IF(AE36=0,,IF(OR($E$5='Customer Info'!$D$19,$E$5=0),AE36,(AE36/$E$5)*'Customer Info'!$D$19)),)","v":0},{"$f":"IF((OR($F$6=0,$F$6=\"none\")),IF(AF36=0,,IF(OR($E$6='Customer Info'!$D$20,$E$6=0),AF36,(AF36/$E$6)*'Customer Info'!$D$20)),)","v":0},{"$f":"IF((OR($F$7=0,$F$7=\"none\")),IF(AG36=0,,IF(OR($E$7='Customer Info'!$D$21,$E$7=0),AG36,(AG36/$E$7)*'Customer Info'!$D$21)),)","v":0},2.9181818181818189,2.9181818181818189,{"$f":"IF(E36=\"plate waste\",,IF('Customer Info'!$M$18=0,'Log Sheet'!AY36,'Customer Info'!$M$18*'Log Sheet'!AY36))","v":0},{"$f":"IF(E36=\"plate waste\",IF(OR(C36=\"patient\",C36=\"patient beverages\"),IF('Customer Info'!$M$27=0,AY36*'Customer Info'!$M$18,AY36*'Customer Info'!$M$27),IF(C36=\"cafeteria\",IF('Customer Info'!$M$28=0,AY36*'Customer Info'!$M$18,AY36*'Customer Info'!$M$28),IF(C36=\"other1\",IF('Customer Info'!$M$29=0,AY36*'Customer Info'!$M$18,AY36*'Customer Info'!$M$29),))),)","v":3.2932459390139646},3.2932459390139646,{"$f":"IF($F$4=\"lunch\",IF(S36=0,,(S36/$E$5)*'Customer Info'!$D$18),)","v":0},{"$f":"IF($F$4=\"dinner\",IF(T36=0,,(T36/$E$6)*'Customer Info'!$D$18),)","v":0},{"$f":"IF($F$4=\"other\",IF(U36=0,,(U36/$E$7)*'Customer Info'!$D$18),)","v":0},0,{"$f":"IF($F$5=\"breakfast\",IF(R36=0,,(R36/$E$4)*'Customer Info'!$D$19),)","v":0},{"$f":"IF($F$5=\"dinner\",IF(T36=0,,(T36/$E$6)*'Customer Info'!$D$19),)","v":0},{"$f":"IF($F$5=\"other\",IF(U36=0,,(U36/$E$7)*'Customer Info'!$D$19),)","v":0},0,{"$f":"IF($F$6=\"breakfast\",IF(R36=0,,(R36/$E$4)*'Customer Info'!$D$20),)","v":0},{"$f":"IF($F$6=\"lunch\",IF(S36=0,,(S36/$E$5)*'Customer Info'!$D$20),)","v":0},{"$f":"IF($F$6=\"other\",IF(U36=0,,(U36/$E$7)*'Customer Info'!$D$20),)","v":0},0,{"$f":"IF($F$7=\"breakfast\",IF(R36=0,,(R36/$E$4)*'Customer Info'!$D$21),)","v":0},{"$f":"IF($F$7=\"lunch\",IF(S36=0,,(S36/$E$5)*'Customer Info'!$D$21),)","v":0},{"$f":"IF($F$7=\"dinner\",IF(T36=0,,(T36/$E$6)*'Customer Info'!$D$21),)","v":0},0,{"$f":"IF($F$10=\"lunch\",IF(W36=0,,(W36/$E$11)*'Customer Info'!$F$18),)","v":0},{"$f":"IF($F$10=\"dinner\",IF(X36=0,,(X36/$E$12)*'Customer Info'!$F$18),)","v":0},{"$f":"IF($F$10=\"other\",IF(Y36=0,,(Y36/$E$13)*'Customer Info'!$F$18),)","v":0},0,{"$f":"IF($F$11=\"breakfast\",IF(V36=0,,(V36/$E$10)*'Customer Info'!$F$19),)","v":0},{"$f":"IF($F$11=\"dinner\",IF(X36=0,,(X36/$E$12)*'Customer Info'!$F$19),)","v":0},{"$f":"IF($F$11=\"other\",IF(Y36=0,,(Y36/$E$13)*'Customer Info'!$F$19),)","v":0},0,{"$f":"IF($F$12=\"breakfast\",IF(V36=0,,(V36/$E$10)*'Customer Info'!$F$20),)","v":0},{"$f":"IF($F$12=\"lunch\",IF(W36=0,,(W36/$E$11)*'Customer Info'!$F$20),)","v":0},{"$f":"IF($F$12=\"other\",IF(Y36=0,,(Y36/$E$13)*'Customer Info'!$F$20),)","v":0},0,{"$f":"IF($F$13=\"breakfast\",IF(V36=0,,(V36/$E$10)*'Customer Info'!$F$21),)","v":0},{"$f":"IF($F$13=\"lunch\",IF(W36=0,,(W36/$E$11)*'Customer Info'!$F$21),)","v":0},{"$f":"IF($F$13=\"dinner\",IF(X36=0,,(X36/$E$12)*'Customer Info'!$F$21),)","v":0},0,{"$f":"IF($F$16=\"lunch\",IF(AA36=0,,(AA36/$E$17)*'Customer Info'!$H$18),)","v":0},{"$f":"IF($F$16=\"dinner\",IF(AB36=0,,(AB36/$E$18)*'Customer Info'!$H$18),)","v":0},{"$f":"IF($F$16=\"other\",IF(AC36=0,,(AC36/$E$19)*'Customer Info'!$H$18),)","v":0},0,{"$f":"IF($F$17=\"breakfast\",IF(Z36=0,,(Z36/$E$16)*'Customer Info'!$H$19),)","v":0},{"$f":"IF($F$17=\"dinner\",IF(AB36=0,,(AB36/$E$18)*'Customer Info'!$H$19),)","v":0},{"$f":"IF($F$17=\"other\",IF(AC36=0,,(AC36/$E$19)*'Customer Info'!$H$19),)","v":0},0,{"$f":"IF($F$18=\"breakfast\",IF(Z36=0,,(Z36/$E$16)*'Customer Info'!$H$20),)","v":0},{"$f":"IF($F$18=\"lunch\",IF(AA36=0,,(AA36/$E$17)*'Customer Info'!$H$20),)","v":0},{"$f":"IF($F$18=\"other\",IF(AC36=0,,(AC36/$E$19)*'Customer Info'!$H$20),)","v":0},0,{"$f":"IF($F$19=\"breakfast\",IF(Z36=0,,(Z36/$E$16)*'Customer Info'!$H$21),)","v":0},{"$f":"IF($F$19=\"lunch\",IF(AA36=0,,(AA36/$E$17)*'Customer Info'!$H$21),)","v":0},{"$f":"IF($F$19=\"dinner\",IF(AB36=0,,(AB36/$E$18)*'Customer Info'!$H$21),)","v":0},0,3.2932459390139646,0,0,0,""]
["dinner",null,"cafeteria","landfill","plate waste","Pizza, French fries, rice, chicken",2,11,null,null,9,110.37836990595613,9,0,9,0,0,0,0,0,0,0,0,9,0,0,0,0,0,0,0,0,0,{"$f":"IF((OR($F$4=0,$F$4=\"none\")),IF(R37=0,,IF(OR($E$4='Customer Info'!$D$18,$E$4=0),R37,(R37/$E$4)*'Customer Info'!$D$18)),)","v":0},{"$f":"IF((OR($F$5=0,$F$5=\"none\")),IF(S37=0,,IF(OR($E$5='Customer Info'!$D$18,$E$5=0),S37,(S37/$E$5)*'Customer Info'!$D$19)),)","v":0},{"$f":"IF((OR($F$6=0,$F$6=\"none\")),IF(T37=0,,IF(OR($E$6='Customer Info'!$D$18,$E$6=0),T37,(T37/$E$6)*'Customer Info'!$D$20)),)","v":0},{"$f":"IF((OR($F$7=0,$F$7=\"none\")),IF(U37=0,,IF(OR($E$7='Customer Info'!$D$18,$E$7=0),U37,(U37/$E$7)*'Customer Info'!$D$21)),)","v":0},{"$f":"IF((OR($F$10=0,$F$10=\"none\")),IF(V37=0,,IF(OR($E$10='Customer Info'!$F$18,$E$10=0),V37,(V37/$E$10)*'Customer Info'!$F$18)),)","v":0},{"$f":"IF((OR($F$11=0,$F$11=\"none\")),IF(W37=0,,IF(OR($E$11='Customer Info'!$F$19,$E$11=0),W37,(W37/$E$11)*'Customer Info'!$F$19)),)","v":0},{"$f":"IF((OR($F$12=0,$F$12=\"none\")),IF(X37=0,,IF(OR($E$12='Customer Info'!$F$20,$E$12=0),X37,(X37/$E$12)*'Customer Info'!$F$20)),)","v":131.72727272727275},{"$f":"IF((OR($F$13=0,$F$13=\"none\")),IF(Y37=0,,IF(OR($E$13='Customer Info'!$F$21,$E$13=0),Y37,(Y37/$E$13)*'Customer Info'!$F$21)),)","v":0},{"$f":"IF((OR($F$16=0,$F$16=\"none\")),IF(Z37=0,,IF(OR($E$16='Customer Info'!$H$18,$E$16=0),Z37,(Z37/$E$16)*'Customer Info'!$H$18)),)","v":0},{"$f":"IF((OR($F$17=0,$F$17=\"none\")),IF(AA37=0,,IF(OR($E$17='Customer Info'!$H$19,$E$17=0),AA37,(AA37/$E$17)*'Customer Info'!$H$19)),)","v":0},{"$f":"IF((OR($F$18=0,$F$18=\"none\")),IF(AB37=0,,IF(OR($E$18='Customer Info'!$H$20,$E$18=0),AB37,(AB37/$E$18)*'Customer Info'!$H$20)),)","v":0},{"$f":"IF((OR($F$19=0,$F$19=\"none\")),IF(AC37=0,,IF(OR($E$19='Customer Info'!$H$21,$E$19=0),AC37,(AC37/$E$19)*'Customer Info'!$H$21)),)","v":0},{"$f":"IF((OR($F$4=0,$F$4=\"none\")),IF(AD37=0,,IF(OR($E$4='Customer Info'!$D$18,$E$4=0),AD37,(AD37/$E$4)*'Customer Info'!$D$18)),)","v":0},{"$f":"IF((OR($F$5=0,$F$5=\"none\")),IF(AE37=0,,IF(OR($E$5='Customer Info'!$D$19,$E$5=0),AE37,(AE37/$E$5)*'Customer Info'!$D$19)),)","v":0},{"$f":"IF((OR($F$6=0,$F$6=\"none\")),IF(AF37=0,,IF(OR($E$6='Customer Info'!$D$20,$E$6=0),AF37,(AF37/$E$6)*'Customer Info'!$D$20)),)","v":0},{"$f":"IF((OR($F$7=0,$F$7=\"none\")),IF(AG37=0,,IF(OR($E$7='Customer Info'!$D$21,$E$7=0),AG37,(AG37/$E$7)*'Customer Info'!$D$21)),)","v":0},131.72727272727275,131.72727272727275,{"$f":"IF(E37=\"plate waste\",,IF('Customer Info'!$M$18=0,'Log Sheet'!AY37,'Customer Info'!$M$18*'Log Sheet'!AY37))","v":0},{"$f":"IF(E37=\"plate waste\",IF(OR(C37=\"patient\",C37=\"patient beverages\"),IF('Customer Info'!$M$27=0,AY37*'Customer Info'!$M$18,AY37*'Customer Info'!$M$27),IF(C37=\"cafeteria\",IF('Customer Info'!$M$28=0,AY37*'Customer Info'!$M$18,AY37*'Customer Info'!$M$28),IF(C37=\"other1\",IF('Customer Info'!$M$29=0,AY37*'Customer Info'!$M$18,AY37*'Customer Info'!$M$29),))),)","v":110.37836990595613},110.37836990595613,{"$f":"IF($F$4=\"lunch\",IF(S37=0,,(S37/$E$5)*'Customer Info'!$D$18),)","v":0},{"$f":"IF($F$4=\"dinner\",IF(T37=0,,(T37/$E$6)*'Customer Info'!$D$18),)","v":0},{"$f":"IF($F$4=\"other\",IF(U37=0,,(U37/$E$7)*'Customer Info'!$D$18),)","v":0},0,{"$f":"IF($F$5=\"breakfast\",IF(R37=0,,(R37/$E$4)*'Customer Info'!$D$19),)","v":0},{"$f":"IF($F$5=\"dinner\",IF(T37=0,,(T37/$E$6)*'Customer Info'!$D$19),)","v":0},{"$f":"IF($F$5=\"other\",IF(U37=0,,(U37/$E$7)*'Customer Info'!$D$19),)","v":0},0,{"$f":"IF($F$6=\"breakfast\",IF(R37=0,,(R37/$E$4)*'Customer Info'!$D$20),)","v":0},{"$f":"IF($F$6=\"lunch\",IF(S37=0,,(S37/$E$5)*'Customer Info'!$D$20),)","v":0},{"$f":"IF($F$6=\"other\",IF(U37=0,,(U37/$E$7)*'Customer Info'!$D$20),)","v":0},0,{"$f":"IF($F$7=\"breakfast\",IF(R37=0,,(R37/$E$4)*'Customer Info'!$D$21),)","v":0},{"$f":"IF($F$7=\"lunch\",IF(S37=0,,(S37/$E$5)*'Customer Info'!$D$21),)","v":0},{"$f":"IF($F$7=\"dinner\",IF(T37=0,,(T37/$E$6)*'Customer Info'!$D$21),)","v":0},0,{"$f":"IF($F$10=\"lunch\",IF(W37=0,,(W37/$E$11)*'Customer Info'!$F$18),)","v":0},{"$f":"IF($F$10=\"dinner\",IF(X37=0,,(X37/$E$12)*'Customer Info'!$F$18),)","v":0},{"$f":"IF($F$10=\"other\",IF(Y37=0,,(Y37/$E$13)*'Customer Info'!$F$18),)","v":0},0,{"$f":"IF($F$11=\"breakfast\",IF(V37=0,,(V37/$E$10)*'Customer Info'!$F$19),)","v":0},{"$f":"IF($F$11=\"dinner\",IF(X37=0,,(X37/$E$12)*'Customer Info'!$F$19),)","v":0},{"$f":"IF($F$11=\"other\",IF(Y37=0,,(Y37/$E$13)*'Customer Info'!$F$19),)","v":0},0,{"$f":"IF($F$12=\"breakfast\",IF(V37=0,,(V37/$E$10)*'Customer Info'!$F$20),)","v":0},{"$f":"IF($F$12=\"lunch\",IF(W37=0,,(W37/$E$11)*'Customer Info'!$F$20),)","v":0},{"$f":"IF($F$12=\"other\",IF(Y37=0,,(Y37/$E$13)*'Customer Info'!$F$20),)","v":0},0,{"$f":"IF($F$13=\"breakfast\",IF(V37=0,,(V37/$E$10)*'Customer Info'!$F$21),)","v":0},{"$f":"IF($F$13=\"lunch\",IF(W37=0,,(W37/$E$11)*'Customer Info'!$F$21),)","v":0},{"$f":"IF($F$13=\"dinner\",IF(X37=0,,(X37/$E$12)*'Customer Info'!$F$21),)","v":0},0,{"$f":"IF($F$16=\"lunch\",IF(AA37=0,,(AA37/$E$17)*'Customer Info'!$H$18),)","v":0},{"$f":"IF($F$16=\"dinner\",IF(AB37=0,,(AB37/$E$18)*'Customer Info'!$H$18),)","v":0},{"$f":"IF($F$16=\"other\",IF(AC37=0,,(AC37/$E$19)*'Customer Info'!$H$18),)","v":0},0,{"$f":"IF($F$17=\"breakfast\",IF(Z37=0,,(Z37/$E$16)*'Customer Info'!$H$19),)","v":0},{"$f":"IF($F$17=\"dinner\",IF(AB37=0,,(AB37/$E$18)*'Customer Info'!$H$19),)","v":0},{"$f":"IF($F$17=\"other\",IF(AC37=0,,(AC37/$E$19)*'Customer Info'!$H$19),)","v":0},0,{"$f":"IF($F$18=\"breakfast\",IF(Z37=0,,(Z37/$E$16)*'Customer Info'!$H$20),)","v":0},{"$f":"IF($F$18=\"lunch\",IF(AA37=0,,(AA37/$E$17)*'Customer Info'!$H$20),)","v":0},{"$f":"IF($F$18=\"other\",IF(AC37=0,,(AC37/$E$19)*'Customer Info'!$H$20),)","v":0},0,{"$f":"IF($F$19=\"breakfast\",IF(Z37=0,,(Z37/$E$16)*'Customer Info'!$H$21),)","v":0},{"$f":"IF($F$19=\"lunch\",IF(AA37=0,,(AA37/$E$17)*'Customer Info'!$H$21),)","v":0},{"$f":"IF($F$19=\"dinner\",IF(AB37=0,,(AB37/$E$18)*'Customer Info'!$H$21),)","v":0},0,110.37836990595613,0,0,0,""]
["dinner",null,"patient","landfill","plate waste","Pasta, bread, salad, salmon",2,35,null,null,33,81.253918495297796,33,33,0,0,0,0,0,33,0,0,0,0,0,0,0,0,0,0,0,0,0,{"$f":"IF((OR($F$4=0,$F$4=\"none\")),IF(R38=0,,IF(OR($E$4='Customer Info'!$D$18,$E$4=0),R38,(R38/$E$4)*'Customer Info'!$D$18)),)","v":0},{"$f":"IF((OR($F$5=0,$F$5=\"none\")),IF(S38=0,,IF(OR($E$5='Customer Info'!$D$18,$E$5=0),S38,(S38/$E$5)*'Customer Info'!$D$19)),)","v":0},{"$f":"IF((OR($F$6=0,$F$6=\"none\")),IF(T38=0,,IF(OR($E$6='Customer Info'!$D$18,$E$6=0),T38,(T38/$E$6)*'Customer Info'!$D$20)),)","v":72},{"$f":"IF((OR($F$7=0,$F$7=\"none\")),IF(U38=0,,IF(OR($E$7='Customer Info'!$D$18,$E$7=0),U38,(U38/$E$7)*'Customer Info'!$D$21)),)","v":0},{"$f":"IF((OR($F$10=0,$F$10=\"none\")),IF(V38=0,,IF(OR($E$10='Customer Info'!$F$18,$E$10=0),V38,(V38/$E$10)*'Customer Info'!$F$18)),)","v":0},{"$f":"IF((OR($F$11=0,$F$11=\"none\")),IF(W38=0,,IF(OR($E$11='Customer Info'!$F$19,$E$11=0),W38,(W38/$E$11)*'Customer Info'!$F$19)),)","v":0},{"$f":"IF((OR($F$12=0,$F$12=\"none\")),IF(X38=0,,IF(OR($E$12='Customer Info'!$F$20,$E$12=0),X38,(X38/$E$12)*'Customer Info'!$F$20)),)","v":0},{"$f":"IF((OR($F$13=0,$F$13=\"none\")),IF(Y38=0,,IF(OR($E$13='Customer Info'!$F$21,$E$13=0),Y38,(Y38/$E$13)*'Customer Info'!$F$21)),)","v":0},{"$f":"IF((OR($F$16=0,$F$16=\"none\")),IF(Z38=0,,IF(OR($E$16='Customer Info'!$H$18,$E$16=0),Z38,(Z38/$E$16)*'Customer Info'!$H$18)),)","v":0},{"$f":"IF((OR($F$17=0,$F$17=\"none\")),IF(AA38=0,,IF(OR($E$17='Customer Info'!$H$19,$E$17=0),AA38,(AA38/$E$17)*'Customer Info'!$H$19)),)","v":0},{"$f":"IF((OR($F$18=0,$F$18=\"none\")),IF(AB38=0,,IF(OR($E$18='Customer Info'!$H$20,$E$18=0),AB38,(AB38/$E$18)*'Customer Info'!$H$20)),)","v":0},{"$f":"IF((OR($F$19=0,$F$19=\"none\")),IF(AC38=0,,IF(OR($E$19='Customer Info'!$H$21,$E$19=0),AC38,(AC38/$E$19)*'Customer Info'!$H$21)),)","v":0},{"$f":"IF((OR($F$4=0,$F$4=\"none\")),IF(AD38=0,,IF(OR($E$4='Customer Info'!$D$18,$E$4=0),AD38,(AD38/$E$4)*'Customer Info'!$D$18)),)","v":0},{"$f":"IF((OR($F$5=0,$F$5=\"none\")),IF(AE38=0,,IF(OR($E$5='Customer Info'!$D$19,$E$5=0),AE38,(AE38/$E$5)*'Customer Info'!$D$19)),)","v":0},{"$f":"IF((OR($F$6=0,$F$6=\"none\")),IF(AF38=0,,IF(OR($E$6='Customer Info'!$D$20,$E$6=0),AF38,(AF38/$E$6)*'Customer Info'!$D$20)),)","v":0},{"$f":"IF((OR($F$7=0,$F$7=\"none\")),IF(AG38=0,,IF(OR($E$7='Customer Info'!$D$21,$E$7=0),AG38,(AG38/$E$7)*'Customer Info'!$D$21)),)","v":0},72,72,{"$f":"IF(E38=\"plate waste\",,IF('Customer Info'!$M$18=0,'Log Sheet'!AY38,'Customer Info'!$M$18*'Log Sheet'!AY38))","v":0},{"$f":"IF(E38=\"plate waste\",IF(OR(C38=\"patient\",C38=\"patient beverages\"),IF('Customer Info'!$M$27=0,AY38*'Customer Info'!$M$18,AY38*'Customer Info'!$M$27),IF(C38=\"cafeteria\",IF('Customer Info'!$M$28=0,AY38*'Customer Info'!$M$18,AY38*'Customer Info'!$M$28),IF(C38=\"other1\",IF('Customer Info'!$M$29=0,AY38*'Customer Info'!$M$18,AY38*'Customer Info'!$M$29),))),)","v":81.253918495297796},81.253918495297796,{"$f":"IF($F$4=\"lunch\",IF(S38=0,,(S38/$E$5)*'Customer Info'!$D$18),)","v":0},{"$f":"IF($F$4=\"dinner\",IF(T38=0,,(T38/$E$6)*'Customer Info'!$D$18),)","v":0},{"$f":"IF($F$4=\"other\",IF(U38=0,,(U38/$E$7)*'Customer Info'!$D$18),)","v":0},0,{"$f":"IF($F$5=\"breakfast\",IF(R38=0,,(R38/$E$4)*'Customer Info'!$D$19),)","v":0},{"$f":"IF($F$5=\"dinner\",IF(T38=0,,(T38/$E$6)*'Customer Info'!$D$19),)","v":0},{"$f":"IF($F$5=\"other\",IF(U38=0,,(U38/$E$7)*'Customer Info'!$D$19),)","v":0},0,{"$f":"IF($F$6=\"breakfast\",IF(R38=0,,(R38/$E$4)*'Customer Info'!$D$20),)","v":0},{"$f":"IF($F$6=\"lunch\",IF(S38=0,,(S38/$E$5)*'Customer Info'!$D$20),)","v":0},{"$f":"IF($F$6=\"other\",IF(U38=0,,(U38/$E$7)*'Customer Info'!$D$20),)","v":0},0,{"$f":"IF($F$7=\"breakfast\",IF(R38=0,,(R38/$E$4)*'Customer Info'!$D$21),)","v":0},{"$f":"IF($F$7=\"lunch\",IF(S38=0,,(S38/$E$5)*'Customer Info'!$D$21),)","v":0},{"$f":"IF($F$7=\"dinner\",IF(T38=0,,(T38/$E$6)*'Customer Info'!$D$21),)","v":0},0,{"$f":"IF($F$10=\"lunch\",IF(W38=0,,(W38/$E$11)*'Customer Info'!$F$18),)","v":0},{"$f":"IF($F$10=\"dinner\",IF(X38=0,,(X38/$E$12)*'Customer Info'!$F$18),)","v":0},{"$f":"IF($F$10=\"other\",IF(Y38=0,,(Y38/$E$13)*'Customer Info'!$F$18),)","v":0},0,{"$f":"IF($F$11=\"breakfast\",IF(V38=0,,(V38/$E$10)*'Customer Info'!$F$19),)","v":0},{"$f":"IF($F$11=\"dinner\",IF(X38=0,,(X38/$E$12)*'Customer Info'!$F$19),)","v":0},{"$f":"IF($F$11=\"other\",IF(Y38=0,,(Y38/$E$13)*'Customer Info'!$F$19),)","v":0},0,{"$f":"IF($F$12=\"breakfast\",IF(V38=0,,(V38/$E$10)*'Customer Info'!$F$20),)","v":0},{"$f":"IF($F$12=\"lunch\",IF(W38=0,,(W38/$E$11)*'Customer Info'!$F$20),)","v":0},{"$f":"IF($F$12=\"other\",IF(Y38=0,,(Y38/$E$13)*'Customer Info'!$F$20),)","v":0},0,{"$f":"IF($F$13=\"breakfast\",IF(V38=0,,(V38/$E$10)*'Customer Info'!$F$21),)","v":0},{"$f":"IF($F$13=\"lunch\",IF(W38=0,,(W38/$E$11)*'Customer Info'!$F$21),)","v":0},{"$f":"IF($F$13=\"dinner\",IF(X38=0,,(X38/$E$12)*'Customer Info'!$F$21),)","v":0},0,{"$f":"IF($F$16=\"lunch\",IF(AA38=0,,(AA38/$E$17)*'Customer Info'!$H$18),)","v":0},{"$f":"IF($F$16=\"dinner\",IF(AB38=0,,(AB38/$E$18)*'Customer Info'!$H$18),)","v":0},{"$f":"IF($F$16=\"other\",IF(AC38=0,,(AC38/$E$19)*'Customer Info'!$H$18),)","v":0},0,{"$f":"IF($F$17=\"breakfast\",IF(Z38=0,,(Z38/$E$16)*'Customer Info'!$H$19),)","v":0},{"$f":"IF($F$17=\"dinner\",IF(AB38=0,,(AB38/$E$18)*'Customer Info'!$H$19),)","v":0},{"$f":"IF($F$17=\"other\",IF(AC38=0,,(AC38/$E$19)*'Customer Info'!$H$19),)","v":0},0,{"$f":"IF($F$18=\"breakfast\",IF(Z38=0,,(Z38/$E$16)*'Customer Info'!$H$20),)","v":0},{"$f":"IF($F$18=\"lunch\",IF(AA38=0,,(AA38/$E$17)*'Customer Info'!$H$20),)","v":0},{"$f":"IF($F$18=\"other\",IF(AC38=0,,(AC38/$E$19)*'Customer Info'!$H$20),)","v":0},0,{"$f":"IF($F$19=\"breakfast\",IF(Z38=0,,(Z38/$E$16)*'Customer Info'!$H$21),)","v":0},{"$f":"IF($F$19=\"lunch\",IF(AA38=0,,(AA38/$E$17)*'Customer Info'!$H$21),)","v":0},{"$f":"IF($F$19=\"dinner\",IF(AB38=0,,(AB38/$E$18)*'Customer Info'!$H$21),)","v":0},0,81.253918495297796,0,0,0,""]
[null,null,null,null,null,null,null,null,null,null,0,0,0,0,0,0,0,0,0,0,0,0,0,0,0,0,0,0,0,0,0,0,0,{"$f":"IF((OR($F$4=0,$F$4=\"none\")),IF(R39=0,,IF(OR($E$4='Customer Info'!$D$18,$E$4=0),R39,(R39/$E$4)*'Customer Info'!$D$18)),)","v":0},{"$f":"IF((OR($F$5=0,$F$5=\"none\")),IF(S39=0,,IF(OR($E$5='Customer Info'!$D$18,$E$5=0),S39,(S39/$E$5)*'Customer Info'!$D$19)),)","v":0},{"$f":"IF((OR($F$6=0,$F$6=\"none\")),IF(T39=0,,IF(OR($E$6='Customer Info'!$D$18,$E$6=0),T39,(T39/$E$6)*'Customer Info'!$D$20)),)","v":0},{"$f":"IF((OR($F$7=0,$F$7=\"none\")),IF(U39=0,,IF(OR($E$7='Customer Info'!$D$18,$E$7=0),U39,(U39/$E$7)*'Customer Info'!$D$21)),)","v":0},{"$f":"IF((OR($F$10=0,$F$10=\"none\")),IF(V39=0,,IF(OR($E$10='Customer Info'!$F$18,$E$10=0),V39,(V39/$E$10)*'Customer Info'!$F$18)),)","v":0},{"$f":"IF((OR($F$11=0,$F$11=\"none\")),IF(W39=0,,IF(OR($E$11='Customer Info'!$F$19,$E$11=0),W39,(W39/$E$11)*'Customer Info'!$F$19)),)","v":0},{"$f":"IF((OR($F$12=0,$F$12=\"none\")),IF(X39=0,,IF(OR($E$12='Customer Info'!$F$20,$E$12=0),X39,(X39/$E$12)*'Customer Info'!$F$20)),)","v":0},{"$f":"IF((OR($F$13=0,$F$13=\"none\")),IF(Y39=0,,IF(OR($E$13='Customer Info'!$F$21,$E$13=0),Y39,(Y39/$E$13)*'Customer Info'!$F$21)),)","v":0},{"$f":"IF((OR($F$16=0,$F$16=\"none\")),IF(Z39=0,,IF(OR($E$16='Customer Info'!$H$18,$E$16=0),Z39,(Z39/$E$16)*'Customer Info'!$H$18)),)","v":0},{"$f":"IF((OR($F$17=0,$F$17=\"none\")),IF(AA39=0,,IF(OR($E$17='Customer Info'!$H$19,$E$17=0),AA39,(AA39/$E$17)*'Customer Info'!$H$19)),)","v":0},{"$f":"IF((OR($F$18=0,$F$18=\"none\")),IF(AB39=0,,IF(OR($E$18='Customer Info'!$H$20,$E$18=0),AB39,(AB39/$E$18)*'Customer Info'!$H$20)),)","v":0},{"$f":"IF((OR($F$19=0,$F$19=\"none\")),IF(AC39=0,,IF(OR($E$19='Customer Info'!$H$21,$E$19=0),AC39,(AC39/$E$19)*'Customer Info'!$H$21)),)","v":0},{"$f":"IF((OR($F$4=0,$F$4=\"none\")),IF(AD39=0,,IF(OR($E$4='Customer Info'!$D$18,$E$4=0),AD39,(AD39/$E$4)*'Customer Info'!$D$18)),)","v":0},{"$f":"IF((OR($F$5=0,$F$5=\"none\")),IF(AE39=0,,IF(OR($E$5='Customer Info'!$D$19,$E$5=0),AE39,(AE39/$E$5)*'Customer Info'!$D$19)),)","v":0},{"$f":"IF((OR($F$6=0,$F$6=\"none\")),IF(AF39=0,,IF(OR($E$6='Customer Info'!$D$20,$E$6=0),AF39,(AF39/$E$6)*'Customer Info'!$D$20)),)","v":0},{"$f":"IF((OR($F$7=0,$F$7=\"none\")),IF(AG39=0,,IF(OR($E$7='Customer Info'!$D$21,$E$7=0),AG39,(AG39/$E$7)*'Customer Info'!$D$21)),)","v":0},0,0,{"$f":"IF(E39=\"plate waste\",,IF('Customer Info'!$M$18=0,'Log Sheet'!AY39,'Customer Info'!$M$18*'Log Sheet'!AY39))","v":0},{"$f":"IF(E39=\"plate waste\",IF(OR(C39=\"patient\",C39=\"patient beverages\"),IF('Customer Info'!$M$27=0,AY39*'Customer Info'!$M$18,AY39*'Customer Info'!$M$27),IF(C39=\"cafeteria\",IF('Customer Info'!$M$28=0,AY39*'Customer Info'!$M$18,AY39*'Customer Info'!$M$28),IF(C39=\"other1\",IF('Customer Info'!$M$29=0,AY39*'Customer Info'!$M$18,AY39*'Customer Info'!$M$29),))),)","v":0},0,{"$f":"IF($F$4=\"lunch\",IF(S39=0,,(S39/$E$5)*'Customer Info'!$D$18),)","v":0},{"$f":"IF($F$4=\"dinner\",IF(T39=0,,(T39/$E$6)*'Customer Info'!$D$18),)","v":0},{"$f":"IF($F$4=\"other\",IF(U39=0,,(U39/$E$7)*'Customer Info'!$D$18),)","v":0},0,{"$f":"IF($F$5=\"breakfast\",IF(R39=0,,(R39/$E$4)*'Customer Info'!$D$19),)","v":0},{"$f":"IF($F$5=\"dinner\",IF(T39=0,,(T39/$E$6)*'Customer Info'!$D$19),)","v":0},{"$f":"IF($F$5=\"other\",IF(U39=0,,(U39/$E$7)*'Customer Info'!$D$19),)","v":0},0,{"$f":"IF($F$6=\"breakfast\",IF(R39=0,,(R39/$E$4)*'Customer Info'!$D$20),)","v":0},{"$f":"IF($F$6=\"lunch\",IF(S39=0,,(S39/$E$5)*'Customer Info'!$D$20),)","v":0},{"$f":"IF($F$6=\"other\",IF(U39=0,,(U39/$E$7)*'Customer Info'!$D$20),)","v":0},0,{"$f":"IF($F$7=\"breakfast\",IF(R39=0,,(R39/$E$4)*'Customer Info'!$D$21),)","v":0},{"$f":"IF($F$7=\"lunch\",IF(S39=0,,(S39/$E$5)*'Customer Info'!$D$21),)","v":0},{"$f":"IF($F$7=\"dinner\",IF(T39=0,,(T39/$E$6)*'Customer Info'!$D$21),)","v":0},0,{"$f":"IF($F$10=\"lunch\",IF(W39=0,,(W39/$E$11)*'Customer Info'!$F$18),)","v":0},{"$f":"IF($F$10=\"dinner\",IF(X39=0,,(X39/$E$12)*'Customer Info'!$F$18),)","v":0},{"$f":"IF($F$10=\"other\",IF(Y39=0,,(Y39/$E$13)*'Customer Info'!$F$18),)","v":0},0,{"$f":"IF($F$11=\"breakfast\",IF(V39=0,,(V39/$E$10)*'Customer Info'!$F$19),)","v":0},{"$f":"IF($F$11=\"dinner\",IF(X39=0,,(X39/$E$12)*'Customer Info'!$F$19),)","v":0},{"$f":"IF($F$11=\"other\",IF(Y39=0,,(Y39/$E$13)*'Customer Info'!$F$19),)","v":0},0,{"$f":"IF($F$12=\"breakfast\",IF(V39=0,,(V39/$E$10)*'Customer Info'!$F$20),)","v":0},{"$f":"IF($F$12=\"lunch\",IF(W39=0,,(W39/$E$11)*'Customer Info'!$F$20),)","v":0},{"$f":"IF($F$12=\"other\",IF(Y39=0,,(Y39/$E$13)*'Customer Info'!$F$20),)","v":0},0,{"$f":"IF($F$13=\"breakfast\",IF(V39=0,,(V39/$E$10)*'Customer Info'!$F$21),)","v":0},{"$f":"IF($F$13=\"lunch\",IF(W39=0,,(W39/$E$11)*'Customer Info'!$F$21),)","v":0},{"$f":"IF($F$13=\"dinner\",IF(X39=0,,(X39/$E$12)*'Customer Info'!$F$21),)","v":0},0,{"$f":"IF($F$16=\"lunch\",IF(AA39=0,,(AA39/$E$17)*'Customer Info'!$H$18),)","v":0},{"$f":"IF($F$16=\"dinner\",IF(AB39=0,,(AB39/$E$18)*'Customer Info'!$H$18),)","v":0},{"$f":"IF($F$16=\"other\",IF(AC39=0,,(AC39/$E$19)*'Customer Info'!$H$18),)","v":0},0,{"$f":"IF($F$17=\"breakfast\",IF(Z39=0,,(Z39/$E$16)*'Customer Info'!$H$19),)","v":0},{"$f":"IF($F$17=\"dinner\",IF(AB39=0,,(AB39/$E$18)*'Customer Info'!$H$19),)","v":0},{"$f":"IF($F$17=\"other\",IF(AC39=0,,(AC39/$E$19)*'Customer Info'!$H$19),)","v":0},0,{"$f":"IF($F$18=\"breakfast\",IF(Z39=0,,(Z39/$E$16)*'Customer Info'!$H$20),)","v":0},{"$f":"IF($F$18=\"lunch\",IF(AA39=0,,(AA39/$E$17)*'Customer Info'!$H$20),)","v":0},{"$f":"IF($F$18=\"other\",IF(AC39=0,,(AC39/$E$19)*'Customer Info'!$H$20),)","v":0},0,{"$f":"IF($F$19=\"breakfast\",IF(Z39=0,,(Z39/$E$16)*'Customer Info'!$H$21),)","v":0},{"$f":"IF($F$19=\"lunch\",IF(AA39=0,,(AA39/$E$17)*'Customer Info'!$H$21),)","v":0},{"$f":"IF($F$19=\"dinner\",IF(AB39=0,,(AB39/$E$18)*'Customer Info'!$H$21),)","v":0},0,0,0,0,0,""]
[null,null,null,null,null,null,null,null,null,null,0,0,0,0,0,0,0,0,0,0,0,0,0,0,0,0,0,0,0,0,0,0,0,{"$f":"IF((OR($F$4=0,$F$4=\"none\")),IF(R40=0,,IF(OR($E$4='Customer Info'!$D$18,$E$4=0),R40,(R40/$E$4)*'Customer Info'!$D$18)),)","v":0},{"$f":"IF((OR($F$5=0,$F$5=\"none\")),IF(S40=0,,IF(OR($E$5='Customer Info'!$D$18,$E$5=0),S40,(S40/$E$5)*'Customer Info'!$D$19)),)","v":0},{"$f":"IF((OR($F$6=0,$F$6=\"none\")),IF(T40=0,,IF(OR($E$6='Customer Info'!$D$18,$E$6=0),T40,(T40/$E$6)*'Customer Info'!$D$20)),)","v":0},{"$f":"IF((OR($F$7=0,$F$7=\"none\")),IF(U40=0,,IF(OR($E$7='Customer Info'!$D$18,$E$7=0),U40,(U40/$E$7)*'Customer Info'!$D$21)),)","v":0},{"$f":"IF((OR($F$10=0,$F$10=\"none\")),IF(V40=0,,IF(OR($E$10='Customer Info'!$F$18,$E$10=0),V40,(V40/$E$10)*'Customer Info'!$F$18)),)","v":0},{"$f":"IF((OR($F$11=0,$F$11=\"none\")),IF(W40=0,,IF(OR($E$11='Customer Info'!$F$19,$E$11=0),W40,(W40/$E$11)*'Customer Info'!$F$19)),)","v":0},{"$f":"IF((OR($F$12=0,$F$12=\"none\")),IF(X40=0,,IF(OR($E$12='Customer Info'!$F$20,$E$12=0),X40,(X40/$E$12)*'Customer Info'!$F$20)),)","v":0},{"$f":"IF((OR($F$13=0,$F$13=\"none\")),IF(Y40=0,,IF(OR($E$13='Customer Info'!$F$21,$E$13=0),Y40,(Y40/$E$13)*'Customer Info'!$F$21)),)","v":0},{"$f":"IF((OR($F$16=0,$F$16=\"none\")),IF(Z40=0,,IF(OR($E$16='Customer Info'!$H$18,$E$16=0),Z40,(Z40/$E$16)*'Customer Info'!$H$18)),)","v":0},{"$f":"IF((OR($F$17=0,$F$17=\"none\")),IF(AA40=0,,IF(OR($E$17='Customer Info'!$H$19,$E$17=0),AA40,(AA40/$E$17)*'Customer Info'!$H$19)),)","v":0},{"$f":"IF((OR($F$18=0,$F$18=\"none\")),IF(AB40=0,,IF(OR($E$18='Customer Info'!$H$20,$E$18=0),AB40,(AB40/$E$18)*'Customer Info'!$H$20)),)","v":0},{"$f":"IF((OR($F$19=0,$F$19=\"none\")),IF(AC40=0,,IF(OR($E$19='Customer Info'!$H$21,$E$19=0),AC40,(AC40/$E$19)*'Customer Info'!$H$21)),)","v":0},{"$f":"IF((OR($F$4=0,$F$4=\"none\")),IF(AD40=0,,IF(OR($E$4='Customer Info'!$D$18,$E$4=0),AD40,(AD40/$E$4)*'Customer Info'!$D$18)),)","v":0},{"$f":"IF((OR($F$5=0,$F$5=\"none\")),IF(AE40=0,,IF(OR($E$5='Customer Info'!$D$19,$E$5=0),AE40,(AE40/$E$5)*'Customer Info'!$D$19)),)","v":0},{"$f":"IF((OR($F$6=0,$F$6=\"none\")),IF(AF40=0,,IF(OR($E$6='Customer Info'!$D$20,$E$6=0),AF40,(AF40/$E$6)*'Customer Info'!$D$20)),)","v":0},{"$f":"IF((OR($F$7=0,$F$7=\"none\")),IF(AG40=0,,IF(OR($E$7='Customer Info'!$D$21,$E$7=0),AG40,(AG40/$E$7)*'Customer Info'!$D$21)),)","v":0},0,0,{"$f":"IF(E40=\"plate waste\",,IF('Customer Info'!$M$18=0,'Log Sheet'!AY40,'Customer Info'!$M$18*'Log Sheet'!AY40))","v":0},{"$f":"IF(E40=\"plate waste\",IF(OR(C40=\"patient\",C40=\"patient beverages\"),IF('Customer Info'!$M$27=0,AY40*'Customer Info'!$M$18,AY40*'Customer Info'!$M$27),IF(C40=\"cafeteria\",IF('Customer Info'!$M$28=0,AY40*'Customer Info'!$M$18,AY40*'Customer Info'!$M$28),IF(C40=\"other1\",IF('Customer Info'!$M$29=0,AY40*'Customer Info'!$M$18,AY40*'Customer Info'!$M$29),))),)","v":0},0,{"$f":"IF($F$4=\"lunch\",IF(S40=0,,(S40/$E$5)*'Customer Info'!$D$18),)","v":0},{"$f":"IF($F$4=\"dinner\",IF(T40=0,,(T40/$E$6)*'Customer Info'!$D$18),)","v":0},{"$f":"IF($F$4=\"other\",IF(U40=0,,(U40/$E$7)*'Customer Info'!$D$18),)","v":0},0,{"$f":"IF($F$5=\"breakfast\",IF(R40=0,,(R40/$E$4)*'Customer Info'!$D$19),)","v":0},{"$f":"IF($F$5=\"dinner\",IF(T40=0,,(T40/$E$6)*'Customer Info'!$D$19),)","v":0},{"$f":"IF($F$5=\"other\",IF(U40=0,,(U40/$E$7)*'Customer Info'!$D$19),)","v":0},0,{"$f":"IF($F$6=\"breakfast\",IF(R40=0,,(R40/$E$4)*'Customer Info'!$D$20),)","v":0},{"$f":"IF($F$6=\"lunch\",IF(S40=0,,(S40/$E$5)*'Customer Info'!$D$20),)","v":0},{"$f":"IF($F$6=\"other\",IF(U40=0,,(U40/$E$7)*'Customer Info'!$D$20),)","v":0},0,{"$f":"IF($F$7=\"breakfast\",IF(R40=0,,(R40/$E$4)*'Customer Info'!$D$21),)","v":0},{"$f":"IF($F$7=\"lunch\",IF(S40=0,,(S40/$E$5)*'Customer Info'!$D$21),)","v":0},{"$f":"IF($F$7=\"dinner\",IF(T40=0,,(T40/$E$6)*'Customer Info'!$D$21),)","v":0},0,{"$f":"IF($F$10=\"lunch\",IF(W40=0,,(W40/$E$11)*'Customer Info'!$F$18),)","v":0},{"$f":"IF($F$10=\"dinner\",IF(X40=0,,(X40/$E$12)*'Customer Info'!$F$18),)","v":0},{"$f":"IF($F$10=\"other\",IF(Y40=0,,(Y40/$E$13)*'Customer Info'!$F$18),)","v":0},0,{"$f":"IF($F$11=\"breakfast\",IF(V40=0,,(V40/$E$10)*'Customer Info'!$F$19),)","v":0},{"$f":"IF($F$11=\"dinner\",IF(X40=0,,(X40/$E$12)*'Customer Info'!$F$19),)","v":0},{"$f":"IF($F$11=\"other\",IF(Y40=0,,(Y40/$E$13)*'Customer Info'!$F$19),)","v":0},0,{"$f":"IF($F$12=\"breakfast\",IF(V40=0,,(V40/$E$10)*'Customer Info'!$F$20),)","v":0},{"$f":"IF($F$12=\"lunch\",IF(W40=0,,(W40/$E$11)*'Customer Info'!$F$20),)","v":0},{"$f":"IF($F$12=\"other\",IF(Y40=0,,(Y40/$E$13)*'Customer Info'!$F$20),)","v":0},0,{"$f":"IF($F$13=\"breakfast\",IF(V40=0,,(V40/$E$10)*'Customer Info'!$F$21),)","v":0},{"$f":"IF($F$13=\"lunch\",IF(W40=0,,(W40/$E$11)*'Customer Info'!$F$21),)","v":0},{"$f":"IF($F$13=\"dinner\",IF(X40=0,,(X40/$E$12)*'Customer Info'!$F$21),)","v":0},0,{"$f":"IF($F$16=\"lunch\",IF(AA40=0,,(AA40/$E$17)*'Customer Info'!$H$18),)","v":0},{"$f":"IF($F$16=\"dinner\",IF(AB40=0,,(AB40/$E$18)*'Customer Info'!$H$18),)","v":0},{"$f":"IF($F$16=\"other\",IF(AC40=0,,(AC40/$E$19)*'Customer Info'!$H$18),)","v":0},0,{"$f":"IF($F$17=\"breakfast\",IF(Z40=0,,(Z40/$E$16)*'Customer Info'!$H$19),)","v":0},{"$f":"IF($F$17=\"dinner\",IF(AB40=0,,(AB40/$E$18)*'Customer Info'!$H$19),)","v":0},{"$f":"IF($F$17=\"other\",IF(AC40=0,,(AC40/$E$19)*'Customer Info'!$H$19),)","v":0},0,{"$f":"IF($F$18=\"breakfast\",IF(Z40=0,,(Z40/$E$16)*'Customer Info'!$H$20),)","v":0},{"$f":"IF($F$18=\"lunch\",IF(AA40=0,,(AA40/$E$17)*'Customer Info'!$H$20),)","v":0},{"$f":"IF($F$18=\"other\",IF(AC40=0,,(AC40/$E$19)*'Customer Info'!$H$20),)","v":0},0,{"$f":"IF($F$19=\"breakfast\",IF(Z40=0,,(Z40/$E$16)*'Customer Info'!$H$21),)","v":0},{"$f":"IF($F$19=\"lunch\",IF(AA40=0,,(AA40/$E$17)*'Customer Info'!$H$21),)","v":0},{"$f":"IF($F$19=\"dinner\",IF(AB40=0,,(AB40/$E$18)*'Customer Info'!$H$21),)","v":0},0,0,0,0,0,""]
[null,null,null,null,null,null,null,null,null,null,0,0,0,0,0,0,0,0,0,0,0,0,0,0,0,0,0,0,0,0,0,0,0,{"$f":"IF((OR($F$4=0,$F$4=\"none\")),IF(R41=0,,IF(OR($E$4='Customer Info'!$D$18,$E$4=0),R41,(R41/$E$4)*'Customer Info'!$D$18)),)","v":0},{"$f":"IF((OR($F$5=0,$F$5=\"none\")),IF(S41=0,,IF(OR($E$5='Customer Info'!$D$18,$E$5=0),S41,(S41/$E$5)*'Customer Info'!$D$19)),)","v":0},{"$f":"IF((OR($F$6=0,$F$6=\"none\")),IF(T41=0,,IF(OR($E$6='Customer Info'!$D$18,$E$6=0),T41,(T41/$E$6)*'Customer Info'!$D$20)),)","v":0},{"$f":"IF((OR($F$7=0,$F$7=\"none\")),IF(U41=0,,IF(OR($E$7='Customer Info'!$D$18,$E$7=0),U41,(U41/$E$7)*'Customer Info'!$D$21)),)","v":0},{"$f":"IF((OR($F$10=0,$F$10=\"none\")),IF(V41=0,,IF(OR($E$10='Customer Info'!$F$18,$E$10=0),V41,(V41/$E$10)*'Customer Info'!$F$18)),)","v":0},{"$f":"IF((OR($F$11=0,$F$11=\"none\")),IF(W41=0,,IF(OR($E$11='Customer Info'!$F$19,$E$11=0),W41,(W41/$E$11)*'Customer Info'!$F$19)),)","v":0},{"$f":"IF((OR($F$12=0,$F$12=\"none\")),IF(X41=0,,IF(OR($E$12='Customer Info'!$F$20,$E$12=0),X41,(X41/$E$12)*'Customer Info'!$F$20)),)","v":0},{"$f":"IF((OR($F$13=0,$F$13=\"none\")),IF(Y41=0,,IF(OR($E$13='Customer Info'!$F$21,$E$13=0),Y41,(Y41/$E$13)*'Customer Info'!$F$21)),)","v":0},{"$f":"IF((OR($F$16=0,$F$16=\"none\")),IF(Z41=0,,IF(OR($E$16='Customer Info'!$H$18,$E$16=0),Z41,(Z41/$E$16)*'Customer Info'!$H$18)),)","v":0},{"$f":"IF((OR($F$17=0,$F$17=\"none\")),IF(AA41=0,,IF(OR($E$17='Customer Info'!$H$19,$E$17=0),AA41,(AA41/$E$17)*'Customer Info'!$H$19)),)","v":0},{"$f":"IF((OR($F$18=0,$F$18=\"none\")),IF(AB41=0,,IF(OR($E$18='Customer Info'!$H$20,$E$18=0),AB41,(AB41/$E$18)*'Customer Info'!$H$20)),)","v":0},{"$f":"IF((OR($F$19=0,$F$19=\"none\")),IF(AC41=0,,IF(OR($E$19='Customer Info'!$H$21,$E$19=0),AC41,(AC41/$E$19)*'Customer Info'!$H$21)),)","v":0},{"$f":"IF((OR($F$4=0,$F$4=\"none\")),IF(AD41=0,,IF(OR($E$4='Customer Info'!$D$18,$E$4=0),AD41,(AD41/$E$4)*'Customer Info'!$D$18)),)","v":0},{"$f":"IF((OR($F$5=0,$F$5=\"none\")),IF(AE41=0,,IF(OR($E$5='Customer Info'!$D$19,$E$5=0),AE41,(AE41/$E$5)*'Customer Info'!$D$19)),)","v":0},{"$f":"IF((OR($F$6=0,$F$6=\"none\")),IF(AF41=0,,IF(OR($E$6='Customer Info'!$D$20,$E$6=0),AF41,(AF41/$E$6)*'Customer Info'!$D$20)),)","v":0},{"$f":"IF((OR($F$7=0,$F$7=\"none\")),IF(AG41=0,,IF(OR($E$7='Customer Info'!$D$21,$E$7=0),AG41,(AG41/$E$7)*'Customer Info'!$D$21)),)","v":0},0,0,{"$f":"IF(E41=\"plate waste\",,IF('Customer Info'!$M$18=0,'Log Sheet'!AY41,'Customer Info'!$M$18*'Log Sheet'!AY41))","v":0},{"$f":"IF(E41=\"plate waste\",IF(OR(C41=\"patient\",C41=\"patient beverages\"),IF('Customer Info'!$M$27=0,AY41*'Customer Info'!$M$18,AY41*'Customer Info'!$M$27),IF(C41=\"cafeteria\",IF('Customer Info'!$M$28=0,AY41*'Customer Info'!$M$18,AY41*'Customer Info'!$M$28),IF(C41=\"other1\",IF('Customer Info'!$M$29=0,AY41*'Customer Info'!$M$18,AY41*'Customer Info'!$M$29),))),)","v":0},0,{"$f":"IF($F$4=\"lunch\",IF(S41=0,,(S41/$E$5)*'Customer Info'!$D$18),)","v":0},{"$f":"IF($F$4=\"dinner\",IF(T41=0,,(T41/$E$6)*'Customer Info'!$D$18),)","v":0},{"$f":"IF($F$4=\"other\",IF(U41=0,,(U41/$E$7)*'Customer Info'!$D$18),)","v":0},0,{"$f":"IF($F$5=\"breakfast\",IF(R41=0,,(R41/$E$4)*'Customer Info'!$D$19),)","v":0},{"$f":"IF($F$5=\"dinner\",IF(T41=0,,(T41/$E$6)*'Customer Info'!$D$19),)","v":0},{"$f":"IF($F$5=\"other\",IF(U41=0,,(U41/$E$7)*'Customer Info'!$D$19),)","v":0},0,{"$f":"IF($F$6=\"breakfast\",IF(R41=0,,(R41/$E$4)*'Customer Info'!$D$20),)","v":0},{"$f":"IF($F$6=\"lunch\",IF(S41=0,,(S41/$E$5)*'Customer Info'!$D$20),)","v":0},{"$f":"IF($F$6=\"other\",IF(U41=0,,(U41/$E$7)*'Customer Info'!$D$20),)","v":0},0,{"$f":"IF($F$7=\"breakfast\",IF(R41=0,,(R41/$E$4)*'Customer Info'!$D$21),)","v":0},{"$f":"IF($F$7=\"lunch\",IF(S41=0,,(S41/$E$5)*'Customer Info'!$D$21),)","v":0},{"$f":"IF($F$7=\"dinner\",IF(T41=0,,(T41/$E$6)*'Customer Info'!$D$21),)","v":0},0,{"$f":"IF($F$10=\"lunch\",IF(W41=0,,(W41/$E$11)*'Customer Info'!$F$18),)","v":0},{"$f":"IF($F$10=\"dinner\",IF(X41=0,,(X41/$E$12)*'Customer Info'!$F$18),)","v":0},{"$f":"IF($F$10=\"other\",IF(Y41=0,,(Y41/$E$13)*'Customer Info'!$F$18),)","v":0},0,{"$f":"IF($F$11=\"breakfast\",IF(V41=0,,(V41/$E$10)*'Customer Info'!$F$19),)","v":0},{"$f":"IF($F$11=\"dinner\",IF(X41=0,,(X41/$E$12)*'Customer Info'!$F$19),)","v":0},{"$f":"IF($F$11=\"other\",IF(Y41=0,,(Y41/$E$13)*'Customer Info'!$F$19),)","v":0},0,{"$f":"IF($F$12=\"breakfast\",IF(V41=0,,(V41/$E$10)*'Customer Info'!$F$20),)","v":0},{"$f":"IF($F$12=\"lunch\",IF(W41=0,,(W41/$E$11)*'Customer Info'!$F$20),)","v":0},{"$f":"IF($F$12=\"other\",IF(Y41=0,,(Y41/$E$13)*'Customer Info'!$F$20),)","v":0},0,{"$f":"IF($F$13=\"breakfast\",IF(V41=0,,(V41/$E$10)*'Customer Info'!$F$21),)","v":0},{"$f":"IF($F$13=\"lunch\",IF(W41=0,,(W41/$E$11)*'Customer Info'!$F$21),)","v":0},{"$f":"IF($F$13=\"dinner\",IF(X41=0,,(X41/$E$12)*'Customer Info'!$F$21),)","v":0},0,{"$f":"IF($F$16=\"lunch\",IF(AA41=0,,(AA41/$E$17)*'Customer Info'!$H$18),)","v":0},{"$f":"IF($F$16=\"dinner\",IF(AB41=0,,(AB41/$E$18)*'Customer Info'!$H$18),)","v":0},{"$f":"IF($F$16=\"other\",IF(AC41=0,,(AC41/$E$19)*'Customer Info'!$H$18),)","v":0},0,{"$f":"IF($F$17=\"breakfast\",IF(Z41=0,,(Z41/$E$16)*'Customer Info'!$H$19),)","v":0},{"$f":"IF($F$17=\"dinner\",IF(AB41=0,,(AB41/$E$18)*'Customer Info'!$H$19),)","v":0},{"$f":"IF($F$17=\"other\",IF(AC41=0,,(AC41/$E$19)*'Customer Info'!$H$19),)","v":0},0,{"$f":"IF($F$18=\"breakfast\",IF(Z41=0,,(Z41/$E$16)*'Customer Info'!$H$20),)","v":0},{"$f":"IF($F$18=\"lunch\",IF(AA41=0,,(AA41/$E$17)*'Customer Info'!$H$20),)","v":0},{"$f":"IF($F$18=\"other\",IF(AC41=0,,(AC41/$E$19)*'Customer Info'!$H$20),)","v":0},0,{"$f":"IF($F$19=\"breakfast\",IF(Z41=0,,(Z41/$E$16)*'Customer Info'!$H$21),)","v":0},{"$f":"IF($F$19=\"lunch\",IF(AA41=0,,(AA41/$E$17)*'Customer Info'!$H$21),)","v":0},{"$f":"IF($F$19=\"dinner\",IF(AB41=0,,(AB41/$E$18)*'Customer Info'!$H$21),)","v":0},0,0,0,0,0,""]
[null,null,null,null,null,null,null,null,null,null,0,0,0,0,0,0,0,0,0,0,0,0,0,0,0,0,0,0,0,0,0,0,0,{"$f":"IF((OR($F$4=0,$F$4=\"none\")),IF(R42=0,,IF(OR($E$4='Customer Info'!$D$18,$E$4=0),R42,(R42/$E$4)*'Customer Info'!$D$18)),)","v":0},{"$f":"IF((OR($F$5=0,$F$5=\"none\")),IF(S42=0,,IF(OR($E$5='Customer Info'!$D$18,$E$5=0),S42,(S42/$E$5)*'Customer Info'!$D$19)),)","v":0},{"$f":"IF((OR($F$6=0,$F$6=\"none\")),IF(T42=0,,IF(OR($E$6='Customer Info'!$D$18,$E$6=0),T42,(T42/$E$6)*'Customer Info'!$D$20)),)","v":0},{"$f":"IF((OR($F$7=0,$F$7=\"none\")),IF(U42=0,,IF(OR($E$7='Customer Info'!$D$18,$E$7=0),U42,(U42/$E$7)*'Customer Info'!$D$21)),)","v":0},{"$f":"IF((OR($F$10=0,$F$10=\"none\")),IF(V42=0,,IF(OR($E$10='Customer Info'!$F$18,$E$10=0),V42,(V42/$E$10)*'Customer Info'!$F$18)),)","v":0},{"$f":"IF((OR($F$11=0,$F$11=\"none\")),IF(W42=0,,IF(OR($E$11='Customer Info'!$F$19,$E$11=0),W42,(W42/$E$11)*'Customer Info'!$F$19)),)","v":0},{"$f":"IF((OR($F$12=0,$F$12=\"none\")),IF(X42=0,,IF(OR($E$12='Customer Info'!$F$20,$E$12=0),X42,(X42/$E$12)*'Customer Info'!$F$20)),)","v":0},{"$f":"IF((OR($F$13=0,$F$13=\"none\")),IF(Y42=0,,IF(OR($E$13='Customer Info'!$F$21,$E$13=0),Y42,(Y42/$E$13)*'Customer Info'!$F$21)),)","v":0},{"$f":"IF((OR($F$16=0,$F$16=\"none\")),IF(Z42=0,,IF(OR($E$16='Customer Info'!$H$18,$E$16=0),Z42,(Z42/$E$16)*'Customer Info'!$H$18)),)","v":0},{"$f":"IF((OR($F$17=0,$F$17=\"none\")),IF(AA42=0,,IF(OR($E$17='Customer Info'!$H$19,$E$17=0),AA42,(AA42/$E$17)*'Customer Info'!$H$19)),)","v":0},{"$f":"IF((OR($F$18=0,$F$18=\"none\")),IF(AB42=0,,IF(OR($E$18='Customer Info'!$H$20,$E$18=0),AB42,(AB42/$E$18)*'Customer Info'!$H$20)),)","v":0},{"$f":"IF((OR($F$19=0,$F$19=\"none\")),IF(AC42=0,,IF(OR($E$19='Customer Info'!$H$21,$E$19=0),AC42,(AC42/$E$19)*'Customer Info'!$H$21)),)","v":0},{"$f":"IF((OR($F$4=0,$F$4=\"none\")),IF(AD42=0,,IF(OR($E$4='Customer Info'!$D$18,$E$4=0),AD42,(AD42/$E$4)*'Customer Info'!$D$18)),)","v":0},{"$f":"IF((OR($F$5=0,$F$5=\"none\")),IF(AE42=0,,IF(OR($E$5='Customer Info'!$D$19,$E$5=0),AE42,(AE42/$E$5)*'Customer Info'!$D$19)),)","v":0},{"$f":"IF((OR($F$6=0,$F$6=\"none\")),IF(AF42=0,,IF(OR($E$6='Customer Info'!$D$20,$E$6=0),AF42,(AF42/$E$6)*'Customer Info'!$D$20)),)","v":0},{"$f":"IF((OR($F$7=0,$F$7=\"none\")),IF(AG42=0,,IF(OR($E$7='Customer Info'!$D$21,$E$7=0),AG42,(AG42/$E$7)*'Customer Info'!$D$21)),)","v":0},0,0,{"$f":"IF(E42=\"plate waste\",,IF('Customer Info'!$M$18=0,'Log Sheet'!AY42,'Customer Info'!$M$18*'Log Sheet'!AY42))","v":0},{"$f":"IF(E42=\"plate waste\",IF(OR(C42=\"patient\",C42=\"patient beverages\"),IF('Customer Info'!$M$27=0,AY42*'Customer Info'!$M$18,AY42*'Customer Info'!$M$27),IF(C42=\"cafeteria\",IF('Customer Info'!$M$28=0,AY42*'Customer Info'!$M$18,AY42*'Customer Info'!$M$28),IF(C42=\"other1\",IF('Customer Info'!$M$29=0,AY42*'Customer Info'!$M$18,AY42*'Customer Info'!$M$29),))),)","v":0},0,{"$f":"IF($F$4=\"lunch\",IF(S42=0,,(S42/$E$5)*'Customer Info'!$D$18),)","v":0},{"$f":"IF($F$4=\"dinner\",IF(T42=0,,(T42/$E$6)*'Customer Info'!$D$18),)","v":0},{"$f":"IF($F$4=\"other\",IF(U42=0,,(U42/$E$7)*'Customer Info'!$D$18),)","v":0},0,{"$f":"IF($F$5=\"breakfast\",IF(R42=0,,(R42/$E$4)*'Customer Info'!$D$19),)","v":0},{"$f":"IF($F$5=\"dinner\",IF(T42=0,,(T42/$E$6)*'Customer Info'!$D$19),)","v":0},{"$f":"IF($F$5=\"other\",IF(U42=0,,(U42/$E$7)*'Customer Info'!$D$19),)","v":0},0,{"$f":"IF($F$6=\"breakfast\",IF(R42=0,,(R42/$E$4)*'Customer Info'!$D$20),)","v":0},{"$f":"IF($F$6=\"lunch\",IF(S42=0,,(S42/$E$5)*'Customer Info'!$D$20),)","v":0},{"$f":"IF($F$6=\"other\",IF(U42=0,,(U42/$E$7)*'Customer Info'!$D$20),)","v":0},0,{"$f":"IF($F$7=\"breakfast\",IF(R42=0,,(R42/$E$4)*'Customer Info'!$D$21),)","v":0},{"$f":"IF($F$7=\"lunch\",IF(S42=0,,(S42/$E$5)*'Customer Info'!$D$21),)","v":0},{"$f":"IF($F$7=\"dinner\",IF(T42=0,,(T42/$E$6)*'Customer Info'!$D$21),)","v":0},0,{"$f":"IF($F$10=\"lunch\",IF(W42=0,,(W42/$E$11)*'Customer Info'!$F$18),)","v":0},{"$f":"IF($F$10=\"dinner\",IF(X42=0,,(X42/$E$12)*'Customer Info'!$F$18),)","v":0},{"$f":"IF($F$10=\"other\",IF(Y42=0,,(Y42/$E$13)*'Customer Info'!$F$18),)","v":0},0,{"$f":"IF($F$11=\"breakfast\",IF(V42=0,,(V42/$E$10)*'Customer Info'!$F$19),)","v":0},{"$f":"IF($F$11=\"dinner\",IF(X42=0,,(X42/$E$12)*'Customer Info'!$F$19),)","v":0},{"$f":"IF($F$11=\"other\",IF(Y42=0,,(Y42/$E$13)*'Customer Info'!$F$19),)","v":0},0,{"$f":"IF($F$12=\"breakfast\",IF(V42=0,,(V42/$E$10)*'Customer Info'!$F$20),)","v":0},{"$f":"IF($F$12=\"lunch\",IF(W42=0,,(W42/$E$11)*'Customer Info'!$F$20),)","v":0},{"$f":"IF($F$12=\"other\",IF(Y42=0,,(Y42/$E$13)*'Customer Info'!$F$20),)","v":0},0,{"$f":"IF($F$13=\"breakfast\",IF(V42=0,,(V42/$E$10)*'Customer Info'!$F$21),)","v":0},{"$f":"IF($F$13=\"lunch\",IF(W42=0,,(W42/$E$11)*'Customer Info'!$F$21),)","v":0},{"$f":"IF($F$13=\"dinner\",IF(X42=0,,(X42/$E$12)*'Customer Info'!$F$21),)","v":0},0,{"$f":"IF($F$16=\"lunch\",IF(AA42=0,,(AA42/$E$17)*'Customer Info'!$H$18),)","v":0},{"$f":"IF($F$16=\"dinner\",IF(AB42=0,,(AB42/$E$18)*'Customer Info'!$H$18),)","v":0},{"$f":"IF($F$16=\"other\",IF(AC42=0,,(AC42/$E$19)*'Customer Info'!$H$18),)","v":0},0,{"$f":"IF($F$17=\"breakfast\",IF(Z42=0,,(Z42/$E$16)*'Customer Info'!$H$19),)","v":0},{"$f":"IF($F$17=\"dinner\",IF(AB42=0,,(AB42/$E$18)*'Customer Info'!$H$19),)","v":0},{"$f":"IF($F$17=\"other\",IF(AC42=0,,(AC42/$E$19)*'Customer Info'!$H$19),)","v":0},0,{"$f":"IF($F$18=\"breakfast\",IF(Z42=0,,(Z42/$E$16)*'Customer Info'!$H$20),)","v":0},{"$f":"IF($F$18=\"lunch\",IF(AA42=0,,(AA42/$E$17)*'Customer Info'!$H$20),)","v":0},{"$f":"IF($F$18=\"other\",IF(AC42=0,,(AC42/$E$19)*'Customer Info'!$H$20),)","v":0},0,{"$f":"IF($F$19=\"breakfast\",IF(Z42=0,,(Z42/$E$16)*'Customer Info'!$H$21),)","v":0},{"$f":"IF($F$19=\"lunch\",IF(AA42=0,,(AA42/$E$17)*'Customer Info'!$H$21),)","v":0},{"$f":"IF($F$19=\"dinner\",IF(AB42=0,,(AB42/$E$18)*'Customer Info'!$H$21),)","v":0},0,0,0,0,0,""]
[null,null,null,null,null,null,null,null,null,null,0,0,0,0,0,0,0,0,0,0,0,0,0,0,0,0,0,0,0,0,0,0,0,{"$f":"IF((OR($F$4=0,$F$4=\"none\")),IF(R43=0,,IF(OR($E$4='Customer Info'!$D$18,$E$4=0),R43,(R43/$E$4)*'Customer Info'!$D$18)),)","v":0},{"$f":"IF((OR($F$5=0,$F$5=\"none\")),IF(S43=0,,IF(OR($E$5='Customer Info'!$D$18,$E$5=0),S43,(S43/$E$5)*'Customer Info'!$D$19)),)","v":0},{"$f":"IF((OR($F$6=0,$F$6=\"none\")),IF(T43=0,,IF(OR($E$6='Customer Info'!$D$18,$E$6=0),T43,(T43/$E$6)*'Customer Info'!$D$20)),)","v":0},{"$f":"IF((OR($F$7=0,$F$7=\"none\")),IF(U43=0,,IF(OR($E$7='Customer Info'!$D$18,$E$7=0),U43,(U43/$E$7)*'Customer Info'!$D$21)),)","v":0},{"$f":"IF((OR($F$10=0,$F$10=\"none\")),IF(V43=0,,IF(OR($E$10='Customer Info'!$F$18,$E$10=0),V43,(V43/$E$10)*'Customer Info'!$F$18)),)","v":0},{"$f":"IF((OR($F$11=0,$F$11=\"none\")),IF(W43=0,,IF(OR($E$11='Customer Info'!$F$19,$E$11=0),W43,(W43/$E$11)*'Customer Info'!$F$19)),)","v":0},{"$f":"IF((OR($F$12=0,$F$12=\"none\")),IF(X43=0,,IF(OR($E$12='Customer Info'!$F$20,$E$12=0),X43,(X43/$E$12)*'Customer Info'!$F$20)),)","v":0},{"$f":"IF((OR($F$13=0,$F$13=\"none\")),IF(Y43=0,,IF(OR($E$13='Customer Info'!$F$21,$E$13=0),Y43,(Y43/$E$13)*'Customer Info'!$F$21)),)","v":0},{"$f":"IF((OR($F$16=0,$F$16=\"none\")),IF(Z43=0,,IF(OR($E$16='Customer Info'!$H$18,$E$16=0),Z43,(Z43/$E$16)*'Customer Info'!$H$18)),)","v":0},{"$f":"IF((OR($F$17=0,$F$17=\"none\")),IF(AA43=0,,IF(OR($E$17='Customer Info'!$H$19,$E$17=0),AA43,(AA43/$E$17)*'Customer Info'!$H$19)),)","v":0},{"$f":"IF((OR($F$18=0,$F$18=\"none\")),IF(AB43=0,,IF(OR($E$18='Customer Info'!$H$20,$E$18=0),AB43,(AB43/$E$18)*'Customer Info'!$H$20)),)","v":0},{"$f":"IF((OR($F$19=0,$F$19=\"none\")),IF(AC43=0,,IF(OR($E$19='Customer Info'!$H$21,$E$19=0),AC43,(AC43/$E$19)*'Customer Info'!$H$21)),)","v":0},{"$f":"IF((OR($F$4=0,$F$4=\"none\")),IF(AD43=0,,IF(OR($E$4='Customer Info'!$D$18,$E$4=0),AD43,(AD43/$E$4)*'Customer Info'!$D$18)),)","v":0},{"$f":"IF((OR($F$5=0,$F$5=\"none\")),IF(AE43=0,,IF(OR($E$5='Customer Info'!$D$19,$E$5=0),AE43,(AE43/$E$5)*'Customer Info'!$D$19)),)","v":0},{"$f":"IF((OR($F$6=0,$F$6=\"none\")),IF(AF43=0,,IF(OR($E$6='Customer Info'!$D$20,$E$6=0),AF43,(AF43/$E$6)*'Customer Info'!$D$20)),)","v":0},{"$f":"IF((OR($F$7=0,$F$7=\"none\")),IF(AG43=0,,IF(OR($E$7='Customer Info'!$D$21,$E$7=0),AG43,(AG43/$E$7)*'Customer Info'!$D$21)),)","v":0},0,0,{"$f":"IF(E43=\"plate waste\",,IF('Customer Info'!$M$18=0,'Log Sheet'!AY43,'Customer Info'!$M$18*'Log Sheet'!AY43))","v":0},{"$f":"IF(E43=\"plate waste\",IF(OR(C43=\"patient\",C43=\"patient beverages\"),IF('Customer Info'!$M$27=0,AY43*'Customer Info'!$M$18,AY43*'Customer Info'!$M$27),IF(C43=\"cafeteria\",IF('Customer Info'!$M$28=0,AY43*'Customer Info'!$M$18,AY43*'Customer Info'!$M$28),IF(C43=\"other1\",IF('Customer Info'!$M$29=0,AY43*'Customer Info'!$M$18,AY43*'Customer Info'!$M$29),))),)","v":0},0,{"$f":"IF($F$4=\"lunch\",IF(S43=0,,(S43/$E$5)*'Customer Info'!$D$18),)","v":0},{"$f":"IF($F$4=\"dinner\",IF(T43=0,,(T43/$E$6)*'Customer Info'!$D$18),)","v":0},{"$f":"IF($F$4=\"other\",IF(U43=0,,(U43/$E$7)*'Customer Info'!$D$18),)","v":0},0,{"$f":"IF($F$5=\"breakfast\",IF(R43=0,,(R43/$E$4)*'Customer Info'!$D$19),)","v":0},{"$f":"IF($F$5=\"dinner\",IF(T43=0,,(T43/$E$6)*'Customer Info'!$D$19),)","v":0},{"$f":"IF($F$5=\"other\",IF(U43=0,,(U43/$E$7)*'Customer Info'!$D$19),)","v":0},0,{"$f":"IF($F$6=\"breakfast\",IF(R43=0,,(R43/$E$4)*'Customer Info'!$D$20),)","v":0},{"$f":"IF($F$6=\"lunch\",IF(S43=0,,(S43/$E$5)*'Customer Info'!$D$20),)","v":0},{"$f":"IF($F$6=\"other\",IF(U43=0,,(U43/$E$7)*'Customer Info'!$D$20),)","v":0},0,{"$f":"IF($F$7=\"breakfast\",IF(R43=0,,(R43/$E$4)*'Customer Info'!$D$21),)","v":0},{"$f":"IF($F$7=\"lunch\",IF(S43=0,,(S43/$E$5)*'Customer Info'!$D$21),)","v":0},{"$f":"IF($F$7=\"dinner\",IF(T43=0,,(T43/$E$6)*'Customer Info'!$D$21),)","v":0},0,{"$f":"IF($F$10=\"lunch\",IF(W43=0,,(W43/$E$11)*'Customer Info'!$F$18),)","v":0},{"$f":"IF($F$10=\"dinner\",IF(X43=0,,(X43/$E$12)*'Customer Info'!$F$18),)","v":0},{"$f":"IF($F$10=\"other\",IF(Y43=0,,(Y43/$E$13)*'Customer Info'!$F$18),)","v":0},0,{"$f":"IF($F$11=\"breakfast\",IF(V43=0,,(V43/$E$10)*'Customer Info'!$F$19),)","v":0},{"$f":"IF($F$11=\"dinner\",IF(X43=0,,(X43/$E$12)*'Customer Info'!$F$19),)","v":0},{"$f":"IF($F$11=\"other\",IF(Y43=0,,(Y43/$E$13)*'Customer Info'!$F$19),)","v":0},0,{"$f":"IF($F$12=\"breakfast\",IF(V43=0,,(V43/$E$10)*'Customer Info'!$F$20),)","v":0},{"$f":"IF($F$12=\"lunch\",IF(W43=0,,(W43/$E$11)*'Customer Info'!$F$20),)","v":0},{"$f":"IF($F$12=\"other\",IF(Y43=0,,(Y43/$E$13)*'Customer Info'!$F$20),)","v":0},0,{"$f":"IF($F$13=\"breakfast\",IF(V43=0,,(V43/$E$10)*'Customer Info'!$F$21),)","v":0},{"$f":"IF($F$13=\"lunch\",IF(W43=0,,(W43/$E$11)*'Customer Info'!$F$21),)","v":0},{"$f":"IF($F$13=\"dinner\",IF(X43=0,,(X43/$E$12)*'Customer Info'!$F$21),)","v":0},0,{"$f":"IF($F$16=\"lunch\",IF(AA43=0,,(AA43/$E$17)*'Customer Info'!$H$18),)","v":0},{"$f":"IF($F$16=\"dinner\",IF(AB43=0,,(AB43/$E$18)*'Customer Info'!$H$18),)","v":0},{"$f":"IF($F$16=\"other\",IF(AC43=0,,(AC43/$E$19)*'Customer Info'!$H$18),)","v":0},0,{"$f":"IF($F$17=\"breakfast\",IF(Z43=0,,(Z43/$E$16)*'Customer Info'!$H$19),)","v":0},{"$f":"IF($F$17=\"dinner\",IF(AB43=0,,(AB43/$E$18)*'Customer Info'!$H$19),)","v":0},{"$f":"IF($F$17=\"other\",IF(AC43=0,,(AC43/$E$19)*'Customer Info'!$H$19),)","v":0},0,{"$f":"IF($F$18=\"breakfast\",IF(Z43=0,,(Z43/$E$16)*'Customer Info'!$H$20),)","v":0},{"$f":"IF($F$18=\"lunch\",IF(AA43=0,,(AA43/$E$17)*'Customer Info'!$H$20),)","v":0},{"$f":"IF($F$18=\"other\",IF(AC43=0,,(AC43/$E$19)*'Customer Info'!$H$20),)","v":0},0,{"$f":"IF($F$19=\"breakfast\",IF(Z43=0,,(Z43/$E$16)*'Customer Info'!$H$21),)","v":0},{"$f":"IF($F$19=\"lunch\",IF(AA43=0,,(AA43/$E$17)*'Customer Info'!$H$21),)","v":0},{"$f":"IF($F$19=\"dinner\",IF(AB43=0,,(AB43/$E$18)*'Customer Info'!$H$21),)","v":0},0,0,0,0,0,""]
[null,null,null,null,null,null,null,null,null,null,0,{"$f":"BB44","v":0},0,0,0,0,0,0,0,0,0,0,0,0,0,0,0,0,0,0,0,0,0,{"$f":"IF((OR($F$4=0,$F$4=\"none\")),IF(R44=0,,IF(OR($E$4='Customer Info'!$D$18,$E$4=0),R44,(R44/$E$4)*'Customer Info'!$D$18)),)","v":0},{"$f":"IF((OR($F$5=0,$F$5=\"none\")),IF(S44=0,,IF(OR($E$5='Customer Info'!$D$18,$E$5=0),S44,(S44/$E$5)*'Customer Info'!$D$19)),)","v":0},{"$f":"IF((OR($F$6=0,$F$6=\"none\")),IF(T44=0,,IF(OR($E$6='Customer Info'!$D$18,$E$6=0),T44,(T44/$E$6)*'Customer Info'!$D$20)),)","v":0},{"$f":"IF((OR($F$7=0,$F$7=\"none\")),IF(U44=0,,IF(OR($E$7='Customer Info'!$D$18,$E$7=0),U44,(U44/$E$7)*'Customer Info'!$D$21)),)","v":0},{"$f":"IF((OR($F$10=0,$F$10=\"none\")),IF(V44=0,,IF(OR($E$10='Customer Info'!$F$18,$E$10=0),V44,(V44/$E$10)*'Customer Info'!$F$18)),)","v":0},{"$f":"IF((OR($F$11=0,$F$11=\"none\")),IF(W44=0,,IF(OR($E$11='Customer Info'!$F$19,$E$11=0),W44,(W44/$E$11)*'Customer Info'!$F$19)),)","v":0},{"$f":"IF((OR($F$12=0,$F$12=\"none\")),IF(X44=0,,IF(OR($E$12='Customer Info'!$F$20,$E$12=0),X44,(X44/$E$12)*'Customer Info'!$F$20)),)","v":0},{"$f":"IF((OR($F$13=0,$F$13=\"none\")),IF(Y44=0,,IF(OR($E$13='Customer Info'!$F$21,$E$13=0),Y44,(Y44/$E$13)*'Customer Info'!$F$21)),)","v":0},{"$f":"IF((OR($F$16=0,$F$16=\"none\")),IF(Z44=0,,IF(OR($E$16='Customer Info'!$H$18,$E$16=0),Z44,(Z44/$E$16)*'Customer Info'!$H$18)),)","v":0},{"$f":"IF((OR($F$17=0,$F$17=\"none\")),IF(AA44=0,,IF(OR($E$17='Customer Info'!$H$19,$E$17=0),AA44,(AA44/$E$17)*'Customer Info'!$H$19)),)","v":0},{"$f":"IF((OR($F$18=0,$F$18=\"none\")),IF(AB44=0,,IF(OR($E$18='Customer Info'!$H$20,$E$18=0),AB44,(AB44/$E$18)*'Customer Info'!$H$20)),)","v":0},{"$f":"IF((OR($F$19=0,$F$19=\"none\")),IF(AC44=0,,IF(OR($E$19='Customer Info'!$H$21,$E$19=0),AC44,(AC44/$E$19)*'Customer Info'!$H$21)),)","v":0},{"$f":"IF((OR($F$4=0,$F$4=\"none\")),IF(AD44=0,,IF(OR($E$4='Customer Info'!$D$18,$E$4=0),AD44,(AD44/$E$4)*'Customer Info'!$D$18)),)","v":0},{"$f":"IF((OR($F$5=0,$F$5=\"none\")),IF(AE44=0,,IF(OR($E$5='Customer Info'!$D$19,$E$5=0),AE44,(AE44/$E$5)*'Customer Info'!$D$19)),)","v":0},{"$f":"IF((OR($F$6=0,$F$6=\"none\")),IF(AF44=0,,IF(OR($E$6='Customer Info'!$D$20,$E$6=0),AF44,(AF44/$E$6)*'Customer Info'!$D$20)),)","v":0},{"$f":"IF((OR($F$7=0,$F$7=\"none\")),IF(AG44=0,,IF(OR($E$7='Customer Info'!$D$21,$E$7=0),AG44,(AG44/$E$7)*'Customer Info'!$D$21)),)","v":0},{"$f":"SUM(AH44:AW44)","v":0},0,{"$f":"IF(E44=\"plate waste\",,IF('Customer Info'!$M$18=0,'Log Sheet'!AY44,'Customer Info'!$M$18*'Log Sheet'!AY44))","v":0},{"$f":"IF(E44=\"plate waste\",IF(OR(C44=\"patient\",C44=\"patient beverages\"),IF('Customer Info'!$M$27=0,AY44*'Customer Info'!$M$18,AY44*'Customer Info'!$M$27),IF(C44=\"cafeteria\",IF('Customer Info'!$M$28=0,AY44*'Customer Info'!$M$18,AY44*'Customer Info'!$M$28),IF(C44=\"other1\",IF('Customer Info'!$M$29=0,AY44*'Customer Info'!$M$18,AY44*'Customer Info'!$M$29),))),)","v":0},{"$f":"SUM(AZ44:BA44)","v":0},{"$f":"IF($F$4=\"lunch\",IF(S44=0,,(S44/$E$5)*'Customer Info'!$D$18),)","v":0},{"$f":"IF($F$4=\"dinner\",IF(T44=0,,(T44/$E$6)*'Customer Info'!$D$18),)","v":0},{"$f":"IF($F$4=\"other\",IF(U44=0,,(U44/$E$7)*'Customer Info'!$D$18),)","v":0},0,{"$f":"IF($F$5=\"breakfast\",IF(R44=0,,(R44/$E$4)*'Customer Info'!$D$19),)","v":0},{"$f":"IF($F$5=\"dinner\",IF(T44=0,,(T44/$E$6)*'Customer Info'!$D$19),)","v":0},{"$f":"IF($F$5=\"other\",IF(U44=0,,(U44/$E$7)*'Customer Info'!$D$19),)","v":0},0,{"$f":"IF($F$6=\"breakfast\",IF(R44=0,,(R44/$E$4)*'Customer Info'!$D$20),)","v":0},{"$f":"IF($F$6=\"lunch\",IF(S44=0,,(S44/$E$5)*'Customer Info'!$D$20),)","v":0},{"$f":"IF($F$6=\"other\",IF(U44=0,,(U44/$E$7)*'Customer Info'!$D$20),)","v":0},0,{"$f":"IF($F$7=\"breakfast\",IF(R44=0,,(R44/$E$4)*'Customer Info'!$D$21),)","v":0},{"$f":"IF($F$7=\"lunch\",IF(S44=0,,(S44/$E$5)*'Customer Info'!$D$21),)","v":0},{"$f":"IF($F$7=\"dinner\",IF(T44=0,,(T44/$E$6)*'Customer Info'!$D$21),)","v":0},0,{"$f":"IF($F$10=\"lunch\",IF(W44=0,,(W44/$E$11)*'Customer Info'!$F$18),)","v":0},{"$f":"IF($F$10=\"dinner\",IF(X44=0,,(X44/$E$12)*'Customer Info'!$F$18),)","v":0},{"$f":"IF($F$10=\"other\",IF(Y44=0,,(Y44/$E$13)*'Customer Info'!$F$18),)","v":0},0,{"$f":"IF($F$11=\"breakfast\",IF(V44=0,,(V44/$E$10)*'Customer Info'!$F$19),)","v":0},{"$f":"IF($F$11=\"dinner\",IF(X44=0,,(X44/$E$12)*'Customer Info'!$F$19),)","v":0},{"$f":"IF($F$11=\"other\",IF(Y44=0,,(Y44/$E$13)*'Customer Info'!$F$19),)","v":0},0,{"$f":"IF($F$12=\"breakfast\",IF(V44=0,,(V44/$E$10)*'Customer Info'!$F$20),)","v":0},{"$f":"IF($F$12=\"lunch\",IF(W44=0,,(W44/$E$11)*'Customer Info'!$F$20),)","v":0},{"$f":"IF($F$12=\"other\",IF(Y44=0,,(Y44/$E$13)*'Customer Info'!$F$20),)","v":0},0,{"$f":"IF($F$13=\"breakfast\",IF(V44=0,,(V44/$E$10)*'Customer Info'!$F$21),)","v":0},{"$f":"IF($F$13=\"lunch\",IF(W44=0,,(W44/$E$11)*'Customer Info'!$F$21),)","v":0},{"$f":"IF($F$13=\"dinner\",IF(X44=0,,(X44/$E$12)*'Customer Info'!$F$21),)","v":0},0,{"$f":"IF($F$16=\"lunch\",IF(AA44=0,,(AA44/$E$17)*'Customer Info'!$H$18),)","v":0},{"$f":"IF($F$16=\"dinner\",IF(AB44=0,,(AB44/$E$18)*'Customer Info'!$H$18),)","v":0},{"$f":"IF($F$16=\"other\",IF(AC44=0,,(AC44/$E$19)*'Customer Info'!$H$18),)","v":0},0,{"$f":"IF($F$17=\"breakfast\",IF(Z44=0,,(Z44/$E$16)*'Customer Info'!$H$19),)","v":0},{"$f":"IF($F$17=\"dinner\",IF(AB44=0,,(AB44/$E$18)*'Customer Info'!$H$19),)","v":0},{"$f":"IF($F$17=\"other\",IF(AC44=0,,(AC44/$E$19)*'Customer Info'!$H$19),)","v":0},0,{"$f":"IF($F$18=\"breakfast\",IF(Z44=0,,(Z44/$E$16)*'Customer Info'!$H$20),)","v":0},{"$f":"IF($F$18=\"lunch\",IF(AA44=0,,(AA44/$E$17)*'Customer Info'!$H$20),)","v":0},{"$f":"IF($F$18=\"other\",IF(AC44=0,,(AC44/$E$19)*'Customer Info'!$H$20),)","v":0},0,{"$f":"IF($F$19=\"breakfast\",IF(Z44=0,,(Z44/$E$16)*'Customer Info'!$H$21),)","v":0},{"$f":"IF($F$19=\"lunch\",IF(AA44=0,,(AA44/$E$17)*'Customer Info'!$H$21),)","v":0},{"$f":"IF($F$19=\"dinner\",IF(AB44=0,,(AB44/$E$18)*'Customer Info'!$H$21),)","v":0},0,0,0,0,0,""]
[null,null,null,null,null,null,null,null,null,null,0,0,0,0,0,0,0,0,0,0,0,0,0,0,0,0,0,0,0,0,0,0,0,{"$f":"IF((OR($F$4=0,$F$4=\"none\")),IF(R45=0,,IF(OR($E$4='Customer Info'!$D$18,$E$4=0),R45,(R45/$E$4)*'Customer Info'!$D$18)),)","v":0},{"$f":"IF((OR($F$5=0,$F$5=\"none\")),IF(S45=0,,IF(OR($E$5='Customer Info'!$D$18,$E$5=0),S45,(S45/$E$5)*'Customer Info'!$D$19)),)","v":0},{"$f":"IF((OR($F$6=0,$F$6=\"none\")),IF(T45=0,,IF(OR($E$6='Customer Info'!$D$18,$E$6=0),T45,(T45/$E$6)*'Customer Info'!$D$20)),)","v":0},{"$f":"IF((OR($F$7=0,$F$7=\"none\")),IF(U45=0,,IF(OR($E$7='Customer Info'!$D$18,$E$7=0),U45,(U45/$E$7)*'Customer Info'!$D$21)),)","v":0},{"$f":"IF((OR($F$10=0,$F$10=\"none\")),IF(V45=0,,IF(OR($E$10='Customer Info'!$F$18,$E$10=0),V45,(V45/$E$10)*'Customer Info'!$F$18)),)","v":0},{"$f":"IF((OR($F$11=0,$F$11=\"none\")),IF(W45=0,,IF(OR($E$11='Customer Info'!$F$19,$E$11=0),W45,(W45/$E$11)*'Customer Info'!$F$19)),)","v":0},{"$f":"IF((OR($F$12=0,$F$12=\"none\")),IF(X45=0,,IF(OR($E$12='Customer Info'!$F$20,$E$12=0),X45,(X45/$E$12)*'Customer Info'!$F$20)),)","v":0},{"$f":"IF((OR($F$13=0,$F$13=\"none\")),IF(Y45=0,,IF(OR($E$13='Customer Info'!$F$21,$E$13=0),Y45,(Y45/$E$13)*'Customer Info'!$F$21)),)","v":0},{"$f":"IF((OR($F$16=0,$F$16=\"none\")),IF(Z45=0,,IF(OR($E$16='Customer Info'!$H$18,$E$16=0),Z45,(Z45/$E$16)*'Customer Info'!$H$18)),)","v":0},{"$f":"IF((OR($F$17=0,$F$17=\"none\")),IF(AA45=0,,IF(OR($E$17='Customer Info'!$H$19,$E$17=0),AA45,(AA45/$E$17)*'Customer Info'!$H$19)),)","v":0},{"$f":"IF((OR($F$18=0,$F$18=\"none\")),IF(AB45=0,,IF(OR($E$18='Customer Info'!$H$20,$E$18=0),AB45,(AB45/$E$18)*'Customer Info'!$H$20)),)","v":0},{"$f":"IF((OR($F$19=0,$F$19=\"none\")),IF(AC45=0,,IF(OR($E$19='Customer Info'!$H$21,$E$19=0),AC45,(AC45/$E$19)*'Customer Info'!$H$21)),)","v":0},{"$f":"IF((OR($F$4=0,$F$4=\"none\")),IF(AD45=0,,IF(OR($E$4='Customer Info'!$D$18,$E$4=0),AD45,(AD45/$E$4)*'Customer Info'!$D$18)),)","v":0},{"$f":"IF((OR($F$5=0,$F$5=\"none\")),IF(AE45=0,,IF(OR($E$5='Customer Info'!$D$19,$E$5=0),AE45,(AE45/$E$5)*'Customer Info'!$D$19)),)","v":0},{"$f":"IF((OR($F$6=0,$F$6=\"none\")),IF(AF45=0,,IF(OR($E$6='Customer Info'!$D$20,$E$6=0),AF45,(AF45/$E$6)*'Customer Info'!$D$20)),)","v":0},{"$f":"IF((OR($F$7=0,$F$7=\"none\")),IF(AG45=0,,IF(OR($E$7='Customer Info'!$D$21,$E$7=0),AG45,(AG45/$E$7)*'Customer Info'!$D$21)),)","v":0},0,0,{"$f":"IF(E45=\"plate waste\",,IF('Customer Info'!$M$18=0,'Log Sheet'!AY45,'Customer Info'!$M$18*'Log Sheet'!AY45))","v":0},{"$f":"IF(E45=\"plate waste\",IF(OR(C45=\"patient\",C45=\"patient beverages\"),IF('Customer Info'!$M$27=0,AY45*'Customer Info'!$M$18,AY45*'Customer Info'!$M$27),IF(C45=\"cafeteria\",IF('Customer Info'!$M$28=0,AY45*'Customer Info'!$M$18,AY45*'Customer Info'!$M$28),IF(C45=\"other1\",IF('Customer Info'!$M$29=0,AY45*'Customer Info'!$M$18,AY45*'Customer Info'!$M$29),))),)","v":0},0,{"$f":"IF($F$4=\"lunch\",IF(S45=0,,(S45/$E$5)*'Customer Info'!$D$18),)","v":0},{"$f":"IF($F$4=\"dinner\",IF(T45=0,,(T45/$E$6)*'Customer Info'!$D$18),)","v":0},{"$f":"IF($F$4=\"other\",IF(U45=0,,(U45/$E$7)*'Customer Info'!$D$18),)","v":0},0,{"$f":"IF($F$5=\"breakfast\",IF(R45=0,,(R45/$E$4)*'Customer Info'!$D$19),)","v":0},{"$f":"IF($F$5=\"dinner\",IF(T45=0,,(T45/$E$6)*'Customer Info'!$D$19),)","v":0},{"$f":"IF($F$5=\"other\",IF(U45=0,,(U45/$E$7)*'Customer Info'!$D$19),)","v":0},0,{"$f":"IF($F$6=\"breakfast\",IF(R45=0,,(R45/$E$4)*'Customer Info'!$D$20),)","v":0},{"$f":"IF($F$6=\"lunch\",IF(S45=0,,(S45/$E$5)*'Customer Info'!$D$20),)","v":0},{"$f":"IF($F$6=\"other\",IF(U45=0,,(U45/$E$7)*'Customer Info'!$D$20),)","v":0},0,{"$f":"IF($F$7=\"breakfast\",IF(R45=0,,(R45/$E$4)*'Customer Info'!$D$21),)","v":0},{"$f":"IF($F$7=\"lunch\",IF(S45=0,,(S45/$E$5)*'Customer Info'!$D$21),)","v":0},{"$f":"IF($F$7=\"dinner\",IF(T45=0,,(T45/$E$6)*'Customer Info'!$D$21),)","v":0},0,{"$f":"IF($F$10=\"lunch\",IF(W45=0,,(W45/$E$11)*'Customer Info'!$F$18),)","v":0},{"$f":"IF($F$10=\"dinner\",IF(X45=0,,(X45/$E$12)*'Customer Info'!$F$18),)","v":0},{"$f":"IF($F$10=\"other\",IF(Y45=0,,(Y45/$E$13)*'Customer Info'!$F$18),)","v":0},0,{"$f":"IF($F$11=\"breakfast\",IF(V45=0,,(V45/$E$10)*'Customer Info'!$F$19),)","v":0},{"$f":"IF($F$11=\"dinner\",IF(X45=0,,(X45/$E$12)*'Customer Info'!$F$19),)","v":0},{"$f":"IF($F$11=\"other\",IF(Y45=0,,(Y45/$E$13)*'Customer Info'!$F$19),)","v":0},0,{"$f":"IF($F$12=\"breakfast\",IF(V45=0,,(V45/$E$10)*'Customer Info'!$F$20),)","v":0},{"$f":"IF($F$12=\"lunch\",IF(W45=0,,(W45/$E$11)*'Customer Info'!$F$20),)","v":0},{"$f":"IF($F$12=\"other\",IF(Y45=0,,(Y45/$E$13)*'Customer Info'!$F$20),)","v":0},0,{"$f":"IF($F$13=\"breakfast\",IF(V45=0,,(V45/$E$10)*'Customer Info'!$F$21),)","v":0},{"$f":"IF($F$13=\"lunch\",IF(W45=0,,(W45/$E$11)*'Customer Info'!$F$21),)","v":0},{"$f":"IF($F$13=\"dinner\",IF(X45=0,,(X45/$E$12)*'Customer Info'!$F$21),)","v":0},0,{"$f":"IF($F$16=\"lunch\",IF(AA45=0,,(AA45/$E$17)*'Customer Info'!$H$18),)","v":0},{"$f":"IF($F$16=\"dinner\",IF(AB45=0,,(AB45/$E$18)*'Customer Info'!$H$18),)","v":0},{"$f":"IF($F$16=\"other\",IF(AC45=0,,(AC45/$E$19)*'Customer Info'!$H$18),)","v":0},0,{"$f":"IF($F$17=\"breakfast\",IF(Z45=0,,(Z45/$E$16)*'Customer Info'!$H$19),)","v":0},{"$f":"IF($F$17=\"dinner\",IF(AB45=0,,(AB45/$E$18)*'Customer Info'!$H$19),)","v":0},{"$f":"IF($F$17=\"other\",IF(AC45=0,,(AC45/$E$19)*'Customer Info'!$H$19),)","v":0},0,{"$f":"IF($F$18=\"breakfast\",IF(Z45=0,,(Z45/$E$16)*'Customer Info'!$H$20),)","v":0},{"$f":"IF($F$18=\"lunch\",IF(AA45=0,,(AA45/$E$17)*'Customer Info'!$H$20),)","v":0},{"$f":"IF($F$18=\"other\",IF(AC45=0,,(AC45/$E$19)*'Customer Info'!$H$20),)","v":0},0,{"$f":"IF($F$19=\"breakfast\",IF(Z45=0,,(Z45/$E$16)*'Customer Info'!$H$21),)","v":0},{"$f":"IF($F$19=\"lunch\",IF(AA45=0,,(AA45/$E$17)*'Customer Info'!$H$21),)","v":0},{"$f":"IF($F$19=\"dinner\",IF(AB45=0,,(AB45/$E$18)*'Customer Info'!$H$21),)","v":0},0,0,0,0,0,""]
[null,null,null,null,null,null,null,null,null,null,0,0,0,0,0,0,0,0,0,0,0,0,0,0,0,0,0,0,0,0,0,0,0,{"$f":"IF((OR($F$4=0,$F$4=\"none\")),IF(R46=0,,IF(OR($E$4='Customer Info'!$D$18,$E$4=0),R46,(R46/$E$4)*'Customer Info'!$D$18)),)","v":0},{"$f":"IF((OR($F$5=0,$F$5=\"none\")),IF(S46=0,,IF(OR($E$5='Customer Info'!$D$18,$E$5=0),S46,(S46/$E$5)*'Customer Info'!$D$19)),)","v":0},{"$f":"IF((OR($F$6=0,$F$6=\"none\")),IF(T46=0,,IF(OR($E$6='Customer Info'!$D$18,$E$6=0),T46,(T46/$E$6)*'Customer Info'!$D$20)),)","v":0},{"$f":"IF((OR($F$7=0,$F$7=\"none\")),IF(U46=0,,IF(OR($E$7='Customer Info'!$D$18,$E$7=0),U46,(U46/$E$7)*'Customer Info'!$D$21)),)","v":0},{"$f":"IF((OR($F$10=0,$F$10=\"none\")),IF(V46=0,,IF(OR($E$10='Customer Info'!$F$18,$E$10=0),V46,(V46/$E$10)*'Customer Info'!$F$18)),)","v":0},{"$f":"IF((OR($F$11=0,$F$11=\"none\")),IF(W46=0,,IF(OR($E$11='Customer Info'!$F$19,$E$11=0),W46,(W46/$E$11)*'Customer Info'!$F$19)),)","v":0},{"$f":"IF((OR($F$12=0,$F$12=\"none\")),IF(X46=0,,IF(OR($E$12='Customer Info'!$F$20,$E$12=0),X46,(X46/$E$12)*'Customer Info'!$F$20)),)","v":0},{"$f":"IF((OR($F$13=0,$F$13=\"none\")),IF(Y46=0,,IF(OR($E$13='Customer Info'!$F$21,$E$13=0),Y46,(Y46/$E$13)*'Customer Info'!$F$21)),)","v":0},{"$f":"IF((OR($F$16=0,$F$16=\"none\")),IF(Z46=0,,IF(OR($E$16='Customer Info'!$H$18,$E$16=0),Z46,(Z46/$E$16)*'Customer Info'!$H$18)),)","v":0},{"$f":"IF((OR($F$17=0,$F$17=\"none\")),IF(AA46=0,,IF(OR($E$17='Customer Info'!$H$19,$E$17=0),AA46,(AA46/$E$17)*'Customer Info'!$H$19)),)","v":0},{"$f":"IF((OR($F$18=0,$F$18=\"none\")),IF(AB46=0,,IF(OR($E$18='Customer Info'!$H$20,$E$18=0),AB46,(AB46/$E$18)*'Customer Info'!$H$20)),)","v":0},{"$f":"IF((OR($F$19=0,$F$19=\"none\")),IF(AC46=0,,IF(OR($E$19='Customer Info'!$H$21,$E$19=0),AC46,(AC46/$E$19)*'Customer Info'!$H$21)),)","v":0},{"$f":"IF((OR($F$4=0,$F$4=\"none\")),IF(AD46=0,,IF(OR($E$4='Customer Info'!$D$18,$E$4=0),AD46,(AD46/$E$4)*'Customer Info'!$D$18)),)","v":0},{"$f":"IF((OR($F$5=0,$F$5=\"none\")),IF(AE46=0,,IF(OR($E$5='Customer Info'!$D$19,$E$5=0),AE46,(AE46/$E$5)*'Customer Info'!$D$19)),)","v":0},{"$f":"IF((OR($F$6=0,$F$6=\"none\")),IF(AF46=0,,IF(OR($E$6='Customer Info'!$D$20,$E$6=0),AF46,(AF46/$E$6)*'Customer Info'!$D$20)),)","v":0},{"$f":"IF((OR($F$7=0,$F$7=\"none\")),IF(AG46=0,,IF(OR($E$7='Customer Info'!$D$21,$E$7=0),AG46,(AG46/$E$7)*'Customer Info'!$D$21)),)","v":0},0,0,{"$f":"IF(E46=\"plate waste\",,IF('Customer Info'!$M$18=0,'Log Sheet'!AY46,'Customer Info'!$M$18*'Log Sheet'!AY46))","v":0},{"$f":"IF(E46=\"plate waste\",IF(OR(C46=\"patient\",C46=\"patient beverages\"),IF('Customer Info'!$M$27=0,AY46*'Customer Info'!$M$18,AY46*'Customer Info'!$M$27),IF(C46=\"cafeteria\",IF('Customer Info'!$M$28=0,AY46*'Customer Info'!$M$18,AY46*'Customer Info'!$M$28),IF(C46=\"other1\",IF('Customer Info'!$M$29=0,AY46*'Customer Info'!$M$18,AY46*'Customer Info'!$M$29),))),)","v":0},0,{"$f":"IF($F$4=\"lunch\",IF(S46=0,,(S46/$E$5)*'Customer Info'!$D$18),)","v":0},{"$f":"IF($F$4=\"dinner\",IF(T46=0,,(T46/$E$6)*'Customer Info'!$D$18),)","v":0},{"$f":"IF($F$4=\"other\",IF(U46=0,,(U46/$E$7)*'Customer Info'!$D$18),)","v":0},0,{"$f":"IF($F$5=\"breakfast\",IF(R46=0,,(R46/$E$4)*'Customer Info'!$D$19),)","v":0},{"$f":"IF($F$5=\"dinner\",IF(T46=0,,(T46/$E$6)*'Customer Info'!$D$19),)","v":0},{"$f":"IF($F$5=\"other\",IF(U46=0,,(U46/$E$7)*'Customer Info'!$D$19),)","v":0},0,{"$f":"IF($F$6=\"breakfast\",IF(R46=0,,(R46/$E$4)*'Customer Info'!$D$20),)","v":0},{"$f":"IF($F$6=\"lunch\",IF(S46=0,,(S46/$E$5)*'Customer Info'!$D$20),)","v":0},{"$f":"IF($F$6=\"other\",IF(U46=0,,(U46/$E$7)*'Customer Info'!$D$20),)","v":0},0,{"$f":"IF($F$7=\"breakfast\",IF(R46=0,,(R46/$E$4)*'Customer Info'!$D$21),)","v":0},{"$f":"IF($F$7=\"lunch\",IF(S46=0,,(S46/$E$5)*'Customer Info'!$D$21),)","v":0},{"$f":"IF($F$7=\"dinner\",IF(T46=0,,(T46/$E$6)*'Customer Info'!$D$21),)","v":0},0,{"$f":"IF($F$10=\"lunch\",IF(W46=0,,(W46/$E$11)*'Customer Info'!$F$18),)","v":0},{"$f":"IF($F$10=\"dinner\",IF(X46=0,,(X46/$E$12)*'Customer Info'!$F$18),)","v":0},{"$f":"IF($F$10=\"other\",IF(Y46=0,,(Y46/$E$13)*'Customer Info'!$F$18),)","v":0},0,{"$f":"IF($F$11=\"breakfast\",IF(V46=0,,(V46/$E$10)*'Customer Info'!$F$19),)","v":0},{"$f":"IF($F$11=\"dinner\",IF(X46=0,,(X46/$E$12)*'Customer Info'!$F$19),)","v":0},{"$f":"IF($F$11=\"other\",IF(Y46=0,,(Y46/$E$13)*'Customer Info'!$F$19),)","v":0},0,{"$f":"IF($F$12=\"breakfast\",IF(V46=0,,(V46/$E$10)*'Customer Info'!$F$20),)","v":0},{"$f":"IF($F$12=\"lunch\",IF(W46=0,,(W46/$E$11)*'Customer Info'!$F$20),)","v":0},{"$f":"IF($F$12=\"other\",IF(Y46=0,,(Y46/$E$13)*'Customer Info'!$F$20),)","v":0},0,{"$f":"IF($F$13=\"breakfast\",IF(V46=0,,(V46/$E$10)*'Customer Info'!$F$21),)","v":0},{"$f":"IF($F$13=\"lunch\",IF(W46=0,,(W46/$E$11)*'Customer Info'!$F$21),)","v":0},{"$f":"IF($F$13=\"dinner\",IF(X46=0,,(X46/$E$12)*'Customer Info'!$F$21),)","v":0},0,{"$f":"IF($F$16=\"lunch\",IF(AA46=0,,(AA46/$E$17)*'Customer Info'!$H$18),)","v":0},{"$f":"IF($F$16=\"dinner\",IF(AB46=0,,(AB46/$E$18)*'Customer Info'!$H$18),)","v":0},{"$f":"IF($F$16=\"other\",IF(AC46=0,,(AC46/$E$19)*'Customer Info'!$H$18),)","v":0},0,{"$f":"IF($F$17=\"breakfast\",IF(Z46=0,,(Z46/$E$16)*'Customer Info'!$H$19),)","v":0},{"$f":"IF($F$17=\"dinner\",IF(AB46=0,,(AB46/$E$18)*'Customer Info'!$H$19),)","v":0},{"$f":"IF($F$17=\"other\",IF(AC46=0,,(AC46/$E$19)*'Customer Info'!$H$19),)","v":0},0,{"$f":"IF($F$18=\"breakfast\",IF(Z46=0,,(Z46/$E$16)*'Customer Info'!$H$20),)","v":0},{"$f":"IF($F$18=\"lunch\",IF(AA46=0,,(AA46/$E$17)*'Customer Info'!$H$20),)","v":0},{"$f":"IF($F$18=\"other\",IF(AC46=0,,(AC46/$E$19)*'Customer Info'!$H$20),)","v":0},0,{"$f":"IF($F$19=\"breakfast\",IF(Z46=0,,(Z46/$E$16)*'Customer Info'!$H$21),)","v":0},{"$f":"IF($F$19=\"lunch\",IF(AA46=0,,(AA46/$E$17)*'Customer Info'!$H$21),)","v":0},{"$f":"IF($F$19=\"dinner\",IF(AB46=0,,(AB46/$E$18)*'Customer Info'!$H$21),)","v":0},0,0,0,0,0,""]
[null,null,null,null,null,null,null,null,null,null,0,{"$f":"BB47","v":0},0,0,0,0,0,0,0,0,0,0,0,0,0,0,0,0,0,0,0,0,0,{"$f":"IF((OR($F$4=0,$F$4=\"none\")),IF(R47=0,,IF(OR($E$4='Customer Info'!$D$18,$E$4=0),R47,(R47/$E$4)*'Customer Info'!$D$18)),)","v":0},{"$f":"IF((OR($F$5=0,$F$5=\"none\")),IF(S47=0,,IF(OR($E$5='Customer Info'!$D$18,$E$5=0),S47,(S47/$E$5)*'Customer Info'!$D$19)),)","v":0},{"$f":"IF((OR($F$6=0,$F$6=\"none\")),IF(T47=0,,IF(OR($E$6='Customer Info'!$D$18,$E$6=0),T47,(T47/$E$6)*'Customer Info'!$D$20)),)","v":0},{"$f":"IF((OR($F$7=0,$F$7=\"none\")),IF(U47=0,,IF(OR($E$7='Customer Info'!$D$18,$E$7=0),U47,(U47/$E$7)*'Customer Info'!$D$21)),)","v":0},{"$f":"IF((OR($F$10=0,$F$10=\"none\")),IF(V47=0,,IF(OR($E$10='Customer Info'!$F$18,$E$10=0),V47,(V47/$E$10)*'Customer Info'!$F$18)),)","v":0},{"$f":"IF((OR($F$11=0,$F$11=\"none\")),IF(W47=0,,IF(OR($E$11='Customer Info'!$F$19,$E$11=0),W47,(W47/$E$11)*'Customer Info'!$F$19)),)","v":0},{"$f":"IF((OR($F$12=0,$F$12=\"none\")),IF(X47=0,,IF(OR($E$12='Customer Info'!$F$20,$E$12=0),X47,(X47/$E$12)*'Customer Info'!$F$20)),)","v":0},{"$f":"IF((OR($F$13=0,$F$13=\"none\")),IF(Y47=0,,IF(OR($E$13='Customer Info'!$F$21,$E$13=0),Y47,(Y47/$E$13)*'Customer Info'!$F$21)),)","v":0},{"$f":"IF((OR($F$16=0,$F$16=\"none\")),IF(Z47=0,,IF(OR($E$16='Customer Info'!$H$18,$E$16=0),Z47,(Z47/$E$16)*'Customer Info'!$H$18)),)","v":0},{"$f":"IF((OR($F$17=0,$F$17=\"none\")),IF(AA47=0,,IF(OR($E$17='Customer Info'!$H$19,$E$17=0),AA47,(AA47/$E$17)*'Customer Info'!$H$19)),)","v":0},{"$f":"IF((OR($F$18=0,$F$18=\"none\")),IF(AB47=0,,IF(OR($E$18='Customer Info'!$H$20,$E$18=0),AB47,(AB47/$E$18)*'Customer Info'!$H$20)),)","v":0},{"$f":"IF((OR($F$19=0,$F$19=\"none\")),IF(AC47=0,,IF(OR($E$19='Customer Info'!$H$21,$E$19=0),AC47,(AC47/$E$19)*'Customer Info'!$H$21)),)","v":0},{"$f":"IF((OR($F$4=0,$F$4=\"none\")),IF(AD47=0,,IF(OR($E$4='Customer Info'!$D$18,$E$4=0),AD47,(AD47/$E$4)*'Customer Info'!$D$18)),)","v":0},{"$f":"IF((OR($F$5=0,$F$5=\"none\")),IF(AE47=0,,IF(OR($E$5='Customer Info'!$D$19,$E$5=0),AE47,(AE47/$E$5)*'Customer Info'!$D$19)),)","v":0},{"$f":"IF((OR($F$6=0,$F$6=\"none\")),IF(AF47=0,,IF(OR($E$6='Customer Info'!$D$20,$E$6=0),AF47,(AF47/$E$6)*'Customer Info'!$D$20)),)","v":0},{"$f":"IF((OR($F$7=0,$F$7=\"none\")),IF(AG47=0,,IF(OR($E$7='Customer Info'!$D$21,$E$7=0),AG47,(AG47/$E$7)*'Customer Info'!$D$21)),)","v":0},{"$f":"SUM(AH47:AW47)","v":0},0,{"$f":"IF(E47=\"plate waste\",,IF('Customer Info'!$M$18=0,'Log Sheet'!AY47,'Customer Info'!$M$18*'Log Sheet'!AY47))","v":0},{"$f":"IF(E47=\"plate waste\",IF(OR(C47=\"patient\",C47=\"patient beverages\"),IF('Customer Info'!$M$27=0,AY47*'Customer Info'!$M$18,AY47*'Customer Info'!$M$27),IF(C47=\"cafeteria\",IF('Customer Info'!$M$28=0,AY47*'Customer Info'!$M$18,AY47*'Customer Info'!$M$28),IF(C47=\"other1\",IF('Customer Info'!$M$29=0,AY47*'Customer Info'!$M$18,AY47*'Customer Info'!$M$29),))),)","v":0},{"$f":"SUM(AZ47:BA47)","v":0},{"$f":"IF($F$4=\"lunch\",IF(S47=0,,(S47/$E$5)*'Customer Info'!$D$18),)","v":0},{"$f":"IF($F$4=\"dinner\",IF(T47=0,,(T47/$E$6)*'Customer Info'!$D$18),)","v":0},{"$f":"IF($F$4=\"other\",IF(U47=0,,(U47/$E$7)*'Customer Info'!$D$18),)","v":0},0,{"$f":"IF($F$5=\"breakfast\",IF(R47=0,,(R47/$E$4)*'Customer Info'!$D$19),)","v":0},{"$f":"IF($F$5=\"dinner\",IF(T47=0,,(T47/$E$6)*'Customer Info'!$D$19),)","v":0},{"$f":"IF($F$5=\"other\",IF(U47=0,,(U47/$E$7)*'Customer Info'!$D$19),)","v":0},0,{"$f":"IF($F$6=\"breakfast\",IF(R47=0,,(R47/$E$4)*'Customer Info'!$D$20),)","v":0},{"$f":"IF($F$6=\"lunch\",IF(S47=0,,(S47/$E$5)*'Customer Info'!$D$20),)","v":0},{"$f":"IF($F$6=\"other\",IF(U47=0,,(U47/$E$7)*'Customer Info'!$D$20),)","v":0},0,{"$f":"IF($F$7=\"breakfast\",IF(R47=0,,(R47/$E$4)*'Customer Info'!$D$21),)","v":0},{"$f":"IF($F$7=\"lunch\",IF(S47=0,,(S47/$E$5)*'Customer Info'!$D$21),)","v":0},{"$f":"IF($F$7=\"dinner\",IF(T47=0,,(T47/$E$6)*'Customer Info'!$D$21),)","v":0},0,{"$f":"IF($F$10=\"lunch\",IF(W47=0,,(W47/$E$11)*'Customer Info'!$F$18),)","v":0},{"$f":"IF($F$10=\"dinner\",IF(X47=0,,(X47/$E$12)*'Customer Info'!$F$18),)","v":0},{"$f":"IF($F$10=\"other\",IF(Y47=0,,(Y47/$E$13)*'Customer Info'!$F$18),)","v":0},0,{"$f":"IF($F$11=\"breakfast\",IF(V47=0,,(V47/$E$10)*'Customer Info'!$F$19),)","v":0},{"$f":"IF($F$11=\"dinner\",IF(X47=0,,(X47/$E$12)*'Customer Info'!$F$19),)","v":0},{"$f":"IF($F$11=\"other\",IF(Y47=0,,(Y47/$E$13)*'Customer Info'!$F$19),)","v":0},0,{"$f":"IF($F$12=\"breakfast\",IF(V47=0,,(V47/$E$10)*'Customer Info'!$F$20),)","v":0},{"$f":"IF($F$12=\"lunch\",IF(W47=0,,(W47/$E$11)*'Customer Info'!$F$20),)","v":0},{"$f":"IF($F$12=\"other\",IF(Y47=0,,(Y47/$E$13)*'Customer Info'!$F$20),)","v":0},0,{"$f":"IF($F$13=\"breakfast\",IF(V47=0,,(V47/$E$10)*'Customer Info'!$F$21),)","v":0},{"$f":"IF($F$13=\"lunch\",IF(W47=0,,(W47/$E$11)*'Customer Info'!$F$21),)","v":0},{"$f":"IF($F$13=\"dinner\",IF(X47=0,,(X47/$E$12)*'Customer Info'!$F$21),)","v":0},0,{"$f":"IF($F$16=\"lunch\",IF(AA47=0,,(AA47/$E$17)*'Customer Info'!$H$18),)","v":0},{"$f":"IF($F$16=\"dinner\",IF(AB47=0,,(AB47/$E$18)*'Customer Info'!$H$18),)","v":0},{"$f":"IF($F$16=\"other\",IF(AC47=0,,(AC47/$E$19)*'Customer Info'!$H$18),)","v":0},0,{"$f":"IF($F$17=\"breakfast\",IF(Z47=0,,(Z47/$E$16)*'Customer Info'!$H$19),)","v":0},{"$f":"IF($F$17=\"dinner\",IF(AB47=0,,(AB47/$E$18)*'Customer Info'!$H$19),)","v":0},{"$f":"IF($F$17=\"other\",IF(AC47=0,,(AC47/$E$19)*'Customer Info'!$H$19),)","v":0},0,{"$f":"IF($F$18=\"breakfast\",IF(Z47=0,,(Z47/$E$16)*'Customer Info'!$H$20),)","v":0},{"$f":"IF($F$18=\"lunch\",IF(AA47=0,,(AA47/$E$17)*'Customer Info'!$H$20),)","v":0},{"$f":"IF($F$18=\"other\",IF(AC47=0,,(AC47/$E$19)*'Customer Info'!$H$20),)","v":0},0,{"$f":"IF($F$19=\"breakfast\",IF(Z47=0,,(Z47/$E$16)*'Customer Info'!$H$21),)","v":0},{"$f":"IF($F$19=\"lunch\",IF(AA47=0,,(AA47/$E$17)*'Customer Info'!$H$21),)","v":0},{"$f":"IF($F$19=\"dinner\",IF(AB47=0,,(AB47/$E$18)*'Customer Info'!$H$21),)","v":0},0,0,0,0,0,""]
[null,null,null,null,null,null,null,null,null,null,0,0,0,0,0,0,0,0,0,0,0,0,0,0,0,0,0,0,0,0,0,0,0,{"$f":"IF((OR($F$4=0,$F$4=\"none\")),IF(R48=0,,IF(OR($E$4='Customer Info'!$D$18,$E$4=0),R48,(R48/$E$4)*'Customer Info'!$D$18)),)","v":0},{"$f":"IF((OR($F$5=0,$F$5=\"none\")),IF(S48=0,,IF(OR($E$5='Customer Info'!$D$18,$E$5=0),S48,(S48/$E$5)*'Customer Info'!$D$19)),)","v":0},{"$f":"IF((OR($F$6=0,$F$6=\"none\")),IF(T48=0,,IF(OR($E$6='Customer Info'!$D$18,$E$6=0),T48,(T48/$E$6)*'Customer Info'!$D$20)),)","v":0},{"$f":"IF((OR($F$7=0,$F$7=\"none\")),IF(U48=0,,IF(OR($E$7='Customer Info'!$D$18,$E$7=0),U48,(U48/$E$7)*'Customer Info'!$D$21)),)","v":0},{"$f":"IF((OR($F$10=0,$F$10=\"none\")),IF(V48=0,,IF(OR($E$10='Customer Info'!$F$18,$E$10=0),V48,(V48/$E$10)*'Customer Info'!$F$18)),)","v":0},{"$f":"IF((OR($F$11=0,$F$11=\"none\")),IF(W48=0,,IF(OR($E$11='Customer Info'!$F$19,$E$11=0),W48,(W48/$E$11)*'Customer Info'!$F$19)),)","v":0},{"$f":"IF((OR($F$12=0,$F$12=\"none\")),IF(X48=0,,IF(OR($E$12='Customer Info'!$F$20,$E$12=0),X48,(X48/$E$12)*'Customer Info'!$F$20)),)","v":0},{"$f":"IF((OR($F$13=0,$F$13=\"none\")),IF(Y48=0,,IF(OR($E$13='Customer Info'!$F$21,$E$13=0),Y48,(Y48/$E$13)*'Customer Info'!$F$21)),)","v":0},{"$f":"IF((OR($F$16=0,$F$16=\"none\")),IF(Z48=0,,IF(OR($E$16='Customer Info'!$H$18,$E$16=0),Z48,(Z48/$E$16)*'Customer Info'!$H$18)),)","v":0},{"$f":"IF((OR($F$17=0,$F$17=\"none\")),IF(AA48=0,,IF(OR($E$17='Customer Info'!$H$19,$E$17=0),AA48,(AA48/$E$17)*'Customer Info'!$H$19)),)","v":0},{"$f":"IF((OR($F$18=0,$F$18=\"none\")),IF(AB48=0,,IF(OR($E$18='Customer Info'!$H$20,$E$18=0),AB48,(AB48/$E$18)*'Customer Info'!$H$20)),)","v":0},{"$f":"IF((OR($F$19=0,$F$19=\"none\")),IF(AC48=0,,IF(OR($E$19='Customer Info'!$H$21,$E$19=0),AC48,(AC48/$E$19)*'Customer Info'!$H$21)),)","v":0},{"$f":"IF((OR($F$4=0,$F$4=\"none\")),IF(AD48=0,,IF(OR($E$4='Customer Info'!$D$18,$E$4=0),AD48,(AD48/$E$4)*'Customer Info'!$D$18)),)","v":0},{"$f":"IF((OR($F$5=0,$F$5=\"none\")),IF(AE48=0,,IF(OR($E$5='Customer Info'!$D$19,$E$5=0),AE48,(AE48/$E$5)*'Customer Info'!$D$19)),)","v":0},{"$f":"IF((OR($F$6=0,$F$6=\"none\")),IF(AF48=0,,IF(OR($E$6='Customer Info'!$D$20,$E$6=0),AF48,(AF48/$E$6)*'Customer Info'!$D$20)),)","v":0},{"$f":"IF((OR($F$7=0,$F$7=\"none\")),IF(AG48=0,,IF(OR($E$7='Customer Info'!$D$21,$E$7=0),AG48,(AG48/$E$7)*'Customer Info'!$D$21)),)","v":0},0,0,{"$f":"IF(E48=\"plate waste\",,IF('Customer Info'!$M$18=0,'Log Sheet'!AY48,'Customer Info'!$M$18*'Log Sheet'!AY48))","v":0},{"$f":"IF(E48=\"plate waste\",IF(OR(C48=\"patient\",C48=\"patient beverages\"),IF('Customer Info'!$M$27=0,AY48*'Customer Info'!$M$18,AY48*'Customer Info'!$M$27),IF(C48=\"cafeteria\",IF('Customer Info'!$M$28=0,AY48*'Customer Info'!$M$18,AY48*'Customer Info'!$M$28),IF(C48=\"other1\",IF('Customer Info'!$M$29=0,AY48*'Customer Info'!$M$18,AY48*'Customer Info'!$M$29),))),)","v":0},0,{"$f":"IF($F$4=\"lunch\",IF(S48=0,,(S48/$E$5)*'Customer Info'!$D$18),)","v":0},{"$f":"IF($F$4=\"dinner\",IF(T48=0,,(T48/$E$6)*'Customer Info'!$D$18),)","v":0},{"$f":"IF($F$4=\"other\",IF(U48=0,,(U48/$E$7)*'Customer Info'!$D$18),)","v":0},0,{"$f":"IF($F$5=\"breakfast\",IF(R48=0,,(R48/$E$4)*'Customer Info'!$D$19),)","v":0},{"$f":"IF($F$5=\"dinner\",IF(T48=0,,(T48/$E$6)*'Customer Info'!$D$19),)","v":0},{"$f":"IF($F$5=\"other\",IF(U48=0,,(U48/$E$7)*'Customer Info'!$D$19),)","v":0},0,{"$f":"IF($F$6=\"breakfast\",IF(R48=0,,(R48/$E$4)*'Customer Info'!$D$20),)","v":0},{"$f":"IF($F$6=\"lunch\",IF(S48=0,,(S48/$E$5)*'Customer Info'!$D$20),)","v":0},{"$f":"IF($F$6=\"other\",IF(U48=0,,(U48/$E$7)*'Customer Info'!$D$20),)","v":0},0,{"$f":"IF($F$7=\"breakfast\",IF(R48=0,,(R48/$E$4)*'Customer Info'!$D$21),)","v":0},{"$f":"IF($F$7=\"lunch\",IF(S48=0,,(S48/$E$5)*'Customer Info'!$D$21),)","v":0},{"$f":"IF($F$7=\"dinner\",IF(T48=0,,(T48/$E$6)*'Customer Info'!$D$21),)","v":0},0,{"$f":"IF($F$10=\"lunch\",IF(W48=0,,(W48/$E$11)*'Customer Info'!$F$18),)","v":0},{"$f":"IF($F$10=\"dinner\",IF(X48=0,,(X48/$E$12)*'Customer Info'!$F$18),)","v":0},{"$f":"IF($F$10=\"other\",IF(Y48=0,,(Y48/$E$13)*'Customer Info'!$F$18),)","v":0},0,{"$f":"IF($F$11=\"breakfast\",IF(V48=0,,(V48/$E$10)*'Customer Info'!$F$19),)","v":0},{"$f":"IF($F$11=\"dinner\",IF(X48=0,,(X48/$E$12)*'Customer Info'!$F$19),)","v":0},{"$f":"IF($F$11=\"other\",IF(Y48=0,,(Y48/$E$13)*'Customer Info'!$F$19),)","v":0},0,{"$f":"IF($F$12=\"breakfast\",IF(V48=0,,(V48/$E$10)*'Customer Info'!$F$20),)","v":0},{"$f":"IF($F$12=\"lunch\",IF(W48=0,,(W48/$E$11)*'Customer Info'!$F$20),)","v":0},{"$f":"IF($F$12=\"other\",IF(Y48=0,,(Y48/$E$13)*'Customer Info'!$F$20),)","v":0},0,{"$f":"IF($F$13=\"breakfast\",IF(V48=0,,(V48/$E$10)*'Customer Info'!$F$21),)","v":0},{"$f":"IF($F$13=\"lunch\",IF(W48=0,,(W48/$E$11)*'Customer Info'!$F$21),)","v":0},{"$f":"IF($F$13=\"dinner\",IF(X48=0,,(X48/$E$12)*'Customer Info'!$F$21),)","v":0},0,{"$f":"IF($F$16=\"lunch\",IF(AA48=0,,(AA48/$E$17)*'Customer Info'!$H$18),)","v":0},{"$f":"IF($F$16=\"dinner\",IF(AB48=0,,(AB48/$E$18)*'Customer Info'!$H$18),)","v":0},{"$f":"IF($F$16=\"other\",IF(AC48=0,,(AC48/$E$19)*'Customer Info'!$H$18),)","v":0},0,{"$f":"IF($F$17=\"breakfast\",IF(Z48=0,,(Z48/$E$16)*'Customer Info'!$H$19),)","v":0},{"$f":"IF($F$17=\"dinner\",IF(AB48=0,,(AB48/$E$18)*'Customer Info'!$H$19),)","v":0},{"$f":"IF($F$17=\"other\",IF(AC48=0,,(AC48/$E$19)*'Customer Info'!$H$19),)","v":0},0,{"$f":"IF($F$18=\"breakfast\",IF(Z48=0,,(Z48/$E$16)*'Customer Info'!$H$20),)","v":0},{"$f":"IF($F$18=\"lunch\",IF(AA48=0,,(AA48/$E$17)*'Customer Info'!$H$20),)","v":0},{"$f":"IF($F$18=\"other\",IF(AC48=0,,(AC48/$E$19)*'Customer Info'!$H$20),)","v":0},0,{"$f":"IF($F$19=\"breakfast\",IF(Z48=0,,(Z48/$E$16)*'Customer Info'!$H$21),)","v":0},{"$f":"IF($F$19=\"lunch\",IF(AA48=0,,(AA48/$E$17)*'Customer Info'!$H$21),)","v":0},{"$f":"IF($F$19=\"dinner\",IF(AB48=0,,(AB48/$E$18)*'Customer Info'!$H$21),)","v":0},0,0,0,0,0,""]
[null,null,null,null,null,null,null,null,null,null,0,0,0,0,0,0,0,0,0,0,0,0,0,0,0,0,0,0,0,0,0,0,0,{"$f":"IF((OR($F$4=0,$F$4=\"none\")),IF(R49=0,,IF(OR($E$4='Customer Info'!$D$18,$E$4=0),R49,(R49/$E$4)*'Customer Info'!$D$18)),)","v":0},{"$f":"IF((OR($F$5=0,$F$5=\"none\")),IF(S49=0,,IF(OR($E$5='Customer Info'!$D$18,$E$5=0),S49,(S49/$E$5)*'Customer Info'!$D$19)),)","v":0},{"$f":"IF((OR($F$6=0,$F$6=\"none\")),IF(T49=0,,IF(OR($E$6='Customer Info'!$D$18,$E$6=0),T49,(T49/$E$6)*'Customer Info'!$D$20)),)","v":0},{"$f":"IF((OR($F$7=0,$F$7=\"none\")),IF(U49=0,,IF(OR($E$7='Customer Info'!$D$18,$E$7=0),U49,(U49/$E$7)*'Customer Info'!$D$21)),)","v":0},{"$f":"IF((OR($F$10=0,$F$10=\"none\")),IF(V49=0,,IF(OR($E$10='Customer Info'!$F$18,$E$10=0),V49,(V49/$E$10)*'Customer Info'!$F$18)),)","v":0},{"$f":"IF((OR($F$11=0,$F$11=\"none\")),IF(W49=0,,IF(OR($E$11='Customer Info'!$F$19,$E$11=0),W49,(W49/$E$11)*'Customer Info'!$F$19)),)","v":0},{"$f":"IF((OR($F$12=0,$F$12=\"none\")),IF(X49=0,,IF(OR($E$12='Customer Info'!$F$20,$E$12=0),X49,(X49/$E$12)*'Customer Info'!$F$20)),)","v":0},{"$f":"IF((OR($F$13=0,$F$13=\"none\")),IF(Y49=0,,IF(OR($E$13='Customer Info'!$F$21,$E$13=0),Y49,(Y49/$E$13)*'Customer Info'!$F$21)),)","v":0},{"$f":"IF((OR($F$16=0,$F$16=\"none\")),IF(Z49=0,,IF(OR($E$16='Customer Info'!$H$18,$E$16=0),Z49,(Z49/$E$16)*'Customer Info'!$H$18)),)","v":0},{"$f":"IF((OR($F$17=0,$F$17=\"none\")),IF(AA49=0,,IF(OR($E$17='Customer Info'!$H$19,$E$17=0),AA49,(AA49/$E$17)*'Customer Info'!$H$19)),)","v":0},{"$f":"IF((OR($F$18=0,$F$18=\"none\")),IF(AB49=0,,IF(OR($E$18='Customer Info'!$H$20,$E$18=0),AB49,(AB49/$E$18)*'Customer Info'!$H$20)),)","v":0},{"$f":"IF((OR($F$19=0,$F$19=\"none\")),IF(AC49=0,,IF(OR($E$19='Customer Info'!$H$21,$E$19=0),AC49,(AC49/$E$19)*'Customer Info'!$H$21)),)","v":0},{"$f":"IF((OR($F$4=0,$F$4=\"none\")),IF(AD49=0,,IF(OR($E$4='Customer Info'!$D$18,$E$4=0),AD49,(AD49/$E$4)*'Customer Info'!$D$18)),)","v":0},{"$f":"IF((OR($F$5=0,$F$5=\"none\")),IF(AE49=0,,IF(OR($E$5='Customer Info'!$D$19,$E$5=0),AE49,(AE49/$E$5)*'Customer Info'!$D$19)),)","v":0},{"$f":"IF((OR($F$6=0,$F$6=\"none\")),IF(AF49=0,,IF(OR($E$6='Customer Info'!$D$20,$E$6=0),AF49,(AF49/$E$6)*'Customer Info'!$D$20)),)","v":0},{"$f":"IF((OR($F$7=0,$F$7=\"none\")),IF(AG49=0,,IF(OR($E$7='Customer Info'!$D$21,$E$7=0),AG49,(AG49/$E$7)*'Customer Info'!$D$21)),)","v":0},0,0,{"$f":"IF(E49=\"plate waste\",,IF('Customer Info'!$M$18=0,'Log Sheet'!AY49,'Customer Info'!$M$18*'Log Sheet'!AY49))","v":0},{"$f":"IF(E49=\"plate waste\",IF(OR(C49=\"patient\",C49=\"patient beverages\"),IF('Customer Info'!$M$27=0,AY49*'Customer Info'!$M$18,AY49*'Customer Info'!$M$27),IF(C49=\"cafeteria\",IF('Customer Info'!$M$28=0,AY49*'Customer Info'!$M$18,AY49*'Customer Info'!$M$28),IF(C49=\"other1\",IF('Customer Info'!$M$29=0,AY49*'Customer Info'!$M$18,AY49*'Customer Info'!$M$29),))),)","v":0},0,{"$f":"IF($F$4=\"lunch\",IF(S49=0,,(S49/$E$5)*'Customer Info'!$D$18),)","v":0},{"$f":"IF($F$4=\"dinner\",IF(T49=0,,(T49/$E$6)*'Customer Info'!$D$18),)","v":0},{"$f":"IF($F$4=\"other\",IF(U49=0,,(U49/$E$7)*'Customer Info'!$D$18),)","v":0},0,{"$f":"IF($F$5=\"breakfast\",IF(R49=0,,(R49/$E$4)*'Customer Info'!$D$19),)","v":0},{"$f":"IF($F$5=\"dinner\",IF(T49=0,,(T49/$E$6)*'Customer Info'!$D$19),)","v":0},{"$f":"IF($F$5=\"other\",IF(U49=0,,(U49/$E$7)*'Customer Info'!$D$19),)","v":0},0,{"$f":"IF($F$6=\"breakfast\",IF(R49=0,,(R49/$E$4)*'Customer Info'!$D$20),)","v":0},{"$f":"IF($F$6=\"lunch\",IF(S49=0,,(S49/$E$5)*'Customer Info'!$D$20),)","v":0},{"$f":"IF($F$6=\"other\",IF(U49=0,,(U49/$E$7)*'Customer Info'!$D$20),)","v":0},0,{"$f":"IF($F$7=\"breakfast\",IF(R49=0,,(R49/$E$4)*'Customer Info'!$D$21),)","v":0},{"$f":"IF($F$7=\"lunch\",IF(S49=0,,(S49/$E$5)*'Customer Info'!$D$21),)","v":0},{"$f":"IF($F$7=\"dinner\",IF(T49=0,,(T49/$E$6)*'Customer Info'!$D$21),)","v":0},0,{"$f":"IF($F$10=\"lunch\",IF(W49=0,,(W49/$E$11)*'Customer Info'!$F$18),)","v":0},{"$f":"IF($F$10=\"dinner\",IF(X49=0,,(X49/$E$12)*'Customer Info'!$F$18),)","v":0},{"$f":"IF($F$10=\"other\",IF(Y49=0,,(Y49/$E$13)*'Customer Info'!$F$18),)","v":0},0,{"$f":"IF($F$11=\"breakfast\",IF(V49=0,,(V49/$E$10)*'Customer Info'!$F$19),)","v":0},{"$f":"IF($F$11=\"dinner\",IF(X49=0,,(X49/$E$12)*'Customer Info'!$F$19),)","v":0},{"$f":"IF($F$11=\"other\",IF(Y49=0,,(Y49/$E$13)*'Customer Info'!$F$19),)","v":0},0,{"$f":"IF($F$12=\"breakfast\",IF(V49=0,,(V49/$E$10)*'Customer Info'!$F$20),)","v":0},{"$f":"IF($F$12=\"lunch\",IF(W49=0,,(W49/$E$11)*'Customer Info'!$F$20),)","v":0},{"$f":"IF($F$12=\"other\",IF(Y49=0,,(Y49/$E$13)*'Customer Info'!$F$20),)","v":0},0,{"$f":"IF($F$13=\"breakfast\",IF(V49=0,,(V49/$E$10)*'Customer Info'!$F$21),)","v":0},{"$f":"IF($F$13=\"lunch\",IF(W49=0,,(W49/$E$11)*'Customer Info'!$F$21),)","v":0},{"$f":"IF($F$13=\"dinner\",IF(X49=0,,(X49/$E$12)*'Customer Info'!$F$21),)","v":0},0,{"$f":"IF($F$16=\"lunch\",IF(AA49=0,,(AA49/$E$17)*'Customer Info'!$H$18),)","v":0},{"$f":"IF($F$16=\"dinner\",IF(AB49=0,,(AB49/$E$18)*'Customer Info'!$H$18),)","v":0},{"$f":"IF($F$16=\"other\",IF(AC49=0,,(AC49/$E$19)*'Customer Info'!$H$18),)","v":0},0,{"$f":"IF($F$17=\"breakfast\",IF(Z49=0,,(Z49/$E$16)*'Customer Info'!$H$19),)","v":0},{"$f":"IF($F$17=\"dinner\",IF(AB49=0,,(AB49/$E$18)*'Customer Info'!$H$19),)","v":0},{"$f":"IF($F$17=\"other\",IF(AC49=0,,(AC49/$E$19)*'Customer Info'!$H$19),)","v":0},0,{"$f":"IF($F$18=\"breakfast\",IF(Z49=0,,(Z49/$E$16)*'Customer Info'!$H$20),)","v":0},{"$f":"IF($F$18=\"lunch\",IF(AA49=0,,(AA49/$E$17)*'Customer Info'!$H$20),)","v":0},{"$f":"IF($F$18=\"other\",IF(AC49=0,,(AC49/$E$19)*'Customer Info'!$H$20),)","v":0},0,{"$f":"IF($F$19=\"breakfast\",IF(Z49=0,,(Z49/$E$16)*'Customer Info'!$H$21),)","v":0},{"$f":"IF($F$19=\"lunch\",IF(AA49=0,,(AA49/$E$17)*'Customer Info'!$H$21),)","v":0},{"$f":"IF($F$19=\"dinner\",IF(AB49=0,,(AB49/$E$18)*'Customer Info'!$H$21),)","v":0},0,0,0,0,0,""]
[null,null,null,null,null,null,null,null,null,null,0,0,0,0,0,0,0,0,0,0,0,0,0,0,0,0,0,0,0,0,0,0,0,{"$f":"IF((OR($F$4=0,$F$4=\"none\")),IF(R50=0,,IF(OR($E$4='Customer Info'!$D$18,$E$4=0),R50,(R50/$E$4)*'Customer Info'!$D$18)),)","v":0},{"$f":"IF((OR($F$5=0,$F$5=\"none\")),IF(S50=0,,IF(OR($E$5='Customer Info'!$D$18,$E$5=0),S50,(S50/$E$5)*'Customer Info'!$D$19)),)","v":0},{"$f":"IF((OR($F$6=0,$F$6=\"none\")),IF(T50=0,,IF(OR($E$6='Customer Info'!$D$18,$E$6=0),T50,(T50/$E$6)*'Customer Info'!$D$20)),)","v":0},{"$f":"IF((OR($F$7=0,$F$7=\"none\")),IF(U50=0,,IF(OR($E$7='Customer Info'!$D$18,$E$7=0),U50,(U50/$E$7)*'Customer Info'!$D$21)),)","v":0},{"$f":"IF((OR($F$10=0,$F$10=\"none\")),IF(V50=0,,IF(OR($E$10='Customer Info'!$F$18,$E$10=0),V50,(V50/$E$10)*'Customer Info'!$F$18)),)","v":0},{"$f":"IF((OR($F$11=0,$F$11=\"none\")),IF(W50=0,,IF(OR($E$11='Customer Info'!$F$19,$E$11=0),W50,(W50/$E$11)*'Customer Info'!$F$19)),)","v":0},{"$f":"IF((OR($F$12=0,$F$12=\"none\")),IF(X50=0,,IF(OR($E$12='Customer Info'!$F$20,$E$12=0),X50,(X50/$E$12)*'Customer Info'!$F$20)),)","v":0},{"$f":"IF((OR($F$13=0,$F$13=\"none\")),IF(Y50=0,,IF(OR($E$13='Customer Info'!$F$21,$E$13=0),Y50,(Y50/$E$13)*'Customer Info'!$F$21)),)","v":0},{"$f":"IF((OR($F$16=0,$F$16=\"none\")),IF(Z50=0,,IF(OR($E$16='Customer Info'!$H$18,$E$16=0),Z50,(Z50/$E$16)*'Customer Info'!$H$18)),)","v":0},{"$f":"IF((OR($F$17=0,$F$17=\"none\")),IF(AA50=0,,IF(OR($E$17='Customer Info'!$H$19,$E$17=0),AA50,(AA50/$E$17)*'Customer Info'!$H$19)),)","v":0},{"$f":"IF((OR($F$18=0,$F$18=\"none\")),IF(AB50=0,,IF(OR($E$18='Customer Info'!$H$20,$E$18=0),AB50,(AB50/$E$18)*'Customer Info'!$H$20)),)","v":0},{"$f":"IF((OR($F$19=0,$F$19=\"none\")),IF(AC50=0,,IF(OR($E$19='Customer Info'!$H$21,$E$19=0),AC50,(AC50/$E$19)*'Customer Info'!$H$21)),)","v":0},{"$f":"IF((OR($F$4=0,$F$4=\"none\")),IF(AD50=0,,IF(OR($E$4='Customer Info'!$D$18,$E$4=0),AD50,(AD50/$E$4)*'Customer Info'!$D$18)),)","v":0},{"$f":"IF((OR($F$5=0,$F$5=\"none\")),IF(AE50=0,,IF(OR($E$5='Customer Info'!$D$19,$E$5=0),AE50,(AE50/$E$5)*'Customer Info'!$D$19)),)","v":0},{"$f":"IF((OR($F$6=0,$F$6=\"none\")),IF(AF50=0,,IF(OR($E$6='Customer Info'!$D$20,$E$6=0),AF50,(AF50/$E$6)*'Customer Info'!$D$20)),)","v":0},{"$f":"IF((OR($F$7=0,$F$7=\"none\")),IF(AG50=0,,IF(OR($E$7='Customer Info'!$D$21,$E$7=0),AG50,(AG50/$E$7)*'Customer Info'!$D$21)),)","v":0},0,0,{"$f":"IF(E50=\"plate waste\",,IF('Customer Info'!$M$18=0,'Log Sheet'!AY50,'Customer Info'!$M$18*'Log Sheet'!AY50))","v":0},{"$f":"IF(E50=\"plate waste\",IF(OR(C50=\"patient\",C50=\"patient beverages\"),IF('Customer Info'!$M$27=0,AY50*'Customer Info'!$M$18,AY50*'Customer Info'!$M$27),IF(C50=\"cafeteria\",IF('Customer Info'!$M$28=0,AY50*'Customer Info'!$M$18,AY50*'Customer Info'!$M$28),IF(C50=\"other1\",IF('Customer Info'!$M$29=0,AY50*'Customer Info'!$M$18,AY50*'Customer Info'!$M$29),))),)","v":0},0,{"$f":"IF($F$4=\"lunch\",IF(S50=0,,(S50/$E$5)*'Customer Info'!$D$18),)","v":0},{"$f":"IF($F$4=\"dinner\",IF(T50=0,,(T50/$E$6)*'Customer Info'!$D$18),)","v":0},{"$f":"IF($F$4=\"other\",IF(U50=0,,(U50/$E$7)*'Customer Info'!$D$18),)","v":0},0,{"$f":"IF($F$5=\"breakfast\",IF(R50=0,,(R50/$E$4)*'Customer Info'!$D$19),)","v":0},{"$f":"IF($F$5=\"dinner\",IF(T50=0,,(T50/$E$6)*'Customer Info'!$D$19),)","v":0},{"$f":"IF($F$5=\"other\",IF(U50=0,,(U50/$E$7)*'Customer Info'!$D$19),)","v":0},0,{"$f":"IF($F$6=\"breakfast\",IF(R50=0,,(R50/$E$4)*'Customer Info'!$D$20),)","v":0},{"$f":"IF($F$6=\"lunch\",IF(S50=0,,(S50/$E$5)*'Customer Info'!$D$20),)","v":0},{"$f":"IF($F$6=\"other\",IF(U50=0,,(U50/$E$7)*'Customer Info'!$D$20),)","v":0},0,{"$f":"IF($F$7=\"breakfast\",IF(R50=0,,(R50/$E$4)*'Customer Info'!$D$21),)","v":0},{"$f":"IF($F$7=\"lunch\",IF(S50=0,,(S50/$E$5)*'Customer Info'!$D$21),)","v":0},{"$f":"IF($F$7=\"dinner\",IF(T50=0,,(T50/$E$6)*'Customer Info'!$D$21),)","v":0},0,{"$f":"IF($F$10=\"lunch\",IF(W50=0,,(W50/$E$11)*'Customer Info'!$F$18),)","v":0},{"$f":"IF($F$10=\"dinner\",IF(X50=0,,(X50/$E$12)*'Customer Info'!$F$18),)","v":0},{"$f":"IF($F$10=\"other\",IF(Y50=0,,(Y50/$E$13)*'Customer Info'!$F$18),)","v":0},0,{"$f":"IF($F$11=\"breakfast\",IF(V50=0,,(V50/$E$10)*'Customer Info'!$F$19),)","v":0},{"$f":"IF($F$11=\"dinner\",IF(X50=0,,(X50/$E$12)*'Customer Info'!$F$19),)","v":0},{"$f":"IF($F$11=\"other\",IF(Y50=0,,(Y50/$E$13)*'Customer Info'!$F$19),)","v":0},0,{"$f":"IF($F$12=\"breakfast\",IF(V50=0,,(V50/$E$10)*'Customer Info'!$F$20),)","v":0},{"$f":"IF($F$12=\"lunch\",IF(W50=0,,(W50/$E$11)*'Customer Info'!$F$20),)","v":0},{"$f":"IF($F$12=\"other\",IF(Y50=0,,(Y50/$E$13)*'Customer Info'!$F$20),)","v":0},0,{"$f":"IF($F$13=\"breakfast\",IF(V50=0,,(V50/$E$10)*'Customer Info'!$F$21),)","v":0},{"$f":"IF($F$13=\"lunch\",IF(W50=0,,(W50/$E$11)*'Customer Info'!$F$21),)","v":0},{"$f":"IF($F$13=\"dinner\",IF(X50=0,,(X50/$E$12)*'Customer Info'!$F$21),)","v":0},0,{"$f":"IF($F$16=\"lunch\",IF(AA50=0,,(AA50/$E$17)*'Customer Info'!$H$18),)","v":0},{"$f":"IF($F$16=\"dinner\",IF(AB50=0,,(AB50/$E$18)*'Customer Info'!$H$18),)","v":0},{"$f":"IF($F$16=\"other\",IF(AC50=0,,(AC50/$E$19)*'Customer Info'!$H$18),)","v":0},0,{"$f":"IF($F$17=\"breakfast\",IF(Z50=0,,(Z50/$E$16)*'Customer Info'!$H$19),)","v":0},{"$f":"IF($F$17=\"dinner\",IF(AB50=0,,(AB50/$E$18)*'Customer Info'!$H$19),)","v":0},{"$f":"IF($F$17=\"other\",IF(AC50=0,,(AC50/$E$19)*'Customer Info'!$H$19),)","v":0},0,{"$f":"IF($F$18=\"breakfast\",IF(Z50=0,,(Z50/$E$16)*'Customer Info'!$H$20),)","v":0},{"$f":"IF($F$18=\"lunch\",IF(AA50=0,,(AA50/$E$17)*'Customer Info'!$H$20),)","v":0},{"$f":"IF($F$18=\"other\",IF(AC50=0,,(AC50/$E$19)*'Customer Info'!$H$20),)","v":0},0,{"$f":"IF($F$19=\"breakfast\",IF(Z50=0,,(Z50/$E$16)*'Customer Info'!$H$21),)","v":0},{"$f":"IF($F$19=\"lunch\",IF(AA50=0,,(AA50/$E$17)*'Customer Info'!$H$21),)","v":0},{"$f":"IF($F$19=\"dinner\",IF(AB50=0,,(AB50/$E$18)*'Customer Info'!$H$21),)","v":0},0,0,0,0,0,""]
[null,null,null,null,null,null,null,null,null,null,0,0,0,0,0,0,0,0,0,0,0,0,0,0,0,0,0,0,0,0,0,0,0,{"$f":"IF((OR($F$4=0,$F$4=\"none\")),IF(R51=0,,IF(OR($E$4='Customer Info'!$D$18,$E$4=0),R51,(R51/$E$4)*'Customer Info'!$D$18)),)","v":0},{"$f":"IF((OR($F$5=0,$F$5=\"none\")),IF(S51=0,,IF(OR($E$5='Customer Info'!$D$18,$E$5=0),S51,(S51/$E$5)*'Customer Info'!$D$19)),)","v":0},{"$f":"IF((OR($F$6=0,$F$6=\"none\")),IF(T51=0,,IF(OR($E$6='Customer Info'!$D$18,$E$6=0),T51,(T51/$E$6)*'Customer Info'!$D$20)),)","v":0},{"$f":"IF((OR($F$7=0,$F$7=\"none\")),IF(U51=0,,IF(OR($E$7='Customer Info'!$D$18,$E$7=0),U51,(U51/$E$7)*'Customer Info'!$D$21)),)","v":0},{"$f":"IF((OR($F$10=0,$F$10=\"none\")),IF(V51=0,,IF(OR($E$10='Customer Info'!$F$18,$E$10=0),V51,(V51/$E$10)*'Customer Info'!$F$18)),)","v":0},{"$f":"IF((OR($F$11=0,$F$11=\"none\")),IF(W51=0,,IF(OR($E$11='Customer Info'!$F$19,$E$11=0),W51,(W51/$E$11)*'Customer Info'!$F$19)),)","v":0},{"$f":"IF((OR($F$12=0,$F$12=\"none\")),IF(X51=0,,IF(OR($E$12='Customer Info'!$F$20,$E$12=0),X51,(X51/$E$12)*'Customer Info'!$F$20)),)","v":0},{"$f":"IF((OR($F$13=0,$F$13=\"none\")),IF(Y51=0,,IF(OR($E$13='Customer Info'!$F$21,$E$13=0),Y51,(Y51/$E$13)*'Customer Info'!$F$21)),)","v":0},{"$f":"IF((OR($F$16=0,$F$16=\"none\")),IF(Z51=0,,IF(OR($E$16='Customer Info'!$H$18,$E$16=0),Z51,(Z51/$E$16)*'Customer Info'!$H$18)),)","v":0},{"$f":"IF((OR($F$17=0,$F$17=\"none\")),IF(AA51=0,,IF(OR($E$17='Customer Info'!$H$19,$E$17=0),AA51,(AA51/$E$17)*'Customer Info'!$H$19)),)","v":0},{"$f":"IF((OR($F$18=0,$F$18=\"none\")),IF(AB51=0,,IF(OR($E$18='Customer Info'!$H$20,$E$18=0),AB51,(AB51/$E$18)*'Customer Info'!$H$20)),)","v":0},{"$f":"IF((OR($F$19=0,$F$19=\"none\")),IF(AC51=0,,IF(OR($E$19='Customer Info'!$H$21,$E$19=0),AC51,(AC51/$E$19)*'Customer Info'!$H$21)),)","v":0},{"$f":"IF((OR($F$4=0,$F$4=\"none\")),IF(AD51=0,,IF(OR($E$4='Customer Info'!$D$18,$E$4=0),AD51,(AD51/$E$4)*'Customer Info'!$D$18)),)","v":0},{"$f":"IF((OR($F$5=0,$F$5=\"none\")),IF(AE51=0,,IF(OR($E$5='Customer Info'!$D$19,$E$5=0),AE51,(AE51/$E$5)*'Customer Info'!$D$19)),)","v":0},{"$f":"IF((OR($F$6=0,$F$6=\"none\")),IF(AF51=0,,IF(OR($E$6='Customer Info'!$D$20,$E$6=0),AF51,(AF51/$E$6)*'Customer Info'!$D$20)),)","v":0},{"$f":"IF((OR($F$7=0,$F$7=\"none\")),IF(AG51=0,,IF(OR($E$7='Customer Info'!$D$21,$E$7=0),AG51,(AG51/$E$7)*'Customer Info'!$D$21)),)","v":0},0,0,{"$f":"IF(E51=\"plate waste\",,IF('Customer Info'!$M$18=0,'Log Sheet'!AY51,'Customer Info'!$M$18*'Log Sheet'!AY51))","v":0},{"$f":"IF(E51=\"plate waste\",IF(OR(C51=\"patient\",C51=\"patient beverages\"),IF('Customer Info'!$M$27=0,AY51*'Customer Info'!$M$18,AY51*'Customer Info'!$M$27),IF(C51=\"cafeteria\",IF('Customer Info'!$M$28=0,AY51*'Customer Info'!$M$18,AY51*'Customer Info'!$M$28),IF(C51=\"other1\",IF('Customer Info'!$M$29=0,AY51*'Customer Info'!$M$18,AY51*'Customer Info'!$M$29),))),)","v":0},0,{"$f":"IF($F$4=\"lunch\",IF(S51=0,,(S51/$E$5)*'Customer Info'!$D$18),)","v":0},{"$f":"IF($F$4=\"dinner\",IF(T51=0,,(T51/$E$6)*'Customer Info'!$D$18),)","v":0},{"$f":"IF($F$4=\"other\",IF(U51=0,,(U51/$E$7)*'Customer Info'!$D$18),)","v":0},0,{"$f":"IF($F$5=\"breakfast\",IF(R51=0,,(R51/$E$4)*'Customer Info'!$D$19),)","v":0},{"$f":"IF($F$5=\"dinner\",IF(T51=0,,(T51/$E$6)*'Customer Info'!$D$19),)","v":0},{"$f":"IF($F$5=\"other\",IF(U51=0,,(U51/$E$7)*'Customer Info'!$D$19),)","v":0},0,{"$f":"IF($F$6=\"breakfast\",IF(R51=0,,(R51/$E$4)*'Customer Info'!$D$20),)","v":0},{"$f":"IF($F$6=\"lunch\",IF(S51=0,,(S51/$E$5)*'Customer Info'!$D$20),)","v":0},{"$f":"IF($F$6=\"other\",IF(U51=0,,(U51/$E$7)*'Customer Info'!$D$20),)","v":0},0,{"$f":"IF($F$7=\"breakfast\",IF(R51=0,,(R51/$E$4)*'Customer Info'!$D$21),)","v":0},{"$f":"IF($F$7=\"lunch\",IF(S51=0,,(S51/$E$5)*'Customer Info'!$D$21),)","v":0},{"$f":"IF($F$7=\"dinner\",IF(T51=0,,(T51/$E$6)*'Customer Info'!$D$21),)","v":0},0,{"$f":"IF($F$10=\"lunch\",IF(W51=0,,(W51/$E$11)*'Customer Info'!$F$18),)","v":0},{"$f":"IF($F$10=\"dinner\",IF(X51=0,,(X51/$E$12)*'Customer Info'!$F$18),)","v":0},{"$f":"IF($F$10=\"other\",IF(Y51=0,,(Y51/$E$13)*'Customer Info'!$F$18),)","v":0},0,{"$f":"IF($F$11=\"breakfast\",IF(V51=0,,(V51/$E$10)*'Customer Info'!$F$19),)","v":0},{"$f":"IF($F$11=\"dinner\",IF(X51=0,,(X51/$E$12)*'Customer Info'!$F$19),)","v":0},{"$f":"IF($F$11=\"other\",IF(Y51=0,,(Y51/$E$13)*'Customer Info'!$F$19),)","v":0},0,{"$f":"IF($F$12=\"breakfast\",IF(V51=0,,(V51/$E$10)*'Customer Info'!$F$20),)","v":0},{"$f":"IF($F$12=\"lunch\",IF(W51=0,,(W51/$E$11)*'Customer Info'!$F$20),)","v":0},{"$f":"IF($F$12=\"other\",IF(Y51=0,,(Y51/$E$13)*'Customer Info'!$F$20),)","v":0},0,{"$f":"IF($F$13=\"breakfast\",IF(V51=0,,(V51/$E$10)*'Customer Info'!$F$21),)","v":0},{"$f":"IF($F$13=\"lunch\",IF(W51=0,,(W51/$E$11)*'Customer Info'!$F$21),)","v":0},{"$f":"IF($F$13=\"dinner\",IF(X51=0,,(X51/$E$12)*'Customer Info'!$F$21),)","v":0},0,{"$f":"IF($F$16=\"lunch\",IF(AA51=0,,(AA51/$E$17)*'Customer Info'!$H$18),)","v":0},{"$f":"IF($F$16=\"dinner\",IF(AB51=0,,(AB51/$E$18)*'Customer Info'!$H$18),)","v":0},{"$f":"IF($F$16=\"other\",IF(AC51=0,,(AC51/$E$19)*'Customer Info'!$H$18),)","v":0},0,{"$f":"IF($F$17=\"breakfast\",IF(Z51=0,,(Z51/$E$16)*'Customer Info'!$H$19),)","v":0},{"$f":"IF($F$17=\"dinner\",IF(AB51=0,,(AB51/$E$18)*'Customer Info'!$H$19),)","v":0},{"$f":"IF($F$17=\"other\",IF(AC51=0,,(AC51/$E$19)*'Customer Info'!$H$19),)","v":0},0,{"$f":"IF($F$18=\"breakfast\",IF(Z51=0,,(Z51/$E$16)*'Customer Info'!$H$20),)","v":0},{"$f":"IF($F$18=\"lunch\",IF(AA51=0,,(AA51/$E$17)*'Customer Info'!$H$20),)","v":0},{"$f":"IF($F$18=\"other\",IF(AC51=0,,(AC51/$E$19)*'Customer Info'!$H$20),)","v":0},0,{"$f":"IF($F$19=\"breakfast\",IF(Z51=0,,(Z51/$E$16)*'Customer Info'!$H$21),)","v":0},{"$f":"IF($F$19=\"lunch\",IF(AA51=0,,(AA51/$E$17)*'Customer Info'!$H$21),)","v":0},{"$f":"IF($F$19=\"dinner\",IF(AB51=0,,(AB51/$E$18)*'Customer Info'!$H$21),)","v":0},0,0,0,0,0,""]
[null,null,null,null,null,null,null,null,null,null,0,0,0,0,0,0,0,0,0,0,0,0,0,0,0,0,0,0,0,0,0,0,0,{"$f":"IF((OR($F$4=0,$F$4=\"none\")),IF(R52=0,,IF(OR($E$4='Customer Info'!$D$18,$E$4=0),R52,(R52/$E$4)*'Customer Info'!$D$18)),)","v":0},{"$f":"IF((OR($F$5=0,$F$5=\"none\")),IF(S52=0,,IF(OR($E$5='Customer Info'!$D$18,$E$5=0),S52,(S52/$E$5)*'Customer Info'!$D$19)),)","v":0},{"$f":"IF((OR($F$6=0,$F$6=\"none\")),IF(T52=0,,IF(OR($E$6='Customer Info'!$D$18,$E$6=0),T52,(T52/$E$6)*'Customer Info'!$D$20)),)","v":0},{"$f":"IF((OR($F$7=0,$F$7=\"none\")),IF(U52=0,,IF(OR($E$7='Customer Info'!$D$18,$E$7=0),U52,(U52/$E$7)*'Customer Info'!$D$21)),)","v":0},{"$f":"IF((OR($F$10=0,$F$10=\"none\")),IF(V52=0,,IF(OR($E$10='Customer Info'!$F$18,$E$10=0),V52,(V52/$E$10)*'Customer Info'!$F$18)),)","v":0},{"$f":"IF((OR($F$11=0,$F$11=\"none\")),IF(W52=0,,IF(OR($E$11='Customer Info'!$F$19,$E$11=0),W52,(W52/$E$11)*'Customer Info'!$F$19)),)","v":0},{"$f":"IF((OR($F$12=0,$F$12=\"none\")),IF(X52=0,,IF(OR($E$12='Customer Info'!$F$20,$E$12=0),X52,(X52/$E$12)*'Customer Info'!$F$20)),)","v":0},{"$f":"IF((OR($F$13=0,$F$13=\"none\")),IF(Y52=0,,IF(OR($E$13='Customer Info'!$F$21,$E$13=0),Y52,(Y52/$E$13)*'Customer Info'!$F$21)),)","v":0},{"$f":"IF((OR($F$16=0,$F$16=\"none\")),IF(Z52=0,,IF(OR($E$16='Customer Info'!$H$18,$E$16=0),Z52,(Z52/$E$16)*'Customer Info'!$H$18)),)","v":0},{"$f":"IF((OR($F$17=0,$F$17=\"none\")),IF(AA52=0,,IF(OR($E$17='Customer Info'!$H$19,$E$17=0),AA52,(AA52/$E$17)*'Customer Info'!$H$19)),)","v":0},{"$f":"IF((OR($F$18=0,$F$18=\"none\")),IF(AB52=0,,IF(OR($E$18='Customer Info'!$H$20,$E$18=0),AB52,(AB52/$E$18)*'Customer Info'!$H$20)),)","v":0},{"$f":"IF((OR($F$19=0,$F$19=\"none\")),IF(AC52=0,,IF(OR($E$19='Customer Info'!$H$21,$E$19=0),AC52,(AC52/$E$19)*'Customer Info'!$H$21)),)","v":0},{"$f":"IF((OR($F$4=0,$F$4=\"none\")),IF(AD52=0,,IF(OR($E$4='Customer Info'!$D$18,$E$4=0),AD52,(AD52/$E$4)*'Customer Info'!$D$18)),)","v":0},{"$f":"IF((OR($F$5=0,$F$5=\"none\")),IF(AE52=0,,IF(OR($E$5='Customer Info'!$D$19,$E$5=0),AE52,(AE52/$E$5)*'Customer Info'!$D$19)),)","v":0},{"$f":"IF((OR($F$6=0,$F$6=\"none\")),IF(AF52=0,,IF(OR($E$6='Customer Info'!$D$20,$E$6=0),AF52,(AF52/$E$6)*'Customer Info'!$D$20)),)","v":0},{"$f":"IF((OR($F$7=0,$F$7=\"none\")),IF(AG52=0,,IF(OR($E$7='Customer Info'!$D$21,$E$7=0),AG52,(AG52/$E$7)*'Customer Info'!$D$21)),)","v":0},0,0,{"$f":"IF(E52=\"plate waste\",,IF('Customer Info'!$M$18=0,'Log Sheet'!AY52,'Customer Info'!$M$18*'Log Sheet'!AY52))","v":0},{"$f":"IF(E52=\"plate waste\",IF(OR(C52=\"patient\",C52=\"patient beverages\"),IF('Customer Info'!$M$27=0,AY52*'Customer Info'!$M$18,AY52*'Customer Info'!$M$27),IF(C52=\"cafeteria\",IF('Customer Info'!$M$28=0,AY52*'Customer Info'!$M$18,AY52*'Customer Info'!$M$28),IF(C52=\"other1\",IF('Customer Info'!$M$29=0,AY52*'Customer Info'!$M$18,AY52*'Customer Info'!$M$29),))),)","v":0},0,{"$f":"IF($F$4=\"lunch\",IF(S52=0,,(S52/$E$5)*'Customer Info'!$D$18),)","v":0},{"$f":"IF($F$4=\"dinner\",IF(T52=0,,(T52/$E$6)*'Customer Info'!$D$18),)","v":0},{"$f":"IF($F$4=\"other\",IF(U52=0,,(U52/$E$7)*'Customer Info'!$D$18),)","v":0},0,{"$f":"IF($F$5=\"breakfast\",IF(R52=0,,(R52/$E$4)*'Customer Info'!$D$19),)","v":0},{"$f":"IF($F$5=\"dinner\",IF(T52=0,,(T52/$E$6)*'Customer Info'!$D$19),)","v":0},{"$f":"IF($F$5=\"other\",IF(U52=0,,(U52/$E$7)*'Customer Info'!$D$19),)","v":0},0,{"$f":"IF($F$6=\"breakfast\",IF(R52=0,,(R52/$E$4)*'Customer Info'!$D$20),)","v":0},{"$f":"IF($F$6=\"lunch\",IF(S52=0,,(S52/$E$5)*'Customer Info'!$D$20),)","v":0},{"$f":"IF($F$6=\"other\",IF(U52=0,,(U52/$E$7)*'Customer Info'!$D$20),)","v":0},0,{"$f":"IF($F$7=\"breakfast\",IF(R52=0,,(R52/$E$4)*'Customer Info'!$D$21),)","v":0},{"$f":"IF($F$7=\"lunch\",IF(S52=0,,(S52/$E$5)*'Customer Info'!$D$21),)","v":0},{"$f":"IF($F$7=\"dinner\",IF(T52=0,,(T52/$E$6)*'Customer Info'!$D$21),)","v":0},0,{"$f":"IF($F$10=\"lunch\",IF(W52=0,,(W52/$E$11)*'Customer Info'!$F$18),)","v":0},{"$f":"IF($F$10=\"dinner\",IF(X52=0,,(X52/$E$12)*'Customer Info'!$F$18),)","v":0},{"$f":"IF($F$10=\"other\",IF(Y52=0,,(Y52/$E$13)*'Customer Info'!$F$18),)","v":0},0,{"$f":"IF($F$11=\"breakfast\",IF(V52=0,,(V52/$E$10)*'Customer Info'!$F$19),)","v":0},{"$f":"IF($F$11=\"dinner\",IF(X52=0,,(X52/$E$12)*'Customer Info'!$F$19),)","v":0},{"$f":"IF($F$11=\"other\",IF(Y52=0,,(Y52/$E$13)*'Customer Info'!$F$19),)","v":0},0,{"$f":"IF($F$12=\"breakfast\",IF(V52=0,,(V52/$E$10)*'Customer Info'!$F$20),)","v":0},{"$f":"IF($F$12=\"lunch\",IF(W52=0,,(W52/$E$11)*'Customer Info'!$F$20),)","v":0},{"$f":"IF($F$12=\"other\",IF(Y52=0,,(Y52/$E$13)*'Customer Info'!$F$20),)","v":0},0,{"$f":"IF($F$13=\"breakfast\",IF(V52=0,,(V52/$E$10)*'Customer Info'!$F$21),)","v":0},{"$f":"IF($F$13=\"lunch\",IF(W52=0,,(W52/$E$11)*'Customer Info'!$F$21),)","v":0},{"$f":"IF($F$13=\"dinner\",IF(X52=0,,(X52/$E$12)*'Customer Info'!$F$21),)","v":0},0,{"$f":"IF($F$16=\"lunch\",IF(AA52=0,,(AA52/$E$17)*'Customer Info'!$H$18),)","v":0},{"$f":"IF($F$16=\"dinner\",IF(AB52=0,,(AB52/$E$18)*'Customer Info'!$H$18),)","v":0},{"$f":"IF($F$16=\"other\",IF(AC52=0,,(AC52/$E$19)*'Customer Info'!$H$18),)","v":0},0,{"$f":"IF($F$17=\"breakfast\",IF(Z52=0,,(Z52/$E$16)*'Customer Info'!$H$19),)","v":0},{"$f":"IF($F$17=\"dinner\",IF(AB52=0,,(AB52/$E$18)*'Customer Info'!$H$19),)","v":0},{"$f":"IF($F$17=\"other\",IF(AC52=0,,(AC52/$E$19)*'Customer Info'!$H$19),)","v":0},0,{"$f":"IF($F$18=\"breakfast\",IF(Z52=0,,(Z52/$E$16)*'Customer Info'!$H$20),)","v":0},{"$f":"IF($F$18=\"lunch\",IF(AA52=0,,(AA52/$E$17)*'Customer Info'!$H$20),)","v":0},{"$f":"IF($F$18=\"other\",IF(AC52=0,,(AC52/$E$19)*'Customer Info'!$H$20),)","v":0},0,{"$f":"IF($F$19=\"breakfast\",IF(Z52=0,,(Z52/$E$16)*'Customer Info'!$H$21),)","v":0},{"$f":"IF($F$19=\"lunch\",IF(AA52=0,,(AA52/$E$17)*'Customer Info'!$H$21),)","v":0},{"$f":"IF($F$19=\"dinner\",IF(AB52=0,,(AB52/$E$18)*'Customer Info'!$H$21),)","v":0},0,0,0,0,0,""]
[null,null,null,null,null,null,null,null,null,null,0,0,0,0,0,0,0,0,0,0,0,0,0,0,0,0,0,0,0,0,0,0,0,{"$f":"IF((OR($F$4=0,$F$4=\"none\")),IF(R53=0,,IF(OR($E$4='Customer Info'!$D$18,$E$4=0),R53,(R53/$E$4)*'Customer Info'!$D$18)),)","v":0},{"$f":"IF((OR($F$5=0,$F$5=\"none\")),IF(S53=0,,IF(OR($E$5='Customer Info'!$D$18,$E$5=0),S53,(S53/$E$5)*'Customer Info'!$D$19)),)","v":0},{"$f":"IF((OR($F$6=0,$F$6=\"none\")),IF(T53=0,,IF(OR($E$6='Customer Info'!$D$18,$E$6=0),T53,(T53/$E$6)*'Customer Info'!$D$20)),)","v":0},{"$f":"IF((OR($F$7=0,$F$7=\"none\")),IF(U53=0,,IF(OR($E$7='Customer Info'!$D$18,$E$7=0),U53,(U53/$E$7)*'Customer Info'!$D$21)),)","v":0},{"$f":"IF((OR($F$10=0,$F$10=\"none\")),IF(V53=0,,IF(OR($E$10='Customer Info'!$F$18,$E$10=0),V53,(V53/$E$10)*'Customer Info'!$F$18)),)","v":0},{"$f":"IF((OR($F$11=0,$F$11=\"none\")),IF(W53=0,,IF(OR($E$11='Customer Info'!$F$19,$E$11=0),W53,(W53/$E$11)*'Customer Info'!$F$19)),)","v":0},{"$f":"IF((OR($F$12=0,$F$12=\"none\")),IF(X53=0,,IF(OR($E$12='Customer Info'!$F$20,$E$12=0),X53,(X53/$E$12)*'Customer Info'!$F$20)),)","v":0},{"$f":"IF((OR($F$13=0,$F$13=\"none\")),IF(Y53=0,,IF(OR($E$13='Customer Info'!$F$21,$E$13=0),Y53,(Y53/$E$13)*'Customer Info'!$F$21)),)","v":0},{"$f":"IF((OR($F$16=0,$F$16=\"none\")),IF(Z53=0,,IF(OR($E$16='Customer Info'!$H$18,$E$16=0),Z53,(Z53/$E$16)*'Customer Info'!$H$18)),)","v":0},{"$f":"IF((OR($F$17=0,$F$17=\"none\")),IF(AA53=0,,IF(OR($E$17='Customer Info'!$H$19,$E$17=0),AA53,(AA53/$E$17)*'Customer Info'!$H$19)),)","v":0},{"$f":"IF((OR($F$18=0,$F$18=\"none\")),IF(AB53=0,,IF(OR($E$18='Customer Info'!$H$20,$E$18=0),AB53,(AB53/$E$18)*'Customer Info'!$H$20)),)","v":0},{"$f":"IF((OR($F$19=0,$F$19=\"none\")),IF(AC53=0,,IF(OR($E$19='Customer Info'!$H$21,$E$19=0),AC53,(AC53/$E$19)*'Customer Info'!$H$21)),)","v":0},{"$f":"IF((OR($F$4=0,$F$4=\"none\")),IF(AD53=0,,IF(OR($E$4='Customer Info'!$D$18,$E$4=0),AD53,(AD53/$E$4)*'Customer Info'!$D$18)),)","v":0},{"$f":"IF((OR($F$5=0,$F$5=\"none\")),IF(AE53=0,,IF(OR($E$5='Customer Info'!$D$19,$E$5=0),AE53,(AE53/$E$5)*'Customer Info'!$D$19)),)","v":0},{"$f":"IF((OR($F$6=0,$F$6=\"none\")),IF(AF53=0,,IF(OR($E$6='Customer Info'!$D$20,$E$6=0),AF53,(AF53/$E$6)*'Customer Info'!$D$20)),)","v":0},{"$f":"IF((OR($F$7=0,$F$7=\"none\")),IF(AG53=0,,IF(OR($E$7='Customer Info'!$D$21,$E$7=0),AG53,(AG53/$E$7)*'Customer Info'!$D$21)),)","v":0},0,0,{"$f":"IF(E53=\"plate waste\",,IF('Customer Info'!$M$18=0,'Log Sheet'!AY53,'Customer Info'!$M$18*'Log Sheet'!AY53))","v":0},{"$f":"IF(E53=\"plate waste\",IF(OR(C53=\"patient\",C53=\"patient beverages\"),IF('Customer Info'!$M$27=0,AY53*'Customer Info'!$M$18,AY53*'Customer Info'!$M$27),IF(C53=\"cafeteria\",IF('Customer Info'!$M$28=0,AY53*'Customer Info'!$M$18,AY53*'Customer Info'!$M$28),IF(C53=\"other1\",IF('Customer Info'!$M$29=0,AY53*'Customer Info'!$M$18,AY53*'Customer Info'!$M$29),))),)","v":0},0,{"$f":"IF($F$4=\"lunch\",IF(S53=0,,(S53/$E$5)*'Customer Info'!$D$18),)","v":0},{"$f":"IF($F$4=\"dinner\",IF(T53=0,,(T53/$E$6)*'Customer Info'!$D$18),)","v":0},{"$f":"IF($F$4=\"other\",IF(U53=0,,(U53/$E$7)*'Customer Info'!$D$18),)","v":0},0,{"$f":"IF($F$5=\"breakfast\",IF(R53=0,,(R53/$E$4)*'Customer Info'!$D$19),)","v":0},{"$f":"IF($F$5=\"dinner\",IF(T53=0,,(T53/$E$6)*'Customer Info'!$D$19),)","v":0},{"$f":"IF($F$5=\"other\",IF(U53=0,,(U53/$E$7)*'Customer Info'!$D$19),)","v":0},0,{"$f":"IF($F$6=\"breakfast\",IF(R53=0,,(R53/$E$4)*'Customer Info'!$D$20),)","v":0},{"$f":"IF($F$6=\"lunch\",IF(S53=0,,(S53/$E$5)*'Customer Info'!$D$20),)","v":0},{"$f":"IF($F$6=\"other\",IF(U53=0,,(U53/$E$7)*'Customer Info'!$D$20),)","v":0},0,{"$f":"IF($F$7=\"breakfast\",IF(R53=0,,(R53/$E$4)*'Customer Info'!$D$21),)","v":0},{"$f":"IF($F$7=\"lunch\",IF(S53=0,,(S53/$E$5)*'Customer Info'!$D$21),)","v":0},{"$f":"IF($F$7=\"dinner\",IF(T53=0,,(T53/$E$6)*'Customer Info'!$D$21),)","v":0},0,{"$f":"IF($F$10=\"lunch\",IF(W53=0,,(W53/$E$11)*'Customer Info'!$F$18),)","v":0},{"$f":"IF($F$10=\"dinner\",IF(X53=0,,(X53/$E$12)*'Customer Info'!$F$18),)","v":0},{"$f":"IF($F$10=\"other\",IF(Y53=0,,(Y53/$E$13)*'Customer Info'!$F$18),)","v":0},0,{"$f":"IF($F$11=\"breakfast\",IF(V53=0,,(V53/$E$10)*'Customer Info'!$F$19),)","v":0},{"$f":"IF($F$11=\"dinner\",IF(X53=0,,(X53/$E$12)*'Customer Info'!$F$19),)","v":0},{"$f":"IF($F$11=\"other\",IF(Y53=0,,(Y53/$E$13)*'Customer Info'!$F$19),)","v":0},0,{"$f":"IF($F$12=\"breakfast\",IF(V53=0,,(V53/$E$10)*'Customer Info'!$F$20),)","v":0},{"$f":"IF($F$12=\"lunch\",IF(W53=0,,(W53/$E$11)*'Customer Info'!$F$20),)","v":0},{"$f":"IF($F$12=\"other\",IF(Y53=0,,(Y53/$E$13)*'Customer Info'!$F$20),)","v":0},0,{"$f":"IF($F$13=\"breakfast\",IF(V53=0,,(V53/$E$10)*'Customer Info'!$F$21),)","v":0},{"$f":"IF($F$13=\"lunch\",IF(W53=0,,(W53/$E$11)*'Customer Info'!$F$21),)","v":0},{"$f":"IF($F$13=\"dinner\",IF(X53=0,,(X53/$E$12)*'Customer Info'!$F$21),)","v":0},0,{"$f":"IF($F$16=\"lunch\",IF(AA53=0,,(AA53/$E$17)*'Customer Info'!$H$18),)","v":0},{"$f":"IF($F$16=\"dinner\",IF(AB53=0,,(AB53/$E$18)*'Customer Info'!$H$18),)","v":0},{"$f":"IF($F$16=\"other\",IF(AC53=0,,(AC53/$E$19)*'Customer Info'!$H$18),)","v":0},0,{"$f":"IF($F$17=\"breakfast\",IF(Z53=0,,(Z53/$E$16)*'Customer Info'!$H$19),)","v":0},{"$f":"IF($F$17=\"dinner\",IF(AB53=0,,(AB53/$E$18)*'Customer Info'!$H$19),)","v":0},{"$f":"IF($F$17=\"other\",IF(AC53=0,,(AC53/$E$19)*'Customer Info'!$H$19),)","v":0},0,{"$f":"IF($F$18=\"breakfast\",IF(Z53=0,,(Z53/$E$16)*'Customer Info'!$H$20),)","v":0},{"$f":"IF($F$18=\"lunch\",IF(AA53=0,,(AA53/$E$17)*'Customer Info'!$H$20),)","v":0},{"$f":"IF($F$18=\"other\",IF(AC53=0,,(AC53/$E$19)*'Customer Info'!$H$20),)","v":0},0,{"$f":"IF($F$19=\"breakfast\",IF(Z53=0,,(Z53/$E$16)*'Customer Info'!$H$21),)","v":0},{"$f":"IF($F$19=\"lunch\",IF(AA53=0,,(AA53/$E$17)*'Customer Info'!$H$21),)","v":0},{"$f":"IF($F$19=\"dinner\",IF(AB53=0,,(AB53/$E$18)*'Customer Info'!$H$21),)","v":0},0,0,0,0,0,""]
[null,null,null,null,null,null,null,null,null,null,0,0,0,0,0,0,0,0,0,0,0,0,0,0,0,0,0,0,0,0,0,0,0,{"$f":"IF((OR($F$4=0,$F$4=\"none\")),IF(R54=0,,IF(OR($E$4='Customer Info'!$D$18,$E$4=0),R54,(R54/$E$4)*'Customer Info'!$D$18)),)","v":0},{"$f":"IF((OR($F$5=0,$F$5=\"none\")),IF(S54=0,,IF(OR($E$5='Customer Info'!$D$18,$E$5=0),S54,(S54/$E$5)*'Customer Info'!$D$19)),)","v":0},{"$f":"IF((OR($F$6=0,$F$6=\"none\")),IF(T54=0,,IF(OR($E$6='Customer Info'!$D$18,$E$6=0),T54,(T54/$E$6)*'Customer Info'!$D$20)),)","v":0},{"$f":"IF((OR($F$7=0,$F$7=\"none\")),IF(U54=0,,IF(OR($E$7='Customer Info'!$D$18,$E$7=0),U54,(U54/$E$7)*'Customer Info'!$D$21)),)","v":0},{"$f":"IF((OR($F$10=0,$F$10=\"none\")),IF(V54=0,,IF(OR($E$10='Customer Info'!$F$18,$E$10=0),V54,(V54/$E$10)*'Customer Info'!$F$18)),)","v":0},{"$f":"IF((OR($F$11=0,$F$11=\"none\")),IF(W54=0,,IF(OR($E$11='Customer Info'!$F$19,$E$11=0),W54,(W54/$E$11)*'Customer Info'!$F$19)),)","v":0},{"$f":"IF((OR($F$12=0,$F$12=\"none\")),IF(X54=0,,IF(OR($E$12='Customer Info'!$F$20,$E$12=0),X54,(X54/$E$12)*'Customer Info'!$F$20)),)","v":0},{"$f":"IF((OR($F$13=0,$F$13=\"none\")),IF(Y54=0,,IF(OR($E$13='Customer Info'!$F$21,$E$13=0),Y54,(Y54/$E$13)*'Customer Info'!$F$21)),)","v":0},{"$f":"IF((OR($F$16=0,$F$16=\"none\")),IF(Z54=0,,IF(OR($E$16='Customer Info'!$H$18,$E$16=0),Z54,(Z54/$E$16)*'Customer Info'!$H$18)),)","v":0},{"$f":"IF((OR($F$17=0,$F$17=\"none\")),IF(AA54=0,,IF(OR($E$17='Customer Info'!$H$19,$E$17=0),AA54,(AA54/$E$17)*'Customer Info'!$H$19)),)","v":0},{"$f":"IF((OR($F$18=0,$F$18=\"none\")),IF(AB54=0,,IF(OR($E$18='Customer Info'!$H$20,$E$18=0),AB54,(AB54/$E$18)*'Customer Info'!$H$20)),)","v":0},{"$f":"IF((OR($F$19=0,$F$19=\"none\")),IF(AC54=0,,IF(OR($E$19='Customer Info'!$H$21,$E$19=0),AC54,(AC54/$E$19)*'Customer Info'!$H$21)),)","v":0},{"$f":"IF((OR($F$4=0,$F$4=\"none\")),IF(AD54=0,,IF(OR($E$4='Customer Info'!$D$18,$E$4=0),AD54,(AD54/$E$4)*'Customer Info'!$D$18)),)","v":0},{"$f":"IF((OR($F$5=0,$F$5=\"none\")),IF(AE54=0,,IF(OR($E$5='Customer Info'!$D$19,$E$5=0),AE54,(AE54/$E$5)*'Customer Info'!$D$19)),)","v":0},{"$f":"IF((OR($F$6=0,$F$6=\"none\")),IF(AF54=0,,IF(OR($E$6='Customer Info'!$D$20,$E$6=0),AF54,(AF54/$E$6)*'Customer Info'!$D$20)),)","v":0},{"$f":"IF((OR($F$7=0,$F$7=\"none\")),IF(AG54=0,,IF(OR($E$7='Customer Info'!$D$21,$E$7=0),AG54,(AG54/$E$7)*'Customer Info'!$D$21)),)","v":0},0,0,{"$f":"IF(E54=\"plate waste\",,IF('Customer Info'!$M$18=0,'Log Sheet'!AY54,'Customer Info'!$M$18*'Log Sheet'!AY54))","v":0},{"$f":"IF(E54=\"plate waste\",IF(OR(C54=\"patient\",C54=\"patient beverages\"),IF('Customer Info'!$M$27=0,AY54*'Customer Info'!$M$18,AY54*'Customer Info'!$M$27),IF(C54=\"cafeteria\",IF('Customer Info'!$M$28=0,AY54*'Customer Info'!$M$18,AY54*'Customer Info'!$M$28),IF(C54=\"other1\",IF('Customer Info'!$M$29=0,AY54*'Customer Info'!$M$18,AY54*'Customer Info'!$M$29),))),)","v":0},0,{"$f":"IF($F$4=\"lunch\",IF(S54=0,,(S54/$E$5)*'Customer Info'!$D$18),)","v":0},{"$f":"IF($F$4=\"dinner\",IF(T54=0,,(T54/$E$6)*'Customer Info'!$D$18),)","v":0},{"$f":"IF($F$4=\"other\",IF(U54=0,,(U54/$E$7)*'Customer Info'!$D$18),)","v":0},0,{"$f":"IF($F$5=\"breakfast\",IF(R54=0,,(R54/$E$4)*'Customer Info'!$D$19),)","v":0},{"$f":"IF($F$5=\"dinner\",IF(T54=0,,(T54/$E$6)*'Customer Info'!$D$19),)","v":0},{"$f":"IF($F$5=\"other\",IF(U54=0,,(U54/$E$7)*'Customer Info'!$D$19),)","v":0},0,{"$f":"IF($F$6=\"breakfast\",IF(R54=0,,(R54/$E$4)*'Customer Info'!$D$20),)","v":0},{"$f":"IF($F$6=\"lunch\",IF(S54=0,,(S54/$E$5)*'Customer Info'!$D$20),)","v":0},{"$f":"IF($F$6=\"other\",IF(U54=0,,(U54/$E$7)*'Customer Info'!$D$20),)","v":0},0,{"$f":"IF($F$7=\"breakfast\",IF(R54=0,,(R54/$E$4)*'Customer Info'!$D$21),)","v":0},{"$f":"IF($F$7=\"lunch\",IF(S54=0,,(S54/$E$5)*'Customer Info'!$D$21),)","v":0},{"$f":"IF($F$7=\"dinner\",IF(T54=0,,(T54/$E$6)*'Customer Info'!$D$21),)","v":0},0,{"$f":"IF($F$10=\"lunch\",IF(W54=0,,(W54/$E$11)*'Customer Info'!$F$18),)","v":0},{"$f":"IF($F$10=\"dinner\",IF(X54=0,,(X54/$E$12)*'Customer Info'!$F$18),)","v":0},{"$f":"IF($F$10=\"other\",IF(Y54=0,,(Y54/$E$13)*'Customer Info'!$F$18),)","v":0},0,{"$f":"IF($F$11=\"breakfast\",IF(V54=0,,(V54/$E$10)*'Customer Info'!$F$19),)","v":0},{"$f":"IF($F$11=\"dinner\",IF(X54=0,,(X54/$E$12)*'Customer Info'!$F$19),)","v":0},{"$f":"IF($F$11=\"other\",IF(Y54=0,,(Y54/$E$13)*'Customer Info'!$F$19),)","v":0},0,{"$f":"IF($F$12=\"breakfast\",IF(V54=0,,(V54/$E$10)*'Customer Info'!$F$20),)","v":0},{"$f":"IF($F$12=\"lunch\",IF(W54=0,,(W54/$E$11)*'Customer Info'!$F$20),)","v":0},{"$f":"IF($F$12=\"other\",IF(Y54=0,,(Y54/$E$13)*'Customer Info'!$F$20),)","v":0},0,{"$f":"IF($F$13=\"breakfast\",IF(V54=0,,(V54/$E$10)*'Customer Info'!$F$21),)","v":0},{"$f":"IF($F$13=\"lunch\",IF(W54=0,,(W54/$E$11)*'Customer Info'!$F$21),)","v":0},{"$f":"IF($F$13=\"dinner\",IF(X54=0,,(X54/$E$12)*'Customer Info'!$F$21),)","v":0},0,{"$f":"IF($F$16=\"lunch\",IF(AA54=0,,(AA54/$E$17)*'Customer Info'!$H$18),)","v":0},{"$f":"IF($F$16=\"dinner\",IF(AB54=0,,(AB54/$E$18)*'Customer Info'!$H$18),)","v":0},{"$f":"IF($F$16=\"other\",IF(AC54=0,,(AC54/$E$19)*'Customer Info'!$H$18),)","v":0},0,{"$f":"IF($F$17=\"breakfast\",IF(Z54=0,,(Z54/$E$16)*'Customer Info'!$H$19),)","v":0},{"$f":"IF($F$17=\"dinner\",IF(AB54=0,,(AB54/$E$18)*'Customer Info'!$H$19),)","v":0},{"$f":"IF($F$17=\"other\",IF(AC54=0,,(AC54/$E$19)*'Customer Info'!$H$19),)","v":0},0,{"$f":"IF($F$18=\"breakfast\",IF(Z54=0,,(Z54/$E$16)*'Customer Info'!$H$20),)","v":0},{"$f":"IF($F$18=\"lunch\",IF(AA54=0,,(AA54/$E$17)*'Customer Info'!$H$20),)","v":0},{"$f":"IF($F$18=\"other\",IF(AC54=0,,(AC54/$E$19)*'Customer Info'!$H$20),)","v":0},0,{"$f":"IF($F$19=\"breakfast\",IF(Z54=0,,(Z54/$E$16)*'Customer Info'!$H$21),)","v":0},{"$f":"IF($F$19=\"lunch\",IF(AA54=0,,(AA54/$E$17)*'Customer Info'!$H$21),)","v":0},{"$f":"IF($F$19=\"dinner\",IF(AB54=0,,(AB54/$E$18)*'Customer Info'!$H$21),)","v":0},0,0,0,0,0,""]
[null,null,null,null,null,null,null,null,null,null,0,0,0,0,0,0,0,0,0,0,0,0,0,0,0,0,0,0,0,0,0,0,0,{"$f":"IF((OR($F$4=0,$F$4=\"none\")),IF(R55=0,,IF(OR($E$4='Customer Info'!$D$18,$E$4=0),R55,(R55/$E$4)*'Customer Info'!$D$18)),)","v":0},{"$f":"IF((OR($F$5=0,$F$5=\"none\")),IF(S55=0,,IF(OR($E$5='Customer Info'!$D$18,$E$5=0),S55,(S55/$E$5)*'Customer Info'!$D$19)),)","v":0},{"$f":"IF((OR($F$6=0,$F$6=\"none\")),IF(T55=0,,IF(OR($E$6='Customer Info'!$D$18,$E$6=0),T55,(T55/$E$6)*'Customer Info'!$D$20)),)","v":0},{"$f":"IF((OR($F$7=0,$F$7=\"none\")),IF(U55=0,,IF(OR($E$7='Customer Info'!$D$18,$E$7=0),U55,(U55/$E$7)*'Customer Info'!$D$21)),)","v":0},{"$f":"IF((OR($F$10=0,$F$10=\"none\")),IF(V55=0,,IF(OR($E$10='Customer Info'!$F$18,$E$10=0),V55,(V55/$E$10)*'Customer Info'!$F$18)),)","v":0},{"$f":"IF((OR($F$11=0,$F$11=\"none\")),IF(W55=0,,IF(OR($E$11='Customer Info'!$F$19,$E$11=0),W55,(W55/$E$11)*'Customer Info'!$F$19)),)","v":0},{"$f":"IF((OR($F$12=0,$F$12=\"none\")),IF(X55=0,,IF(OR($E$12='Customer Info'!$F$20,$E$12=0),X55,(X55/$E$12)*'Customer Info'!$F$20)),)","v":0},{"$f":"IF((OR($F$13=0,$F$13=\"none\")),IF(Y55=0,,IF(OR($E$13='Customer Info'!$F$21,$E$13=0),Y55,(Y55/$E$13)*'Customer Info'!$F$21)),)","v":0},{"$f":"IF((OR($F$16=0,$F$16=\"none\")),IF(Z55=0,,IF(OR($E$16='Customer Info'!$H$18,$E$16=0),Z55,(Z55/$E$16)*'Customer Info'!$H$18)),)","v":0},{"$f":"IF((OR($F$17=0,$F$17=\"none\")),IF(AA55=0,,IF(OR($E$17='Customer Info'!$H$19,$E$17=0),AA55,(AA55/$E$17)*'Customer Info'!$H$19)),)","v":0},{"$f":"IF((OR($F$18=0,$F$18=\"none\")),IF(AB55=0,,IF(OR($E$18='Customer Info'!$H$20,$E$18=0),AB55,(AB55/$E$18)*'Customer Info'!$H$20)),)","v":0},{"$f":"IF((OR($F$19=0,$F$19=\"none\")),IF(AC55=0,,IF(OR($E$19='Customer Info'!$H$21,$E$19=0),AC55,(AC55/$E$19)*'Customer Info'!$H$21)),)","v":0},{"$f":"IF((OR($F$4=0,$F$4=\"none\")),IF(AD55=0,,IF(OR($E$4='Customer Info'!$D$18,$E$4=0),AD55,(AD55/$E$4)*'Customer Info'!$D$18)),)","v":0},{"$f":"IF((OR($F$5=0,$F$5=\"none\")),IF(AE55=0,,IF(OR($E$5='Customer Info'!$D$19,$E$5=0),AE55,(AE55/$E$5)*'Customer Info'!$D$19)),)","v":0},{"$f":"IF((OR($F$6=0,$F$6=\"none\")),IF(AF55=0,,IF(OR($E$6='Customer Info'!$D$20,$E$6=0),AF55,(AF55/$E$6)*'Customer Info'!$D$20)),)","v":0},{"$f":"IF((OR($F$7=0,$F$7=\"none\")),IF(AG55=0,,IF(OR($E$7='Customer Info'!$D$21,$E$7=0),AG55,(AG55/$E$7)*'Customer Info'!$D$21)),)","v":0},0,0,{"$f":"IF(E55=\"plate waste\",,IF('Customer Info'!$M$18=0,'Log Sheet'!AY55,'Customer Info'!$M$18*'Log Sheet'!AY55))","v":0},{"$f":"IF(E55=\"plate waste\",IF(OR(C55=\"patient\",C55=\"patient beverages\"),IF('Customer Info'!$M$27=0,AY55*'Customer Info'!$M$18,AY55*'Customer Info'!$M$27),IF(C55=\"cafeteria\",IF('Customer Info'!$M$28=0,AY55*'Customer Info'!$M$18,AY55*'Customer Info'!$M$28),IF(C55=\"other1\",IF('Customer Info'!$M$29=0,AY55*'Customer Info'!$M$18,AY55*'Customer Info'!$M$29),))),)","v":0},0,{"$f":"IF($F$4=\"lunch\",IF(S55=0,,(S55/$E$5)*'Customer Info'!$D$18),)","v":0},{"$f":"IF($F$4=\"dinner\",IF(T55=0,,(T55/$E$6)*'Customer Info'!$D$18),)","v":0},{"$f":"IF($F$4=\"other\",IF(U55=0,,(U55/$E$7)*'Customer Info'!$D$18),)","v":0},0,{"$f":"IF($F$5=\"breakfast\",IF(R55=0,,(R55/$E$4)*'Customer Info'!$D$19),)","v":0},{"$f":"IF($F$5=\"dinner\",IF(T55=0,,(T55/$E$6)*'Customer Info'!$D$19),)","v":0},{"$f":"IF($F$5=\"other\",IF(U55=0,,(U55/$E$7)*'Customer Info'!$D$19),)","v":0},0,{"$f":"IF($F$6=\"breakfast\",IF(R55=0,,(R55/$E$4)*'Customer Info'!$D$20),)","v":0},{"$f":"IF($F$6=\"lunch\",IF(S55=0,,(S55/$E$5)*'Customer Info'!$D$20),)","v":0},{"$f":"IF($F$6=\"other\",IF(U55=0,,(U55/$E$7)*'Customer Info'!$D$20),)","v":0},0,{"$f":"IF($F$7=\"breakfast\",IF(R55=0,,(R55/$E$4)*'Customer Info'!$D$21),)","v":0},{"$f":"IF($F$7=\"lunch\",IF(S55=0,,(S55/$E$5)*'Customer Info'!$D$21),)","v":0},{"$f":"IF($F$7=\"dinner\",IF(T55=0,,(T55/$E$6)*'Customer Info'!$D$21),)","v":0},0,{"$f":"IF($F$10=\"lunch\",IF(W55=0,,(W55/$E$11)*'Customer Info'!$F$18),)","v":0},{"$f":"IF($F$10=\"dinner\",IF(X55=0,,(X55/$E$12)*'Customer Info'!$F$18),)","v":0},{"$f":"IF($F$10=\"other\",IF(Y55=0,,(Y55/$E$13)*'Customer Info'!$F$18),)","v":0},0,{"$f":"IF($F$11=\"breakfast\",IF(V55=0,,(V55/$E$10)*'Customer Info'!$F$19),)","v":0},{"$f":"IF($F$11=\"dinner\",IF(X55=0,,(X55/$E$12)*'Customer Info'!$F$19),)","v":0},{"$f":"IF($F$11=\"other\",IF(Y55=0,,(Y55/$E$13)*'Customer Info'!$F$19),)","v":0},0,{"$f":"IF($F$12=\"breakfast\",IF(V55=0,,(V55/$E$10)*'Customer Info'!$F$20),)","v":0},{"$f":"IF($F$12=\"lunch\",IF(W55=0,,(W55/$E$11)*'Customer Info'!$F$20),)","v":0},{"$f":"IF($F$12=\"other\",IF(Y55=0,,(Y55/$E$13)*'Customer Info'!$F$20),)","v":0},0,{"$f":"IF($F$13=\"breakfast\",IF(V55=0,,(V55/$E$10)*'Customer Info'!$F$21),)","v":0},{"$f":"IF($F$13=\"lunch\",IF(W55=0,,(W55/$E$11)*'Customer Info'!$F$21),)","v":0},{"$f":"IF($F$13=\"dinner\",IF(X55=0,,(X55/$E$12)*'Customer Info'!$F$21),)","v":0},0,{"$f":"IF($F$16=\"lunch\",IF(AA55=0,,(AA55/$E$17)*'Customer Info'!$H$18),)","v":0},{"$f":"IF($F$16=\"dinner\",IF(AB55=0,,(AB55/$E$18)*'Customer Info'!$H$18),)","v":0},{"$f":"IF($F$16=\"other\",IF(AC55=0,,(AC55/$E$19)*'Customer Info'!$H$18),)","v":0},0,{"$f":"IF($F$17=\"breakfast\",IF(Z55=0,,(Z55/$E$16)*'Customer Info'!$H$19),)","v":0},{"$f":"IF($F$17=\"dinner\",IF(AB55=0,,(AB55/$E$18)*'Customer Info'!$H$19),)","v":0},{"$f":"IF($F$17=\"other\",IF(AC55=0,,(AC55/$E$19)*'Customer Info'!$H$19),)","v":0},0,{"$f":"IF($F$18=\"breakfast\",IF(Z55=0,,(Z55/$E$16)*'Customer Info'!$H$20),)","v":0},{"$f":"IF($F$18=\"lunch\",IF(AA55=0,,(AA55/$E$17)*'Customer Info'!$H$20),)","v":0},{"$f":"IF($F$18=\"other\",IF(AC55=0,,(AC55/$E$19)*'Customer Info'!$H$20),)","v":0},0,{"$f":"IF($F$19=\"breakfast\",IF(Z55=0,,(Z55/$E$16)*'Customer Info'!$H$21),)","v":0},{"$f":"IF($F$19=\"lunch\",IF(AA55=0,,(AA55/$E$17)*'Customer Info'!$H$21),)","v":0},{"$f":"IF($F$19=\"dinner\",IF(AB55=0,,(AB55/$E$18)*'Customer Info'!$H$21),)","v":0},0,0,0,0,0,""]
[null,null,null,null,null,null,null,null,null,null,0,0,0,0,0,0,0,0,0,0,0,0,0,0,0,0,0,0,0,0,0,0,0,{"$f":"IF((OR($F$4=0,$F$4=\"none\")),IF(R56=0,,IF(OR($E$4='Customer Info'!$D$18,$E$4=0),R56,(R56/$E$4)*'Customer Info'!$D$18)),)","v":0},{"$f":"IF((OR($F$5=0,$F$5=\"none\")),IF(S56=0,,IF(OR($E$5='Customer Info'!$D$18,$E$5=0),S56,(S56/$E$5)*'Customer Info'!$D$19)),)","v":0},{"$f":"IF((OR($F$6=0,$F$6=\"none\")),IF(T56=0,,IF(OR($E$6='Customer Info'!$D$18,$E$6=0),T56,(T56/$E$6)*'Customer Info'!$D$20)),)","v":0},{"$f":"IF((OR($F$7=0,$F$7=\"none\")),IF(U56=0,,IF(OR($E$7='Customer Info'!$D$18,$E$7=0),U56,(U56/$E$7)*'Customer Info'!$D$21)),)","v":0},{"$f":"IF((OR($F$10=0,$F$10=\"none\")),IF(V56=0,,IF(OR($E$10='Customer Info'!$F$18,$E$10=0),V56,(V56/$E$10)*'Customer Info'!$F$18)),)","v":0},{"$f":"IF((OR($F$11=0,$F$11=\"none\")),IF(W56=0,,IF(OR($E$11='Customer Info'!$F$19,$E$11=0),W56,(W56/$E$11)*'Customer Info'!$F$19)),)","v":0},{"$f":"IF((OR($F$12=0,$F$12=\"none\")),IF(X56=0,,IF(OR($E$12='Customer Info'!$F$20,$E$12=0),X56,(X56/$E$12)*'Customer Info'!$F$20)),)","v":0},{"$f":"IF((OR($F$13=0,$F$13=\"none\")),IF(Y56=0,,IF(OR($E$13='Customer Info'!$F$21,$E$13=0),Y56,(Y56/$E$13)*'Customer Info'!$F$21)),)","v":0},{"$f":"IF((OR($F$16=0,$F$16=\"none\")),IF(Z56=0,,IF(OR($E$16='Customer Info'!$H$18,$E$16=0),Z56,(Z56/$E$16)*'Customer Info'!$H$18)),)","v":0},{"$f":"IF((OR($F$17=0,$F$17=\"none\")),IF(AA56=0,,IF(OR($E$17='Customer Info'!$H$19,$E$17=0),AA56,(AA56/$E$17)*'Customer Info'!$H$19)),)","v":0},{"$f":"IF((OR($F$18=0,$F$18=\"none\")),IF(AB56=0,,IF(OR($E$18='Customer Info'!$H$20,$E$18=0),AB56,(AB56/$E$18)*'Customer Info'!$H$20)),)","v":0},{"$f":"IF((OR($F$19=0,$F$19=\"none\")),IF(AC56=0,,IF(OR($E$19='Customer Info'!$H$21,$E$19=0),AC56,(AC56/$E$19)*'Customer Info'!$H$21)),)","v":0},{"$f":"IF((OR($F$4=0,$F$4=\"none\")),IF(AD56=0,,IF(OR($E$4='Customer Info'!$D$18,$E$4=0),AD56,(AD56/$E$4)*'Customer Info'!$D$18)),)","v":0},{"$f":"IF((OR($F$5=0,$F$5=\"none\")),IF(AE56=0,,IF(OR($E$5='Customer Info'!$D$19,$E$5=0),AE56,(AE56/$E$5)*'Customer Info'!$D$19)),)","v":0},{"$f":"IF((OR($F$6=0,$F$6=\"none\")),IF(AF56=0,,IF(OR($E$6='Customer Info'!$D$20,$E$6=0),AF56,(AF56/$E$6)*'Customer Info'!$D$20)),)","v":0},{"$f":"IF((OR($F$7=0,$F$7=\"none\")),IF(AG56=0,,IF(OR($E$7='Customer Info'!$D$21,$E$7=0),AG56,(AG56/$E$7)*'Customer Info'!$D$21)),)","v":0},0,0,{"$f":"IF(E56=\"plate waste\",,IF('Customer Info'!$M$18=0,'Log Sheet'!AY56,'Customer Info'!$M$18*'Log Sheet'!AY56))","v":0},{"$f":"IF(E56=\"plate waste\",IF(OR(C56=\"patient\",C56=\"patient beverages\"),IF('Customer Info'!$M$27=0,AY56*'Customer Info'!$M$18,AY56*'Customer Info'!$M$27),IF(C56=\"cafeteria\",IF('Customer Info'!$M$28=0,AY56*'Customer Info'!$M$18,AY56*'Customer Info'!$M$28),IF(C56=\"other1\",IF('Customer Info'!$M$29=0,AY56*'Customer Info'!$M$18,AY56*'Customer Info'!$M$29),))),)","v":0},0,{"$f":"IF($F$4=\"lunch\",IF(S56=0,,(S56/$E$5)*'Customer Info'!$D$18),)","v":0},{"$f":"IF($F$4=\"dinner\",IF(T56=0,,(T56/$E$6)*'Customer Info'!$D$18),)","v":0},{"$f":"IF($F$4=\"other\",IF(U56=0,,(U56/$E$7)*'Customer Info'!$D$18),)","v":0},0,{"$f":"IF($F$5=\"breakfast\",IF(R56=0,,(R56/$E$4)*'Customer Info'!$D$19),)","v":0},{"$f":"IF($F$5=\"dinner\",IF(T56=0,,(T56/$E$6)*'Customer Info'!$D$19),)","v":0},{"$f":"IF($F$5=\"other\",IF(U56=0,,(U56/$E$7)*'Customer Info'!$D$19),)","v":0},0,{"$f":"IF($F$6=\"breakfast\",IF(R56=0,,(R56/$E$4)*'Customer Info'!$D$20),)","v":0},{"$f":"IF($F$6=\"lunch\",IF(S56=0,,(S56/$E$5)*'Customer Info'!$D$20),)","v":0},{"$f":"IF($F$6=\"other\",IF(U56=0,,(U56/$E$7)*'Customer Info'!$D$20),)","v":0},0,{"$f":"IF($F$7=\"breakfast\",IF(R56=0,,(R56/$E$4)*'Customer Info'!$D$21),)","v":0},{"$f":"IF($F$7=\"lunch\",IF(S56=0,,(S56/$E$5)*'Customer Info'!$D$21),)","v":0},{"$f":"IF($F$7=\"dinner\",IF(T56=0,,(T56/$E$6)*'Customer Info'!$D$21),)","v":0},0,{"$f":"IF($F$10=\"lunch\",IF(W56=0,,(W56/$E$11)*'Customer Info'!$F$18),)","v":0},{"$f":"IF($F$10=\"dinner\",IF(X56=0,,(X56/$E$12)*'Customer Info'!$F$18),)","v":0},{"$f":"IF($F$10=\"other\",IF(Y56=0,,(Y56/$E$13)*'Customer Info'!$F$18),)","v":0},0,{"$f":"IF($F$11=\"breakfast\",IF(V56=0,,(V56/$E$10)*'Customer Info'!$F$19),)","v":0},{"$f":"IF($F$11=\"dinner\",IF(X56=0,,(X56/$E$12)*'Customer Info'!$F$19),)","v":0},{"$f":"IF($F$11=\"other\",IF(Y56=0,,(Y56/$E$13)*'Customer Info'!$F$19),)","v":0},0,{"$f":"IF($F$12=\"breakfast\",IF(V56=0,,(V56/$E$10)*'Customer Info'!$F$20),)","v":0},{"$f":"IF($F$12=\"lunch\",IF(W56=0,,(W56/$E$11)*'Customer Info'!$F$20),)","v":0},{"$f":"IF($F$12=\"other\",IF(Y56=0,,(Y56/$E$13)*'Customer Info'!$F$20),)","v":0},0,{"$f":"IF($F$13=\"breakfast\",IF(V56=0,,(V56/$E$10)*'Customer Info'!$F$21),)","v":0},{"$f":"IF($F$13=\"lunch\",IF(W56=0,,(W56/$E$11)*'Customer Info'!$F$21),)","v":0},{"$f":"IF($F$13=\"dinner\",IF(X56=0,,(X56/$E$12)*'Customer Info'!$F$21),)","v":0},0,{"$f":"IF($F$16=\"lunch\",IF(AA56=0,,(AA56/$E$17)*'Customer Info'!$H$18),)","v":0},{"$f":"IF($F$16=\"dinner\",IF(AB56=0,,(AB56/$E$18)*'Customer Info'!$H$18),)","v":0},{"$f":"IF($F$16=\"other\",IF(AC56=0,,(AC56/$E$19)*'Customer Info'!$H$18),)","v":0},0,{"$f":"IF($F$17=\"breakfast\",IF(Z56=0,,(Z56/$E$16)*'Customer Info'!$H$19),)","v":0},{"$f":"IF($F$17=\"dinner\",IF(AB56=0,,(AB56/$E$18)*'Customer Info'!$H$19),)","v":0},{"$f":"IF($F$17=\"other\",IF(AC56=0,,(AC56/$E$19)*'Customer Info'!$H$19),)","v":0},0,{"$f":"IF($F$18=\"breakfast\",IF(Z56=0,,(Z56/$E$16)*'Customer Info'!$H$20),)","v":0},{"$f":"IF($F$18=\"lunch\",IF(AA56=0,,(AA56/$E$17)*'Customer Info'!$H$20),)","v":0},{"$f":"IF($F$18=\"other\",IF(AC56=0,,(AC56/$E$19)*'Customer Info'!$H$20),)","v":0},0,{"$f":"IF($F$19=\"breakfast\",IF(Z56=0,,(Z56/$E$16)*'Customer Info'!$H$21),)","v":0},{"$f":"IF($F$19=\"lunch\",IF(AA56=0,,(AA56/$E$17)*'Customer Info'!$H$21),)","v":0},{"$f":"IF($F$19=\"dinner\",IF(AB56=0,,(AB56/$E$18)*'Customer Info'!$H$21),)","v":0},0,0,0,0,0,""]
[null,null,null,null,null,null,null,null,null,null,0,0,0,0,0,0,0,0,0,0,0,0,0,0,0,0,0,0,0,0,0,0,0,{"$f":"IF((OR($F$4=0,$F$4=\"none\")),IF(R57=0,,IF(OR($E$4='Customer Info'!$D$18,$E$4=0),R57,(R57/$E$4)*'Customer Info'!$D$18)),)","v":0},{"$f":"IF((OR($F$5=0,$F$5=\"none\")),IF(S57=0,,IF(OR($E$5='Customer Info'!$D$18,$E$5=0),S57,(S57/$E$5)*'Customer Info'!$D$19)),)","v":0},{"$f":"IF((OR($F$6=0,$F$6=\"none\")),IF(T57=0,,IF(OR($E$6='Customer Info'!$D$18,$E$6=0),T57,(T57/$E$6)*'Customer Info'!$D$20)),)","v":0},{"$f":"IF((OR($F$7=0,$F$7=\"none\")),IF(U57=0,,IF(OR($E$7='Customer Info'!$D$18,$E$7=0),U57,(U57/$E$7)*'Customer Info'!$D$21)),)","v":0},{"$f":"IF((OR($F$10=0,$F$10=\"none\")),IF(V57=0,,IF(OR($E$10='Customer Info'!$F$18,$E$10=0),V57,(V57/$E$10)*'Customer Info'!$F$18)),)","v":0},{"$f":"IF((OR($F$11=0,$F$11=\"none\")),IF(W57=0,,IF(OR($E$11='Customer Info'!$F$19,$E$11=0),W57,(W57/$E$11)*'Customer Info'!$F$19)),)","v":0},{"$f":"IF((OR($F$12=0,$F$12=\"none\")),IF(X57=0,,IF(OR($E$12='Customer Info'!$F$20,$E$12=0),X57,(X57/$E$12)*'Customer Info'!$F$20)),)","v":0},{"$f":"IF((OR($F$13=0,$F$13=\"none\")),IF(Y57=0,,IF(OR($E$13='Customer Info'!$F$21,$E$13=0),Y57,(Y57/$E$13)*'Customer Info'!$F$21)),)","v":0},{"$f":"IF((OR($F$16=0,$F$16=\"none\")),IF(Z57=0,,IF(OR($E$16='Customer Info'!$H$18,$E$16=0),Z57,(Z57/$E$16)*'Customer Info'!$H$18)),)","v":0},{"$f":"IF((OR($F$17=0,$F$17=\"none\")),IF(AA57=0,,IF(OR($E$17='Customer Info'!$H$19,$E$17=0),AA57,(AA57/$E$17)*'Customer Info'!$H$19)),)","v":0},{"$f":"IF((OR($F$18=0,$F$18=\"none\")),IF(AB57=0,,IF(OR($E$18='Customer Info'!$H$20,$E$18=0),AB57,(AB57/$E$18)*'Customer Info'!$H$20)),)","v":0},{"$f":"IF((OR($F$19=0,$F$19=\"none\")),IF(AC57=0,,IF(OR($E$19='Customer Info'!$H$21,$E$19=0),AC57,(AC57/$E$19)*'Customer Info'!$H$21)),)","v":0},{"$f":"IF((OR($F$4=0,$F$4=\"none\")),IF(AD57=0,,IF(OR($E$4='Customer Info'!$D$18,$E$4=0),AD57,(AD57/$E$4)*'Customer Info'!$D$18)),)","v":0},{"$f":"IF((OR($F$5=0,$F$5=\"none\")),IF(AE57=0,,IF(OR($E$5='Customer Info'!$D$19,$E$5=0),AE57,(AE57/$E$5)*'Customer Info'!$D$19)),)","v":0},{"$f":"IF((OR($F$6=0,$F$6=\"none\")),IF(AF57=0,,IF(OR($E$6='Customer Info'!$D$20,$E$6=0),AF57,(AF57/$E$6)*'Customer Info'!$D$20)),)","v":0},{"$f":"IF((OR($F$7=0,$F$7=\"none\")),IF(AG57=0,,IF(OR($E$7='Customer Info'!$D$21,$E$7=0),AG57,(AG57/$E$7)*'Customer Info'!$D$21)),)","v":0},0,0,{"$f":"IF(E57=\"plate waste\",,IF('Customer Info'!$M$18=0,'Log Sheet'!AY57,'Customer Info'!$M$18*'Log Sheet'!AY57))","v":0},{"$f":"IF(E57=\"plate waste\",IF(OR(C57=\"patient\",C57=\"patient beverages\"),IF('Customer Info'!$M$27=0,AY57*'Customer Info'!$M$18,AY57*'Customer Info'!$M$27),IF(C57=\"cafeteria\",IF('Customer Info'!$M$28=0,AY57*'Customer Info'!$M$18,AY57*'Customer Info'!$M$28),IF(C57=\"other1\",IF('Customer Info'!$M$29=0,AY57*'Customer Info'!$M$18,AY57*'Customer Info'!$M$29),))),)","v":0},0,{"$f":"IF($F$4=\"lunch\",IF(S57=0,,(S57/$E$5)*'Customer Info'!$D$18),)","v":0},{"$f":"IF($F$4=\"dinner\",IF(T57=0,,(T57/$E$6)*'Customer Info'!$D$18),)","v":0},{"$f":"IF($F$4=\"other\",IF(U57=0,,(U57/$E$7)*'Customer Info'!$D$18),)","v":0},0,{"$f":"IF($F$5=\"breakfast\",IF(R57=0,,(R57/$E$4)*'Customer Info'!$D$19),)","v":0},{"$f":"IF($F$5=\"dinner\",IF(T57=0,,(T57/$E$6)*'Customer Info'!$D$19),)","v":0},{"$f":"IF($F$5=\"other\",IF(U57=0,,(U57/$E$7)*'Customer Info'!$D$19),)","v":0},0,{"$f":"IF($F$6=\"breakfast\",IF(R57=0,,(R57/$E$4)*'Customer Info'!$D$20),)","v":0},{"$f":"IF($F$6=\"lunch\",IF(S57=0,,(S57/$E$5)*'Customer Info'!$D$20),)","v":0},{"$f":"IF($F$6=\"other\",IF(U57=0,,(U57/$E$7)*'Customer Info'!$D$20),)","v":0},0,{"$f":"IF($F$7=\"breakfast\",IF(R57=0,,(R57/$E$4)*'Customer Info'!$D$21),)","v":0},{"$f":"IF($F$7=\"lunch\",IF(S57=0,,(S57/$E$5)*'Customer Info'!$D$21),)","v":0},{"$f":"IF($F$7=\"dinner\",IF(T57=0,,(T57/$E$6)*'Customer Info'!$D$21),)","v":0},0,{"$f":"IF($F$10=\"lunch\",IF(W57=0,,(W57/$E$11)*'Customer Info'!$F$18),)","v":0},{"$f":"IF($F$10=\"dinner\",IF(X57=0,,(X57/$E$12)*'Customer Info'!$F$18),)","v":0},{"$f":"IF($F$10=\"other\",IF(Y57=0,,(Y57/$E$13)*'Customer Info'!$F$18),)","v":0},0,{"$f":"IF($F$11=\"breakfast\",IF(V57=0,,(V57/$E$10)*'Customer Info'!$F$19),)","v":0},{"$f":"IF($F$11=\"dinner\",IF(X57=0,,(X57/$E$12)*'Customer Info'!$F$19),)","v":0},{"$f":"IF($F$11=\"other\",IF(Y57=0,,(Y57/$E$13)*'Customer Info'!$F$19),)","v":0},0,{"$f":"IF($F$12=\"breakfast\",IF(V57=0,,(V57/$E$10)*'Customer Info'!$F$20),)","v":0},{"$f":"IF($F$12=\"lunch\",IF(W57=0,,(W57/$E$11)*'Customer Info'!$F$20),)","v":0},{"$f":"IF($F$12=\"other\",IF(Y57=0,,(Y57/$E$13)*'Customer Info'!$F$20),)","v":0},0,{"$f":"IF($F$13=\"breakfast\",IF(V57=0,,(V57/$E$10)*'Customer Info'!$F$21),)","v":0},{"$f":"IF($F$13=\"lunch\",IF(W57=0,,(W57/$E$11)*'Customer Info'!$F$21),)","v":0},{"$f":"IF($F$13=\"dinner\",IF(X57=0,,(X57/$E$12)*'Customer Info'!$F$21),)","v":0},0,{"$f":"IF($F$16=\"lunch\",IF(AA57=0,,(AA57/$E$17)*'Customer Info'!$H$18),)","v":0},{"$f":"IF($F$16=\"dinner\",IF(AB57=0,,(AB57/$E$18)*'Customer Info'!$H$18),)","v":0},{"$f":"IF($F$16=\"other\",IF(AC57=0,,(AC57/$E$19)*'Customer Info'!$H$18),)","v":0},0,{"$f":"IF($F$17=\"breakfast\",IF(Z57=0,,(Z57/$E$16)*'Customer Info'!$H$19),)","v":0},{"$f":"IF($F$17=\"dinner\",IF(AB57=0,,(AB57/$E$18)*'Customer Info'!$H$19),)","v":0},{"$f":"IF($F$17=\"other\",IF(AC57=0,,(AC57/$E$19)*'Customer Info'!$H$19),)","v":0},0,{"$f":"IF($F$18=\"breakfast\",IF(Z57=0,,(Z57/$E$16)*'Customer Info'!$H$20),)","v":0},{"$f":"IF($F$18=\"lunch\",IF(AA57=0,,(AA57/$E$17)*'Customer Info'!$H$20),)","v":0},{"$f":"IF($F$18=\"other\",IF(AC57=0,,(AC57/$E$19)*'Customer Info'!$H$20),)","v":0},0,{"$f":"IF($F$19=\"breakfast\",IF(Z57=0,,(Z57/$E$16)*'Customer Info'!$H$21),)","v":0},{"$f":"IF($F$19=\"lunch\",IF(AA57=0,,(AA57/$E$17)*'Customer Info'!$H$21),)","v":0},{"$f":"IF($F$19=\"dinner\",IF(AB57=0,,(AB57/$E$18)*'Customer Info'!$H$21),)","v":0},0,0,0,0,0,""]
[null,null,null,null,null,null,null,null,null,null,0,0,0,0,0,0,0,0,0,0,0,0,0,0,0,0,0,0,0,0,0,0,0,{"$f":"IF((OR($F$4=0,$F$4=\"none\")),IF(R58=0,,IF(OR($E$4='Customer Info'!$D$18,$E$4=0),R58,(R58/$E$4)*'Customer Info'!$D$18)),)","v":0},{"$f":"IF((OR($F$5=0,$F$5=\"none\")),IF(S58=0,,IF(OR($E$5='Customer Info'!$D$18,$E$5=0),S58,(S58/$E$5)*'Customer Info'!$D$19)),)","v":0},{"$f":"IF((OR($F$6=0,$F$6=\"none\")),IF(T58=0,,IF(OR($E$6='Customer Info'!$D$18,$E$6=0),T58,(T58/$E$6)*'Customer Info'!$D$20)),)","v":0},{"$f":"IF((OR($F$7=0,$F$7=\"none\")),IF(U58=0,,IF(OR($E$7='Customer Info'!$D$18,$E$7=0),U58,(U58/$E$7)*'Customer Info'!$D$21)),)","v":0},{"$f":"IF((OR($F$10=0,$F$10=\"none\")),IF(V58=0,,IF(OR($E$10='Customer Info'!$F$18,$E$10=0),V58,(V58/$E$10)*'Customer Info'!$F$18)),)","v":0},{"$f":"IF((OR($F$11=0,$F$11=\"none\")),IF(W58=0,,IF(OR($E$11='Customer Info'!$F$19,$E$11=0),W58,(W58/$E$11)*'Customer Info'!$F$19)),)","v":0},{"$f":"IF((OR($F$12=0,$F$12=\"none\")),IF(X58=0,,IF(OR($E$12='Customer Info'!$F$20,$E$12=0),X58,(X58/$E$12)*'Customer Info'!$F$20)),)","v":0},{"$f":"IF((OR($F$13=0,$F$13=\"none\")),IF(Y58=0,,IF(OR($E$13='Customer Info'!$F$21,$E$13=0),Y58,(Y58/$E$13)*'Customer Info'!$F$21)),)","v":0},{"$f":"IF((OR($F$16=0,$F$16=\"none\")),IF(Z58=0,,IF(OR($E$16='Customer Info'!$H$18,$E$16=0),Z58,(Z58/$E$16)*'Customer Info'!$H$18)),)","v":0},{"$f":"IF((OR($F$17=0,$F$17=\"none\")),IF(AA58=0,,IF(OR($E$17='Customer Info'!$H$19,$E$17=0),AA58,(AA58/$E$17)*'Customer Info'!$H$19)),)","v":0},{"$f":"IF((OR($F$18=0,$F$18=\"none\")),IF(AB58=0,,IF(OR($E$18='Customer Info'!$H$20,$E$18=0),AB58,(AB58/$E$18)*'Customer Info'!$H$20)),)","v":0},{"$f":"IF((OR($F$19=0,$F$19=\"none\")),IF(AC58=0,,IF(OR($E$19='Customer Info'!$H$21,$E$19=0),AC58,(AC58/$E$19)*'Customer Info'!$H$21)),)","v":0},{"$f":"IF((OR($F$4=0,$F$4=\"none\")),IF(AD58=0,,IF(OR($E$4='Customer Info'!$D$18,$E$4=0),AD58,(AD58/$E$4)*'Customer Info'!$D$18)),)","v":0},{"$f":"IF((OR($F$5=0,$F$5=\"none\")),IF(AE58=0,,IF(OR($E$5='Customer Info'!$D$19,$E$5=0),AE58,(AE58/$E$5)*'Customer Info'!$D$19)),)","v":0},{"$f":"IF((OR($F$6=0,$F$6=\"none\")),IF(AF58=0,,IF(OR($E$6='Customer Info'!$D$20,$E$6=0),AF58,(AF58/$E$6)*'Customer Info'!$D$20)),)","v":0},{"$f":"IF((OR($F$7=0,$F$7=\"none\")),IF(AG58=0,,IF(OR($E$7='Customer Info'!$D$21,$E$7=0),AG58,(AG58/$E$7)*'Customer Info'!$D$21)),)","v":0},0,0,{"$f":"IF(E58=\"plate waste\",,IF('Customer Info'!$M$18=0,'Log Sheet'!AY58,'Customer Info'!$M$18*'Log Sheet'!AY58))","v":0},{"$f":"IF(E58=\"plate waste\",IF(OR(C58=\"patient\",C58=\"patient beverages\"),IF('Customer Info'!$M$27=0,AY58*'Customer Info'!$M$18,AY58*'Customer Info'!$M$27),IF(C58=\"cafeteria\",IF('Customer Info'!$M$28=0,AY58*'Customer Info'!$M$18,AY58*'Customer Info'!$M$28),IF(C58=\"other1\",IF('Customer Info'!$M$29=0,AY58*'Customer Info'!$M$18,AY58*'Customer Info'!$M$29),))),)","v":0},0,{"$f":"IF($F$4=\"lunch\",IF(S58=0,,(S58/$E$5)*'Customer Info'!$D$18),)","v":0},{"$f":"IF($F$4=\"dinner\",IF(T58=0,,(T58/$E$6)*'Customer Info'!$D$18),)","v":0},{"$f":"IF($F$4=\"other\",IF(U58=0,,(U58/$E$7)*'Customer Info'!$D$18),)","v":0},0,{"$f":"IF($F$5=\"breakfast\",IF(R58=0,,(R58/$E$4)*'Customer Info'!$D$19),)","v":0},{"$f":"IF($F$5=\"dinner\",IF(T58=0,,(T58/$E$6)*'Customer Info'!$D$19),)","v":0},{"$f":"IF($F$5=\"other\",IF(U58=0,,(U58/$E$7)*'Customer Info'!$D$19),)","v":0},0,{"$f":"IF($F$6=\"breakfast\",IF(R58=0,,(R58/$E$4)*'Customer Info'!$D$20),)","v":0},{"$f":"IF($F$6=\"lunch\",IF(S58=0,,(S58/$E$5)*'Customer Info'!$D$20),)","v":0},{"$f":"IF($F$6=\"other\",IF(U58=0,,(U58/$E$7)*'Customer Info'!$D$20),)","v":0},0,{"$f":"IF($F$7=\"breakfast\",IF(R58=0,,(R58/$E$4)*'Customer Info'!$D$21),)","v":0},{"$f":"IF($F$7=\"lunch\",IF(S58=0,,(S58/$E$5)*'Customer Info'!$D$21),)","v":0},{"$f":"IF($F$7=\"dinner\",IF(T58=0,,(T58/$E$6)*'Customer Info'!$D$21),)","v":0},0,{"$f":"IF($F$10=\"lunch\",IF(W58=0,,(W58/$E$11)*'Customer Info'!$F$18),)","v":0},{"$f":"IF($F$10=\"dinner\",IF(X58=0,,(X58/$E$12)*'Customer Info'!$F$18),)","v":0},{"$f":"IF($F$10=\"other\",IF(Y58=0,,(Y58/$E$13)*'Customer Info'!$F$18),)","v":0},0,{"$f":"IF($F$11=\"breakfast\",IF(V58=0,,(V58/$E$10)*'Customer Info'!$F$19),)","v":0},{"$f":"IF($F$11=\"dinner\",IF(X58=0,,(X58/$E$12)*'Customer Info'!$F$19),)","v":0},{"$f":"IF($F$11=\"other\",IF(Y58=0,,(Y58/$E$13)*'Customer Info'!$F$19),)","v":0},0,{"$f":"IF($F$12=\"breakfast\",IF(V58=0,,(V58/$E$10)*'Customer Info'!$F$20),)","v":0},{"$f":"IF($F$12=\"lunch\",IF(W58=0,,(W58/$E$11)*'Customer Info'!$F$20),)","v":0},{"$f":"IF($F$12=\"other\",IF(Y58=0,,(Y58/$E$13)*'Customer Info'!$F$20),)","v":0},0,{"$f":"IF($F$13=\"breakfast\",IF(V58=0,,(V58/$E$10)*'Customer Info'!$F$21),)","v":0},{"$f":"IF($F$13=\"lunch\",IF(W58=0,,(W58/$E$11)*'Customer Info'!$F$21),)","v":0},{"$f":"IF($F$13=\"dinner\",IF(X58=0,,(X58/$E$12)*'Customer Info'!$F$21),)","v":0},0,{"$f":"IF($F$16=\"lunch\",IF(AA58=0,,(AA58/$E$17)*'Customer Info'!$H$18),)","v":0},{"$f":"IF($F$16=\"dinner\",IF(AB58=0,,(AB58/$E$18)*'Customer Info'!$H$18),)","v":0},{"$f":"IF($F$16=\"other\",IF(AC58=0,,(AC58/$E$19)*'Customer Info'!$H$18),)","v":0},0,{"$f":"IF($F$17=\"breakfast\",IF(Z58=0,,(Z58/$E$16)*'Customer Info'!$H$19),)","v":0},{"$f":"IF($F$17=\"dinner\",IF(AB58=0,,(AB58/$E$18)*'Customer Info'!$H$19),)","v":0},{"$f":"IF($F$17=\"other\",IF(AC58=0,,(AC58/$E$19)*'Customer Info'!$H$19),)","v":0},0,{"$f":"IF($F$18=\"breakfast\",IF(Z58=0,,(Z58/$E$16)*'Customer Info'!$H$20),)","v":0},{"$f":"IF($F$18=\"lunch\",IF(AA58=0,,(AA58/$E$17)*'Customer Info'!$H$20),)","v":0},{"$f":"IF($F$18=\"other\",IF(AC58=0,,(AC58/$E$19)*'Customer Info'!$H$20),)","v":0},0,{"$f":"IF($F$19=\"breakfast\",IF(Z58=0,,(Z58/$E$16)*'Customer Info'!$H$21),)","v":0},{"$f":"IF($F$19=\"lunch\",IF(AA58=0,,(AA58/$E$17)*'Customer Info'!$H$21),)","v":0},{"$f":"IF($F$19=\"dinner\",IF(AB58=0,,(AB58/$E$18)*'Customer Info'!$H$21),)","v":0},0,0,0,0,0,""]
[null,null,null,null,null,null,null,null,null,null,0,0,0,0,0,0,0,0,0,0,0,0,0,0,0,0,0,0,0,0,0,0,0,{"$f":"IF((OR($F$4=0,$F$4=\"none\")),IF(R59=0,,IF(OR($E$4='Customer Info'!$D$18,$E$4=0),R59,(R59/$E$4)*'Customer Info'!$D$18)),)","v":0},{"$f":"IF((OR($F$5=0,$F$5=\"none\")),IF(S59=0,,IF(OR($E$5='Customer Info'!$D$18,$E$5=0),S59,(S59/$E$5)*'Customer Info'!$D$19)),)","v":0},{"$f":"IF((OR($F$6=0,$F$6=\"none\")),IF(T59=0,,IF(OR($E$6='Customer Info'!$D$18,$E$6=0),T59,(T59/$E$6)*'Customer Info'!$D$20)),)","v":0},{"$f":"IF((OR($F$7=0,$F$7=\"none\")),IF(U59=0,,IF(OR($E$7='Customer Info'!$D$18,$E$7=0),U59,(U59/$E$7)*'Customer Info'!$D$21)),)","v":0},{"$f":"IF((OR($F$10=0,$F$10=\"none\")),IF(V59=0,,IF(OR($E$10='Customer Info'!$F$18,$E$10=0),V59,(V59/$E$10)*'Customer Info'!$F$18)),)","v":0},{"$f":"IF((OR($F$11=0,$F$11=\"none\")),IF(W59=0,,IF(OR($E$11='Customer Info'!$F$19,$E$11=0),W59,(W59/$E$11)*'Customer Info'!$F$19)),)","v":0},{"$f":"IF((OR($F$12=0,$F$12=\"none\")),IF(X59=0,,IF(OR($E$12='Customer Info'!$F$20,$E$12=0),X59,(X59/$E$12)*'Customer Info'!$F$20)),)","v":0},{"$f":"IF((OR($F$13=0,$F$13=\"none\")),IF(Y59=0,,IF(OR($E$13='Customer Info'!$F$21,$E$13=0),Y59,(Y59/$E$13)*'Customer Info'!$F$21)),)","v":0},{"$f":"IF((OR($F$16=0,$F$16=\"none\")),IF(Z59=0,,IF(OR($E$16='Customer Info'!$H$18,$E$16=0),Z59,(Z59/$E$16)*'Customer Info'!$H$18)),)","v":0},{"$f":"IF((OR($F$17=0,$F$17=\"none\")),IF(AA59=0,,IF(OR($E$17='Customer Info'!$H$19,$E$17=0),AA59,(AA59/$E$17)*'Customer Info'!$H$19)),)","v":0},{"$f":"IF((OR($F$18=0,$F$18=\"none\")),IF(AB59=0,,IF(OR($E$18='Customer Info'!$H$20,$E$18=0),AB59,(AB59/$E$18)*'Customer Info'!$H$20)),)","v":0},{"$f":"IF((OR($F$19=0,$F$19=\"none\")),IF(AC59=0,,IF(OR($E$19='Customer Info'!$H$21,$E$19=0),AC59,(AC59/$E$19)*'Customer Info'!$H$21)),)","v":0},{"$f":"IF((OR($F$4=0,$F$4=\"none\")),IF(AD59=0,,IF(OR($E$4='Customer Info'!$D$18,$E$4=0),AD59,(AD59/$E$4)*'Customer Info'!$D$18)),)","v":0},{"$f":"IF((OR($F$5=0,$F$5=\"none\")),IF(AE59=0,,IF(OR($E$5='Customer Info'!$D$19,$E$5=0),AE59,(AE59/$E$5)*'Customer Info'!$D$19)),)","v":0},{"$f":"IF((OR($F$6=0,$F$6=\"none\")),IF(AF59=0,,IF(OR($E$6='Customer Info'!$D$20,$E$6=0),AF59,(AF59/$E$6)*'Customer Info'!$D$20)),)","v":0},{"$f":"IF((OR($F$7=0,$F$7=\"none\")),IF(AG59=0,,IF(OR($E$7='Customer Info'!$D$21,$E$7=0),AG59,(AG59/$E$7)*'Customer Info'!$D$21)),)","v":0},0,0,{"$f":"IF(E59=\"plate waste\",,IF('Customer Info'!$M$18=0,'Log Sheet'!AY59,'Customer Info'!$M$18*'Log Sheet'!AY59))","v":0},{"$f":"IF(E59=\"plate waste\",IF(OR(C59=\"patient\",C59=\"patient beverages\"),IF('Customer Info'!$M$27=0,AY59*'Customer Info'!$M$18,AY59*'Customer Info'!$M$27),IF(C59=\"cafeteria\",IF('Customer Info'!$M$28=0,AY59*'Customer Info'!$M$18,AY59*'Customer Info'!$M$28),IF(C59=\"other1\",IF('Customer Info'!$M$29=0,AY59*'Customer Info'!$M$18,AY59*'Customer Info'!$M$29),))),)","v":0},0,{"$f":"IF($F$4=\"lunch\",IF(S59=0,,(S59/$E$5)*'Customer Info'!$D$18),)","v":0},{"$f":"IF($F$4=\"dinner\",IF(T59=0,,(T59/$E$6)*'Customer Info'!$D$18),)","v":0},{"$f":"IF($F$4=\"other\",IF(U59=0,,(U59/$E$7)*'Customer Info'!$D$18),)","v":0},0,{"$f":"IF($F$5=\"breakfast\",IF(R59=0,,(R59/$E$4)*'Customer Info'!$D$19),)","v":0},{"$f":"IF($F$5=\"dinner\",IF(T59=0,,(T59/$E$6)*'Customer Info'!$D$19),)","v":0},{"$f":"IF($F$5=\"other\",IF(U59=0,,(U59/$E$7)*'Customer Info'!$D$19),)","v":0},0,{"$f":"IF($F$6=\"breakfast\",IF(R59=0,,(R59/$E$4)*'Customer Info'!$D$20),)","v":0},{"$f":"IF($F$6=\"lunch\",IF(S59=0,,(S59/$E$5)*'Customer Info'!$D$20),)","v":0},{"$f":"IF($F$6=\"other\",IF(U59=0,,(U59/$E$7)*'Customer Info'!$D$20),)","v":0},0,{"$f":"IF($F$7=\"breakfast\",IF(R59=0,,(R59/$E$4)*'Customer Info'!$D$21),)","v":0},{"$f":"IF($F$7=\"lunch\",IF(S59=0,,(S59/$E$5)*'Customer Info'!$D$21),)","v":0},{"$f":"IF($F$7=\"dinner\",IF(T59=0,,(T59/$E$6)*'Customer Info'!$D$21),)","v":0},0,{"$f":"IF($F$10=\"lunch\",IF(W59=0,,(W59/$E$11)*'Customer Info'!$F$18),)","v":0},{"$f":"IF($F$10=\"dinner\",IF(X59=0,,(X59/$E$12)*'Customer Info'!$F$18),)","v":0},{"$f":"IF($F$10=\"other\",IF(Y59=0,,(Y59/$E$13)*'Customer Info'!$F$18),)","v":0},0,{"$f":"IF($F$11=\"breakfast\",IF(V59=0,,(V59/$E$10)*'Customer Info'!$F$19),)","v":0},{"$f":"IF($F$11=\"dinner\",IF(X59=0,,(X59/$E$12)*'Customer Info'!$F$19),)","v":0},{"$f":"IF($F$11=\"other\",IF(Y59=0,,(Y59/$E$13)*'Customer Info'!$F$19),)","v":0},0,{"$f":"IF($F$12=\"breakfast\",IF(V59=0,,(V59/$E$10)*'Customer Info'!$F$20),)","v":0},{"$f":"IF($F$12=\"lunch\",IF(W59=0,,(W59/$E$11)*'Customer Info'!$F$20),)","v":0},{"$f":"IF($F$12=\"other\",IF(Y59=0,,(Y59/$E$13)*'Customer Info'!$F$20),)","v":0},0,{"$f":"IF($F$13=\"breakfast\",IF(V59=0,,(V59/$E$10)*'Customer Info'!$F$21),)","v":0},{"$f":"IF($F$13=\"lunch\",IF(W59=0,,(W59/$E$11)*'Customer Info'!$F$21),)","v":0},{"$f":"IF($F$13=\"dinner\",IF(X59=0,,(X59/$E$12)*'Customer Info'!$F$21),)","v":0},0,{"$f":"IF($F$16=\"lunch\",IF(AA59=0,,(AA59/$E$17)*'Customer Info'!$H$18),)","v":0},{"$f":"IF($F$16=\"dinner\",IF(AB59=0,,(AB59/$E$18)*'Customer Info'!$H$18),)","v":0},{"$f":"IF($F$16=\"other\",IF(AC59=0,,(AC59/$E$19)*'Customer Info'!$H$18),)","v":0},0,{"$f":"IF($F$17=\"breakfast\",IF(Z59=0,,(Z59/$E$16)*'Customer Info'!$H$19),)","v":0},{"$f":"IF($F$17=\"dinner\",IF(AB59=0,,(AB59/$E$18)*'Customer Info'!$H$19),)","v":0},{"$f":"IF($F$17=\"other\",IF(AC59=0,,(AC59/$E$19)*'Customer Info'!$H$19),)","v":0},0,{"$f":"IF($F$18=\"breakfast\",IF(Z59=0,,(Z59/$E$16)*'Customer Info'!$H$20),)","v":0},{"$f":"IF($F$18=\"lunch\",IF(AA59=0,,(AA59/$E$17)*'Customer Info'!$H$20),)","v":0},{"$f":"IF($F$18=\"other\",IF(AC59=0,,(AC59/$E$19)*'Customer Info'!$H$20),)","v":0},0,{"$f":"IF($F$19=\"breakfast\",IF(Z59=0,,(Z59/$E$16)*'Customer Info'!$H$21),)","v":0},{"$f":"IF($F$19=\"lunch\",IF(AA59=0,,(AA59/$E$17)*'Customer Info'!$H$21),)","v":0},{"$f":"IF($F$19=\"dinner\",IF(AB59=0,,(AB59/$E$18)*'Customer Info'!$H$21),)","v":0},0,0,0,0,0,""]
[null,null,null,null,null,null,null,null,null,null,0,0,0,0,0,0,0,0,0,0,0,0,0,0,0,0,0,0,0,0,0,0,0,{"$f":"IF((OR($F$4=0,$F$4=\"none\")),IF(R60=0,,IF(OR($E$4='Customer Info'!$D$18,$E$4=0),R60,(R60/$E$4)*'Customer Info'!$D$18)),)","v":0},{"$f":"IF((OR($F$5=0,$F$5=\"none\")),IF(S60=0,,IF(OR($E$5='Customer Info'!$D$18,$E$5=0),S60,(S60/$E$5)*'Customer Info'!$D$19)),)","v":0},{"$f":"IF((OR($F$6=0,$F$6=\"none\")),IF(T60=0,,IF(OR($E$6='Customer Info'!$D$18,$E$6=0),T60,(T60/$E$6)*'Customer Info'!$D$20)),)","v":0},{"$f":"IF((OR($F$7=0,$F$7=\"none\")),IF(U60=0,,IF(OR($E$7='Customer Info'!$D$18,$E$7=0),U60,(U60/$E$7)*'Customer Info'!$D$21)),)","v":0},{"$f":"IF((OR($F$10=0,$F$10=\"none\")),IF(V60=0,,IF(OR($E$10='Customer Info'!$F$18,$E$10=0),V60,(V60/$E$10)*'Customer Info'!$F$18)),)","v":0},{"$f":"IF((OR($F$11=0,$F$11=\"none\")),IF(W60=0,,IF(OR($E$11='Customer Info'!$F$19,$E$11=0),W60,(W60/$E$11)*'Customer Info'!$F$19)),)","v":0},{"$f":"IF((OR($F$12=0,$F$12=\"none\")),IF(X60=0,,IF(OR($E$12='Customer Info'!$F$20,$E$12=0),X60,(X60/$E$12)*'Customer Info'!$F$20)),)","v":0},{"$f":"IF((OR($F$13=0,$F$13=\"none\")),IF(Y60=0,,IF(OR($E$13='Customer Info'!$F$21,$E$13=0),Y60,(Y60/$E$13)*'Customer Info'!$F$21)),)","v":0},{"$f":"IF((OR($F$16=0,$F$16=\"none\")),IF(Z60=0,,IF(OR($E$16='Customer Info'!$H$18,$E$16=0),Z60,(Z60/$E$16)*'Customer Info'!$H$18)),)","v":0},{"$f":"IF((OR($F$17=0,$F$17=\"none\")),IF(AA60=0,,IF(OR($E$17='Customer Info'!$H$19,$E$17=0),AA60,(AA60/$E$17)*'Customer Info'!$H$19)),)","v":0},{"$f":"IF((OR($F$18=0,$F$18=\"none\")),IF(AB60=0,,IF(OR($E$18='Customer Info'!$H$20,$E$18=0),AB60,(AB60/$E$18)*'Customer Info'!$H$20)),)","v":0},{"$f":"IF((OR($F$19=0,$F$19=\"none\")),IF(AC60=0,,IF(OR($E$19='Customer Info'!$H$21,$E$19=0),AC60,(AC60/$E$19)*'Customer Info'!$H$21)),)","v":0},{"$f":"IF((OR($F$4=0,$F$4=\"none\")),IF(AD60=0,,IF(OR($E$4='Customer Info'!$D$18,$E$4=0),AD60,(AD60/$E$4)*'Customer Info'!$D$18)),)","v":0},{"$f":"IF((OR($F$5=0,$F$5=\"none\")),IF(AE60=0,,IF(OR($E$5='Customer Info'!$D$19,$E$5=0),AE60,(AE60/$E$5)*'Customer Info'!$D$19)),)","v":0},{"$f":"IF((OR($F$6=0,$F$6=\"none\")),IF(AF60=0,,IF(OR($E$6='Customer Info'!$D$20,$E$6=0),AF60,(AF60/$E$6)*'Customer Info'!$D$20)),)","v":0},{"$f":"IF((OR($F$7=0,$F$7=\"none\")),IF(AG60=0,,IF(OR($E$7='Customer Info'!$D$21,$E$7=0),AG60,(AG60/$E$7)*'Customer Info'!$D$21)),)","v":0},0,0,{"$f":"IF(E60=\"plate waste\",,IF('Customer Info'!$M$18=0,'Log Sheet'!AY60,'Customer Info'!$M$18*'Log Sheet'!AY60))","v":0},{"$f":"IF(E60=\"plate waste\",IF(OR(C60=\"patient\",C60=\"patient beverages\"),IF('Customer Info'!$M$27=0,AY60*'Customer Info'!$M$18,AY60*'Customer Info'!$M$27),IF(C60=\"cafeteria\",IF('Customer Info'!$M$28=0,AY60*'Customer Info'!$M$18,AY60*'Customer Info'!$M$28),IF(C60=\"other1\",IF('Customer Info'!$M$29=0,AY60*'Customer Info'!$M$18,AY60*'Customer Info'!$M$29),))),)","v":0},0,{"$f":"IF($F$4=\"lunch\",IF(S60=0,,(S60/$E$5)*'Customer Info'!$D$18),)","v":0},{"$f":"IF($F$4=\"dinner\",IF(T60=0,,(T60/$E$6)*'Customer Info'!$D$18),)","v":0},{"$f":"IF($F$4=\"other\",IF(U60=0,,(U60/$E$7)*'Customer Info'!$D$18),)","v":0},0,{"$f":"IF($F$5=\"breakfast\",IF(R60=0,,(R60/$E$4)*'Customer Info'!$D$19),)","v":0},{"$f":"IF($F$5=\"dinner\",IF(T60=0,,(T60/$E$6)*'Customer Info'!$D$19),)","v":0},{"$f":"IF($F$5=\"other\",IF(U60=0,,(U60/$E$7)*'Customer Info'!$D$19),)","v":0},0,{"$f":"IF($F$6=\"breakfast\",IF(R60=0,,(R60/$E$4)*'Customer Info'!$D$20),)","v":0},{"$f":"IF($F$6=\"lunch\",IF(S60=0,,(S60/$E$5)*'Customer Info'!$D$20),)","v":0},{"$f":"IF($F$6=\"other\",IF(U60=0,,(U60/$E$7)*'Customer Info'!$D$20),)","v":0},0,{"$f":"IF($F$7=\"breakfast\",IF(R60=0,,(R60/$E$4)*'Customer Info'!$D$21),)","v":0},{"$f":"IF($F$7=\"lunch\",IF(S60=0,,(S60/$E$5)*'Customer Info'!$D$21),)","v":0},{"$f":"IF($F$7=\"dinner\",IF(T60=0,,(T60/$E$6)*'Customer Info'!$D$21),)","v":0},0,{"$f":"IF($F$10=\"lunch\",IF(W60=0,,(W60/$E$11)*'Customer Info'!$F$18),)","v":0},{"$f":"IF($F$10=\"dinner\",IF(X60=0,,(X60/$E$12)*'Customer Info'!$F$18),)","v":0},{"$f":"IF($F$10=\"other\",IF(Y60=0,,(Y60/$E$13)*'Customer Info'!$F$18),)","v":0},0,{"$f":"IF($F$11=\"breakfast\",IF(V60=0,,(V60/$E$10)*'Customer Info'!$F$19),)","v":0},{"$f":"IF($F$11=\"dinner\",IF(X60=0,,(X60/$E$12)*'Customer Info'!$F$19),)","v":0},{"$f":"IF($F$11=\"other\",IF(Y60=0,,(Y60/$E$13)*'Customer Info'!$F$19),)","v":0},0,{"$f":"IF($F$12=\"breakfast\",IF(V60=0,,(V60/$E$10)*'Customer Info'!$F$20),)","v":0},{"$f":"IF($F$12=\"lunch\",IF(W60=0,,(W60/$E$11)*'Customer Info'!$F$20),)","v":0},{"$f":"IF($F$12=\"other\",IF(Y60=0,,(Y60/$E$13)*'Customer Info'!$F$20),)","v":0},0,{"$f":"IF($F$13=\"breakfast\",IF(V60=0,,(V60/$E$10)*'Customer Info'!$F$21),)","v":0},{"$f":"IF($F$13=\"lunch\",IF(W60=0,,(W60/$E$11)*'Customer Info'!$F$21),)","v":0},{"$f":"IF($F$13=\"dinner\",IF(X60=0,,(X60/$E$12)*'Customer Info'!$F$21),)","v":0},0,{"$f":"IF($F$16=\"lunch\",IF(AA60=0,,(AA60/$E$17)*'Customer Info'!$H$18),)","v":0},{"$f":"IF($F$16=\"dinner\",IF(AB60=0,,(AB60/$E$18)*'Customer Info'!$H$18),)","v":0},{"$f":"IF($F$16=\"other\",IF(AC60=0,,(AC60/$E$19)*'Customer Info'!$H$18),)","v":0},0,{"$f":"IF($F$17=\"breakfast\",IF(Z60=0,,(Z60/$E$16)*'Customer Info'!$H$19),)","v":0},{"$f":"IF($F$17=\"dinner\",IF(AB60=0,,(AB60/$E$18)*'Customer Info'!$H$19),)","v":0},{"$f":"IF($F$17=\"other\",IF(AC60=0,,(AC60/$E$19)*'Customer Info'!$H$19),)","v":0},0,{"$f":"IF($F$18=\"breakfast\",IF(Z60=0,,(Z60/$E$16)*'Customer Info'!$H$20),)","v":0},{"$f":"IF($F$18=\"lunch\",IF(AA60=0,,(AA60/$E$17)*'Customer Info'!$H$20),)","v":0},{"$f":"IF($F$18=\"other\",IF(AC60=0,,(AC60/$E$19)*'Customer Info'!$H$20),)","v":0},0,{"$f":"IF($F$19=\"breakfast\",IF(Z60=0,,(Z60/$E$16)*'Customer Info'!$H$21),)","v":0},{"$f":"IF($F$19=\"lunch\",IF(AA60=0,,(AA60/$E$17)*'Customer Info'!$H$21),)","v":0},{"$f":"IF($F$19=\"dinner\",IF(AB60=0,,(AB60/$E$18)*'Customer Info'!$H$21),)","v":0},0,0,0,0,0,""]
[null,null,null,null,null,null,null,null,null,null,0,0,0,0,0,0,0,0,0,0,0,0,0,0,0,0,0,0,0,0,0,0,0,{"$f":"IF((OR($F$4=0,$F$4=\"none\")),IF(R61=0,,IF(OR($E$4='Customer Info'!$D$18,$E$4=0),R61,(R61/$E$4)*'Customer Info'!$D$18)),)","v":0},{"$f":"IF((OR($F$5=0,$F$5=\"none\")),IF(S61=0,,IF(OR($E$5='Customer Info'!$D$18,$E$5=0),S61,(S61/$E$5)*'Customer Info'!$D$19)),)","v":0},{"$f":"IF((OR($F$6=0,$F$6=\"none\")),IF(T61=0,,IF(OR($E$6='Customer Info'!$D$18,$E$6=0),T61,(T61/$E$6)*'Customer Info'!$D$20)),)","v":0},{"$f":"IF((OR($F$7=0,$F$7=\"none\")),IF(U61=0,,IF(OR($E$7='Customer Info'!$D$18,$E$7=0),U61,(U61/$E$7)*'Customer Info'!$D$21)),)","v":0},{"$f":"IF((OR($F$10=0,$F$10=\"none\")),IF(V61=0,,IF(OR($E$10='Customer Info'!$F$18,$E$10=0),V61,(V61/$E$10)*'Customer Info'!$F$18)),)","v":0},{"$f":"IF((OR($F$11=0,$F$11=\"none\")),IF(W61=0,,IF(OR($E$11='Customer Info'!$F$19,$E$11=0),W61,(W61/$E$11)*'Customer Info'!$F$19)),)","v":0},{"$f":"IF((OR($F$12=0,$F$12=\"none\")),IF(X61=0,,IF(OR($E$12='Customer Info'!$F$20,$E$12=0),X61,(X61/$E$12)*'Customer Info'!$F$20)),)","v":0},{"$f":"IF((OR($F$13=0,$F$13=\"none\")),IF(Y61=0,,IF(OR($E$13='Customer Info'!$F$21,$E$13=0),Y61,(Y61/$E$13)*'Customer Info'!$F$21)),)","v":0},{"$f":"IF((OR($F$16=0,$F$16=\"none\")),IF(Z61=0,,IF(OR($E$16='Customer Info'!$H$18,$E$16=0),Z61,(Z61/$E$16)*'Customer Info'!$H$18)),)","v":0},{"$f":"IF((OR($F$17=0,$F$17=\"none\")),IF(AA61=0,,IF(OR($E$17='Customer Info'!$H$19,$E$17=0),AA61,(AA61/$E$17)*'Customer Info'!$H$19)),)","v":0},{"$f":"IF((OR($F$18=0,$F$18=\"none\")),IF(AB61=0,,IF(OR($E$18='Customer Info'!$H$20,$E$18=0),AB61,(AB61/$E$18)*'Customer Info'!$H$20)),)","v":0},{"$f":"IF((OR($F$19=0,$F$19=\"none\")),IF(AC61=0,,IF(OR($E$19='Customer Info'!$H$21,$E$19=0),AC61,(AC61/$E$19)*'Customer Info'!$H$21)),)","v":0},{"$f":"IF((OR($F$4=0,$F$4=\"none\")),IF(AD61=0,,IF(OR($E$4='Customer Info'!$D$18,$E$4=0),AD61,(AD61/$E$4)*'Customer Info'!$D$18)),)","v":0},{"$f":"IF((OR($F$5=0,$F$5=\"none\")),IF(AE61=0,,IF(OR($E$5='Customer Info'!$D$19,$E$5=0),AE61,(AE61/$E$5)*'Customer Info'!$D$19)),)","v":0},{"$f":"IF((OR($F$6=0,$F$6=\"none\")),IF(AF61=0,,IF(OR($E$6='Customer Info'!$D$20,$E$6=0),AF61,(AF61/$E$6)*'Customer Info'!$D$20)),)","v":0},{"$f":"IF((OR($F$7=0,$F$7=\"none\")),IF(AG61=0,,IF(OR($E$7='Customer Info'!$D$21,$E$7=0),AG61,(AG61/$E$7)*'Customer Info'!$D$21)),)","v":0},0,0,{"$f":"IF(E61=\"plate waste\",,IF('Customer Info'!$M$18=0,'Log Sheet'!AY61,'Customer Info'!$M$18*'Log Sheet'!AY61))","v":0},{"$f":"IF(E61=\"plate waste\",IF(OR(C61=\"patient\",C61=\"patient beverages\"),IF('Customer Info'!$M$27=0,AY61*'Customer Info'!$M$18,AY61*'Customer Info'!$M$27),IF(C61=\"cafeteria\",IF('Customer Info'!$M$28=0,AY61*'Customer Info'!$M$18,AY61*'Customer Info'!$M$28),IF(C61=\"other1\",IF('Customer Info'!$M$29=0,AY61*'Customer Info'!$M$18,AY61*'Customer Info'!$M$29),))),)","v":0},0,{"$f":"IF($F$4=\"lunch\",IF(S61=0,,(S61/$E$5)*'Customer Info'!$D$18),)","v":0},{"$f":"IF($F$4=\"dinner\",IF(T61=0,,(T61/$E$6)*'Customer Info'!$D$18),)","v":0},{"$f":"IF($F$4=\"other\",IF(U61=0,,(U61/$E$7)*'Customer Info'!$D$18),)","v":0},0,{"$f":"IF($F$5=\"breakfast\",IF(R61=0,,(R61/$E$4)*'Customer Info'!$D$19),)","v":0},{"$f":"IF($F$5=\"dinner\",IF(T61=0,,(T61/$E$6)*'Customer Info'!$D$19),)","v":0},{"$f":"IF($F$5=\"other\",IF(U61=0,,(U61/$E$7)*'Customer Info'!$D$19),)","v":0},0,{"$f":"IF($F$6=\"breakfast\",IF(R61=0,,(R61/$E$4)*'Customer Info'!$D$20),)","v":0},{"$f":"IF($F$6=\"lunch\",IF(S61=0,,(S61/$E$5)*'Customer Info'!$D$20),)","v":0},{"$f":"IF($F$6=\"other\",IF(U61=0,,(U61/$E$7)*'Customer Info'!$D$20),)","v":0},0,{"$f":"IF($F$7=\"breakfast\",IF(R61=0,,(R61/$E$4)*'Customer Info'!$D$21),)","v":0},{"$f":"IF($F$7=\"lunch\",IF(S61=0,,(S61/$E$5)*'Customer Info'!$D$21),)","v":0},{"$f":"IF($F$7=\"dinner\",IF(T61=0,,(T61/$E$6)*'Customer Info'!$D$21),)","v":0},0,{"$f":"IF($F$10=\"lunch\",IF(W61=0,,(W61/$E$11)*'Customer Info'!$F$18),)","v":0},{"$f":"IF($F$10=\"dinner\",IF(X61=0,,(X61/$E$12)*'Customer Info'!$F$18),)","v":0},{"$f":"IF($F$10=\"other\",IF(Y61=0,,(Y61/$E$13)*'Customer Info'!$F$18),)","v":0},0,{"$f":"IF($F$11=\"breakfast\",IF(V61=0,,(V61/$E$10)*'Customer Info'!$F$19),)","v":0},{"$f":"IF($F$11=\"dinner\",IF(X61=0,,(X61/$E$12)*'Customer Info'!$F$19),)","v":0},{"$f":"IF($F$11=\"other\",IF(Y61=0,,(Y61/$E$13)*'Customer Info'!$F$19),)","v":0},0,{"$f":"IF($F$12=\"breakfast\",IF(V61=0,,(V61/$E$10)*'Customer Info'!$F$20),)","v":0},{"$f":"IF($F$12=\"lunch\",IF(W61=0,,(W61/$E$11)*'Customer Info'!$F$20),)","v":0},{"$f":"IF($F$12=\"other\",IF(Y61=0,,(Y61/$E$13)*'Customer Info'!$F$20),)","v":0},0,{"$f":"IF($F$13=\"breakfast\",IF(V61=0,,(V61/$E$10)*'Customer Info'!$F$21),)","v":0},{"$f":"IF($F$13=\"lunch\",IF(W61=0,,(W61/$E$11)*'Customer Info'!$F$21),)","v":0},{"$f":"IF($F$13=\"dinner\",IF(X61=0,,(X61/$E$12)*'Customer Info'!$F$21),)","v":0},0,{"$f":"IF($F$16=\"lunch\",IF(AA61=0,,(AA61/$E$17)*'Customer Info'!$H$18),)","v":0},{"$f":"IF($F$16=\"dinner\",IF(AB61=0,,(AB61/$E$18)*'Customer Info'!$H$18),)","v":0},{"$f":"IF($F$16=\"other\",IF(AC61=0,,(AC61/$E$19)*'Customer Info'!$H$18),)","v":0},0,{"$f":"IF($F$17=\"breakfast\",IF(Z61=0,,(Z61/$E$16)*'Customer Info'!$H$19),)","v":0},{"$f":"IF($F$17=\"dinner\",IF(AB61=0,,(AB61/$E$18)*'Customer Info'!$H$19),)","v":0},{"$f":"IF($F$17=\"other\",IF(AC61=0,,(AC61/$E$19)*'Customer Info'!$H$19),)","v":0},0,{"$f":"IF($F$18=\"breakfast\",IF(Z61=0,,(Z61/$E$16)*'Customer Info'!$H$20),)","v":0},{"$f":"IF($F$18=\"lunch\",IF(AA61=0,,(AA61/$E$17)*'Customer Info'!$H$20),)","v":0},{"$f":"IF($F$18=\"other\",IF(AC61=0,,(AC61/$E$19)*'Customer Info'!$H$20),)","v":0},0,{"$f":"IF($F$19=\"breakfast\",IF(Z61=0,,(Z61/$E$16)*'Customer Info'!$H$21),)","v":0},{"$f":"IF($F$19=\"lunch\",IF(AA61=0,,(AA61/$E$17)*'Customer Info'!$H$21),)","v":0},{"$f":"IF($F$19=\"dinner\",IF(AB61=0,,(AB61/$E$18)*'Customer Info'!$H$21),)","v":0},0,0,0,0,0,""]
[null,null,null,null,null,null,null,null,null,null,0,0,0,0,0,0,0,0,0,0,0,0,0,0,0,0,0,0,0,0,0,0,0,{"$f":"IF((OR($F$4=0,$F$4=\"none\")),IF(R62=0,,IF(OR($E$4='Customer Info'!$D$18,$E$4=0),R62,(R62/$E$4)*'Customer Info'!$D$18)),)","v":0},{"$f":"IF((OR($F$5=0,$F$5=\"none\")),IF(S62=0,,IF(OR($E$5='Customer Info'!$D$18,$E$5=0),S62,(S62/$E$5)*'Customer Info'!$D$19)),)","v":0},{"$f":"IF((OR($F$6=0,$F$6=\"none\")),IF(T62=0,,IF(OR($E$6='Customer Info'!$D$18,$E$6=0),T62,(T62/$E$6)*'Customer Info'!$D$20)),)","v":0},{"$f":"IF((OR($F$7=0,$F$7=\"none\")),IF(U62=0,,IF(OR($E$7='Customer Info'!$D$18,$E$7=0),U62,(U62/$E$7)*'Customer Info'!$D$21)),)","v":0},{"$f":"IF((OR($F$10=0,$F$10=\"none\")),IF(V62=0,,IF(OR($E$10='Customer Info'!$F$18,$E$10=0),V62,(V62/$E$10)*'Customer Info'!$F$18)),)","v":0},{"$f":"IF((OR($F$11=0,$F$11=\"none\")),IF(W62=0,,IF(OR($E$11='Customer Info'!$F$19,$E$11=0),W62,(W62/$E$11)*'Customer Info'!$F$19)),)","v":0},{"$f":"IF((OR($F$12=0,$F$12=\"none\")),IF(X62=0,,IF(OR($E$12='Customer Info'!$F$20,$E$12=0),X62,(X62/$E$12)*'Customer Info'!$F$20)),)","v":0},{"$f":"IF((OR($F$13=0,$F$13=\"none\")),IF(Y62=0,,IF(OR($E$13='Customer Info'!$F$21,$E$13=0),Y62,(Y62/$E$13)*'Customer Info'!$F$21)),)","v":0},{"$f":"IF((OR($F$16=0,$F$16=\"none\")),IF(Z62=0,,IF(OR($E$16='Customer Info'!$H$18,$E$16=0),Z62,(Z62/$E$16)*'Customer Info'!$H$18)),)","v":0},{"$f":"IF((OR($F$17=0,$F$17=\"none\")),IF(AA62=0,,IF(OR($E$17='Customer Info'!$H$19,$E$17=0),AA62,(AA62/$E$17)*'Customer Info'!$H$19)),)","v":0},{"$f":"IF((OR($F$18=0,$F$18=\"none\")),IF(AB62=0,,IF(OR($E$18='Customer Info'!$H$20,$E$18=0),AB62,(AB62/$E$18)*'Customer Info'!$H$20)),)","v":0},{"$f":"IF((OR($F$19=0,$F$19=\"none\")),IF(AC62=0,,IF(OR($E$19='Customer Info'!$H$21,$E$19=0),AC62,(AC62/$E$19)*'Customer Info'!$H$21)),)","v":0},{"$f":"IF((OR($F$4=0,$F$4=\"none\")),IF(AD62=0,,IF(OR($E$4='Customer Info'!$D$18,$E$4=0),AD62,(AD62/$E$4)*'Customer Info'!$D$18)),)","v":0},{"$f":"IF((OR($F$5=0,$F$5=\"none\")),IF(AE62=0,,IF(OR($E$5='Customer Info'!$D$19,$E$5=0),AE62,(AE62/$E$5)*'Customer Info'!$D$19)),)","v":0},{"$f":"IF((OR($F$6=0,$F$6=\"none\")),IF(AF62=0,,IF(OR($E$6='Customer Info'!$D$20,$E$6=0),AF62,(AF62/$E$6)*'Customer Info'!$D$20)),)","v":0},{"$f":"IF((OR($F$7=0,$F$7=\"none\")),IF(AG62=0,,IF(OR($E$7='Customer Info'!$D$21,$E$7=0),AG62,(AG62/$E$7)*'Customer Info'!$D$21)),)","v":0},0,0,{"$f":"IF(E62=\"plate waste\",,IF('Customer Info'!$M$18=0,'Log Sheet'!AY62,'Customer Info'!$M$18*'Log Sheet'!AY62))","v":0},{"$f":"IF(E62=\"plate waste\",IF(OR(C62=\"patient\",C62=\"patient beverages\"),IF('Customer Info'!$M$27=0,AY62*'Customer Info'!$M$18,AY62*'Customer Info'!$M$27),IF(C62=\"cafeteria\",IF('Customer Info'!$M$28=0,AY62*'Customer Info'!$M$18,AY62*'Customer Info'!$M$28),IF(C62=\"other1\",IF('Customer Info'!$M$29=0,AY62*'Customer Info'!$M$18,AY62*'Customer Info'!$M$29),))),)","v":0},0,{"$f":"IF($F$4=\"lunch\",IF(S62=0,,(S62/$E$5)*'Customer Info'!$D$18),)","v":0},{"$f":"IF($F$4=\"dinner\",IF(T62=0,,(T62/$E$6)*'Customer Info'!$D$18),)","v":0},{"$f":"IF($F$4=\"other\",IF(U62=0,,(U62/$E$7)*'Customer Info'!$D$18),)","v":0},0,{"$f":"IF($F$5=\"breakfast\",IF(R62=0,,(R62/$E$4)*'Customer Info'!$D$19),)","v":0},{"$f":"IF($F$5=\"dinner\",IF(T62=0,,(T62/$E$6)*'Customer Info'!$D$19),)","v":0},{"$f":"IF($F$5=\"other\",IF(U62=0,,(U62/$E$7)*'Customer Info'!$D$19),)","v":0},0,{"$f":"IF($F$6=\"breakfast\",IF(R62=0,,(R62/$E$4)*'Customer Info'!$D$20),)","v":0},{"$f":"IF($F$6=\"lunch\",IF(S62=0,,(S62/$E$5)*'Customer Info'!$D$20),)","v":0},{"$f":"IF($F$6=\"other\",IF(U62=0,,(U62/$E$7)*'Customer Info'!$D$20),)","v":0},0,{"$f":"IF($F$7=\"breakfast\",IF(R62=0,,(R62/$E$4)*'Customer Info'!$D$21),)","v":0},{"$f":"IF($F$7=\"lunch\",IF(S62=0,,(S62/$E$5)*'Customer Info'!$D$21),)","v":0},{"$f":"IF($F$7=\"dinner\",IF(T62=0,,(T62/$E$6)*'Customer Info'!$D$21),)","v":0},0,{"$f":"IF($F$10=\"lunch\",IF(W62=0,,(W62/$E$11)*'Customer Info'!$F$18),)","v":0},{"$f":"IF($F$10=\"dinner\",IF(X62=0,,(X62/$E$12)*'Customer Info'!$F$18),)","v":0},{"$f":"IF($F$10=\"other\",IF(Y62=0,,(Y62/$E$13)*'Customer Info'!$F$18),)","v":0},0,{"$f":"IF($F$11=\"breakfast\",IF(V62=0,,(V62/$E$10)*'Customer Info'!$F$19),)","v":0},{"$f":"IF($F$11=\"dinner\",IF(X62=0,,(X62/$E$12)*'Customer Info'!$F$19),)","v":0},{"$f":"IF($F$11=\"other\",IF(Y62=0,,(Y62/$E$13)*'Customer Info'!$F$19),)","v":0},0,{"$f":"IF($F$12=\"breakfast\",IF(V62=0,,(V62/$E$10)*'Customer Info'!$F$20),)","v":0},{"$f":"IF($F$12=\"lunch\",IF(W62=0,,(W62/$E$11)*'Customer Info'!$F$20),)","v":0},{"$f":"IF($F$12=\"other\",IF(Y62=0,,(Y62/$E$13)*'Customer Info'!$F$20),)","v":0},0,{"$f":"IF($F$13=\"breakfast\",IF(V62=0,,(V62/$E$10)*'Customer Info'!$F$21),)","v":0},{"$f":"IF($F$13=\"lunch\",IF(W62=0,,(W62/$E$11)*'Customer Info'!$F$21),)","v":0},{"$f":"IF($F$13=\"dinner\",IF(X62=0,,(X62/$E$12)*'Customer Info'!$F$21),)","v":0},0,{"$f":"IF($F$16=\"lunch\",IF(AA62=0,,(AA62/$E$17)*'Customer Info'!$H$18),)","v":0},{"$f":"IF($F$16=\"dinner\",IF(AB62=0,,(AB62/$E$18)*'Customer Info'!$H$18),)","v":0},{"$f":"IF($F$16=\"other\",IF(AC62=0,,(AC62/$E$19)*'Customer Info'!$H$18),)","v":0},0,{"$f":"IF($F$17=\"breakfast\",IF(Z62=0,,(Z62/$E$16)*'Customer Info'!$H$19),)","v":0},{"$f":"IF($F$17=\"dinner\",IF(AB62=0,,(AB62/$E$18)*'Customer Info'!$H$19),)","v":0},{"$f":"IF($F$17=\"other\",IF(AC62=0,,(AC62/$E$19)*'Customer Info'!$H$19),)","v":0},0,{"$f":"IF($F$18=\"breakfast\",IF(Z62=0,,(Z62/$E$16)*'Customer Info'!$H$20),)","v":0},{"$f":"IF($F$18=\"lunch\",IF(AA62=0,,(AA62/$E$17)*'Customer Info'!$H$20),)","v":0},{"$f":"IF($F$18=\"other\",IF(AC62=0,,(AC62/$E$19)*'Customer Info'!$H$20),)","v":0},0,{"$f":"IF($F$19=\"breakfast\",IF(Z62=0,,(Z62/$E$16)*'Customer Info'!$H$21),)","v":0},{"$f":"IF($F$19=\"lunch\",IF(AA62=0,,(AA62/$E$17)*'Customer Info'!$H$21),)","v":0},{"$f":"IF($F$19=\"dinner\",IF(AB62=0,,(AB62/$E$18)*'Customer Info'!$H$21),)","v":0},0,0,0,0,0,""]
[null,null,null,null,null,null,null,null,null,null,0,0,0,0,0,0,0,0,0,0,0,0,0,0,0,0,0,0,0,0,0,0,0,{"$f":"IF((OR($F$4=0,$F$4=\"none\")),IF(R63=0,,IF(OR($E$4='Customer Info'!$D$18,$E$4=0),R63,(R63/$E$4)*'Customer Info'!$D$18)),)","v":0},{"$f":"IF((OR($F$5=0,$F$5=\"none\")),IF(S63=0,,IF(OR($E$5='Customer Info'!$D$18,$E$5=0),S63,(S63/$E$5)*'Customer Info'!$D$19)),)","v":0},{"$f":"IF((OR($F$6=0,$F$6=\"none\")),IF(T63=0,,IF(OR($E$6='Customer Info'!$D$18,$E$6=0),T63,(T63/$E$6)*'Customer Info'!$D$20)),)","v":0},{"$f":"IF((OR($F$7=0,$F$7=\"none\")),IF(U63=0,,IF(OR($E$7='Customer Info'!$D$18,$E$7=0),U63,(U63/$E$7)*'Customer Info'!$D$21)),)","v":0},{"$f":"IF((OR($F$10=0,$F$10=\"none\")),IF(V63=0,,IF(OR($E$10='Customer Info'!$F$18,$E$10=0),V63,(V63/$E$10)*'Customer Info'!$F$18)),)","v":0},{"$f":"IF((OR($F$11=0,$F$11=\"none\")),IF(W63=0,,IF(OR($E$11='Customer Info'!$F$19,$E$11=0),W63,(W63/$E$11)*'Customer Info'!$F$19)),)","v":0},{"$f":"IF((OR($F$12=0,$F$12=\"none\")),IF(X63=0,,IF(OR($E$12='Customer Info'!$F$20,$E$12=0),X63,(X63/$E$12)*'Customer Info'!$F$20)),)","v":0},{"$f":"IF((OR($F$13=0,$F$13=\"none\")),IF(Y63=0,,IF(OR($E$13='Customer Info'!$F$21,$E$13=0),Y63,(Y63/$E$13)*'Customer Info'!$F$21)),)","v":0},{"$f":"IF((OR($F$16=0,$F$16=\"none\")),IF(Z63=0,,IF(OR($E$16='Customer Info'!$H$18,$E$16=0),Z63,(Z63/$E$16)*'Customer Info'!$H$18)),)","v":0},{"$f":"IF((OR($F$17=0,$F$17=\"none\")),IF(AA63=0,,IF(OR($E$17='Customer Info'!$H$19,$E$17=0),AA63,(AA63/$E$17)*'Customer Info'!$H$19)),)","v":0},{"$f":"IF((OR($F$18=0,$F$18=\"none\")),IF(AB63=0,,IF(OR($E$18='Customer Info'!$H$20,$E$18=0),AB63,(AB63/$E$18)*'Customer Info'!$H$20)),)","v":0},{"$f":"IF((OR($F$19=0,$F$19=\"none\")),IF(AC63=0,,IF(OR($E$19='Customer Info'!$H$21,$E$19=0),AC63,(AC63/$E$19)*'Customer Info'!$H$21)),)","v":0},{"$f":"IF((OR($F$4=0,$F$4=\"none\")),IF(AD63=0,,IF(OR($E$4='Customer Info'!$D$18,$E$4=0),AD63,(AD63/$E$4)*'Customer Info'!$D$18)),)","v":0},{"$f":"IF((OR($F$5=0,$F$5=\"none\")),IF(AE63=0,,IF(OR($E$5='Customer Info'!$D$19,$E$5=0),AE63,(AE63/$E$5)*'Customer Info'!$D$19)),)","v":0},{"$f":"IF((OR($F$6=0,$F$6=\"none\")),IF(AF63=0,,IF(OR($E$6='Customer Info'!$D$20,$E$6=0),AF63,(AF63/$E$6)*'Customer Info'!$D$20)),)","v":0},{"$f":"IF((OR($F$7=0,$F$7=\"none\")),IF(AG63=0,,IF(OR($E$7='Customer Info'!$D$21,$E$7=0),AG63,(AG63/$E$7)*'Customer Info'!$D$21)),)","v":0},0,0,{"$f":"IF(E63=\"plate waste\",,IF('Customer Info'!$M$18=0,'Log Sheet'!AY63,'Customer Info'!$M$18*'Log Sheet'!AY63))","v":0},{"$f":"IF(E63=\"plate waste\",IF(OR(C63=\"patient\",C63=\"patient beverages\"),IF('Customer Info'!$M$27=0,AY63*'Customer Info'!$M$18,AY63*'Customer Info'!$M$27),IF(C63=\"cafeteria\",IF('Customer Info'!$M$28=0,AY63*'Customer Info'!$M$18,AY63*'Customer Info'!$M$28),IF(C63=\"other1\",IF('Customer Info'!$M$29=0,AY63*'Customer Info'!$M$18,AY63*'Customer Info'!$M$29),))),)","v":0},0,{"$f":"IF($F$4=\"lunch\",IF(S63=0,,(S63/$E$5)*'Customer Info'!$D$18),)","v":0},{"$f":"IF($F$4=\"dinner\",IF(T63=0,,(T63/$E$6)*'Customer Info'!$D$18),)","v":0},{"$f":"IF($F$4=\"other\",IF(U63=0,,(U63/$E$7)*'Customer Info'!$D$18),)","v":0},0,{"$f":"IF($F$5=\"breakfast\",IF(R63=0,,(R63/$E$4)*'Customer Info'!$D$19),)","v":0},{"$f":"IF($F$5=\"dinner\",IF(T63=0,,(T63/$E$6)*'Customer Info'!$D$19),)","v":0},{"$f":"IF($F$5=\"other\",IF(U63=0,,(U63/$E$7)*'Customer Info'!$D$19),)","v":0},0,{"$f":"IF($F$6=\"breakfast\",IF(R63=0,,(R63/$E$4)*'Customer Info'!$D$20),)","v":0},{"$f":"IF($F$6=\"lunch\",IF(S63=0,,(S63/$E$5)*'Customer Info'!$D$20),)","v":0},{"$f":"IF($F$6=\"other\",IF(U63=0,,(U63/$E$7)*'Customer Info'!$D$20),)","v":0},0,{"$f":"IF($F$7=\"breakfast\",IF(R63=0,,(R63/$E$4)*'Customer Info'!$D$21),)","v":0},{"$f":"IF($F$7=\"lunch\",IF(S63=0,,(S63/$E$5)*'Customer Info'!$D$21),)","v":0},{"$f":"IF($F$7=\"dinner\",IF(T63=0,,(T63/$E$6)*'Customer Info'!$D$21),)","v":0},0,{"$f":"IF($F$10=\"lunch\",IF(W63=0,,(W63/$E$11)*'Customer Info'!$F$18),)","v":0},{"$f":"IF($F$10=\"dinner\",IF(X63=0,,(X63/$E$12)*'Customer Info'!$F$18),)","v":0},{"$f":"IF($F$10=\"other\",IF(Y63=0,,(Y63/$E$13)*'Customer Info'!$F$18),)","v":0},0,{"$f":"IF($F$11=\"breakfast\",IF(V63=0,,(V63/$E$10)*'Customer Info'!$F$19),)","v":0},{"$f":"IF($F$11=\"dinner\",IF(X63=0,,(X63/$E$12)*'Customer Info'!$F$19),)","v":0},{"$f":"IF($F$11=\"other\",IF(Y63=0,,(Y63/$E$13)*'Customer Info'!$F$19),)","v":0},0,{"$f":"IF($F$12=\"breakfast\",IF(V63=0,,(V63/$E$10)*'Customer Info'!$F$20),)","v":0},{"$f":"IF($F$12=\"lunch\",IF(W63=0,,(W63/$E$11)*'Customer Info'!$F$20),)","v":0},{"$f":"IF($F$12=\"other\",IF(Y63=0,,(Y63/$E$13)*'Customer Info'!$F$20),)","v":0},0,{"$f":"IF($F$13=\"breakfast\",IF(V63=0,,(V63/$E$10)*'Customer Info'!$F$21),)","v":0},{"$f":"IF($F$13=\"lunch\",IF(W63=0,,(W63/$E$11)*'Customer Info'!$F$21),)","v":0},{"$f":"IF($F$13=\"dinner\",IF(X63=0,,(X63/$E$12)*'Customer Info'!$F$21),)","v":0},0,{"$f":"IF($F$16=\"lunch\",IF(AA63=0,,(AA63/$E$17)*'Customer Info'!$H$18),)","v":0},{"$f":"IF($F$16=\"dinner\",IF(AB63=0,,(AB63/$E$18)*'Customer Info'!$H$18),)","v":0},{"$f":"IF($F$16=\"other\",IF(AC63=0,,(AC63/$E$19)*'Customer Info'!$H$18),)","v":0},0,{"$f":"IF($F$17=\"breakfast\",IF(Z63=0,,(Z63/$E$16)*'Customer Info'!$H$19),)","v":0},{"$f":"IF($F$17=\"dinner\",IF(AB63=0,,(AB63/$E$18)*'Customer Info'!$H$19),)","v":0},{"$f":"IF($F$17=\"other\",IF(AC63=0,,(AC63/$E$19)*'Customer Info'!$H$19),)","v":0},0,{"$f":"IF($F$18=\"breakfast\",IF(Z63=0,,(Z63/$E$16)*'Customer Info'!$H$20),)","v":0},{"$f":"IF($F$18=\"lunch\",IF(AA63=0,,(AA63/$E$17)*'Customer Info'!$H$20),)","v":0},{"$f":"IF($F$18=\"other\",IF(AC63=0,,(AC63/$E$19)*'Customer Info'!$H$20),)","v":0},0,{"$f":"IF($F$19=\"breakfast\",IF(Z63=0,,(Z63/$E$16)*'Customer Info'!$H$21),)","v":0},{"$f":"IF($F$19=\"lunch\",IF(AA63=0,,(AA63/$E$17)*'Customer Info'!$H$21),)","v":0},{"$f":"IF($F$19=\"dinner\",IF(AB63=0,,(AB63/$E$18)*'Customer Info'!$H$21),)","v":0},0,0,0,0,0,""]
[null,null,null,null,null,null,null,null,null,null,0,0,0,0,0,0,0,0,0,0,0,0,0,0,0,0,0,0,0,0,0,0,0,{"$f":"IF((OR($F$4=0,$F$4=\"none\")),IF(R64=0,,IF(OR($E$4='Customer Info'!$D$18,$E$4=0),R64,(R64/$E$4)*'Customer Info'!$D$18)),)","v":0},{"$f":"IF((OR($F$5=0,$F$5=\"none\")),IF(S64=0,,IF(OR($E$5='Customer Info'!$D$18,$E$5=0),S64,(S64/$E$5)*'Customer Info'!$D$19)),)","v":0},{"$f":"IF((OR($F$6=0,$F$6=\"none\")),IF(T64=0,,IF(OR($E$6='Customer Info'!$D$18,$E$6=0),T64,(T64/$E$6)*'Customer Info'!$D$20)),)","v":0},{"$f":"IF((OR($F$7=0,$F$7=\"none\")),IF(U64=0,,IF(OR($E$7='Customer Info'!$D$18,$E$7=0),U64,(U64/$E$7)*'Customer Info'!$D$21)),)","v":0},{"$f":"IF((OR($F$10=0,$F$10=\"none\")),IF(V64=0,,IF(OR($E$10='Customer Info'!$F$18,$E$10=0),V64,(V64/$E$10)*'Customer Info'!$F$18)),)","v":0},{"$f":"IF((OR($F$11=0,$F$11=\"none\")),IF(W64=0,,IF(OR($E$11='Customer Info'!$F$19,$E$11=0),W64,(W64/$E$11)*'Customer Info'!$F$19)),)","v":0},{"$f":"IF((OR($F$12=0,$F$12=\"none\")),IF(X64=0,,IF(OR($E$12='Customer Info'!$F$20,$E$12=0),X64,(X64/$E$12)*'Customer Info'!$F$20)),)","v":0},{"$f":"IF((OR($F$13=0,$F$13=\"none\")),IF(Y64=0,,IF(OR($E$13='Customer Info'!$F$21,$E$13=0),Y64,(Y64/$E$13)*'Customer Info'!$F$21)),)","v":0},{"$f":"IF((OR($F$16=0,$F$16=\"none\")),IF(Z64=0,,IF(OR($E$16='Customer Info'!$H$18,$E$16=0),Z64,(Z64/$E$16)*'Customer Info'!$H$18)),)","v":0},{"$f":"IF((OR($F$17=0,$F$17=\"none\")),IF(AA64=0,,IF(OR($E$17='Customer Info'!$H$19,$E$17=0),AA64,(AA64/$E$17)*'Customer Info'!$H$19)),)","v":0},{"$f":"IF((OR($F$18=0,$F$18=\"none\")),IF(AB64=0,,IF(OR($E$18='Customer Info'!$H$20,$E$18=0),AB64,(AB64/$E$18)*'Customer Info'!$H$20)),)","v":0},{"$f":"IF((OR($F$19=0,$F$19=\"none\")),IF(AC64=0,,IF(OR($E$19='Customer Info'!$H$21,$E$19=0),AC64,(AC64/$E$19)*'Customer Info'!$H$21)),)","v":0},{"$f":"IF((OR($F$4=0,$F$4=\"none\")),IF(AD64=0,,IF(OR($E$4='Customer Info'!$D$18,$E$4=0),AD64,(AD64/$E$4)*'Customer Info'!$D$18)),)","v":0},{"$f":"IF((OR($F$5=0,$F$5=\"none\")),IF(AE64=0,,IF(OR($E$5='Customer Info'!$D$19,$E$5=0),AE64,(AE64/$E$5)*'Customer Info'!$D$19)),)","v":0},{"$f":"IF((OR($F$6=0,$F$6=\"none\")),IF(AF64=0,,IF(OR($E$6='Customer Info'!$D$20,$E$6=0),AF64,(AF64/$E$6)*'Customer Info'!$D$20)),)","v":0},{"$f":"IF((OR($F$7=0,$F$7=\"none\")),IF(AG64=0,,IF(OR($E$7='Customer Info'!$D$21,$E$7=0),AG64,(AG64/$E$7)*'Customer Info'!$D$21)),)","v":0},0,0,{"$f":"IF(E64=\"plate waste\",,IF('Customer Info'!$M$18=0,'Log Sheet'!AY64,'Customer Info'!$M$18*'Log Sheet'!AY64))","v":0},{"$f":"IF(E64=\"plate waste\",IF(OR(C64=\"patient\",C64=\"patient beverages\"),IF('Customer Info'!$M$27=0,AY64*'Customer Info'!$M$18,AY64*'Customer Info'!$M$27),IF(C64=\"cafeteria\",IF('Customer Info'!$M$28=0,AY64*'Customer Info'!$M$18,AY64*'Customer Info'!$M$28),IF(C64=\"other1\",IF('Customer Info'!$M$29=0,AY64*'Customer Info'!$M$18,AY64*'Customer Info'!$M$29),))),)","v":0},0,{"$f":"IF($F$4=\"lunch\",IF(S64=0,,(S64/$E$5)*'Customer Info'!$D$18),)","v":0},{"$f":"IF($F$4=\"dinner\",IF(T64=0,,(T64/$E$6)*'Customer Info'!$D$18),)","v":0},{"$f":"IF($F$4=\"other\",IF(U64=0,,(U64/$E$7)*'Customer Info'!$D$18),)","v":0},0,{"$f":"IF($F$5=\"breakfast\",IF(R64=0,,(R64/$E$4)*'Customer Info'!$D$19),)","v":0},{"$f":"IF($F$5=\"dinner\",IF(T64=0,,(T64/$E$6)*'Customer Info'!$D$19),)","v":0},{"$f":"IF($F$5=\"other\",IF(U64=0,,(U64/$E$7)*'Customer Info'!$D$19),)","v":0},0,{"$f":"IF($F$6=\"breakfast\",IF(R64=0,,(R64/$E$4)*'Customer Info'!$D$20),)","v":0},{"$f":"IF($F$6=\"lunch\",IF(S64=0,,(S64/$E$5)*'Customer Info'!$D$20),)","v":0},{"$f":"IF($F$6=\"other\",IF(U64=0,,(U64/$E$7)*'Customer Info'!$D$20),)","v":0},0,{"$f":"IF($F$7=\"breakfast\",IF(R64=0,,(R64/$E$4)*'Customer Info'!$D$21),)","v":0},{"$f":"IF($F$7=\"lunch\",IF(S64=0,,(S64/$E$5)*'Customer Info'!$D$21),)","v":0},{"$f":"IF($F$7=\"dinner\",IF(T64=0,,(T64/$E$6)*'Customer Info'!$D$21),)","v":0},0,{"$f":"IF($F$10=\"lunch\",IF(W64=0,,(W64/$E$11)*'Customer Info'!$F$18),)","v":0},{"$f":"IF($F$10=\"dinner\",IF(X64=0,,(X64/$E$12)*'Customer Info'!$F$18),)","v":0},{"$f":"IF($F$10=\"other\",IF(Y64=0,,(Y64/$E$13)*'Customer Info'!$F$18),)","v":0},0,{"$f":"IF($F$11=\"breakfast\",IF(V64=0,,(V64/$E$10)*'Customer Info'!$F$19),)","v":0},{"$f":"IF($F$11=\"dinner\",IF(X64=0,,(X64/$E$12)*'Customer Info'!$F$19),)","v":0},{"$f":"IF($F$11=\"other\",IF(Y64=0,,(Y64/$E$13)*'Customer Info'!$F$19),)","v":0},0,{"$f":"IF($F$12=\"breakfast\",IF(V64=0,,(V64/$E$10)*'Customer Info'!$F$20),)","v":0},{"$f":"IF($F$12=\"lunch\",IF(W64=0,,(W64/$E$11)*'Customer Info'!$F$20),)","v":0},{"$f":"IF($F$12=\"other\",IF(Y64=0,,(Y64/$E$13)*'Customer Info'!$F$20),)","v":0},0,{"$f":"IF($F$13=\"breakfast\",IF(V64=0,,(V64/$E$10)*'Customer Info'!$F$21),)","v":0},{"$f":"IF($F$13=\"lunch\",IF(W64=0,,(W64/$E$11)*'Customer Info'!$F$21),)","v":0},{"$f":"IF($F$13=\"dinner\",IF(X64=0,,(X64/$E$12)*'Customer Info'!$F$21),)","v":0},0,{"$f":"IF($F$16=\"lunch\",IF(AA64=0,,(AA64/$E$17)*'Customer Info'!$H$18),)","v":0},{"$f":"IF($F$16=\"dinner\",IF(AB64=0,,(AB64/$E$18)*'Customer Info'!$H$18),)","v":0},{"$f":"IF($F$16=\"other\",IF(AC64=0,,(AC64/$E$19)*'Customer Info'!$H$18),)","v":0},0,{"$f":"IF($F$17=\"breakfast\",IF(Z64=0,,(Z64/$E$16)*'Customer Info'!$H$19),)","v":0},{"$f":"IF($F$17=\"dinner\",IF(AB64=0,,(AB64/$E$18)*'Customer Info'!$H$19),)","v":0},{"$f":"IF($F$17=\"other\",IF(AC64=0,,(AC64/$E$19)*'Customer Info'!$H$19),)","v":0},0,{"$f":"IF($F$18=\"breakfast\",IF(Z64=0,,(Z64/$E$16)*'Customer Info'!$H$20),)","v":0},{"$f":"IF($F$18=\"lunch\",IF(AA64=0,,(AA64/$E$17)*'Customer Info'!$H$20),)","v":0},{"$f":"IF($F$18=\"other\",IF(AC64=0,,(AC64/$E$19)*'Customer Info'!$H$20),)","v":0},0,{"$f":"IF($F$19=\"breakfast\",IF(Z64=0,,(Z64/$E$16)*'Customer Info'!$H$21),)","v":0},{"$f":"IF($F$19=\"lunch\",IF(AA64=0,,(AA64/$E$17)*'Customer Info'!$H$21),)","v":0},{"$f":"IF($F$19=\"dinner\",IF(AB64=0,,(AB64/$E$18)*'Customer Info'!$H$21),)","v":0},0,0,0,0,0,""]
[null,null,null,null,null,null,null,null,null,null,0,0,0,0,0,0,0,0,0,0,0,0,0,0,0,0,0,0,0,0,0,0,0,{"$f":"IF((OR($F$4=0,$F$4=\"none\")),IF(R65=0,,IF(OR($E$4='Customer Info'!$D$18,$E$4=0),R65,(R65/$E$4)*'Customer Info'!$D$18)),)","v":0},{"$f":"IF((OR($F$5=0,$F$5=\"none\")),IF(S65=0,,IF(OR($E$5='Customer Info'!$D$18,$E$5=0),S65,(S65/$E$5)*'Customer Info'!$D$19)),)","v":0},{"$f":"IF((OR($F$6=0,$F$6=\"none\")),IF(T65=0,,IF(OR($E$6='Customer Info'!$D$18,$E$6=0),T65,(T65/$E$6)*'Customer Info'!$D$20)),)","v":0},{"$f":"IF((OR($F$7=0,$F$7=\"none\")),IF(U65=0,,IF(OR($E$7='Customer Info'!$D$18,$E$7=0),U65,(U65/$E$7)*'Customer Info'!$D$21)),)","v":0},{"$f":"IF((OR($F$10=0,$F$10=\"none\")),IF(V65=0,,IF(OR($E$10='Customer Info'!$F$18,$E$10=0),V65,(V65/$E$10)*'Customer Info'!$F$18)),)","v":0},{"$f":"IF((OR($F$11=0,$F$11=\"none\")),IF(W65=0,,IF(OR($E$11='Customer Info'!$F$19,$E$11=0),W65,(W65/$E$11)*'Customer Info'!$F$19)),)","v":0},{"$f":"IF((OR($F$12=0,$F$12=\"none\")),IF(X65=0,,IF(OR($E$12='Customer Info'!$F$20,$E$12=0),X65,(X65/$E$12)*'Customer Info'!$F$20)),)","v":0},{"$f":"IF((OR($F$13=0,$F$13=\"none\")),IF(Y65=0,,IF(OR($E$13='Customer Info'!$F$21,$E$13=0),Y65,(Y65/$E$13)*'Customer Info'!$F$21)),)","v":0},{"$f":"IF((OR($F$16=0,$F$16=\"none\")),IF(Z65=0,,IF(OR($E$16='Customer Info'!$H$18,$E$16=0),Z65,(Z65/$E$16)*'Customer Info'!$H$18)),)","v":0},{"$f":"IF((OR($F$17=0,$F$17=\"none\")),IF(AA65=0,,IF(OR($E$17='Customer Info'!$H$19,$E$17=0),AA65,(AA65/$E$17)*'Customer Info'!$H$19)),)","v":0},{"$f":"IF((OR($F$18=0,$F$18=\"none\")),IF(AB65=0,,IF(OR($E$18='Customer Info'!$H$20,$E$18=0),AB65,(AB65/$E$18)*'Customer Info'!$H$20)),)","v":0},{"$f":"IF((OR($F$19=0,$F$19=\"none\")),IF(AC65=0,,IF(OR($E$19='Customer Info'!$H$21,$E$19=0),AC65,(AC65/$E$19)*'Customer Info'!$H$21)),)","v":0},{"$f":"IF((OR($F$4=0,$F$4=\"none\")),IF(AD65=0,,IF(OR($E$4='Customer Info'!$D$18,$E$4=0),AD65,(AD65/$E$4)*'Customer Info'!$D$18)),)","v":0},{"$f":"IF((OR($F$5=0,$F$5=\"none\")),IF(AE65=0,,IF(OR($E$5='Customer Info'!$D$19,$E$5=0),AE65,(AE65/$E$5)*'Customer Info'!$D$19)),)","v":0},{"$f":"IF((OR($F$6=0,$F$6=\"none\")),IF(AF65=0,,IF(OR($E$6='Customer Info'!$D$20,$E$6=0),AF65,(AF65/$E$6)*'Customer Info'!$D$20)),)","v":0},{"$f":"IF((OR($F$7=0,$F$7=\"none\")),IF(AG65=0,,IF(OR($E$7='Customer Info'!$D$21,$E$7=0),AG65,(AG65/$E$7)*'Customer Info'!$D$21)),)","v":0},0,0,{"$f":"IF(E65=\"plate waste\",,IF('Customer Info'!$M$18=0,'Log Sheet'!AY65,'Customer Info'!$M$18*'Log Sheet'!AY65))","v":0},{"$f":"IF(E65=\"plate waste\",IF(OR(C65=\"patient\",C65=\"patient beverages\"),IF('Customer Info'!$M$27=0,AY65*'Customer Info'!$M$18,AY65*'Customer Info'!$M$27),IF(C65=\"cafeteria\",IF('Customer Info'!$M$28=0,AY65*'Customer Info'!$M$18,AY65*'Customer Info'!$M$28),IF(C65=\"other1\",IF('Customer Info'!$M$29=0,AY65*'Customer Info'!$M$18,AY65*'Customer Info'!$M$29),))),)","v":0},0,{"$f":"IF($F$4=\"lunch\",IF(S65=0,,(S65/$E$5)*'Customer Info'!$D$18),)","v":0},{"$f":"IF($F$4=\"dinner\",IF(T65=0,,(T65/$E$6)*'Customer Info'!$D$18),)","v":0},{"$f":"IF($F$4=\"other\",IF(U65=0,,(U65/$E$7)*'Customer Info'!$D$18),)","v":0},0,{"$f":"IF($F$5=\"breakfast\",IF(R65=0,,(R65/$E$4)*'Customer Info'!$D$19),)","v":0},{"$f":"IF($F$5=\"dinner\",IF(T65=0,,(T65/$E$6)*'Customer Info'!$D$19),)","v":0},{"$f":"IF($F$5=\"other\",IF(U65=0,,(U65/$E$7)*'Customer Info'!$D$19),)","v":0},0,{"$f":"IF($F$6=\"breakfast\",IF(R65=0,,(R65/$E$4)*'Customer Info'!$D$20),)","v":0},{"$f":"IF($F$6=\"lunch\",IF(S65=0,,(S65/$E$5)*'Customer Info'!$D$20),)","v":0},{"$f":"IF($F$6=\"other\",IF(U65=0,,(U65/$E$7)*'Customer Info'!$D$20),)","v":0},0,{"$f":"IF($F$7=\"breakfast\",IF(R65=0,,(R65/$E$4)*'Customer Info'!$D$21),)","v":0},{"$f":"IF($F$7=\"lunch\",IF(S65=0,,(S65/$E$5)*'Customer Info'!$D$21),)","v":0},{"$f":"IF($F$7=\"dinner\",IF(T65=0,,(T65/$E$6)*'Customer Info'!$D$21),)","v":0},0,{"$f":"IF($F$10=\"lunch\",IF(W65=0,,(W65/$E$11)*'Customer Info'!$F$18),)","v":0},{"$f":"IF($F$10=\"dinner\",IF(X65=0,,(X65/$E$12)*'Customer Info'!$F$18),)","v":0},{"$f":"IF($F$10=\"other\",IF(Y65=0,,(Y65/$E$13)*'Customer Info'!$F$18),)","v":0},0,{"$f":"IF($F$11=\"breakfast\",IF(V65=0,,(V65/$E$10)*'Customer Info'!$F$19),)","v":0},{"$f":"IF($F$11=\"dinner\",IF(X65=0,,(X65/$E$12)*'Customer Info'!$F$19),)","v":0},{"$f":"IF($F$11=\"other\",IF(Y65=0,,(Y65/$E$13)*'Customer Info'!$F$19),)","v":0},0,{"$f":"IF($F$12=\"breakfast\",IF(V65=0,,(V65/$E$10)*'Customer Info'!$F$20),)","v":0},{"$f":"IF($F$12=\"lunch\",IF(W65=0,,(W65/$E$11)*'Customer Info'!$F$20),)","v":0},{"$f":"IF($F$12=\"other\",IF(Y65=0,,(Y65/$E$13)*'Customer Info'!$F$20),)","v":0},0,{"$f":"IF($F$13=\"breakfast\",IF(V65=0,,(V65/$E$10)*'Customer Info'!$F$21),)","v":0},{"$f":"IF($F$13=\"lunch\",IF(W65=0,,(W65/$E$11)*'Customer Info'!$F$21),)","v":0},{"$f":"IF($F$13=\"dinner\",IF(X65=0,,(X65/$E$12)*'Customer Info'!$F$21),)","v":0},0,{"$f":"IF($F$16=\"lunch\",IF(AA65=0,,(AA65/$E$17)*'Customer Info'!$H$18),)","v":0},{"$f":"IF($F$16=\"dinner\",IF(AB65=0,,(AB65/$E$18)*'Customer Info'!$H$18),)","v":0},{"$f":"IF($F$16=\"other\",IF(AC65=0,,(AC65/$E$19)*'Customer Info'!$H$18),)","v":0},0,{"$f":"IF($F$17=\"breakfast\",IF(Z65=0,,(Z65/$E$16)*'Customer Info'!$H$19),)","v":0},{"$f":"IF($F$17=\"dinner\",IF(AB65=0,,(AB65/$E$18)*'Customer Info'!$H$19),)","v":0},{"$f":"IF($F$17=\"other\",IF(AC65=0,,(AC65/$E$19)*'Customer Info'!$H$19),)","v":0},0,{"$f":"IF($F$18=\"breakfast\",IF(Z65=0,,(Z65/$E$16)*'Customer Info'!$H$20),)","v":0},{"$f":"IF($F$18=\"lunch\",IF(AA65=0,,(AA65/$E$17)*'Customer Info'!$H$20),)","v":0},{"$f":"IF($F$18=\"other\",IF(AC65=0,,(AC65/$E$19)*'Customer Info'!$H$20),)","v":0},0,{"$f":"IF($F$19=\"breakfast\",IF(Z65=0,,(Z65/$E$16)*'Customer Info'!$H$21),)","v":0},{"$f":"IF($F$19=\"lunch\",IF(AA65=0,,(AA65/$E$17)*'Customer Info'!$H$21),)","v":0},{"$f":"IF($F$19=\"dinner\",IF(AB65=0,,(AB65/$E$18)*'Customer Info'!$H$21),)","v":0},0,0,0,0,0,""]
[null,null,null,null,null,null,null,null,null,null,0,0,0,0,0,0,0,0,0,0,0,0,0,0,0,0,0,0,0,0,0,0,0,{"$f":"IF((OR($F$4=0,$F$4=\"none\")),IF(R66=0,,IF(OR($E$4='Customer Info'!$D$18,$E$4=0),R66,(R66/$E$4)*'Customer Info'!$D$18)),)","v":0},{"$f":"IF((OR($F$5=0,$F$5=\"none\")),IF(S66=0,,IF(OR($E$5='Customer Info'!$D$18,$E$5=0),S66,(S66/$E$5)*'Customer Info'!$D$19)),)","v":0},{"$f":"IF((OR($F$6=0,$F$6=\"none\")),IF(T66=0,,IF(OR($E$6='Customer Info'!$D$18,$E$6=0),T66,(T66/$E$6)*'Customer Info'!$D$20)),)","v":0},{"$f":"IF((OR($F$7=0,$F$7=\"none\")),IF(U66=0,,IF(OR($E$7='Customer Info'!$D$18,$E$7=0),U66,(U66/$E$7)*'Customer Info'!$D$21)),)","v":0},{"$f":"IF((OR($F$10=0,$F$10=\"none\")),IF(V66=0,,IF(OR($E$10='Customer Info'!$F$18,$E$10=0),V66,(V66/$E$10)*'Customer Info'!$F$18)),)","v":0},{"$f":"IF((OR($F$11=0,$F$11=\"none\")),IF(W66=0,,IF(OR($E$11='Customer Info'!$F$19,$E$11=0),W66,(W66/$E$11)*'Customer Info'!$F$19)),)","v":0},{"$f":"IF((OR($F$12=0,$F$12=\"none\")),IF(X66=0,,IF(OR($E$12='Customer Info'!$F$20,$E$12=0),X66,(X66/$E$12)*'Customer Info'!$F$20)),)","v":0},{"$f":"IF((OR($F$13=0,$F$13=\"none\")),IF(Y66=0,,IF(OR($E$13='Customer Info'!$F$21,$E$13=0),Y66,(Y66/$E$13)*'Customer Info'!$F$21)),)","v":0},{"$f":"IF((OR($F$16=0,$F$16=\"none\")),IF(Z66=0,,IF(OR($E$16='Customer Info'!$H$18,$E$16=0),Z66,(Z66/$E$16)*'Customer Info'!$H$18)),)","v":0},{"$f":"IF((OR($F$17=0,$F$17=\"none\")),IF(AA66=0,,IF(OR($E$17='Customer Info'!$H$19,$E$17=0),AA66,(AA66/$E$17)*'Customer Info'!$H$19)),)","v":0},{"$f":"IF((OR($F$18=0,$F$18=\"none\")),IF(AB66=0,,IF(OR($E$18='Customer Info'!$H$20,$E$18=0),AB66,(AB66/$E$18)*'Customer Info'!$H$20)),)","v":0},{"$f":"IF((OR($F$19=0,$F$19=\"none\")),IF(AC66=0,,IF(OR($E$19='Customer Info'!$H$21,$E$19=0),AC66,(AC66/$E$19)*'Customer Info'!$H$21)),)","v":0},{"$f":"IF((OR($F$4=0,$F$4=\"none\")),IF(AD66=0,,IF(OR($E$4='Customer Info'!$D$18,$E$4=0),AD66,(AD66/$E$4)*'Customer Info'!$D$18)),)","v":0},{"$f":"IF((OR($F$5=0,$F$5=\"none\")),IF(AE66=0,,IF(OR($E$5='Customer Info'!$D$19,$E$5=0),AE66,(AE66/$E$5)*'Customer Info'!$D$19)),)","v":0},{"$f":"IF((OR($F$6=0,$F$6=\"none\")),IF(AF66=0,,IF(OR($E$6='Customer Info'!$D$20,$E$6=0),AF66,(AF66/$E$6)*'Customer Info'!$D$20)),)","v":0},{"$f":"IF((OR($F$7=0,$F$7=\"none\")),IF(AG66=0,,IF(OR($E$7='Customer Info'!$D$21,$E$7=0),AG66,(AG66/$E$7)*'Customer Info'!$D$21)),)","v":0},0,0,{"$f":"IF(E66=\"plate waste\",,IF('Customer Info'!$M$18=0,'Log Sheet'!AY66,'Customer Info'!$M$18*'Log Sheet'!AY66))","v":0},{"$f":"IF(E66=\"plate waste\",IF(OR(C66=\"patient\",C66=\"patient beverages\"),IF('Customer Info'!$M$27=0,AY66*'Customer Info'!$M$18,AY66*'Customer Info'!$M$27),IF(C66=\"cafeteria\",IF('Customer Info'!$M$28=0,AY66*'Customer Info'!$M$18,AY66*'Customer Info'!$M$28),IF(C66=\"other1\",IF('Customer Info'!$M$29=0,AY66*'Customer Info'!$M$18,AY66*'Customer Info'!$M$29),))),)","v":0},0,{"$f":"IF($F$4=\"lunch\",IF(S66=0,,(S66/$E$5)*'Customer Info'!$D$18),)","v":0},{"$f":"IF($F$4=\"dinner\",IF(T66=0,,(T66/$E$6)*'Customer Info'!$D$18),)","v":0},{"$f":"IF($F$4=\"other\",IF(U66=0,,(U66/$E$7)*'Customer Info'!$D$18),)","v":0},0,{"$f":"IF($F$5=\"breakfast\",IF(R66=0,,(R66/$E$4)*'Customer Info'!$D$19),)","v":0},{"$f":"IF($F$5=\"dinner\",IF(T66=0,,(T66/$E$6)*'Customer Info'!$D$19),)","v":0},{"$f":"IF($F$5=\"other\",IF(U66=0,,(U66/$E$7)*'Customer Info'!$D$19),)","v":0},0,{"$f":"IF($F$6=\"breakfast\",IF(R66=0,,(R66/$E$4)*'Customer Info'!$D$20),)","v":0},{"$f":"IF($F$6=\"lunch\",IF(S66=0,,(S66/$E$5)*'Customer Info'!$D$20),)","v":0},{"$f":"IF($F$6=\"other\",IF(U66=0,,(U66/$E$7)*'Customer Info'!$D$20),)","v":0},0,{"$f":"IF($F$7=\"breakfast\",IF(R66=0,,(R66/$E$4)*'Customer Info'!$D$21),)","v":0},{"$f":"IF($F$7=\"lunch\",IF(S66=0,,(S66/$E$5)*'Customer Info'!$D$21),)","v":0},{"$f":"IF($F$7=\"dinner\",IF(T66=0,,(T66/$E$6)*'Customer Info'!$D$21),)","v":0},0,{"$f":"IF($F$10=\"lunch\",IF(W66=0,,(W66/$E$11)*'Customer Info'!$F$18),)","v":0},{"$f":"IF($F$10=\"dinner\",IF(X66=0,,(X66/$E$12)*'Customer Info'!$F$18),)","v":0},{"$f":"IF($F$10=\"other\",IF(Y66=0,,(Y66/$E$13)*'Customer Info'!$F$18),)","v":0},0,{"$f":"IF($F$11=\"breakfast\",IF(V66=0,,(V66/$E$10)*'Customer Info'!$F$19),)","v":0},{"$f":"IF($F$11=\"dinner\",IF(X66=0,,(X66/$E$12)*'Customer Info'!$F$19),)","v":0},{"$f":"IF($F$11=\"other\",IF(Y66=0,,(Y66/$E$13)*'Customer Info'!$F$19),)","v":0},0,{"$f":"IF($F$12=\"breakfast\",IF(V66=0,,(V66/$E$10)*'Customer Info'!$F$20),)","v":0},{"$f":"IF($F$12=\"lunch\",IF(W66=0,,(W66/$E$11)*'Customer Info'!$F$20),)","v":0},{"$f":"IF($F$12=\"other\",IF(Y66=0,,(Y66/$E$13)*'Customer Info'!$F$20),)","v":0},0,{"$f":"IF($F$13=\"breakfast\",IF(V66=0,,(V66/$E$10)*'Customer Info'!$F$21),)","v":0},{"$f":"IF($F$13=\"lunch\",IF(W66=0,,(W66/$E$11)*'Customer Info'!$F$21),)","v":0},{"$f":"IF($F$13=\"dinner\",IF(X66=0,,(X66/$E$12)*'Customer Info'!$F$21),)","v":0},0,{"$f":"IF($F$16=\"lunch\",IF(AA66=0,,(AA66/$E$17)*'Customer Info'!$H$18),)","v":0},{"$f":"IF($F$16=\"dinner\",IF(AB66=0,,(AB66/$E$18)*'Customer Info'!$H$18),)","v":0},{"$f":"IF($F$16=\"other\",IF(AC66=0,,(AC66/$E$19)*'Customer Info'!$H$18),)","v":0},0,{"$f":"IF($F$17=\"breakfast\",IF(Z66=0,,(Z66/$E$16)*'Customer Info'!$H$19),)","v":0},{"$f":"IF($F$17=\"dinner\",IF(AB66=0,,(AB66/$E$18)*'Customer Info'!$H$19),)","v":0},{"$f":"IF($F$17=\"other\",IF(AC66=0,,(AC66/$E$19)*'Customer Info'!$H$19),)","v":0},0,{"$f":"IF($F$18=\"breakfast\",IF(Z66=0,,(Z66/$E$16)*'Customer Info'!$H$20),)","v":0},{"$f":"IF($F$18=\"lunch\",IF(AA66=0,,(AA66/$E$17)*'Customer Info'!$H$20),)","v":0},{"$f":"IF($F$18=\"other\",IF(AC66=0,,(AC66/$E$19)*'Customer Info'!$H$20),)","v":0},0,{"$f":"IF($F$19=\"breakfast\",IF(Z66=0,,(Z66/$E$16)*'Customer Info'!$H$21),)","v":0},{"$f":"IF($F$19=\"lunch\",IF(AA66=0,,(AA66/$E$17)*'Customer Info'!$H$21),)","v":0},{"$f":"IF($F$19=\"dinner\",IF(AB66=0,,(AB66/$E$18)*'Customer Info'!$H$21),)","v":0},0,0,0,0,0,""]
[null,null,null,null,null,null,null,null,null,null,0,0,0,0,0,0,0,0,0,0,0,0,0,0,0,0,0,0,0,0,0,0,0,{"$f":"IF((OR($F$4=0,$F$4=\"none\")),IF(R67=0,,IF(OR($E$4='Customer Info'!$D$18,$E$4=0),R67,(R67/$E$4)*'Customer Info'!$D$18)),)","v":0},{"$f":"IF((OR($F$5=0,$F$5=\"none\")),IF(S67=0,,IF(OR($E$5='Customer Info'!$D$18,$E$5=0),S67,(S67/$E$5)*'Customer Info'!$D$19)),)","v":0},{"$f":"IF((OR($F$6=0,$F$6=\"none\")),IF(T67=0,,IF(OR($E$6='Customer Info'!$D$18,$E$6=0),T67,(T67/$E$6)*'Customer Info'!$D$20)),)","v":0},{"$f":"IF((OR($F$7=0,$F$7=\"none\")),IF(U67=0,,IF(OR($E$7='Customer Info'!$D$18,$E$7=0),U67,(U67/$E$7)*'Customer Info'!$D$21)),)","v":0},{"$f":"IF((OR($F$10=0,$F$10=\"none\")),IF(V67=0,,IF(OR($E$10='Customer Info'!$F$18,$E$10=0),V67,(V67/$E$10)*'Customer Info'!$F$18)),)","v":0},{"$f":"IF((OR($F$11=0,$F$11=\"none\")),IF(W67=0,,IF(OR($E$11='Customer Info'!$F$19,$E$11=0),W67,(W67/$E$11)*'Customer Info'!$F$19)),)","v":0},{"$f":"IF((OR($F$12=0,$F$12=\"none\")),IF(X67=0,,IF(OR($E$12='Customer Info'!$F$20,$E$12=0),X67,(X67/$E$12)*'Customer Info'!$F$20)),)","v":0},{"$f":"IF((OR($F$13=0,$F$13=\"none\")),IF(Y67=0,,IF(OR($E$13='Customer Info'!$F$21,$E$13=0),Y67,(Y67/$E$13)*'Customer Info'!$F$21)),)","v":0},{"$f":"IF((OR($F$16=0,$F$16=\"none\")),IF(Z67=0,,IF(OR($E$16='Customer Info'!$H$18,$E$16=0),Z67,(Z67/$E$16)*'Customer Info'!$H$18)),)","v":0},{"$f":"IF((OR($F$17=0,$F$17=\"none\")),IF(AA67=0,,IF(OR($E$17='Customer Info'!$H$19,$E$17=0),AA67,(AA67/$E$17)*'Customer Info'!$H$19)),)","v":0},{"$f":"IF((OR($F$18=0,$F$18=\"none\")),IF(AB67=0,,IF(OR($E$18='Customer Info'!$H$20,$E$18=0),AB67,(AB67/$E$18)*'Customer Info'!$H$20)),)","v":0},{"$f":"IF((OR($F$19=0,$F$19=\"none\")),IF(AC67=0,,IF(OR($E$19='Customer Info'!$H$21,$E$19=0),AC67,(AC67/$E$19)*'Customer Info'!$H$21)),)","v":0},{"$f":"IF((OR($F$4=0,$F$4=\"none\")),IF(AD67=0,,IF(OR($E$4='Customer Info'!$D$18,$E$4=0),AD67,(AD67/$E$4)*'Customer Info'!$D$18)),)","v":0},{"$f":"IF((OR($F$5=0,$F$5=\"none\")),IF(AE67=0,,IF(OR($E$5='Customer Info'!$D$19,$E$5=0),AE67,(AE67/$E$5)*'Customer Info'!$D$19)),)","v":0},{"$f":"IF((OR($F$6=0,$F$6=\"none\")),IF(AF67=0,,IF(OR($E$6='Customer Info'!$D$20,$E$6=0),AF67,(AF67/$E$6)*'Customer Info'!$D$20)),)","v":0},{"$f":"IF((OR($F$7=0,$F$7=\"none\")),IF(AG67=0,,IF(OR($E$7='Customer Info'!$D$21,$E$7=0),AG67,(AG67/$E$7)*'Customer Info'!$D$21)),)","v":0},0,0,{"$f":"IF(E67=\"plate waste\",,IF('Customer Info'!$M$18=0,'Log Sheet'!AY67,'Customer Info'!$M$18*'Log Sheet'!AY67))","v":0},{"$f":"IF(E67=\"plate waste\",IF(OR(C67=\"patient\",C67=\"patient beverages\"),IF('Customer Info'!$M$27=0,AY67*'Customer Info'!$M$18,AY67*'Customer Info'!$M$27),IF(C67=\"cafeteria\",IF('Customer Info'!$M$28=0,AY67*'Customer Info'!$M$18,AY67*'Customer Info'!$M$28),IF(C67=\"other1\",IF('Customer Info'!$M$29=0,AY67*'Customer Info'!$M$18,AY67*'Customer Info'!$M$29),))),)","v":0},0,{"$f":"IF($F$4=\"lunch\",IF(S67=0,,(S67/$E$5)*'Customer Info'!$D$18),)","v":0},{"$f":"IF($F$4=\"dinner\",IF(T67=0,,(T67/$E$6)*'Customer Info'!$D$18),)","v":0},{"$f":"IF($F$4=\"other\",IF(U67=0,,(U67/$E$7)*'Customer Info'!$D$18),)","v":0},0,{"$f":"IF($F$5=\"breakfast\",IF(R67=0,,(R67/$E$4)*'Customer Info'!$D$19),)","v":0},{"$f":"IF($F$5=\"dinner\",IF(T67=0,,(T67/$E$6)*'Customer Info'!$D$19),)","v":0},{"$f":"IF($F$5=\"other\",IF(U67=0,,(U67/$E$7)*'Customer Info'!$D$19),)","v":0},0,{"$f":"IF($F$6=\"breakfast\",IF(R67=0,,(R67/$E$4)*'Customer Info'!$D$20),)","v":0},{"$f":"IF($F$6=\"lunch\",IF(S67=0,,(S67/$E$5)*'Customer Info'!$D$20),)","v":0},{"$f":"IF($F$6=\"other\",IF(U67=0,,(U67/$E$7)*'Customer Info'!$D$20),)","v":0},0,{"$f":"IF($F$7=\"breakfast\",IF(R67=0,,(R67/$E$4)*'Customer Info'!$D$21),)","v":0},{"$f":"IF($F$7=\"lunch\",IF(S67=0,,(S67/$E$5)*'Customer Info'!$D$21),)","v":0},{"$f":"IF($F$7=\"dinner\",IF(T67=0,,(T67/$E$6)*'Customer Info'!$D$21),)","v":0},0,{"$f":"IF($F$10=\"lunch\",IF(W67=0,,(W67/$E$11)*'Customer Info'!$F$18),)","v":0},{"$f":"IF($F$10=\"dinner\",IF(X67=0,,(X67/$E$12)*'Customer Info'!$F$18),)","v":0},{"$f":"IF($F$10=\"other\",IF(Y67=0,,(Y67/$E$13)*'Customer Info'!$F$18),)","v":0},0,{"$f":"IF($F$11=\"breakfast\",IF(V67=0,,(V67/$E$10)*'Customer Info'!$F$19),)","v":0},{"$f":"IF($F$11=\"dinner\",IF(X67=0,,(X67/$E$12)*'Customer Info'!$F$19),)","v":0},{"$f":"IF($F$11=\"other\",IF(Y67=0,,(Y67/$E$13)*'Customer Info'!$F$19),)","v":0},0,{"$f":"IF($F$12=\"breakfast\",IF(V67=0,,(V67/$E$10)*'Customer Info'!$F$20),)","v":0},{"$f":"IF($F$12=\"lunch\",IF(W67=0,,(W67/$E$11)*'Customer Info'!$F$20),)","v":0},{"$f":"IF($F$12=\"other\",IF(Y67=0,,(Y67/$E$13)*'Customer Info'!$F$20),)","v":0},0,{"$f":"IF($F$13=\"breakfast\",IF(V67=0,,(V67/$E$10)*'Customer Info'!$F$21),)","v":0},{"$f":"IF($F$13=\"lunch\",IF(W67=0,,(W67/$E$11)*'Customer Info'!$F$21),)","v":0},{"$f":"IF($F$13=\"dinner\",IF(X67=0,,(X67/$E$12)*'Customer Info'!$F$21),)","v":0},0,{"$f":"IF($F$16=\"lunch\",IF(AA67=0,,(AA67/$E$17)*'Customer Info'!$H$18),)","v":0},{"$f":"IF($F$16=\"dinner\",IF(AB67=0,,(AB67/$E$18)*'Customer Info'!$H$18),)","v":0},{"$f":"IF($F$16=\"other\",IF(AC67=0,,(AC67/$E$19)*'Customer Info'!$H$18),)","v":0},0,{"$f":"IF($F$17=\"breakfast\",IF(Z67=0,,(Z67/$E$16)*'Customer Info'!$H$19),)","v":0},{"$f":"IF($F$17=\"dinner\",IF(AB67=0,,(AB67/$E$18)*'Customer Info'!$H$19),)","v":0},{"$f":"IF($F$17=\"other\",IF(AC67=0,,(AC67/$E$19)*'Customer Info'!$H$19),)","v":0},0,{"$f":"IF($F$18=\"breakfast\",IF(Z67=0,,(Z67/$E$16)*'Customer Info'!$H$20),)","v":0},{"$f":"IF($F$18=\"lunch\",IF(AA67=0,,(AA67/$E$17)*'Customer Info'!$H$20),)","v":0},{"$f":"IF($F$18=\"other\",IF(AC67=0,,(AC67/$E$19)*'Customer Info'!$H$20),)","v":0},0,{"$f":"IF($F$19=\"breakfast\",IF(Z67=0,,(Z67/$E$16)*'Customer Info'!$H$21),)","v":0},{"$f":"IF($F$19=\"lunch\",IF(AA67=0,,(AA67/$E$17)*'Customer Info'!$H$21),)","v":0},{"$f":"IF($F$19=\"dinner\",IF(AB67=0,,(AB67/$E$18)*'Customer Info'!$H$21),)","v":0},0,0,0,0,0,""]
[null,null,null,null,null,null,null,null,null,null,0,0,0,0,0,0,0,0,0,0,0,0,0,0,0,0,0,0,0,0,0,0,0,{"$f":"IF((OR($F$4=0,$F$4=\"none\")),IF(R68=0,,IF(OR($E$4='Customer Info'!$D$18,$E$4=0),R68,(R68/$E$4)*'Customer Info'!$D$18)),)","v":0},{"$f":"IF((OR($F$5=0,$F$5=\"none\")),IF(S68=0,,IF(OR($E$5='Customer Info'!$D$18,$E$5=0),S68,(S68/$E$5)*'Customer Info'!$D$19)),)","v":0},{"$f":"IF((OR($F$6=0,$F$6=\"none\")),IF(T68=0,,IF(OR($E$6='Customer Info'!$D$18,$E$6=0),T68,(T68/$E$6)*'Customer Info'!$D$20)),)","v":0},{"$f":"IF((OR($F$7=0,$F$7=\"none\")),IF(U68=0,,IF(OR($E$7='Customer Info'!$D$18,$E$7=0),U68,(U68/$E$7)*'Customer Info'!$D$21)),)","v":0},{"$f":"IF((OR($F$10=0,$F$10=\"none\")),IF(V68=0,,IF(OR($E$10='Customer Info'!$F$18,$E$10=0),V68,(V68/$E$10)*'Customer Info'!$F$18)),)","v":0},{"$f":"IF((OR($F$11=0,$F$11=\"none\")),IF(W68=0,,IF(OR($E$11='Customer Info'!$F$19,$E$11=0),W68,(W68/$E$11)*'Customer Info'!$F$19)),)","v":0},{"$f":"IF((OR($F$12=0,$F$12=\"none\")),IF(X68=0,,IF(OR($E$12='Customer Info'!$F$20,$E$12=0),X68,(X68/$E$12)*'Customer Info'!$F$20)),)","v":0},{"$f":"IF((OR($F$13=0,$F$13=\"none\")),IF(Y68=0,,IF(OR($E$13='Customer Info'!$F$21,$E$13=0),Y68,(Y68/$E$13)*'Customer Info'!$F$21)),)","v":0},{"$f":"IF((OR($F$16=0,$F$16=\"none\")),IF(Z68=0,,IF(OR($E$16='Customer Info'!$H$18,$E$16=0),Z68,(Z68/$E$16)*'Customer Info'!$H$18)),)","v":0},{"$f":"IF((OR($F$17=0,$F$17=\"none\")),IF(AA68=0,,IF(OR($E$17='Customer Info'!$H$19,$E$17=0),AA68,(AA68/$E$17)*'Customer Info'!$H$19)),)","v":0},{"$f":"IF((OR($F$18=0,$F$18=\"none\")),IF(AB68=0,,IF(OR($E$18='Customer Info'!$H$20,$E$18=0),AB68,(AB68/$E$18)*'Customer Info'!$H$20)),)","v":0},{"$f":"IF((OR($F$19=0,$F$19=\"none\")),IF(AC68=0,,IF(OR($E$19='Customer Info'!$H$21,$E$19=0),AC68,(AC68/$E$19)*'Customer Info'!$H$21)),)","v":0},{"$f":"IF((OR($F$4=0,$F$4=\"none\")),IF(AD68=0,,IF(OR($E$4='Customer Info'!$D$18,$E$4=0),AD68,(AD68/$E$4)*'Customer Info'!$D$18)),)","v":0},{"$f":"IF((OR($F$5=0,$F$5=\"none\")),IF(AE68=0,,IF(OR($E$5='Customer Info'!$D$19,$E$5=0),AE68,(AE68/$E$5)*'Customer Info'!$D$19)),)","v":0},{"$f":"IF((OR($F$6=0,$F$6=\"none\")),IF(AF68=0,,IF(OR($E$6='Customer Info'!$D$20,$E$6=0),AF68,(AF68/$E$6)*'Customer Info'!$D$20)),)","v":0},{"$f":"IF((OR($F$7=0,$F$7=\"none\")),IF(AG68=0,,IF(OR($E$7='Customer Info'!$D$21,$E$7=0),AG68,(AG68/$E$7)*'Customer Info'!$D$21)),)","v":0},0,0,{"$f":"IF(E68=\"plate waste\",,IF('Customer Info'!$M$18=0,'Log Sheet'!AY68,'Customer Info'!$M$18*'Log Sheet'!AY68))","v":0},{"$f":"IF(E68=\"plate waste\",IF(OR(C68=\"patient\",C68=\"patient beverages\"),IF('Customer Info'!$M$27=0,AY68*'Customer Info'!$M$18,AY68*'Customer Info'!$M$27),IF(C68=\"cafeteria\",IF('Customer Info'!$M$28=0,AY68*'Customer Info'!$M$18,AY68*'Customer Info'!$M$28),IF(C68=\"other1\",IF('Customer Info'!$M$29=0,AY68*'Customer Info'!$M$18,AY68*'Customer Info'!$M$29),))),)","v":0},0,{"$f":"IF($F$4=\"lunch\",IF(S68=0,,(S68/$E$5)*'Customer Info'!$D$18),)","v":0},{"$f":"IF($F$4=\"dinner\",IF(T68=0,,(T68/$E$6)*'Customer Info'!$D$18),)","v":0},{"$f":"IF($F$4=\"other\",IF(U68=0,,(U68/$E$7)*'Customer Info'!$D$18),)","v":0},0,{"$f":"IF($F$5=\"breakfast\",IF(R68=0,,(R68/$E$4)*'Customer Info'!$D$19),)","v":0},{"$f":"IF($F$5=\"dinner\",IF(T68=0,,(T68/$E$6)*'Customer Info'!$D$19),)","v":0},{"$f":"IF($F$5=\"other\",IF(U68=0,,(U68/$E$7)*'Customer Info'!$D$19),)","v":0},0,{"$f":"IF($F$6=\"breakfast\",IF(R68=0,,(R68/$E$4)*'Customer Info'!$D$20),)","v":0},{"$f":"IF($F$6=\"lunch\",IF(S68=0,,(S68/$E$5)*'Customer Info'!$D$20),)","v":0},{"$f":"IF($F$6=\"other\",IF(U68=0,,(U68/$E$7)*'Customer Info'!$D$20),)","v":0},0,{"$f":"IF($F$7=\"breakfast\",IF(R68=0,,(R68/$E$4)*'Customer Info'!$D$21),)","v":0},{"$f":"IF($F$7=\"lunch\",IF(S68=0,,(S68/$E$5)*'Customer Info'!$D$21),)","v":0},{"$f":"IF($F$7=\"dinner\",IF(T68=0,,(T68/$E$6)*'Customer Info'!$D$21),)","v":0},0,{"$f":"IF($F$10=\"lunch\",IF(W68=0,,(W68/$E$11)*'Customer Info'!$F$18),)","v":0},{"$f":"IF($F$10=\"dinner\",IF(X68=0,,(X68/$E$12)*'Customer Info'!$F$18),)","v":0},{"$f":"IF($F$10=\"other\",IF(Y68=0,,(Y68/$E$13)*'Customer Info'!$F$18),)","v":0},0,{"$f":"IF($F$11=\"breakfast\",IF(V68=0,,(V68/$E$10)*'Customer Info'!$F$19),)","v":0},{"$f":"IF($F$11=\"dinner\",IF(X68=0,,(X68/$E$12)*'Customer Info'!$F$19),)","v":0},{"$f":"IF($F$11=\"other\",IF(Y68=0,,(Y68/$E$13)*'Customer Info'!$F$19),)","v":0},0,{"$f":"IF($F$12=\"breakfast\",IF(V68=0,,(V68/$E$10)*'Customer Info'!$F$20),)","v":0},{"$f":"IF($F$12=\"lunch\",IF(W68=0,,(W68/$E$11)*'Customer Info'!$F$20),)","v":0},{"$f":"IF($F$12=\"other\",IF(Y68=0,,(Y68/$E$13)*'Customer Info'!$F$20),)","v":0},0,{"$f":"IF($F$13=\"breakfast\",IF(V68=0,,(V68/$E$10)*'Customer Info'!$F$21),)","v":0},{"$f":"IF($F$13=\"lunch\",IF(W68=0,,(W68/$E$11)*'Customer Info'!$F$21),)","v":0},{"$f":"IF($F$13=\"dinner\",IF(X68=0,,(X68/$E$12)*'Customer Info'!$F$21),)","v":0},0,{"$f":"IF($F$16=\"lunch\",IF(AA68=0,,(AA68/$E$17)*'Customer Info'!$H$18),)","v":0},{"$f":"IF($F$16=\"dinner\",IF(AB68=0,,(AB68/$E$18)*'Customer Info'!$H$18),)","v":0},{"$f":"IF($F$16=\"other\",IF(AC68=0,,(AC68/$E$19)*'Customer Info'!$H$18),)","v":0},0,{"$f":"IF($F$17=\"breakfast\",IF(Z68=0,,(Z68/$E$16)*'Customer Info'!$H$19),)","v":0},{"$f":"IF($F$17=\"dinner\",IF(AB68=0,,(AB68/$E$18)*'Customer Info'!$H$19),)","v":0},{"$f":"IF($F$17=\"other\",IF(AC68=0,,(AC68/$E$19)*'Customer Info'!$H$19),)","v":0},0,{"$f":"IF($F$18=\"breakfast\",IF(Z68=0,,(Z68/$E$16)*'Customer Info'!$H$20),)","v":0},{"$f":"IF($F$18=\"lunch\",IF(AA68=0,,(AA68/$E$17)*'Customer Info'!$H$20),)","v":0},{"$f":"IF($F$18=\"other\",IF(AC68=0,,(AC68/$E$19)*'Customer Info'!$H$20),)","v":0},0,{"$f":"IF($F$19=\"breakfast\",IF(Z68=0,,(Z68/$E$16)*'Customer Info'!$H$21),)","v":0},{"$f":"IF($F$19=\"lunch\",IF(AA68=0,,(AA68/$E$17)*'Customer Info'!$H$21),)","v":0},{"$f":"IF($F$19=\"dinner\",IF(AB68=0,,(AB68/$E$18)*'Customer Info'!$H$21),)","v":0},0,0,0,0,0,""]
[null,null,null,null,null,null,null,null,null,null,0,0,0,0,0,0,0,0,0,0,0,0,0,0,0,0,0,0,0,0,0,0,0,{"$f":"IF((OR($F$4=0,$F$4=\"none\")),IF(R69=0,,IF(OR($E$4='Customer Info'!$D$18,$E$4=0),R69,(R69/$E$4)*'Customer Info'!$D$18)),)","v":0},{"$f":"IF((OR($F$5=0,$F$5=\"none\")),IF(S69=0,,IF(OR($E$5='Customer Info'!$D$18,$E$5=0),S69,(S69/$E$5)*'Customer Info'!$D$19)),)","v":0},{"$f":"IF((OR($F$6=0,$F$6=\"none\")),IF(T69=0,,IF(OR($E$6='Customer Info'!$D$18,$E$6=0),T69,(T69/$E$6)*'Customer Info'!$D$20)),)","v":0},{"$f":"IF((OR($F$7=0,$F$7=\"none\")),IF(U69=0,,IF(OR($E$7='Customer Info'!$D$18,$E$7=0),U69,(U69/$E$7)*'Customer Info'!$D$21)),)","v":0},{"$f":"IF((OR($F$10=0,$F$10=\"none\")),IF(V69=0,,IF(OR($E$10='Customer Info'!$F$18,$E$10=0),V69,(V69/$E$10)*'Customer Info'!$F$18)),)","v":0},{"$f":"IF((OR($F$11=0,$F$11=\"none\")),IF(W69=0,,IF(OR($E$11='Customer Info'!$F$19,$E$11=0),W69,(W69/$E$11)*'Customer Info'!$F$19)),)","v":0},{"$f":"IF((OR($F$12=0,$F$12=\"none\")),IF(X69=0,,IF(OR($E$12='Customer Info'!$F$20,$E$12=0),X69,(X69/$E$12)*'Customer Info'!$F$20)),)","v":0},{"$f":"IF((OR($F$13=0,$F$13=\"none\")),IF(Y69=0,,IF(OR($E$13='Customer Info'!$F$21,$E$13=0),Y69,(Y69/$E$13)*'Customer Info'!$F$21)),)","v":0},{"$f":"IF((OR($F$16=0,$F$16=\"none\")),IF(Z69=0,,IF(OR($E$16='Customer Info'!$H$18,$E$16=0),Z69,(Z69/$E$16)*'Customer Info'!$H$18)),)","v":0},{"$f":"IF((OR($F$17=0,$F$17=\"none\")),IF(AA69=0,,IF(OR($E$17='Customer Info'!$H$19,$E$17=0),AA69,(AA69/$E$17)*'Customer Info'!$H$19)),)","v":0},{"$f":"IF((OR($F$18=0,$F$18=\"none\")),IF(AB69=0,,IF(OR($E$18='Customer Info'!$H$20,$E$18=0),AB69,(AB69/$E$18)*'Customer Info'!$H$20)),)","v":0},{"$f":"IF((OR($F$19=0,$F$19=\"none\")),IF(AC69=0,,IF(OR($E$19='Customer Info'!$H$21,$E$19=0),AC69,(AC69/$E$19)*'Customer Info'!$H$21)),)","v":0},{"$f":"IF((OR($F$4=0,$F$4=\"none\")),IF(AD69=0,,IF(OR($E$4='Customer Info'!$D$18,$E$4=0),AD69,(AD69/$E$4)*'Customer Info'!$D$18)),)","v":0},{"$f":"IF((OR($F$5=0,$F$5=\"none\")),IF(AE69=0,,IF(OR($E$5='Customer Info'!$D$19,$E$5=0),AE69,(AE69/$E$5)*'Customer Info'!$D$19)),)","v":0},{"$f":"IF((OR($F$6=0,$F$6=\"none\")),IF(AF69=0,,IF(OR($E$6='Customer Info'!$D$20,$E$6=0),AF69,(AF69/$E$6)*'Customer Info'!$D$20)),)","v":0},{"$f":"IF((OR($F$7=0,$F$7=\"none\")),IF(AG69=0,,IF(OR($E$7='Customer Info'!$D$21,$E$7=0),AG69,(AG69/$E$7)*'Customer Info'!$D$21)),)","v":0},0,0,{"$f":"IF(E69=\"plate waste\",,IF('Customer Info'!$M$18=0,'Log Sheet'!AY69,'Customer Info'!$M$18*'Log Sheet'!AY69))","v":0},{"$f":"IF(E69=\"plate waste\",IF(OR(C69=\"patient\",C69=\"patient beverages\"),IF('Customer Info'!$M$27=0,AY69*'Customer Info'!$M$18,AY69*'Customer Info'!$M$27),IF(C69=\"cafeteria\",IF('Customer Info'!$M$28=0,AY69*'Customer Info'!$M$18,AY69*'Customer Info'!$M$28),IF(C69=\"other1\",IF('Customer Info'!$M$29=0,AY69*'Customer Info'!$M$18,AY69*'Customer Info'!$M$29),))),)","v":0},0,{"$f":"IF($F$4=\"lunch\",IF(S69=0,,(S69/$E$5)*'Customer Info'!$D$18),)","v":0},{"$f":"IF($F$4=\"dinner\",IF(T69=0,,(T69/$E$6)*'Customer Info'!$D$18),)","v":0},{"$f":"IF($F$4=\"other\",IF(U69=0,,(U69/$E$7)*'Customer Info'!$D$18),)","v":0},0,{"$f":"IF($F$5=\"breakfast\",IF(R69=0,,(R69/$E$4)*'Customer Info'!$D$19),)","v":0},{"$f":"IF($F$5=\"dinner\",IF(T69=0,,(T69/$E$6)*'Customer Info'!$D$19),)","v":0},{"$f":"IF($F$5=\"other\",IF(U69=0,,(U69/$E$7)*'Customer Info'!$D$19),)","v":0},0,{"$f":"IF($F$6=\"breakfast\",IF(R69=0,,(R69/$E$4)*'Customer Info'!$D$20),)","v":0},{"$f":"IF($F$6=\"lunch\",IF(S69=0,,(S69/$E$5)*'Customer Info'!$D$20),)","v":0},{"$f":"IF($F$6=\"other\",IF(U69=0,,(U69/$E$7)*'Customer Info'!$D$20),)","v":0},0,{"$f":"IF($F$7=\"breakfast\",IF(R69=0,,(R69/$E$4)*'Customer Info'!$D$21),)","v":0},{"$f":"IF($F$7=\"lunch\",IF(S69=0,,(S69/$E$5)*'Customer Info'!$D$21),)","v":0},{"$f":"IF($F$7=\"dinner\",IF(T69=0,,(T69/$E$6)*'Customer Info'!$D$21),)","v":0},0,{"$f":"IF($F$10=\"lunch\",IF(W69=0,,(W69/$E$11)*'Customer Info'!$F$18),)","v":0},{"$f":"IF($F$10=\"dinner\",IF(X69=0,,(X69/$E$12)*'Customer Info'!$F$18),)","v":0},{"$f":"IF($F$10=\"other\",IF(Y69=0,,(Y69/$E$13)*'Customer Info'!$F$18),)","v":0},0,{"$f":"IF($F$11=\"breakfast\",IF(V69=0,,(V69/$E$10)*'Customer Info'!$F$19),)","v":0},{"$f":"IF($F$11=\"dinner\",IF(X69=0,,(X69/$E$12)*'Customer Info'!$F$19),)","v":0},{"$f":"IF($F$11=\"other\",IF(Y69=0,,(Y69/$E$13)*'Customer Info'!$F$19),)","v":0},0,{"$f":"IF($F$12=\"breakfast\",IF(V69=0,,(V69/$E$10)*'Customer Info'!$F$20),)","v":0},{"$f":"IF($F$12=\"lunch\",IF(W69=0,,(W69/$E$11)*'Customer Info'!$F$20),)","v":0},{"$f":"IF($F$12=\"other\",IF(Y69=0,,(Y69/$E$13)*'Customer Info'!$F$20),)","v":0},0,{"$f":"IF($F$13=\"breakfast\",IF(V69=0,,(V69/$E$10)*'Customer Info'!$F$21),)","v":0},{"$f":"IF($F$13=\"lunch\",IF(W69=0,,(W69/$E$11)*'Customer Info'!$F$21),)","v":0},{"$f":"IF($F$13=\"dinner\",IF(X69=0,,(X69/$E$12)*'Customer Info'!$F$21),)","v":0},0,{"$f":"IF($F$16=\"lunch\",IF(AA69=0,,(AA69/$E$17)*'Customer Info'!$H$18),)","v":0},{"$f":"IF($F$16=\"dinner\",IF(AB69=0,,(AB69/$E$18)*'Customer Info'!$H$18),)","v":0},{"$f":"IF($F$16=\"other\",IF(AC69=0,,(AC69/$E$19)*'Customer Info'!$H$18),)","v":0},0,{"$f":"IF($F$17=\"breakfast\",IF(Z69=0,,(Z69/$E$16)*'Customer Info'!$H$19),)","v":0},{"$f":"IF($F$17=\"dinner\",IF(AB69=0,,(AB69/$E$18)*'Customer Info'!$H$19),)","v":0},{"$f":"IF($F$17=\"other\",IF(AC69=0,,(AC69/$E$19)*'Customer Info'!$H$19),)","v":0},0,{"$f":"IF($F$18=\"breakfast\",IF(Z69=0,,(Z69/$E$16)*'Customer Info'!$H$20),)","v":0},{"$f":"IF($F$18=\"lunch\",IF(AA69=0,,(AA69/$E$17)*'Customer Info'!$H$20),)","v":0},{"$f":"IF($F$18=\"other\",IF(AC69=0,,(AC69/$E$19)*'Customer Info'!$H$20),)","v":0},0,{"$f":"IF($F$19=\"breakfast\",IF(Z69=0,,(Z69/$E$16)*'Customer Info'!$H$21),)","v":0},{"$f":"IF($F$19=\"lunch\",IF(AA69=0,,(AA69/$E$17)*'Customer Info'!$H$21),)","v":0},{"$f":"IF($F$19=\"dinner\",IF(AB69=0,,(AB69/$E$18)*'Customer Info'!$H$21),)","v":0},0,0,0,0,0,""]
[null,null,null,null,null,null,null,null,null,null,0,0,0,0,0,0,0,0,0,0,0,0,0,0,0,0,0,0,0,0,0,0,0,{"$f":"IF((OR($F$4=0,$F$4=\"none\")),IF(R70=0,,IF(OR($E$4='Customer Info'!$D$18,$E$4=0),R70,(R70/$E$4)*'Customer Info'!$D$18)),)","v":0},{"$f":"IF((OR($F$5=0,$F$5=\"none\")),IF(S70=0,,IF(OR($E$5='Customer Info'!$D$18,$E$5=0),S70,(S70/$E$5)*'Customer Info'!$D$19)),)","v":0},{"$f":"IF((OR($F$6=0,$F$6=\"none\")),IF(T70=0,,IF(OR($E$6='Customer Info'!$D$18,$E$6=0),T70,(T70/$E$6)*'Customer Info'!$D$20)),)","v":0},{"$f":"IF((OR($F$7=0,$F$7=\"none\")),IF(U70=0,,IF(OR($E$7='Customer Info'!$D$18,$E$7=0),U70,(U70/$E$7)*'Customer Info'!$D$21)),)","v":0},{"$f":"IF((OR($F$10=0,$F$10=\"none\")),IF(V70=0,,IF(OR($E$10='Customer Info'!$F$18,$E$10=0),V70,(V70/$E$10)*'Customer Info'!$F$18)),)","v":0},{"$f":"IF((OR($F$11=0,$F$11=\"none\")),IF(W70=0,,IF(OR($E$11='Customer Info'!$F$19,$E$11=0),W70,(W70/$E$11)*'Customer Info'!$F$19)),)","v":0},{"$f":"IF((OR($F$12=0,$F$12=\"none\")),IF(X70=0,,IF(OR($E$12='Customer Info'!$F$20,$E$12=0),X70,(X70/$E$12)*'Customer Info'!$F$20)),)","v":0},{"$f":"IF((OR($F$13=0,$F$13=\"none\")),IF(Y70=0,,IF(OR($E$13='Customer Info'!$F$21,$E$13=0),Y70,(Y70/$E$13)*'Customer Info'!$F$21)),)","v":0},{"$f":"IF((OR($F$16=0,$F$16=\"none\")),IF(Z70=0,,IF(OR($E$16='Customer Info'!$H$18,$E$16=0),Z70,(Z70/$E$16)*'Customer Info'!$H$18)),)","v":0},{"$f":"IF((OR($F$17=0,$F$17=\"none\")),IF(AA70=0,,IF(OR($E$17='Customer Info'!$H$19,$E$17=0),AA70,(AA70/$E$17)*'Customer Info'!$H$19)),)","v":0},{"$f":"IF((OR($F$18=0,$F$18=\"none\")),IF(AB70=0,,IF(OR($E$18='Customer Info'!$H$20,$E$18=0),AB70,(AB70/$E$18)*'Customer Info'!$H$20)),)","v":0},{"$f":"IF((OR($F$19=0,$F$19=\"none\")),IF(AC70=0,,IF(OR($E$19='Customer Info'!$H$21,$E$19=0),AC70,(AC70/$E$19)*'Customer Info'!$H$21)),)","v":0},{"$f":"IF((OR($F$4=0,$F$4=\"none\")),IF(AD70=0,,IF(OR($E$4='Customer Info'!$D$18,$E$4=0),AD70,(AD70/$E$4)*'Customer Info'!$D$18)),)","v":0},{"$f":"IF((OR($F$5=0,$F$5=\"none\")),IF(AE70=0,,IF(OR($E$5='Customer Info'!$D$19,$E$5=0),AE70,(AE70/$E$5)*'Customer Info'!$D$19)),)","v":0},{"$f":"IF((OR($F$6=0,$F$6=\"none\")),IF(AF70=0,,IF(OR($E$6='Customer Info'!$D$20,$E$6=0),AF70,(AF70/$E$6)*'Customer Info'!$D$20)),)","v":0},{"$f":"IF((OR($F$7=0,$F$7=\"none\")),IF(AG70=0,,IF(OR($E$7='Customer Info'!$D$21,$E$7=0),AG70,(AG70/$E$7)*'Customer Info'!$D$21)),)","v":0},0,0,{"$f":"IF(E70=\"plate waste\",,IF('Customer Info'!$M$18=0,'Log Sheet'!AY70,'Customer Info'!$M$18*'Log Sheet'!AY70))","v":0},{"$f":"IF(E70=\"plate waste\",IF(OR(C70=\"patient\",C70=\"patient beverages\"),IF('Customer Info'!$M$27=0,AY70*'Customer Info'!$M$18,AY70*'Customer Info'!$M$27),IF(C70=\"cafeteria\",IF('Customer Info'!$M$28=0,AY70*'Customer Info'!$M$18,AY70*'Customer Info'!$M$28),IF(C70=\"other1\",IF('Customer Info'!$M$29=0,AY70*'Customer Info'!$M$18,AY70*'Customer Info'!$M$29),))),)","v":0},0,{"$f":"IF($F$4=\"lunch\",IF(S70=0,,(S70/$E$5)*'Customer Info'!$D$18),)","v":0},{"$f":"IF($F$4=\"dinner\",IF(T70=0,,(T70/$E$6)*'Customer Info'!$D$18),)","v":0},{"$f":"IF($F$4=\"other\",IF(U70=0,,(U70/$E$7)*'Customer Info'!$D$18),)","v":0},0,{"$f":"IF($F$5=\"breakfast\",IF(R70=0,,(R70/$E$4)*'Customer Info'!$D$19),)","v":0},{"$f":"IF($F$5=\"dinner\",IF(T70=0,,(T70/$E$6)*'Customer Info'!$D$19),)","v":0},{"$f":"IF($F$5=\"other\",IF(U70=0,,(U70/$E$7)*'Customer Info'!$D$19),)","v":0},0,{"$f":"IF($F$6=\"breakfast\",IF(R70=0,,(R70/$E$4)*'Customer Info'!$D$20),)","v":0},{"$f":"IF($F$6=\"lunch\",IF(S70=0,,(S70/$E$5)*'Customer Info'!$D$20),)","v":0},{"$f":"IF($F$6=\"other\",IF(U70=0,,(U70/$E$7)*'Customer Info'!$D$20),)","v":0},0,{"$f":"IF($F$7=\"breakfast\",IF(R70=0,,(R70/$E$4)*'Customer Info'!$D$21),)","v":0},{"$f":"IF($F$7=\"lunch\",IF(S70=0,,(S70/$E$5)*'Customer Info'!$D$21),)","v":0},{"$f":"IF($F$7=\"dinner\",IF(T70=0,,(T70/$E$6)*'Customer Info'!$D$21),)","v":0},0,{"$f":"IF($F$10=\"lunch\",IF(W70=0,,(W70/$E$11)*'Customer Info'!$F$18),)","v":0},{"$f":"IF($F$10=\"dinner\",IF(X70=0,,(X70/$E$12)*'Customer Info'!$F$18),)","v":0},{"$f":"IF($F$10=\"other\",IF(Y70=0,,(Y70/$E$13)*'Customer Info'!$F$18),)","v":0},0,{"$f":"IF($F$11=\"breakfast\",IF(V70=0,,(V70/$E$10)*'Customer Info'!$F$19),)","v":0},{"$f":"IF($F$11=\"dinner\",IF(X70=0,,(X70/$E$12)*'Customer Info'!$F$19),)","v":0},{"$f":"IF($F$11=\"other\",IF(Y70=0,,(Y70/$E$13)*'Customer Info'!$F$19),)","v":0},0,{"$f":"IF($F$12=\"breakfast\",IF(V70=0,,(V70/$E$10)*'Customer Info'!$F$20),)","v":0},{"$f":"IF($F$12=\"lunch\",IF(W70=0,,(W70/$E$11)*'Customer Info'!$F$20),)","v":0},{"$f":"IF($F$12=\"other\",IF(Y70=0,,(Y70/$E$13)*'Customer Info'!$F$20),)","v":0},0,{"$f":"IF($F$13=\"breakfast\",IF(V70=0,,(V70/$E$10)*'Customer Info'!$F$21),)","v":0},{"$f":"IF($F$13=\"lunch\",IF(W70=0,,(W70/$E$11)*'Customer Info'!$F$21),)","v":0},{"$f":"IF($F$13=\"dinner\",IF(X70=0,,(X70/$E$12)*'Customer Info'!$F$21),)","v":0},0,{"$f":"IF($F$16=\"lunch\",IF(AA70=0,,(AA70/$E$17)*'Customer Info'!$H$18),)","v":0},{"$f":"IF($F$16=\"dinner\",IF(AB70=0,,(AB70/$E$18)*'Customer Info'!$H$18),)","v":0},{"$f":"IF($F$16=\"other\",IF(AC70=0,,(AC70/$E$19)*'Customer Info'!$H$18),)","v":0},0,{"$f":"IF($F$17=\"breakfast\",IF(Z70=0,,(Z70/$E$16)*'Customer Info'!$H$19),)","v":0},{"$f":"IF($F$17=\"dinner\",IF(AB70=0,,(AB70/$E$18)*'Customer Info'!$H$19),)","v":0},{"$f":"IF($F$17=\"other\",IF(AC70=0,,(AC70/$E$19)*'Customer Info'!$H$19),)","v":0},0,{"$f":"IF($F$18=\"breakfast\",IF(Z70=0,,(Z70/$E$16)*'Customer Info'!$H$20),)","v":0},{"$f":"IF($F$18=\"lunch\",IF(AA70=0,,(AA70/$E$17)*'Customer Info'!$H$20),)","v":0},{"$f":"IF($F$18=\"other\",IF(AC70=0,,(AC70/$E$19)*'Customer Info'!$H$20),)","v":0},0,{"$f":"IF($F$19=\"breakfast\",IF(Z70=0,,(Z70/$E$16)*'Customer Info'!$H$21),)","v":0},{"$f":"IF($F$19=\"lunch\",IF(AA70=0,,(AA70/$E$17)*'Customer Info'!$H$21),)","v":0},{"$f":"IF($F$19=\"dinner\",IF(AB70=0,,(AB70/$E$18)*'Customer Info'!$H$21),)","v":0},0,0,0,0,0,""]
[null,null,null,null,null,null,null,null,null,null,0,0,0,0,0,0,0,0,0,0,0,0,0,0,0,0,0,0,0,0,0,0,0,{"$f":"IF((OR($F$4=0,$F$4=\"none\")),IF(R71=0,,IF(OR($E$4='Customer Info'!$D$18,$E$4=0),R71,(R71/$E$4)*'Customer Info'!$D$18)),)","v":0},{"$f":"IF((OR($F$5=0,$F$5=\"none\")),IF(S71=0,,IF(OR($E$5='Customer Info'!$D$18,$E$5=0),S71,(S71/$E$5)*'Customer Info'!$D$19)),)","v":0},{"$f":"IF((OR($F$6=0,$F$6=\"none\")),IF(T71=0,,IF(OR($E$6='Customer Info'!$D$18,$E$6=0),T71,(T71/$E$6)*'Customer Info'!$D$20)),)","v":0},{"$f":"IF((OR($F$7=0,$F$7=\"none\")),IF(U71=0,,IF(OR($E$7='Customer Info'!$D$18,$E$7=0),U71,(U71/$E$7)*'Customer Info'!$D$21)),)","v":0},{"$f":"IF((OR($F$10=0,$F$10=\"none\")),IF(V71=0,,IF(OR($E$10='Customer Info'!$F$18,$E$10=0),V71,(V71/$E$10)*'Customer Info'!$F$18)),)","v":0},{"$f":"IF((OR($F$11=0,$F$11=\"none\")),IF(W71=0,,IF(OR($E$11='Customer Info'!$F$19,$E$11=0),W71,(W71/$E$11)*'Customer Info'!$F$19)),)","v":0},{"$f":"IF((OR($F$12=0,$F$12=\"none\")),IF(X71=0,,IF(OR($E$12='Customer Info'!$F$20,$E$12=0),X71,(X71/$E$12)*'Customer Info'!$F$20)),)","v":0},{"$f":"IF((OR($F$13=0,$F$13=\"none\")),IF(Y71=0,,IF(OR($E$13='Customer Info'!$F$21,$E$13=0),Y71,(Y71/$E$13)*'Customer Info'!$F$21)),)","v":0},{"$f":"IF((OR($F$16=0,$F$16=\"none\")),IF(Z71=0,,IF(OR($E$16='Customer Info'!$H$18,$E$16=0),Z71,(Z71/$E$16)*'Customer Info'!$H$18)),)","v":0},{"$f":"IF((OR($F$17=0,$F$17=\"none\")),IF(AA71=0,,IF(OR($E$17='Customer Info'!$H$19,$E$17=0),AA71,(AA71/$E$17)*'Customer Info'!$H$19)),)","v":0},{"$f":"IF((OR($F$18=0,$F$18=\"none\")),IF(AB71=0,,IF(OR($E$18='Customer Info'!$H$20,$E$18=0),AB71,(AB71/$E$18)*'Customer Info'!$H$20)),)","v":0},{"$f":"IF((OR($F$19=0,$F$19=\"none\")),IF(AC71=0,,IF(OR($E$19='Customer Info'!$H$21,$E$19=0),AC71,(AC71/$E$19)*'Customer Info'!$H$21)),)","v":0},{"$f":"IF((OR($F$4=0,$F$4=\"none\")),IF(AD71=0,,IF(OR($E$4='Customer Info'!$D$18,$E$4=0),AD71,(AD71/$E$4)*'Customer Info'!$D$18)),)","v":0},{"$f":"IF((OR($F$5=0,$F$5=\"none\")),IF(AE71=0,,IF(OR($E$5='Customer Info'!$D$19,$E$5=0),AE71,(AE71/$E$5)*'Customer Info'!$D$19)),)","v":0},{"$f":"IF((OR($F$6=0,$F$6=\"none\")),IF(AF71=0,,IF(OR($E$6='Customer Info'!$D$20,$E$6=0),AF71,(AF71/$E$6)*'Customer Info'!$D$20)),)","v":0},{"$f":"IF((OR($F$7=0,$F$7=\"none\")),IF(AG71=0,,IF(OR($E$7='Customer Info'!$D$21,$E$7=0),AG71,(AG71/$E$7)*'Customer Info'!$D$21)),)","v":0},0,0,{"$f":"IF(E71=\"plate waste\",,IF('Customer Info'!$M$18=0,'Log Sheet'!AY71,'Customer Info'!$M$18*'Log Sheet'!AY71))","v":0},{"$f":"IF(E71=\"plate waste\",IF(OR(C71=\"patient\",C71=\"patient beverages\"),IF('Customer Info'!$M$27=0,AY71*'Customer Info'!$M$18,AY71*'Customer Info'!$M$27),IF(C71=\"cafeteria\",IF('Customer Info'!$M$28=0,AY71*'Customer Info'!$M$18,AY71*'Customer Info'!$M$28),IF(C71=\"other1\",IF('Customer Info'!$M$29=0,AY71*'Customer Info'!$M$18,AY71*'Customer Info'!$M$29),))),)","v":0},0,{"$f":"IF($F$4=\"lunch\",IF(S71=0,,(S71/$E$5)*'Customer Info'!$D$18),)","v":0},{"$f":"IF($F$4=\"dinner\",IF(T71=0,,(T71/$E$6)*'Customer Info'!$D$18),)","v":0},{"$f":"IF($F$4=\"other\",IF(U71=0,,(U71/$E$7)*'Customer Info'!$D$18),)","v":0},0,{"$f":"IF($F$5=\"breakfast\",IF(R71=0,,(R71/$E$4)*'Customer Info'!$D$19),)","v":0},{"$f":"IF($F$5=\"dinner\",IF(T71=0,,(T71/$E$6)*'Customer Info'!$D$19),)","v":0},{"$f":"IF($F$5=\"other\",IF(U71=0,,(U71/$E$7)*'Customer Info'!$D$19),)","v":0},0,{"$f":"IF($F$6=\"breakfast\",IF(R71=0,,(R71/$E$4)*'Customer Info'!$D$20),)","v":0},{"$f":"IF($F$6=\"lunch\",IF(S71=0,,(S71/$E$5)*'Customer Info'!$D$20),)","v":0},{"$f":"IF($F$6=\"other\",IF(U71=0,,(U71/$E$7)*'Customer Info'!$D$20),)","v":0},0,{"$f":"IF($F$7=\"breakfast\",IF(R71=0,,(R71/$E$4)*'Customer Info'!$D$21),)","v":0},{"$f":"IF($F$7=\"lunch\",IF(S71=0,,(S71/$E$5)*'Customer Info'!$D$21),)","v":0},{"$f":"IF($F$7=\"dinner\",IF(T71=0,,(T71/$E$6)*'Customer Info'!$D$21),)","v":0},0,{"$f":"IF($F$10=\"lunch\",IF(W71=0,,(W71/$E$11)*'Customer Info'!$F$18),)","v":0},{"$f":"IF($F$10=\"dinner\",IF(X71=0,,(X71/$E$12)*'Customer Info'!$F$18),)","v":0},{"$f":"IF($F$10=\"other\",IF(Y71=0,,(Y71/$E$13)*'Customer Info'!$F$18),)","v":0},0,{"$f":"IF($F$11=\"breakfast\",IF(V71=0,,(V71/$E$10)*'Customer Info'!$F$19),)","v":0},{"$f":"IF($F$11=\"dinner\",IF(X71=0,,(X71/$E$12)*'Customer Info'!$F$19),)","v":0},{"$f":"IF($F$11=\"other\",IF(Y71=0,,(Y71/$E$13)*'Customer Info'!$F$19),)","v":0},0,{"$f":"IF($F$12=\"breakfast\",IF(V71=0,,(V71/$E$10)*'Customer Info'!$F$20),)","v":0},{"$f":"IF($F$12=\"lunch\",IF(W71=0,,(W71/$E$11)*'Customer Info'!$F$20),)","v":0},{"$f":"IF($F$12=\"other\",IF(Y71=0,,(Y71/$E$13)*'Customer Info'!$F$20),)","v":0},0,{"$f":"IF($F$13=\"breakfast\",IF(V71=0,,(V71/$E$10)*'Customer Info'!$F$21),)","v":0},{"$f":"IF($F$13=\"lunch\",IF(W71=0,,(W71/$E$11)*'Customer Info'!$F$21),)","v":0},{"$f":"IF($F$13=\"dinner\",IF(X71=0,,(X71/$E$12)*'Customer Info'!$F$21),)","v":0},0,{"$f":"IF($F$16=\"lunch\",IF(AA71=0,,(AA71/$E$17)*'Customer Info'!$H$18),)","v":0},{"$f":"IF($F$16=\"dinner\",IF(AB71=0,,(AB71/$E$18)*'Customer Info'!$H$18),)","v":0},{"$f":"IF($F$16=\"other\",IF(AC71=0,,(AC71/$E$19)*'Customer Info'!$H$18),)","v":0},0,{"$f":"IF($F$17=\"breakfast\",IF(Z71=0,,(Z71/$E$16)*'Customer Info'!$H$19),)","v":0},{"$f":"IF($F$17=\"dinner\",IF(AB71=0,,(AB71/$E$18)*'Customer Info'!$H$19),)","v":0},{"$f":"IF($F$17=\"other\",IF(AC71=0,,(AC71/$E$19)*'Customer Info'!$H$19),)","v":0},0,{"$f":"IF($F$18=\"breakfast\",IF(Z71=0,,(Z71/$E$16)*'Customer Info'!$H$20),)","v":0},{"$f":"IF($F$18=\"lunch\",IF(AA71=0,,(AA71/$E$17)*'Customer Info'!$H$20),)","v":0},{"$f":"IF($F$18=\"other\",IF(AC71=0,,(AC71/$E$19)*'Customer Info'!$H$20),)","v":0},0,{"$f":"IF($F$19=\"breakfast\",IF(Z71=0,,(Z71/$E$16)*'Customer Info'!$H$21),)","v":0},{"$f":"IF($F$19=\"lunch\",IF(AA71=0,,(AA71/$E$17)*'Customer Info'!$H$21),)","v":0},{"$f":"IF($F$19=\"dinner\",IF(AB71=0,,(AB71/$E$18)*'Customer Info'!$H$21),)","v":0},0,0,0,0,0,""]
[null,null,null,null,null,null,null,null,null,null,0,0,0,0,0,0,0,0,0,0,0,0,0,0,0,0,0,0,0,0,0,0,0,{"$f":"IF((OR($F$4=0,$F$4=\"none\")),IF(R72=0,,IF(OR($E$4='Customer Info'!$D$18,$E$4=0),R72,(R72/$E$4)*'Customer Info'!$D$18)),)","v":0},{"$f":"IF((OR($F$5=0,$F$5=\"none\")),IF(S72=0,,IF(OR($E$5='Customer Info'!$D$18,$E$5=0),S72,(S72/$E$5)*'Customer Info'!$D$19)),)","v":0},{"$f":"IF((OR($F$6=0,$F$6=\"none\")),IF(T72=0,,IF(OR($E$6='Customer Info'!$D$18,$E$6=0),T72,(T72/$E$6)*'Customer Info'!$D$20)),)","v":0},{"$f":"IF((OR($F$7=0,$F$7=\"none\")),IF(U72=0,,IF(OR($E$7='Customer Info'!$D$18,$E$7=0),U72,(U72/$E$7)*'Customer Info'!$D$21)),)","v":0},{"$f":"IF((OR($F$10=0,$F$10=\"none\")),IF(V72=0,,IF(OR($E$10='Customer Info'!$F$18,$E$10=0),V72,(V72/$E$10)*'Customer Info'!$F$18)),)","v":0},{"$f":"IF((OR($F$11=0,$F$11=\"none\")),IF(W72=0,,IF(OR($E$11='Customer Info'!$F$19,$E$11=0),W72,(W72/$E$11)*'Customer Info'!$F$19)),)","v":0},{"$f":"IF((OR($F$12=0,$F$12=\"none\")),IF(X72=0,,IF(OR($E$12='Customer Info'!$F$20,$E$12=0),X72,(X72/$E$12)*'Customer Info'!$F$20)),)","v":0},{"$f":"IF((OR($F$13=0,$F$13=\"none\")),IF(Y72=0,,IF(OR($E$13='Customer Info'!$F$21,$E$13=0),Y72,(Y72/$E$13)*'Customer Info'!$F$21)),)","v":0},{"$f":"IF((OR($F$16=0,$F$16=\"none\")),IF(Z72=0,,IF(OR($E$16='Customer Info'!$H$18,$E$16=0),Z72,(Z72/$E$16)*'Customer Info'!$H$18)),)","v":0},{"$f":"IF((OR($F$17=0,$F$17=\"none\")),IF(AA72=0,,IF(OR($E$17='Customer Info'!$H$19,$E$17=0),AA72,(AA72/$E$17)*'Customer Info'!$H$19)),)","v":0},{"$f":"IF((OR($F$18=0,$F$18=\"none\")),IF(AB72=0,,IF(OR($E$18='Customer Info'!$H$20,$E$18=0),AB72,(AB72/$E$18)*'Customer Info'!$H$20)),)","v":0},{"$f":"IF((OR($F$19=0,$F$19=\"none\")),IF(AC72=0,,IF(OR($E$19='Customer Info'!$H$21,$E$19=0),AC72,(AC72/$E$19)*'Customer Info'!$H$21)),)","v":0},{"$f":"IF((OR($F$4=0,$F$4=\"none\")),IF(AD72=0,,IF(OR($E$4='Customer Info'!$D$18,$E$4=0),AD72,(AD72/$E$4)*'Customer Info'!$D$18)),)","v":0},{"$f":"IF((OR($F$5=0,$F$5=\"none\")),IF(AE72=0,,IF(OR($E$5='Customer Info'!$D$19,$E$5=0),AE72,(AE72/$E$5)*'Customer Info'!$D$19)),)","v":0},{"$f":"IF((OR($F$6=0,$F$6=\"none\")),IF(AF72=0,,IF(OR($E$6='Customer Info'!$D$20,$E$6=0),AF72,(AF72/$E$6)*'Customer Info'!$D$20)),)","v":0},{"$f":"IF((OR($F$7=0,$F$7=\"none\")),IF(AG72=0,,IF(OR($E$7='Customer Info'!$D$21,$E$7=0),AG72,(AG72/$E$7)*'Customer Info'!$D$21)),)","v":0},0,0,{"$f":"IF(E72=\"plate waste\",,IF('Customer Info'!$M$18=0,'Log Sheet'!AY72,'Customer Info'!$M$18*'Log Sheet'!AY72))","v":0},{"$f":"IF(E72=\"plate waste\",IF(OR(C72=\"patient\",C72=\"patient beverages\"),IF('Customer Info'!$M$27=0,AY72*'Customer Info'!$M$18,AY72*'Customer Info'!$M$27),IF(C72=\"cafeteria\",IF('Customer Info'!$M$28=0,AY72*'Customer Info'!$M$18,AY72*'Customer Info'!$M$28),IF(C72=\"other1\",IF('Customer Info'!$M$29=0,AY72*'Customer Info'!$M$18,AY72*'Customer Info'!$M$29),))),)","v":0},0,{"$f":"IF($F$4=\"lunch\",IF(S72=0,,(S72/$E$5)*'Customer Info'!$D$18),)","v":0},{"$f":"IF($F$4=\"dinner\",IF(T72=0,,(T72/$E$6)*'Customer Info'!$D$18),)","v":0},{"$f":"IF($F$4=\"other\",IF(U72=0,,(U72/$E$7)*'Customer Info'!$D$18),)","v":0},0,{"$f":"IF($F$5=\"breakfast\",IF(R72=0,,(R72/$E$4)*'Customer Info'!$D$19),)","v":0},{"$f":"IF($F$5=\"dinner\",IF(T72=0,,(T72/$E$6)*'Customer Info'!$D$19),)","v":0},{"$f":"IF($F$5=\"other\",IF(U72=0,,(U72/$E$7)*'Customer Info'!$D$19),)","v":0},0,{"$f":"IF($F$6=\"breakfast\",IF(R72=0,,(R72/$E$4)*'Customer Info'!$D$20),)","v":0},{"$f":"IF($F$6=\"lunch\",IF(S72=0,,(S72/$E$5)*'Customer Info'!$D$20),)","v":0},{"$f":"IF($F$6=\"other\",IF(U72=0,,(U72/$E$7)*'Customer Info'!$D$20),)","v":0},0,{"$f":"IF($F$7=\"breakfast\",IF(R72=0,,(R72/$E$4)*'Customer Info'!$D$21),)","v":0},{"$f":"IF($F$7=\"lunch\",IF(S72=0,,(S72/$E$5)*'Customer Info'!$D$21),)","v":0},{"$f":"IF($F$7=\"dinner\",IF(T72=0,,(T72/$E$6)*'Customer Info'!$D$21),)","v":0},0,{"$f":"IF($F$10=\"lunch\",IF(W72=0,,(W72/$E$11)*'Customer Info'!$F$18),)","v":0},{"$f":"IF($F$10=\"dinner\",IF(X72=0,,(X72/$E$12)*'Customer Info'!$F$18),)","v":0},{"$f":"IF($F$10=\"other\",IF(Y72=0,,(Y72/$E$13)*'Customer Info'!$F$18),)","v":0},0,{"$f":"IF($F$11=\"breakfast\",IF(V72=0,,(V72/$E$10)*'Customer Info'!$F$19),)","v":0},{"$f":"IF($F$11=\"dinner\",IF(X72=0,,(X72/$E$12)*'Customer Info'!$F$19),)","v":0},{"$f":"IF($F$11=\"other\",IF(Y72=0,,(Y72/$E$13)*'Customer Info'!$F$19),)","v":0},0,{"$f":"IF($F$12=\"breakfast\",IF(V72=0,,(V72/$E$10)*'Customer Info'!$F$20),)","v":0},{"$f":"IF($F$12=\"lunch\",IF(W72=0,,(W72/$E$11)*'Customer Info'!$F$20),)","v":0},{"$f":"IF($F$12=\"other\",IF(Y72=0,,(Y72/$E$13)*'Customer Info'!$F$20),)","v":0},0,{"$f":"IF($F$13=\"breakfast\",IF(V72=0,,(V72/$E$10)*'Customer Info'!$F$21),)","v":0},{"$f":"IF($F$13=\"lunch\",IF(W72=0,,(W72/$E$11)*'Customer Info'!$F$21),)","v":0},{"$f":"IF($F$13=\"dinner\",IF(X72=0,,(X72/$E$12)*'Customer Info'!$F$21),)","v":0},0,{"$f":"IF($F$16=\"lunch\",IF(AA72=0,,(AA72/$E$17)*'Customer Info'!$H$18),)","v":0},{"$f":"IF($F$16=\"dinner\",IF(AB72=0,,(AB72/$E$18)*'Customer Info'!$H$18),)","v":0},{"$f":"IF($F$16=\"other\",IF(AC72=0,,(AC72/$E$19)*'Customer Info'!$H$18),)","v":0},0,{"$f":"IF($F$17=\"breakfast\",IF(Z72=0,,(Z72/$E$16)*'Customer Info'!$H$19),)","v":0},{"$f":"IF($F$17=\"dinner\",IF(AB72=0,,(AB72/$E$18)*'Customer Info'!$H$19),)","v":0},{"$f":"IF($F$17=\"other\",IF(AC72=0,,(AC72/$E$19)*'Customer Info'!$H$19),)","v":0},0,{"$f":"IF($F$18=\"breakfast\",IF(Z72=0,,(Z72/$E$16)*'Customer Info'!$H$20),)","v":0},{"$f":"IF($F$18=\"lunch\",IF(AA72=0,,(AA72/$E$17)*'Customer Info'!$H$20),)","v":0},{"$f":"IF($F$18=\"other\",IF(AC72=0,,(AC72/$E$19)*'Customer Info'!$H$20),)","v":0},0,{"$f":"IF($F$19=\"breakfast\",IF(Z72=0,,(Z72/$E$16)*'Customer Info'!$H$21),)","v":0},{"$f":"IF($F$19=\"lunch\",IF(AA72=0,,(AA72/$E$17)*'Customer Info'!$H$21),)","v":0},{"$f":"IF($F$19=\"dinner\",IF(AB72=0,,(AB72/$E$18)*'Customer Info'!$H$21),)","v":0},0,0,0,0,0,""]
[null,null,null,null,null,null,null,null,null,null,0,0,0,0,0,0,0,0,0,0,0,0,0,0,0,0,0,0,0,0,0,0,0,{"$f":"IF((OR($F$4=0,$F$4=\"none\")),IF(R73=0,,IF(OR($E$4='Customer Info'!$D$18,$E$4=0),R73,(R73/$E$4)*'Customer Info'!$D$18)),)","v":0},{"$f":"IF((OR($F$5=0,$F$5=\"none\")),IF(S73=0,,IF(OR($E$5='Customer Info'!$D$18,$E$5=0),S73,(S73/$E$5)*'Customer Info'!$D$19)),)","v":0},{"$f":"IF((OR($F$6=0,$F$6=\"none\")),IF(T73=0,,IF(OR($E$6='Customer Info'!$D$18,$E$6=0),T73,(T73/$E$6)*'Customer Info'!$D$20)),)","v":0},{"$f":"IF((OR($F$7=0,$F$7=\"none\")),IF(U73=0,,IF(OR($E$7='Customer Info'!$D$18,$E$7=0),U73,(U73/$E$7)*'Customer Info'!$D$21)),)","v":0},{"$f":"IF((OR($F$10=0,$F$10=\"none\")),IF(V73=0,,IF(OR($E$10='Customer Info'!$F$18,$E$10=0),V73,(V73/$E$10)*'Customer Info'!$F$18)),)","v":0},{"$f":"IF((OR($F$11=0,$F$11=\"none\")),IF(W73=0,,IF(OR($E$11='Customer Info'!$F$19,$E$11=0),W73,(W73/$E$11)*'Customer Info'!$F$19)),)","v":0},{"$f":"IF((OR($F$12=0,$F$12=\"none\")),IF(X73=0,,IF(OR($E$12='Customer Info'!$F$20,$E$12=0),X73,(X73/$E$12)*'Customer Info'!$F$20)),)","v":0},{"$f":"IF((OR($F$13=0,$F$13=\"none\")),IF(Y73=0,,IF(OR($E$13='Customer Info'!$F$21,$E$13=0),Y73,(Y73/$E$13)*'Customer Info'!$F$21)),)","v":0},{"$f":"IF((OR($F$16=0,$F$16=\"none\")),IF(Z73=0,,IF(OR($E$16='Customer Info'!$H$18,$E$16=0),Z73,(Z73/$E$16)*'Customer Info'!$H$18)),)","v":0},{"$f":"IF((OR($F$17=0,$F$17=\"none\")),IF(AA73=0,,IF(OR($E$17='Customer Info'!$H$19,$E$17=0),AA73,(AA73/$E$17)*'Customer Info'!$H$19)),)","v":0},{"$f":"IF((OR($F$18=0,$F$18=\"none\")),IF(AB73=0,,IF(OR($E$18='Customer Info'!$H$20,$E$18=0),AB73,(AB73/$E$18)*'Customer Info'!$H$20)),)","v":0},{"$f":"IF((OR($F$19=0,$F$19=\"none\")),IF(AC73=0,,IF(OR($E$19='Customer Info'!$H$21,$E$19=0),AC73,(AC73/$E$19)*'Customer Info'!$H$21)),)","v":0},{"$f":"IF((OR($F$4=0,$F$4=\"none\")),IF(AD73=0,,IF(OR($E$4='Customer Info'!$D$18,$E$4=0),AD73,(AD73/$E$4)*'Customer Info'!$D$18)),)","v":0},{"$f":"IF((OR($F$5=0,$F$5=\"none\")),IF(AE73=0,,IF(OR($E$5='Customer Info'!$D$19,$E$5=0),AE73,(AE73/$E$5)*'Customer Info'!$D$19)),)","v":0},{"$f":"IF((OR($F$6=0,$F$6=\"none\")),IF(AF73=0,,IF(OR($E$6='Customer Info'!$D$20,$E$6=0),AF73,(AF73/$E$6)*'Customer Info'!$D$20)),)","v":0},{"$f":"IF((OR($F$7=0,$F$7=\"none\")),IF(AG73=0,,IF(OR($E$7='Customer Info'!$D$21,$E$7=0),AG73,(AG73/$E$7)*'Customer Info'!$D$21)),)","v":0},0,0,{"$f":"IF(E73=\"plate waste\",,IF('Customer Info'!$M$18=0,'Log Sheet'!AY73,'Customer Info'!$M$18*'Log Sheet'!AY73))","v":0},{"$f":"IF(E73=\"plate waste\",IF(OR(C73=\"patient\",C73=\"patient beverages\"),IF('Customer Info'!$M$27=0,AY73*'Customer Info'!$M$18,AY73*'Customer Info'!$M$27),IF(C73=\"cafeteria\",IF('Customer Info'!$M$28=0,AY73*'Customer Info'!$M$18,AY73*'Customer Info'!$M$28),IF(C73=\"other1\",IF('Customer Info'!$M$29=0,AY73*'Customer Info'!$M$18,AY73*'Customer Info'!$M$29),))),)","v":0},0,{"$f":"IF($F$4=\"lunch\",IF(S73=0,,(S73/$E$5)*'Customer Info'!$D$18),)","v":0},{"$f":"IF($F$4=\"dinner\",IF(T73=0,,(T73/$E$6)*'Customer Info'!$D$18),)","v":0},{"$f":"IF($F$4=\"other\",IF(U73=0,,(U73/$E$7)*'Customer Info'!$D$18),)","v":0},0,{"$f":"IF($F$5=\"breakfast\",IF(R73=0,,(R73/$E$4)*'Customer Info'!$D$19),)","v":0},{"$f":"IF($F$5=\"dinner\",IF(T73=0,,(T73/$E$6)*'Customer Info'!$D$19),)","v":0},{"$f":"IF($F$5=\"other\",IF(U73=0,,(U73/$E$7)*'Customer Info'!$D$19),)","v":0},0,{"$f":"IF($F$6=\"breakfast\",IF(R73=0,,(R73/$E$4)*'Customer Info'!$D$20),)","v":0},{"$f":"IF($F$6=\"lunch\",IF(S73=0,,(S73/$E$5)*'Customer Info'!$D$20),)","v":0},{"$f":"IF($F$6=\"other\",IF(U73=0,,(U73/$E$7)*'Customer Info'!$D$20),)","v":0},0,{"$f":"IF($F$7=\"breakfast\",IF(R73=0,,(R73/$E$4)*'Customer Info'!$D$21),)","v":0},{"$f":"IF($F$7=\"lunch\",IF(S73=0,,(S73/$E$5)*'Customer Info'!$D$21),)","v":0},{"$f":"IF($F$7=\"dinner\",IF(T73=0,,(T73/$E$6)*'Customer Info'!$D$21),)","v":0},0,{"$f":"IF($F$10=\"lunch\",IF(W73=0,,(W73/$E$11)*'Customer Info'!$F$18),)","v":0},{"$f":"IF($F$10=\"dinner\",IF(X73=0,,(X73/$E$12)*'Customer Info'!$F$18),)","v":0},{"$f":"IF($F$10=\"other\",IF(Y73=0,,(Y73/$E$13)*'Customer Info'!$F$18),)","v":0},0,{"$f":"IF($F$11=\"breakfast\",IF(V73=0,,(V73/$E$10)*'Customer Info'!$F$19),)","v":0},{"$f":"IF($F$11=\"dinner\",IF(X73=0,,(X73/$E$12)*'Customer Info'!$F$19),)","v":0},{"$f":"IF($F$11=\"other\",IF(Y73=0,,(Y73/$E$13)*'Customer Info'!$F$19),)","v":0},0,{"$f":"IF($F$12=\"breakfast\",IF(V73=0,,(V73/$E$10)*'Customer Info'!$F$20),)","v":0},{"$f":"IF($F$12=\"lunch\",IF(W73=0,,(W73/$E$11)*'Customer Info'!$F$20),)","v":0},{"$f":"IF($F$12=\"other\",IF(Y73=0,,(Y73/$E$13)*'Customer Info'!$F$20),)","v":0},0,{"$f":"IF($F$13=\"breakfast\",IF(V73=0,,(V73/$E$10)*'Customer Info'!$F$21),)","v":0},{"$f":"IF($F$13=\"lunch\",IF(W73=0,,(W73/$E$11)*'Customer Info'!$F$21),)","v":0},{"$f":"IF($F$13=\"dinner\",IF(X73=0,,(X73/$E$12)*'Customer Info'!$F$21),)","v":0},0,{"$f":"IF($F$16=\"lunch\",IF(AA73=0,,(AA73/$E$17)*'Customer Info'!$H$18),)","v":0},{"$f":"IF($F$16=\"dinner\",IF(AB73=0,,(AB73/$E$18)*'Customer Info'!$H$18),)","v":0},{"$f":"IF($F$16=\"other\",IF(AC73=0,,(AC73/$E$19)*'Customer Info'!$H$18),)","v":0},0,{"$f":"IF($F$17=\"breakfast\",IF(Z73=0,,(Z73/$E$16)*'Customer Info'!$H$19),)","v":0},{"$f":"IF($F$17=\"dinner\",IF(AB73=0,,(AB73/$E$18)*'Customer Info'!$H$19),)","v":0},{"$f":"IF($F$17=\"other\",IF(AC73=0,,(AC73/$E$19)*'Customer Info'!$H$19),)","v":0},0,{"$f":"IF($F$18=\"breakfast\",IF(Z73=0,,(Z73/$E$16)*'Customer Info'!$H$20),)","v":0},{"$f":"IF($F$18=\"lunch\",IF(AA73=0,,(AA73/$E$17)*'Customer Info'!$H$20),)","v":0},{"$f":"IF($F$18=\"other\",IF(AC73=0,,(AC73/$E$19)*'Customer Info'!$H$20),)","v":0},0,{"$f":"IF($F$19=\"breakfast\",IF(Z73=0,,(Z73/$E$16)*'Customer Info'!$H$21),)","v":0},{"$f":"IF($F$19=\"lunch\",IF(AA73=0,,(AA73/$E$17)*'Customer Info'!$H$21),)","v":0},{"$f":"IF($F$19=\"dinner\",IF(AB73=0,,(AB73/$E$18)*'Customer Info'!$H$21),)","v":0},0,0,0,0,0,""]
[null,null,null,null,null,null,null,null,null,null,0,0,0,0,0,0,0,0,0,0,0,0,0,0,0,0,0,0,0,0,0,0,0,{"$f":"IF((OR($F$4=0,$F$4=\"none\")),IF(R74=0,,IF(OR($E$4='Customer Info'!$D$18,$E$4=0),R74,(R74/$E$4)*'Customer Info'!$D$18)),)","v":0},{"$f":"IF((OR($F$5=0,$F$5=\"none\")),IF(S74=0,,IF(OR($E$5='Customer Info'!$D$18,$E$5=0),S74,(S74/$E$5)*'Customer Info'!$D$19)),)","v":0},{"$f":"IF((OR($F$6=0,$F$6=\"none\")),IF(T74=0,,IF(OR($E$6='Customer Info'!$D$18,$E$6=0),T74,(T74/$E$6)*'Customer Info'!$D$20)),)","v":0},{"$f":"IF((OR($F$7=0,$F$7=\"none\")),IF(U74=0,,IF(OR($E$7='Customer Info'!$D$18,$E$7=0),U74,(U74/$E$7)*'Customer Info'!$D$21)),)","v":0},{"$f":"IF((OR($F$10=0,$F$10=\"none\")),IF(V74=0,,IF(OR($E$10='Customer Info'!$F$18,$E$10=0),V74,(V74/$E$10)*'Customer Info'!$F$18)),)","v":0},{"$f":"IF((OR($F$11=0,$F$11=\"none\")),IF(W74=0,,IF(OR($E$11='Customer Info'!$F$19,$E$11=0),W74,(W74/$E$11)*'Customer Info'!$F$19)),)","v":0},{"$f":"IF((OR($F$12=0,$F$12=\"none\")),IF(X74=0,,IF(OR($E$12='Customer Info'!$F$20,$E$12=0),X74,(X74/$E$12)*'Customer Info'!$F$20)),)","v":0},{"$f":"IF((OR($F$13=0,$F$13=\"none\")),IF(Y74=0,,IF(OR($E$13='Customer Info'!$F$21,$E$13=0),Y74,(Y74/$E$13)*'Customer Info'!$F$21)),)","v":0},{"$f":"IF((OR($F$16=0,$F$16=\"none\")),IF(Z74=0,,IF(OR($E$16='Customer Info'!$H$18,$E$16=0),Z74,(Z74/$E$16)*'Customer Info'!$H$18)),)","v":0},{"$f":"IF((OR($F$17=0,$F$17=\"none\")),IF(AA74=0,,IF(OR($E$17='Customer Info'!$H$19,$E$17=0),AA74,(AA74/$E$17)*'Customer Info'!$H$19)),)","v":0},{"$f":"IF((OR($F$18=0,$F$18=\"none\")),IF(AB74=0,,IF(OR($E$18='Customer Info'!$H$20,$E$18=0),AB74,(AB74/$E$18)*'Customer Info'!$H$20)),)","v":0},{"$f":"IF((OR($F$19=0,$F$19=\"none\")),IF(AC74=0,,IF(OR($E$19='Customer Info'!$H$21,$E$19=0),AC74,(AC74/$E$19)*'Customer Info'!$H$21)),)","v":0},{"$f":"IF((OR($F$4=0,$F$4=\"none\")),IF(AD74=0,,IF(OR($E$4='Customer Info'!$D$18,$E$4=0),AD74,(AD74/$E$4)*'Customer Info'!$D$18)),)","v":0},{"$f":"IF((OR($F$5=0,$F$5=\"none\")),IF(AE74=0,,IF(OR($E$5='Customer Info'!$D$19,$E$5=0),AE74,(AE74/$E$5)*'Customer Info'!$D$19)),)","v":0},{"$f":"IF((OR($F$6=0,$F$6=\"none\")),IF(AF74=0,,IF(OR($E$6='Customer Info'!$D$20,$E$6=0),AF74,(AF74/$E$6)*'Customer Info'!$D$20)),)","v":0},{"$f":"IF((OR($F$7=0,$F$7=\"none\")),IF(AG74=0,,IF(OR($E$7='Customer Info'!$D$21,$E$7=0),AG74,(AG74/$E$7)*'Customer Info'!$D$21)),)","v":0},0,0,{"$f":"IF(E74=\"plate waste\",,IF('Customer Info'!$M$18=0,'Log Sheet'!AY74,'Customer Info'!$M$18*'Log Sheet'!AY74))","v":0},{"$f":"IF(E74=\"plate waste\",IF(OR(C74=\"patient\",C74=\"patient beverages\"),IF('Customer Info'!$M$27=0,AY74*'Customer Info'!$M$18,AY74*'Customer Info'!$M$27),IF(C74=\"cafeteria\",IF('Customer Info'!$M$28=0,AY74*'Customer Info'!$M$18,AY74*'Customer Info'!$M$28),IF(C74=\"other1\",IF('Customer Info'!$M$29=0,AY74*'Customer Info'!$M$18,AY74*'Customer Info'!$M$29),))),)","v":0},0,{"$f":"IF($F$4=\"lunch\",IF(S74=0,,(S74/$E$5)*'Customer Info'!$D$18),)","v":0},{"$f":"IF($F$4=\"dinner\",IF(T74=0,,(T74/$E$6)*'Customer Info'!$D$18),)","v":0},{"$f":"IF($F$4=\"other\",IF(U74=0,,(U74/$E$7)*'Customer Info'!$D$18),)","v":0},0,{"$f":"IF($F$5=\"breakfast\",IF(R74=0,,(R74/$E$4)*'Customer Info'!$D$19),)","v":0},{"$f":"IF($F$5=\"dinner\",IF(T74=0,,(T74/$E$6)*'Customer Info'!$D$19),)","v":0},{"$f":"IF($F$5=\"other\",IF(U74=0,,(U74/$E$7)*'Customer Info'!$D$19),)","v":0},0,{"$f":"IF($F$6=\"breakfast\",IF(R74=0,,(R74/$E$4)*'Customer Info'!$D$20),)","v":0},{"$f":"IF($F$6=\"lunch\",IF(S74=0,,(S74/$E$5)*'Customer Info'!$D$20),)","v":0},{"$f":"IF($F$6=\"other\",IF(U74=0,,(U74/$E$7)*'Customer Info'!$D$20),)","v":0},0,{"$f":"IF($F$7=\"breakfast\",IF(R74=0,,(R74/$E$4)*'Customer Info'!$D$21),)","v":0},{"$f":"IF($F$7=\"lunch\",IF(S74=0,,(S74/$E$5)*'Customer Info'!$D$21),)","v":0},{"$f":"IF($F$7=\"dinner\",IF(T74=0,,(T74/$E$6)*'Customer Info'!$D$21),)","v":0},0,{"$f":"IF($F$10=\"lunch\",IF(W74=0,,(W74/$E$11)*'Customer Info'!$F$18),)","v":0},{"$f":"IF($F$10=\"dinner\",IF(X74=0,,(X74/$E$12)*'Customer Info'!$F$18),)","v":0},{"$f":"IF($F$10=\"other\",IF(Y74=0,,(Y74/$E$13)*'Customer Info'!$F$18),)","v":0},0,{"$f":"IF($F$11=\"breakfast\",IF(V74=0,,(V74/$E$10)*'Customer Info'!$F$19),)","v":0},{"$f":"IF($F$11=\"dinner\",IF(X74=0,,(X74/$E$12)*'Customer Info'!$F$19),)","v":0},{"$f":"IF($F$11=\"other\",IF(Y74=0,,(Y74/$E$13)*'Customer Info'!$F$19),)","v":0},0,{"$f":"IF($F$12=\"breakfast\",IF(V74=0,,(V74/$E$10)*'Customer Info'!$F$20),)","v":0},{"$f":"IF($F$12=\"lunch\",IF(W74=0,,(W74/$E$11)*'Customer Info'!$F$20),)","v":0},{"$f":"IF($F$12=\"other\",IF(Y74=0,,(Y74/$E$13)*'Customer Info'!$F$20),)","v":0},0,{"$f":"IF($F$13=\"breakfast\",IF(V74=0,,(V74/$E$10)*'Customer Info'!$F$21),)","v":0},{"$f":"IF($F$13=\"lunch\",IF(W74=0,,(W74/$E$11)*'Customer Info'!$F$21),)","v":0},{"$f":"IF($F$13=\"dinner\",IF(X74=0,,(X74/$E$12)*'Customer Info'!$F$21),)","v":0},0,{"$f":"IF($F$16=\"lunch\",IF(AA74=0,,(AA74/$E$17)*'Customer Info'!$H$18),)","v":0},{"$f":"IF($F$16=\"dinner\",IF(AB74=0,,(AB74/$E$18)*'Customer Info'!$H$18),)","v":0},{"$f":"IF($F$16=\"other\",IF(AC74=0,,(AC74/$E$19)*'Customer Info'!$H$18),)","v":0},0,{"$f":"IF($F$17=\"breakfast\",IF(Z74=0,,(Z74/$E$16)*'Customer Info'!$H$19),)","v":0},{"$f":"IF($F$17=\"dinner\",IF(AB74=0,,(AB74/$E$18)*'Customer Info'!$H$19),)","v":0},{"$f":"IF($F$17=\"other\",IF(AC74=0,,(AC74/$E$19)*'Customer Info'!$H$19),)","v":0},0,{"$f":"IF($F$18=\"breakfast\",IF(Z74=0,,(Z74/$E$16)*'Customer Info'!$H$20),)","v":0},{"$f":"IF($F$18=\"lunch\",IF(AA74=0,,(AA74/$E$17)*'Customer Info'!$H$20),)","v":0},{"$f":"IF($F$18=\"other\",IF(AC74=0,,(AC74/$E$19)*'Customer Info'!$H$20),)","v":0},0,{"$f":"IF($F$19=\"breakfast\",IF(Z74=0,,(Z74/$E$16)*'Customer Info'!$H$21),)","v":0},{"$f":"IF($F$19=\"lunch\",IF(AA74=0,,(AA74/$E$17)*'Customer Info'!$H$21),)","v":0},{"$f":"IF($F$19=\"dinner\",IF(AB74=0,,(AB74/$E$18)*'Customer Info'!$H$21),)","v":0},0,0,0,0,0,""]
[null,null,null,null,null,null,null,null,null,null,0,0,0,0,0,0,0,0,0,0,0,0,0,0,0,0,0,0,0,0,0,0,0,{"$f":"IF((OR($F$4=0,$F$4=\"none\")),IF(R75=0,,IF(OR($E$4='Customer Info'!$D$18,$E$4=0),R75,(R75/$E$4)*'Customer Info'!$D$18)),)","v":0},{"$f":"IF((OR($F$5=0,$F$5=\"none\")),IF(S75=0,,IF(OR($E$5='Customer Info'!$D$18,$E$5=0),S75,(S75/$E$5)*'Customer Info'!$D$19)),)","v":0},{"$f":"IF((OR($F$6=0,$F$6=\"none\")),IF(T75=0,,IF(OR($E$6='Customer Info'!$D$18,$E$6=0),T75,(T75/$E$6)*'Customer Info'!$D$20)),)","v":0},{"$f":"IF((OR($F$7=0,$F$7=\"none\")),IF(U75=0,,IF(OR($E$7='Customer Info'!$D$18,$E$7=0),U75,(U75/$E$7)*'Customer Info'!$D$21)),)","v":0},{"$f":"IF((OR($F$10=0,$F$10=\"none\")),IF(V75=0,,IF(OR($E$10='Customer Info'!$F$18,$E$10=0),V75,(V75/$E$10)*'Customer Info'!$F$18)),)","v":0},{"$f":"IF((OR($F$11=0,$F$11=\"none\")),IF(W75=0,,IF(OR($E$11='Customer Info'!$F$19,$E$11=0),W75,(W75/$E$11)*'Customer Info'!$F$19)),)","v":0},{"$f":"IF((OR($F$12=0,$F$12=\"none\")),IF(X75=0,,IF(OR($E$12='Customer Info'!$F$20,$E$12=0),X75,(X75/$E$12)*'Customer Info'!$F$20)),)","v":0},{"$f":"IF((OR($F$13=0,$F$13=\"none\")),IF(Y75=0,,IF(OR($E$13='Customer Info'!$F$21,$E$13=0),Y75,(Y75/$E$13)*'Customer Info'!$F$21)),)","v":0},{"$f":"IF((OR($F$16=0,$F$16=\"none\")),IF(Z75=0,,IF(OR($E$16='Customer Info'!$H$18,$E$16=0),Z75,(Z75/$E$16)*'Customer Info'!$H$18)),)","v":0},{"$f":"IF((OR($F$17=0,$F$17=\"none\")),IF(AA75=0,,IF(OR($E$17='Customer Info'!$H$19,$E$17=0),AA75,(AA75/$E$17)*'Customer Info'!$H$19)),)","v":0},{"$f":"IF((OR($F$18=0,$F$18=\"none\")),IF(AB75=0,,IF(OR($E$18='Customer Info'!$H$20,$E$18=0),AB75,(AB75/$E$18)*'Customer Info'!$H$20)),)","v":0},{"$f":"IF((OR($F$19=0,$F$19=\"none\")),IF(AC75=0,,IF(OR($E$19='Customer Info'!$H$21,$E$19=0),AC75,(AC75/$E$19)*'Customer Info'!$H$21)),)","v":0},{"$f":"IF((OR($F$4=0,$F$4=\"none\")),IF(AD75=0,,IF(OR($E$4='Customer Info'!$D$18,$E$4=0),AD75,(AD75/$E$4)*'Customer Info'!$D$18)),)","v":0},{"$f":"IF((OR($F$5=0,$F$5=\"none\")),IF(AE75=0,,IF(OR($E$5='Customer Info'!$D$19,$E$5=0),AE75,(AE75/$E$5)*'Customer Info'!$D$19)),)","v":0},{"$f":"IF((OR($F$6=0,$F$6=\"none\")),IF(AF75=0,,IF(OR($E$6='Customer Info'!$D$20,$E$6=0),AF75,(AF75/$E$6)*'Customer Info'!$D$20)),)","v":0},{"$f":"IF((OR($F$7=0,$F$7=\"none\")),IF(AG75=0,,IF(OR($E$7='Customer Info'!$D$21,$E$7=0),AG75,(AG75/$E$7)*'Customer Info'!$D$21)),)","v":0},0,0,{"$f":"IF(E75=\"plate waste\",,IF('Customer Info'!$M$18=0,'Log Sheet'!AY75,'Customer Info'!$M$18*'Log Sheet'!AY75))","v":0},{"$f":"IF(E75=\"plate waste\",IF(OR(C75=\"patient\",C75=\"patient beverages\"),IF('Customer Info'!$M$27=0,AY75*'Customer Info'!$M$18,AY75*'Customer Info'!$M$27),IF(C75=\"cafeteria\",IF('Customer Info'!$M$28=0,AY75*'Customer Info'!$M$18,AY75*'Customer Info'!$M$28),IF(C75=\"other1\",IF('Customer Info'!$M$29=0,AY75*'Customer Info'!$M$18,AY75*'Customer Info'!$M$29),))),)","v":0},0,{"$f":"IF($F$4=\"lunch\",IF(S75=0,,(S75/$E$5)*'Customer Info'!$D$18),)","v":0},{"$f":"IF($F$4=\"dinner\",IF(T75=0,,(T75/$E$6)*'Customer Info'!$D$18),)","v":0},{"$f":"IF($F$4=\"other\",IF(U75=0,,(U75/$E$7)*'Customer Info'!$D$18),)","v":0},0,{"$f":"IF($F$5=\"breakfast\",IF(R75=0,,(R75/$E$4)*'Customer Info'!$D$19),)","v":0},{"$f":"IF($F$5=\"dinner\",IF(T75=0,,(T75/$E$6)*'Customer Info'!$D$19),)","v":0},{"$f":"IF($F$5=\"other\",IF(U75=0,,(U75/$E$7)*'Customer Info'!$D$19),)","v":0},0,{"$f":"IF($F$6=\"breakfast\",IF(R75=0,,(R75/$E$4)*'Customer Info'!$D$20),)","v":0},{"$f":"IF($F$6=\"lunch\",IF(S75=0,,(S75/$E$5)*'Customer Info'!$D$20),)","v":0},{"$f":"IF($F$6=\"other\",IF(U75=0,,(U75/$E$7)*'Customer Info'!$D$20),)","v":0},0,{"$f":"IF($F$7=\"breakfast\",IF(R75=0,,(R75/$E$4)*'Customer Info'!$D$21),)","v":0},{"$f":"IF($F$7=\"lunch\",IF(S75=0,,(S75/$E$5)*'Customer Info'!$D$21),)","v":0},{"$f":"IF($F$7=\"dinner\",IF(T75=0,,(T75/$E$6)*'Customer Info'!$D$21),)","v":0},0,{"$f":"IF($F$10=\"lunch\",IF(W75=0,,(W75/$E$11)*'Customer Info'!$F$18),)","v":0},{"$f":"IF($F$10=\"dinner\",IF(X75=0,,(X75/$E$12)*'Customer Info'!$F$18),)","v":0},{"$f":"IF($F$10=\"other\",IF(Y75=0,,(Y75/$E$13)*'Customer Info'!$F$18),)","v":0},0,{"$f":"IF($F$11=\"breakfast\",IF(V75=0,,(V75/$E$10)*'Customer Info'!$F$19),)","v":0},{"$f":"IF($F$11=\"dinner\",IF(X75=0,,(X75/$E$12)*'Customer Info'!$F$19),)","v":0},{"$f":"IF($F$11=\"other\",IF(Y75=0,,(Y75/$E$13)*'Customer Info'!$F$19),)","v":0},0,{"$f":"IF($F$12=\"breakfast\",IF(V75=0,,(V75/$E$10)*'Customer Info'!$F$20),)","v":0},{"$f":"IF($F$12=\"lunch\",IF(W75=0,,(W75/$E$11)*'Customer Info'!$F$20),)","v":0},{"$f":"IF($F$12=\"other\",IF(Y75=0,,(Y75/$E$13)*'Customer Info'!$F$20),)","v":0},0,{"$f":"IF($F$13=\"breakfast\",IF(V75=0,,(V75/$E$10)*'Customer Info'!$F$21),)","v":0},{"$f":"IF($F$13=\"lunch\",IF(W75=0,,(W75/$E$11)*'Customer Info'!$F$21),)","v":0},{"$f":"IF($F$13=\"dinner\",IF(X75=0,,(X75/$E$12)*'Customer Info'!$F$21),)","v":0},0,{"$f":"IF($F$16=\"lunch\",IF(AA75=0,,(AA75/$E$17)*'Customer Info'!$H$18),)","v":0},{"$f":"IF($F$16=\"dinner\",IF(AB75=0,,(AB75/$E$18)*'Customer Info'!$H$18),)","v":0},{"$f":"IF($F$16=\"other\",IF(AC75=0,,(AC75/$E$19)*'Customer Info'!$H$18),)","v":0},0,{"$f":"IF($F$17=\"breakfast\",IF(Z75=0,,(Z75/$E$16)*'Customer Info'!$H$19),)","v":0},{"$f":"IF($F$17=\"dinner\",IF(AB75=0,,(AB75/$E$18)*'Customer Info'!$H$19),)","v":0},{"$f":"IF($F$17=\"other\",IF(AC75=0,,(AC75/$E$19)*'Customer Info'!$H$19),)","v":0},0,{"$f":"IF($F$18=\"breakfast\",IF(Z75=0,,(Z75/$E$16)*'Customer Info'!$H$20),)","v":0},{"$f":"IF($F$18=\"lunch\",IF(AA75=0,,(AA75/$E$17)*'Customer Info'!$H$20),)","v":0},{"$f":"IF($F$18=\"other\",IF(AC75=0,,(AC75/$E$19)*'Customer Info'!$H$20),)","v":0},0,{"$f":"IF($F$19=\"breakfast\",IF(Z75=0,,(Z75/$E$16)*'Customer Info'!$H$21),)","v":0},{"$f":"IF($F$19=\"lunch\",IF(AA75=0,,(AA75/$E$17)*'Customer Info'!$H$21),)","v":0},{"$f":"IF($F$19=\"dinner\",IF(AB75=0,,(AB75/$E$18)*'Customer Info'!$H$21),)","v":0},0,0,0,0,0,""]
[null,null,null,null,null,null,null,null,null,null,0,0,0,0,0,0,0,0,0,0,0,0,0,0,0,0,0,0,0,0,0,0,0,{"$f":"IF((OR($F$4=0,$F$4=\"none\")),IF(R76=0,,IF(OR($E$4='Customer Info'!$D$18,$E$4=0),R76,(R76/$E$4)*'Customer Info'!$D$18)),)","v":0},{"$f":"IF((OR($F$5=0,$F$5=\"none\")),IF(S76=0,,IF(OR($E$5='Customer Info'!$D$18,$E$5=0),S76,(S76/$E$5)*'Customer Info'!$D$19)),)","v":0},{"$f":"IF((OR($F$6=0,$F$6=\"none\")),IF(T76=0,,IF(OR($E$6='Customer Info'!$D$18,$E$6=0),T76,(T76/$E$6)*'Customer Info'!$D$20)),)","v":0},{"$f":"IF((OR($F$7=0,$F$7=\"none\")),IF(U76=0,,IF(OR($E$7='Customer Info'!$D$18,$E$7=0),U76,(U76/$E$7)*'Customer Info'!$D$21)),)","v":0},{"$f":"IF((OR($F$10=0,$F$10=\"none\")),IF(V76=0,,IF(OR($E$10='Customer Info'!$F$18,$E$10=0),V76,(V76/$E$10)*'Customer Info'!$F$18)),)","v":0},{"$f":"IF((OR($F$11=0,$F$11=\"none\")),IF(W76=0,,IF(OR($E$11='Customer Info'!$F$19,$E$11=0),W76,(W76/$E$11)*'Customer Info'!$F$19)),)","v":0},{"$f":"IF((OR($F$12=0,$F$12=\"none\")),IF(X76=0,,IF(OR($E$12='Customer Info'!$F$20,$E$12=0),X76,(X76/$E$12)*'Customer Info'!$F$20)),)","v":0},{"$f":"IF((OR($F$13=0,$F$13=\"none\")),IF(Y76=0,,IF(OR($E$13='Customer Info'!$F$21,$E$13=0),Y76,(Y76/$E$13)*'Customer Info'!$F$21)),)","v":0},{"$f":"IF((OR($F$16=0,$F$16=\"none\")),IF(Z76=0,,IF(OR($E$16='Customer Info'!$H$18,$E$16=0),Z76,(Z76/$E$16)*'Customer Info'!$H$18)),)","v":0},{"$f":"IF((OR($F$17=0,$F$17=\"none\")),IF(AA76=0,,IF(OR($E$17='Customer Info'!$H$19,$E$17=0),AA76,(AA76/$E$17)*'Customer Info'!$H$19)),)","v":0},{"$f":"IF((OR($F$18=0,$F$18=\"none\")),IF(AB76=0,,IF(OR($E$18='Customer Info'!$H$20,$E$18=0),AB76,(AB76/$E$18)*'Customer Info'!$H$20)),)","v":0},{"$f":"IF((OR($F$19=0,$F$19=\"none\")),IF(AC76=0,,IF(OR($E$19='Customer Info'!$H$21,$E$19=0),AC76,(AC76/$E$19)*'Customer Info'!$H$21)),)","v":0},{"$f":"IF((OR($F$4=0,$F$4=\"none\")),IF(AD76=0,,IF(OR($E$4='Customer Info'!$D$18,$E$4=0),AD76,(AD76/$E$4)*'Customer Info'!$D$18)),)","v":0},{"$f":"IF((OR($F$5=0,$F$5=\"none\")),IF(AE76=0,,IF(OR($E$5='Customer Info'!$D$19,$E$5=0),AE76,(AE76/$E$5)*'Customer Info'!$D$19)),)","v":0},{"$f":"IF((OR($F$6=0,$F$6=\"none\")),IF(AF76=0,,IF(OR($E$6='Customer Info'!$D$20,$E$6=0),AF76,(AF76/$E$6)*'Customer Info'!$D$20)),)","v":0},{"$f":"IF((OR($F$7=0,$F$7=\"none\")),IF(AG76=0,,IF(OR($E$7='Customer Info'!$D$21,$E$7=0),AG76,(AG76/$E$7)*'Customer Info'!$D$21)),)","v":0},0,0,{"$f":"IF(E76=\"plate waste\",,IF('Customer Info'!$M$18=0,'Log Sheet'!AY76,'Customer Info'!$M$18*'Log Sheet'!AY76))","v":0},{"$f":"IF(E76=\"plate waste\",IF(OR(C76=\"patient\",C76=\"patient beverages\"),IF('Customer Info'!$M$27=0,AY76*'Customer Info'!$M$18,AY76*'Customer Info'!$M$27),IF(C76=\"cafeteria\",IF('Customer Info'!$M$28=0,AY76*'Customer Info'!$M$18,AY76*'Customer Info'!$M$28),IF(C76=\"other1\",IF('Customer Info'!$M$29=0,AY76*'Customer Info'!$M$18,AY76*'Customer Info'!$M$29),))),)","v":0},0,{"$f":"IF($F$4=\"lunch\",IF(S76=0,,(S76/$E$5)*'Customer Info'!$D$18),)","v":0},{"$f":"IF($F$4=\"dinner\",IF(T76=0,,(T76/$E$6)*'Customer Info'!$D$18),)","v":0},{"$f":"IF($F$4=\"other\",IF(U76=0,,(U76/$E$7)*'Customer Info'!$D$18),)","v":0},0,{"$f":"IF($F$5=\"breakfast\",IF(R76=0,,(R76/$E$4)*'Customer Info'!$D$19),)","v":0},{"$f":"IF($F$5=\"dinner\",IF(T76=0,,(T76/$E$6)*'Customer Info'!$D$19),)","v":0},{"$f":"IF($F$5=\"other\",IF(U76=0,,(U76/$E$7)*'Customer Info'!$D$19),)","v":0},0,{"$f":"IF($F$6=\"breakfast\",IF(R76=0,,(R76/$E$4)*'Customer Info'!$D$20),)","v":0},{"$f":"IF($F$6=\"lunch\",IF(S76=0,,(S76/$E$5)*'Customer Info'!$D$20),)","v":0},{"$f":"IF($F$6=\"other\",IF(U76=0,,(U76/$E$7)*'Customer Info'!$D$20),)","v":0},0,{"$f":"IF($F$7=\"breakfast\",IF(R76=0,,(R76/$E$4)*'Customer Info'!$D$21),)","v":0},{"$f":"IF($F$7=\"lunch\",IF(S76=0,,(S76/$E$5)*'Customer Info'!$D$21),)","v":0},{"$f":"IF($F$7=\"dinner\",IF(T76=0,,(T76/$E$6)*'Customer Info'!$D$21),)","v":0},0,{"$f":"IF($F$10=\"lunch\",IF(W76=0,,(W76/$E$11)*'Customer Info'!$F$18),)","v":0},{"$f":"IF($F$10=\"dinner\",IF(X76=0,,(X76/$E$12)*'Customer Info'!$F$18),)","v":0},{"$f":"IF($F$10=\"other\",IF(Y76=0,,(Y76/$E$13)*'Customer Info'!$F$18),)","v":0},0,{"$f":"IF($F$11=\"breakfast\",IF(V76=0,,(V76/$E$10)*'Customer Info'!$F$19),)","v":0},{"$f":"IF($F$11=\"dinner\",IF(X76=0,,(X76/$E$12)*'Customer Info'!$F$19),)","v":0},{"$f":"IF($F$11=\"other\",IF(Y76=0,,(Y76/$E$13)*'Customer Info'!$F$19),)","v":0},0,{"$f":"IF($F$12=\"breakfast\",IF(V76=0,,(V76/$E$10)*'Customer Info'!$F$20),)","v":0},{"$f":"IF($F$12=\"lunch\",IF(W76=0,,(W76/$E$11)*'Customer Info'!$F$20),)","v":0},{"$f":"IF($F$12=\"other\",IF(Y76=0,,(Y76/$E$13)*'Customer Info'!$F$20),)","v":0},0,{"$f":"IF($F$13=\"breakfast\",IF(V76=0,,(V76/$E$10)*'Customer Info'!$F$21),)","v":0},{"$f":"IF($F$13=\"lunch\",IF(W76=0,,(W76/$E$11)*'Customer Info'!$F$21),)","v":0},{"$f":"IF($F$13=\"dinner\",IF(X76=0,,(X76/$E$12)*'Customer Info'!$F$21),)","v":0},0,{"$f":"IF($F$16=\"lunch\",IF(AA76=0,,(AA76/$E$17)*'Customer Info'!$H$18),)","v":0},{"$f":"IF($F$16=\"dinner\",IF(AB76=0,,(AB76/$E$18)*'Customer Info'!$H$18),)","v":0},{"$f":"IF($F$16=\"other\",IF(AC76=0,,(AC76/$E$19)*'Customer Info'!$H$18),)","v":0},0,{"$f":"IF($F$17=\"breakfast\",IF(Z76=0,,(Z76/$E$16)*'Customer Info'!$H$19),)","v":0},{"$f":"IF($F$17=\"dinner\",IF(AB76=0,,(AB76/$E$18)*'Customer Info'!$H$19),)","v":0},{"$f":"IF($F$17=\"other\",IF(AC76=0,,(AC76/$E$19)*'Customer Info'!$H$19),)","v":0},0,{"$f":"IF($F$18=\"breakfast\",IF(Z76=0,,(Z76/$E$16)*'Customer Info'!$H$20),)","v":0},{"$f":"IF($F$18=\"lunch\",IF(AA76=0,,(AA76/$E$17)*'Customer Info'!$H$20),)","v":0},{"$f":"IF($F$18=\"other\",IF(AC76=0,,(AC76/$E$19)*'Customer Info'!$H$20),)","v":0},0,{"$f":"IF($F$19=\"breakfast\",IF(Z76=0,,(Z76/$E$16)*'Customer Info'!$H$21),)","v":0},{"$f":"IF($F$19=\"lunch\",IF(AA76=0,,(AA76/$E$17)*'Customer Info'!$H$21),)","v":0},{"$f":"IF($F$19=\"dinner\",IF(AB76=0,,(AB76/$E$18)*'Customer Info'!$H$21),)","v":0},0,0,0,0,0,""]
[null,null,null,null,null,null,null,null,null,null,0,0,0,0,0,0,0,0,0,0,0,0,0,0,0,0,0,0,0,0,0,0,0,{"$f":"IF((OR($F$4=0,$F$4=\"none\")),IF(R77=0,,IF(OR($E$4='Customer Info'!$D$18,$E$4=0),R77,(R77/$E$4)*'Customer Info'!$D$18)),)","v":0},{"$f":"IF((OR($F$5=0,$F$5=\"none\")),IF(S77=0,,IF(OR($E$5='Customer Info'!$D$18,$E$5=0),S77,(S77/$E$5)*'Customer Info'!$D$19)),)","v":0},{"$f":"IF((OR($F$6=0,$F$6=\"none\")),IF(T77=0,,IF(OR($E$6='Customer Info'!$D$18,$E$6=0),T77,(T77/$E$6)*'Customer Info'!$D$20)),)","v":0},{"$f":"IF((OR($F$7=0,$F$7=\"none\")),IF(U77=0,,IF(OR($E$7='Customer Info'!$D$18,$E$7=0),U77,(U77/$E$7)*'Customer Info'!$D$21)),)","v":0},{"$f":"IF((OR($F$10=0,$F$10=\"none\")),IF(V77=0,,IF(OR($E$10='Customer Info'!$F$18,$E$10=0),V77,(V77/$E$10)*'Customer Info'!$F$18)),)","v":0},{"$f":"IF((OR($F$11=0,$F$11=\"none\")),IF(W77=0,,IF(OR($E$11='Customer Info'!$F$19,$E$11=0),W77,(W77/$E$11)*'Customer Info'!$F$19)),)","v":0},{"$f":"IF((OR($F$12=0,$F$12=\"none\")),IF(X77=0,,IF(OR($E$12='Customer Info'!$F$20,$E$12=0),X77,(X77/$E$12)*'Customer Info'!$F$20)),)","v":0},{"$f":"IF((OR($F$13=0,$F$13=\"none\")),IF(Y77=0,,IF(OR($E$13='Customer Info'!$F$21,$E$13=0),Y77,(Y77/$E$13)*'Customer Info'!$F$21)),)","v":0},{"$f":"IF((OR($F$16=0,$F$16=\"none\")),IF(Z77=0,,IF(OR($E$16='Customer Info'!$H$18,$E$16=0),Z77,(Z77/$E$16)*'Customer Info'!$H$18)),)","v":0},{"$f":"IF((OR($F$17=0,$F$17=\"none\")),IF(AA77=0,,IF(OR($E$17='Customer Info'!$H$19,$E$17=0),AA77,(AA77/$E$17)*'Customer Info'!$H$19)),)","v":0},{"$f":"IF((OR($F$18=0,$F$18=\"none\")),IF(AB77=0,,IF(OR($E$18='Customer Info'!$H$20,$E$18=0),AB77,(AB77/$E$18)*'Customer Info'!$H$20)),)","v":0},{"$f":"IF((OR($F$19=0,$F$19=\"none\")),IF(AC77=0,,IF(OR($E$19='Customer Info'!$H$21,$E$19=0),AC77,(AC77/$E$19)*'Customer Info'!$H$21)),)","v":0},{"$f":"IF((OR($F$4=0,$F$4=\"none\")),IF(AD77=0,,IF(OR($E$4='Customer Info'!$D$18,$E$4=0),AD77,(AD77/$E$4)*'Customer Info'!$D$18)),)","v":0},{"$f":"IF((OR($F$5=0,$F$5=\"none\")),IF(AE77=0,,IF(OR($E$5='Customer Info'!$D$19,$E$5=0),AE77,(AE77/$E$5)*'Customer Info'!$D$19)),)","v":0},{"$f":"IF((OR($F$6=0,$F$6=\"none\")),IF(AF77=0,,IF(OR($E$6='Customer Info'!$D$20,$E$6=0),AF77,(AF77/$E$6)*'Customer Info'!$D$20)),)","v":0},{"$f":"IF((OR($F$7=0,$F$7=\"none\")),IF(AG77=0,,IF(OR($E$7='Customer Info'!$D$21,$E$7=0),AG77,(AG77/$E$7)*'Customer Info'!$D$21)),)","v":0},0,0,{"$f":"IF(E77=\"plate waste\",,IF('Customer Info'!$M$18=0,'Log Sheet'!AY77,'Customer Info'!$M$18*'Log Sheet'!AY77))","v":0},{"$f":"IF(E77=\"plate waste\",IF(OR(C77=\"patient\",C77=\"patient beverages\"),IF('Customer Info'!$M$27=0,AY77*'Customer Info'!$M$18,AY77*'Customer Info'!$M$27),IF(C77=\"cafeteria\",IF('Customer Info'!$M$28=0,AY77*'Customer Info'!$M$18,AY77*'Customer Info'!$M$28),IF(C77=\"other1\",IF('Customer Info'!$M$29=0,AY77*'Customer Info'!$M$18,AY77*'Customer Info'!$M$29),))),)","v":0},0,{"$f":"IF($F$4=\"lunch\",IF(S77=0,,(S77/$E$5)*'Customer Info'!$D$18),)","v":0},{"$f":"IF($F$4=\"dinner\",IF(T77=0,,(T77/$E$6)*'Customer Info'!$D$18),)","v":0},{"$f":"IF($F$4=\"other\",IF(U77=0,,(U77/$E$7)*'Customer Info'!$D$18),)","v":0},0,{"$f":"IF($F$5=\"breakfast\",IF(R77=0,,(R77/$E$4)*'Customer Info'!$D$19),)","v":0},{"$f":"IF($F$5=\"dinner\",IF(T77=0,,(T77/$E$6)*'Customer Info'!$D$19),)","v":0},{"$f":"IF($F$5=\"other\",IF(U77=0,,(U77/$E$7)*'Customer Info'!$D$19),)","v":0},0,{"$f":"IF($F$6=\"breakfast\",IF(R77=0,,(R77/$E$4)*'Customer Info'!$D$20),)","v":0},{"$f":"IF($F$6=\"lunch\",IF(S77=0,,(S77/$E$5)*'Customer Info'!$D$20),)","v":0},{"$f":"IF($F$6=\"other\",IF(U77=0,,(U77/$E$7)*'Customer Info'!$D$20),)","v":0},0,{"$f":"IF($F$7=\"breakfast\",IF(R77=0,,(R77/$E$4)*'Customer Info'!$D$21),)","v":0},{"$f":"IF($F$7=\"lunch\",IF(S77=0,,(S77/$E$5)*'Customer Info'!$D$21),)","v":0},{"$f":"IF($F$7=\"dinner\",IF(T77=0,,(T77/$E$6)*'Customer Info'!$D$21),)","v":0},0,{"$f":"IF($F$10=\"lunch\",IF(W77=0,,(W77/$E$11)*'Customer Info'!$F$18),)","v":0},{"$f":"IF($F$10=\"dinner\",IF(X77=0,,(X77/$E$12)*'Customer Info'!$F$18),)","v":0},{"$f":"IF($F$10=\"other\",IF(Y77=0,,(Y77/$E$13)*'Customer Info'!$F$18),)","v":0},0,{"$f":"IF($F$11=\"breakfast\",IF(V77=0,,(V77/$E$10)*'Customer Info'!$F$19),)","v":0},{"$f":"IF($F$11=\"dinner\",IF(X77=0,,(X77/$E$12)*'Customer Info'!$F$19),)","v":0},{"$f":"IF($F$11=\"other\",IF(Y77=0,,(Y77/$E$13)*'Customer Info'!$F$19),)","v":0},0,{"$f":"IF($F$12=\"breakfast\",IF(V77=0,,(V77/$E$10)*'Customer Info'!$F$20),)","v":0},{"$f":"IF($F$12=\"lunch\",IF(W77=0,,(W77/$E$11)*'Customer Info'!$F$20),)","v":0},{"$f":"IF($F$12=\"other\",IF(Y77=0,,(Y77/$E$13)*'Customer Info'!$F$20),)","v":0},0,{"$f":"IF($F$13=\"breakfast\",IF(V77=0,,(V77/$E$10)*'Customer Info'!$F$21),)","v":0},{"$f":"IF($F$13=\"lunch\",IF(W77=0,,(W77/$E$11)*'Customer Info'!$F$21),)","v":0},{"$f":"IF($F$13=\"dinner\",IF(X77=0,,(X77/$E$12)*'Customer Info'!$F$21),)","v":0},0,{"$f":"IF($F$16=\"lunch\",IF(AA77=0,,(AA77/$E$17)*'Customer Info'!$H$18),)","v":0},{"$f":"IF($F$16=\"dinner\",IF(AB77=0,,(AB77/$E$18)*'Customer Info'!$H$18),)","v":0},{"$f":"IF($F$16=\"other\",IF(AC77=0,,(AC77/$E$19)*'Customer Info'!$H$18),)","v":0},0,{"$f":"IF($F$17=\"breakfast\",IF(Z77=0,,(Z77/$E$16)*'Customer Info'!$H$19),)","v":0},{"$f":"IF($F$17=\"dinner\",IF(AB77=0,,(AB77/$E$18)*'Customer Info'!$H$19),)","v":0},{"$f":"IF($F$17=\"other\",IF(AC77=0,,(AC77/$E$19)*'Customer Info'!$H$19),)","v":0},0,{"$f":"IF($F$18=\"breakfast\",IF(Z77=0,,(Z77/$E$16)*'Customer Info'!$H$20),)","v":0},{"$f":"IF($F$18=\"lunch\",IF(AA77=0,,(AA77/$E$17)*'Customer Info'!$H$20),)","v":0},{"$f":"IF($F$18=\"other\",IF(AC77=0,,(AC77/$E$19)*'Customer Info'!$H$20),)","v":0},0,{"$f":"IF($F$19=\"breakfast\",IF(Z77=0,,(Z77/$E$16)*'Customer Info'!$H$21),)","v":0},{"$f":"IF($F$19=\"lunch\",IF(AA77=0,,(AA77/$E$17)*'Customer Info'!$H$21),)","v":0},{"$f":"IF($F$19=\"dinner\",IF(AB77=0,,(AB77/$E$18)*'Customer Info'!$H$21),)","v":0},0,0,0,0,0,""]
[null,null,null,null,null,null,null,null,null,null,0,0,0,0,0,0,0,0,0,0,0,0,0,0,0,0,0,0,0,0,0,0,0,{"$f":"IF((OR($F$4=0,$F$4=\"none\")),IF(R78=0,,IF(OR($E$4='Customer Info'!$D$18,$E$4=0),R78,(R78/$E$4)*'Customer Info'!$D$18)),)","v":0},{"$f":"IF((OR($F$5=0,$F$5=\"none\")),IF(S78=0,,IF(OR($E$5='Customer Info'!$D$18,$E$5=0),S78,(S78/$E$5)*'Customer Info'!$D$19)),)","v":0},{"$f":"IF((OR($F$6=0,$F$6=\"none\")),IF(T78=0,,IF(OR($E$6='Customer Info'!$D$18,$E$6=0),T78,(T78/$E$6)*'Customer Info'!$D$20)),)","v":0},{"$f":"IF((OR($F$7=0,$F$7=\"none\")),IF(U78=0,,IF(OR($E$7='Customer Info'!$D$18,$E$7=0),U78,(U78/$E$7)*'Customer Info'!$D$21)),)","v":0},{"$f":"IF((OR($F$10=0,$F$10=\"none\")),IF(V78=0,,IF(OR($E$10='Customer Info'!$F$18,$E$10=0),V78,(V78/$E$10)*'Customer Info'!$F$18)),)","v":0},{"$f":"IF((OR($F$11=0,$F$11=\"none\")),IF(W78=0,,IF(OR($E$11='Customer Info'!$F$19,$E$11=0),W78,(W78/$E$11)*'Customer Info'!$F$19)),)","v":0},{"$f":"IF((OR($F$12=0,$F$12=\"none\")),IF(X78=0,,IF(OR($E$12='Customer Info'!$F$20,$E$12=0),X78,(X78/$E$12)*'Customer Info'!$F$20)),)","v":0},{"$f":"IF((OR($F$13=0,$F$13=\"none\")),IF(Y78=0,,IF(OR($E$13='Customer Info'!$F$21,$E$13=0),Y78,(Y78/$E$13)*'Customer Info'!$F$21)),)","v":0},{"$f":"IF((OR($F$16=0,$F$16=\"none\")),IF(Z78=0,,IF(OR($E$16='Customer Info'!$H$18,$E$16=0),Z78,(Z78/$E$16)*'Customer Info'!$H$18)),)","v":0},{"$f":"IF((OR($F$17=0,$F$17=\"none\")),IF(AA78=0,,IF(OR($E$17='Customer Info'!$H$19,$E$17=0),AA78,(AA78/$E$17)*'Customer Info'!$H$19)),)","v":0},{"$f":"IF((OR($F$18=0,$F$18=\"none\")),IF(AB78=0,,IF(OR($E$18='Customer Info'!$H$20,$E$18=0),AB78,(AB78/$E$18)*'Customer Info'!$H$20)),)","v":0},{"$f":"IF((OR($F$19=0,$F$19=\"none\")),IF(AC78=0,,IF(OR($E$19='Customer Info'!$H$21,$E$19=0),AC78,(AC78/$E$19)*'Customer Info'!$H$21)),)","v":0},{"$f":"IF((OR($F$4=0,$F$4=\"none\")),IF(AD78=0,,IF(OR($E$4='Customer Info'!$D$18,$E$4=0),AD78,(AD78/$E$4)*'Customer Info'!$D$18)),)","v":0},{"$f":"IF((OR($F$5=0,$F$5=\"none\")),IF(AE78=0,,IF(OR($E$5='Customer Info'!$D$19,$E$5=0),AE78,(AE78/$E$5)*'Customer Info'!$D$19)),)","v":0},{"$f":"IF((OR($F$6=0,$F$6=\"none\")),IF(AF78=0,,IF(OR($E$6='Customer Info'!$D$20,$E$6=0),AF78,(AF78/$E$6)*'Customer Info'!$D$20)),)","v":0},{"$f":"IF((OR($F$7=0,$F$7=\"none\")),IF(AG78=0,,IF(OR($E$7='Customer Info'!$D$21,$E$7=0),AG78,(AG78/$E$7)*'Customer Info'!$D$21)),)","v":0},0,0,{"$f":"IF(E78=\"plate waste\",,IF('Customer Info'!$M$18=0,'Log Sheet'!AY78,'Customer Info'!$M$18*'Log Sheet'!AY78))","v":0},{"$f":"IF(E78=\"plate waste\",IF(OR(C78=\"patient\",C78=\"patient beverages\"),IF('Customer Info'!$M$27=0,AY78*'Customer Info'!$M$18,AY78*'Customer Info'!$M$27),IF(C78=\"cafeteria\",IF('Customer Info'!$M$28=0,AY78*'Customer Info'!$M$18,AY78*'Customer Info'!$M$28),IF(C78=\"other1\",IF('Customer Info'!$M$29=0,AY78*'Customer Info'!$M$18,AY78*'Customer Info'!$M$29),))),)","v":0},0,{"$f":"IF($F$4=\"lunch\",IF(S78=0,,(S78/$E$5)*'Customer Info'!$D$18),)","v":0},{"$f":"IF($F$4=\"dinner\",IF(T78=0,,(T78/$E$6)*'Customer Info'!$D$18),)","v":0},{"$f":"IF($F$4=\"other\",IF(U78=0,,(U78/$E$7)*'Customer Info'!$D$18),)","v":0},0,{"$f":"IF($F$5=\"breakfast\",IF(R78=0,,(R78/$E$4)*'Customer Info'!$D$19),)","v":0},{"$f":"IF($F$5=\"dinner\",IF(T78=0,,(T78/$E$6)*'Customer Info'!$D$19),)","v":0},{"$f":"IF($F$5=\"other\",IF(U78=0,,(U78/$E$7)*'Customer Info'!$D$19),)","v":0},0,{"$f":"IF($F$6=\"breakfast\",IF(R78=0,,(R78/$E$4)*'Customer Info'!$D$20),)","v":0},{"$f":"IF($F$6=\"lunch\",IF(S78=0,,(S78/$E$5)*'Customer Info'!$D$20),)","v":0},{"$f":"IF($F$6=\"other\",IF(U78=0,,(U78/$E$7)*'Customer Info'!$D$20),)","v":0},0,{"$f":"IF($F$7=\"breakfast\",IF(R78=0,,(R78/$E$4)*'Customer Info'!$D$21),)","v":0},{"$f":"IF($F$7=\"lunch\",IF(S78=0,,(S78/$E$5)*'Customer Info'!$D$21),)","v":0},{"$f":"IF($F$7=\"dinner\",IF(T78=0,,(T78/$E$6)*'Customer Info'!$D$21),)","v":0},0,{"$f":"IF($F$10=\"lunch\",IF(W78=0,,(W78/$E$11)*'Customer Info'!$F$18),)","v":0},{"$f":"IF($F$10=\"dinner\",IF(X78=0,,(X78/$E$12)*'Customer Info'!$F$18),)","v":0},{"$f":"IF($F$10=\"other\",IF(Y78=0,,(Y78/$E$13)*'Customer Info'!$F$18),)","v":0},0,{"$f":"IF($F$11=\"breakfast\",IF(V78=0,,(V78/$E$10)*'Customer Info'!$F$19),)","v":0},{"$f":"IF($F$11=\"dinner\",IF(X78=0,,(X78/$E$12)*'Customer Info'!$F$19),)","v":0},{"$f":"IF($F$11=\"other\",IF(Y78=0,,(Y78/$E$13)*'Customer Info'!$F$19),)","v":0},0,{"$f":"IF($F$12=\"breakfast\",IF(V78=0,,(V78/$E$10)*'Customer Info'!$F$20),)","v":0},{"$f":"IF($F$12=\"lunch\",IF(W78=0,,(W78/$E$11)*'Customer Info'!$F$20),)","v":0},{"$f":"IF($F$12=\"other\",IF(Y78=0,,(Y78/$E$13)*'Customer Info'!$F$20),)","v":0},0,{"$f":"IF($F$13=\"breakfast\",IF(V78=0,,(V78/$E$10)*'Customer Info'!$F$21),)","v":0},{"$f":"IF($F$13=\"lunch\",IF(W78=0,,(W78/$E$11)*'Customer Info'!$F$21),)","v":0},{"$f":"IF($F$13=\"dinner\",IF(X78=0,,(X78/$E$12)*'Customer Info'!$F$21),)","v":0},0,{"$f":"IF($F$16=\"lunch\",IF(AA78=0,,(AA78/$E$17)*'Customer Info'!$H$18),)","v":0},{"$f":"IF($F$16=\"dinner\",IF(AB78=0,,(AB78/$E$18)*'Customer Info'!$H$18),)","v":0},{"$f":"IF($F$16=\"other\",IF(AC78=0,,(AC78/$E$19)*'Customer Info'!$H$18),)","v":0},0,{"$f":"IF($F$17=\"breakfast\",IF(Z78=0,,(Z78/$E$16)*'Customer Info'!$H$19),)","v":0},{"$f":"IF($F$17=\"dinner\",IF(AB78=0,,(AB78/$E$18)*'Customer Info'!$H$19),)","v":0},{"$f":"IF($F$17=\"other\",IF(AC78=0,,(AC78/$E$19)*'Customer Info'!$H$19),)","v":0},0,{"$f":"IF($F$18=\"breakfast\",IF(Z78=0,,(Z78/$E$16)*'Customer Info'!$H$20),)","v":0},{"$f":"IF($F$18=\"lunch\",IF(AA78=0,,(AA78/$E$17)*'Customer Info'!$H$20),)","v":0},{"$f":"IF($F$18=\"other\",IF(AC78=0,,(AC78/$E$19)*'Customer Info'!$H$20),)","v":0},0,{"$f":"IF($F$19=\"breakfast\",IF(Z78=0,,(Z78/$E$16)*'Customer Info'!$H$21),)","v":0},{"$f":"IF($F$19=\"lunch\",IF(AA78=0,,(AA78/$E$17)*'Customer Info'!$H$21),)","v":0},{"$f":"IF($F$19=\"dinner\",IF(AB78=0,,(AB78/$E$18)*'Customer Info'!$H$21),)","v":0},0,0,0,0,0,""]
[null,null,null,null,null,null,null,null,null,null,0,0,0,0,0,0,0,0,0,0,0,0,0,0,0,0,0,0,0,0,0,0,0,{"$f":"IF((OR($F$4=0,$F$4=\"none\")),IF(R79=0,,IF(OR($E$4='Customer Info'!$D$18,$E$4=0),R79,(R79/$E$4)*'Customer Info'!$D$18)),)","v":0},{"$f":"IF((OR($F$5=0,$F$5=\"none\")),IF(S79=0,,IF(OR($E$5='Customer Info'!$D$18,$E$5=0),S79,(S79/$E$5)*'Customer Info'!$D$19)),)","v":0},{"$f":"IF((OR($F$6=0,$F$6=\"none\")),IF(T79=0,,IF(OR($E$6='Customer Info'!$D$18,$E$6=0),T79,(T79/$E$6)*'Customer Info'!$D$20)),)","v":0},{"$f":"IF((OR($F$7=0,$F$7=\"none\")),IF(U79=0,,IF(OR($E$7='Customer Info'!$D$18,$E$7=0),U79,(U79/$E$7)*'Customer Info'!$D$21)),)","v":0},{"$f":"IF((OR($F$10=0,$F$10=\"none\")),IF(V79=0,,IF(OR($E$10='Customer Info'!$F$18,$E$10=0),V79,(V79/$E$10)*'Customer Info'!$F$18)),)","v":0},{"$f":"IF((OR($F$11=0,$F$11=\"none\")),IF(W79=0,,IF(OR($E$11='Customer Info'!$F$19,$E$11=0),W79,(W79/$E$11)*'Customer Info'!$F$19)),)","v":0},{"$f":"IF((OR($F$12=0,$F$12=\"none\")),IF(X79=0,,IF(OR($E$12='Customer Info'!$F$20,$E$12=0),X79,(X79/$E$12)*'Customer Info'!$F$20)),)","v":0},{"$f":"IF((OR($F$13=0,$F$13=\"none\")),IF(Y79=0,,IF(OR($E$13='Customer Info'!$F$21,$E$13=0),Y79,(Y79/$E$13)*'Customer Info'!$F$21)),)","v":0},{"$f":"IF((OR($F$16=0,$F$16=\"none\")),IF(Z79=0,,IF(OR($E$16='Customer Info'!$H$18,$E$16=0),Z79,(Z79/$E$16)*'Customer Info'!$H$18)),)","v":0},{"$f":"IF((OR($F$17=0,$F$17=\"none\")),IF(AA79=0,,IF(OR($E$17='Customer Info'!$H$19,$E$17=0),AA79,(AA79/$E$17)*'Customer Info'!$H$19)),)","v":0},{"$f":"IF((OR($F$18=0,$F$18=\"none\")),IF(AB79=0,,IF(OR($E$18='Customer Info'!$H$20,$E$18=0),AB79,(AB79/$E$18)*'Customer Info'!$H$20)),)","v":0},{"$f":"IF((OR($F$19=0,$F$19=\"none\")),IF(AC79=0,,IF(OR($E$19='Customer Info'!$H$21,$E$19=0),AC79,(AC79/$E$19)*'Customer Info'!$H$21)),)","v":0},{"$f":"IF((OR($F$4=0,$F$4=\"none\")),IF(AD79=0,,IF(OR($E$4='Customer Info'!$D$18,$E$4=0),AD79,(AD79/$E$4)*'Customer Info'!$D$18)),)","v":0},{"$f":"IF((OR($F$5=0,$F$5=\"none\")),IF(AE79=0,,IF(OR($E$5='Customer Info'!$D$19,$E$5=0),AE79,(AE79/$E$5)*'Customer Info'!$D$19)),)","v":0},{"$f":"IF((OR($F$6=0,$F$6=\"none\")),IF(AF79=0,,IF(OR($E$6='Customer Info'!$D$20,$E$6=0),AF79,(AF79/$E$6)*'Customer Info'!$D$20)),)","v":0},{"$f":"IF((OR($F$7=0,$F$7=\"none\")),IF(AG79=0,,IF(OR($E$7='Customer Info'!$D$21,$E$7=0),AG79,(AG79/$E$7)*'Customer Info'!$D$21)),)","v":0},0,0,{"$f":"IF(E79=\"plate waste\",,IF('Customer Info'!$M$18=0,'Log Sheet'!AY79,'Customer Info'!$M$18*'Log Sheet'!AY79))","v":0},{"$f":"IF(E79=\"plate waste\",IF(OR(C79=\"patient\",C79=\"patient beverages\"),IF('Customer Info'!$M$27=0,AY79*'Customer Info'!$M$18,AY79*'Customer Info'!$M$27),IF(C79=\"cafeteria\",IF('Customer Info'!$M$28=0,AY79*'Customer Info'!$M$18,AY79*'Customer Info'!$M$28),IF(C79=\"other1\",IF('Customer Info'!$M$29=0,AY79*'Customer Info'!$M$18,AY79*'Customer Info'!$M$29),))),)","v":0},0,{"$f":"IF($F$4=\"lunch\",IF(S79=0,,(S79/$E$5)*'Customer Info'!$D$18),)","v":0},{"$f":"IF($F$4=\"dinner\",IF(T79=0,,(T79/$E$6)*'Customer Info'!$D$18),)","v":0},{"$f":"IF($F$4=\"other\",IF(U79=0,,(U79/$E$7)*'Customer Info'!$D$18),)","v":0},0,{"$f":"IF($F$5=\"breakfast\",IF(R79=0,,(R79/$E$4)*'Customer Info'!$D$19),)","v":0},{"$f":"IF($F$5=\"dinner\",IF(T79=0,,(T79/$E$6)*'Customer Info'!$D$19),)","v":0},{"$f":"IF($F$5=\"other\",IF(U79=0,,(U79/$E$7)*'Customer Info'!$D$19),)","v":0},0,{"$f":"IF($F$6=\"breakfast\",IF(R79=0,,(R79/$E$4)*'Customer Info'!$D$20),)","v":0},{"$f":"IF($F$6=\"lunch\",IF(S79=0,,(S79/$E$5)*'Customer Info'!$D$20),)","v":0},{"$f":"IF($F$6=\"other\",IF(U79=0,,(U79/$E$7)*'Customer Info'!$D$20),)","v":0},0,{"$f":"IF($F$7=\"breakfast\",IF(R79=0,,(R79/$E$4)*'Customer Info'!$D$21),)","v":0},{"$f":"IF($F$7=\"lunch\",IF(S79=0,,(S79/$E$5)*'Customer Info'!$D$21),)","v":0},{"$f":"IF($F$7=\"dinner\",IF(T79=0,,(T79/$E$6)*'Customer Info'!$D$21),)","v":0},0,{"$f":"IF($F$10=\"lunch\",IF(W79=0,,(W79/$E$11)*'Customer Info'!$F$18),)","v":0},{"$f":"IF($F$10=\"dinner\",IF(X79=0,,(X79/$E$12)*'Customer Info'!$F$18),)","v":0},{"$f":"IF($F$10=\"other\",IF(Y79=0,,(Y79/$E$13)*'Customer Info'!$F$18),)","v":0},0,{"$f":"IF($F$11=\"breakfast\",IF(V79=0,,(V79/$E$10)*'Customer Info'!$F$19),)","v":0},{"$f":"IF($F$11=\"dinner\",IF(X79=0,,(X79/$E$12)*'Customer Info'!$F$19),)","v":0},{"$f":"IF($F$11=\"other\",IF(Y79=0,,(Y79/$E$13)*'Customer Info'!$F$19),)","v":0},0,{"$f":"IF($F$12=\"breakfast\",IF(V79=0,,(V79/$E$10)*'Customer Info'!$F$20),)","v":0},{"$f":"IF($F$12=\"lunch\",IF(W79=0,,(W79/$E$11)*'Customer Info'!$F$20),)","v":0},{"$f":"IF($F$12=\"other\",IF(Y79=0,,(Y79/$E$13)*'Customer Info'!$F$20),)","v":0},0,{"$f":"IF($F$13=\"breakfast\",IF(V79=0,,(V79/$E$10)*'Customer Info'!$F$21),)","v":0},{"$f":"IF($F$13=\"lunch\",IF(W79=0,,(W79/$E$11)*'Customer Info'!$F$21),)","v":0},{"$f":"IF($F$13=\"dinner\",IF(X79=0,,(X79/$E$12)*'Customer Info'!$F$21),)","v":0},0,{"$f":"IF($F$16=\"lunch\",IF(AA79=0,,(AA79/$E$17)*'Customer Info'!$H$18),)","v":0},{"$f":"IF($F$16=\"dinner\",IF(AB79=0,,(AB79/$E$18)*'Customer Info'!$H$18),)","v":0},{"$f":"IF($F$16=\"other\",IF(AC79=0,,(AC79/$E$19)*'Customer Info'!$H$18),)","v":0},0,{"$f":"IF($F$17=\"breakfast\",IF(Z79=0,,(Z79/$E$16)*'Customer Info'!$H$19),)","v":0},{"$f":"IF($F$17=\"dinner\",IF(AB79=0,,(AB79/$E$18)*'Customer Info'!$H$19),)","v":0},{"$f":"IF($F$17=\"other\",IF(AC79=0,,(AC79/$E$19)*'Customer Info'!$H$19),)","v":0},0,{"$f":"IF($F$18=\"breakfast\",IF(Z79=0,,(Z79/$E$16)*'Customer Info'!$H$20),)","v":0},{"$f":"IF($F$18=\"lunch\",IF(AA79=0,,(AA79/$E$17)*'Customer Info'!$H$20),)","v":0},{"$f":"IF($F$18=\"other\",IF(AC79=0,,(AC79/$E$19)*'Customer Info'!$H$20),)","v":0},0,{"$f":"IF($F$19=\"breakfast\",IF(Z79=0,,(Z79/$E$16)*'Customer Info'!$H$21),)","v":0},{"$f":"IF($F$19=\"lunch\",IF(AA79=0,,(AA79/$E$17)*'Customer Info'!$H$21),)","v":0},{"$f":"IF($F$19=\"dinner\",IF(AB79=0,,(AB79/$E$18)*'Customer Info'!$H$21),)","v":0},0,0,0,0,0,""]
[null,null,null,null,null,null,null,null,null,null,0,0,0,0,0,0,0,0,0,0,0,0,0,0,0,0,0,0,0,0,0,0,0,{"$f":"IF((OR($F$4=0,$F$4=\"none\")),IF(R80=0,,IF(OR($E$4='Customer Info'!$D$18,$E$4=0),R80,(R80/$E$4)*'Customer Info'!$D$18)),)","v":0},{"$f":"IF((OR($F$5=0,$F$5=\"none\")),IF(S80=0,,IF(OR($E$5='Customer Info'!$D$18,$E$5=0),S80,(S80/$E$5)*'Customer Info'!$D$19)),)","v":0},{"$f":"IF((OR($F$6=0,$F$6=\"none\")),IF(T80=0,,IF(OR($E$6='Customer Info'!$D$18,$E$6=0),T80,(T80/$E$6)*'Customer Info'!$D$20)),)","v":0},{"$f":"IF((OR($F$7=0,$F$7=\"none\")),IF(U80=0,,IF(OR($E$7='Customer Info'!$D$18,$E$7=0),U80,(U80/$E$7)*'Customer Info'!$D$21)),)","v":0},{"$f":"IF((OR($F$10=0,$F$10=\"none\")),IF(V80=0,,IF(OR($E$10='Customer Info'!$F$18,$E$10=0),V80,(V80/$E$10)*'Customer Info'!$F$18)),)","v":0},{"$f":"IF((OR($F$11=0,$F$11=\"none\")),IF(W80=0,,IF(OR($E$11='Customer Info'!$F$19,$E$11=0),W80,(W80/$E$11)*'Customer Info'!$F$19)),)","v":0},{"$f":"IF((OR($F$12=0,$F$12=\"none\")),IF(X80=0,,IF(OR($E$12='Customer Info'!$F$20,$E$12=0),X80,(X80/$E$12)*'Customer Info'!$F$20)),)","v":0},{"$f":"IF((OR($F$13=0,$F$13=\"none\")),IF(Y80=0,,IF(OR($E$13='Customer Info'!$F$21,$E$13=0),Y80,(Y80/$E$13)*'Customer Info'!$F$21)),)","v":0},{"$f":"IF((OR($F$16=0,$F$16=\"none\")),IF(Z80=0,,IF(OR($E$16='Customer Info'!$H$18,$E$16=0),Z80,(Z80/$E$16)*'Customer Info'!$H$18)),)","v":0},{"$f":"IF((OR($F$17=0,$F$17=\"none\")),IF(AA80=0,,IF(OR($E$17='Customer Info'!$H$19,$E$17=0),AA80,(AA80/$E$17)*'Customer Info'!$H$19)),)","v":0},{"$f":"IF((OR($F$18=0,$F$18=\"none\")),IF(AB80=0,,IF(OR($E$18='Customer Info'!$H$20,$E$18=0),AB80,(AB80/$E$18)*'Customer Info'!$H$20)),)","v":0},{"$f":"IF((OR($F$19=0,$F$19=\"none\")),IF(AC80=0,,IF(OR($E$19='Customer Info'!$H$21,$E$19=0),AC80,(AC80/$E$19)*'Customer Info'!$H$21)),)","v":0},{"$f":"IF((OR($F$4=0,$F$4=\"none\")),IF(AD80=0,,IF(OR($E$4='Customer Info'!$D$18,$E$4=0),AD80,(AD80/$E$4)*'Customer Info'!$D$18)),)","v":0},{"$f":"IF((OR($F$5=0,$F$5=\"none\")),IF(AE80=0,,IF(OR($E$5='Customer Info'!$D$19,$E$5=0),AE80,(AE80/$E$5)*'Customer Info'!$D$19)),)","v":0},{"$f":"IF((OR($F$6=0,$F$6=\"none\")),IF(AF80=0,,IF(OR($E$6='Customer Info'!$D$20,$E$6=0),AF80,(AF80/$E$6)*'Customer Info'!$D$20)),)","v":0},{"$f":"IF((OR($F$7=0,$F$7=\"none\")),IF(AG80=0,,IF(OR($E$7='Customer Info'!$D$21,$E$7=0),AG80,(AG80/$E$7)*'Customer Info'!$D$21)),)","v":0},0,0,{"$f":"IF(E80=\"plate waste\",,IF('Customer Info'!$M$18=0,'Log Sheet'!AY80,'Customer Info'!$M$18*'Log Sheet'!AY80))","v":0},{"$f":"IF(E80=\"plate waste\",IF(OR(C80=\"patient\",C80=\"patient beverages\"),IF('Customer Info'!$M$27=0,AY80*'Customer Info'!$M$18,AY80*'Customer Info'!$M$27),IF(C80=\"cafeteria\",IF('Customer Info'!$M$28=0,AY80*'Customer Info'!$M$18,AY80*'Customer Info'!$M$28),IF(C80=\"other1\",IF('Customer Info'!$M$29=0,AY80*'Customer Info'!$M$18,AY80*'Customer Info'!$M$29),))),)","v":0},0,{"$f":"IF($F$4=\"lunch\",IF(S80=0,,(S80/$E$5)*'Customer Info'!$D$18),)","v":0},{"$f":"IF($F$4=\"dinner\",IF(T80=0,,(T80/$E$6)*'Customer Info'!$D$18),)","v":0},{"$f":"IF($F$4=\"other\",IF(U80=0,,(U80/$E$7)*'Customer Info'!$D$18),)","v":0},0,{"$f":"IF($F$5=\"breakfast\",IF(R80=0,,(R80/$E$4)*'Customer Info'!$D$19),)","v":0},{"$f":"IF($F$5=\"dinner\",IF(T80=0,,(T80/$E$6)*'Customer Info'!$D$19),)","v":0},{"$f":"IF($F$5=\"other\",IF(U80=0,,(U80/$E$7)*'Customer Info'!$D$19),)","v":0},0,{"$f":"IF($F$6=\"breakfast\",IF(R80=0,,(R80/$E$4)*'Customer Info'!$D$20),)","v":0},{"$f":"IF($F$6=\"lunch\",IF(S80=0,,(S80/$E$5)*'Customer Info'!$D$20),)","v":0},{"$f":"IF($F$6=\"other\",IF(U80=0,,(U80/$E$7)*'Customer Info'!$D$20),)","v":0},0,{"$f":"IF($F$7=\"breakfast\",IF(R80=0,,(R80/$E$4)*'Customer Info'!$D$21),)","v":0},{"$f":"IF($F$7=\"lunch\",IF(S80=0,,(S80/$E$5)*'Customer Info'!$D$21),)","v":0},{"$f":"IF($F$7=\"dinner\",IF(T80=0,,(T80/$E$6)*'Customer Info'!$D$21),)","v":0},0,{"$f":"IF($F$10=\"lunch\",IF(W80=0,,(W80/$E$11)*'Customer Info'!$F$18),)","v":0},{"$f":"IF($F$10=\"dinner\",IF(X80=0,,(X80/$E$12)*'Customer Info'!$F$18),)","v":0},{"$f":"IF($F$10=\"other\",IF(Y80=0,,(Y80/$E$13)*'Customer Info'!$F$18),)","v":0},0,{"$f":"IF($F$11=\"breakfast\",IF(V80=0,,(V80/$E$10)*'Customer Info'!$F$19),)","v":0},{"$f":"IF($F$11=\"dinner\",IF(X80=0,,(X80/$E$12)*'Customer Info'!$F$19),)","v":0},{"$f":"IF($F$11=\"other\",IF(Y80=0,,(Y80/$E$13)*'Customer Info'!$F$19),)","v":0},0,{"$f":"IF($F$12=\"breakfast\",IF(V80=0,,(V80/$E$10)*'Customer Info'!$F$20),)","v":0},{"$f":"IF($F$12=\"lunch\",IF(W80=0,,(W80/$E$11)*'Customer Info'!$F$20),)","v":0},{"$f":"IF($F$12=\"other\",IF(Y80=0,,(Y80/$E$13)*'Customer Info'!$F$20),)","v":0},0,{"$f":"IF($F$13=\"breakfast\",IF(V80=0,,(V80/$E$10)*'Customer Info'!$F$21),)","v":0},{"$f":"IF($F$13=\"lunch\",IF(W80=0,,(W80/$E$11)*'Customer Info'!$F$21),)","v":0},{"$f":"IF($F$13=\"dinner\",IF(X80=0,,(X80/$E$12)*'Customer Info'!$F$21),)","v":0},0,{"$f":"IF($F$16=\"lunch\",IF(AA80=0,,(AA80/$E$17)*'Customer Info'!$H$18),)","v":0},{"$f":"IF($F$16=\"dinner\",IF(AB80=0,,(AB80/$E$18)*'Customer Info'!$H$18),)","v":0},{"$f":"IF($F$16=\"other\",IF(AC80=0,,(AC80/$E$19)*'Customer Info'!$H$18),)","v":0},0,{"$f":"IF($F$17=\"breakfast\",IF(Z80=0,,(Z80/$E$16)*'Customer Info'!$H$19),)","v":0},{"$f":"IF($F$17=\"dinner\",IF(AB80=0,,(AB80/$E$18)*'Customer Info'!$H$19),)","v":0},{"$f":"IF($F$17=\"other\",IF(AC80=0,,(AC80/$E$19)*'Customer Info'!$H$19),)","v":0},0,{"$f":"IF($F$18=\"breakfast\",IF(Z80=0,,(Z80/$E$16)*'Customer Info'!$H$20),)","v":0},{"$f":"IF($F$18=\"lunch\",IF(AA80=0,,(AA80/$E$17)*'Customer Info'!$H$20),)","v":0},{"$f":"IF($F$18=\"other\",IF(AC80=0,,(AC80/$E$19)*'Customer Info'!$H$20),)","v":0},0,{"$f":"IF($F$19=\"breakfast\",IF(Z80=0,,(Z80/$E$16)*'Customer Info'!$H$21),)","v":0},{"$f":"IF($F$19=\"lunch\",IF(AA80=0,,(AA80/$E$17)*'Customer Info'!$H$21),)","v":0},{"$f":"IF($F$19=\"dinner\",IF(AB80=0,,(AB80/$E$18)*'Customer Info'!$H$21),)","v":0},0,0,0,0,0,""]
[null,null,null,null,null,null,null,null,null,null,0,0,0,0,0,0,0,0,0,0,0,0,0,0,0,0,0,0,0,0,0,0,0,{"$f":"IF((OR($F$4=0,$F$4=\"none\")),IF(R81=0,,IF(OR($E$4='Customer Info'!$D$18,$E$4=0),R81,(R81/$E$4)*'Customer Info'!$D$18)),)","v":0},{"$f":"IF((OR($F$5=0,$F$5=\"none\")),IF(S81=0,,IF(OR($E$5='Customer Info'!$D$18,$E$5=0),S81,(S81/$E$5)*'Customer Info'!$D$19)),)","v":0},{"$f":"IF((OR($F$6=0,$F$6=\"none\")),IF(T81=0,,IF(OR($E$6='Customer Info'!$D$18,$E$6=0),T81,(T81/$E$6)*'Customer Info'!$D$20)),)","v":0},{"$f":"IF((OR($F$7=0,$F$7=\"none\")),IF(U81=0,,IF(OR($E$7='Customer Info'!$D$18,$E$7=0),U81,(U81/$E$7)*'Customer Info'!$D$21)),)","v":0},{"$f":"IF((OR($F$10=0,$F$10=\"none\")),IF(V81=0,,IF(OR($E$10='Customer Info'!$F$18,$E$10=0),V81,(V81/$E$10)*'Customer Info'!$F$18)),)","v":0},{"$f":"IF((OR($F$11=0,$F$11=\"none\")),IF(W81=0,,IF(OR($E$11='Customer Info'!$F$19,$E$11=0),W81,(W81/$E$11)*'Customer Info'!$F$19)),)","v":0},{"$f":"IF((OR($F$12=0,$F$12=\"none\")),IF(X81=0,,IF(OR($E$12='Customer Info'!$F$20,$E$12=0),X81,(X81/$E$12)*'Customer Info'!$F$20)),)","v":0},{"$f":"IF((OR($F$13=0,$F$13=\"none\")),IF(Y81=0,,IF(OR($E$13='Customer Info'!$F$21,$E$13=0),Y81,(Y81/$E$13)*'Customer Info'!$F$21)),)","v":0},{"$f":"IF((OR($F$16=0,$F$16=\"none\")),IF(Z81=0,,IF(OR($E$16='Customer Info'!$H$18,$E$16=0),Z81,(Z81/$E$16)*'Customer Info'!$H$18)),)","v":0},{"$f":"IF((OR($F$17=0,$F$17=\"none\")),IF(AA81=0,,IF(OR($E$17='Customer Info'!$H$19,$E$17=0),AA81,(AA81/$E$17)*'Customer Info'!$H$19)),)","v":0},{"$f":"IF((OR($F$18=0,$F$18=\"none\")),IF(AB81=0,,IF(OR($E$18='Customer Info'!$H$20,$E$18=0),AB81,(AB81/$E$18)*'Customer Info'!$H$20)),)","v":0},{"$f":"IF((OR($F$19=0,$F$19=\"none\")),IF(AC81=0,,IF(OR($E$19='Customer Info'!$H$21,$E$19=0),AC81,(AC81/$E$19)*'Customer Info'!$H$21)),)","v":0},{"$f":"IF((OR($F$4=0,$F$4=\"none\")),IF(AD81=0,,IF(OR($E$4='Customer Info'!$D$18,$E$4=0),AD81,(AD81/$E$4)*'Customer Info'!$D$18)),)","v":0},{"$f":"IF((OR($F$5=0,$F$5=\"none\")),IF(AE81=0,,IF(OR($E$5='Customer Info'!$D$19,$E$5=0),AE81,(AE81/$E$5)*'Customer Info'!$D$19)),)","v":0},{"$f":"IF((OR($F$6=0,$F$6=\"none\")),IF(AF81=0,,IF(OR($E$6='Customer Info'!$D$20,$E$6=0),AF81,(AF81/$E$6)*'Customer Info'!$D$20)),)","v":0},{"$f":"IF((OR($F$7=0,$F$7=\"none\")),IF(AG81=0,,IF(OR($E$7='Customer Info'!$D$21,$E$7=0),AG81,(AG81/$E$7)*'Customer Info'!$D$21)),)","v":0},0,0,{"$f":"IF(E81=\"plate waste\",,IF('Customer Info'!$M$18=0,'Log Sheet'!AY81,'Customer Info'!$M$18*'Log Sheet'!AY81))","v":0},{"$f":"IF(E81=\"plate waste\",IF(OR(C81=\"patient\",C81=\"patient beverages\"),IF('Customer Info'!$M$27=0,AY81*'Customer Info'!$M$18,AY81*'Customer Info'!$M$27),IF(C81=\"cafeteria\",IF('Customer Info'!$M$28=0,AY81*'Customer Info'!$M$18,AY81*'Customer Info'!$M$28),IF(C81=\"other1\",IF('Customer Info'!$M$29=0,AY81*'Customer Info'!$M$18,AY81*'Customer Info'!$M$29),))),)","v":0},0,{"$f":"IF($F$4=\"lunch\",IF(S81=0,,(S81/$E$5)*'Customer Info'!$D$18),)","v":0},{"$f":"IF($F$4=\"dinner\",IF(T81=0,,(T81/$E$6)*'Customer Info'!$D$18),)","v":0},{"$f":"IF($F$4=\"other\",IF(U81=0,,(U81/$E$7)*'Customer Info'!$D$18),)","v":0},0,{"$f":"IF($F$5=\"breakfast\",IF(R81=0,,(R81/$E$4)*'Customer Info'!$D$19),)","v":0},{"$f":"IF($F$5=\"dinner\",IF(T81=0,,(T81/$E$6)*'Customer Info'!$D$19),)","v":0},{"$f":"IF($F$5=\"other\",IF(U81=0,,(U81/$E$7)*'Customer Info'!$D$19),)","v":0},0,{"$f":"IF($F$6=\"breakfast\",IF(R81=0,,(R81/$E$4)*'Customer Info'!$D$20),)","v":0},{"$f":"IF($F$6=\"lunch\",IF(S81=0,,(S81/$E$5)*'Customer Info'!$D$20),)","v":0},{"$f":"IF($F$6=\"other\",IF(U81=0,,(U81/$E$7)*'Customer Info'!$D$20),)","v":0},0,{"$f":"IF($F$7=\"breakfast\",IF(R81=0,,(R81/$E$4)*'Customer Info'!$D$21),)","v":0},{"$f":"IF($F$7=\"lunch\",IF(S81=0,,(S81/$E$5)*'Customer Info'!$D$21),)","v":0},{"$f":"IF($F$7=\"dinner\",IF(T81=0,,(T81/$E$6)*'Customer Info'!$D$21),)","v":0},0,{"$f":"IF($F$10=\"lunch\",IF(W81=0,,(W81/$E$11)*'Customer Info'!$F$18),)","v":0},{"$f":"IF($F$10=\"dinner\",IF(X81=0,,(X81/$E$12)*'Customer Info'!$F$18),)","v":0},{"$f":"IF($F$10=\"other\",IF(Y81=0,,(Y81/$E$13)*'Customer Info'!$F$18),)","v":0},0,{"$f":"IF($F$11=\"breakfast\",IF(V81=0,,(V81/$E$10)*'Customer Info'!$F$19),)","v":0},{"$f":"IF($F$11=\"dinner\",IF(X81=0,,(X81/$E$12)*'Customer Info'!$F$19),)","v":0},{"$f":"IF($F$11=\"other\",IF(Y81=0,,(Y81/$E$13)*'Customer Info'!$F$19),)","v":0},0,{"$f":"IF($F$12=\"breakfast\",IF(V81=0,,(V81/$E$10)*'Customer Info'!$F$20),)","v":0},{"$f":"IF($F$12=\"lunch\",IF(W81=0,,(W81/$E$11)*'Customer Info'!$F$20),)","v":0},{"$f":"IF($F$12=\"other\",IF(Y81=0,,(Y81/$E$13)*'Customer Info'!$F$20),)","v":0},0,{"$f":"IF($F$13=\"breakfast\",IF(V81=0,,(V81/$E$10)*'Customer Info'!$F$21),)","v":0},{"$f":"IF($F$13=\"lunch\",IF(W81=0,,(W81/$E$11)*'Customer Info'!$F$21),)","v":0},{"$f":"IF($F$13=\"dinner\",IF(X81=0,,(X81/$E$12)*'Customer Info'!$F$21),)","v":0},0,{"$f":"IF($F$16=\"lunch\",IF(AA81=0,,(AA81/$E$17)*'Customer Info'!$H$18),)","v":0},{"$f":"IF($F$16=\"dinner\",IF(AB81=0,,(AB81/$E$18)*'Customer Info'!$H$18),)","v":0},{"$f":"IF($F$16=\"other\",IF(AC81=0,,(AC81/$E$19)*'Customer Info'!$H$18),)","v":0},0,{"$f":"IF($F$17=\"breakfast\",IF(Z81=0,,(Z81/$E$16)*'Customer Info'!$H$19),)","v":0},{"$f":"IF($F$17=\"dinner\",IF(AB81=0,,(AB81/$E$18)*'Customer Info'!$H$19),)","v":0},{"$f":"IF($F$17=\"other\",IF(AC81=0,,(AC81/$E$19)*'Customer Info'!$H$19),)","v":0},0,{"$f":"IF($F$18=\"breakfast\",IF(Z81=0,,(Z81/$E$16)*'Customer Info'!$H$20),)","v":0},{"$f":"IF($F$18=\"lunch\",IF(AA81=0,,(AA81/$E$17)*'Customer Info'!$H$20),)","v":0},{"$f":"IF($F$18=\"other\",IF(AC81=0,,(AC81/$E$19)*'Customer Info'!$H$20),)","v":0},0,{"$f":"IF($F$19=\"breakfast\",IF(Z81=0,,(Z81/$E$16)*'Customer Info'!$H$21),)","v":0},{"$f":"IF($F$19=\"lunch\",IF(AA81=0,,(AA81/$E$17)*'Customer Info'!$H$21),)","v":0},{"$f":"IF($F$19=\"dinner\",IF(AB81=0,,(AB81/$E$18)*'Customer Info'!$H$21),)","v":0},0,0,0,0,0,""]
[null,null,null,null,null,null,null,null,null,null,0,0,0,0,0,0,0,0,0,0,0,0,0,0,0,0,0,0,0,0,0,0,0,{"$f":"IF((OR($F$4=0,$F$4=\"none\")),IF(R82=0,,IF(OR($E$4='Customer Info'!$D$18,$E$4=0),R82,(R82/$E$4)*'Customer Info'!$D$18)),)","v":0},{"$f":"IF((OR($F$5=0,$F$5=\"none\")),IF(S82=0,,IF(OR($E$5='Customer Info'!$D$18,$E$5=0),S82,(S82/$E$5)*'Customer Info'!$D$19)),)","v":0},{"$f":"IF((OR($F$6=0,$F$6=\"none\")),IF(T82=0,,IF(OR($E$6='Customer Info'!$D$18,$E$6=0),T82,(T82/$E$6)*'Customer Info'!$D$20)),)","v":0},{"$f":"IF((OR($F$7=0,$F$7=\"none\")),IF(U82=0,,IF(OR($E$7='Customer Info'!$D$18,$E$7=0),U82,(U82/$E$7)*'Customer Info'!$D$21)),)","v":0},{"$f":"IF((OR($F$10=0,$F$10=\"none\")),IF(V82=0,,IF(OR($E$10='Customer Info'!$F$18,$E$10=0),V82,(V82/$E$10)*'Customer Info'!$F$18)),)","v":0},{"$f":"IF((OR($F$11=0,$F$11=\"none\")),IF(W82=0,,IF(OR($E$11='Customer Info'!$F$19,$E$11=0),W82,(W82/$E$11)*'Customer Info'!$F$19)),)","v":0},{"$f":"IF((OR($F$12=0,$F$12=\"none\")),IF(X82=0,,IF(OR($E$12='Customer Info'!$F$20,$E$12=0),X82,(X82/$E$12)*'Customer Info'!$F$20)),)","v":0},{"$f":"IF((OR($F$13=0,$F$13=\"none\")),IF(Y82=0,,IF(OR($E$13='Customer Info'!$F$21,$E$13=0),Y82,(Y82/$E$13)*'Customer Info'!$F$21)),)","v":0},{"$f":"IF((OR($F$16=0,$F$16=\"none\")),IF(Z82=0,,IF(OR($E$16='Customer Info'!$H$18,$E$16=0),Z82,(Z82/$E$16)*'Customer Info'!$H$18)),)","v":0},{"$f":"IF((OR($F$17=0,$F$17=\"none\")),IF(AA82=0,,IF(OR($E$17='Customer Info'!$H$19,$E$17=0),AA82,(AA82/$E$17)*'Customer Info'!$H$19)),)","v":0},{"$f":"IF((OR($F$18=0,$F$18=\"none\")),IF(AB82=0,,IF(OR($E$18='Customer Info'!$H$20,$E$18=0),AB82,(AB82/$E$18)*'Customer Info'!$H$20)),)","v":0},{"$f":"IF((OR($F$19=0,$F$19=\"none\")),IF(AC82=0,,IF(OR($E$19='Customer Info'!$H$21,$E$19=0),AC82,(AC82/$E$19)*'Customer Info'!$H$21)),)","v":0},{"$f":"IF((OR($F$4=0,$F$4=\"none\")),IF(AD82=0,,IF(OR($E$4='Customer Info'!$D$18,$E$4=0),AD82,(AD82/$E$4)*'Customer Info'!$D$18)),)","v":0},{"$f":"IF((OR($F$5=0,$F$5=\"none\")),IF(AE82=0,,IF(OR($E$5='Customer Info'!$D$19,$E$5=0),AE82,(AE82/$E$5)*'Customer Info'!$D$19)),)","v":0},{"$f":"IF((OR($F$6=0,$F$6=\"none\")),IF(AF82=0,,IF(OR($E$6='Customer Info'!$D$20,$E$6=0),AF82,(AF82/$E$6)*'Customer Info'!$D$20)),)","v":0},{"$f":"IF((OR($F$7=0,$F$7=\"none\")),IF(AG82=0,,IF(OR($E$7='Customer Info'!$D$21,$E$7=0),AG82,(AG82/$E$7)*'Customer Info'!$D$21)),)","v":0},0,0,{"$f":"IF(E82=\"plate waste\",,IF('Customer Info'!$M$18=0,'Log Sheet'!AY82,'Customer Info'!$M$18*'Log Sheet'!AY82))","v":0},{"$f":"IF(E82=\"plate waste\",IF(OR(C82=\"patient\",C82=\"patient beverages\"),IF('Customer Info'!$M$27=0,AY82*'Customer Info'!$M$18,AY82*'Customer Info'!$M$27),IF(C82=\"cafeteria\",IF('Customer Info'!$M$28=0,AY82*'Customer Info'!$M$18,AY82*'Customer Info'!$M$28),IF(C82=\"other1\",IF('Customer Info'!$M$29=0,AY82*'Customer Info'!$M$18,AY82*'Customer Info'!$M$29),))),)","v":0},0,{"$f":"IF($F$4=\"lunch\",IF(S82=0,,(S82/$E$5)*'Customer Info'!$D$18),)","v":0},{"$f":"IF($F$4=\"dinner\",IF(T82=0,,(T82/$E$6)*'Customer Info'!$D$18),)","v":0},{"$f":"IF($F$4=\"other\",IF(U82=0,,(U82/$E$7)*'Customer Info'!$D$18),)","v":0},0,{"$f":"IF($F$5=\"breakfast\",IF(R82=0,,(R82/$E$4)*'Customer Info'!$D$19),)","v":0},{"$f":"IF($F$5=\"dinner\",IF(T82=0,,(T82/$E$6)*'Customer Info'!$D$19),)","v":0},{"$f":"IF($F$5=\"other\",IF(U82=0,,(U82/$E$7)*'Customer Info'!$D$19),)","v":0},0,{"$f":"IF($F$6=\"breakfast\",IF(R82=0,,(R82/$E$4)*'Customer Info'!$D$20),)","v":0},{"$f":"IF($F$6=\"lunch\",IF(S82=0,,(S82/$E$5)*'Customer Info'!$D$20),)","v":0},{"$f":"IF($F$6=\"other\",IF(U82=0,,(U82/$E$7)*'Customer Info'!$D$20),)","v":0},0,{"$f":"IF($F$7=\"breakfast\",IF(R82=0,,(R82/$E$4)*'Customer Info'!$D$21),)","v":0},{"$f":"IF($F$7=\"lunch\",IF(S82=0,,(S82/$E$5)*'Customer Info'!$D$21),)","v":0},{"$f":"IF($F$7=\"dinner\",IF(T82=0,,(T82/$E$6)*'Customer Info'!$D$21),)","v":0},0,{"$f":"IF($F$10=\"lunch\",IF(W82=0,,(W82/$E$11)*'Customer Info'!$F$18),)","v":0},{"$f":"IF($F$10=\"dinner\",IF(X82=0,,(X82/$E$12)*'Customer Info'!$F$18),)","v":0},{"$f":"IF($F$10=\"other\",IF(Y82=0,,(Y82/$E$13)*'Customer Info'!$F$18),)","v":0},0,{"$f":"IF($F$11=\"breakfast\",IF(V82=0,,(V82/$E$10)*'Customer Info'!$F$19),)","v":0},{"$f":"IF($F$11=\"dinner\",IF(X82=0,,(X82/$E$12)*'Customer Info'!$F$19),)","v":0},{"$f":"IF($F$11=\"other\",IF(Y82=0,,(Y82/$E$13)*'Customer Info'!$F$19),)","v":0},0,{"$f":"IF($F$12=\"breakfast\",IF(V82=0,,(V82/$E$10)*'Customer Info'!$F$20),)","v":0},{"$f":"IF($F$12=\"lunch\",IF(W82=0,,(W82/$E$11)*'Customer Info'!$F$20),)","v":0},{"$f":"IF($F$12=\"other\",IF(Y82=0,,(Y82/$E$13)*'Customer Info'!$F$20),)","v":0},0,{"$f":"IF($F$13=\"breakfast\",IF(V82=0,,(V82/$E$10)*'Customer Info'!$F$21),)","v":0},{"$f":"IF($F$13=\"lunch\",IF(W82=0,,(W82/$E$11)*'Customer Info'!$F$21),)","v":0},{"$f":"IF($F$13=\"dinner\",IF(X82=0,,(X82/$E$12)*'Customer Info'!$F$21),)","v":0},0,{"$f":"IF($F$16=\"lunch\",IF(AA82=0,,(AA82/$E$17)*'Customer Info'!$H$18),)","v":0},{"$f":"IF($F$16=\"dinner\",IF(AB82=0,,(AB82/$E$18)*'Customer Info'!$H$18),)","v":0},{"$f":"IF($F$16=\"other\",IF(AC82=0,,(AC82/$E$19)*'Customer Info'!$H$18),)","v":0},0,{"$f":"IF($F$17=\"breakfast\",IF(Z82=0,,(Z82/$E$16)*'Customer Info'!$H$19),)","v":0},{"$f":"IF($F$17=\"dinner\",IF(AB82=0,,(AB82/$E$18)*'Customer Info'!$H$19),)","v":0},{"$f":"IF($F$17=\"other\",IF(AC82=0,,(AC82/$E$19)*'Customer Info'!$H$19),)","v":0},0,{"$f":"IF($F$18=\"breakfast\",IF(Z82=0,,(Z82/$E$16)*'Customer Info'!$H$20),)","v":0},{"$f":"IF($F$18=\"lunch\",IF(AA82=0,,(AA82/$E$17)*'Customer Info'!$H$20),)","v":0},{"$f":"IF($F$18=\"other\",IF(AC82=0,,(AC82/$E$19)*'Customer Info'!$H$20),)","v":0},0,{"$f":"IF($F$19=\"breakfast\",IF(Z82=0,,(Z82/$E$16)*'Customer Info'!$H$21),)","v":0},{"$f":"IF($F$19=\"lunch\",IF(AA82=0,,(AA82/$E$17)*'Customer Info'!$H$21),)","v":0},{"$f":"IF($F$19=\"dinner\",IF(AB82=0,,(AB82/$E$18)*'Customer Info'!$H$21),)","v":0},0,0,0,0,0,""]
[null,null,null,null,null,null,null,null,null,null,0,0,0,0,0,0,0,0,0,0,0,0,0,0,0,0,0,0,0,0,0,0,0,{"$f":"IF((OR($F$4=0,$F$4=\"none\")),IF(R83=0,,IF(OR($E$4='Customer Info'!$D$18,$E$4=0),R83,(R83/$E$4)*'Customer Info'!$D$18)),)","v":0},{"$f":"IF((OR($F$5=0,$F$5=\"none\")),IF(S83=0,,IF(OR($E$5='Customer Info'!$D$18,$E$5=0),S83,(S83/$E$5)*'Customer Info'!$D$19)),)","v":0},{"$f":"IF((OR($F$6=0,$F$6=\"none\")),IF(T83=0,,IF(OR($E$6='Customer Info'!$D$18,$E$6=0),T83,(T83/$E$6)*'Customer Info'!$D$20)),)","v":0},{"$f":"IF((OR($F$7=0,$F$7=\"none\")),IF(U83=0,,IF(OR($E$7='Customer Info'!$D$18,$E$7=0),U83,(U83/$E$7)*'Customer Info'!$D$21)),)","v":0},{"$f":"IF((OR($F$10=0,$F$10=\"none\")),IF(V83=0,,IF(OR($E$10='Customer Info'!$F$18,$E$10=0),V83,(V83/$E$10)*'Customer Info'!$F$18)),)","v":0},{"$f":"IF((OR($F$11=0,$F$11=\"none\")),IF(W83=0,,IF(OR($E$11='Customer Info'!$F$19,$E$11=0),W83,(W83/$E$11)*'Customer Info'!$F$19)),)","v":0},{"$f":"IF((OR($F$12=0,$F$12=\"none\")),IF(X83=0,,IF(OR($E$12='Customer Info'!$F$20,$E$12=0),X83,(X83/$E$12)*'Customer Info'!$F$20)),)","v":0},{"$f":"IF((OR($F$13=0,$F$13=\"none\")),IF(Y83=0,,IF(OR($E$13='Customer Info'!$F$21,$E$13=0),Y83,(Y83/$E$13)*'Customer Info'!$F$21)),)","v":0},{"$f":"IF((OR($F$16=0,$F$16=\"none\")),IF(Z83=0,,IF(OR($E$16='Customer Info'!$H$18,$E$16=0),Z83,(Z83/$E$16)*'Customer Info'!$H$18)),)","v":0},{"$f":"IF((OR($F$17=0,$F$17=\"none\")),IF(AA83=0,,IF(OR($E$17='Customer Info'!$H$19,$E$17=0),AA83,(AA83/$E$17)*'Customer Info'!$H$19)),)","v":0},{"$f":"IF((OR($F$18=0,$F$18=\"none\")),IF(AB83=0,,IF(OR($E$18='Customer Info'!$H$20,$E$18=0),AB83,(AB83/$E$18)*'Customer Info'!$H$20)),)","v":0},{"$f":"IF((OR($F$19=0,$F$19=\"none\")),IF(AC83=0,,IF(OR($E$19='Customer Info'!$H$21,$E$19=0),AC83,(AC83/$E$19)*'Customer Info'!$H$21)),)","v":0},{"$f":"IF((OR($F$4=0,$F$4=\"none\")),IF(AD83=0,,IF(OR($E$4='Customer Info'!$D$18,$E$4=0),AD83,(AD83/$E$4)*'Customer Info'!$D$18)),)","v":0},{"$f":"IF((OR($F$5=0,$F$5=\"none\")),IF(AE83=0,,IF(OR($E$5='Customer Info'!$D$19,$E$5=0),AE83,(AE83/$E$5)*'Customer Info'!$D$19)),)","v":0},{"$f":"IF((OR($F$6=0,$F$6=\"none\")),IF(AF83=0,,IF(OR($E$6='Customer Info'!$D$20,$E$6=0),AF83,(AF83/$E$6)*'Customer Info'!$D$20)),)","v":0},{"$f":"IF((OR($F$7=0,$F$7=\"none\")),IF(AG83=0,,IF(OR($E$7='Customer Info'!$D$21,$E$7=0),AG83,(AG83/$E$7)*'Customer Info'!$D$21)),)","v":0},0,0,{"$f":"IF(E83=\"plate waste\",,IF('Customer Info'!$M$18=0,'Log Sheet'!AY83,'Customer Info'!$M$18*'Log Sheet'!AY83))","v":0},{"$f":"IF(E83=\"plate waste\",IF(OR(C83=\"patient\",C83=\"patient beverages\"),IF('Customer Info'!$M$27=0,AY83*'Customer Info'!$M$18,AY83*'Customer Info'!$M$27),IF(C83=\"cafeteria\",IF('Customer Info'!$M$28=0,AY83*'Customer Info'!$M$18,AY83*'Customer Info'!$M$28),IF(C83=\"other1\",IF('Customer Info'!$M$29=0,AY83*'Customer Info'!$M$18,AY83*'Customer Info'!$M$29),))),)","v":0},0,{"$f":"IF($F$4=\"lunch\",IF(S83=0,,(S83/$E$5)*'Customer Info'!$D$18),)","v":0},{"$f":"IF($F$4=\"dinner\",IF(T83=0,,(T83/$E$6)*'Customer Info'!$D$18),)","v":0},{"$f":"IF($F$4=\"other\",IF(U83=0,,(U83/$E$7)*'Customer Info'!$D$18),)","v":0},0,{"$f":"IF($F$5=\"breakfast\",IF(R83=0,,(R83/$E$4)*'Customer Info'!$D$19),)","v":0},{"$f":"IF($F$5=\"dinner\",IF(T83=0,,(T83/$E$6)*'Customer Info'!$D$19),)","v":0},{"$f":"IF($F$5=\"other\",IF(U83=0,,(U83/$E$7)*'Customer Info'!$D$19),)","v":0},0,{"$f":"IF($F$6=\"breakfast\",IF(R83=0,,(R83/$E$4)*'Customer Info'!$D$20),)","v":0},{"$f":"IF($F$6=\"lunch\",IF(S83=0,,(S83/$E$5)*'Customer Info'!$D$20),)","v":0},{"$f":"IF($F$6=\"other\",IF(U83=0,,(U83/$E$7)*'Customer Info'!$D$20),)","v":0},0,{"$f":"IF($F$7=\"breakfast\",IF(R83=0,,(R83/$E$4)*'Customer Info'!$D$21),)","v":0},{"$f":"IF($F$7=\"lunch\",IF(S83=0,,(S83/$E$5)*'Customer Info'!$D$21),)","v":0},{"$f":"IF($F$7=\"dinner\",IF(T83=0,,(T83/$E$6)*'Customer Info'!$D$21),)","v":0},0,{"$f":"IF($F$10=\"lunch\",IF(W83=0,,(W83/$E$11)*'Customer Info'!$F$18),)","v":0},{"$f":"IF($F$10=\"dinner\",IF(X83=0,,(X83/$E$12)*'Customer Info'!$F$18),)","v":0},{"$f":"IF($F$10=\"other\",IF(Y83=0,,(Y83/$E$13)*'Customer Info'!$F$18),)","v":0},0,{"$f":"IF($F$11=\"breakfast\",IF(V83=0,,(V83/$E$10)*'Customer Info'!$F$19),)","v":0},{"$f":"IF($F$11=\"dinner\",IF(X83=0,,(X83/$E$12)*'Customer Info'!$F$19),)","v":0},{"$f":"IF($F$11=\"other\",IF(Y83=0,,(Y83/$E$13)*'Customer Info'!$F$19),)","v":0},0,{"$f":"IF($F$12=\"breakfast\",IF(V83=0,,(V83/$E$10)*'Customer Info'!$F$20),)","v":0},{"$f":"IF($F$12=\"lunch\",IF(W83=0,,(W83/$E$11)*'Customer Info'!$F$20),)","v":0},{"$f":"IF($F$12=\"other\",IF(Y83=0,,(Y83/$E$13)*'Customer Info'!$F$20),)","v":0},0,{"$f":"IF($F$13=\"breakfast\",IF(V83=0,,(V83/$E$10)*'Customer Info'!$F$21),)","v":0},{"$f":"IF($F$13=\"lunch\",IF(W83=0,,(W83/$E$11)*'Customer Info'!$F$21),)","v":0},{"$f":"IF($F$13=\"dinner\",IF(X83=0,,(X83/$E$12)*'Customer Info'!$F$21),)","v":0},0,{"$f":"IF($F$16=\"lunch\",IF(AA83=0,,(AA83/$E$17)*'Customer Info'!$H$18),)","v":0},{"$f":"IF($F$16=\"dinner\",IF(AB83=0,,(AB83/$E$18)*'Customer Info'!$H$18),)","v":0},{"$f":"IF($F$16=\"other\",IF(AC83=0,,(AC83/$E$19)*'Customer Info'!$H$18),)","v":0},0,{"$f":"IF($F$17=\"breakfast\",IF(Z83=0,,(Z83/$E$16)*'Customer Info'!$H$19),)","v":0},{"$f":"IF($F$17=\"dinner\",IF(AB83=0,,(AB83/$E$18)*'Customer Info'!$H$19),)","v":0},{"$f":"IF($F$17=\"other\",IF(AC83=0,,(AC83/$E$19)*'Customer Info'!$H$19),)","v":0},0,{"$f":"IF($F$18=\"breakfast\",IF(Z83=0,,(Z83/$E$16)*'Customer Info'!$H$20),)","v":0},{"$f":"IF($F$18=\"lunch\",IF(AA83=0,,(AA83/$E$17)*'Customer Info'!$H$20),)","v":0},{"$f":"IF($F$18=\"other\",IF(AC83=0,,(AC83/$E$19)*'Customer Info'!$H$20),)","v":0},0,{"$f":"IF($F$19=\"breakfast\",IF(Z83=0,,(Z83/$E$16)*'Customer Info'!$H$21),)","v":0},{"$f":"IF($F$19=\"lunch\",IF(AA83=0,,(AA83/$E$17)*'Customer Info'!$H$21),)","v":0},{"$f":"IF($F$19=\"dinner\",IF(AB83=0,,(AB83/$E$18)*'Customer Info'!$H$21),)","v":0},0,0,0,0,0,""]
[null,null,null,null,null,null,null,null,null,null,0,0,0,0,0,0,0,0,0,0,0,0,0,0,0,0,0,0,0,0,0,0,0,{"$f":"IF((OR($F$4=0,$F$4=\"none\")),IF(R84=0,,IF(OR($E$4='Customer Info'!$D$18,$E$4=0),R84,(R84/$E$4)*'Customer Info'!$D$18)),)","v":0},{"$f":"IF((OR($F$5=0,$F$5=\"none\")),IF(S84=0,,IF(OR($E$5='Customer Info'!$D$18,$E$5=0),S84,(S84/$E$5)*'Customer Info'!$D$19)),)","v":0},{"$f":"IF((OR($F$6=0,$F$6=\"none\")),IF(T84=0,,IF(OR($E$6='Customer Info'!$D$18,$E$6=0),T84,(T84/$E$6)*'Customer Info'!$D$20)),)","v":0},{"$f":"IF((OR($F$7=0,$F$7=\"none\")),IF(U84=0,,IF(OR($E$7='Customer Info'!$D$18,$E$7=0),U84,(U84/$E$7)*'Customer Info'!$D$21)),)","v":0},{"$f":"IF((OR($F$10=0,$F$10=\"none\")),IF(V84=0,,IF(OR($E$10='Customer Info'!$F$18,$E$10=0),V84,(V84/$E$10)*'Customer Info'!$F$18)),)","v":0},{"$f":"IF((OR($F$11=0,$F$11=\"none\")),IF(W84=0,,IF(OR($E$11='Customer Info'!$F$19,$E$11=0),W84,(W84/$E$11)*'Customer Info'!$F$19)),)","v":0},{"$f":"IF((OR($F$12=0,$F$12=\"none\")),IF(X84=0,,IF(OR($E$12='Customer Info'!$F$20,$E$12=0),X84,(X84/$E$12)*'Customer Info'!$F$20)),)","v":0},{"$f":"IF((OR($F$13=0,$F$13=\"none\")),IF(Y84=0,,IF(OR($E$13='Customer Info'!$F$21,$E$13=0),Y84,(Y84/$E$13)*'Customer Info'!$F$21)),)","v":0},{"$f":"IF((OR($F$16=0,$F$16=\"none\")),IF(Z84=0,,IF(OR($E$16='Customer Info'!$H$18,$E$16=0),Z84,(Z84/$E$16)*'Customer Info'!$H$18)),)","v":0},{"$f":"IF((OR($F$17=0,$F$17=\"none\")),IF(AA84=0,,IF(OR($E$17='Customer Info'!$H$19,$E$17=0),AA84,(AA84/$E$17)*'Customer Info'!$H$19)),)","v":0},{"$f":"IF((OR($F$18=0,$F$18=\"none\")),IF(AB84=0,,IF(OR($E$18='Customer Info'!$H$20,$E$18=0),AB84,(AB84/$E$18)*'Customer Info'!$H$20)),)","v":0},{"$f":"IF((OR($F$19=0,$F$19=\"none\")),IF(AC84=0,,IF(OR($E$19='Customer Info'!$H$21,$E$19=0),AC84,(AC84/$E$19)*'Customer Info'!$H$21)),)","v":0},{"$f":"IF((OR($F$4=0,$F$4=\"none\")),IF(AD84=0,,IF(OR($E$4='Customer Info'!$D$18,$E$4=0),AD84,(AD84/$E$4)*'Customer Info'!$D$18)),)","v":0},{"$f":"IF((OR($F$5=0,$F$5=\"none\")),IF(AE84=0,,IF(OR($E$5='Customer Info'!$D$19,$E$5=0),AE84,(AE84/$E$5)*'Customer Info'!$D$19)),)","v":0},{"$f":"IF((OR($F$6=0,$F$6=\"none\")),IF(AF84=0,,IF(OR($E$6='Customer Info'!$D$20,$E$6=0),AF84,(AF84/$E$6)*'Customer Info'!$D$20)),)","v":0},{"$f":"IF((OR($F$7=0,$F$7=\"none\")),IF(AG84=0,,IF(OR($E$7='Customer Info'!$D$21,$E$7=0),AG84,(AG84/$E$7)*'Customer Info'!$D$21)),)","v":0},0,0,{"$f":"IF(E84=\"plate waste\",,IF('Customer Info'!$M$18=0,'Log Sheet'!AY84,'Customer Info'!$M$18*'Log Sheet'!AY84))","v":0},{"$f":"IF(E84=\"plate waste\",IF(OR(C84=\"patient\",C84=\"patient beverages\"),IF('Customer Info'!$M$27=0,AY84*'Customer Info'!$M$18,AY84*'Customer Info'!$M$27),IF(C84=\"cafeteria\",IF('Customer Info'!$M$28=0,AY84*'Customer Info'!$M$18,AY84*'Customer Info'!$M$28),IF(C84=\"other1\",IF('Customer Info'!$M$29=0,AY84*'Customer Info'!$M$18,AY84*'Customer Info'!$M$29),))),)","v":0},0,{"$f":"IF($F$4=\"lunch\",IF(S84=0,,(S84/$E$5)*'Customer Info'!$D$18),)","v":0},{"$f":"IF($F$4=\"dinner\",IF(T84=0,,(T84/$E$6)*'Customer Info'!$D$18),)","v":0},{"$f":"IF($F$4=\"other\",IF(U84=0,,(U84/$E$7)*'Customer Info'!$D$18),)","v":0},0,{"$f":"IF($F$5=\"breakfast\",IF(R84=0,,(R84/$E$4)*'Customer Info'!$D$19),)","v":0},{"$f":"IF($F$5=\"dinner\",IF(T84=0,,(T84/$E$6)*'Customer Info'!$D$19),)","v":0},{"$f":"IF($F$5=\"other\",IF(U84=0,,(U84/$E$7)*'Customer Info'!$D$19),)","v":0},0,{"$f":"IF($F$6=\"breakfast\",IF(R84=0,,(R84/$E$4)*'Customer Info'!$D$20),)","v":0},{"$f":"IF($F$6=\"lunch\",IF(S84=0,,(S84/$E$5)*'Customer Info'!$D$20),)","v":0},{"$f":"IF($F$6=\"other\",IF(U84=0,,(U84/$E$7)*'Customer Info'!$D$20),)","v":0},0,{"$f":"IF($F$7=\"breakfast\",IF(R84=0,,(R84/$E$4)*'Customer Info'!$D$21),)","v":0},{"$f":"IF($F$7=\"lunch\",IF(S84=0,,(S84/$E$5)*'Customer Info'!$D$21),)","v":0},{"$f":"IF($F$7=\"dinner\",IF(T84=0,,(T84/$E$6)*'Customer Info'!$D$21),)","v":0},0,{"$f":"IF($F$10=\"lunch\",IF(W84=0,,(W84/$E$11)*'Customer Info'!$F$18),)","v":0},{"$f":"IF($F$10=\"dinner\",IF(X84=0,,(X84/$E$12)*'Customer Info'!$F$18),)","v":0},{"$f":"IF($F$10=\"other\",IF(Y84=0,,(Y84/$E$13)*'Customer Info'!$F$18),)","v":0},0,{"$f":"IF($F$11=\"breakfast\",IF(V84=0,,(V84/$E$10)*'Customer Info'!$F$19),)","v":0},{"$f":"IF($F$11=\"dinner\",IF(X84=0,,(X84/$E$12)*'Customer Info'!$F$19),)","v":0},{"$f":"IF($F$11=\"other\",IF(Y84=0,,(Y84/$E$13)*'Customer Info'!$F$19),)","v":0},0,{"$f":"IF($F$12=\"breakfast\",IF(V84=0,,(V84/$E$10)*'Customer Info'!$F$20),)","v":0},{"$f":"IF($F$12=\"lunch\",IF(W84=0,,(W84/$E$11)*'Customer Info'!$F$20),)","v":0},{"$f":"IF($F$12=\"other\",IF(Y84=0,,(Y84/$E$13)*'Customer Info'!$F$20),)","v":0},0,{"$f":"IF($F$13=\"breakfast\",IF(V84=0,,(V84/$E$10)*'Customer Info'!$F$21),)","v":0},{"$f":"IF($F$13=\"lunch\",IF(W84=0,,(W84/$E$11)*'Customer Info'!$F$21),)","v":0},{"$f":"IF($F$13=\"dinner\",IF(X84=0,,(X84/$E$12)*'Customer Info'!$F$21),)","v":0},0,{"$f":"IF($F$16=\"lunch\",IF(AA84=0,,(AA84/$E$17)*'Customer Info'!$H$18),)","v":0},{"$f":"IF($F$16=\"dinner\",IF(AB84=0,,(AB84/$E$18)*'Customer Info'!$H$18),)","v":0},{"$f":"IF($F$16=\"other\",IF(AC84=0,,(AC84/$E$19)*'Customer Info'!$H$18),)","v":0},0,{"$f":"IF($F$17=\"breakfast\",IF(Z84=0,,(Z84/$E$16)*'Customer Info'!$H$19),)","v":0},{"$f":"IF($F$17=\"dinner\",IF(AB84=0,,(AB84/$E$18)*'Customer Info'!$H$19),)","v":0},{"$f":"IF($F$17=\"other\",IF(AC84=0,,(AC84/$E$19)*'Customer Info'!$H$19),)","v":0},0,{"$f":"IF($F$18=\"breakfast\",IF(Z84=0,,(Z84/$E$16)*'Customer Info'!$H$20),)","v":0},{"$f":"IF($F$18=\"lunch\",IF(AA84=0,,(AA84/$E$17)*'Customer Info'!$H$20),)","v":0},{"$f":"IF($F$18=\"other\",IF(AC84=0,,(AC84/$E$19)*'Customer Info'!$H$20),)","v":0},0,{"$f":"IF($F$19=\"breakfast\",IF(Z84=0,,(Z84/$E$16)*'Customer Info'!$H$21),)","v":0},{"$f":"IF($F$19=\"lunch\",IF(AA84=0,,(AA84/$E$17)*'Customer Info'!$H$21),)","v":0},{"$f":"IF($F$19=\"dinner\",IF(AB84=0,,(AB84/$E$18)*'Customer Info'!$H$21),)","v":0},0,0,0,0,0,""]
[null,null,null,null,null,null,null,null,null,null,0,0,0,0,0,0,0,0,0,0,0,0,0,0,0,0,0,0,0,0,0,0,0,{"$f":"IF((OR($F$4=0,$F$4=\"none\")),IF(R85=0,,IF(OR($E$4='Customer Info'!$D$18,$E$4=0),R85,(R85/$E$4)*'Customer Info'!$D$18)),)","v":0},{"$f":"IF((OR($F$5=0,$F$5=\"none\")),IF(S85=0,,IF(OR($E$5='Customer Info'!$D$18,$E$5=0),S85,(S85/$E$5)*'Customer Info'!$D$19)),)","v":0},{"$f":"IF((OR($F$6=0,$F$6=\"none\")),IF(T85=0,,IF(OR($E$6='Customer Info'!$D$18,$E$6=0),T85,(T85/$E$6)*'Customer Info'!$D$20)),)","v":0},{"$f":"IF((OR($F$7=0,$F$7=\"none\")),IF(U85=0,,IF(OR($E$7='Customer Info'!$D$18,$E$7=0),U85,(U85/$E$7)*'Customer Info'!$D$21)),)","v":0},{"$f":"IF((OR($F$10=0,$F$10=\"none\")),IF(V85=0,,IF(OR($E$10='Customer Info'!$F$18,$E$10=0),V85,(V85/$E$10)*'Customer Info'!$F$18)),)","v":0},{"$f":"IF((OR($F$11=0,$F$11=\"none\")),IF(W85=0,,IF(OR($E$11='Customer Info'!$F$19,$E$11=0),W85,(W85/$E$11)*'Customer Info'!$F$19)),)","v":0},{"$f":"IF((OR($F$12=0,$F$12=\"none\")),IF(X85=0,,IF(OR($E$12='Customer Info'!$F$20,$E$12=0),X85,(X85/$E$12)*'Customer Info'!$F$20)),)","v":0},{"$f":"IF((OR($F$13=0,$F$13=\"none\")),IF(Y85=0,,IF(OR($E$13='Customer Info'!$F$21,$E$13=0),Y85,(Y85/$E$13)*'Customer Info'!$F$21)),)","v":0},{"$f":"IF((OR($F$16=0,$F$16=\"none\")),IF(Z85=0,,IF(OR($E$16='Customer Info'!$H$18,$E$16=0),Z85,(Z85/$E$16)*'Customer Info'!$H$18)),)","v":0},{"$f":"IF((OR($F$17=0,$F$17=\"none\")),IF(AA85=0,,IF(OR($E$17='Customer Info'!$H$19,$E$17=0),AA85,(AA85/$E$17)*'Customer Info'!$H$19)),)","v":0},{"$f":"IF((OR($F$18=0,$F$18=\"none\")),IF(AB85=0,,IF(OR($E$18='Customer Info'!$H$20,$E$18=0),AB85,(AB85/$E$18)*'Customer Info'!$H$20)),)","v":0},{"$f":"IF((OR($F$19=0,$F$19=\"none\")),IF(AC85=0,,IF(OR($E$19='Customer Info'!$H$21,$E$19=0),AC85,(AC85/$E$19)*'Customer Info'!$H$21)),)","v":0},{"$f":"IF((OR($F$4=0,$F$4=\"none\")),IF(AD85=0,,IF(OR($E$4='Customer Info'!$D$18,$E$4=0),AD85,(AD85/$E$4)*'Customer Info'!$D$18)),)","v":0},{"$f":"IF((OR($F$5=0,$F$5=\"none\")),IF(AE85=0,,IF(OR($E$5='Customer Info'!$D$19,$E$5=0),AE85,(AE85/$E$5)*'Customer Info'!$D$19)),)","v":0},{"$f":"IF((OR($F$6=0,$F$6=\"none\")),IF(AF85=0,,IF(OR($E$6='Customer Info'!$D$20,$E$6=0),AF85,(AF85/$E$6)*'Customer Info'!$D$20)),)","v":0},{"$f":"IF((OR($F$7=0,$F$7=\"none\")),IF(AG85=0,,IF(OR($E$7='Customer Info'!$D$21,$E$7=0),AG85,(AG85/$E$7)*'Customer Info'!$D$21)),)","v":0},0,0,{"$f":"IF(E85=\"plate waste\",,IF('Customer Info'!$M$18=0,'Log Sheet'!AY85,'Customer Info'!$M$18*'Log Sheet'!AY85))","v":0},{"$f":"IF(E85=\"plate waste\",IF(OR(C85=\"patient\",C85=\"patient beverages\"),IF('Customer Info'!$M$27=0,AY85*'Customer Info'!$M$18,AY85*'Customer Info'!$M$27),IF(C85=\"cafeteria\",IF('Customer Info'!$M$28=0,AY85*'Customer Info'!$M$18,AY85*'Customer Info'!$M$28),IF(C85=\"other1\",IF('Customer Info'!$M$29=0,AY85*'Customer Info'!$M$18,AY85*'Customer Info'!$M$29),))),)","v":0},0,{"$f":"IF($F$4=\"lunch\",IF(S85=0,,(S85/$E$5)*'Customer Info'!$D$18),)","v":0},{"$f":"IF($F$4=\"dinner\",IF(T85=0,,(T85/$E$6)*'Customer Info'!$D$18),)","v":0},{"$f":"IF($F$4=\"other\",IF(U85=0,,(U85/$E$7)*'Customer Info'!$D$18),)","v":0},0,{"$f":"IF($F$5=\"breakfast\",IF(R85=0,,(R85/$E$4)*'Customer Info'!$D$19),)","v":0},{"$f":"IF($F$5=\"dinner\",IF(T85=0,,(T85/$E$6)*'Customer Info'!$D$19),)","v":0},{"$f":"IF($F$5=\"other\",IF(U85=0,,(U85/$E$7)*'Customer Info'!$D$19),)","v":0},0,{"$f":"IF($F$6=\"breakfast\",IF(R85=0,,(R85/$E$4)*'Customer Info'!$D$20),)","v":0},{"$f":"IF($F$6=\"lunch\",IF(S85=0,,(S85/$E$5)*'Customer Info'!$D$20),)","v":0},{"$f":"IF($F$6=\"other\",IF(U85=0,,(U85/$E$7)*'Customer Info'!$D$20),)","v":0},0,{"$f":"IF($F$7=\"breakfast\",IF(R85=0,,(R85/$E$4)*'Customer Info'!$D$21),)","v":0},{"$f":"IF($F$7=\"lunch\",IF(S85=0,,(S85/$E$5)*'Customer Info'!$D$21),)","v":0},{"$f":"IF($F$7=\"dinner\",IF(T85=0,,(T85/$E$6)*'Customer Info'!$D$21),)","v":0},0,{"$f":"IF($F$10=\"lunch\",IF(W85=0,,(W85/$E$11)*'Customer Info'!$F$18),)","v":0},{"$f":"IF($F$10=\"dinner\",IF(X85=0,,(X85/$E$12)*'Customer Info'!$F$18),)","v":0},{"$f":"IF($F$10=\"other\",IF(Y85=0,,(Y85/$E$13)*'Customer Info'!$F$18),)","v":0},0,{"$f":"IF($F$11=\"breakfast\",IF(V85=0,,(V85/$E$10)*'Customer Info'!$F$19),)","v":0},{"$f":"IF($F$11=\"dinner\",IF(X85=0,,(X85/$E$12)*'Customer Info'!$F$19),)","v":0},{"$f":"IF($F$11=\"other\",IF(Y85=0,,(Y85/$E$13)*'Customer Info'!$F$19),)","v":0},0,{"$f":"IF($F$12=\"breakfast\",IF(V85=0,,(V85/$E$10)*'Customer Info'!$F$20),)","v":0},{"$f":"IF($F$12=\"lunch\",IF(W85=0,,(W85/$E$11)*'Customer Info'!$F$20),)","v":0},{"$f":"IF($F$12=\"other\",IF(Y85=0,,(Y85/$E$13)*'Customer Info'!$F$20),)","v":0},0,{"$f":"IF($F$13=\"breakfast\",IF(V85=0,,(V85/$E$10)*'Customer Info'!$F$21),)","v":0},{"$f":"IF($F$13=\"lunch\",IF(W85=0,,(W85/$E$11)*'Customer Info'!$F$21),)","v":0},{"$f":"IF($F$13=\"dinner\",IF(X85=0,,(X85/$E$12)*'Customer Info'!$F$21),)","v":0},0,{"$f":"IF($F$16=\"lunch\",IF(AA85=0,,(AA85/$E$17)*'Customer Info'!$H$18),)","v":0},{"$f":"IF($F$16=\"dinner\",IF(AB85=0,,(AB85/$E$18)*'Customer Info'!$H$18),)","v":0},{"$f":"IF($F$16=\"other\",IF(AC85=0,,(AC85/$E$19)*'Customer Info'!$H$18),)","v":0},0,{"$f":"IF($F$17=\"breakfast\",IF(Z85=0,,(Z85/$E$16)*'Customer Info'!$H$19),)","v":0},{"$f":"IF($F$17=\"dinner\",IF(AB85=0,,(AB85/$E$18)*'Customer Info'!$H$19),)","v":0},{"$f":"IF($F$17=\"other\",IF(AC85=0,,(AC85/$E$19)*'Customer Info'!$H$19),)","v":0},0,{"$f":"IF($F$18=\"breakfast\",IF(Z85=0,,(Z85/$E$16)*'Customer Info'!$H$20),)","v":0},{"$f":"IF($F$18=\"lunch\",IF(AA85=0,,(AA85/$E$17)*'Customer Info'!$H$20),)","v":0},{"$f":"IF($F$18=\"other\",IF(AC85=0,,(AC85/$E$19)*'Customer Info'!$H$20),)","v":0},0,{"$f":"IF($F$19=\"breakfast\",IF(Z85=0,,(Z85/$E$16)*'Customer Info'!$H$21),)","v":0},{"$f":"IF($F$19=\"lunch\",IF(AA85=0,,(AA85/$E$17)*'Customer Info'!$H$21),)","v":0},{"$f":"IF($F$19=\"dinner\",IF(AB85=0,,(AB85/$E$18)*'Customer Info'!$H$21),)","v":0},0,0,0,0,0,""]
[null,null,null,null,null,null,null,null,null,null,0,0,0,0,0,0,0,0,0,0,0,0,0,0,0,0,0,0,0,0,0,0,0,{"$f":"IF((OR($F$4=0,$F$4=\"none\")),IF(R86=0,,IF(OR($E$4='Customer Info'!$D$18,$E$4=0),R86,(R86/$E$4)*'Customer Info'!$D$18)),)","v":0},{"$f":"IF((OR($F$5=0,$F$5=\"none\")),IF(S86=0,,IF(OR($E$5='Customer Info'!$D$18,$E$5=0),S86,(S86/$E$5)*'Customer Info'!$D$19)),)","v":0},{"$f":"IF((OR($F$6=0,$F$6=\"none\")),IF(T86=0,,IF(OR($E$6='Customer Info'!$D$18,$E$6=0),T86,(T86/$E$6)*'Customer Info'!$D$20)),)","v":0},{"$f":"IF((OR($F$7=0,$F$7=\"none\")),IF(U86=0,,IF(OR($E$7='Customer Info'!$D$18,$E$7=0),U86,(U86/$E$7)*'Customer Info'!$D$21)),)","v":0},{"$f":"IF((OR($F$10=0,$F$10=\"none\")),IF(V86=0,,IF(OR($E$10='Customer Info'!$F$18,$E$10=0),V86,(V86/$E$10)*'Customer Info'!$F$18)),)","v":0},{"$f":"IF((OR($F$11=0,$F$11=\"none\")),IF(W86=0,,IF(OR($E$11='Customer Info'!$F$19,$E$11=0),W86,(W86/$E$11)*'Customer Info'!$F$19)),)","v":0},{"$f":"IF((OR($F$12=0,$F$12=\"none\")),IF(X86=0,,IF(OR($E$12='Customer Info'!$F$20,$E$12=0),X86,(X86/$E$12)*'Customer Info'!$F$20)),)","v":0},{"$f":"IF((OR($F$13=0,$F$13=\"none\")),IF(Y86=0,,IF(OR($E$13='Customer Info'!$F$21,$E$13=0),Y86,(Y86/$E$13)*'Customer Info'!$F$21)),)","v":0},{"$f":"IF((OR($F$16=0,$F$16=\"none\")),IF(Z86=0,,IF(OR($E$16='Customer Info'!$H$18,$E$16=0),Z86,(Z86/$E$16)*'Customer Info'!$H$18)),)","v":0},{"$f":"IF((OR($F$17=0,$F$17=\"none\")),IF(AA86=0,,IF(OR($E$17='Customer Info'!$H$19,$E$17=0),AA86,(AA86/$E$17)*'Customer Info'!$H$19)),)","v":0},{"$f":"IF((OR($F$18=0,$F$18=\"none\")),IF(AB86=0,,IF(OR($E$18='Customer Info'!$H$20,$E$18=0),AB86,(AB86/$E$18)*'Customer Info'!$H$20)),)","v":0},{"$f":"IF((OR($F$19=0,$F$19=\"none\")),IF(AC86=0,,IF(OR($E$19='Customer Info'!$H$21,$E$19=0),AC86,(AC86/$E$19)*'Customer Info'!$H$21)),)","v":0},{"$f":"IF((OR($F$4=0,$F$4=\"none\")),IF(AD86=0,,IF(OR($E$4='Customer Info'!$D$18,$E$4=0),AD86,(AD86/$E$4)*'Customer Info'!$D$18)),)","v":0},{"$f":"IF((OR($F$5=0,$F$5=\"none\")),IF(AE86=0,,IF(OR($E$5='Customer Info'!$D$19,$E$5=0),AE86,(AE86/$E$5)*'Customer Info'!$D$19)),)","v":0},{"$f":"IF((OR($F$6=0,$F$6=\"none\")),IF(AF86=0,,IF(OR($E$6='Customer Info'!$D$20,$E$6=0),AF86,(AF86/$E$6)*'Customer Info'!$D$20)),)","v":0},{"$f":"IF((OR($F$7=0,$F$7=\"none\")),IF(AG86=0,,IF(OR($E$7='Customer Info'!$D$21,$E$7=0),AG86,(AG86/$E$7)*'Customer Info'!$D$21)),)","v":0},0,0,{"$f":"IF(E86=\"plate waste\",,IF('Customer Info'!$M$18=0,'Log Sheet'!AY86,'Customer Info'!$M$18*'Log Sheet'!AY86))","v":0},{"$f":"IF(E86=\"plate waste\",IF(OR(C86=\"patient\",C86=\"patient beverages\"),IF('Customer Info'!$M$27=0,AY86*'Customer Info'!$M$18,AY86*'Customer Info'!$M$27),IF(C86=\"cafeteria\",IF('Customer Info'!$M$28=0,AY86*'Customer Info'!$M$18,AY86*'Customer Info'!$M$28),IF(C86=\"other1\",IF('Customer Info'!$M$29=0,AY86*'Customer Info'!$M$18,AY86*'Customer Info'!$M$29),))),)","v":0},0,{"$f":"IF($F$4=\"lunch\",IF(S86=0,,(S86/$E$5)*'Customer Info'!$D$18),)","v":0},{"$f":"IF($F$4=\"dinner\",IF(T86=0,,(T86/$E$6)*'Customer Info'!$D$18),)","v":0},{"$f":"IF($F$4=\"other\",IF(U86=0,,(U86/$E$7)*'Customer Info'!$D$18),)","v":0},0,{"$f":"IF($F$5=\"breakfast\",IF(R86=0,,(R86/$E$4)*'Customer Info'!$D$19),)","v":0},{"$f":"IF($F$5=\"dinner\",IF(T86=0,,(T86/$E$6)*'Customer Info'!$D$19),)","v":0},{"$f":"IF($F$5=\"other\",IF(U86=0,,(U86/$E$7)*'Customer Info'!$D$19),)","v":0},0,{"$f":"IF($F$6=\"breakfast\",IF(R86=0,,(R86/$E$4)*'Customer Info'!$D$20),)","v":0},{"$f":"IF($F$6=\"lunch\",IF(S86=0,,(S86/$E$5)*'Customer Info'!$D$20),)","v":0},{"$f":"IF($F$6=\"other\",IF(U86=0,,(U86/$E$7)*'Customer Info'!$D$20),)","v":0},0,{"$f":"IF($F$7=\"breakfast\",IF(R86=0,,(R86/$E$4)*'Customer Info'!$D$21),)","v":0},{"$f":"IF($F$7=\"lunch\",IF(S86=0,,(S86/$E$5)*'Customer Info'!$D$21),)","v":0},{"$f":"IF($F$7=\"dinner\",IF(T86=0,,(T86/$E$6)*'Customer Info'!$D$21),)","v":0},0,{"$f":"IF($F$10=\"lunch\",IF(W86=0,,(W86/$E$11)*'Customer Info'!$F$18),)","v":0},{"$f":"IF($F$10=\"dinner\",IF(X86=0,,(X86/$E$12)*'Customer Info'!$F$18),)","v":0},{"$f":"IF($F$10=\"other\",IF(Y86=0,,(Y86/$E$13)*'Customer Info'!$F$18),)","v":0},0,{"$f":"IF($F$11=\"breakfast\",IF(V86=0,,(V86/$E$10)*'Customer Info'!$F$19),)","v":0},{"$f":"IF($F$11=\"dinner\",IF(X86=0,,(X86/$E$12)*'Customer Info'!$F$19),)","v":0},{"$f":"IF($F$11=\"other\",IF(Y86=0,,(Y86/$E$13)*'Customer Info'!$F$19),)","v":0},0,{"$f":"IF($F$12=\"breakfast\",IF(V86=0,,(V86/$E$10)*'Customer Info'!$F$20),)","v":0},{"$f":"IF($F$12=\"lunch\",IF(W86=0,,(W86/$E$11)*'Customer Info'!$F$20),)","v":0},{"$f":"IF($F$12=\"other\",IF(Y86=0,,(Y86/$E$13)*'Customer Info'!$F$20),)","v":0},0,{"$f":"IF($F$13=\"breakfast\",IF(V86=0,,(V86/$E$10)*'Customer Info'!$F$21),)","v":0},{"$f":"IF($F$13=\"lunch\",IF(W86=0,,(W86/$E$11)*'Customer Info'!$F$21),)","v":0},{"$f":"IF($F$13=\"dinner\",IF(X86=0,,(X86/$E$12)*'Customer Info'!$F$21),)","v":0},0,{"$f":"IF($F$16=\"lunch\",IF(AA86=0,,(AA86/$E$17)*'Customer Info'!$H$18),)","v":0},{"$f":"IF($F$16=\"dinner\",IF(AB86=0,,(AB86/$E$18)*'Customer Info'!$H$18),)","v":0},{"$f":"IF($F$16=\"other\",IF(AC86=0,,(AC86/$E$19)*'Customer Info'!$H$18),)","v":0},0,{"$f":"IF($F$17=\"breakfast\",IF(Z86=0,,(Z86/$E$16)*'Customer Info'!$H$19),)","v":0},{"$f":"IF($F$17=\"dinner\",IF(AB86=0,,(AB86/$E$18)*'Customer Info'!$H$19),)","v":0},{"$f":"IF($F$17=\"other\",IF(AC86=0,,(AC86/$E$19)*'Customer Info'!$H$19),)","v":0},0,{"$f":"IF($F$18=\"breakfast\",IF(Z86=0,,(Z86/$E$16)*'Customer Info'!$H$20),)","v":0},{"$f":"IF($F$18=\"lunch\",IF(AA86=0,,(AA86/$E$17)*'Customer Info'!$H$20),)","v":0},{"$f":"IF($F$18=\"other\",IF(AC86=0,,(AC86/$E$19)*'Customer Info'!$H$20),)","v":0},0,{"$f":"IF($F$19=\"breakfast\",IF(Z86=0,,(Z86/$E$16)*'Customer Info'!$H$21),)","v":0},{"$f":"IF($F$19=\"lunch\",IF(AA86=0,,(AA86/$E$17)*'Customer Info'!$H$21),)","v":0},{"$f":"IF($F$19=\"dinner\",IF(AB86=0,,(AB86/$E$18)*'Customer Info'!$H$21),)","v":0},0,0,0,0,0,""]
[null,null,null,null,null,null,null,null,null,null,{"$f":"H87-G87","v":0},0,{"$f":"IF(E87=\"plate waste\",K87,)","v":0},{"$f":"IF(M87=0,,IF(C87=\"patient\",K87,))","v":0},0,{"$f":"IF(M87=0,,IF(C87=\"other1\",K87,))","v":0},{"$f":"IF(C87=\"patient beverages\",K87,0)","v":0},{"$f":"IF(N87=0,,IF(A87=\"breakfast\",K87,))","v":0},{"$f":"IF(N87=0,,IF(A87=\"lunch\",K87,))","v":0},{"$f":"IF(N87=0,,IF(A87=\"dinner\",K87,))","v":0},{"$f":"IF(N87=0,,IF(A87=\"other\",K87,))","v":0},{"$f":"IF(O87=0,,IF(A87=\"breakfast\",K87,))","v":0},{"$f":"IF(O87=0,,IF(A87=\"lunch\",K87,))","v":0},{"$f":"IF(O87=0,,IF(A87=\"dinner\",K87,))","v":0},{"$f":"IF(O87=0,,IF(A87=\"other\",K87,))","v":0},{"$f":"IF(P87=0,,IF(A87=\"breakfast\",K87,))","v":0},{"$f":"IF(P87=0,,IF(A87=\"lunch\",K87,))","v":0},{"$f":"IF(P87=0,,IF(A87=\"dinner\",K87,))","v":0},{"$f":"IF(P87=0,,IF(A87=\"other\",K87,))","v":0},{"$f":"IF(Q87=0,,IF(A87=\"breakfast\",Q87,))","v":0},{"$f":"IF(Q87=0,,IF(A87=\"lunch\",Q87,))","v":0},{"$f":"IF(Q87=0,,IF(A87=\"dinner\",Q87,))","v":0},{"$f":"IF(Q87=0,,IF(A87=\"other\",Q87,))","v":0},{"$f":"IF((OR($F$4=0,$F$4=\"none\")),IF(R87=0,,IF(OR($E$4='Customer Info'!$D$18,$E$4=0),R87,(R87/$E$4)*'Customer Info'!$D$18)),)","v":0},{"$f":"IF((OR($F$5=0,$F$5=\"none\")),IF(S87=0,,IF(OR($E$5='Customer Info'!$D$18,$E$5=0),S87,(S87/$E$5)*'Customer Info'!$D$19)),)","v":0},{"$f":"IF((OR($F$6=0,$F$6=\"none\")),IF(T87=0,,IF(OR($E$6='Customer Info'!$D$18,$E$6=0),T87,(T87/$E$6)*'Customer Info'!$D$20)),)","v":0},{"$f":"IF((OR($F$7=0,$F$7=\"none\")),IF(U87=0,,IF(OR($E$7='Customer Info'!$D$18,$E$7=0),U87,(U87/$E$7)*'Customer Info'!$D$21)),)","v":0},{"$f":"IF((OR($F$10=0,$F$10=\"none\")),IF(V87=0,,IF(OR($E$10='Customer Info'!$F$18,$E$10=0),V87,(V87/$E$10)*'Customer Info'!$F$18)),)","v":0},{"$f":"IF((OR($F$11=0,$F$11=\"none\")),IF(W87=0,,IF(OR($E$11='Customer Info'!$F$19,$E$11=0),W87,(W87/$E$11)*'Customer Info'!$F$19)),)","v":0},{"$f":"IF((OR($F$12=0,$F$12=\"none\")),IF(X87=0,,IF(OR($E$12='Customer Info'!$F$20,$E$12=0),X87,(X87/$E$12)*'Customer Info'!$F$20)),)","v":0},{"$f":"IF((OR($F$13=0,$F$13=\"none\")),IF(Y87=0,,IF(OR($E$13='Customer Info'!$F$21,$E$13=0),Y87,(Y87/$E$13)*'Customer Info'!$F$21)),)","v":0},{"$f":"IF((OR($F$16=0,$F$16=\"none\")),IF(Z87=0,,IF(OR($E$16='Customer Info'!$H$18,$E$16=0),Z87,(Z87/$E$16)*'Customer Info'!$H$18)),)","v":0},{"$f":"IF((OR($F$17=0,$F$17=\"none\")),IF(AA87=0,,IF(OR($E$17='Customer Info'!$H$19,$E$17=0),AA87,(AA87/$E$17)*'Customer Info'!$H$19)),)","v":0},{"$f":"IF((OR($F$18=0,$F$18=\"none\")),IF(AB87=0,,IF(OR($E$18='Customer Info'!$H$20,$E$18=0),AB87,(AB87/$E$18)*'Customer Info'!$H$20)),)","v":0},{"$f":"IF((OR($F$19=0,$F$19=\"none\")),IF(AC87=0,,IF(OR($E$19='Customer Info'!$H$21,$E$19=0),AC87,(AC87/$E$19)*'Customer Info'!$H$21)),)","v":0},{"$f":"IF((OR($F$4=0,$F$4=\"none\")),IF(AD87=0,,IF(OR($E$4='Customer Info'!$D$18,$E$4=0),AD87,(AD87/$E$4)*'Customer Info'!$D$18)),)","v":0},{"$f":"IF((OR($F$5=0,$F$5=\"none\")),IF(AE87=0,,IF(OR($E$5='Customer Info'!$D$19,$E$5=0),AE87,(AE87/$E$5)*'Customer Info'!$D$19)),)","v":0},{"$f":"IF((OR($F$6=0,$F$6=\"none\")),IF(AF87=0,,IF(OR($E$6='Customer Info'!$D$20,$E$6=0),AF87,(AF87/$E$6)*'Customer Info'!$D$20)),)","v":0},{"$f":"IF((OR($F$7=0,$F$7=\"none\")),IF(AG87=0,,IF(OR($E$7='Customer Info'!$D$21,$E$7=0),AG87,(AG87/$E$7)*'Customer Info'!$D$21)),)","v":0},0,{"$f":"IF(AX87=0,(IF(B87=0, K87,K87*24/B87)),(IF(B87=0, AX87,AX87*24/B87)))","v":0},{"$f":"IF(E87=\"plate waste\",,IF('Customer Info'!$M$18=0,'Log Sheet'!AY87,'Customer Info'!$M$18*'Log Sheet'!AY87))","v":0},{"$f":"IF(E87=\"plate waste\",IF(OR(C87=\"patient\",C87=\"patient beverages\"),IF('Customer Info'!$M$27=0,AY87*'Customer Info'!$M$18,AY87*'Customer Info'!$M$27),IF(C87=\"cafeteria\",IF('Customer Info'!$M$28=0,AY87*'Customer Info'!$M$18,AY87*'Customer Info'!$M$28),IF(C87=\"other1\",IF('Customer Info'!$M$29=0,AY87*'Customer Info'!$M$18,AY87*'Customer Info'!$M$29),))),)","v":0},0,{"$f":"IF($F$4=\"lunch\",IF(S87=0,,(S87/$E$5)*'Customer Info'!$D$18),)","v":0},{"$f":"IF($F$4=\"dinner\",IF(T87=0,,(T87/$E$6)*'Customer Info'!$D$18),)","v":0},{"$f":"IF($F$4=\"other\",IF(U87=0,,(U87/$E$7)*'Customer Info'!$D$18),)","v":0},0,{"$f":"IF($F$5=\"breakfast\",IF(R87=0,,(R87/$E$4)*'Customer Info'!$D$19),)","v":0},{"$f":"IF($F$5=\"dinner\",IF(T87=0,,(T87/$E$6)*'Customer Info'!$D$19),)","v":0},{"$f":"IF($F$5=\"other\",IF(U87=0,,(U87/$E$7)*'Customer Info'!$D$19),)","v":0},0,{"$f":"IF($F$6=\"breakfast\",IF(R87=0,,(R87/$E$4)*'Customer Info'!$D$20),)","v":0},{"$f":"IF($F$6=\"lunch\",IF(S87=0,,(S87/$E$5)*'Customer Info'!$D$20),)","v":0},{"$f":"IF($F$6=\"other\",IF(U87=0,,(U87/$E$7)*'Customer Info'!$D$20),)","v":0},0,{"$f":"IF($F$7=\"breakfast\",IF(R87=0,,(R87/$E$4)*'Customer Info'!$D$21),)","v":0},{"$f":"IF($F$7=\"lunch\",IF(S87=0,,(S87/$E$5)*'Customer Info'!$D$21),)","v":0},{"$f":"IF($F$7=\"dinner\",IF(T87=0,,(T87/$E$6)*'Customer Info'!$D$21),)","v":0},0,{"$f":"IF($F$10=\"lunch\",IF(W87=0,,(W87/$E$11)*'Customer Info'!$F$18),)","v":0},{"$f":"IF($F$10=\"dinner\",IF(X87=0,,(X87/$E$12)*'Customer Info'!$F$18),)","v":0},{"$f":"IF($F$10=\"other\",IF(Y87=0,,(Y87/$E$13)*'Customer Info'!$F$18),)","v":0},0,{"$f":"IF($F$11=\"breakfast\",IF(V87=0,,(V87/$E$10)*'Customer Info'!$F$19),)","v":0},{"$f":"IF($F$11=\"dinner\",IF(X87=0,,(X87/$E$12)*'Customer Info'!$F$19),)","v":0},{"$f":"IF($F$11=\"other\",IF(Y87=0,,(Y87/$E$13)*'Customer Info'!$F$19),)","v":0},0,{"$f":"IF($F$12=\"breakfast\",IF(V87=0,,(V87/$E$10)*'Customer Info'!$F$20),)","v":0},{"$f":"IF($F$12=\"lunch\",IF(W87=0,,(W87/$E$11)*'Customer Info'!$F$20),)","v":0},{"$f":"IF($F$12=\"other\",IF(Y87=0,,(Y87/$E$13)*'Customer Info'!$F$20),)","v":0},0,{"$f":"IF($F$13=\"breakfast\",IF(V87=0,,(V87/$E$10)*'Customer Info'!$F$21),)","v":0},{"$f":"IF($F$13=\"lunch\",IF(W87=0,,(W87/$E$11)*'Customer Info'!$F$21),)","v":0},{"$f":"IF($F$13=\"dinner\",IF(X87=0,,(X87/$E$12)*'Customer Info'!$F$21),)","v":0},0,{"$f":"IF($F$16=\"lunch\",IF(AA87=0,,(AA87/$E$17)*'Customer Info'!$H$18),)","v":0},{"$f":"IF($F$16=\"dinner\",IF(AB87=0,,(AB87/$E$18)*'Customer Info'!$H$18),)","v":0},{"$f":"IF($F$16=\"other\",IF(AC87=0,,(AC87/$E$19)*'Customer Info'!$H$18),)","v":0},0,{"$f":"IF($F$17=\"breakfast\",IF(Z87=0,,(Z87/$E$16)*'Customer Info'!$H$19),)","v":0},{"$f":"IF($F$17=\"dinner\",IF(AB87=0,,(AB87/$E$18)*'Customer Info'!$H$19),)","v":0},{"$f":"IF($F$17=\"other\",IF(AC87=0,,(AC87/$E$19)*'Customer Info'!$H$19),)","v":0},0,{"$f":"IF($F$18=\"breakfast\",IF(Z87=0,,(Z87/$E$16)*'Customer Info'!$H$20),)","v":0},{"$f":"IF($F$18=\"lunch\",IF(AA87=0,,(AA87/$E$17)*'Customer Info'!$H$20),)","v":0},{"$f":"IF($F$18=\"other\",IF(AC87=0,,(AC87/$E$19)*'Customer Info'!$H$20),)","v":0},0,{"$f":"IF($F$19=\"breakfast\",IF(Z87=0,,(Z87/$E$16)*'Customer Info'!$H$21),)","v":0},{"$f":"IF($F$19=\"lunch\",IF(AA87=0,,(AA87/$E$17)*'Customer Info'!$H$21),)","v":0},{"$f":"IF($F$19=\"dinner\",IF(AB87=0,,(AB87/$E$18)*'Customer Info'!$H$21),)","v":0},0,{"$f":"IF(E87=\"plate waste\",BB87,)","v":0},{"$f":"IF(E87=\"plate waste\",,BB87)","v":0},0,0,""]
[null,null,null,null,null,null,null,null,null,null,0,{"$f":"BB88","v":0},0,0,{"$f":"IF(M88=0,,IF(C88=\"cafeteria\",M88,))","v":0},0,0,0,0,0,0,0,0,0,0,0,0,0,0,0,0,0,0,{"$f":"IF((OR($F$4=0,$F$4=\"none\")),IF(R88=0,,IF(OR($E$4='Customer Info'!$D$18,$E$4=0),R88,(R88/$E$4)*'Customer Info'!$D$18)),)","v":0},{"$f":"IF((OR($F$5=0,$F$5=\"none\")),IF(S88=0,,IF(OR($E$5='Customer Info'!$D$18,$E$5=0),S88,(S88/$E$5)*'Customer Info'!$D$19)),)","v":0},{"$f":"IF((OR($F$6=0,$F$6=\"none\")),IF(T88=0,,IF(OR($E$6='Customer Info'!$D$18,$E$6=0),T88,(T88/$E$6)*'Customer Info'!$D$20)),)","v":0},{"$f":"IF((OR($F$7=0,$F$7=\"none\")),IF(U88=0,,IF(OR($E$7='Customer Info'!$D$18,$E$7=0),U88,(U88/$E$7)*'Customer Info'!$D$21)),)","v":0},{"$f":"IF((OR($F$10=0,$F$10=\"none\")),IF(V88=0,,IF(OR($E$10='Customer Info'!$F$18,$E$10=0),V88,(V88/$E$10)*'Customer Info'!$F$18)),)","v":0},{"$f":"IF((OR($F$11=0,$F$11=\"none\")),IF(W88=0,,IF(OR($E$11='Customer Info'!$F$19,$E$11=0),W88,(W88/$E$11)*'Customer Info'!$F$19)),)","v":0},{"$f":"IF((OR($F$12=0,$F$12=\"none\")),IF(X88=0,,IF(OR($E$12='Customer Info'!$F$20,$E$12=0),X88,(X88/$E$12)*'Customer Info'!$F$20)),)","v":0},{"$f":"IF((OR($F$13=0,$F$13=\"none\")),IF(Y88=0,,IF(OR($E$13='Customer Info'!$F$21,$E$13=0),Y88,(Y88/$E$13)*'Customer Info'!$F$21)),)","v":0},{"$f":"IF((OR($F$16=0,$F$16=\"none\")),IF(Z88=0,,IF(OR($E$16='Customer Info'!$H$18,$E$16=0),Z88,(Z88/$E$16)*'Customer Info'!$H$18)),)","v":0},{"$f":"IF((OR($F$17=0,$F$17=\"none\")),IF(AA88=0,,IF(OR($E$17='Customer Info'!$H$19,$E$17=0),AA88,(AA88/$E$17)*'Customer Info'!$H$19)),)","v":0},{"$f":"IF((OR($F$18=0,$F$18=\"none\")),IF(AB88=0,,IF(OR($E$18='Customer Info'!$H$20,$E$18=0),AB88,(AB88/$E$18)*'Customer Info'!$H$20)),)","v":0},{"$f":"IF((OR($F$19=0,$F$19=\"none\")),IF(AC88=0,,IF(OR($E$19='Customer Info'!$H$21,$E$19=0),AC88,(AC88/$E$19)*'Customer Info'!$H$21)),)","v":0},{"$f":"IF((OR($F$4=0,$F$4=\"none\")),IF(AD88=0,,IF(OR($E$4='Customer Info'!$D$18,$E$4=0),AD88,(AD88/$E$4)*'Customer Info'!$D$18)),)","v":0},{"$f":"IF((OR($F$5=0,$F$5=\"none\")),IF(AE88=0,,IF(OR($E$5='Customer Info'!$D$19,$E$5=0),AE88,(AE88/$E$5)*'Customer Info'!$D$19)),)","v":0},{"$f":"IF((OR($F$6=0,$F$6=\"none\")),IF(AF88=0,,IF(OR($E$6='Customer Info'!$D$20,$E$6=0),AF88,(AF88/$E$6)*'Customer Info'!$D$20)),)","v":0},{"$f":"IF((OR($F$7=0,$F$7=\"none\")),IF(AG88=0,,IF(OR($E$7='Customer Info'!$D$21,$E$7=0),AG88,(AG88/$E$7)*'Customer Info'!$D$21)),)","v":0},{"$f":"SUM(AH88:AW88)","v":0},0,{"$f":"IF(E88=\"plate waste\",,IF('Customer Info'!$M$18=0,'Log Sheet'!AY88,'Customer Info'!$M$18*'Log Sheet'!AY88))","v":0},{"$f":"IF(E88=\"plate waste\",IF(OR(C88=\"patient\",C88=\"patient beverages\"),IF('Customer Info'!$M$27=0,AY88*'Customer Info'!$M$18,AY88*'Customer Info'!$M$27),IF(C88=\"cafeteria\",IF('Customer Info'!$M$28=0,AY88*'Customer Info'!$M$18,AY88*'Customer Info'!$M$28),IF(C88=\"other1\",IF('Customer Info'!$M$29=0,AY88*'Customer Info'!$M$18,AY88*'Customer Info'!$M$29),))),)","v":0},{"$f":"SUM(AZ88:BA88)","v":0},{"$f":"IF($F$4=\"lunch\",IF(S88=0,,(S88/$E$5)*'Customer Info'!$D$18),)","v":0},{"$f":"IF($F$4=\"dinner\",IF(T88=0,,(T88/$E$6)*'Customer Info'!$D$18),)","v":0},{"$f":"IF($F$4=\"other\",IF(U88=0,,(U88/$E$7)*'Customer Info'!$D$18),)","v":0},{"$f":"SUM(BC88:BE88)","v":0},{"$f":"IF($F$5=\"breakfast\",IF(R88=0,,(R88/$E$4)*'Customer Info'!$D$19),)","v":0},{"$f":"IF($F$5=\"dinner\",IF(T88=0,,(T88/$E$6)*'Customer Info'!$D$19),)","v":0},{"$f":"IF($F$5=\"other\",IF(U88=0,,(U88/$E$7)*'Customer Info'!$D$19),)","v":0},{"$f":"SUM(BG88:BI88)","v":0},{"$f":"IF($F$6=\"breakfast\",IF(R88=0,,(R88/$E$4)*'Customer Info'!$D$20),)","v":0},{"$f":"IF($F$6=\"lunch\",IF(S88=0,,(S88/$E$5)*'Customer Info'!$D$20),)","v":0},{"$f":"IF($F$6=\"other\",IF(U88=0,,(U88/$E$7)*'Customer Info'!$D$20),)","v":0},{"$f":"SUM(BK88:BM88)","v":0},{"$f":"IF($F$7=\"breakfast\",IF(R88=0,,(R88/$E$4)*'Customer Info'!$D$21),)","v":0},{"$f":"IF($F$7=\"lunch\",IF(S88=0,,(S88/$E$5)*'Customer Info'!$D$21),)","v":0},{"$f":"IF($F$7=\"dinner\",IF(T88=0,,(T88/$E$6)*'Customer Info'!$D$21),)","v":0},{"$f":"SUM(BO88:BQ88)","v":0},{"$f":"IF($F$10=\"lunch\",IF(W88=0,,(W88/$E$11)*'Customer Info'!$F$18),)","v":0},{"$f":"IF($F$10=\"dinner\",IF(X88=0,,(X88/$E$12)*'Customer Info'!$F$18),)","v":0},{"$f":"IF($F$10=\"other\",IF(Y88=0,,(Y88/$E$13)*'Customer Info'!$F$18),)","v":0},{"$f":"SUM(BS88:BU88)","v":0},{"$f":"IF($F$11=\"breakfast\",IF(V88=0,,(V88/$E$10)*'Customer Info'!$F$19),)","v":0},{"$f":"IF($F$11=\"dinner\",IF(X88=0,,(X88/$E$12)*'Customer Info'!$F$19),)","v":0},{"$f":"IF($F$11=\"other\",IF(Y88=0,,(Y88/$E$13)*'Customer Info'!$F$19),)","v":0},{"$f":"SUM(BW88:BY88)","v":0},{"$f":"IF($F$12=\"breakfast\",IF(V88=0,,(V88/$E$10)*'Customer Info'!$F$20),)","v":0},{"$f":"IF($F$12=\"lunch\",IF(W88=0,,(W88/$E$11)*'Customer Info'!$F$20),)","v":0},{"$f":"IF($F$12=\"other\",IF(Y88=0,,(Y88/$E$13)*'Customer Info'!$F$20),)","v":0},{"$f":"SUM(CA88:CC88)","v":0},{"$f":"IF($F$13=\"breakfast\",IF(V88=0,,(V88/$E$10)*'Customer Info'!$F$21),)","v":0},{"$f":"IF($F$13=\"lunch\",IF(W88=0,,(W88/$E$11)*'Customer Info'!$F$21),)","v":0},{"$f":"IF($F$13=\"dinner\",IF(X88=0,,(X88/$E$12)*'Customer Info'!$F$21),)","v":0},{"$f":"SUM(CE88:CG88)","v":0},{"$f":"IF($F$16=\"lunch\",IF(AA88=0,,(AA88/$E$17)*'Customer Info'!$H$18),)","v":0},{"$f":"IF($F$16=\"dinner\",IF(AB88=0,,(AB88/$E$18)*'Customer Info'!$H$18),)","v":0},{"$f":"IF($F$16=\"other\",IF(AC88=0,,(AC88/$E$19)*'Customer Info'!$H$18),)","v":0},{"$f":"SUM(CI88:CK88)","v":0},{"$f":"IF($F$17=\"breakfast\",IF(Z88=0,,(Z88/$E$16)*'Customer Info'!$H$19),)","v":0},{"$f":"IF($F$17=\"dinner\",IF(AB88=0,,(AB88/$E$18)*'Customer Info'!$H$19),)","v":0},{"$f":"IF($F$17=\"other\",IF(AC88=0,,(AC88/$E$19)*'Customer Info'!$H$19),)","v":0},{"$f":"SUM(CM88:CO88)","v":0},{"$f":"IF($F$18=\"breakfast\",IF(Z88=0,,(Z88/$E$16)*'Customer Info'!$H$20),)","v":0},{"$f":"IF($F$18=\"lunch\",IF(AA88=0,,(AA88/$E$17)*'Customer Info'!$H$20),)","v":0},{"$f":"IF($F$18=\"other\",IF(AC88=0,,(AC88/$E$19)*'Customer Info'!$H$20),)","v":0},{"$f":"SUM(CQ88:CS88)","v":0},{"$f":"IF($F$19=\"breakfast\",IF(Z88=0,,(Z88/$E$16)*'Customer Info'!$H$21),)","v":0},{"$f":"IF($F$19=\"lunch\",IF(AA88=0,,(AA88/$E$17)*'Customer Info'!$H$21),)","v":0},{"$f":"IF($F$19=\"dinner\",IF(AB88=0,,(AB88/$E$18)*'Customer Info'!$H$21),)","v":0},{"$f":"SUM(CU88:CW88)","v":0},0,0,{"$f":"IF(Q88=0,,I88*(L88/K88))","v":0},{"$f":"IF(Q88=0,,L88)","v":0},{"$f":"IF(I88>0,A88,\"\")","v":""}]
[null,null,null,null,null,null,null,null,null,null,0,0,0,0,0,0,0,0,0,0,0,0,0,0,0,0,0,0,0,0,0,0,0,{"$f":"IF((OR($F$4=0,$F$4=\"none\")),IF(R89=0,,IF(OR($E$4='Customer Info'!$D$18,$E$4=0),R89,(R89/$E$4)*'Customer Info'!$D$18)),)","v":0},{"$f":"IF((OR($F$5=0,$F$5=\"none\")),IF(S89=0,,IF(OR($E$5='Customer Info'!$D$18,$E$5=0),S89,(S89/$E$5)*'Customer Info'!$D$19)),)","v":0},{"$f":"IF((OR($F$6=0,$F$6=\"none\")),IF(T89=0,,IF(OR($E$6='Customer Info'!$D$18,$E$6=0),T89,(T89/$E$6)*'Customer Info'!$D$20)),)","v":0},{"$f":"IF((OR($F$7=0,$F$7=\"none\")),IF(U89=0,,IF(OR($E$7='Customer Info'!$D$18,$E$7=0),U89,(U89/$E$7)*'Customer Info'!$D$21)),)","v":0},{"$f":"IF((OR($F$10=0,$F$10=\"none\")),IF(V89=0,,IF(OR($E$10='Customer Info'!$F$18,$E$10=0),V89,(V89/$E$10)*'Customer Info'!$F$18)),)","v":0},{"$f":"IF((OR($F$11=0,$F$11=\"none\")),IF(W89=0,,IF(OR($E$11='Customer Info'!$F$19,$E$11=0),W89,(W89/$E$11)*'Customer Info'!$F$19)),)","v":0},{"$f":"IF((OR($F$12=0,$F$12=\"none\")),IF(X89=0,,IF(OR($E$12='Customer Info'!$F$20,$E$12=0),X89,(X89/$E$12)*'Customer Info'!$F$20)),)","v":0},{"$f":"IF((OR($F$13=0,$F$13=\"none\")),IF(Y89=0,,IF(OR($E$13='Customer Info'!$F$21,$E$13=0),Y89,(Y89/$E$13)*'Customer Info'!$F$21)),)","v":0},{"$f":"IF((OR($F$16=0,$F$16=\"none\")),IF(Z89=0,,IF(OR($E$16='Customer Info'!$H$18,$E$16=0),Z89,(Z89/$E$16)*'Customer Info'!$H$18)),)","v":0},{"$f":"IF((OR($F$17=0,$F$17=\"none\")),IF(AA89=0,,IF(OR($E$17='Customer Info'!$H$19,$E$17=0),AA89,(AA89/$E$17)*'Customer Info'!$H$19)),)","v":0},{"$f":"IF((OR($F$18=0,$F$18=\"none\")),IF(AB89=0,,IF(OR($E$18='Customer Info'!$H$20,$E$18=0),AB89,(AB89/$E$18)*'Customer Info'!$H$20)),)","v":0},{"$f":"IF((OR($F$19=0,$F$19=\"none\")),IF(AC89=0,,IF(OR($E$19='Customer Info'!$H$21,$E$19=0),AC89,(AC89/$E$19)*'Customer Info'!$H$21)),)","v":0},{"$f":"IF((OR($F$4=0,$F$4=\"none\")),IF(AD89=0,,IF(OR($E$4='Customer Info'!$D$18,$E$4=0),AD89,(AD89/$E$4)*'Customer Info'!$D$18)),)","v":0},{"$f":"IF((OR($F$5=0,$F$5=\"none\")),IF(AE89=0,,IF(OR($E$5='Customer Info'!$D$19,$E$5=0),AE89,(AE89/$E$5)*'Customer Info'!$D$19)),)","v":0},{"$f":"IF((OR($F$6=0,$F$6=\"none\")),IF(AF89=0,,IF(OR($E$6='Customer Info'!$D$20,$E$6=0),AF89,(AF89/$E$6)*'Customer Info'!$D$20)),)","v":0},{"$f":"IF((OR($F$7=0,$F$7=\"none\")),IF(AG89=0,,IF(OR($E$7='Customer Info'!$D$21,$E$7=0),AG89,(AG89/$E$7)*'Customer Info'!$D$21)),)","v":0},0,0,{"$f":"IF(E89=\"plate waste\",,IF('Customer Info'!$M$18=0,'Log Sheet'!AY89,'Customer Info'!$M$18*'Log Sheet'!AY89))","v":0},{"$f":"IF(E89=\"plate waste\",IF(OR(C89=\"patient\",C89=\"patient beverages\"),IF('Customer Info'!$M$27=0,AY89*'Customer Info'!$M$18,AY89*'Customer Info'!$M$27),IF(C89=\"cafeteria\",IF('Customer Info'!$M$28=0,AY89*'Customer Info'!$M$18,AY89*'Customer Info'!$M$28),IF(C89=\"other1\",IF('Customer Info'!$M$29=0,AY89*'Customer Info'!$M$18,AY89*'Customer Info'!$M$29),))),)","v":0},0,{"$f":"IF($F$4=\"lunch\",IF(S89=0,,(S89/$E$5)*'Customer Info'!$D$18),)","v":0},{"$f":"IF($F$4=\"dinner\",IF(T89=0,,(T89/$E$6)*'Customer Info'!$D$18),)","v":0},{"$f":"IF($F$4=\"other\",IF(U89=0,,(U89/$E$7)*'Customer Info'!$D$18),)","v":0},0,{"$f":"IF($F$5=\"breakfast\",IF(R89=0,,(R89/$E$4)*'Customer Info'!$D$19),)","v":0},{"$f":"IF($F$5=\"dinner\",IF(T89=0,,(T89/$E$6)*'Customer Info'!$D$19),)","v":0},{"$f":"IF($F$5=\"other\",IF(U89=0,,(U89/$E$7)*'Customer Info'!$D$19),)","v":0},0,{"$f":"IF($F$6=\"breakfast\",IF(R89=0,,(R89/$E$4)*'Customer Info'!$D$20),)","v":0},{"$f":"IF($F$6=\"lunch\",IF(S89=0,,(S89/$E$5)*'Customer Info'!$D$20),)","v":0},{"$f":"IF($F$6=\"other\",IF(U89=0,,(U89/$E$7)*'Customer Info'!$D$20),)","v":0},0,{"$f":"IF($F$7=\"breakfast\",IF(R89=0,,(R89/$E$4)*'Customer Info'!$D$21),)","v":0},{"$f":"IF($F$7=\"lunch\",IF(S89=0,,(S89/$E$5)*'Customer Info'!$D$21),)","v":0},{"$f":"IF($F$7=\"dinner\",IF(T89=0,,(T89/$E$6)*'Customer Info'!$D$21),)","v":0},0,{"$f":"IF($F$10=\"lunch\",IF(W89=0,,(W89/$E$11)*'Customer Info'!$F$18),)","v":0},{"$f":"IF($F$10=\"dinner\",IF(X89=0,,(X89/$E$12)*'Customer Info'!$F$18),)","v":0},{"$f":"IF($F$10=\"other\",IF(Y89=0,,(Y89/$E$13)*'Customer Info'!$F$18),)","v":0},0,{"$f":"IF($F$11=\"breakfast\",IF(V89=0,,(V89/$E$10)*'Customer Info'!$F$19),)","v":0},{"$f":"IF($F$11=\"dinner\",IF(X89=0,,(X89/$E$12)*'Customer Info'!$F$19),)","v":0},{"$f":"IF($F$11=\"other\",IF(Y89=0,,(Y89/$E$13)*'Customer Info'!$F$19),)","v":0},0,{"$f":"IF($F$12=\"breakfast\",IF(V89=0,,(V89/$E$10)*'Customer Info'!$F$20),)","v":0},{"$f":"IF($F$12=\"lunch\",IF(W89=0,,(W89/$E$11)*'Customer Info'!$F$20),)","v":0},{"$f":"IF($F$12=\"other\",IF(Y89=0,,(Y89/$E$13)*'Customer Info'!$F$20),)","v":0},0,{"$f":"IF($F$13=\"breakfast\",IF(V89=0,,(V89/$E$10)*'Customer Info'!$F$21),)","v":0},{"$f":"IF($F$13=\"lunch\",IF(W89=0,,(W89/$E$11)*'Customer Info'!$F$21),)","v":0},{"$f":"IF($F$13=\"dinner\",IF(X89=0,,(X89/$E$12)*'Customer Info'!$F$21),)","v":0},0,{"$f":"IF($F$16=\"lunch\",IF(AA89=0,,(AA89/$E$17)*'Customer Info'!$H$18),)","v":0},{"$f":"IF($F$16=\"dinner\",IF(AB89=0,,(AB89/$E$18)*'Customer Info'!$H$18),)","v":0},{"$f":"IF($F$16=\"other\",IF(AC89=0,,(AC89/$E$19)*'Customer Info'!$H$18),)","v":0},0,{"$f":"IF($F$17=\"breakfast\",IF(Z89=0,,(Z89/$E$16)*'Customer Info'!$H$19),)","v":0},{"$f":"IF($F$17=\"dinner\",IF(AB89=0,,(AB89/$E$18)*'Customer Info'!$H$19),)","v":0},{"$f":"IF($F$17=\"other\",IF(AC89=0,,(AC89/$E$19)*'Customer Info'!$H$19),)","v":0},0,{"$f":"IF($F$18=\"breakfast\",IF(Z89=0,,(Z89/$E$16)*'Customer Info'!$H$20),)","v":0},{"$f":"IF($F$18=\"lunch\",IF(AA89=0,,(AA89/$E$17)*'Customer Info'!$H$20),)","v":0},{"$f":"IF($F$18=\"other\",IF(AC89=0,,(AC89/$E$19)*'Customer Info'!$H$20),)","v":0},0,{"$f":"IF($F$19=\"breakfast\",IF(Z89=0,,(Z89/$E$16)*'Customer Info'!$H$21),)","v":0},{"$f":"IF($F$19=\"lunch\",IF(AA89=0,,(AA89/$E$17)*'Customer Info'!$H$21),)","v":0},{"$f":"IF($F$19=\"dinner\",IF(AB89=0,,(AB89/$E$18)*'Customer Info'!$H$21),)","v":0},0,0,0,0,0,""]
[null,null,null,null,null,null,null,null,null,null,0,0,0,0,0,0,0,0,0,0,0,0,0,0,0,0,0,0,0,0,0,0,0,{"$f":"IF((OR($F$4=0,$F$4=\"none\")),IF(R90=0,,IF(OR($E$4='Customer Info'!$D$18,$E$4=0),R90,(R90/$E$4)*'Customer Info'!$D$18)),)","v":0},{"$f":"IF((OR($F$5=0,$F$5=\"none\")),IF(S90=0,,IF(OR($E$5='Customer Info'!$D$18,$E$5=0),S90,(S90/$E$5)*'Customer Info'!$D$19)),)","v":0},{"$f":"IF((OR($F$6=0,$F$6=\"none\")),IF(T90=0,,IF(OR($E$6='Customer Info'!$D$18,$E$6=0),T90,(T90/$E$6)*'Customer Info'!$D$20)),)","v":0},{"$f":"IF((OR($F$7=0,$F$7=\"none\")),IF(U90=0,,IF(OR($E$7='Customer Info'!$D$18,$E$7=0),U90,(U90/$E$7)*'Customer Info'!$D$21)),)","v":0},{"$f":"IF((OR($F$10=0,$F$10=\"none\")),IF(V90=0,,IF(OR($E$10='Customer Info'!$F$18,$E$10=0),V90,(V90/$E$10)*'Customer Info'!$F$18)),)","v":0},{"$f":"IF((OR($F$11=0,$F$11=\"none\")),IF(W90=0,,IF(OR($E$11='Customer Info'!$F$19,$E$11=0),W90,(W90/$E$11)*'Customer Info'!$F$19)),)","v":0},{"$f":"IF((OR($F$12=0,$F$12=\"none\")),IF(X90=0,,IF(OR($E$12='Customer Info'!$F$20,$E$12=0),X90,(X90/$E$12)*'Customer Info'!$F$20)),)","v":0},{"$f":"IF((OR($F$13=0,$F$13=\"none\")),IF(Y90=0,,IF(OR($E$13='Customer Info'!$F$21,$E$13=0),Y90,(Y90/$E$13)*'Customer Info'!$F$21)),)","v":0},{"$f":"IF((OR($F$16=0,$F$16=\"none\")),IF(Z90=0,,IF(OR($E$16='Customer Info'!$H$18,$E$16=0),Z90,(Z90/$E$16)*'Customer Info'!$H$18)),)","v":0},{"$f":"IF((OR($F$17=0,$F$17=\"none\")),IF(AA90=0,,IF(OR($E$17='Customer Info'!$H$19,$E$17=0),AA90,(AA90/$E$17)*'Customer Info'!$H$19)),)","v":0},{"$f":"IF((OR($F$18=0,$F$18=\"none\")),IF(AB90=0,,IF(OR($E$18='Customer Info'!$H$20,$E$18=0),AB90,(AB90/$E$18)*'Customer Info'!$H$20)),)","v":0},{"$f":"IF((OR($F$19=0,$F$19=\"none\")),IF(AC90=0,,IF(OR($E$19='Customer Info'!$H$21,$E$19=0),AC90,(AC90/$E$19)*'Customer Info'!$H$21)),)","v":0},{"$f":"IF((OR($F$4=0,$F$4=\"none\")),IF(AD90=0,,IF(OR($E$4='Customer Info'!$D$18,$E$4=0),AD90,(AD90/$E$4)*'Customer Info'!$D$18)),)","v":0},{"$f":"IF((OR($F$5=0,$F$5=\"none\")),IF(AE90=0,,IF(OR($E$5='Customer Info'!$D$19,$E$5=0),AE90,(AE90/$E$5)*'Customer Info'!$D$19)),)","v":0},{"$f":"IF((OR($F$6=0,$F$6=\"none\")),IF(AF90=0,,IF(OR($E$6='Customer Info'!$D$20,$E$6=0),AF90,(AF90/$E$6)*'Customer Info'!$D$20)),)","v":0},{"$f":"IF((OR($F$7=0,$F$7=\"none\")),IF(AG90=0,,IF(OR($E$7='Customer Info'!$D$21,$E$7=0),AG90,(AG90/$E$7)*'Customer Info'!$D$21)),)","v":0},0,0,{"$f":"IF(E90=\"plate waste\",,IF('Customer Info'!$M$18=0,'Log Sheet'!AY90,'Customer Info'!$M$18*'Log Sheet'!AY90))","v":0},{"$f":"IF(E90=\"plate waste\",IF(OR(C90=\"patient\",C90=\"patient beverages\"),IF('Customer Info'!$M$27=0,AY90*'Customer Info'!$M$18,AY90*'Customer Info'!$M$27),IF(C90=\"cafeteria\",IF('Customer Info'!$M$28=0,AY90*'Customer Info'!$M$18,AY90*'Customer Info'!$M$28),IF(C90=\"other1\",IF('Customer Info'!$M$29=0,AY90*'Customer Info'!$M$18,AY90*'Customer Info'!$M$29),))),)","v":0},0,{"$f":"IF($F$4=\"lunch\",IF(S90=0,,(S90/$E$5)*'Customer Info'!$D$18),)","v":0},{"$f":"IF($F$4=\"dinner\",IF(T90=0,,(T90/$E$6)*'Customer Info'!$D$18),)","v":0},{"$f":"IF($F$4=\"other\",IF(U90=0,,(U90/$E$7)*'Customer Info'!$D$18),)","v":0},0,{"$f":"IF($F$5=\"breakfast\",IF(R90=0,,(R90/$E$4)*'Customer Info'!$D$19),)","v":0},{"$f":"IF($F$5=\"dinner\",IF(T90=0,,(T90/$E$6)*'Customer Info'!$D$19),)","v":0},{"$f":"IF($F$5=\"other\",IF(U90=0,,(U90/$E$7)*'Customer Info'!$D$19),)","v":0},0,{"$f":"IF($F$6=\"breakfast\",IF(R90=0,,(R90/$E$4)*'Customer Info'!$D$20),)","v":0},{"$f":"IF($F$6=\"lunch\",IF(S90=0,,(S90/$E$5)*'Customer Info'!$D$20),)","v":0},{"$f":"IF($F$6=\"other\",IF(U90=0,,(U90/$E$7)*'Customer Info'!$D$20),)","v":0},0,{"$f":"IF($F$7=\"breakfast\",IF(R90=0,,(R90/$E$4)*'Customer Info'!$D$21),)","v":0},{"$f":"IF($F$7=\"lunch\",IF(S90=0,,(S90/$E$5)*'Customer Info'!$D$21),)","v":0},{"$f":"IF($F$7=\"dinner\",IF(T90=0,,(T90/$E$6)*'Customer Info'!$D$21),)","v":0},0,{"$f":"IF($F$10=\"lunch\",IF(W90=0,,(W90/$E$11)*'Customer Info'!$F$18),)","v":0},{"$f":"IF($F$10=\"dinner\",IF(X90=0,,(X90/$E$12)*'Customer Info'!$F$18),)","v":0},{"$f":"IF($F$10=\"other\",IF(Y90=0,,(Y90/$E$13)*'Customer Info'!$F$18),)","v":0},0,{"$f":"IF($F$11=\"breakfast\",IF(V90=0,,(V90/$E$10)*'Customer Info'!$F$19),)","v":0},{"$f":"IF($F$11=\"dinner\",IF(X90=0,,(X90/$E$12)*'Customer Info'!$F$19),)","v":0},{"$f":"IF($F$11=\"other\",IF(Y90=0,,(Y90/$E$13)*'Customer Info'!$F$19),)","v":0},0,{"$f":"IF($F$12=\"breakfast\",IF(V90=0,,(V90/$E$10)*'Customer Info'!$F$20),)","v":0},{"$f":"IF($F$12=\"lunch\",IF(W90=0,,(W90/$E$11)*'Customer Info'!$F$20),)","v":0},{"$f":"IF($F$12=\"other\",IF(Y90=0,,(Y90/$E$13)*'Customer Info'!$F$20),)","v":0},0,{"$f":"IF($F$13=\"breakfast\",IF(V90=0,,(V90/$E$10)*'Customer Info'!$F$21),)","v":0},{"$f":"IF($F$13=\"lunch\",IF(W90=0,,(W90/$E$11)*'Customer Info'!$F$21),)","v":0},{"$f":"IF($F$13=\"dinner\",IF(X90=0,,(X90/$E$12)*'Customer Info'!$F$21),)","v":0},0,{"$f":"IF($F$16=\"lunch\",IF(AA90=0,,(AA90/$E$17)*'Customer Info'!$H$18),)","v":0},{"$f":"IF($F$16=\"dinner\",IF(AB90=0,,(AB90/$E$18)*'Customer Info'!$H$18),)","v":0},{"$f":"IF($F$16=\"other\",IF(AC90=0,,(AC90/$E$19)*'Customer Info'!$H$18),)","v":0},0,{"$f":"IF($F$17=\"breakfast\",IF(Z90=0,,(Z90/$E$16)*'Customer Info'!$H$19),)","v":0},{"$f":"IF($F$17=\"dinner\",IF(AB90=0,,(AB90/$E$18)*'Customer Info'!$H$19),)","v":0},{"$f":"IF($F$17=\"other\",IF(AC90=0,,(AC90/$E$19)*'Customer Info'!$H$19),)","v":0},0,{"$f":"IF($F$18=\"breakfast\",IF(Z90=0,,(Z90/$E$16)*'Customer Info'!$H$20),)","v":0},{"$f":"IF($F$18=\"lunch\",IF(AA90=0,,(AA90/$E$17)*'Customer Info'!$H$20),)","v":0},{"$f":"IF($F$18=\"other\",IF(AC90=0,,(AC90/$E$19)*'Customer Info'!$H$20),)","v":0},0,{"$f":"IF($F$19=\"breakfast\",IF(Z90=0,,(Z90/$E$16)*'Customer Info'!$H$21),)","v":0},{"$f":"IF($F$19=\"lunch\",IF(AA90=0,,(AA90/$E$17)*'Customer Info'!$H$21),)","v":0},{"$f":"IF($F$19=\"dinner\",IF(AB90=0,,(AB90/$E$18)*'Customer Info'!$H$21),)","v":0},0,0,0,0,0,""]
[null,null,null,null,null,null,null,null,null,null,0,0,0,0,0,0,0,0,0,0,0,0,0,0,0,0,0,0,0,0,0,0,0,{"$f":"IF((OR($F$4=0,$F$4=\"none\")),IF(R91=0,,IF(OR($E$4='Customer Info'!$D$18,$E$4=0),R91,(R91/$E$4)*'Customer Info'!$D$18)),)","v":0},{"$f":"IF((OR($F$5=0,$F$5=\"none\")),IF(S91=0,,IF(OR($E$5='Customer Info'!$D$18,$E$5=0),S91,(S91/$E$5)*'Customer Info'!$D$19)),)","v":0},{"$f":"IF((OR($F$6=0,$F$6=\"none\")),IF(T91=0,,IF(OR($E$6='Customer Info'!$D$18,$E$6=0),T91,(T91/$E$6)*'Customer Info'!$D$20)),)","v":0},{"$f":"IF((OR($F$7=0,$F$7=\"none\")),IF(U91=0,,IF(OR($E$7='Customer Info'!$D$18,$E$7=0),U91,(U91/$E$7)*'Customer Info'!$D$21)),)","v":0},{"$f":"IF((OR($F$10=0,$F$10=\"none\")),IF(V91=0,,IF(OR($E$10='Customer Info'!$F$18,$E$10=0),V91,(V91/$E$10)*'Customer Info'!$F$18)),)","v":0},{"$f":"IF((OR($F$11=0,$F$11=\"none\")),IF(W91=0,,IF(OR($E$11='Customer Info'!$F$19,$E$11=0),W91,(W91/$E$11)*'Customer Info'!$F$19)),)","v":0},{"$f":"IF((OR($F$12=0,$F$12=\"none\")),IF(X91=0,,IF(OR($E$12='Customer Info'!$F$20,$E$12=0),X91,(X91/$E$12)*'Customer Info'!$F$20)),)","v":0},{"$f":"IF((OR($F$13=0,$F$13=\"none\")),IF(Y91=0,,IF(OR($E$13='Customer Info'!$F$21,$E$13=0),Y91,(Y91/$E$13)*'Customer Info'!$F$21)),)","v":0},{"$f":"IF((OR($F$16=0,$F$16=\"none\")),IF(Z91=0,,IF(OR($E$16='Customer Info'!$H$18,$E$16=0),Z91,(Z91/$E$16)*'Customer Info'!$H$18)),)","v":0},{"$f":"IF((OR($F$17=0,$F$17=\"none\")),IF(AA91=0,,IF(OR($E$17='Customer Info'!$H$19,$E$17=0),AA91,(AA91/$E$17)*'Customer Info'!$H$19)),)","v":0},{"$f":"IF((OR($F$18=0,$F$18=\"none\")),IF(AB91=0,,IF(OR($E$18='Customer Info'!$H$20,$E$18=0),AB91,(AB91/$E$18)*'Customer Info'!$H$20)),)","v":0},{"$f":"IF((OR($F$19=0,$F$19=\"none\")),IF(AC91=0,,IF(OR($E$19='Customer Info'!$H$21,$E$19=0),AC91,(AC91/$E$19)*'Customer Info'!$H$21)),)","v":0},{"$f":"IF((OR($F$4=0,$F$4=\"none\")),IF(AD91=0,,IF(OR($E$4='Customer Info'!$D$18,$E$4=0),AD91,(AD91/$E$4)*'Customer Info'!$D$18)),)","v":0},{"$f":"IF((OR($F$5=0,$F$5=\"none\")),IF(AE91=0,,IF(OR($E$5='Customer Info'!$D$19,$E$5=0),AE91,(AE91/$E$5)*'Customer Info'!$D$19)),)","v":0},{"$f":"IF((OR($F$6=0,$F$6=\"none\")),IF(AF91=0,,IF(OR($E$6='Customer Info'!$D$20,$E$6=0),AF91,(AF91/$E$6)*'Customer Info'!$D$20)),)","v":0},{"$f":"IF((OR($F$7=0,$F$7=\"none\")),IF(AG91=0,,IF(OR($E$7='Customer Info'!$D$21,$E$7=0),AG91,(AG91/$E$7)*'Customer Info'!$D$21)),)","v":0},0,0,{"$f":"IF(E91=\"plate waste\",,IF('Customer Info'!$M$18=0,'Log Sheet'!AY91,'Customer Info'!$M$18*'Log Sheet'!AY91))","v":0},{"$f":"IF(E91=\"plate waste\",IF(OR(C91=\"patient\",C91=\"patient beverages\"),IF('Customer Info'!$M$27=0,AY91*'Customer Info'!$M$18,AY91*'Customer Info'!$M$27),IF(C91=\"cafeteria\",IF('Customer Info'!$M$28=0,AY91*'Customer Info'!$M$18,AY91*'Customer Info'!$M$28),IF(C91=\"other1\",IF('Customer Info'!$M$29=0,AY91*'Customer Info'!$M$18,AY91*'Customer Info'!$M$29),))),)","v":0},0,{"$f":"IF($F$4=\"lunch\",IF(S91=0,,(S91/$E$5)*'Customer Info'!$D$18),)","v":0},{"$f":"IF($F$4=\"dinner\",IF(T91=0,,(T91/$E$6)*'Customer Info'!$D$18),)","v":0},{"$f":"IF($F$4=\"other\",IF(U91=0,,(U91/$E$7)*'Customer Info'!$D$18),)","v":0},0,{"$f":"IF($F$5=\"breakfast\",IF(R91=0,,(R91/$E$4)*'Customer Info'!$D$19),)","v":0},{"$f":"IF($F$5=\"dinner\",IF(T91=0,,(T91/$E$6)*'Customer Info'!$D$19),)","v":0},{"$f":"IF($F$5=\"other\",IF(U91=0,,(U91/$E$7)*'Customer Info'!$D$19),)","v":0},0,{"$f":"IF($F$6=\"breakfast\",IF(R91=0,,(R91/$E$4)*'Customer Info'!$D$20),)","v":0},{"$f":"IF($F$6=\"lunch\",IF(S91=0,,(S91/$E$5)*'Customer Info'!$D$20),)","v":0},{"$f":"IF($F$6=\"other\",IF(U91=0,,(U91/$E$7)*'Customer Info'!$D$20),)","v":0},0,{"$f":"IF($F$7=\"breakfast\",IF(R91=0,,(R91/$E$4)*'Customer Info'!$D$21),)","v":0},{"$f":"IF($F$7=\"lunch\",IF(S91=0,,(S91/$E$5)*'Customer Info'!$D$21),)","v":0},{"$f":"IF($F$7=\"dinner\",IF(T91=0,,(T91/$E$6)*'Customer Info'!$D$21),)","v":0},0,{"$f":"IF($F$10=\"lunch\",IF(W91=0,,(W91/$E$11)*'Customer Info'!$F$18),)","v":0},{"$f":"IF($F$10=\"dinner\",IF(X91=0,,(X91/$E$12)*'Customer Info'!$F$18),)","v":0},{"$f":"IF($F$10=\"other\",IF(Y91=0,,(Y91/$E$13)*'Customer Info'!$F$18),)","v":0},0,{"$f":"IF($F$11=\"breakfast\",IF(V91=0,,(V91/$E$10)*'Customer Info'!$F$19),)","v":0},{"$f":"IF($F$11=\"dinner\",IF(X91=0,,(X91/$E$12)*'Customer Info'!$F$19),)","v":0},{"$f":"IF($F$11=\"other\",IF(Y91=0,,(Y91/$E$13)*'Customer Info'!$F$19),)","v":0},0,{"$f":"IF($F$12=\"breakfast\",IF(V91=0,,(V91/$E$10)*'Customer Info'!$F$20),)","v":0},{"$f":"IF($F$12=\"lunch\",IF(W91=0,,(W91/$E$11)*'Customer Info'!$F$20),)","v":0},{"$f":"IF($F$12=\"other\",IF(Y91=0,,(Y91/$E$13)*'Customer Info'!$F$20),)","v":0},0,{"$f":"IF($F$13=\"breakfast\",IF(V91=0,,(V91/$E$10)*'Customer Info'!$F$21),)","v":0},{"$f":"IF($F$13=\"lunch\",IF(W91=0,,(W91/$E$11)*'Customer Info'!$F$21),)","v":0},{"$f":"IF($F$13=\"dinner\",IF(X91=0,,(X91/$E$12)*'Customer Info'!$F$21),)","v":0},0,{"$f":"IF($F$16=\"lunch\",IF(AA91=0,,(AA91/$E$17)*'Customer Info'!$H$18),)","v":0},{"$f":"IF($F$16=\"dinner\",IF(AB91=0,,(AB91/$E$18)*'Customer Info'!$H$18),)","v":0},{"$f":"IF($F$16=\"other\",IF(AC91=0,,(AC91/$E$19)*'Customer Info'!$H$18),)","v":0},0,{"$f":"IF($F$17=\"breakfast\",IF(Z91=0,,(Z91/$E$16)*'Customer Info'!$H$19),)","v":0},{"$f":"IF($F$17=\"dinner\",IF(AB91=0,,(AB91/$E$18)*'Customer Info'!$H$19),)","v":0},{"$f":"IF($F$17=\"other\",IF(AC91=0,,(AC91/$E$19)*'Customer Info'!$H$19),)","v":0},0,{"$f":"IF($F$18=\"breakfast\",IF(Z91=0,,(Z91/$E$16)*'Customer Info'!$H$20),)","v":0},{"$f":"IF($F$18=\"lunch\",IF(AA91=0,,(AA91/$E$17)*'Customer Info'!$H$20),)","v":0},{"$f":"IF($F$18=\"other\",IF(AC91=0,,(AC91/$E$19)*'Customer Info'!$H$20),)","v":0},0,{"$f":"IF($F$19=\"breakfast\",IF(Z91=0,,(Z91/$E$16)*'Customer Info'!$H$21),)","v":0},{"$f":"IF($F$19=\"lunch\",IF(AA91=0,,(AA91/$E$17)*'Customer Info'!$H$21),)","v":0},{"$f":"IF($F$19=\"dinner\",IF(AB91=0,,(AB91/$E$18)*'Customer Info'!$H$21),)","v":0},0,0,0,0,0,""]
[null,null,null,null,null,null,null,null,null,null,0,0,0,0,0,0,0,0,0,0,0,0,0,0,0,0,0,0,0,0,0,0,0,{"$f":"IF((OR($F$4=0,$F$4=\"none\")),IF(R92=0,,IF(OR($E$4='Customer Info'!$D$18,$E$4=0),R92,(R92/$E$4)*'Customer Info'!$D$18)),)","v":0},{"$f":"IF((OR($F$5=0,$F$5=\"none\")),IF(S92=0,,IF(OR($E$5='Customer Info'!$D$18,$E$5=0),S92,(S92/$E$5)*'Customer Info'!$D$19)),)","v":0},{"$f":"IF((OR($F$6=0,$F$6=\"none\")),IF(T92=0,,IF(OR($E$6='Customer Info'!$D$18,$E$6=0),T92,(T92/$E$6)*'Customer Info'!$D$20)),)","v":0},{"$f":"IF((OR($F$7=0,$F$7=\"none\")),IF(U92=0,,IF(OR($E$7='Customer Info'!$D$18,$E$7=0),U92,(U92/$E$7)*'Customer Info'!$D$21)),)","v":0},{"$f":"IF((OR($F$10=0,$F$10=\"none\")),IF(V92=0,,IF(OR($E$10='Customer Info'!$F$18,$E$10=0),V92,(V92/$E$10)*'Customer Info'!$F$18)),)","v":0},{"$f":"IF((OR($F$11=0,$F$11=\"none\")),IF(W92=0,,IF(OR($E$11='Customer Info'!$F$19,$E$11=0),W92,(W92/$E$11)*'Customer Info'!$F$19)),)","v":0},{"$f":"IF((OR($F$12=0,$F$12=\"none\")),IF(X92=0,,IF(OR($E$12='Customer Info'!$F$20,$E$12=0),X92,(X92/$E$12)*'Customer Info'!$F$20)),)","v":0},{"$f":"IF((OR($F$13=0,$F$13=\"none\")),IF(Y92=0,,IF(OR($E$13='Customer Info'!$F$21,$E$13=0),Y92,(Y92/$E$13)*'Customer Info'!$F$21)),)","v":0},{"$f":"IF((OR($F$16=0,$F$16=\"none\")),IF(Z92=0,,IF(OR($E$16='Customer Info'!$H$18,$E$16=0),Z92,(Z92/$E$16)*'Customer Info'!$H$18)),)","v":0},{"$f":"IF((OR($F$17=0,$F$17=\"none\")),IF(AA92=0,,IF(OR($E$17='Customer Info'!$H$19,$E$17=0),AA92,(AA92/$E$17)*'Customer Info'!$H$19)),)","v":0},{"$f":"IF((OR($F$18=0,$F$18=\"none\")),IF(AB92=0,,IF(OR($E$18='Customer Info'!$H$20,$E$18=0),AB92,(AB92/$E$18)*'Customer Info'!$H$20)),)","v":0},{"$f":"IF((OR($F$19=0,$F$19=\"none\")),IF(AC92=0,,IF(OR($E$19='Customer Info'!$H$21,$E$19=0),AC92,(AC92/$E$19)*'Customer Info'!$H$21)),)","v":0},{"$f":"IF((OR($F$4=0,$F$4=\"none\")),IF(AD92=0,,IF(OR($E$4='Customer Info'!$D$18,$E$4=0),AD92,(AD92/$E$4)*'Customer Info'!$D$18)),)","v":0},{"$f":"IF((OR($F$5=0,$F$5=\"none\")),IF(AE92=0,,IF(OR($E$5='Customer Info'!$D$19,$E$5=0),AE92,(AE92/$E$5)*'Customer Info'!$D$19)),)","v":0},{"$f":"IF((OR($F$6=0,$F$6=\"none\")),IF(AF92=0,,IF(OR($E$6='Customer Info'!$D$20,$E$6=0),AF92,(AF92/$E$6)*'Customer Info'!$D$20)),)","v":0},{"$f":"IF((OR($F$7=0,$F$7=\"none\")),IF(AG92=0,,IF(OR($E$7='Customer Info'!$D$21,$E$7=0),AG92,(AG92/$E$7)*'Customer Info'!$D$21)),)","v":0},0,0,{"$f":"IF(E92=\"plate waste\",,IF('Customer Info'!$M$18=0,'Log Sheet'!AY92,'Customer Info'!$M$18*'Log Sheet'!AY92))","v":0},{"$f":"IF(E92=\"plate waste\",IF(OR(C92=\"patient\",C92=\"patient beverages\"),IF('Customer Info'!$M$27=0,AY92*'Customer Info'!$M$18,AY92*'Customer Info'!$M$27),IF(C92=\"cafeteria\",IF('Customer Info'!$M$28=0,AY92*'Customer Info'!$M$18,AY92*'Customer Info'!$M$28),IF(C92=\"other1\",IF('Customer Info'!$M$29=0,AY92*'Customer Info'!$M$18,AY92*'Customer Info'!$M$29),))),)","v":0},0,{"$f":"IF($F$4=\"lunch\",IF(S92=0,,(S92/$E$5)*'Customer Info'!$D$18),)","v":0},{"$f":"IF($F$4=\"dinner\",IF(T92=0,,(T92/$E$6)*'Customer Info'!$D$18),)","v":0},{"$f":"IF($F$4=\"other\",IF(U92=0,,(U92/$E$7)*'Customer Info'!$D$18),)","v":0},0,{"$f":"IF($F$5=\"breakfast\",IF(R92=0,,(R92/$E$4)*'Customer Info'!$D$19),)","v":0},{"$f":"IF($F$5=\"dinner\",IF(T92=0,,(T92/$E$6)*'Customer Info'!$D$19),)","v":0},{"$f":"IF($F$5=\"other\",IF(U92=0,,(U92/$E$7)*'Customer Info'!$D$19),)","v":0},0,{"$f":"IF($F$6=\"breakfast\",IF(R92=0,,(R92/$E$4)*'Customer Info'!$D$20),)","v":0},{"$f":"IF($F$6=\"lunch\",IF(S92=0,,(S92/$E$5)*'Customer Info'!$D$20),)","v":0},{"$f":"IF($F$6=\"other\",IF(U92=0,,(U92/$E$7)*'Customer Info'!$D$20),)","v":0},0,{"$f":"IF($F$7=\"breakfast\",IF(R92=0,,(R92/$E$4)*'Customer Info'!$D$21),)","v":0},{"$f":"IF($F$7=\"lunch\",IF(S92=0,,(S92/$E$5)*'Customer Info'!$D$21),)","v":0},{"$f":"IF($F$7=\"dinner\",IF(T92=0,,(T92/$E$6)*'Customer Info'!$D$21),)","v":0},0,{"$f":"IF($F$10=\"lunch\",IF(W92=0,,(W92/$E$11)*'Customer Info'!$F$18),)","v":0},{"$f":"IF($F$10=\"dinner\",IF(X92=0,,(X92/$E$12)*'Customer Info'!$F$18),)","v":0},{"$f":"IF($F$10=\"other\",IF(Y92=0,,(Y92/$E$13)*'Customer Info'!$F$18),)","v":0},0,{"$f":"IF($F$11=\"breakfast\",IF(V92=0,,(V92/$E$10)*'Customer Info'!$F$19),)","v":0},{"$f":"IF($F$11=\"dinner\",IF(X92=0,,(X92/$E$12)*'Customer Info'!$F$19),)","v":0},{"$f":"IF($F$11=\"other\",IF(Y92=0,,(Y92/$E$13)*'Customer Info'!$F$19),)","v":0},0,{"$f":"IF($F$12=\"breakfast\",IF(V92=0,,(V92/$E$10)*'Customer Info'!$F$20),)","v":0},{"$f":"IF($F$12=\"lunch\",IF(W92=0,,(W92/$E$11)*'Customer Info'!$F$20),)","v":0},{"$f":"IF($F$12=\"other\",IF(Y92=0,,(Y92/$E$13)*'Customer Info'!$F$20),)","v":0},0,{"$f":"IF($F$13=\"breakfast\",IF(V92=0,,(V92/$E$10)*'Customer Info'!$F$21),)","v":0},{"$f":"IF($F$13=\"lunch\",IF(W92=0,,(W92/$E$11)*'Customer Info'!$F$21),)","v":0},{"$f":"IF($F$13=\"dinner\",IF(X92=0,,(X92/$E$12)*'Customer Info'!$F$21),)","v":0},0,{"$f":"IF($F$16=\"lunch\",IF(AA92=0,,(AA92/$E$17)*'Customer Info'!$H$18),)","v":0},{"$f":"IF($F$16=\"dinner\",IF(AB92=0,,(AB92/$E$18)*'Customer Info'!$H$18),)","v":0},{"$f":"IF($F$16=\"other\",IF(AC92=0,,(AC92/$E$19)*'Customer Info'!$H$18),)","v":0},0,{"$f":"IF($F$17=\"breakfast\",IF(Z92=0,,(Z92/$E$16)*'Customer Info'!$H$19),)","v":0},{"$f":"IF($F$17=\"dinner\",IF(AB92=0,,(AB92/$E$18)*'Customer Info'!$H$19),)","v":0},{"$f":"IF($F$17=\"other\",IF(AC92=0,,(AC92/$E$19)*'Customer Info'!$H$19),)","v":0},0,{"$f":"IF($F$18=\"breakfast\",IF(Z92=0,,(Z92/$E$16)*'Customer Info'!$H$20),)","v":0},{"$f":"IF($F$18=\"lunch\",IF(AA92=0,,(AA92/$E$17)*'Customer Info'!$H$20),)","v":0},{"$f":"IF($F$18=\"other\",IF(AC92=0,,(AC92/$E$19)*'Customer Info'!$H$20),)","v":0},0,{"$f":"IF($F$19=\"breakfast\",IF(Z92=0,,(Z92/$E$16)*'Customer Info'!$H$21),)","v":0},{"$f":"IF($F$19=\"lunch\",IF(AA92=0,,(AA92/$E$17)*'Customer Info'!$H$21),)","v":0},{"$f":"IF($F$19=\"dinner\",IF(AB92=0,,(AB92/$E$18)*'Customer Info'!$H$21),)","v":0},0,0,0,0,0,""]
[null,null,null,null,null,null,null,null,null,null,0,0,0,0,0,0,0,0,0,0,0,0,0,0,0,0,0,0,0,0,0,0,0,{"$f":"IF((OR($F$4=0,$F$4=\"none\")),IF(R93=0,,IF(OR($E$4='Customer Info'!$D$18,$E$4=0),R93,(R93/$E$4)*'Customer Info'!$D$18)),)","v":0},{"$f":"IF((OR($F$5=0,$F$5=\"none\")),IF(S93=0,,IF(OR($E$5='Customer Info'!$D$18,$E$5=0),S93,(S93/$E$5)*'Customer Info'!$D$19)),)","v":0},{"$f":"IF((OR($F$6=0,$F$6=\"none\")),IF(T93=0,,IF(OR($E$6='Customer Info'!$D$18,$E$6=0),T93,(T93/$E$6)*'Customer Info'!$D$20)),)","v":0},{"$f":"IF((OR($F$7=0,$F$7=\"none\")),IF(U93=0,,IF(OR($E$7='Customer Info'!$D$18,$E$7=0),U93,(U93/$E$7)*'Customer Info'!$D$21)),)","v":0},{"$f":"IF((OR($F$10=0,$F$10=\"none\")),IF(V93=0,,IF(OR($E$10='Customer Info'!$F$18,$E$10=0),V93,(V93/$E$10)*'Customer Info'!$F$18)),)","v":0},{"$f":"IF((OR($F$11=0,$F$11=\"none\")),IF(W93=0,,IF(OR($E$11='Customer Info'!$F$19,$E$11=0),W93,(W93/$E$11)*'Customer Info'!$F$19)),)","v":0},{"$f":"IF((OR($F$12=0,$F$12=\"none\")),IF(X93=0,,IF(OR($E$12='Customer Info'!$F$20,$E$12=0),X93,(X93/$E$12)*'Customer Info'!$F$20)),)","v":0},{"$f":"IF((OR($F$13=0,$F$13=\"none\")),IF(Y93=0,,IF(OR($E$13='Customer Info'!$F$21,$E$13=0),Y93,(Y93/$E$13)*'Customer Info'!$F$21)),)","v":0},{"$f":"IF((OR($F$16=0,$F$16=\"none\")),IF(Z93=0,,IF(OR($E$16='Customer Info'!$H$18,$E$16=0),Z93,(Z93/$E$16)*'Customer Info'!$H$18)),)","v":0},{"$f":"IF((OR($F$17=0,$F$17=\"none\")),IF(AA93=0,,IF(OR($E$17='Customer Info'!$H$19,$E$17=0),AA93,(AA93/$E$17)*'Customer Info'!$H$19)),)","v":0},{"$f":"IF((OR($F$18=0,$F$18=\"none\")),IF(AB93=0,,IF(OR($E$18='Customer Info'!$H$20,$E$18=0),AB93,(AB93/$E$18)*'Customer Info'!$H$20)),)","v":0},{"$f":"IF((OR($F$19=0,$F$19=\"none\")),IF(AC93=0,,IF(OR($E$19='Customer Info'!$H$21,$E$19=0),AC93,(AC93/$E$19)*'Customer Info'!$H$21)),)","v":0},{"$f":"IF((OR($F$4=0,$F$4=\"none\")),IF(AD93=0,,IF(OR($E$4='Customer Info'!$D$18,$E$4=0),AD93,(AD93/$E$4)*'Customer Info'!$D$18)),)","v":0},{"$f":"IF((OR($F$5=0,$F$5=\"none\")),IF(AE93=0,,IF(OR($E$5='Customer Info'!$D$19,$E$5=0),AE93,(AE93/$E$5)*'Customer Info'!$D$19)),)","v":0},{"$f":"IF((OR($F$6=0,$F$6=\"none\")),IF(AF93=0,,IF(OR($E$6='Customer Info'!$D$20,$E$6=0),AF93,(AF93/$E$6)*'Customer Info'!$D$20)),)","v":0},{"$f":"IF((OR($F$7=0,$F$7=\"none\")),IF(AG93=0,,IF(OR($E$7='Customer Info'!$D$21,$E$7=0),AG93,(AG93/$E$7)*'Customer Info'!$D$21)),)","v":0},0,0,{"$f":"IF(E93=\"plate waste\",,IF('Customer Info'!$M$18=0,'Log Sheet'!AY93,'Customer Info'!$M$18*'Log Sheet'!AY93))","v":0},{"$f":"IF(E93=\"plate waste\",IF(OR(C93=\"patient\",C93=\"patient beverages\"),IF('Customer Info'!$M$27=0,AY93*'Customer Info'!$M$18,AY93*'Customer Info'!$M$27),IF(C93=\"cafeteria\",IF('Customer Info'!$M$28=0,AY93*'Customer Info'!$M$18,AY93*'Customer Info'!$M$28),IF(C93=\"other1\",IF('Customer Info'!$M$29=0,AY93*'Customer Info'!$M$18,AY93*'Customer Info'!$M$29),))),)","v":0},0,{"$f":"IF($F$4=\"lunch\",IF(S93=0,,(S93/$E$5)*'Customer Info'!$D$18),)","v":0},{"$f":"IF($F$4=\"dinner\",IF(T93=0,,(T93/$E$6)*'Customer Info'!$D$18),)","v":0},{"$f":"IF($F$4=\"other\",IF(U93=0,,(U93/$E$7)*'Customer Info'!$D$18),)","v":0},0,{"$f":"IF($F$5=\"breakfast\",IF(R93=0,,(R93/$E$4)*'Customer Info'!$D$19),)","v":0},{"$f":"IF($F$5=\"dinner\",IF(T93=0,,(T93/$E$6)*'Customer Info'!$D$19),)","v":0},{"$f":"IF($F$5=\"other\",IF(U93=0,,(U93/$E$7)*'Customer Info'!$D$19),)","v":0},0,{"$f":"IF($F$6=\"breakfast\",IF(R93=0,,(R93/$E$4)*'Customer Info'!$D$20),)","v":0},{"$f":"IF($F$6=\"lunch\",IF(S93=0,,(S93/$E$5)*'Customer Info'!$D$20),)","v":0},{"$f":"IF($F$6=\"other\",IF(U93=0,,(U93/$E$7)*'Customer Info'!$D$20),)","v":0},0,{"$f":"IF($F$7=\"breakfast\",IF(R93=0,,(R93/$E$4)*'Customer Info'!$D$21),)","v":0},{"$f":"IF($F$7=\"lunch\",IF(S93=0,,(S93/$E$5)*'Customer Info'!$D$21),)","v":0},{"$f":"IF($F$7=\"dinner\",IF(T93=0,,(T93/$E$6)*'Customer Info'!$D$21),)","v":0},0,{"$f":"IF($F$10=\"lunch\",IF(W93=0,,(W93/$E$11)*'Customer Info'!$F$18),)","v":0},{"$f":"IF($F$10=\"dinner\",IF(X93=0,,(X93/$E$12)*'Customer Info'!$F$18),)","v":0},{"$f":"IF($F$10=\"other\",IF(Y93=0,,(Y93/$E$13)*'Customer Info'!$F$18),)","v":0},0,{"$f":"IF($F$11=\"breakfast\",IF(V93=0,,(V93/$E$10)*'Customer Info'!$F$19),)","v":0},{"$f":"IF($F$11=\"dinner\",IF(X93=0,,(X93/$E$12)*'Customer Info'!$F$19),)","v":0},{"$f":"IF($F$11=\"other\",IF(Y93=0,,(Y93/$E$13)*'Customer Info'!$F$19),)","v":0},0,{"$f":"IF($F$12=\"breakfast\",IF(V93=0,,(V93/$E$10)*'Customer Info'!$F$20),)","v":0},{"$f":"IF($F$12=\"lunch\",IF(W93=0,,(W93/$E$11)*'Customer Info'!$F$20),)","v":0},{"$f":"IF($F$12=\"other\",IF(Y93=0,,(Y93/$E$13)*'Customer Info'!$F$20),)","v":0},0,{"$f":"IF($F$13=\"breakfast\",IF(V93=0,,(V93/$E$10)*'Customer Info'!$F$21),)","v":0},{"$f":"IF($F$13=\"lunch\",IF(W93=0,,(W93/$E$11)*'Customer Info'!$F$21),)","v":0},{"$f":"IF($F$13=\"dinner\",IF(X93=0,,(X93/$E$12)*'Customer Info'!$F$21),)","v":0},0,{"$f":"IF($F$16=\"lunch\",IF(AA93=0,,(AA93/$E$17)*'Customer Info'!$H$18),)","v":0},{"$f":"IF($F$16=\"dinner\",IF(AB93=0,,(AB93/$E$18)*'Customer Info'!$H$18),)","v":0},{"$f":"IF($F$16=\"other\",IF(AC93=0,,(AC93/$E$19)*'Customer Info'!$H$18),)","v":0},0,{"$f":"IF($F$17=\"breakfast\",IF(Z93=0,,(Z93/$E$16)*'Customer Info'!$H$19),)","v":0},{"$f":"IF($F$17=\"dinner\",IF(AB93=0,,(AB93/$E$18)*'Customer Info'!$H$19),)","v":0},{"$f":"IF($F$17=\"other\",IF(AC93=0,,(AC93/$E$19)*'Customer Info'!$H$19),)","v":0},0,{"$f":"IF($F$18=\"breakfast\",IF(Z93=0,,(Z93/$E$16)*'Customer Info'!$H$20),)","v":0},{"$f":"IF($F$18=\"lunch\",IF(AA93=0,,(AA93/$E$17)*'Customer Info'!$H$20),)","v":0},{"$f":"IF($F$18=\"other\",IF(AC93=0,,(AC93/$E$19)*'Customer Info'!$H$20),)","v":0},0,{"$f":"IF($F$19=\"breakfast\",IF(Z93=0,,(Z93/$E$16)*'Customer Info'!$H$21),)","v":0},{"$f":"IF($F$19=\"lunch\",IF(AA93=0,,(AA93/$E$17)*'Customer Info'!$H$21),)","v":0},{"$f":"IF($F$19=\"dinner\",IF(AB93=0,,(AB93/$E$18)*'Customer Info'!$H$21),)","v":0},0,0,0,0,0,""]
[null,null,null,null,null,null,null,null,null,null,0,0,0,0,0,0,0,0,0,0,0,0,0,0,0,0,0,0,0,0,0,0,0,{"$f":"IF((OR($F$4=0,$F$4=\"none\")),IF(R94=0,,IF(OR($E$4='Customer Info'!$D$18,$E$4=0),R94,(R94/$E$4)*'Customer Info'!$D$18)),)","v":0},{"$f":"IF((OR($F$5=0,$F$5=\"none\")),IF(S94=0,,IF(OR($E$5='Customer Info'!$D$18,$E$5=0),S94,(S94/$E$5)*'Customer Info'!$D$19)),)","v":0},{"$f":"IF((OR($F$6=0,$F$6=\"none\")),IF(T94=0,,IF(OR($E$6='Customer Info'!$D$18,$E$6=0),T94,(T94/$E$6)*'Customer Info'!$D$20)),)","v":0},{"$f":"IF((OR($F$7=0,$F$7=\"none\")),IF(U94=0,,IF(OR($E$7='Customer Info'!$D$18,$E$7=0),U94,(U94/$E$7)*'Customer Info'!$D$21)),)","v":0},{"$f":"IF((OR($F$10=0,$F$10=\"none\")),IF(V94=0,,IF(OR($E$10='Customer Info'!$F$18,$E$10=0),V94,(V94/$E$10)*'Customer Info'!$F$18)),)","v":0},{"$f":"IF((OR($F$11=0,$F$11=\"none\")),IF(W94=0,,IF(OR($E$11='Customer Info'!$F$19,$E$11=0),W94,(W94/$E$11)*'Customer Info'!$F$19)),)","v":0},{"$f":"IF((OR($F$12=0,$F$12=\"none\")),IF(X94=0,,IF(OR($E$12='Customer Info'!$F$20,$E$12=0),X94,(X94/$E$12)*'Customer Info'!$F$20)),)","v":0},{"$f":"IF((OR($F$13=0,$F$13=\"none\")),IF(Y94=0,,IF(OR($E$13='Customer Info'!$F$21,$E$13=0),Y94,(Y94/$E$13)*'Customer Info'!$F$21)),)","v":0},{"$f":"IF((OR($F$16=0,$F$16=\"none\")),IF(Z94=0,,IF(OR($E$16='Customer Info'!$H$18,$E$16=0),Z94,(Z94/$E$16)*'Customer Info'!$H$18)),)","v":0},{"$f":"IF((OR($F$17=0,$F$17=\"none\")),IF(AA94=0,,IF(OR($E$17='Customer Info'!$H$19,$E$17=0),AA94,(AA94/$E$17)*'Customer Info'!$H$19)),)","v":0},{"$f":"IF((OR($F$18=0,$F$18=\"none\")),IF(AB94=0,,IF(OR($E$18='Customer Info'!$H$20,$E$18=0),AB94,(AB94/$E$18)*'Customer Info'!$H$20)),)","v":0},{"$f":"IF((OR($F$19=0,$F$19=\"none\")),IF(AC94=0,,IF(OR($E$19='Customer Info'!$H$21,$E$19=0),AC94,(AC94/$E$19)*'Customer Info'!$H$21)),)","v":0},{"$f":"IF((OR($F$4=0,$F$4=\"none\")),IF(AD94=0,,IF(OR($E$4='Customer Info'!$D$18,$E$4=0),AD94,(AD94/$E$4)*'Customer Info'!$D$18)),)","v":0},{"$f":"IF((OR($F$5=0,$F$5=\"none\")),IF(AE94=0,,IF(OR($E$5='Customer Info'!$D$19,$E$5=0),AE94,(AE94/$E$5)*'Customer Info'!$D$19)),)","v":0},{"$f":"IF((OR($F$6=0,$F$6=\"none\")),IF(AF94=0,,IF(OR($E$6='Customer Info'!$D$20,$E$6=0),AF94,(AF94/$E$6)*'Customer Info'!$D$20)),)","v":0},{"$f":"IF((OR($F$7=0,$F$7=\"none\")),IF(AG94=0,,IF(OR($E$7='Customer Info'!$D$21,$E$7=0),AG94,(AG94/$E$7)*'Customer Info'!$D$21)),)","v":0},0,0,{"$f":"IF(E94=\"plate waste\",,IF('Customer Info'!$M$18=0,'Log Sheet'!AY94,'Customer Info'!$M$18*'Log Sheet'!AY94))","v":0},{"$f":"IF(E94=\"plate waste\",IF(OR(C94=\"patient\",C94=\"patient beverages\"),IF('Customer Info'!$M$27=0,AY94*'Customer Info'!$M$18,AY94*'Customer Info'!$M$27),IF(C94=\"cafeteria\",IF('Customer Info'!$M$28=0,AY94*'Customer Info'!$M$18,AY94*'Customer Info'!$M$28),IF(C94=\"other1\",IF('Customer Info'!$M$29=0,AY94*'Customer Info'!$M$18,AY94*'Customer Info'!$M$29),))),)","v":0},0,{"$f":"IF($F$4=\"lunch\",IF(S94=0,,(S94/$E$5)*'Customer Info'!$D$18),)","v":0},{"$f":"IF($F$4=\"dinner\",IF(T94=0,,(T94/$E$6)*'Customer Info'!$D$18),)","v":0},{"$f":"IF($F$4=\"other\",IF(U94=0,,(U94/$E$7)*'Customer Info'!$D$18),)","v":0},0,{"$f":"IF($F$5=\"breakfast\",IF(R94=0,,(R94/$E$4)*'Customer Info'!$D$19),)","v":0},{"$f":"IF($F$5=\"dinner\",IF(T94=0,,(T94/$E$6)*'Customer Info'!$D$19),)","v":0},{"$f":"IF($F$5=\"other\",IF(U94=0,,(U94/$E$7)*'Customer Info'!$D$19),)","v":0},0,{"$f":"IF($F$6=\"breakfast\",IF(R94=0,,(R94/$E$4)*'Customer Info'!$D$20),)","v":0},{"$f":"IF($F$6=\"lunch\",IF(S94=0,,(S94/$E$5)*'Customer Info'!$D$20),)","v":0},{"$f":"IF($F$6=\"other\",IF(U94=0,,(U94/$E$7)*'Customer Info'!$D$20),)","v":0},0,{"$f":"IF($F$7=\"breakfast\",IF(R94=0,,(R94/$E$4)*'Customer Info'!$D$21),)","v":0},{"$f":"IF($F$7=\"lunch\",IF(S94=0,,(S94/$E$5)*'Customer Info'!$D$21),)","v":0},{"$f":"IF($F$7=\"dinner\",IF(T94=0,,(T94/$E$6)*'Customer Info'!$D$21),)","v":0},0,{"$f":"IF($F$10=\"lunch\",IF(W94=0,,(W94/$E$11)*'Customer Info'!$F$18),)","v":0},{"$f":"IF($F$10=\"dinner\",IF(X94=0,,(X94/$E$12)*'Customer Info'!$F$18),)","v":0},{"$f":"IF($F$10=\"other\",IF(Y94=0,,(Y94/$E$13)*'Customer Info'!$F$18),)","v":0},0,{"$f":"IF($F$11=\"breakfast\",IF(V94=0,,(V94/$E$10)*'Customer Info'!$F$19),)","v":0},{"$f":"IF($F$11=\"dinner\",IF(X94=0,,(X94/$E$12)*'Customer Info'!$F$19),)","v":0},{"$f":"IF($F$11=\"other\",IF(Y94=0,,(Y94/$E$13)*'Customer Info'!$F$19),)","v":0},0,{"$f":"IF($F$12=\"breakfast\",IF(V94=0,,(V94/$E$10)*'Customer Info'!$F$20),)","v":0},{"$f":"IF($F$12=\"lunch\",IF(W94=0,,(W94/$E$11)*'Customer Info'!$F$20),)","v":0},{"$f":"IF($F$12=\"other\",IF(Y94=0,,(Y94/$E$13)*'Customer Info'!$F$20),)","v":0},0,{"$f":"IF($F$13=\"breakfast\",IF(V94=0,,(V94/$E$10)*'Customer Info'!$F$21),)","v":0},{"$f":"IF($F$13=\"lunch\",IF(W94=0,,(W94/$E$11)*'Customer Info'!$F$21),)","v":0},{"$f":"IF($F$13=\"dinner\",IF(X94=0,,(X94/$E$12)*'Customer Info'!$F$21),)","v":0},0,{"$f":"IF($F$16=\"lunch\",IF(AA94=0,,(AA94/$E$17)*'Customer Info'!$H$18),)","v":0},{"$f":"IF($F$16=\"dinner\",IF(AB94=0,,(AB94/$E$18)*'Customer Info'!$H$18),)","v":0},{"$f":"IF($F$16=\"other\",IF(AC94=0,,(AC94/$E$19)*'Customer Info'!$H$18),)","v":0},0,{"$f":"IF($F$17=\"breakfast\",IF(Z94=0,,(Z94/$E$16)*'Customer Info'!$H$19),)","v":0},{"$f":"IF($F$17=\"dinner\",IF(AB94=0,,(AB94/$E$18)*'Customer Info'!$H$19),)","v":0},{"$f":"IF($F$17=\"other\",IF(AC94=0,,(AC94/$E$19)*'Customer Info'!$H$19),)","v":0},0,{"$f":"IF($F$18=\"breakfast\",IF(Z94=0,,(Z94/$E$16)*'Customer Info'!$H$20),)","v":0},{"$f":"IF($F$18=\"lunch\",IF(AA94=0,,(AA94/$E$17)*'Customer Info'!$H$20),)","v":0},{"$f":"IF($F$18=\"other\",IF(AC94=0,,(AC94/$E$19)*'Customer Info'!$H$20),)","v":0},0,{"$f":"IF($F$19=\"breakfast\",IF(Z94=0,,(Z94/$E$16)*'Customer Info'!$H$21),)","v":0},{"$f":"IF($F$19=\"lunch\",IF(AA94=0,,(AA94/$E$17)*'Customer Info'!$H$21),)","v":0},{"$f":"IF($F$19=\"dinner\",IF(AB94=0,,(AB94/$E$18)*'Customer Info'!$H$21),)","v":0},0,0,0,0,0,""]
[null,null,null,null,null,null,null,null,null,null,0,0,0,0,0,0,0,0,0,0,0,0,0,0,0,0,0,0,0,0,0,0,0,{"$f":"IF((OR($F$4=0,$F$4=\"none\")),IF(R95=0,,IF(OR($E$4='Customer Info'!$D$18,$E$4=0),R95,(R95/$E$4)*'Customer Info'!$D$18)),)","v":0},{"$f":"IF((OR($F$5=0,$F$5=\"none\")),IF(S95=0,,IF(OR($E$5='Customer Info'!$D$18,$E$5=0),S95,(S95/$E$5)*'Customer Info'!$D$19)),)","v":0},{"$f":"IF((OR($F$6=0,$F$6=\"none\")),IF(T95=0,,IF(OR($E$6='Customer Info'!$D$18,$E$6=0),T95,(T95/$E$6)*'Customer Info'!$D$20)),)","v":0},{"$f":"IF((OR($F$7=0,$F$7=\"none\")),IF(U95=0,,IF(OR($E$7='Customer Info'!$D$18,$E$7=0),U95,(U95/$E$7)*'Customer Info'!$D$21)),)","v":0},{"$f":"IF((OR($F$10=0,$F$10=\"none\")),IF(V95=0,,IF(OR($E$10='Customer Info'!$F$18,$E$10=0),V95,(V95/$E$10)*'Customer Info'!$F$18)),)","v":0},{"$f":"IF((OR($F$11=0,$F$11=\"none\")),IF(W95=0,,IF(OR($E$11='Customer Info'!$F$19,$E$11=0),W95,(W95/$E$11)*'Customer Info'!$F$19)),)","v":0},{"$f":"IF((OR($F$12=0,$F$12=\"none\")),IF(X95=0,,IF(OR($E$12='Customer Info'!$F$20,$E$12=0),X95,(X95/$E$12)*'Customer Info'!$F$20)),)","v":0},{"$f":"IF((OR($F$13=0,$F$13=\"none\")),IF(Y95=0,,IF(OR($E$13='Customer Info'!$F$21,$E$13=0),Y95,(Y95/$E$13)*'Customer Info'!$F$21)),)","v":0},{"$f":"IF((OR($F$16=0,$F$16=\"none\")),IF(Z95=0,,IF(OR($E$16='Customer Info'!$H$18,$E$16=0),Z95,(Z95/$E$16)*'Customer Info'!$H$18)),)","v":0},{"$f":"IF((OR($F$17=0,$F$17=\"none\")),IF(AA95=0,,IF(OR($E$17='Customer Info'!$H$19,$E$17=0),AA95,(AA95/$E$17)*'Customer Info'!$H$19)),)","v":0},{"$f":"IF((OR($F$18=0,$F$18=\"none\")),IF(AB95=0,,IF(OR($E$18='Customer Info'!$H$20,$E$18=0),AB95,(AB95/$E$18)*'Customer Info'!$H$20)),)","v":0},{"$f":"IF((OR($F$19=0,$F$19=\"none\")),IF(AC95=0,,IF(OR($E$19='Customer Info'!$H$21,$E$19=0),AC95,(AC95/$E$19)*'Customer Info'!$H$21)),)","v":0},{"$f":"IF((OR($F$4=0,$F$4=\"none\")),IF(AD95=0,,IF(OR($E$4='Customer Info'!$D$18,$E$4=0),AD95,(AD95/$E$4)*'Customer Info'!$D$18)),)","v":0},{"$f":"IF((OR($F$5=0,$F$5=\"none\")),IF(AE95=0,,IF(OR($E$5='Customer Info'!$D$19,$E$5=0),AE95,(AE95/$E$5)*'Customer Info'!$D$19)),)","v":0},{"$f":"IF((OR($F$6=0,$F$6=\"none\")),IF(AF95=0,,IF(OR($E$6='Customer Info'!$D$20,$E$6=0),AF95,(AF95/$E$6)*'Customer Info'!$D$20)),)","v":0},{"$f":"IF((OR($F$7=0,$F$7=\"none\")),IF(AG95=0,,IF(OR($E$7='Customer Info'!$D$21,$E$7=0),AG95,(AG95/$E$7)*'Customer Info'!$D$21)),)","v":0},0,0,{"$f":"IF(E95=\"plate waste\",,IF('Customer Info'!$M$18=0,'Log Sheet'!AY95,'Customer Info'!$M$18*'Log Sheet'!AY95))","v":0},{"$f":"IF(E95=\"plate waste\",IF(OR(C95=\"patient\",C95=\"patient beverages\"),IF('Customer Info'!$M$27=0,AY95*'Customer Info'!$M$18,AY95*'Customer Info'!$M$27),IF(C95=\"cafeteria\",IF('Customer Info'!$M$28=0,AY95*'Customer Info'!$M$18,AY95*'Customer Info'!$M$28),IF(C95=\"other1\",IF('Customer Info'!$M$29=0,AY95*'Customer Info'!$M$18,AY95*'Customer Info'!$M$29),))),)","v":0},0,{"$f":"IF($F$4=\"lunch\",IF(S95=0,,(S95/$E$5)*'Customer Info'!$D$18),)","v":0},{"$f":"IF($F$4=\"dinner\",IF(T95=0,,(T95/$E$6)*'Customer Info'!$D$18),)","v":0},{"$f":"IF($F$4=\"other\",IF(U95=0,,(U95/$E$7)*'Customer Info'!$D$18),)","v":0},0,{"$f":"IF($F$5=\"breakfast\",IF(R95=0,,(R95/$E$4)*'Customer Info'!$D$19),)","v":0},{"$f":"IF($F$5=\"dinner\",IF(T95=0,,(T95/$E$6)*'Customer Info'!$D$19),)","v":0},{"$f":"IF($F$5=\"other\",IF(U95=0,,(U95/$E$7)*'Customer Info'!$D$19),)","v":0},0,{"$f":"IF($F$6=\"breakfast\",IF(R95=0,,(R95/$E$4)*'Customer Info'!$D$20),)","v":0},{"$f":"IF($F$6=\"lunch\",IF(S95=0,,(S95/$E$5)*'Customer Info'!$D$20),)","v":0},{"$f":"IF($F$6=\"other\",IF(U95=0,,(U95/$E$7)*'Customer Info'!$D$20),)","v":0},0,{"$f":"IF($F$7=\"breakfast\",IF(R95=0,,(R95/$E$4)*'Customer Info'!$D$21),)","v":0},{"$f":"IF($F$7=\"lunch\",IF(S95=0,,(S95/$E$5)*'Customer Info'!$D$21),)","v":0},{"$f":"IF($F$7=\"dinner\",IF(T95=0,,(T95/$E$6)*'Customer Info'!$D$21),)","v":0},0,{"$f":"IF($F$10=\"lunch\",IF(W95=0,,(W95/$E$11)*'Customer Info'!$F$18),)","v":0},{"$f":"IF($F$10=\"dinner\",IF(X95=0,,(X95/$E$12)*'Customer Info'!$F$18),)","v":0},{"$f":"IF($F$10=\"other\",IF(Y95=0,,(Y95/$E$13)*'Customer Info'!$F$18),)","v":0},0,{"$f":"IF($F$11=\"breakfast\",IF(V95=0,,(V95/$E$10)*'Customer Info'!$F$19),)","v":0},{"$f":"IF($F$11=\"dinner\",IF(X95=0,,(X95/$E$12)*'Customer Info'!$F$19),)","v":0},{"$f":"IF($F$11=\"other\",IF(Y95=0,,(Y95/$E$13)*'Customer Info'!$F$19),)","v":0},0,{"$f":"IF($F$12=\"breakfast\",IF(V95=0,,(V95/$E$10)*'Customer Info'!$F$20),)","v":0},{"$f":"IF($F$12=\"lunch\",IF(W95=0,,(W95/$E$11)*'Customer Info'!$F$20),)","v":0},{"$f":"IF($F$12=\"other\",IF(Y95=0,,(Y95/$E$13)*'Customer Info'!$F$20),)","v":0},0,{"$f":"IF($F$13=\"breakfast\",IF(V95=0,,(V95/$E$10)*'Customer Info'!$F$21),)","v":0},{"$f":"IF($F$13=\"lunch\",IF(W95=0,,(W95/$E$11)*'Customer Info'!$F$21),)","v":0},{"$f":"IF($F$13=\"dinner\",IF(X95=0,,(X95/$E$12)*'Customer Info'!$F$21),)","v":0},0,{"$f":"IF($F$16=\"lunch\",IF(AA95=0,,(AA95/$E$17)*'Customer Info'!$H$18),)","v":0},{"$f":"IF($F$16=\"dinner\",IF(AB95=0,,(AB95/$E$18)*'Customer Info'!$H$18),)","v":0},{"$f":"IF($F$16=\"other\",IF(AC95=0,,(AC95/$E$19)*'Customer Info'!$H$18),)","v":0},0,{"$f":"IF($F$17=\"breakfast\",IF(Z95=0,,(Z95/$E$16)*'Customer Info'!$H$19),)","v":0},{"$f":"IF($F$17=\"dinner\",IF(AB95=0,,(AB95/$E$18)*'Customer Info'!$H$19),)","v":0},{"$f":"IF($F$17=\"other\",IF(AC95=0,,(AC95/$E$19)*'Customer Info'!$H$19),)","v":0},0,{"$f":"IF($F$18=\"breakfast\",IF(Z95=0,,(Z95/$E$16)*'Customer Info'!$H$20),)","v":0},{"$f":"IF($F$18=\"lunch\",IF(AA95=0,,(AA95/$E$17)*'Customer Info'!$H$20),)","v":0},{"$f":"IF($F$18=\"other\",IF(AC95=0,,(AC95/$E$19)*'Customer Info'!$H$20),)","v":0},0,{"$f":"IF($F$19=\"breakfast\",IF(Z95=0,,(Z95/$E$16)*'Customer Info'!$H$21),)","v":0},{"$f":"IF($F$19=\"lunch\",IF(AA95=0,,(AA95/$E$17)*'Customer Info'!$H$21),)","v":0},{"$f":"IF($F$19=\"dinner\",IF(AB95=0,,(AB95/$E$18)*'Customer Info'!$H$21),)","v":0},0,0,0,0,0,""]
[null,null,null,null,null,null,null,null,null,null,0,0,0,0,0,0,0,0,0,0,0,0,0,0,0,0,0,0,0,0,0,0,0,{"$f":"IF((OR($F$4=0,$F$4=\"none\")),IF(R96=0,,IF(OR($E$4='Customer Info'!$D$18,$E$4=0),R96,(R96/$E$4)*'Customer Info'!$D$18)),)","v":0},{"$f":"IF((OR($F$5=0,$F$5=\"none\")),IF(S96=0,,IF(OR($E$5='Customer Info'!$D$18,$E$5=0),S96,(S96/$E$5)*'Customer Info'!$D$19)),)","v":0},{"$f":"IF((OR($F$6=0,$F$6=\"none\")),IF(T96=0,,IF(OR($E$6='Customer Info'!$D$18,$E$6=0),T96,(T96/$E$6)*'Customer Info'!$D$20)),)","v":0},{"$f":"IF((OR($F$7=0,$F$7=\"none\")),IF(U96=0,,IF(OR($E$7='Customer Info'!$D$18,$E$7=0),U96,(U96/$E$7)*'Customer Info'!$D$21)),)","v":0},{"$f":"IF((OR($F$10=0,$F$10=\"none\")),IF(V96=0,,IF(OR($E$10='Customer Info'!$F$18,$E$10=0),V96,(V96/$E$10)*'Customer Info'!$F$18)),)","v":0},{"$f":"IF((OR($F$11=0,$F$11=\"none\")),IF(W96=0,,IF(OR($E$11='Customer Info'!$F$19,$E$11=0),W96,(W96/$E$11)*'Customer Info'!$F$19)),)","v":0},{"$f":"IF((OR($F$12=0,$F$12=\"none\")),IF(X96=0,,IF(OR($E$12='Customer Info'!$F$20,$E$12=0),X96,(X96/$E$12)*'Customer Info'!$F$20)),)","v":0},{"$f":"IF((OR($F$13=0,$F$13=\"none\")),IF(Y96=0,,IF(OR($E$13='Customer Info'!$F$21,$E$13=0),Y96,(Y96/$E$13)*'Customer Info'!$F$21)),)","v":0},{"$f":"IF((OR($F$16=0,$F$16=\"none\")),IF(Z96=0,,IF(OR($E$16='Customer Info'!$H$18,$E$16=0),Z96,(Z96/$E$16)*'Customer Info'!$H$18)),)","v":0},{"$f":"IF((OR($F$17=0,$F$17=\"none\")),IF(AA96=0,,IF(OR($E$17='Customer Info'!$H$19,$E$17=0),AA96,(AA96/$E$17)*'Customer Info'!$H$19)),)","v":0},{"$f":"IF((OR($F$18=0,$F$18=\"none\")),IF(AB96=0,,IF(OR($E$18='Customer Info'!$H$20,$E$18=0),AB96,(AB96/$E$18)*'Customer Info'!$H$20)),)","v":0},{"$f":"IF((OR($F$19=0,$F$19=\"none\")),IF(AC96=0,,IF(OR($E$19='Customer Info'!$H$21,$E$19=0),AC96,(AC96/$E$19)*'Customer Info'!$H$21)),)","v":0},{"$f":"IF((OR($F$4=0,$F$4=\"none\")),IF(AD96=0,,IF(OR($E$4='Customer Info'!$D$18,$E$4=0),AD96,(AD96/$E$4)*'Customer Info'!$D$18)),)","v":0},{"$f":"IF((OR($F$5=0,$F$5=\"none\")),IF(AE96=0,,IF(OR($E$5='Customer Info'!$D$19,$E$5=0),AE96,(AE96/$E$5)*'Customer Info'!$D$19)),)","v":0},{"$f":"IF((OR($F$6=0,$F$6=\"none\")),IF(AF96=0,,IF(OR($E$6='Customer Info'!$D$20,$E$6=0),AF96,(AF96/$E$6)*'Customer Info'!$D$20)),)","v":0},{"$f":"IF((OR($F$7=0,$F$7=\"none\")),IF(AG96=0,,IF(OR($E$7='Customer Info'!$D$21,$E$7=0),AG96,(AG96/$E$7)*'Customer Info'!$D$21)),)","v":0},0,0,{"$f":"IF(E96=\"plate waste\",,IF('Customer Info'!$M$18=0,'Log Sheet'!AY96,'Customer Info'!$M$18*'Log Sheet'!AY96))","v":0},{"$f":"IF(E96=\"plate waste\",IF(OR(C96=\"patient\",C96=\"patient beverages\"),IF('Customer Info'!$M$27=0,AY96*'Customer Info'!$M$18,AY96*'Customer Info'!$M$27),IF(C96=\"cafeteria\",IF('Customer Info'!$M$28=0,AY96*'Customer Info'!$M$18,AY96*'Customer Info'!$M$28),IF(C96=\"other1\",IF('Customer Info'!$M$29=0,AY96*'Customer Info'!$M$18,AY96*'Customer Info'!$M$29),))),)","v":0},0,{"$f":"IF($F$4=\"lunch\",IF(S96=0,,(S96/$E$5)*'Customer Info'!$D$18),)","v":0},{"$f":"IF($F$4=\"dinner\",IF(T96=0,,(T96/$E$6)*'Customer Info'!$D$18),)","v":0},{"$f":"IF($F$4=\"other\",IF(U96=0,,(U96/$E$7)*'Customer Info'!$D$18),)","v":0},0,{"$f":"IF($F$5=\"breakfast\",IF(R96=0,,(R96/$E$4)*'Customer Info'!$D$19),)","v":0},{"$f":"IF($F$5=\"dinner\",IF(T96=0,,(T96/$E$6)*'Customer Info'!$D$19),)","v":0},{"$f":"IF($F$5=\"other\",IF(U96=0,,(U96/$E$7)*'Customer Info'!$D$19),)","v":0},0,{"$f":"IF($F$6=\"breakfast\",IF(R96=0,,(R96/$E$4)*'Customer Info'!$D$20),)","v":0},{"$f":"IF($F$6=\"lunch\",IF(S96=0,,(S96/$E$5)*'Customer Info'!$D$20),)","v":0},{"$f":"IF($F$6=\"other\",IF(U96=0,,(U96/$E$7)*'Customer Info'!$D$20),)","v":0},0,{"$f":"IF($F$7=\"breakfast\",IF(R96=0,,(R96/$E$4)*'Customer Info'!$D$21),)","v":0},{"$f":"IF($F$7=\"lunch\",IF(S96=0,,(S96/$E$5)*'Customer Info'!$D$21),)","v":0},{"$f":"IF($F$7=\"dinner\",IF(T96=0,,(T96/$E$6)*'Customer Info'!$D$21),)","v":0},0,{"$f":"IF($F$10=\"lunch\",IF(W96=0,,(W96/$E$11)*'Customer Info'!$F$18),)","v":0},{"$f":"IF($F$10=\"dinner\",IF(X96=0,,(X96/$E$12)*'Customer Info'!$F$18),)","v":0},{"$f":"IF($F$10=\"other\",IF(Y96=0,,(Y96/$E$13)*'Customer Info'!$F$18),)","v":0},0,{"$f":"IF($F$11=\"breakfast\",IF(V96=0,,(V96/$E$10)*'Customer Info'!$F$19),)","v":0},{"$f":"IF($F$11=\"dinner\",IF(X96=0,,(X96/$E$12)*'Customer Info'!$F$19),)","v":0},{"$f":"IF($F$11=\"other\",IF(Y96=0,,(Y96/$E$13)*'Customer Info'!$F$19),)","v":0},0,{"$f":"IF($F$12=\"breakfast\",IF(V96=0,,(V96/$E$10)*'Customer Info'!$F$20),)","v":0},{"$f":"IF($F$12=\"lunch\",IF(W96=0,,(W96/$E$11)*'Customer Info'!$F$20),)","v":0},{"$f":"IF($F$12=\"other\",IF(Y96=0,,(Y96/$E$13)*'Customer Info'!$F$20),)","v":0},0,{"$f":"IF($F$13=\"breakfast\",IF(V96=0,,(V96/$E$10)*'Customer Info'!$F$21),)","v":0},{"$f":"IF($F$13=\"lunch\",IF(W96=0,,(W96/$E$11)*'Customer Info'!$F$21),)","v":0},{"$f":"IF($F$13=\"dinner\",IF(X96=0,,(X96/$E$12)*'Customer Info'!$F$21),)","v":0},0,{"$f":"IF($F$16=\"lunch\",IF(AA96=0,,(AA96/$E$17)*'Customer Info'!$H$18),)","v":0},{"$f":"IF($F$16=\"dinner\",IF(AB96=0,,(AB96/$E$18)*'Customer Info'!$H$18),)","v":0},{"$f":"IF($F$16=\"other\",IF(AC96=0,,(AC96/$E$19)*'Customer Info'!$H$18),)","v":0},0,{"$f":"IF($F$17=\"breakfast\",IF(Z96=0,,(Z96/$E$16)*'Customer Info'!$H$19),)","v":0},{"$f":"IF($F$17=\"dinner\",IF(AB96=0,,(AB96/$E$18)*'Customer Info'!$H$19),)","v":0},{"$f":"IF($F$17=\"other\",IF(AC96=0,,(AC96/$E$19)*'Customer Info'!$H$19),)","v":0},0,{"$f":"IF($F$18=\"breakfast\",IF(Z96=0,,(Z96/$E$16)*'Customer Info'!$H$20),)","v":0},{"$f":"IF($F$18=\"lunch\",IF(AA96=0,,(AA96/$E$17)*'Customer Info'!$H$20),)","v":0},{"$f":"IF($F$18=\"other\",IF(AC96=0,,(AC96/$E$19)*'Customer Info'!$H$20),)","v":0},0,{"$f":"IF($F$19=\"breakfast\",IF(Z96=0,,(Z96/$E$16)*'Customer Info'!$H$21),)","v":0},{"$f":"IF($F$19=\"lunch\",IF(AA96=0,,(AA96/$E$17)*'Customer Info'!$H$21),)","v":0},{"$f":"IF($F$19=\"dinner\",IF(AB96=0,,(AB96/$E$18)*'Customer Info'!$H$21),)","v":0},0,0,0,0,0,""]
[null,null,null,null,null,null,null,null,null,null,0,0,0,0,0,0,0,0,0,0,0,0,0,0,0,0,0,0,0,0,0,0,0,{"$f":"IF((OR($F$4=0,$F$4=\"none\")),IF(R97=0,,IF(OR($E$4='Customer Info'!$D$18,$E$4=0),R97,(R97/$E$4)*'Customer Info'!$D$18)),)","v":0},{"$f":"IF((OR($F$5=0,$F$5=\"none\")),IF(S97=0,,IF(OR($E$5='Customer Info'!$D$18,$E$5=0),S97,(S97/$E$5)*'Customer Info'!$D$19)),)","v":0},{"$f":"IF((OR($F$6=0,$F$6=\"none\")),IF(T97=0,,IF(OR($E$6='Customer Info'!$D$18,$E$6=0),T97,(T97/$E$6)*'Customer Info'!$D$20)),)","v":0},{"$f":"IF((OR($F$7=0,$F$7=\"none\")),IF(U97=0,,IF(OR($E$7='Customer Info'!$D$18,$E$7=0),U97,(U97/$E$7)*'Customer Info'!$D$21)),)","v":0},{"$f":"IF((OR($F$10=0,$F$10=\"none\")),IF(V97=0,,IF(OR($E$10='Customer Info'!$F$18,$E$10=0),V97,(V97/$E$10)*'Customer Info'!$F$18)),)","v":0},{"$f":"IF((OR($F$11=0,$F$11=\"none\")),IF(W97=0,,IF(OR($E$11='Customer Info'!$F$19,$E$11=0),W97,(W97/$E$11)*'Customer Info'!$F$19)),)","v":0},{"$f":"IF((OR($F$12=0,$F$12=\"none\")),IF(X97=0,,IF(OR($E$12='Customer Info'!$F$20,$E$12=0),X97,(X97/$E$12)*'Customer Info'!$F$20)),)","v":0},{"$f":"IF((OR($F$13=0,$F$13=\"none\")),IF(Y97=0,,IF(OR($E$13='Customer Info'!$F$21,$E$13=0),Y97,(Y97/$E$13)*'Customer Info'!$F$21)),)","v":0},{"$f":"IF((OR($F$16=0,$F$16=\"none\")),IF(Z97=0,,IF(OR($E$16='Customer Info'!$H$18,$E$16=0),Z97,(Z97/$E$16)*'Customer Info'!$H$18)),)","v":0},{"$f":"IF((OR($F$17=0,$F$17=\"none\")),IF(AA97=0,,IF(OR($E$17='Customer Info'!$H$19,$E$17=0),AA97,(AA97/$E$17)*'Customer Info'!$H$19)),)","v":0},{"$f":"IF((OR($F$18=0,$F$18=\"none\")),IF(AB97=0,,IF(OR($E$18='Customer Info'!$H$20,$E$18=0),AB97,(AB97/$E$18)*'Customer Info'!$H$20)),)","v":0},{"$f":"IF((OR($F$19=0,$F$19=\"none\")),IF(AC97=0,,IF(OR($E$19='Customer Info'!$H$21,$E$19=0),AC97,(AC97/$E$19)*'Customer Info'!$H$21)),)","v":0},{"$f":"IF((OR($F$4=0,$F$4=\"none\")),IF(AD97=0,,IF(OR($E$4='Customer Info'!$D$18,$E$4=0),AD97,(AD97/$E$4)*'Customer Info'!$D$18)),)","v":0},{"$f":"IF((OR($F$5=0,$F$5=\"none\")),IF(AE97=0,,IF(OR($E$5='Customer Info'!$D$19,$E$5=0),AE97,(AE97/$E$5)*'Customer Info'!$D$19)),)","v":0},{"$f":"IF((OR($F$6=0,$F$6=\"none\")),IF(AF97=0,,IF(OR($E$6='Customer Info'!$D$20,$E$6=0),AF97,(AF97/$E$6)*'Customer Info'!$D$20)),)","v":0},{"$f":"IF((OR($F$7=0,$F$7=\"none\")),IF(AG97=0,,IF(OR($E$7='Customer Info'!$D$21,$E$7=0),AG97,(AG97/$E$7)*'Customer Info'!$D$21)),)","v":0},0,0,{"$f":"IF(E97=\"plate waste\",,IF('Customer Info'!$M$18=0,'Log Sheet'!AY97,'Customer Info'!$M$18*'Log Sheet'!AY97))","v":0},{"$f":"IF(E97=\"plate waste\",IF(OR(C97=\"patient\",C97=\"patient beverages\"),IF('Customer Info'!$M$27=0,AY97*'Customer Info'!$M$18,AY97*'Customer Info'!$M$27),IF(C97=\"cafeteria\",IF('Customer Info'!$M$28=0,AY97*'Customer Info'!$M$18,AY97*'Customer Info'!$M$28),IF(C97=\"other1\",IF('Customer Info'!$M$29=0,AY97*'Customer Info'!$M$18,AY97*'Customer Info'!$M$29),))),)","v":0},0,{"$f":"IF($F$4=\"lunch\",IF(S97=0,,(S97/$E$5)*'Customer Info'!$D$18),)","v":0},{"$f":"IF($F$4=\"dinner\",IF(T97=0,,(T97/$E$6)*'Customer Info'!$D$18),)","v":0},{"$f":"IF($F$4=\"other\",IF(U97=0,,(U97/$E$7)*'Customer Info'!$D$18),)","v":0},0,{"$f":"IF($F$5=\"breakfast\",IF(R97=0,,(R97/$E$4)*'Customer Info'!$D$19),)","v":0},{"$f":"IF($F$5=\"dinner\",IF(T97=0,,(T97/$E$6)*'Customer Info'!$D$19),)","v":0},{"$f":"IF($F$5=\"other\",IF(U97=0,,(U97/$E$7)*'Customer Info'!$D$19),)","v":0},0,{"$f":"IF($F$6=\"breakfast\",IF(R97=0,,(R97/$E$4)*'Customer Info'!$D$20),)","v":0},{"$f":"IF($F$6=\"lunch\",IF(S97=0,,(S97/$E$5)*'Customer Info'!$D$20),)","v":0},{"$f":"IF($F$6=\"other\",IF(U97=0,,(U97/$E$7)*'Customer Info'!$D$20),)","v":0},0,{"$f":"IF($F$7=\"breakfast\",IF(R97=0,,(R97/$E$4)*'Customer Info'!$D$21),)","v":0},{"$f":"IF($F$7=\"lunch\",IF(S97=0,,(S97/$E$5)*'Customer Info'!$D$21),)","v":0},{"$f":"IF($F$7=\"dinner\",IF(T97=0,,(T97/$E$6)*'Customer Info'!$D$21),)","v":0},0,{"$f":"IF($F$10=\"lunch\",IF(W97=0,,(W97/$E$11)*'Customer Info'!$F$18),)","v":0},{"$f":"IF($F$10=\"dinner\",IF(X97=0,,(X97/$E$12)*'Customer Info'!$F$18),)","v":0},{"$f":"IF($F$10=\"other\",IF(Y97=0,,(Y97/$E$13)*'Customer Info'!$F$18),)","v":0},0,{"$f":"IF($F$11=\"breakfast\",IF(V97=0,,(V97/$E$10)*'Customer Info'!$F$19),)","v":0},{"$f":"IF($F$11=\"dinner\",IF(X97=0,,(X97/$E$12)*'Customer Info'!$F$19),)","v":0},{"$f":"IF($F$11=\"other\",IF(Y97=0,,(Y97/$E$13)*'Customer Info'!$F$19),)","v":0},0,{"$f":"IF($F$12=\"breakfast\",IF(V97=0,,(V97/$E$10)*'Customer Info'!$F$20),)","v":0},{"$f":"IF($F$12=\"lunch\",IF(W97=0,,(W97/$E$11)*'Customer Info'!$F$20),)","v":0},{"$f":"IF($F$12=\"other\",IF(Y97=0,,(Y97/$E$13)*'Customer Info'!$F$20),)","v":0},0,{"$f":"IF($F$13=\"breakfast\",IF(V97=0,,(V97/$E$10)*'Customer Info'!$F$21),)","v":0},{"$f":"IF($F$13=\"lunch\",IF(W97=0,,(W97/$E$11)*'Customer Info'!$F$21),)","v":0},{"$f":"IF($F$13=\"dinner\",IF(X97=0,,(X97/$E$12)*'Customer Info'!$F$21),)","v":0},0,{"$f":"IF($F$16=\"lunch\",IF(AA97=0,,(AA97/$E$17)*'Customer Info'!$H$18),)","v":0},{"$f":"IF($F$16=\"dinner\",IF(AB97=0,,(AB97/$E$18)*'Customer Info'!$H$18),)","v":0},{"$f":"IF($F$16=\"other\",IF(AC97=0,,(AC97/$E$19)*'Customer Info'!$H$18),)","v":0},0,{"$f":"IF($F$17=\"breakfast\",IF(Z97=0,,(Z97/$E$16)*'Customer Info'!$H$19),)","v":0},{"$f":"IF($F$17=\"dinner\",IF(AB97=0,,(AB97/$E$18)*'Customer Info'!$H$19),)","v":0},{"$f":"IF($F$17=\"other\",IF(AC97=0,,(AC97/$E$19)*'Customer Info'!$H$19),)","v":0},0,{"$f":"IF($F$18=\"breakfast\",IF(Z97=0,,(Z97/$E$16)*'Customer Info'!$H$20),)","v":0},{"$f":"IF($F$18=\"lunch\",IF(AA97=0,,(AA97/$E$17)*'Customer Info'!$H$20),)","v":0},{"$f":"IF($F$18=\"other\",IF(AC97=0,,(AC97/$E$19)*'Customer Info'!$H$20),)","v":0},0,{"$f":"IF($F$19=\"breakfast\",IF(Z97=0,,(Z97/$E$16)*'Customer Info'!$H$21),)","v":0},{"$f":"IF($F$19=\"lunch\",IF(AA97=0,,(AA97/$E$17)*'Customer Info'!$H$21),)","v":0},{"$f":"IF($F$19=\"dinner\",IF(AB97=0,,(AB97/$E$18)*'Customer Info'!$H$21),)","v":0},0,0,0,0,0,""]
[null,null,null,null,null,null,null,null,null,null,0,0,0,0,0,0,0,0,0,0,0,0,0,0,0,0,0,0,0,0,0,0,0,{"$f":"IF((OR($F$4=0,$F$4=\"none\")),IF(R98=0,,IF(OR($E$4='Customer Info'!$D$18,$E$4=0),R98,(R98/$E$4)*'Customer Info'!$D$18)),)","v":0},{"$f":"IF((OR($F$5=0,$F$5=\"none\")),IF(S98=0,,IF(OR($E$5='Customer Info'!$D$18,$E$5=0),S98,(S98/$E$5)*'Customer Info'!$D$19)),)","v":0},{"$f":"IF((OR($F$6=0,$F$6=\"none\")),IF(T98=0,,IF(OR($E$6='Customer Info'!$D$18,$E$6=0),T98,(T98/$E$6)*'Customer Info'!$D$20)),)","v":0},{"$f":"IF((OR($F$7=0,$F$7=\"none\")),IF(U98=0,,IF(OR($E$7='Customer Info'!$D$18,$E$7=0),U98,(U98/$E$7)*'Customer Info'!$D$21)),)","v":0},{"$f":"IF((OR($F$10=0,$F$10=\"none\")),IF(V98=0,,IF(OR($E$10='Customer Info'!$F$18,$E$10=0),V98,(V98/$E$10)*'Customer Info'!$F$18)),)","v":0},{"$f":"IF((OR($F$11=0,$F$11=\"none\")),IF(W98=0,,IF(OR($E$11='Customer Info'!$F$19,$E$11=0),W98,(W98/$E$11)*'Customer Info'!$F$19)),)","v":0},{"$f":"IF((OR($F$12=0,$F$12=\"none\")),IF(X98=0,,IF(OR($E$12='Customer Info'!$F$20,$E$12=0),X98,(X98/$E$12)*'Customer Info'!$F$20)),)","v":0},{"$f":"IF((OR($F$13=0,$F$13=\"none\")),IF(Y98=0,,IF(OR($E$13='Customer Info'!$F$21,$E$13=0),Y98,(Y98/$E$13)*'Customer Info'!$F$21)),)","v":0},{"$f":"IF((OR($F$16=0,$F$16=\"none\")),IF(Z98=0,,IF(OR($E$16='Customer Info'!$H$18,$E$16=0),Z98,(Z98/$E$16)*'Customer Info'!$H$18)),)","v":0},{"$f":"IF((OR($F$17=0,$F$17=\"none\")),IF(AA98=0,,IF(OR($E$17='Customer Info'!$H$19,$E$17=0),AA98,(AA98/$E$17)*'Customer Info'!$H$19)),)","v":0},{"$f":"IF((OR($F$18=0,$F$18=\"none\")),IF(AB98=0,,IF(OR($E$18='Customer Info'!$H$20,$E$18=0),AB98,(AB98/$E$18)*'Customer Info'!$H$20)),)","v":0},{"$f":"IF((OR($F$19=0,$F$19=\"none\")),IF(AC98=0,,IF(OR($E$19='Customer Info'!$H$21,$E$19=0),AC98,(AC98/$E$19)*'Customer Info'!$H$21)),)","v":0},{"$f":"IF((OR($F$4=0,$F$4=\"none\")),IF(AD98=0,,IF(OR($E$4='Customer Info'!$D$18,$E$4=0),AD98,(AD98/$E$4)*'Customer Info'!$D$18)),)","v":0},{"$f":"IF((OR($F$5=0,$F$5=\"none\")),IF(AE98=0,,IF(OR($E$5='Customer Info'!$D$19,$E$5=0),AE98,(AE98/$E$5)*'Customer Info'!$D$19)),)","v":0},{"$f":"IF((OR($F$6=0,$F$6=\"none\")),IF(AF98=0,,IF(OR($E$6='Customer Info'!$D$20,$E$6=0),AF98,(AF98/$E$6)*'Customer Info'!$D$20)),)","v":0},{"$f":"IF((OR($F$7=0,$F$7=\"none\")),IF(AG98=0,,IF(OR($E$7='Customer Info'!$D$21,$E$7=0),AG98,(AG98/$E$7)*'Customer Info'!$D$21)),)","v":0},0,0,{"$f":"IF(E98=\"plate waste\",,IF('Customer Info'!$M$18=0,'Log Sheet'!AY98,'Customer Info'!$M$18*'Log Sheet'!AY98))","v":0},{"$f":"IF(E98=\"plate waste\",IF(OR(C98=\"patient\",C98=\"patient beverages\"),IF('Customer Info'!$M$27=0,AY98*'Customer Info'!$M$18,AY98*'Customer Info'!$M$27),IF(C98=\"cafeteria\",IF('Customer Info'!$M$28=0,AY98*'Customer Info'!$M$18,AY98*'Customer Info'!$M$28),IF(C98=\"other1\",IF('Customer Info'!$M$29=0,AY98*'Customer Info'!$M$18,AY98*'Customer Info'!$M$29),))),)","v":0},0,{"$f":"IF($F$4=\"lunch\",IF(S98=0,,(S98/$E$5)*'Customer Info'!$D$18),)","v":0},{"$f":"IF($F$4=\"dinner\",IF(T98=0,,(T98/$E$6)*'Customer Info'!$D$18),)","v":0},{"$f":"IF($F$4=\"other\",IF(U98=0,,(U98/$E$7)*'Customer Info'!$D$18),)","v":0},0,{"$f":"IF($F$5=\"breakfast\",IF(R98=0,,(R98/$E$4)*'Customer Info'!$D$19),)","v":0},{"$f":"IF($F$5=\"dinner\",IF(T98=0,,(T98/$E$6)*'Customer Info'!$D$19),)","v":0},{"$f":"IF($F$5=\"other\",IF(U98=0,,(U98/$E$7)*'Customer Info'!$D$19),)","v":0},0,{"$f":"IF($F$6=\"breakfast\",IF(R98=0,,(R98/$E$4)*'Customer Info'!$D$20),)","v":0},{"$f":"IF($F$6=\"lunch\",IF(S98=0,,(S98/$E$5)*'Customer Info'!$D$20),)","v":0},{"$f":"IF($F$6=\"other\",IF(U98=0,,(U98/$E$7)*'Customer Info'!$D$20),)","v":0},0,{"$f":"IF($F$7=\"breakfast\",IF(R98=0,,(R98/$E$4)*'Customer Info'!$D$21),)","v":0},{"$f":"IF($F$7=\"lunch\",IF(S98=0,,(S98/$E$5)*'Customer Info'!$D$21),)","v":0},{"$f":"IF($F$7=\"dinner\",IF(T98=0,,(T98/$E$6)*'Customer Info'!$D$21),)","v":0},0,{"$f":"IF($F$10=\"lunch\",IF(W98=0,,(W98/$E$11)*'Customer Info'!$F$18),)","v":0},{"$f":"IF($F$10=\"dinner\",IF(X98=0,,(X98/$E$12)*'Customer Info'!$F$18),)","v":0},{"$f":"IF($F$10=\"other\",IF(Y98=0,,(Y98/$E$13)*'Customer Info'!$F$18),)","v":0},0,{"$f":"IF($F$11=\"breakfast\",IF(V98=0,,(V98/$E$10)*'Customer Info'!$F$19),)","v":0},{"$f":"IF($F$11=\"dinner\",IF(X98=0,,(X98/$E$12)*'Customer Info'!$F$19),)","v":0},{"$f":"IF($F$11=\"other\",IF(Y98=0,,(Y98/$E$13)*'Customer Info'!$F$19),)","v":0},0,{"$f":"IF($F$12=\"breakfast\",IF(V98=0,,(V98/$E$10)*'Customer Info'!$F$20),)","v":0},{"$f":"IF($F$12=\"lunch\",IF(W98=0,,(W98/$E$11)*'Customer Info'!$F$20),)","v":0},{"$f":"IF($F$12=\"other\",IF(Y98=0,,(Y98/$E$13)*'Customer Info'!$F$20),)","v":0},0,{"$f":"IF($F$13=\"breakfast\",IF(V98=0,,(V98/$E$10)*'Customer Info'!$F$21),)","v":0},{"$f":"IF($F$13=\"lunch\",IF(W98=0,,(W98/$E$11)*'Customer Info'!$F$21),)","v":0},{"$f":"IF($F$13=\"dinner\",IF(X98=0,,(X98/$E$12)*'Customer Info'!$F$21),)","v":0},0,{"$f":"IF($F$16=\"lunch\",IF(AA98=0,,(AA98/$E$17)*'Customer Info'!$H$18),)","v":0},{"$f":"IF($F$16=\"dinner\",IF(AB98=0,,(AB98/$E$18)*'Customer Info'!$H$18),)","v":0},{"$f":"IF($F$16=\"other\",IF(AC98=0,,(AC98/$E$19)*'Customer Info'!$H$18),)","v":0},0,{"$f":"IF($F$17=\"breakfast\",IF(Z98=0,,(Z98/$E$16)*'Customer Info'!$H$19),)","v":0},{"$f":"IF($F$17=\"dinner\",IF(AB98=0,,(AB98/$E$18)*'Customer Info'!$H$19),)","v":0},{"$f":"IF($F$17=\"other\",IF(AC98=0,,(AC98/$E$19)*'Customer Info'!$H$19),)","v":0},0,{"$f":"IF($F$18=\"breakfast\",IF(Z98=0,,(Z98/$E$16)*'Customer Info'!$H$20),)","v":0},{"$f":"IF($F$18=\"lunch\",IF(AA98=0,,(AA98/$E$17)*'Customer Info'!$H$20),)","v":0},{"$f":"IF($F$18=\"other\",IF(AC98=0,,(AC98/$E$19)*'Customer Info'!$H$20),)","v":0},0,{"$f":"IF($F$19=\"breakfast\",IF(Z98=0,,(Z98/$E$16)*'Customer Info'!$H$21),)","v":0},{"$f":"IF($F$19=\"lunch\",IF(AA98=0,,(AA98/$E$17)*'Customer Info'!$H$21),)","v":0},{"$f":"IF($F$19=\"dinner\",IF(AB98=0,,(AB98/$E$18)*'Customer Info'!$H$21),)","v":0},0,0,0,0,0,""]
[null,null,null,null,null,null,null,null,null,null,0,0,0,0,0,0,0,0,0,0,0,0,0,0,0,0,0,0,0,0,0,0,0,{"$f":"IF((OR($F$4=0,$F$4=\"none\")),IF(R99=0,,IF(OR($E$4='Customer Info'!$D$18,$E$4=0),R99,(R99/$E$4)*'Customer Info'!$D$18)),)","v":0},{"$f":"IF((OR($F$5=0,$F$5=\"none\")),IF(S99=0,,IF(OR($E$5='Customer Info'!$D$18,$E$5=0),S99,(S99/$E$5)*'Customer Info'!$D$19)),)","v":0},{"$f":"IF((OR($F$6=0,$F$6=\"none\")),IF(T99=0,,IF(OR($E$6='Customer Info'!$D$18,$E$6=0),T99,(T99/$E$6)*'Customer Info'!$D$20)),)","v":0},{"$f":"IF((OR($F$7=0,$F$7=\"none\")),IF(U99=0,,IF(OR($E$7='Customer Info'!$D$18,$E$7=0),U99,(U99/$E$7)*'Customer Info'!$D$21)),)","v":0},{"$f":"IF((OR($F$10=0,$F$10=\"none\")),IF(V99=0,,IF(OR($E$10='Customer Info'!$F$18,$E$10=0),V99,(V99/$E$10)*'Customer Info'!$F$18)),)","v":0},{"$f":"IF((OR($F$11=0,$F$11=\"none\")),IF(W99=0,,IF(OR($E$11='Customer Info'!$F$19,$E$11=0),W99,(W99/$E$11)*'Customer Info'!$F$19)),)","v":0},{"$f":"IF((OR($F$12=0,$F$12=\"none\")),IF(X99=0,,IF(OR($E$12='Customer Info'!$F$20,$E$12=0),X99,(X99/$E$12)*'Customer Info'!$F$20)),)","v":0},{"$f":"IF((OR($F$13=0,$F$13=\"none\")),IF(Y99=0,,IF(OR($E$13='Customer Info'!$F$21,$E$13=0),Y99,(Y99/$E$13)*'Customer Info'!$F$21)),)","v":0},{"$f":"IF((OR($F$16=0,$F$16=\"none\")),IF(Z99=0,,IF(OR($E$16='Customer Info'!$H$18,$E$16=0),Z99,(Z99/$E$16)*'Customer Info'!$H$18)),)","v":0},{"$f":"IF((OR($F$17=0,$F$17=\"none\")),IF(AA99=0,,IF(OR($E$17='Customer Info'!$H$19,$E$17=0),AA99,(AA99/$E$17)*'Customer Info'!$H$19)),)","v":0},{"$f":"IF((OR($F$18=0,$F$18=\"none\")),IF(AB99=0,,IF(OR($E$18='Customer Info'!$H$20,$E$18=0),AB99,(AB99/$E$18)*'Customer Info'!$H$20)),)","v":0},{"$f":"IF((OR($F$19=0,$F$19=\"none\")),IF(AC99=0,,IF(OR($E$19='Customer Info'!$H$21,$E$19=0),AC99,(AC99/$E$19)*'Customer Info'!$H$21)),)","v":0},{"$f":"IF((OR($F$4=0,$F$4=\"none\")),IF(AD99=0,,IF(OR($E$4='Customer Info'!$D$18,$E$4=0),AD99,(AD99/$E$4)*'Customer Info'!$D$18)),)","v":0},{"$f":"IF((OR($F$5=0,$F$5=\"none\")),IF(AE99=0,,IF(OR($E$5='Customer Info'!$D$19,$E$5=0),AE99,(AE99/$E$5)*'Customer Info'!$D$19)),)","v":0},{"$f":"IF((OR($F$6=0,$F$6=\"none\")),IF(AF99=0,,IF(OR($E$6='Customer Info'!$D$20,$E$6=0),AF99,(AF99/$E$6)*'Customer Info'!$D$20)),)","v":0},{"$f":"IF((OR($F$7=0,$F$7=\"none\")),IF(AG99=0,,IF(OR($E$7='Customer Info'!$D$21,$E$7=0),AG99,(AG99/$E$7)*'Customer Info'!$D$21)),)","v":0},0,0,{"$f":"IF(E99=\"plate waste\",,IF('Customer Info'!$M$18=0,'Log Sheet'!AY99,'Customer Info'!$M$18*'Log Sheet'!AY99))","v":0},{"$f":"IF(E99=\"plate waste\",IF(OR(C99=\"patient\",C99=\"patient beverages\"),IF('Customer Info'!$M$27=0,AY99*'Customer Info'!$M$18,AY99*'Customer Info'!$M$27),IF(C99=\"cafeteria\",IF('Customer Info'!$M$28=0,AY99*'Customer Info'!$M$18,AY99*'Customer Info'!$M$28),IF(C99=\"other1\",IF('Customer Info'!$M$29=0,AY99*'Customer Info'!$M$18,AY99*'Customer Info'!$M$29),))),)","v":0},0,{"$f":"IF($F$4=\"lunch\",IF(S99=0,,(S99/$E$5)*'Customer Info'!$D$18),)","v":0},{"$f":"IF($F$4=\"dinner\",IF(T99=0,,(T99/$E$6)*'Customer Info'!$D$18),)","v":0},{"$f":"IF($F$4=\"other\",IF(U99=0,,(U99/$E$7)*'Customer Info'!$D$18),)","v":0},0,{"$f":"IF($F$5=\"breakfast\",IF(R99=0,,(R99/$E$4)*'Customer Info'!$D$19),)","v":0},{"$f":"IF($F$5=\"dinner\",IF(T99=0,,(T99/$E$6)*'Customer Info'!$D$19),)","v":0},{"$f":"IF($F$5=\"other\",IF(U99=0,,(U99/$E$7)*'Customer Info'!$D$19),)","v":0},0,{"$f":"IF($F$6=\"breakfast\",IF(R99=0,,(R99/$E$4)*'Customer Info'!$D$20),)","v":0},{"$f":"IF($F$6=\"lunch\",IF(S99=0,,(S99/$E$5)*'Customer Info'!$D$20),)","v":0},{"$f":"IF($F$6=\"other\",IF(U99=0,,(U99/$E$7)*'Customer Info'!$D$20),)","v":0},0,{"$f":"IF($F$7=\"breakfast\",IF(R99=0,,(R99/$E$4)*'Customer Info'!$D$21),)","v":0},{"$f":"IF($F$7=\"lunch\",IF(S99=0,,(S99/$E$5)*'Customer Info'!$D$21),)","v":0},{"$f":"IF($F$7=\"dinner\",IF(T99=0,,(T99/$E$6)*'Customer Info'!$D$21),)","v":0},0,{"$f":"IF($F$10=\"lunch\",IF(W99=0,,(W99/$E$11)*'Customer Info'!$F$18),)","v":0},{"$f":"IF($F$10=\"dinner\",IF(X99=0,,(X99/$E$12)*'Customer Info'!$F$18),)","v":0},{"$f":"IF($F$10=\"other\",IF(Y99=0,,(Y99/$E$13)*'Customer Info'!$F$18),)","v":0},0,{"$f":"IF($F$11=\"breakfast\",IF(V99=0,,(V99/$E$10)*'Customer Info'!$F$19),)","v":0},{"$f":"IF($F$11=\"dinner\",IF(X99=0,,(X99/$E$12)*'Customer Info'!$F$19),)","v":0},{"$f":"IF($F$11=\"other\",IF(Y99=0,,(Y99/$E$13)*'Customer Info'!$F$19),)","v":0},0,{"$f":"IF($F$12=\"breakfast\",IF(V99=0,,(V99/$E$10)*'Customer Info'!$F$20),)","v":0},{"$f":"IF($F$12=\"lunch\",IF(W99=0,,(W99/$E$11)*'Customer Info'!$F$20),)","v":0},{"$f":"IF($F$12=\"other\",IF(Y99=0,,(Y99/$E$13)*'Customer Info'!$F$20),)","v":0},0,{"$f":"IF($F$13=\"breakfast\",IF(V99=0,,(V99/$E$10)*'Customer Info'!$F$21),)","v":0},{"$f":"IF($F$13=\"lunch\",IF(W99=0,,(W99/$E$11)*'Customer Info'!$F$21),)","v":0},{"$f":"IF($F$13=\"dinner\",IF(X99=0,,(X99/$E$12)*'Customer Info'!$F$21),)","v":0},0,{"$f":"IF($F$16=\"lunch\",IF(AA99=0,,(AA99/$E$17)*'Customer Info'!$H$18),)","v":0},{"$f":"IF($F$16=\"dinner\",IF(AB99=0,,(AB99/$E$18)*'Customer Info'!$H$18),)","v":0},{"$f":"IF($F$16=\"other\",IF(AC99=0,,(AC99/$E$19)*'Customer Info'!$H$18),)","v":0},0,{"$f":"IF($F$17=\"breakfast\",IF(Z99=0,,(Z99/$E$16)*'Customer Info'!$H$19),)","v":0},{"$f":"IF($F$17=\"dinner\",IF(AB99=0,,(AB99/$E$18)*'Customer Info'!$H$19),)","v":0},{"$f":"IF($F$17=\"other\",IF(AC99=0,,(AC99/$E$19)*'Customer Info'!$H$19),)","v":0},0,{"$f":"IF($F$18=\"breakfast\",IF(Z99=0,,(Z99/$E$16)*'Customer Info'!$H$20),)","v":0},{"$f":"IF($F$18=\"lunch\",IF(AA99=0,,(AA99/$E$17)*'Customer Info'!$H$20),)","v":0},{"$f":"IF($F$18=\"other\",IF(AC99=0,,(AC99/$E$19)*'Customer Info'!$H$20),)","v":0},0,{"$f":"IF($F$19=\"breakfast\",IF(Z99=0,,(Z99/$E$16)*'Customer Info'!$H$21),)","v":0},{"$f":"IF($F$19=\"lunch\",IF(AA99=0,,(AA99/$E$17)*'Customer Info'!$H$21),)","v":0},{"$f":"IF($F$19=\"dinner\",IF(AB99=0,,(AB99/$E$18)*'Customer Info'!$H$21),)","v":0},0,0,0,0,0,""]
[null,null,null,null,null,null,null,null,null,null,0,0,0,0,0,0,0,0,0,0,0,0,0,0,0,0,0,0,0,0,0,0,0,{"$f":"IF((OR($F$4=0,$F$4=\"none\")),IF(R100=0,,IF(OR($E$4='Customer Info'!$D$18,$E$4=0),R100,(R100/$E$4)*'Customer Info'!$D$18)),)","v":0},{"$f":"IF((OR($F$5=0,$F$5=\"none\")),IF(S100=0,,IF(OR($E$5='Customer Info'!$D$18,$E$5=0),S100,(S100/$E$5)*'Customer Info'!$D$19)),)","v":0},{"$f":"IF((OR($F$6=0,$F$6=\"none\")),IF(T100=0,,IF(OR($E$6='Customer Info'!$D$18,$E$6=0),T100,(T100/$E$6)*'Customer Info'!$D$20)),)","v":0},{"$f":"IF((OR($F$7=0,$F$7=\"none\")),IF(U100=0,,IF(OR($E$7='Customer Info'!$D$18,$E$7=0),U100,(U100/$E$7)*'Customer Info'!$D$21)),)","v":0},{"$f":"IF((OR($F$10=0,$F$10=\"none\")),IF(V100=0,,IF(OR($E$10='Customer Info'!$F$18,$E$10=0),V100,(V100/$E$10)*'Customer Info'!$F$18)),)","v":0},{"$f":"IF((OR($F$11=0,$F$11=\"none\")),IF(W100=0,,IF(OR($E$11='Customer Info'!$F$19,$E$11=0),W100,(W100/$E$11)*'Customer Info'!$F$19)),)","v":0},{"$f":"IF((OR($F$12=0,$F$12=\"none\")),IF(X100=0,,IF(OR($E$12='Customer Info'!$F$20,$E$12=0),X100,(X100/$E$12)*'Customer Info'!$F$20)),)","v":0},{"$f":"IF((OR($F$13=0,$F$13=\"none\")),IF(Y100=0,,IF(OR($E$13='Customer Info'!$F$21,$E$13=0),Y100,(Y100/$E$13)*'Customer Info'!$F$21)),)","v":0},{"$f":"IF((OR($F$16=0,$F$16=\"none\")),IF(Z100=0,,IF(OR($E$16='Customer Info'!$H$18,$E$16=0),Z100,(Z100/$E$16)*'Customer Info'!$H$18)),)","v":0},{"$f":"IF((OR($F$17=0,$F$17=\"none\")),IF(AA100=0,,IF(OR($E$17='Customer Info'!$H$19,$E$17=0),AA100,(AA100/$E$17)*'Customer Info'!$H$19)),)","v":0},{"$f":"IF((OR($F$18=0,$F$18=\"none\")),IF(AB100=0,,IF(OR($E$18='Customer Info'!$H$20,$E$18=0),AB100,(AB100/$E$18)*'Customer Info'!$H$20)),)","v":0},{"$f":"IF((OR($F$19=0,$F$19=\"none\")),IF(AC100=0,,IF(OR($E$19='Customer Info'!$H$21,$E$19=0),AC100,(AC100/$E$19)*'Customer Info'!$H$21)),)","v":0},{"$f":"IF((OR($F$4=0,$F$4=\"none\")),IF(AD100=0,,IF(OR($E$4='Customer Info'!$D$18,$E$4=0),AD100,(AD100/$E$4)*'Customer Info'!$D$18)),)","v":0},{"$f":"IF((OR($F$5=0,$F$5=\"none\")),IF(AE100=0,,IF(OR($E$5='Customer Info'!$D$19,$E$5=0),AE100,(AE100/$E$5)*'Customer Info'!$D$19)),)","v":0},{"$f":"IF((OR($F$6=0,$F$6=\"none\")),IF(AF100=0,,IF(OR($E$6='Customer Info'!$D$20,$E$6=0),AF100,(AF100/$E$6)*'Customer Info'!$D$20)),)","v":0},{"$f":"IF((OR($F$7=0,$F$7=\"none\")),IF(AG100=0,,IF(OR($E$7='Customer Info'!$D$21,$E$7=0),AG100,(AG100/$E$7)*'Customer Info'!$D$21)),)","v":0},0,0,{"$f":"IF(E100=\"plate waste\",,IF('Customer Info'!$M$18=0,'Log Sheet'!AY100,'Customer Info'!$M$18*'Log Sheet'!AY100))","v":0},{"$f":"IF(E100=\"plate waste\",IF(OR(C100=\"patient\",C100=\"patient beverages\"),IF('Customer Info'!$M$27=0,AY100*'Customer Info'!$M$18,AY100*'Customer Info'!$M$27),IF(C100=\"cafeteria\",IF('Customer Info'!$M$28=0,AY100*'Customer Info'!$M$18,AY100*'Customer Info'!$M$28),IF(C100=\"other1\",IF('Customer Info'!$M$29=0,AY100*'Customer Info'!$M$18,AY100*'Customer Info'!$M$29),))),)","v":0},0,{"$f":"IF($F$4=\"lunch\",IF(S100=0,,(S100/$E$5)*'Customer Info'!$D$18),)","v":0},{"$f":"IF($F$4=\"dinner\",IF(T100=0,,(T100/$E$6)*'Customer Info'!$D$18),)","v":0},{"$f":"IF($F$4=\"other\",IF(U100=0,,(U100/$E$7)*'Customer Info'!$D$18),)","v":0},0,{"$f":"IF($F$5=\"breakfast\",IF(R100=0,,(R100/$E$4)*'Customer Info'!$D$19),)","v":0},{"$f":"IF($F$5=\"dinner\",IF(T100=0,,(T100/$E$6)*'Customer Info'!$D$19),)","v":0},{"$f":"IF($F$5=\"other\",IF(U100=0,,(U100/$E$7)*'Customer Info'!$D$19),)","v":0},0,{"$f":"IF($F$6=\"breakfast\",IF(R100=0,,(R100/$E$4)*'Customer Info'!$D$20),)","v":0},{"$f":"IF($F$6=\"lunch\",IF(S100=0,,(S100/$E$5)*'Customer Info'!$D$20),)","v":0},{"$f":"IF($F$6=\"other\",IF(U100=0,,(U100/$E$7)*'Customer Info'!$D$20),)","v":0},0,{"$f":"IF($F$7=\"breakfast\",IF(R100=0,,(R100/$E$4)*'Customer Info'!$D$21),)","v":0},{"$f":"IF($F$7=\"lunch\",IF(S100=0,,(S100/$E$5)*'Customer Info'!$D$21),)","v":0},{"$f":"IF($F$7=\"dinner\",IF(T100=0,,(T100/$E$6)*'Customer Info'!$D$21),)","v":0},0,{"$f":"IF($F$10=\"lunch\",IF(W100=0,,(W100/$E$11)*'Customer Info'!$F$18),)","v":0},{"$f":"IF($F$10=\"dinner\",IF(X100=0,,(X100/$E$12)*'Customer Info'!$F$18),)","v":0},{"$f":"IF($F$10=\"other\",IF(Y100=0,,(Y100/$E$13)*'Customer Info'!$F$18),)","v":0},0,{"$f":"IF($F$11=\"breakfast\",IF(V100=0,,(V100/$E$10)*'Customer Info'!$F$19),)","v":0},{"$f":"IF($F$11=\"dinner\",IF(X100=0,,(X100/$E$12)*'Customer Info'!$F$19),)","v":0},{"$f":"IF($F$11=\"other\",IF(Y100=0,,(Y100/$E$13)*'Customer Info'!$F$19),)","v":0},0,{"$f":"IF($F$12=\"breakfast\",IF(V100=0,,(V100/$E$10)*'Customer Info'!$F$20),)","v":0},{"$f":"IF($F$12=\"lunch\",IF(W100=0,,(W100/$E$11)*'Customer Info'!$F$20),)","v":0},{"$f":"IF($F$12=\"other\",IF(Y100=0,,(Y100/$E$13)*'Customer Info'!$F$20),)","v":0},0,{"$f":"IF($F$13=\"breakfast\",IF(V100=0,,(V100/$E$10)*'Customer Info'!$F$21),)","v":0},{"$f":"IF($F$13=\"lunch\",IF(W100=0,,(W100/$E$11)*'Customer Info'!$F$21),)","v":0},{"$f":"IF($F$13=\"dinner\",IF(X100=0,,(X100/$E$12)*'Customer Info'!$F$21),)","v":0},0,{"$f":"IF($F$16=\"lunch\",IF(AA100=0,,(AA100/$E$17)*'Customer Info'!$H$18),)","v":0},{"$f":"IF($F$16=\"dinner\",IF(AB100=0,,(AB100/$E$18)*'Customer Info'!$H$18),)","v":0},{"$f":"IF($F$16=\"other\",IF(AC100=0,,(AC100/$E$19)*'Customer Info'!$H$18),)","v":0},0,{"$f":"IF($F$17=\"breakfast\",IF(Z100=0,,(Z100/$E$16)*'Customer Info'!$H$19),)","v":0},{"$f":"IF($F$17=\"dinner\",IF(AB100=0,,(AB100/$E$18)*'Customer Info'!$H$19),)","v":0},{"$f":"IF($F$17=\"other\",IF(AC100=0,,(AC100/$E$19)*'Customer Info'!$H$19),)","v":0},0,{"$f":"IF($F$18=\"breakfast\",IF(Z100=0,,(Z100/$E$16)*'Customer Info'!$H$20),)","v":0},{"$f":"IF($F$18=\"lunch\",IF(AA100=0,,(AA100/$E$17)*'Customer Info'!$H$20),)","v":0},{"$f":"IF($F$18=\"other\",IF(AC100=0,,(AC100/$E$19)*'Customer Info'!$H$20),)","v":0},0,{"$f":"IF($F$19=\"breakfast\",IF(Z100=0,,(Z100/$E$16)*'Customer Info'!$H$21),)","v":0},{"$f":"IF($F$19=\"lunch\",IF(AA100=0,,(AA100/$E$17)*'Customer Info'!$H$21),)","v":0},{"$f":"IF($F$19=\"dinner\",IF(AB100=0,,(AB100/$E$18)*'Customer Info'!$H$21),)","v":0},0,0,0,0,0,""]
[null,null,null,null,null,null,null,null,null,null,0,0,0,0,0,0,0,0,0,0,0,0,0,0,0,0,0,0,0,0,0,0,0,{"$f":"IF((OR($F$4=0,$F$4=\"none\")),IF(R101=0,,IF(OR($E$4='Customer Info'!$D$18,$E$4=0),R101,(R101/$E$4)*'Customer Info'!$D$18)),)","v":0},{"$f":"IF((OR($F$5=0,$F$5=\"none\")),IF(S101=0,,IF(OR($E$5='Customer Info'!$D$18,$E$5=0),S101,(S101/$E$5)*'Customer Info'!$D$19)),)","v":0},{"$f":"IF((OR($F$6=0,$F$6=\"none\")),IF(T101=0,,IF(OR($E$6='Customer Info'!$D$18,$E$6=0),T101,(T101/$E$6)*'Customer Info'!$D$20)),)","v":0},{"$f":"IF((OR($F$7=0,$F$7=\"none\")),IF(U101=0,,IF(OR($E$7='Customer Info'!$D$18,$E$7=0),U101,(U101/$E$7)*'Customer Info'!$D$21)),)","v":0},{"$f":"IF((OR($F$10=0,$F$10=\"none\")),IF(V101=0,,IF(OR($E$10='Customer Info'!$F$18,$E$10=0),V101,(V101/$E$10)*'Customer Info'!$F$18)),)","v":0},{"$f":"IF((OR($F$11=0,$F$11=\"none\")),IF(W101=0,,IF(OR($E$11='Customer Info'!$F$19,$E$11=0),W101,(W101/$E$11)*'Customer Info'!$F$19)),)","v":0},{"$f":"IF((OR($F$12=0,$F$12=\"none\")),IF(X101=0,,IF(OR($E$12='Customer Info'!$F$20,$E$12=0),X101,(X101/$E$12)*'Customer Info'!$F$20)),)","v":0},{"$f":"IF((OR($F$13=0,$F$13=\"none\")),IF(Y101=0,,IF(OR($E$13='Customer Info'!$F$21,$E$13=0),Y101,(Y101/$E$13)*'Customer Info'!$F$21)),)","v":0},{"$f":"IF((OR($F$16=0,$F$16=\"none\")),IF(Z101=0,,IF(OR($E$16='Customer Info'!$H$18,$E$16=0),Z101,(Z101/$E$16)*'Customer Info'!$H$18)),)","v":0},{"$f":"IF((OR($F$17=0,$F$17=\"none\")),IF(AA101=0,,IF(OR($E$17='Customer Info'!$H$19,$E$17=0),AA101,(AA101/$E$17)*'Customer Info'!$H$19)),)","v":0},{"$f":"IF((OR($F$18=0,$F$18=\"none\")),IF(AB101=0,,IF(OR($E$18='Customer Info'!$H$20,$E$18=0),AB101,(AB101/$E$18)*'Customer Info'!$H$20)),)","v":0},{"$f":"IF((OR($F$19=0,$F$19=\"none\")),IF(AC101=0,,IF(OR($E$19='Customer Info'!$H$21,$E$19=0),AC101,(AC101/$E$19)*'Customer Info'!$H$21)),)","v":0},{"$f":"IF((OR($F$4=0,$F$4=\"none\")),IF(AD101=0,,IF(OR($E$4='Customer Info'!$D$18,$E$4=0),AD101,(AD101/$E$4)*'Customer Info'!$D$18)),)","v":0},{"$f":"IF((OR($F$5=0,$F$5=\"none\")),IF(AE101=0,,IF(OR($E$5='Customer Info'!$D$19,$E$5=0),AE101,(AE101/$E$5)*'Customer Info'!$D$19)),)","v":0},{"$f":"IF((OR($F$6=0,$F$6=\"none\")),IF(AF101=0,,IF(OR($E$6='Customer Info'!$D$20,$E$6=0),AF101,(AF101/$E$6)*'Customer Info'!$D$20)),)","v":0},{"$f":"IF((OR($F$7=0,$F$7=\"none\")),IF(AG101=0,,IF(OR($E$7='Customer Info'!$D$21,$E$7=0),AG101,(AG101/$E$7)*'Customer Info'!$D$21)),)","v":0},0,0,{"$f":"IF(E101=\"plate waste\",,IF('Customer Info'!$M$18=0,'Log Sheet'!AY101,'Customer Info'!$M$18*'Log Sheet'!AY101))","v":0},{"$f":"IF(E101=\"plate waste\",IF(OR(C101=\"patient\",C101=\"patient beverages\"),IF('Customer Info'!$M$27=0,AY101*'Customer Info'!$M$18,AY101*'Customer Info'!$M$27),IF(C101=\"cafeteria\",IF('Customer Info'!$M$28=0,AY101*'Customer Info'!$M$18,AY101*'Customer Info'!$M$28),IF(C101=\"other1\",IF('Customer Info'!$M$29=0,AY101*'Customer Info'!$M$18,AY101*'Customer Info'!$M$29),))),)","v":0},0,{"$f":"IF($F$4=\"lunch\",IF(S101=0,,(S101/$E$5)*'Customer Info'!$D$18),)","v":0},{"$f":"IF($F$4=\"dinner\",IF(T101=0,,(T101/$E$6)*'Customer Info'!$D$18),)","v":0},{"$f":"IF($F$4=\"other\",IF(U101=0,,(U101/$E$7)*'Customer Info'!$D$18),)","v":0},0,{"$f":"IF($F$5=\"breakfast\",IF(R101=0,,(R101/$E$4)*'Customer Info'!$D$19),)","v":0},{"$f":"IF($F$5=\"dinner\",IF(T101=0,,(T101/$E$6)*'Customer Info'!$D$19),)","v":0},{"$f":"IF($F$5=\"other\",IF(U101=0,,(U101/$E$7)*'Customer Info'!$D$19),)","v":0},0,{"$f":"IF($F$6=\"breakfast\",IF(R101=0,,(R101/$E$4)*'Customer Info'!$D$20),)","v":0},{"$f":"IF($F$6=\"lunch\",IF(S101=0,,(S101/$E$5)*'Customer Info'!$D$20),)","v":0},{"$f":"IF($F$6=\"other\",IF(U101=0,,(U101/$E$7)*'Customer Info'!$D$20),)","v":0},0,{"$f":"IF($F$7=\"breakfast\",IF(R101=0,,(R101/$E$4)*'Customer Info'!$D$21),)","v":0},{"$f":"IF($F$7=\"lunch\",IF(S101=0,,(S101/$E$5)*'Customer Info'!$D$21),)","v":0},{"$f":"IF($F$7=\"dinner\",IF(T101=0,,(T101/$E$6)*'Customer Info'!$D$21),)","v":0},0,{"$f":"IF($F$10=\"lunch\",IF(W101=0,,(W101/$E$11)*'Customer Info'!$F$18),)","v":0},{"$f":"IF($F$10=\"dinner\",IF(X101=0,,(X101/$E$12)*'Customer Info'!$F$18),)","v":0},{"$f":"IF($F$10=\"other\",IF(Y101=0,,(Y101/$E$13)*'Customer Info'!$F$18),)","v":0},0,{"$f":"IF($F$11=\"breakfast\",IF(V101=0,,(V101/$E$10)*'Customer Info'!$F$19),)","v":0},{"$f":"IF($F$11=\"dinner\",IF(X101=0,,(X101/$E$12)*'Customer Info'!$F$19),)","v":0},{"$f":"IF($F$11=\"other\",IF(Y101=0,,(Y101/$E$13)*'Customer Info'!$F$19),)","v":0},0,{"$f":"IF($F$12=\"breakfast\",IF(V101=0,,(V101/$E$10)*'Customer Info'!$F$20),)","v":0},{"$f":"IF($F$12=\"lunch\",IF(W101=0,,(W101/$E$11)*'Customer Info'!$F$20),)","v":0},{"$f":"IF($F$12=\"other\",IF(Y101=0,,(Y101/$E$13)*'Customer Info'!$F$20),)","v":0},0,{"$f":"IF($F$13=\"breakfast\",IF(V101=0,,(V101/$E$10)*'Customer Info'!$F$21),)","v":0},{"$f":"IF($F$13=\"lunch\",IF(W101=0,,(W101/$E$11)*'Customer Info'!$F$21),)","v":0},{"$f":"IF($F$13=\"dinner\",IF(X101=0,,(X101/$E$12)*'Customer Info'!$F$21),)","v":0},0,{"$f":"IF($F$16=\"lunch\",IF(AA101=0,,(AA101/$E$17)*'Customer Info'!$H$18),)","v":0},{"$f":"IF($F$16=\"dinner\",IF(AB101=0,,(AB101/$E$18)*'Customer Info'!$H$18),)","v":0},{"$f":"IF($F$16=\"other\",IF(AC101=0,,(AC101/$E$19)*'Customer Info'!$H$18),)","v":0},0,{"$f":"IF($F$17=\"breakfast\",IF(Z101=0,,(Z101/$E$16)*'Customer Info'!$H$19),)","v":0},{"$f":"IF($F$17=\"dinner\",IF(AB101=0,,(AB101/$E$18)*'Customer Info'!$H$19),)","v":0},{"$f":"IF($F$17=\"other\",IF(AC101=0,,(AC101/$E$19)*'Customer Info'!$H$19),)","v":0},0,{"$f":"IF($F$18=\"breakfast\",IF(Z101=0,,(Z101/$E$16)*'Customer Info'!$H$20),)","v":0},{"$f":"IF($F$18=\"lunch\",IF(AA101=0,,(AA101/$E$17)*'Customer Info'!$H$20),)","v":0},{"$f":"IF($F$18=\"other\",IF(AC101=0,,(AC101/$E$19)*'Customer Info'!$H$20),)","v":0},0,{"$f":"IF($F$19=\"breakfast\",IF(Z101=0,,(Z101/$E$16)*'Customer Info'!$H$21),)","v":0},{"$f":"IF($F$19=\"lunch\",IF(AA101=0,,(AA101/$E$17)*'Customer Info'!$H$21),)","v":0},{"$f":"IF($F$19=\"dinner\",IF(AB101=0,,(AB101/$E$18)*'Customer Info'!$H$21),)","v":0},0,0,0,0,0,""]
[null,null,null,null,null,null,null,null,null,null,0,0,0,0,0,0,0,0,0,0,0,0,0,0,0,0,0,0,0,0,0,0,0,{"$f":"IF((OR($F$4=0,$F$4=\"none\")),IF(R102=0,,IF(OR($E$4='Customer Info'!$D$18,$E$4=0),R102,(R102/$E$4)*'Customer Info'!$D$18)),)","v":0},{"$f":"IF((OR($F$5=0,$F$5=\"none\")),IF(S102=0,,IF(OR($E$5='Customer Info'!$D$18,$E$5=0),S102,(S102/$E$5)*'Customer Info'!$D$19)),)","v":0},{"$f":"IF((OR($F$6=0,$F$6=\"none\")),IF(T102=0,,IF(OR($E$6='Customer Info'!$D$18,$E$6=0),T102,(T102/$E$6)*'Customer Info'!$D$20)),)","v":0},{"$f":"IF((OR($F$7=0,$F$7=\"none\")),IF(U102=0,,IF(OR($E$7='Customer Info'!$D$18,$E$7=0),U102,(U102/$E$7)*'Customer Info'!$D$21)),)","v":0},{"$f":"IF((OR($F$10=0,$F$10=\"none\")),IF(V102=0,,IF(OR($E$10='Customer Info'!$F$18,$E$10=0),V102,(V102/$E$10)*'Customer Info'!$F$18)),)","v":0},{"$f":"IF((OR($F$11=0,$F$11=\"none\")),IF(W102=0,,IF(OR($E$11='Customer Info'!$F$19,$E$11=0),W102,(W102/$E$11)*'Customer Info'!$F$19)),)","v":0},{"$f":"IF((OR($F$12=0,$F$12=\"none\")),IF(X102=0,,IF(OR($E$12='Customer Info'!$F$20,$E$12=0),X102,(X102/$E$12)*'Customer Info'!$F$20)),)","v":0},{"$f":"IF((OR($F$13=0,$F$13=\"none\")),IF(Y102=0,,IF(OR($E$13='Customer Info'!$F$21,$E$13=0),Y102,(Y102/$E$13)*'Customer Info'!$F$21)),)","v":0},{"$f":"IF((OR($F$16=0,$F$16=\"none\")),IF(Z102=0,,IF(OR($E$16='Customer Info'!$H$18,$E$16=0),Z102,(Z102/$E$16)*'Customer Info'!$H$18)),)","v":0},{"$f":"IF((OR($F$17=0,$F$17=\"none\")),IF(AA102=0,,IF(OR($E$17='Customer Info'!$H$19,$E$17=0),AA102,(AA102/$E$17)*'Customer Info'!$H$19)),)","v":0},{"$f":"IF((OR($F$18=0,$F$18=\"none\")),IF(AB102=0,,IF(OR($E$18='Customer Info'!$H$20,$E$18=0),AB102,(AB102/$E$18)*'Customer Info'!$H$20)),)","v":0},{"$f":"IF((OR($F$19=0,$F$19=\"none\")),IF(AC102=0,,IF(OR($E$19='Customer Info'!$H$21,$E$19=0),AC102,(AC102/$E$19)*'Customer Info'!$H$21)),)","v":0},{"$f":"IF((OR($F$4=0,$F$4=\"none\")),IF(AD102=0,,IF(OR($E$4='Customer Info'!$D$18,$E$4=0),AD102,(AD102/$E$4)*'Customer Info'!$D$18)),)","v":0},{"$f":"IF((OR($F$5=0,$F$5=\"none\")),IF(AE102=0,,IF(OR($E$5='Customer Info'!$D$19,$E$5=0),AE102,(AE102/$E$5)*'Customer Info'!$D$19)),)","v":0},{"$f":"IF((OR($F$6=0,$F$6=\"none\")),IF(AF102=0,,IF(OR($E$6='Customer Info'!$D$20,$E$6=0),AF102,(AF102/$E$6)*'Customer Info'!$D$20)),)","v":0},{"$f":"IF((OR($F$7=0,$F$7=\"none\")),IF(AG102=0,,IF(OR($E$7='Customer Info'!$D$21,$E$7=0),AG102,(AG102/$E$7)*'Customer Info'!$D$21)),)","v":0},0,0,{"$f":"IF(E102=\"plate waste\",,IF('Customer Info'!$M$18=0,'Log Sheet'!AY102,'Customer Info'!$M$18*'Log Sheet'!AY102))","v":0},{"$f":"IF(E102=\"plate waste\",IF(OR(C102=\"patient\",C102=\"patient beverages\"),IF('Customer Info'!$M$27=0,AY102*'Customer Info'!$M$18,AY102*'Customer Info'!$M$27),IF(C102=\"cafeteria\",IF('Customer Info'!$M$28=0,AY102*'Customer Info'!$M$18,AY102*'Customer Info'!$M$28),IF(C102=\"other1\",IF('Customer Info'!$M$29=0,AY102*'Customer Info'!$M$18,AY102*'Customer Info'!$M$29),))),)","v":0},0,{"$f":"IF($F$4=\"lunch\",IF(S102=0,,(S102/$E$5)*'Customer Info'!$D$18),)","v":0},{"$f":"IF($F$4=\"dinner\",IF(T102=0,,(T102/$E$6)*'Customer Info'!$D$18),)","v":0},{"$f":"IF($F$4=\"other\",IF(U102=0,,(U102/$E$7)*'Customer Info'!$D$18),)","v":0},0,{"$f":"IF($F$5=\"breakfast\",IF(R102=0,,(R102/$E$4)*'Customer Info'!$D$19),)","v":0},{"$f":"IF($F$5=\"dinner\",IF(T102=0,,(T102/$E$6)*'Customer Info'!$D$19),)","v":0},{"$f":"IF($F$5=\"other\",IF(U102=0,,(U102/$E$7)*'Customer Info'!$D$19),)","v":0},0,{"$f":"IF($F$6=\"breakfast\",IF(R102=0,,(R102/$E$4)*'Customer Info'!$D$20),)","v":0},{"$f":"IF($F$6=\"lunch\",IF(S102=0,,(S102/$E$5)*'Customer Info'!$D$20),)","v":0},{"$f":"IF($F$6=\"other\",IF(U102=0,,(U102/$E$7)*'Customer Info'!$D$20),)","v":0},0,{"$f":"IF($F$7=\"breakfast\",IF(R102=0,,(R102/$E$4)*'Customer Info'!$D$21),)","v":0},{"$f":"IF($F$7=\"lunch\",IF(S102=0,,(S102/$E$5)*'Customer Info'!$D$21),)","v":0},{"$f":"IF($F$7=\"dinner\",IF(T102=0,,(T102/$E$6)*'Customer Info'!$D$21),)","v":0},0,{"$f":"IF($F$10=\"lunch\",IF(W102=0,,(W102/$E$11)*'Customer Info'!$F$18),)","v":0},{"$f":"IF($F$10=\"dinner\",IF(X102=0,,(X102/$E$12)*'Customer Info'!$F$18),)","v":0},{"$f":"IF($F$10=\"other\",IF(Y102=0,,(Y102/$E$13)*'Customer Info'!$F$18),)","v":0},0,{"$f":"IF($F$11=\"breakfast\",IF(V102=0,,(V102/$E$10)*'Customer Info'!$F$19),)","v":0},{"$f":"IF($F$11=\"dinner\",IF(X102=0,,(X102/$E$12)*'Customer Info'!$F$19),)","v":0},{"$f":"IF($F$11=\"other\",IF(Y102=0,,(Y102/$E$13)*'Customer Info'!$F$19),)","v":0},0,{"$f":"IF($F$12=\"breakfast\",IF(V102=0,,(V102/$E$10)*'Customer Info'!$F$20),)","v":0},{"$f":"IF($F$12=\"lunch\",IF(W102=0,,(W102/$E$11)*'Customer Info'!$F$20),)","v":0},{"$f":"IF($F$12=\"other\",IF(Y102=0,,(Y102/$E$13)*'Customer Info'!$F$20),)","v":0},0,{"$f":"IF($F$13=\"breakfast\",IF(V102=0,,(V102/$E$10)*'Customer Info'!$F$21),)","v":0},{"$f":"IF($F$13=\"lunch\",IF(W102=0,,(W102/$E$11)*'Customer Info'!$F$21),)","v":0},{"$f":"IF($F$13=\"dinner\",IF(X102=0,,(X102/$E$12)*'Customer Info'!$F$21),)","v":0},0,{"$f":"IF($F$16=\"lunch\",IF(AA102=0,,(AA102/$E$17)*'Customer Info'!$H$18),)","v":0},{"$f":"IF($F$16=\"dinner\",IF(AB102=0,,(AB102/$E$18)*'Customer Info'!$H$18),)","v":0},{"$f":"IF($F$16=\"other\",IF(AC102=0,,(AC102/$E$19)*'Customer Info'!$H$18),)","v":0},0,{"$f":"IF($F$17=\"breakfast\",IF(Z102=0,,(Z102/$E$16)*'Customer Info'!$H$19),)","v":0},{"$f":"IF($F$17=\"dinner\",IF(AB102=0,,(AB102/$E$18)*'Customer Info'!$H$19),)","v":0},{"$f":"IF($F$17=\"other\",IF(AC102=0,,(AC102/$E$19)*'Customer Info'!$H$19),)","v":0},0,{"$f":"IF($F$18=\"breakfast\",IF(Z102=0,,(Z102/$E$16)*'Customer Info'!$H$20),)","v":0},{"$f":"IF($F$18=\"lunch\",IF(AA102=0,,(AA102/$E$17)*'Customer Info'!$H$20),)","v":0},{"$f":"IF($F$18=\"other\",IF(AC102=0,,(AC102/$E$19)*'Customer Info'!$H$20),)","v":0},0,{"$f":"IF($F$19=\"breakfast\",IF(Z102=0,,(Z102/$E$16)*'Customer Info'!$H$21),)","v":0},{"$f":"IF($F$19=\"lunch\",IF(AA102=0,,(AA102/$E$17)*'Customer Info'!$H$21),)","v":0},{"$f":"IF($F$19=\"dinner\",IF(AB102=0,,(AB102/$E$18)*'Customer Info'!$H$21),)","v":0},0,0,0,0,0,""]
[null,null,null,null,null,null,null,null,null,null,0,0,0,0,0,0,0,0,0,0,0,0,0,0,0,0,0,0,0,0,0,0,0,{"$f":"IF((OR($F$4=0,$F$4=\"none\")),IF(R103=0,,IF(OR($E$4='Customer Info'!$D$18,$E$4=0),R103,(R103/$E$4)*'Customer Info'!$D$18)),)","v":0},{"$f":"IF((OR($F$5=0,$F$5=\"none\")),IF(S103=0,,IF(OR($E$5='Customer Info'!$D$18,$E$5=0),S103,(S103/$E$5)*'Customer Info'!$D$19)),)","v":0},{"$f":"IF((OR($F$6=0,$F$6=\"none\")),IF(T103=0,,IF(OR($E$6='Customer Info'!$D$18,$E$6=0),T103,(T103/$E$6)*'Customer Info'!$D$20)),)","v":0},{"$f":"IF((OR($F$7=0,$F$7=\"none\")),IF(U103=0,,IF(OR($E$7='Customer Info'!$D$18,$E$7=0),U103,(U103/$E$7)*'Customer Info'!$D$21)),)","v":0},{"$f":"IF((OR($F$10=0,$F$10=\"none\")),IF(V103=0,,IF(OR($E$10='Customer Info'!$F$18,$E$10=0),V103,(V103/$E$10)*'Customer Info'!$F$18)),)","v":0},{"$f":"IF((OR($F$11=0,$F$11=\"none\")),IF(W103=0,,IF(OR($E$11='Customer Info'!$F$19,$E$11=0),W103,(W103/$E$11)*'Customer Info'!$F$19)),)","v":0},{"$f":"IF((OR($F$12=0,$F$12=\"none\")),IF(X103=0,,IF(OR($E$12='Customer Info'!$F$20,$E$12=0),X103,(X103/$E$12)*'Customer Info'!$F$20)),)","v":0},{"$f":"IF((OR($F$13=0,$F$13=\"none\")),IF(Y103=0,,IF(OR($E$13='Customer Info'!$F$21,$E$13=0),Y103,(Y103/$E$13)*'Customer Info'!$F$21)),)","v":0},{"$f":"IF((OR($F$16=0,$F$16=\"none\")),IF(Z103=0,,IF(OR($E$16='Customer Info'!$H$18,$E$16=0),Z103,(Z103/$E$16)*'Customer Info'!$H$18)),)","v":0},{"$f":"IF((OR($F$17=0,$F$17=\"none\")),IF(AA103=0,,IF(OR($E$17='Customer Info'!$H$19,$E$17=0),AA103,(AA103/$E$17)*'Customer Info'!$H$19)),)","v":0},{"$f":"IF((OR($F$18=0,$F$18=\"none\")),IF(AB103=0,,IF(OR($E$18='Customer Info'!$H$20,$E$18=0),AB103,(AB103/$E$18)*'Customer Info'!$H$20)),)","v":0},{"$f":"IF((OR($F$19=0,$F$19=\"none\")),IF(AC103=0,,IF(OR($E$19='Customer Info'!$H$21,$E$19=0),AC103,(AC103/$E$19)*'Customer Info'!$H$21)),)","v":0},{"$f":"IF((OR($F$4=0,$F$4=\"none\")),IF(AD103=0,,IF(OR($E$4='Customer Info'!$D$18,$E$4=0),AD103,(AD103/$E$4)*'Customer Info'!$D$18)),)","v":0},{"$f":"IF((OR($F$5=0,$F$5=\"none\")),IF(AE103=0,,IF(OR($E$5='Customer Info'!$D$19,$E$5=0),AE103,(AE103/$E$5)*'Customer Info'!$D$19)),)","v":0},{"$f":"IF((OR($F$6=0,$F$6=\"none\")),IF(AF103=0,,IF(OR($E$6='Customer Info'!$D$20,$E$6=0),AF103,(AF103/$E$6)*'Customer Info'!$D$20)),)","v":0},{"$f":"IF((OR($F$7=0,$F$7=\"none\")),IF(AG103=0,,IF(OR($E$7='Customer Info'!$D$21,$E$7=0),AG103,(AG103/$E$7)*'Customer Info'!$D$21)),)","v":0},0,0,{"$f":"IF(E103=\"plate waste\",,IF('Customer Info'!$M$18=0,'Log Sheet'!AY103,'Customer Info'!$M$18*'Log Sheet'!AY103))","v":0},{"$f":"IF(E103=\"plate waste\",IF(OR(C103=\"patient\",C103=\"patient beverages\"),IF('Customer Info'!$M$27=0,AY103*'Customer Info'!$M$18,AY103*'Customer Info'!$M$27),IF(C103=\"cafeteria\",IF('Customer Info'!$M$28=0,AY103*'Customer Info'!$M$18,AY103*'Customer Info'!$M$28),IF(C103=\"other1\",IF('Customer Info'!$M$29=0,AY103*'Customer Info'!$M$18,AY103*'Customer Info'!$M$29),))),)","v":0},0,{"$f":"IF($F$4=\"lunch\",IF(S103=0,,(S103/$E$5)*'Customer Info'!$D$18),)","v":0},{"$f":"IF($F$4=\"dinner\",IF(T103=0,,(T103/$E$6)*'Customer Info'!$D$18),)","v":0},{"$f":"IF($F$4=\"other\",IF(U103=0,,(U103/$E$7)*'Customer Info'!$D$18),)","v":0},0,{"$f":"IF($F$5=\"breakfast\",IF(R103=0,,(R103/$E$4)*'Customer Info'!$D$19),)","v":0},{"$f":"IF($F$5=\"dinner\",IF(T103=0,,(T103/$E$6)*'Customer Info'!$D$19),)","v":0},{"$f":"IF($F$5=\"other\",IF(U103=0,,(U103/$E$7)*'Customer Info'!$D$19),)","v":0},0,{"$f":"IF($F$6=\"breakfast\",IF(R103=0,,(R103/$E$4)*'Customer Info'!$D$20),)","v":0},{"$f":"IF($F$6=\"lunch\",IF(S103=0,,(S103/$E$5)*'Customer Info'!$D$20),)","v":0},{"$f":"IF($F$6=\"other\",IF(U103=0,,(U103/$E$7)*'Customer Info'!$D$20),)","v":0},0,{"$f":"IF($F$7=\"breakfast\",IF(R103=0,,(R103/$E$4)*'Customer Info'!$D$21),)","v":0},{"$f":"IF($F$7=\"lunch\",IF(S103=0,,(S103/$E$5)*'Customer Info'!$D$21),)","v":0},{"$f":"IF($F$7=\"dinner\",IF(T103=0,,(T103/$E$6)*'Customer Info'!$D$21),)","v":0},0,{"$f":"IF($F$10=\"lunch\",IF(W103=0,,(W103/$E$11)*'Customer Info'!$F$18),)","v":0},{"$f":"IF($F$10=\"dinner\",IF(X103=0,,(X103/$E$12)*'Customer Info'!$F$18),)","v":0},{"$f":"IF($F$10=\"other\",IF(Y103=0,,(Y103/$E$13)*'Customer Info'!$F$18),)","v":0},0,{"$f":"IF($F$11=\"breakfast\",IF(V103=0,,(V103/$E$10)*'Customer Info'!$F$19),)","v":0},{"$f":"IF($F$11=\"dinner\",IF(X103=0,,(X103/$E$12)*'Customer Info'!$F$19),)","v":0},{"$f":"IF($F$11=\"other\",IF(Y103=0,,(Y103/$E$13)*'Customer Info'!$F$19),)","v":0},0,{"$f":"IF($F$12=\"breakfast\",IF(V103=0,,(V103/$E$10)*'Customer Info'!$F$20),)","v":0},{"$f":"IF($F$12=\"lunch\",IF(W103=0,,(W103/$E$11)*'Customer Info'!$F$20),)","v":0},{"$f":"IF($F$12=\"other\",IF(Y103=0,,(Y103/$E$13)*'Customer Info'!$F$20),)","v":0},0,{"$f":"IF($F$13=\"breakfast\",IF(V103=0,,(V103/$E$10)*'Customer Info'!$F$21),)","v":0},{"$f":"IF($F$13=\"lunch\",IF(W103=0,,(W103/$E$11)*'Customer Info'!$F$21),)","v":0},{"$f":"IF($F$13=\"dinner\",IF(X103=0,,(X103/$E$12)*'Customer Info'!$F$21),)","v":0},0,{"$f":"IF($F$16=\"lunch\",IF(AA103=0,,(AA103/$E$17)*'Customer Info'!$H$18),)","v":0},{"$f":"IF($F$16=\"dinner\",IF(AB103=0,,(AB103/$E$18)*'Customer Info'!$H$18),)","v":0},{"$f":"IF($F$16=\"other\",IF(AC103=0,,(AC103/$E$19)*'Customer Info'!$H$18),)","v":0},0,{"$f":"IF($F$17=\"breakfast\",IF(Z103=0,,(Z103/$E$16)*'Customer Info'!$H$19),)","v":0},{"$f":"IF($F$17=\"dinner\",IF(AB103=0,,(AB103/$E$18)*'Customer Info'!$H$19),)","v":0},{"$f":"IF($F$17=\"other\",IF(AC103=0,,(AC103/$E$19)*'Customer Info'!$H$19),)","v":0},0,{"$f":"IF($F$18=\"breakfast\",IF(Z103=0,,(Z103/$E$16)*'Customer Info'!$H$20),)","v":0},{"$f":"IF($F$18=\"lunch\",IF(AA103=0,,(AA103/$E$17)*'Customer Info'!$H$20),)","v":0},{"$f":"IF($F$18=\"other\",IF(AC103=0,,(AC103/$E$19)*'Customer Info'!$H$20),)","v":0},0,{"$f":"IF($F$19=\"breakfast\",IF(Z103=0,,(Z103/$E$16)*'Customer Info'!$H$21),)","v":0},{"$f":"IF($F$19=\"lunch\",IF(AA103=0,,(AA103/$E$17)*'Customer Info'!$H$21),)","v":0},{"$f":"IF($F$19=\"dinner\",IF(AB103=0,,(AB103/$E$18)*'Customer Info'!$H$21),)","v":0},0,0,0,0,0,""]
[null,null,null,null,null,null,null,null,null,null,0,0,0,0,0,0,0,0,0,0,0,0,0,0,0,0,0,0,0,0,0,0,0,{"$f":"IF((OR($F$4=0,$F$4=\"none\")),IF(R104=0,,IF(OR($E$4='Customer Info'!$D$18,$E$4=0),R104,(R104/$E$4)*'Customer Info'!$D$18)),)","v":0},{"$f":"IF((OR($F$5=0,$F$5=\"none\")),IF(S104=0,,IF(OR($E$5='Customer Info'!$D$18,$E$5=0),S104,(S104/$E$5)*'Customer Info'!$D$19)),)","v":0},{"$f":"IF((OR($F$6=0,$F$6=\"none\")),IF(T104=0,,IF(OR($E$6='Customer Info'!$D$18,$E$6=0),T104,(T104/$E$6)*'Customer Info'!$D$20)),)","v":0},{"$f":"IF((OR($F$7=0,$F$7=\"none\")),IF(U104=0,,IF(OR($E$7='Customer Info'!$D$18,$E$7=0),U104,(U104/$E$7)*'Customer Info'!$D$21)),)","v":0},{"$f":"IF((OR($F$10=0,$F$10=\"none\")),IF(V104=0,,IF(OR($E$10='Customer Info'!$F$18,$E$10=0),V104,(V104/$E$10)*'Customer Info'!$F$18)),)","v":0},{"$f":"IF((OR($F$11=0,$F$11=\"none\")),IF(W104=0,,IF(OR($E$11='Customer Info'!$F$19,$E$11=0),W104,(W104/$E$11)*'Customer Info'!$F$19)),)","v":0},{"$f":"IF((OR($F$12=0,$F$12=\"none\")),IF(X104=0,,IF(OR($E$12='Customer Info'!$F$20,$E$12=0),X104,(X104/$E$12)*'Customer Info'!$F$20)),)","v":0},{"$f":"IF((OR($F$13=0,$F$13=\"none\")),IF(Y104=0,,IF(OR($E$13='Customer Info'!$F$21,$E$13=0),Y104,(Y104/$E$13)*'Customer Info'!$F$21)),)","v":0},{"$f":"IF((OR($F$16=0,$F$16=\"none\")),IF(Z104=0,,IF(OR($E$16='Customer Info'!$H$18,$E$16=0),Z104,(Z104/$E$16)*'Customer Info'!$H$18)),)","v":0},{"$f":"IF((OR($F$17=0,$F$17=\"none\")),IF(AA104=0,,IF(OR($E$17='Customer Info'!$H$19,$E$17=0),AA104,(AA104/$E$17)*'Customer Info'!$H$19)),)","v":0},{"$f":"IF((OR($F$18=0,$F$18=\"none\")),IF(AB104=0,,IF(OR($E$18='Customer Info'!$H$20,$E$18=0),AB104,(AB104/$E$18)*'Customer Info'!$H$20)),)","v":0},{"$f":"IF((OR($F$19=0,$F$19=\"none\")),IF(AC104=0,,IF(OR($E$19='Customer Info'!$H$21,$E$19=0),AC104,(AC104/$E$19)*'Customer Info'!$H$21)),)","v":0},{"$f":"IF((OR($F$4=0,$F$4=\"none\")),IF(AD104=0,,IF(OR($E$4='Customer Info'!$D$18,$E$4=0),AD104,(AD104/$E$4)*'Customer Info'!$D$18)),)","v":0},{"$f":"IF((OR($F$5=0,$F$5=\"none\")),IF(AE104=0,,IF(OR($E$5='Customer Info'!$D$19,$E$5=0),AE104,(AE104/$E$5)*'Customer Info'!$D$19)),)","v":0},{"$f":"IF((OR($F$6=0,$F$6=\"none\")),IF(AF104=0,,IF(OR($E$6='Customer Info'!$D$20,$E$6=0),AF104,(AF104/$E$6)*'Customer Info'!$D$20)),)","v":0},{"$f":"IF((OR($F$7=0,$F$7=\"none\")),IF(AG104=0,,IF(OR($E$7='Customer Info'!$D$21,$E$7=0),AG104,(AG104/$E$7)*'Customer Info'!$D$21)),)","v":0},0,0,{"$f":"IF(E104=\"plate waste\",,IF('Customer Info'!$M$18=0,'Log Sheet'!AY104,'Customer Info'!$M$18*'Log Sheet'!AY104))","v":0},{"$f":"IF(E104=\"plate waste\",IF(OR(C104=\"patient\",C104=\"patient beverages\"),IF('Customer Info'!$M$27=0,AY104*'Customer Info'!$M$18,AY104*'Customer Info'!$M$27),IF(C104=\"cafeteria\",IF('Customer Info'!$M$28=0,AY104*'Customer Info'!$M$18,AY104*'Customer Info'!$M$28),IF(C104=\"other1\",IF('Customer Info'!$M$29=0,AY104*'Customer Info'!$M$18,AY104*'Customer Info'!$M$29),))),)","v":0},0,{"$f":"IF($F$4=\"lunch\",IF(S104=0,,(S104/$E$5)*'Customer Info'!$D$18),)","v":0},{"$f":"IF($F$4=\"dinner\",IF(T104=0,,(T104/$E$6)*'Customer Info'!$D$18),)","v":0},{"$f":"IF($F$4=\"other\",IF(U104=0,,(U104/$E$7)*'Customer Info'!$D$18),)","v":0},0,{"$f":"IF($F$5=\"breakfast\",IF(R104=0,,(R104/$E$4)*'Customer Info'!$D$19),)","v":0},{"$f":"IF($F$5=\"dinner\",IF(T104=0,,(T104/$E$6)*'Customer Info'!$D$19),)","v":0},{"$f":"IF($F$5=\"other\",IF(U104=0,,(U104/$E$7)*'Customer Info'!$D$19),)","v":0},0,{"$f":"IF($F$6=\"breakfast\",IF(R104=0,,(R104/$E$4)*'Customer Info'!$D$20),)","v":0},{"$f":"IF($F$6=\"lunch\",IF(S104=0,,(S104/$E$5)*'Customer Info'!$D$20),)","v":0},{"$f":"IF($F$6=\"other\",IF(U104=0,,(U104/$E$7)*'Customer Info'!$D$20),)","v":0},0,{"$f":"IF($F$7=\"breakfast\",IF(R104=0,,(R104/$E$4)*'Customer Info'!$D$21),)","v":0},{"$f":"IF($F$7=\"lunch\",IF(S104=0,,(S104/$E$5)*'Customer Info'!$D$21),)","v":0},{"$f":"IF($F$7=\"dinner\",IF(T104=0,,(T104/$E$6)*'Customer Info'!$D$21),)","v":0},0,{"$f":"IF($F$10=\"lunch\",IF(W104=0,,(W104/$E$11)*'Customer Info'!$F$18),)","v":0},{"$f":"IF($F$10=\"dinner\",IF(X104=0,,(X104/$E$12)*'Customer Info'!$F$18),)","v":0},{"$f":"IF($F$10=\"other\",IF(Y104=0,,(Y104/$E$13)*'Customer Info'!$F$18),)","v":0},0,{"$f":"IF($F$11=\"breakfast\",IF(V104=0,,(V104/$E$10)*'Customer Info'!$F$19),)","v":0},{"$f":"IF($F$11=\"dinner\",IF(X104=0,,(X104/$E$12)*'Customer Info'!$F$19),)","v":0},{"$f":"IF($F$11=\"other\",IF(Y104=0,,(Y104/$E$13)*'Customer Info'!$F$19),)","v":0},0,{"$f":"IF($F$12=\"breakfast\",IF(V104=0,,(V104/$E$10)*'Customer Info'!$F$20),)","v":0},{"$f":"IF($F$12=\"lunch\",IF(W104=0,,(W104/$E$11)*'Customer Info'!$F$20),)","v":0},{"$f":"IF($F$12=\"other\",IF(Y104=0,,(Y104/$E$13)*'Customer Info'!$F$20),)","v":0},0,{"$f":"IF($F$13=\"breakfast\",IF(V104=0,,(V104/$E$10)*'Customer Info'!$F$21),)","v":0},{"$f":"IF($F$13=\"lunch\",IF(W104=0,,(W104/$E$11)*'Customer Info'!$F$21),)","v":0},{"$f":"IF($F$13=\"dinner\",IF(X104=0,,(X104/$E$12)*'Customer Info'!$F$21),)","v":0},0,{"$f":"IF($F$16=\"lunch\",IF(AA104=0,,(AA104/$E$17)*'Customer Info'!$H$18),)","v":0},{"$f":"IF($F$16=\"dinner\",IF(AB104=0,,(AB104/$E$18)*'Customer Info'!$H$18),)","v":0},{"$f":"IF($F$16=\"other\",IF(AC104=0,,(AC104/$E$19)*'Customer Info'!$H$18),)","v":0},0,{"$f":"IF($F$17=\"breakfast\",IF(Z104=0,,(Z104/$E$16)*'Customer Info'!$H$19),)","v":0},{"$f":"IF($F$17=\"dinner\",IF(AB104=0,,(AB104/$E$18)*'Customer Info'!$H$19),)","v":0},{"$f":"IF($F$17=\"other\",IF(AC104=0,,(AC104/$E$19)*'Customer Info'!$H$19),)","v":0},0,{"$f":"IF($F$18=\"breakfast\",IF(Z104=0,,(Z104/$E$16)*'Customer Info'!$H$20),)","v":0},{"$f":"IF($F$18=\"lunch\",IF(AA104=0,,(AA104/$E$17)*'Customer Info'!$H$20),)","v":0},{"$f":"IF($F$18=\"other\",IF(AC104=0,,(AC104/$E$19)*'Customer Info'!$H$20),)","v":0},0,{"$f":"IF($F$19=\"breakfast\",IF(Z104=0,,(Z104/$E$16)*'Customer Info'!$H$21),)","v":0},{"$f":"IF($F$19=\"lunch\",IF(AA104=0,,(AA104/$E$17)*'Customer Info'!$H$21),)","v":0},{"$f":"IF($F$19=\"dinner\",IF(AB104=0,,(AB104/$E$18)*'Customer Info'!$H$21),)","v":0},0,0,0,0,0,""]
[null,null,null,null,null,null,null,null,null,null,0,0,0,0,0,0,0,0,0,0,0,0,0,0,0,0,0,0,0,0,0,0,0,{"$f":"IF((OR($F$4=0,$F$4=\"none\")),IF(R105=0,,IF(OR($E$4='Customer Info'!$D$18,$E$4=0),R105,(R105/$E$4)*'Customer Info'!$D$18)),)","v":0},{"$f":"IF((OR($F$5=0,$F$5=\"none\")),IF(S105=0,,IF(OR($E$5='Customer Info'!$D$18,$E$5=0),S105,(S105/$E$5)*'Customer Info'!$D$19)),)","v":0},{"$f":"IF((OR($F$6=0,$F$6=\"none\")),IF(T105=0,,IF(OR($E$6='Customer Info'!$D$18,$E$6=0),T105,(T105/$E$6)*'Customer Info'!$D$20)),)","v":0},{"$f":"IF((OR($F$7=0,$F$7=\"none\")),IF(U105=0,,IF(OR($E$7='Customer Info'!$D$18,$E$7=0),U105,(U105/$E$7)*'Customer Info'!$D$21)),)","v":0},{"$f":"IF((OR($F$10=0,$F$10=\"none\")),IF(V105=0,,IF(OR($E$10='Customer Info'!$F$18,$E$10=0),V105,(V105/$E$10)*'Customer Info'!$F$18)),)","v":0},{"$f":"IF((OR($F$11=0,$F$11=\"none\")),IF(W105=0,,IF(OR($E$11='Customer Info'!$F$19,$E$11=0),W105,(W105/$E$11)*'Customer Info'!$F$19)),)","v":0},{"$f":"IF((OR($F$12=0,$F$12=\"none\")),IF(X105=0,,IF(OR($E$12='Customer Info'!$F$20,$E$12=0),X105,(X105/$E$12)*'Customer Info'!$F$20)),)","v":0},{"$f":"IF((OR($F$13=0,$F$13=\"none\")),IF(Y105=0,,IF(OR($E$13='Customer Info'!$F$21,$E$13=0),Y105,(Y105/$E$13)*'Customer Info'!$F$21)),)","v":0},{"$f":"IF((OR($F$16=0,$F$16=\"none\")),IF(Z105=0,,IF(OR($E$16='Customer Info'!$H$18,$E$16=0),Z105,(Z105/$E$16)*'Customer Info'!$H$18)),)","v":0},{"$f":"IF((OR($F$17=0,$F$17=\"none\")),IF(AA105=0,,IF(OR($E$17='Customer Info'!$H$19,$E$17=0),AA105,(AA105/$E$17)*'Customer Info'!$H$19)),)","v":0},{"$f":"IF((OR($F$18=0,$F$18=\"none\")),IF(AB105=0,,IF(OR($E$18='Customer Info'!$H$20,$E$18=0),AB105,(AB105/$E$18)*'Customer Info'!$H$20)),)","v":0},{"$f":"IF((OR($F$19=0,$F$19=\"none\")),IF(AC105=0,,IF(OR($E$19='Customer Info'!$H$21,$E$19=0),AC105,(AC105/$E$19)*'Customer Info'!$H$21)),)","v":0},{"$f":"IF((OR($F$4=0,$F$4=\"none\")),IF(AD105=0,,IF(OR($E$4='Customer Info'!$D$18,$E$4=0),AD105,(AD105/$E$4)*'Customer Info'!$D$18)),)","v":0},{"$f":"IF((OR($F$5=0,$F$5=\"none\")),IF(AE105=0,,IF(OR($E$5='Customer Info'!$D$19,$E$5=0),AE105,(AE105/$E$5)*'Customer Info'!$D$19)),)","v":0},{"$f":"IF((OR($F$6=0,$F$6=\"none\")),IF(AF105=0,,IF(OR($E$6='Customer Info'!$D$20,$E$6=0),AF105,(AF105/$E$6)*'Customer Info'!$D$20)),)","v":0},{"$f":"IF((OR($F$7=0,$F$7=\"none\")),IF(AG105=0,,IF(OR($E$7='Customer Info'!$D$21,$E$7=0),AG105,(AG105/$E$7)*'Customer Info'!$D$21)),)","v":0},0,0,{"$f":"IF(E105=\"plate waste\",,IF('Customer Info'!$M$18=0,'Log Sheet'!AY105,'Customer Info'!$M$18*'Log Sheet'!AY105))","v":0},{"$f":"IF(E105=\"plate waste\",IF(OR(C105=\"patient\",C105=\"patient beverages\"),IF('Customer Info'!$M$27=0,AY105*'Customer Info'!$M$18,AY105*'Customer Info'!$M$27),IF(C105=\"cafeteria\",IF('Customer Info'!$M$28=0,AY105*'Customer Info'!$M$18,AY105*'Customer Info'!$M$28),IF(C105=\"other1\",IF('Customer Info'!$M$29=0,AY105*'Customer Info'!$M$18,AY105*'Customer Info'!$M$29),))),)","v":0},0,{"$f":"IF($F$4=\"lunch\",IF(S105=0,,(S105/$E$5)*'Customer Info'!$D$18),)","v":0},{"$f":"IF($F$4=\"dinner\",IF(T105=0,,(T105/$E$6)*'Customer Info'!$D$18),)","v":0},{"$f":"IF($F$4=\"other\",IF(U105=0,,(U105/$E$7)*'Customer Info'!$D$18),)","v":0},0,{"$f":"IF($F$5=\"breakfast\",IF(R105=0,,(R105/$E$4)*'Customer Info'!$D$19),)","v":0},{"$f":"IF($F$5=\"dinner\",IF(T105=0,,(T105/$E$6)*'Customer Info'!$D$19),)","v":0},{"$f":"IF($F$5=\"other\",IF(U105=0,,(U105/$E$7)*'Customer Info'!$D$19),)","v":0},0,{"$f":"IF($F$6=\"breakfast\",IF(R105=0,,(R105/$E$4)*'Customer Info'!$D$20),)","v":0},{"$f":"IF($F$6=\"lunch\",IF(S105=0,,(S105/$E$5)*'Customer Info'!$D$20),)","v":0},{"$f":"IF($F$6=\"other\",IF(U105=0,,(U105/$E$7)*'Customer Info'!$D$20),)","v":0},0,{"$f":"IF($F$7=\"breakfast\",IF(R105=0,,(R105/$E$4)*'Customer Info'!$D$21),)","v":0},{"$f":"IF($F$7=\"lunch\",IF(S105=0,,(S105/$E$5)*'Customer Info'!$D$21),)","v":0},{"$f":"IF($F$7=\"dinner\",IF(T105=0,,(T105/$E$6)*'Customer Info'!$D$21),)","v":0},0,{"$f":"IF($F$10=\"lunch\",IF(W105=0,,(W105/$E$11)*'Customer Info'!$F$18),)","v":0},{"$f":"IF($F$10=\"dinner\",IF(X105=0,,(X105/$E$12)*'Customer Info'!$F$18),)","v":0},{"$f":"IF($F$10=\"other\",IF(Y105=0,,(Y105/$E$13)*'Customer Info'!$F$18),)","v":0},0,{"$f":"IF($F$11=\"breakfast\",IF(V105=0,,(V105/$E$10)*'Customer Info'!$F$19),)","v":0},{"$f":"IF($F$11=\"dinner\",IF(X105=0,,(X105/$E$12)*'Customer Info'!$F$19),)","v":0},{"$f":"IF($F$11=\"other\",IF(Y105=0,,(Y105/$E$13)*'Customer Info'!$F$19),)","v":0},0,{"$f":"IF($F$12=\"breakfast\",IF(V105=0,,(V105/$E$10)*'Customer Info'!$F$20),)","v":0},{"$f":"IF($F$12=\"lunch\",IF(W105=0,,(W105/$E$11)*'Customer Info'!$F$20),)","v":0},{"$f":"IF($F$12=\"other\",IF(Y105=0,,(Y105/$E$13)*'Customer Info'!$F$20),)","v":0},0,{"$f":"IF($F$13=\"breakfast\",IF(V105=0,,(V105/$E$10)*'Customer Info'!$F$21),)","v":0},{"$f":"IF($F$13=\"lunch\",IF(W105=0,,(W105/$E$11)*'Customer Info'!$F$21),)","v":0},{"$f":"IF($F$13=\"dinner\",IF(X105=0,,(X105/$E$12)*'Customer Info'!$F$21),)","v":0},0,{"$f":"IF($F$16=\"lunch\",IF(AA105=0,,(AA105/$E$17)*'Customer Info'!$H$18),)","v":0},{"$f":"IF($F$16=\"dinner\",IF(AB105=0,,(AB105/$E$18)*'Customer Info'!$H$18),)","v":0},{"$f":"IF($F$16=\"other\",IF(AC105=0,,(AC105/$E$19)*'Customer Info'!$H$18),)","v":0},0,{"$f":"IF($F$17=\"breakfast\",IF(Z105=0,,(Z105/$E$16)*'Customer Info'!$H$19),)","v":0},{"$f":"IF($F$17=\"dinner\",IF(AB105=0,,(AB105/$E$18)*'Customer Info'!$H$19),)","v":0},{"$f":"IF($F$17=\"other\",IF(AC105=0,,(AC105/$E$19)*'Customer Info'!$H$19),)","v":0},0,{"$f":"IF($F$18=\"breakfast\",IF(Z105=0,,(Z105/$E$16)*'Customer Info'!$H$20),)","v":0},{"$f":"IF($F$18=\"lunch\",IF(AA105=0,,(AA105/$E$17)*'Customer Info'!$H$20),)","v":0},{"$f":"IF($F$18=\"other\",IF(AC105=0,,(AC105/$E$19)*'Customer Info'!$H$20),)","v":0},0,{"$f":"IF($F$19=\"breakfast\",IF(Z105=0,,(Z105/$E$16)*'Customer Info'!$H$21),)","v":0},{"$f":"IF($F$19=\"lunch\",IF(AA105=0,,(AA105/$E$17)*'Customer Info'!$H$21),)","v":0},{"$f":"IF($F$19=\"dinner\",IF(AB105=0,,(AB105/$E$18)*'Customer Info'!$H$21),)","v":0},0,0,0,0,0,""]
[null,null,null,null,null,null,null,null,null,null,0,0,0,0,0,0,0,0,0,0,0,0,0,0,0,0,0,0,0,0,0,0,0,{"$f":"IF((OR($F$4=0,$F$4=\"none\")),IF(R106=0,,IF(OR($E$4='Customer Info'!$D$18,$E$4=0),R106,(R106/$E$4)*'Customer Info'!$D$18)),)","v":0},{"$f":"IF((OR($F$5=0,$F$5=\"none\")),IF(S106=0,,IF(OR($E$5='Customer Info'!$D$18,$E$5=0),S106,(S106/$E$5)*'Customer Info'!$D$19)),)","v":0},{"$f":"IF((OR($F$6=0,$F$6=\"none\")),IF(T106=0,,IF(OR($E$6='Customer Info'!$D$18,$E$6=0),T106,(T106/$E$6)*'Customer Info'!$D$20)),)","v":0},{"$f":"IF((OR($F$7=0,$F$7=\"none\")),IF(U106=0,,IF(OR($E$7='Customer Info'!$D$18,$E$7=0),U106,(U106/$E$7)*'Customer Info'!$D$21)),)","v":0},{"$f":"IF((OR($F$10=0,$F$10=\"none\")),IF(V106=0,,IF(OR($E$10='Customer Info'!$F$18,$E$10=0),V106,(V106/$E$10)*'Customer Info'!$F$18)),)","v":0},{"$f":"IF((OR($F$11=0,$F$11=\"none\")),IF(W106=0,,IF(OR($E$11='Customer Info'!$F$19,$E$11=0),W106,(W106/$E$11)*'Customer Info'!$F$19)),)","v":0},{"$f":"IF((OR($F$12=0,$F$12=\"none\")),IF(X106=0,,IF(OR($E$12='Customer Info'!$F$20,$E$12=0),X106,(X106/$E$12)*'Customer Info'!$F$20)),)","v":0},{"$f":"IF((OR($F$13=0,$F$13=\"none\")),IF(Y106=0,,IF(OR($E$13='Customer Info'!$F$21,$E$13=0),Y106,(Y106/$E$13)*'Customer Info'!$F$21)),)","v":0},{"$f":"IF((OR($F$16=0,$F$16=\"none\")),IF(Z106=0,,IF(OR($E$16='Customer Info'!$H$18,$E$16=0),Z106,(Z106/$E$16)*'Customer Info'!$H$18)),)","v":0},{"$f":"IF((OR($F$17=0,$F$17=\"none\")),IF(AA106=0,,IF(OR($E$17='Customer Info'!$H$19,$E$17=0),AA106,(AA106/$E$17)*'Customer Info'!$H$19)),)","v":0},{"$f":"IF((OR($F$18=0,$F$18=\"none\")),IF(AB106=0,,IF(OR($E$18='Customer Info'!$H$20,$E$18=0),AB106,(AB106/$E$18)*'Customer Info'!$H$20)),)","v":0},{"$f":"IF((OR($F$19=0,$F$19=\"none\")),IF(AC106=0,,IF(OR($E$19='Customer Info'!$H$21,$E$19=0),AC106,(AC106/$E$19)*'Customer Info'!$H$21)),)","v":0},{"$f":"IF((OR($F$4=0,$F$4=\"none\")),IF(AD106=0,,IF(OR($E$4='Customer Info'!$D$18,$E$4=0),AD106,(AD106/$E$4)*'Customer Info'!$D$18)),)","v":0},{"$f":"IF((OR($F$5=0,$F$5=\"none\")),IF(AE106=0,,IF(OR($E$5='Customer Info'!$D$19,$E$5=0),AE106,(AE106/$E$5)*'Customer Info'!$D$19)),)","v":0},{"$f":"IF((OR($F$6=0,$F$6=\"none\")),IF(AF106=0,,IF(OR($E$6='Customer Info'!$D$20,$E$6=0),AF106,(AF106/$E$6)*'Customer Info'!$D$20)),)","v":0},{"$f":"IF((OR($F$7=0,$F$7=\"none\")),IF(AG106=0,,IF(OR($E$7='Customer Info'!$D$21,$E$7=0),AG106,(AG106/$E$7)*'Customer Info'!$D$21)),)","v":0},0,0,{"$f":"IF(E106=\"plate waste\",,IF('Customer Info'!$M$18=0,'Log Sheet'!AY106,'Customer Info'!$M$18*'Log Sheet'!AY106))","v":0},{"$f":"IF(E106=\"plate waste\",IF(OR(C106=\"patient\",C106=\"patient beverages\"),IF('Customer Info'!$M$27=0,AY106*'Customer Info'!$M$18,AY106*'Customer Info'!$M$27),IF(C106=\"cafeteria\",IF('Customer Info'!$M$28=0,AY106*'Customer Info'!$M$18,AY106*'Customer Info'!$M$28),IF(C106=\"other1\",IF('Customer Info'!$M$29=0,AY106*'Customer Info'!$M$18,AY106*'Customer Info'!$M$29),))),)","v":0},0,{"$f":"IF($F$4=\"lunch\",IF(S106=0,,(S106/$E$5)*'Customer Info'!$D$18),)","v":0},{"$f":"IF($F$4=\"dinner\",IF(T106=0,,(T106/$E$6)*'Customer Info'!$D$18),)","v":0},{"$f":"IF($F$4=\"other\",IF(U106=0,,(U106/$E$7)*'Customer Info'!$D$18),)","v":0},0,{"$f":"IF($F$5=\"breakfast\",IF(R106=0,,(R106/$E$4)*'Customer Info'!$D$19),)","v":0},{"$f":"IF($F$5=\"dinner\",IF(T106=0,,(T106/$E$6)*'Customer Info'!$D$19),)","v":0},{"$f":"IF($F$5=\"other\",IF(U106=0,,(U106/$E$7)*'Customer Info'!$D$19),)","v":0},0,{"$f":"IF($F$6=\"breakfast\",IF(R106=0,,(R106/$E$4)*'Customer Info'!$D$20),)","v":0},{"$f":"IF($F$6=\"lunch\",IF(S106=0,,(S106/$E$5)*'Customer Info'!$D$20),)","v":0},{"$f":"IF($F$6=\"other\",IF(U106=0,,(U106/$E$7)*'Customer Info'!$D$20),)","v":0},0,{"$f":"IF($F$7=\"breakfast\",IF(R106=0,,(R106/$E$4)*'Customer Info'!$D$21),)","v":0},{"$f":"IF($F$7=\"lunch\",IF(S106=0,,(S106/$E$5)*'Customer Info'!$D$21),)","v":0},{"$f":"IF($F$7=\"dinner\",IF(T106=0,,(T106/$E$6)*'Customer Info'!$D$21),)","v":0},0,{"$f":"IF($F$10=\"lunch\",IF(W106=0,,(W106/$E$11)*'Customer Info'!$F$18),)","v":0},{"$f":"IF($F$10=\"dinner\",IF(X106=0,,(X106/$E$12)*'Customer Info'!$F$18),)","v":0},{"$f":"IF($F$10=\"other\",IF(Y106=0,,(Y106/$E$13)*'Customer Info'!$F$18),)","v":0},0,{"$f":"IF($F$11=\"breakfast\",IF(V106=0,,(V106/$E$10)*'Customer Info'!$F$19),)","v":0},{"$f":"IF($F$11=\"dinner\",IF(X106=0,,(X106/$E$12)*'Customer Info'!$F$19),)","v":0},{"$f":"IF($F$11=\"other\",IF(Y106=0,,(Y106/$E$13)*'Customer Info'!$F$19),)","v":0},0,{"$f":"IF($F$12=\"breakfast\",IF(V106=0,,(V106/$E$10)*'Customer Info'!$F$20),)","v":0},{"$f":"IF($F$12=\"lunch\",IF(W106=0,,(W106/$E$11)*'Customer Info'!$F$20),)","v":0},{"$f":"IF($F$12=\"other\",IF(Y106=0,,(Y106/$E$13)*'Customer Info'!$F$20),)","v":0},0,{"$f":"IF($F$13=\"breakfast\",IF(V106=0,,(V106/$E$10)*'Customer Info'!$F$21),)","v":0},{"$f":"IF($F$13=\"lunch\",IF(W106=0,,(W106/$E$11)*'Customer Info'!$F$21),)","v":0},{"$f":"IF($F$13=\"dinner\",IF(X106=0,,(X106/$E$12)*'Customer Info'!$F$21),)","v":0},0,{"$f":"IF($F$16=\"lunch\",IF(AA106=0,,(AA106/$E$17)*'Customer Info'!$H$18),)","v":0},{"$f":"IF($F$16=\"dinner\",IF(AB106=0,,(AB106/$E$18)*'Customer Info'!$H$18),)","v":0},{"$f":"IF($F$16=\"other\",IF(AC106=0,,(AC106/$E$19)*'Customer Info'!$H$18),)","v":0},0,{"$f":"IF($F$17=\"breakfast\",IF(Z106=0,,(Z106/$E$16)*'Customer Info'!$H$19),)","v":0},{"$f":"IF($F$17=\"dinner\",IF(AB106=0,,(AB106/$E$18)*'Customer Info'!$H$19),)","v":0},{"$f":"IF($F$17=\"other\",IF(AC106=0,,(AC106/$E$19)*'Customer Info'!$H$19),)","v":0},0,{"$f":"IF($F$18=\"breakfast\",IF(Z106=0,,(Z106/$E$16)*'Customer Info'!$H$20),)","v":0},{"$f":"IF($F$18=\"lunch\",IF(AA106=0,,(AA106/$E$17)*'Customer Info'!$H$20),)","v":0},{"$f":"IF($F$18=\"other\",IF(AC106=0,,(AC106/$E$19)*'Customer Info'!$H$20),)","v":0},0,{"$f":"IF($F$19=\"breakfast\",IF(Z106=0,,(Z106/$E$16)*'Customer Info'!$H$21),)","v":0},{"$f":"IF($F$19=\"lunch\",IF(AA106=0,,(AA106/$E$17)*'Customer Info'!$H$21),)","v":0},{"$f":"IF($F$19=\"dinner\",IF(AB106=0,,(AB106/$E$18)*'Customer Info'!$H$21),)","v":0},0,0,0,0,0,""]
[null,null,null,null,null,null,null,null,null,null,0,0,0,0,0,0,0,0,0,0,0,0,0,0,0,0,0,0,0,0,0,0,0,{"$f":"IF((OR($F$4=0,$F$4=\"none\")),IF(R107=0,,IF(OR($E$4='Customer Info'!$D$18,$E$4=0),R107,(R107/$E$4)*'Customer Info'!$D$18)),)","v":0},{"$f":"IF((OR($F$5=0,$F$5=\"none\")),IF(S107=0,,IF(OR($E$5='Customer Info'!$D$18,$E$5=0),S107,(S107/$E$5)*'Customer Info'!$D$19)),)","v":0},{"$f":"IF((OR($F$6=0,$F$6=\"none\")),IF(T107=0,,IF(OR($E$6='Customer Info'!$D$18,$E$6=0),T107,(T107/$E$6)*'Customer Info'!$D$20)),)","v":0},{"$f":"IF((OR($F$7=0,$F$7=\"none\")),IF(U107=0,,IF(OR($E$7='Customer Info'!$D$18,$E$7=0),U107,(U107/$E$7)*'Customer Info'!$D$21)),)","v":0},{"$f":"IF((OR($F$10=0,$F$10=\"none\")),IF(V107=0,,IF(OR($E$10='Customer Info'!$F$18,$E$10=0),V107,(V107/$E$10)*'Customer Info'!$F$18)),)","v":0},{"$f":"IF((OR($F$11=0,$F$11=\"none\")),IF(W107=0,,IF(OR($E$11='Customer Info'!$F$19,$E$11=0),W107,(W107/$E$11)*'Customer Info'!$F$19)),)","v":0},{"$f":"IF((OR($F$12=0,$F$12=\"none\")),IF(X107=0,,IF(OR($E$12='Customer Info'!$F$20,$E$12=0),X107,(X107/$E$12)*'Customer Info'!$F$20)),)","v":0},{"$f":"IF((OR($F$13=0,$F$13=\"none\")),IF(Y107=0,,IF(OR($E$13='Customer Info'!$F$21,$E$13=0),Y107,(Y107/$E$13)*'Customer Info'!$F$21)),)","v":0},{"$f":"IF((OR($F$16=0,$F$16=\"none\")),IF(Z107=0,,IF(OR($E$16='Customer Info'!$H$18,$E$16=0),Z107,(Z107/$E$16)*'Customer Info'!$H$18)),)","v":0},{"$f":"IF((OR($F$17=0,$F$17=\"none\")),IF(AA107=0,,IF(OR($E$17='Customer Info'!$H$19,$E$17=0),AA107,(AA107/$E$17)*'Customer Info'!$H$19)),)","v":0},{"$f":"IF((OR($F$18=0,$F$18=\"none\")),IF(AB107=0,,IF(OR($E$18='Customer Info'!$H$20,$E$18=0),AB107,(AB107/$E$18)*'Customer Info'!$H$20)),)","v":0},{"$f":"IF((OR($F$19=0,$F$19=\"none\")),IF(AC107=0,,IF(OR($E$19='Customer Info'!$H$21,$E$19=0),AC107,(AC107/$E$19)*'Customer Info'!$H$21)),)","v":0},{"$f":"IF((OR($F$4=0,$F$4=\"none\")),IF(AD107=0,,IF(OR($E$4='Customer Info'!$D$18,$E$4=0),AD107,(AD107/$E$4)*'Customer Info'!$D$18)),)","v":0},{"$f":"IF((OR($F$5=0,$F$5=\"none\")),IF(AE107=0,,IF(OR($E$5='Customer Info'!$D$19,$E$5=0),AE107,(AE107/$E$5)*'Customer Info'!$D$19)),)","v":0},{"$f":"IF((OR($F$6=0,$F$6=\"none\")),IF(AF107=0,,IF(OR($E$6='Customer Info'!$D$20,$E$6=0),AF107,(AF107/$E$6)*'Customer Info'!$D$20)),)","v":0},{"$f":"IF((OR($F$7=0,$F$7=\"none\")),IF(AG107=0,,IF(OR($E$7='Customer Info'!$D$21,$E$7=0),AG107,(AG107/$E$7)*'Customer Info'!$D$21)),)","v":0},0,0,{"$f":"IF(E107=\"plate waste\",,IF('Customer Info'!$M$18=0,'Log Sheet'!AY107,'Customer Info'!$M$18*'Log Sheet'!AY107))","v":0},{"$f":"IF(E107=\"plate waste\",IF(OR(C107=\"patient\",C107=\"patient beverages\"),IF('Customer Info'!$M$27=0,AY107*'Customer Info'!$M$18,AY107*'Customer Info'!$M$27),IF(C107=\"cafeteria\",IF('Customer Info'!$M$28=0,AY107*'Customer Info'!$M$18,AY107*'Customer Info'!$M$28),IF(C107=\"other1\",IF('Customer Info'!$M$29=0,AY107*'Customer Info'!$M$18,AY107*'Customer Info'!$M$29),))),)","v":0},0,{"$f":"IF($F$4=\"lunch\",IF(S107=0,,(S107/$E$5)*'Customer Info'!$D$18),)","v":0},{"$f":"IF($F$4=\"dinner\",IF(T107=0,,(T107/$E$6)*'Customer Info'!$D$18),)","v":0},{"$f":"IF($F$4=\"other\",IF(U107=0,,(U107/$E$7)*'Customer Info'!$D$18),)","v":0},0,{"$f":"IF($F$5=\"breakfast\",IF(R107=0,,(R107/$E$4)*'Customer Info'!$D$19),)","v":0},{"$f":"IF($F$5=\"dinner\",IF(T107=0,,(T107/$E$6)*'Customer Info'!$D$19),)","v":0},{"$f":"IF($F$5=\"other\",IF(U107=0,,(U107/$E$7)*'Customer Info'!$D$19),)","v":0},0,{"$f":"IF($F$6=\"breakfast\",IF(R107=0,,(R107/$E$4)*'Customer Info'!$D$20),)","v":0},{"$f":"IF($F$6=\"lunch\",IF(S107=0,,(S107/$E$5)*'Customer Info'!$D$20),)","v":0},{"$f":"IF($F$6=\"other\",IF(U107=0,,(U107/$E$7)*'Customer Info'!$D$20),)","v":0},0,{"$f":"IF($F$7=\"breakfast\",IF(R107=0,,(R107/$E$4)*'Customer Info'!$D$21),)","v":0},{"$f":"IF($F$7=\"lunch\",IF(S107=0,,(S107/$E$5)*'Customer Info'!$D$21),)","v":0},{"$f":"IF($F$7=\"dinner\",IF(T107=0,,(T107/$E$6)*'Customer Info'!$D$21),)","v":0},0,{"$f":"IF($F$10=\"lunch\",IF(W107=0,,(W107/$E$11)*'Customer Info'!$F$18),)","v":0},{"$f":"IF($F$10=\"dinner\",IF(X107=0,,(X107/$E$12)*'Customer Info'!$F$18),)","v":0},{"$f":"IF($F$10=\"other\",IF(Y107=0,,(Y107/$E$13)*'Customer Info'!$F$18),)","v":0},0,{"$f":"IF($F$11=\"breakfast\",IF(V107=0,,(V107/$E$10)*'Customer Info'!$F$19),)","v":0},{"$f":"IF($F$11=\"dinner\",IF(X107=0,,(X107/$E$12)*'Customer Info'!$F$19),)","v":0},{"$f":"IF($F$11=\"other\",IF(Y107=0,,(Y107/$E$13)*'Customer Info'!$F$19),)","v":0},0,{"$f":"IF($F$12=\"breakfast\",IF(V107=0,,(V107/$E$10)*'Customer Info'!$F$20),)","v":0},{"$f":"IF($F$12=\"lunch\",IF(W107=0,,(W107/$E$11)*'Customer Info'!$F$20),)","v":0},{"$f":"IF($F$12=\"other\",IF(Y107=0,,(Y107/$E$13)*'Customer Info'!$F$20),)","v":0},0,{"$f":"IF($F$13=\"breakfast\",IF(V107=0,,(V107/$E$10)*'Customer Info'!$F$21),)","v":0},{"$f":"IF($F$13=\"lunch\",IF(W107=0,,(W107/$E$11)*'Customer Info'!$F$21),)","v":0},{"$f":"IF($F$13=\"dinner\",IF(X107=0,,(X107/$E$12)*'Customer Info'!$F$21),)","v":0},0,{"$f":"IF($F$16=\"lunch\",IF(AA107=0,,(AA107/$E$17)*'Customer Info'!$H$18),)","v":0},{"$f":"IF($F$16=\"dinner\",IF(AB107=0,,(AB107/$E$18)*'Customer Info'!$H$18),)","v":0},{"$f":"IF($F$16=\"other\",IF(AC107=0,,(AC107/$E$19)*'Customer Info'!$H$18),)","v":0},0,{"$f":"IF($F$17=\"breakfast\",IF(Z107=0,,(Z107/$E$16)*'Customer Info'!$H$19),)","v":0},{"$f":"IF($F$17=\"dinner\",IF(AB107=0,,(AB107/$E$18)*'Customer Info'!$H$19),)","v":0},{"$f":"IF($F$17=\"other\",IF(AC107=0,,(AC107/$E$19)*'Customer Info'!$H$19),)","v":0},0,{"$f":"IF($F$18=\"breakfast\",IF(Z107=0,,(Z107/$E$16)*'Customer Info'!$H$20),)","v":0},{"$f":"IF($F$18=\"lunch\",IF(AA107=0,,(AA107/$E$17)*'Customer Info'!$H$20),)","v":0},{"$f":"IF($F$18=\"other\",IF(AC107=0,,(AC107/$E$19)*'Customer Info'!$H$20),)","v":0},0,{"$f":"IF($F$19=\"breakfast\",IF(Z107=0,,(Z107/$E$16)*'Customer Info'!$H$21),)","v":0},{"$f":"IF($F$19=\"lunch\",IF(AA107=0,,(AA107/$E$17)*'Customer Info'!$H$21),)","v":0},{"$f":"IF($F$19=\"dinner\",IF(AB107=0,,(AB107/$E$18)*'Customer Info'!$H$21),)","v":0},0,0,0,0,0,""]
[null,null,null,null,null,null,null,null,null,null,0,0,0,0,0,0,0,0,0,0,0,0,0,0,0,0,0,0,0,0,0,0,0,{"$f":"IF((OR($F$4=0,$F$4=\"none\")),IF(R108=0,,IF(OR($E$4='Customer Info'!$D$18,$E$4=0),R108,(R108/$E$4)*'Customer Info'!$D$18)),)","v":0},{"$f":"IF((OR($F$5=0,$F$5=\"none\")),IF(S108=0,,IF(OR($E$5='Customer Info'!$D$18,$E$5=0),S108,(S108/$E$5)*'Customer Info'!$D$19)),)","v":0},{"$f":"IF((OR($F$6=0,$F$6=\"none\")),IF(T108=0,,IF(OR($E$6='Customer Info'!$D$18,$E$6=0),T108,(T108/$E$6)*'Customer Info'!$D$20)),)","v":0},{"$f":"IF((OR($F$7=0,$F$7=\"none\")),IF(U108=0,,IF(OR($E$7='Customer Info'!$D$18,$E$7=0),U108,(U108/$E$7)*'Customer Info'!$D$21)),)","v":0},{"$f":"IF((OR($F$10=0,$F$10=\"none\")),IF(V108=0,,IF(OR($E$10='Customer Info'!$F$18,$E$10=0),V108,(V108/$E$10)*'Customer Info'!$F$18)),)","v":0},{"$f":"IF((OR($F$11=0,$F$11=\"none\")),IF(W108=0,,IF(OR($E$11='Customer Info'!$F$19,$E$11=0),W108,(W108/$E$11)*'Customer Info'!$F$19)),)","v":0},{"$f":"IF((OR($F$12=0,$F$12=\"none\")),IF(X108=0,,IF(OR($E$12='Customer Info'!$F$20,$E$12=0),X108,(X108/$E$12)*'Customer Info'!$F$20)),)","v":0},{"$f":"IF((OR($F$13=0,$F$13=\"none\")),IF(Y108=0,,IF(OR($E$13='Customer Info'!$F$21,$E$13=0),Y108,(Y108/$E$13)*'Customer Info'!$F$21)),)","v":0},{"$f":"IF((OR($F$16=0,$F$16=\"none\")),IF(Z108=0,,IF(OR($E$16='Customer Info'!$H$18,$E$16=0),Z108,(Z108/$E$16)*'Customer Info'!$H$18)),)","v":0},{"$f":"IF((OR($F$17=0,$F$17=\"none\")),IF(AA108=0,,IF(OR($E$17='Customer Info'!$H$19,$E$17=0),AA108,(AA108/$E$17)*'Customer Info'!$H$19)),)","v":0},{"$f":"IF((OR($F$18=0,$F$18=\"none\")),IF(AB108=0,,IF(OR($E$18='Customer Info'!$H$20,$E$18=0),AB108,(AB108/$E$18)*'Customer Info'!$H$20)),)","v":0},{"$f":"IF((OR($F$19=0,$F$19=\"none\")),IF(AC108=0,,IF(OR($E$19='Customer Info'!$H$21,$E$19=0),AC108,(AC108/$E$19)*'Customer Info'!$H$21)),)","v":0},{"$f":"IF((OR($F$4=0,$F$4=\"none\")),IF(AD108=0,,IF(OR($E$4='Customer Info'!$D$18,$E$4=0),AD108,(AD108/$E$4)*'Customer Info'!$D$18)),)","v":0},{"$f":"IF((OR($F$5=0,$F$5=\"none\")),IF(AE108=0,,IF(OR($E$5='Customer Info'!$D$19,$E$5=0),AE108,(AE108/$E$5)*'Customer Info'!$D$19)),)","v":0},{"$f":"IF((OR($F$6=0,$F$6=\"none\")),IF(AF108=0,,IF(OR($E$6='Customer Info'!$D$20,$E$6=0),AF108,(AF108/$E$6)*'Customer Info'!$D$20)),)","v":0},{"$f":"IF((OR($F$7=0,$F$7=\"none\")),IF(AG108=0,,IF(OR($E$7='Customer Info'!$D$21,$E$7=0),AG108,(AG108/$E$7)*'Customer Info'!$D$21)),)","v":0},0,0,{"$f":"IF(E108=\"plate waste\",,IF('Customer Info'!$M$18=0,'Log Sheet'!AY108,'Customer Info'!$M$18*'Log Sheet'!AY108))","v":0},{"$f":"IF(E108=\"plate waste\",IF(OR(C108=\"patient\",C108=\"patient beverages\"),IF('Customer Info'!$M$27=0,AY108*'Customer Info'!$M$18,AY108*'Customer Info'!$M$27),IF(C108=\"cafeteria\",IF('Customer Info'!$M$28=0,AY108*'Customer Info'!$M$18,AY108*'Customer Info'!$M$28),IF(C108=\"other1\",IF('Customer Info'!$M$29=0,AY108*'Customer Info'!$M$18,AY108*'Customer Info'!$M$29),))),)","v":0},0,{"$f":"IF($F$4=\"lunch\",IF(S108=0,,(S108/$E$5)*'Customer Info'!$D$18),)","v":0},{"$f":"IF($F$4=\"dinner\",IF(T108=0,,(T108/$E$6)*'Customer Info'!$D$18),)","v":0},{"$f":"IF($F$4=\"other\",IF(U108=0,,(U108/$E$7)*'Customer Info'!$D$18),)","v":0},0,{"$f":"IF($F$5=\"breakfast\",IF(R108=0,,(R108/$E$4)*'Customer Info'!$D$19),)","v":0},{"$f":"IF($F$5=\"dinner\",IF(T108=0,,(T108/$E$6)*'Customer Info'!$D$19),)","v":0},{"$f":"IF($F$5=\"other\",IF(U108=0,,(U108/$E$7)*'Customer Info'!$D$19),)","v":0},0,{"$f":"IF($F$6=\"breakfast\",IF(R108=0,,(R108/$E$4)*'Customer Info'!$D$20),)","v":0},{"$f":"IF($F$6=\"lunch\",IF(S108=0,,(S108/$E$5)*'Customer Info'!$D$20),)","v":0},{"$f":"IF($F$6=\"other\",IF(U108=0,,(U108/$E$7)*'Customer Info'!$D$20),)","v":0},0,{"$f":"IF($F$7=\"breakfast\",IF(R108=0,,(R108/$E$4)*'Customer Info'!$D$21),)","v":0},{"$f":"IF($F$7=\"lunch\",IF(S108=0,,(S108/$E$5)*'Customer Info'!$D$21),)","v":0},{"$f":"IF($F$7=\"dinner\",IF(T108=0,,(T108/$E$6)*'Customer Info'!$D$21),)","v":0},0,{"$f":"IF($F$10=\"lunch\",IF(W108=0,,(W108/$E$11)*'Customer Info'!$F$18),)","v":0},{"$f":"IF($F$10=\"dinner\",IF(X108=0,,(X108/$E$12)*'Customer Info'!$F$18),)","v":0},{"$f":"IF($F$10=\"other\",IF(Y108=0,,(Y108/$E$13)*'Customer Info'!$F$18),)","v":0},0,{"$f":"IF($F$11=\"breakfast\",IF(V108=0,,(V108/$E$10)*'Customer Info'!$F$19),)","v":0},{"$f":"IF($F$11=\"dinner\",IF(X108=0,,(X108/$E$12)*'Customer Info'!$F$19),)","v":0},{"$f":"IF($F$11=\"other\",IF(Y108=0,,(Y108/$E$13)*'Customer Info'!$F$19),)","v":0},0,{"$f":"IF($F$12=\"breakfast\",IF(V108=0,,(V108/$E$10)*'Customer Info'!$F$20),)","v":0},{"$f":"IF($F$12=\"lunch\",IF(W108=0,,(W108/$E$11)*'Customer Info'!$F$20),)","v":0},{"$f":"IF($F$12=\"other\",IF(Y108=0,,(Y108/$E$13)*'Customer Info'!$F$20),)","v":0},0,{"$f":"IF($F$13=\"breakfast\",IF(V108=0,,(V108/$E$10)*'Customer Info'!$F$21),)","v":0},{"$f":"IF($F$13=\"lunch\",IF(W108=0,,(W108/$E$11)*'Customer Info'!$F$21),)","v":0},{"$f":"IF($F$13=\"dinner\",IF(X108=0,,(X108/$E$12)*'Customer Info'!$F$21),)","v":0},0,{"$f":"IF($F$16=\"lunch\",IF(AA108=0,,(AA108/$E$17)*'Customer Info'!$H$18),)","v":0},{"$f":"IF($F$16=\"dinner\",IF(AB108=0,,(AB108/$E$18)*'Customer Info'!$H$18),)","v":0},{"$f":"IF($F$16=\"other\",IF(AC108=0,,(AC108/$E$19)*'Customer Info'!$H$18),)","v":0},0,{"$f":"IF($F$17=\"breakfast\",IF(Z108=0,,(Z108/$E$16)*'Customer Info'!$H$19),)","v":0},{"$f":"IF($F$17=\"dinner\",IF(AB108=0,,(AB108/$E$18)*'Customer Info'!$H$19),)","v":0},{"$f":"IF($F$17=\"other\",IF(AC108=0,,(AC108/$E$19)*'Customer Info'!$H$19),)","v":0},0,{"$f":"IF($F$18=\"breakfast\",IF(Z108=0,,(Z108/$E$16)*'Customer Info'!$H$20),)","v":0},{"$f":"IF($F$18=\"lunch\",IF(AA108=0,,(AA108/$E$17)*'Customer Info'!$H$20),)","v":0},{"$f":"IF($F$18=\"other\",IF(AC108=0,,(AC108/$E$19)*'Customer Info'!$H$20),)","v":0},0,{"$f":"IF($F$19=\"breakfast\",IF(Z108=0,,(Z108/$E$16)*'Customer Info'!$H$21),)","v":0},{"$f":"IF($F$19=\"lunch\",IF(AA108=0,,(AA108/$E$17)*'Customer Info'!$H$21),)","v":0},{"$f":"IF($F$19=\"dinner\",IF(AB108=0,,(AB108/$E$18)*'Customer Info'!$H$21),)","v":0},0,0,0,0,0,""]
[null,null,null,null,null,null,null,null,null,null,0,0,0,0,0,0,0,0,0,0,0,0,0,0,0,0,0,0,0,0,0,0,0,{"$f":"IF((OR($F$4=0,$F$4=\"none\")),IF(R109=0,,IF(OR($E$4='Customer Info'!$D$18,$E$4=0),R109,(R109/$E$4)*'Customer Info'!$D$18)),)","v":0},{"$f":"IF((OR($F$5=0,$F$5=\"none\")),IF(S109=0,,IF(OR($E$5='Customer Info'!$D$18,$E$5=0),S109,(S109/$E$5)*'Customer Info'!$D$19)),)","v":0},{"$f":"IF((OR($F$6=0,$F$6=\"none\")),IF(T109=0,,IF(OR($E$6='Customer Info'!$D$18,$E$6=0),T109,(T109/$E$6)*'Customer Info'!$D$20)),)","v":0},{"$f":"IF((OR($F$7=0,$F$7=\"none\")),IF(U109=0,,IF(OR($E$7='Customer Info'!$D$18,$E$7=0),U109,(U109/$E$7)*'Customer Info'!$D$21)),)","v":0},{"$f":"IF((OR($F$10=0,$F$10=\"none\")),IF(V109=0,,IF(OR($E$10='Customer Info'!$F$18,$E$10=0),V109,(V109/$E$10)*'Customer Info'!$F$18)),)","v":0},{"$f":"IF((OR($F$11=0,$F$11=\"none\")),IF(W109=0,,IF(OR($E$11='Customer Info'!$F$19,$E$11=0),W109,(W109/$E$11)*'Customer Info'!$F$19)),)","v":0},{"$f":"IF((OR($F$12=0,$F$12=\"none\")),IF(X109=0,,IF(OR($E$12='Customer Info'!$F$20,$E$12=0),X109,(X109/$E$12)*'Customer Info'!$F$20)),)","v":0},{"$f":"IF((OR($F$13=0,$F$13=\"none\")),IF(Y109=0,,IF(OR($E$13='Customer Info'!$F$21,$E$13=0),Y109,(Y109/$E$13)*'Customer Info'!$F$21)),)","v":0},{"$f":"IF((OR($F$16=0,$F$16=\"none\")),IF(Z109=0,,IF(OR($E$16='Customer Info'!$H$18,$E$16=0),Z109,(Z109/$E$16)*'Customer Info'!$H$18)),)","v":0},{"$f":"IF((OR($F$17=0,$F$17=\"none\")),IF(AA109=0,,IF(OR($E$17='Customer Info'!$H$19,$E$17=0),AA109,(AA109/$E$17)*'Customer Info'!$H$19)),)","v":0},{"$f":"IF((OR($F$18=0,$F$18=\"none\")),IF(AB109=0,,IF(OR($E$18='Customer Info'!$H$20,$E$18=0),AB109,(AB109/$E$18)*'Customer Info'!$H$20)),)","v":0},{"$f":"IF((OR($F$19=0,$F$19=\"none\")),IF(AC109=0,,IF(OR($E$19='Customer Info'!$H$21,$E$19=0),AC109,(AC109/$E$19)*'Customer Info'!$H$21)),)","v":0},{"$f":"IF((OR($F$4=0,$F$4=\"none\")),IF(AD109=0,,IF(OR($E$4='Customer Info'!$D$18,$E$4=0),AD109,(AD109/$E$4)*'Customer Info'!$D$18)),)","v":0},{"$f":"IF((OR($F$5=0,$F$5=\"none\")),IF(AE109=0,,IF(OR($E$5='Customer Info'!$D$19,$E$5=0),AE109,(AE109/$E$5)*'Customer Info'!$D$19)),)","v":0},{"$f":"IF((OR($F$6=0,$F$6=\"none\")),IF(AF109=0,,IF(OR($E$6='Customer Info'!$D$20,$E$6=0),AF109,(AF109/$E$6)*'Customer Info'!$D$20)),)","v":0},{"$f":"IF((OR($F$7=0,$F$7=\"none\")),IF(AG109=0,,IF(OR($E$7='Customer Info'!$D$21,$E$7=0),AG109,(AG109/$E$7)*'Customer Info'!$D$21)),)","v":0},0,0,{"$f":"IF(E109=\"plate waste\",,IF('Customer Info'!$M$18=0,'Log Sheet'!AY109,'Customer Info'!$M$18*'Log Sheet'!AY109))","v":0},{"$f":"IF(E109=\"plate waste\",IF(OR(C109=\"patient\",C109=\"patient beverages\"),IF('Customer Info'!$M$27=0,AY109*'Customer Info'!$M$18,AY109*'Customer Info'!$M$27),IF(C109=\"cafeteria\",IF('Customer Info'!$M$28=0,AY109*'Customer Info'!$M$18,AY109*'Customer Info'!$M$28),IF(C109=\"other1\",IF('Customer Info'!$M$29=0,AY109*'Customer Info'!$M$18,AY109*'Customer Info'!$M$29),))),)","v":0},0,{"$f":"IF($F$4=\"lunch\",IF(S109=0,,(S109/$E$5)*'Customer Info'!$D$18),)","v":0},{"$f":"IF($F$4=\"dinner\",IF(T109=0,,(T109/$E$6)*'Customer Info'!$D$18),)","v":0},{"$f":"IF($F$4=\"other\",IF(U109=0,,(U109/$E$7)*'Customer Info'!$D$18),)","v":0},0,{"$f":"IF($F$5=\"breakfast\",IF(R109=0,,(R109/$E$4)*'Customer Info'!$D$19),)","v":0},{"$f":"IF($F$5=\"dinner\",IF(T109=0,,(T109/$E$6)*'Customer Info'!$D$19),)","v":0},{"$f":"IF($F$5=\"other\",IF(U109=0,,(U109/$E$7)*'Customer Info'!$D$19),)","v":0},0,{"$f":"IF($F$6=\"breakfast\",IF(R109=0,,(R109/$E$4)*'Customer Info'!$D$20),)","v":0},{"$f":"IF($F$6=\"lunch\",IF(S109=0,,(S109/$E$5)*'Customer Info'!$D$20),)","v":0},{"$f":"IF($F$6=\"other\",IF(U109=0,,(U109/$E$7)*'Customer Info'!$D$20),)","v":0},0,{"$f":"IF($F$7=\"breakfast\",IF(R109=0,,(R109/$E$4)*'Customer Info'!$D$21),)","v":0},{"$f":"IF($F$7=\"lunch\",IF(S109=0,,(S109/$E$5)*'Customer Info'!$D$21),)","v":0},{"$f":"IF($F$7=\"dinner\",IF(T109=0,,(T109/$E$6)*'Customer Info'!$D$21),)","v":0},0,{"$f":"IF($F$10=\"lunch\",IF(W109=0,,(W109/$E$11)*'Customer Info'!$F$18),)","v":0},{"$f":"IF($F$10=\"dinner\",IF(X109=0,,(X109/$E$12)*'Customer Info'!$F$18),)","v":0},{"$f":"IF($F$10=\"other\",IF(Y109=0,,(Y109/$E$13)*'Customer Info'!$F$18),)","v":0},0,{"$f":"IF($F$11=\"breakfast\",IF(V109=0,,(V109/$E$10)*'Customer Info'!$F$19),)","v":0},{"$f":"IF($F$11=\"dinner\",IF(X109=0,,(X109/$E$12)*'Customer Info'!$F$19),)","v":0},{"$f":"IF($F$11=\"other\",IF(Y109=0,,(Y109/$E$13)*'Customer Info'!$F$19),)","v":0},0,{"$f":"IF($F$12=\"breakfast\",IF(V109=0,,(V109/$E$10)*'Customer Info'!$F$20),)","v":0},{"$f":"IF($F$12=\"lunch\",IF(W109=0,,(W109/$E$11)*'Customer Info'!$F$20),)","v":0},{"$f":"IF($F$12=\"other\",IF(Y109=0,,(Y109/$E$13)*'Customer Info'!$F$20),)","v":0},0,{"$f":"IF($F$13=\"breakfast\",IF(V109=0,,(V109/$E$10)*'Customer Info'!$F$21),)","v":0},{"$f":"IF($F$13=\"lunch\",IF(W109=0,,(W109/$E$11)*'Customer Info'!$F$21),)","v":0},{"$f":"IF($F$13=\"dinner\",IF(X109=0,,(X109/$E$12)*'Customer Info'!$F$21),)","v":0},0,{"$f":"IF($F$16=\"lunch\",IF(AA109=0,,(AA109/$E$17)*'Customer Info'!$H$18),)","v":0},{"$f":"IF($F$16=\"dinner\",IF(AB109=0,,(AB109/$E$18)*'Customer Info'!$H$18),)","v":0},{"$f":"IF($F$16=\"other\",IF(AC109=0,,(AC109/$E$19)*'Customer Info'!$H$18),)","v":0},0,{"$f":"IF($F$17=\"breakfast\",IF(Z109=0,,(Z109/$E$16)*'Customer Info'!$H$19),)","v":0},{"$f":"IF($F$17=\"dinner\",IF(AB109=0,,(AB109/$E$18)*'Customer Info'!$H$19),)","v":0},{"$f":"IF($F$17=\"other\",IF(AC109=0,,(AC109/$E$19)*'Customer Info'!$H$19),)","v":0},0,{"$f":"IF($F$18=\"breakfast\",IF(Z109=0,,(Z109/$E$16)*'Customer Info'!$H$20),)","v":0},{"$f":"IF($F$18=\"lunch\",IF(AA109=0,,(AA109/$E$17)*'Customer Info'!$H$20),)","v":0},{"$f":"IF($F$18=\"other\",IF(AC109=0,,(AC109/$E$19)*'Customer Info'!$H$20),)","v":0},0,{"$f":"IF($F$19=\"breakfast\",IF(Z109=0,,(Z109/$E$16)*'Customer Info'!$H$21),)","v":0},{"$f":"IF($F$19=\"lunch\",IF(AA109=0,,(AA109/$E$17)*'Customer Info'!$H$21),)","v":0},{"$f":"IF($F$19=\"dinner\",IF(AB109=0,,(AB109/$E$18)*'Customer Info'!$H$21),)","v":0},0,0,0,0,0,""]
[null,null,null,null,null,null,null,null,null,null,0,0,0,0,0,0,0,0,0,0,0,0,0,0,0,0,0,0,0,0,0,0,0,{"$f":"IF((OR($F$4=0,$F$4=\"none\")),IF(R110=0,,IF(OR($E$4='Customer Info'!$D$18,$E$4=0),R110,(R110/$E$4)*'Customer Info'!$D$18)),)","v":0},{"$f":"IF((OR($F$5=0,$F$5=\"none\")),IF(S110=0,,IF(OR($E$5='Customer Info'!$D$18,$E$5=0),S110,(S110/$E$5)*'Customer Info'!$D$19)),)","v":0},{"$f":"IF((OR($F$6=0,$F$6=\"none\")),IF(T110=0,,IF(OR($E$6='Customer Info'!$D$18,$E$6=0),T110,(T110/$E$6)*'Customer Info'!$D$20)),)","v":0},{"$f":"IF((OR($F$7=0,$F$7=\"none\")),IF(U110=0,,IF(OR($E$7='Customer Info'!$D$18,$E$7=0),U110,(U110/$E$7)*'Customer Info'!$D$21)),)","v":0},{"$f":"IF((OR($F$10=0,$F$10=\"none\")),IF(V110=0,,IF(OR($E$10='Customer Info'!$F$18,$E$10=0),V110,(V110/$E$10)*'Customer Info'!$F$18)),)","v":0},{"$f":"IF((OR($F$11=0,$F$11=\"none\")),IF(W110=0,,IF(OR($E$11='Customer Info'!$F$19,$E$11=0),W110,(W110/$E$11)*'Customer Info'!$F$19)),)","v":0},{"$f":"IF((OR($F$12=0,$F$12=\"none\")),IF(X110=0,,IF(OR($E$12='Customer Info'!$F$20,$E$12=0),X110,(X110/$E$12)*'Customer Info'!$F$20)),)","v":0},{"$f":"IF((OR($F$13=0,$F$13=\"none\")),IF(Y110=0,,IF(OR($E$13='Customer Info'!$F$21,$E$13=0),Y110,(Y110/$E$13)*'Customer Info'!$F$21)),)","v":0},{"$f":"IF((OR($F$16=0,$F$16=\"none\")),IF(Z110=0,,IF(OR($E$16='Customer Info'!$H$18,$E$16=0),Z110,(Z110/$E$16)*'Customer Info'!$H$18)),)","v":0},{"$f":"IF((OR($F$17=0,$F$17=\"none\")),IF(AA110=0,,IF(OR($E$17='Customer Info'!$H$19,$E$17=0),AA110,(AA110/$E$17)*'Customer Info'!$H$19)),)","v":0},{"$f":"IF((OR($F$18=0,$F$18=\"none\")),IF(AB110=0,,IF(OR($E$18='Customer Info'!$H$20,$E$18=0),AB110,(AB110/$E$18)*'Customer Info'!$H$20)),)","v":0},{"$f":"IF((OR($F$19=0,$F$19=\"none\")),IF(AC110=0,,IF(OR($E$19='Customer Info'!$H$21,$E$19=0),AC110,(AC110/$E$19)*'Customer Info'!$H$21)),)","v":0},{"$f":"IF((OR($F$4=0,$F$4=\"none\")),IF(AD110=0,,IF(OR($E$4='Customer Info'!$D$18,$E$4=0),AD110,(AD110/$E$4)*'Customer Info'!$D$18)),)","v":0},{"$f":"IF((OR($F$5=0,$F$5=\"none\")),IF(AE110=0,,IF(OR($E$5='Customer Info'!$D$19,$E$5=0),AE110,(AE110/$E$5)*'Customer Info'!$D$19)),)","v":0},{"$f":"IF((OR($F$6=0,$F$6=\"none\")),IF(AF110=0,,IF(OR($E$6='Customer Info'!$D$20,$E$6=0),AF110,(AF110/$E$6)*'Customer Info'!$D$20)),)","v":0},{"$f":"IF((OR($F$7=0,$F$7=\"none\")),IF(AG110=0,,IF(OR($E$7='Customer Info'!$D$21,$E$7=0),AG110,(AG110/$E$7)*'Customer Info'!$D$21)),)","v":0},0,0,{"$f":"IF(E110=\"plate waste\",,IF('Customer Info'!$M$18=0,'Log Sheet'!AY110,'Customer Info'!$M$18*'Log Sheet'!AY110))","v":0},{"$f":"IF(E110=\"plate waste\",IF(OR(C110=\"patient\",C110=\"patient beverages\"),IF('Customer Info'!$M$27=0,AY110*'Customer Info'!$M$18,AY110*'Customer Info'!$M$27),IF(C110=\"cafeteria\",IF('Customer Info'!$M$28=0,AY110*'Customer Info'!$M$18,AY110*'Customer Info'!$M$28),IF(C110=\"other1\",IF('Customer Info'!$M$29=0,AY110*'Customer Info'!$M$18,AY110*'Customer Info'!$M$29),))),)","v":0},0,{"$f":"IF($F$4=\"lunch\",IF(S110=0,,(S110/$E$5)*'Customer Info'!$D$18),)","v":0},{"$f":"IF($F$4=\"dinner\",IF(T110=0,,(T110/$E$6)*'Customer Info'!$D$18),)","v":0},{"$f":"IF($F$4=\"other\",IF(U110=0,,(U110/$E$7)*'Customer Info'!$D$18),)","v":0},0,{"$f":"IF($F$5=\"breakfast\",IF(R110=0,,(R110/$E$4)*'Customer Info'!$D$19),)","v":0},{"$f":"IF($F$5=\"dinner\",IF(T110=0,,(T110/$E$6)*'Customer Info'!$D$19),)","v":0},{"$f":"IF($F$5=\"other\",IF(U110=0,,(U110/$E$7)*'Customer Info'!$D$19),)","v":0},0,{"$f":"IF($F$6=\"breakfast\",IF(R110=0,,(R110/$E$4)*'Customer Info'!$D$20),)","v":0},{"$f":"IF($F$6=\"lunch\",IF(S110=0,,(S110/$E$5)*'Customer Info'!$D$20),)","v":0},{"$f":"IF($F$6=\"other\",IF(U110=0,,(U110/$E$7)*'Customer Info'!$D$20),)","v":0},0,{"$f":"IF($F$7=\"breakfast\",IF(R110=0,,(R110/$E$4)*'Customer Info'!$D$21),)","v":0},{"$f":"IF($F$7=\"lunch\",IF(S110=0,,(S110/$E$5)*'Customer Info'!$D$21),)","v":0},{"$f":"IF($F$7=\"dinner\",IF(T110=0,,(T110/$E$6)*'Customer Info'!$D$21),)","v":0},0,{"$f":"IF($F$10=\"lunch\",IF(W110=0,,(W110/$E$11)*'Customer Info'!$F$18),)","v":0},{"$f":"IF($F$10=\"dinner\",IF(X110=0,,(X110/$E$12)*'Customer Info'!$F$18),)","v":0},{"$f":"IF($F$10=\"other\",IF(Y110=0,,(Y110/$E$13)*'Customer Info'!$F$18),)","v":0},0,{"$f":"IF($F$11=\"breakfast\",IF(V110=0,,(V110/$E$10)*'Customer Info'!$F$19),)","v":0},{"$f":"IF($F$11=\"dinner\",IF(X110=0,,(X110/$E$12)*'Customer Info'!$F$19),)","v":0},{"$f":"IF($F$11=\"other\",IF(Y110=0,,(Y110/$E$13)*'Customer Info'!$F$19),)","v":0},0,{"$f":"IF($F$12=\"breakfast\",IF(V110=0,,(V110/$E$10)*'Customer Info'!$F$20),)","v":0},{"$f":"IF($F$12=\"lunch\",IF(W110=0,,(W110/$E$11)*'Customer Info'!$F$20),)","v":0},{"$f":"IF($F$12=\"other\",IF(Y110=0,,(Y110/$E$13)*'Customer Info'!$F$20),)","v":0},0,{"$f":"IF($F$13=\"breakfast\",IF(V110=0,,(V110/$E$10)*'Customer Info'!$F$21),)","v":0},{"$f":"IF($F$13=\"lunch\",IF(W110=0,,(W110/$E$11)*'Customer Info'!$F$21),)","v":0},{"$f":"IF($F$13=\"dinner\",IF(X110=0,,(X110/$E$12)*'Customer Info'!$F$21),)","v":0},0,{"$f":"IF($F$16=\"lunch\",IF(AA110=0,,(AA110/$E$17)*'Customer Info'!$H$18),)","v":0},{"$f":"IF($F$16=\"dinner\",IF(AB110=0,,(AB110/$E$18)*'Customer Info'!$H$18),)","v":0},{"$f":"IF($F$16=\"other\",IF(AC110=0,,(AC110/$E$19)*'Customer Info'!$H$18),)","v":0},0,{"$f":"IF($F$17=\"breakfast\",IF(Z110=0,,(Z110/$E$16)*'Customer Info'!$H$19),)","v":0},{"$f":"IF($F$17=\"dinner\",IF(AB110=0,,(AB110/$E$18)*'Customer Info'!$H$19),)","v":0},{"$f":"IF($F$17=\"other\",IF(AC110=0,,(AC110/$E$19)*'Customer Info'!$H$19),)","v":0},0,{"$f":"IF($F$18=\"breakfast\",IF(Z110=0,,(Z110/$E$16)*'Customer Info'!$H$20),)","v":0},{"$f":"IF($F$18=\"lunch\",IF(AA110=0,,(AA110/$E$17)*'Customer Info'!$H$20),)","v":0},{"$f":"IF($F$18=\"other\",IF(AC110=0,,(AC110/$E$19)*'Customer Info'!$H$20),)","v":0},0,{"$f":"IF($F$19=\"breakfast\",IF(Z110=0,,(Z110/$E$16)*'Customer Info'!$H$21),)","v":0},{"$f":"IF($F$19=\"lunch\",IF(AA110=0,,(AA110/$E$17)*'Customer Info'!$H$21),)","v":0},{"$f":"IF($F$19=\"dinner\",IF(AB110=0,,(AB110/$E$18)*'Customer Info'!$H$21),)","v":0},0,0,0,0,0,""]
[null,null,null,null,null,null,null,null,null,null,0,0,0,0,0,0,0,0,0,0,0,0,0,0,0,0,0,0,0,0,0,0,0,{"$f":"IF((OR($F$4=0,$F$4=\"none\")),IF(R111=0,,IF(OR($E$4='Customer Info'!$D$18,$E$4=0),R111,(R111/$E$4)*'Customer Info'!$D$18)),)","v":0},{"$f":"IF((OR($F$5=0,$F$5=\"none\")),IF(S111=0,,IF(OR($E$5='Customer Info'!$D$18,$E$5=0),S111,(S111/$E$5)*'Customer Info'!$D$19)),)","v":0},{"$f":"IF((OR($F$6=0,$F$6=\"none\")),IF(T111=0,,IF(OR($E$6='Customer Info'!$D$18,$E$6=0),T111,(T111/$E$6)*'Customer Info'!$D$20)),)","v":0},{"$f":"IF((OR($F$7=0,$F$7=\"none\")),IF(U111=0,,IF(OR($E$7='Customer Info'!$D$18,$E$7=0),U111,(U111/$E$7)*'Customer Info'!$D$21)),)","v":0},{"$f":"IF((OR($F$10=0,$F$10=\"none\")),IF(V111=0,,IF(OR($E$10='Customer Info'!$F$18,$E$10=0),V111,(V111/$E$10)*'Customer Info'!$F$18)),)","v":0},{"$f":"IF((OR($F$11=0,$F$11=\"none\")),IF(W111=0,,IF(OR($E$11='Customer Info'!$F$19,$E$11=0),W111,(W111/$E$11)*'Customer Info'!$F$19)),)","v":0},{"$f":"IF((OR($F$12=0,$F$12=\"none\")),IF(X111=0,,IF(OR($E$12='Customer Info'!$F$20,$E$12=0),X111,(X111/$E$12)*'Customer Info'!$F$20)),)","v":0},{"$f":"IF((OR($F$13=0,$F$13=\"none\")),IF(Y111=0,,IF(OR($E$13='Customer Info'!$F$21,$E$13=0),Y111,(Y111/$E$13)*'Customer Info'!$F$21)),)","v":0},{"$f":"IF((OR($F$16=0,$F$16=\"none\")),IF(Z111=0,,IF(OR($E$16='Customer Info'!$H$18,$E$16=0),Z111,(Z111/$E$16)*'Customer Info'!$H$18)),)","v":0},{"$f":"IF((OR($F$17=0,$F$17=\"none\")),IF(AA111=0,,IF(OR($E$17='Customer Info'!$H$19,$E$17=0),AA111,(AA111/$E$17)*'Customer Info'!$H$19)),)","v":0},{"$f":"IF((OR($F$18=0,$F$18=\"none\")),IF(AB111=0,,IF(OR($E$18='Customer Info'!$H$20,$E$18=0),AB111,(AB111/$E$18)*'Customer Info'!$H$20)),)","v":0},{"$f":"IF((OR($F$19=0,$F$19=\"none\")),IF(AC111=0,,IF(OR($E$19='Customer Info'!$H$21,$E$19=0),AC111,(AC111/$E$19)*'Customer Info'!$H$21)),)","v":0},{"$f":"IF((OR($F$4=0,$F$4=\"none\")),IF(AD111=0,,IF(OR($E$4='Customer Info'!$D$18,$E$4=0),AD111,(AD111/$E$4)*'Customer Info'!$D$18)),)","v":0},{"$f":"IF((OR($F$5=0,$F$5=\"none\")),IF(AE111=0,,IF(OR($E$5='Customer Info'!$D$19,$E$5=0),AE111,(AE111/$E$5)*'Customer Info'!$D$19)),)","v":0},{"$f":"IF((OR($F$6=0,$F$6=\"none\")),IF(AF111=0,,IF(OR($E$6='Customer Info'!$D$20,$E$6=0),AF111,(AF111/$E$6)*'Customer Info'!$D$20)),)","v":0},{"$f":"IF((OR($F$7=0,$F$7=\"none\")),IF(AG111=0,,IF(OR($E$7='Customer Info'!$D$21,$E$7=0),AG111,(AG111/$E$7)*'Customer Info'!$D$21)),)","v":0},0,0,{"$f":"IF(E111=\"plate waste\",,IF('Customer Info'!$M$18=0,'Log Sheet'!AY111,'Customer Info'!$M$18*'Log Sheet'!AY111))","v":0},{"$f":"IF(E111=\"plate waste\",IF(OR(C111=\"patient\",C111=\"patient beverages\"),IF('Customer Info'!$M$27=0,AY111*'Customer Info'!$M$18,AY111*'Customer Info'!$M$27),IF(C111=\"cafeteria\",IF('Customer Info'!$M$28=0,AY111*'Customer Info'!$M$18,AY111*'Customer Info'!$M$28),IF(C111=\"other1\",IF('Customer Info'!$M$29=0,AY111*'Customer Info'!$M$18,AY111*'Customer Info'!$M$29),))),)","v":0},0,{"$f":"IF($F$4=\"lunch\",IF(S111=0,,(S111/$E$5)*'Customer Info'!$D$18),)","v":0},{"$f":"IF($F$4=\"dinner\",IF(T111=0,,(T111/$E$6)*'Customer Info'!$D$18),)","v":0},{"$f":"IF($F$4=\"other\",IF(U111=0,,(U111/$E$7)*'Customer Info'!$D$18),)","v":0},0,{"$f":"IF($F$5=\"breakfast\",IF(R111=0,,(R111/$E$4)*'Customer Info'!$D$19),)","v":0},{"$f":"IF($F$5=\"dinner\",IF(T111=0,,(T111/$E$6)*'Customer Info'!$D$19),)","v":0},{"$f":"IF($F$5=\"other\",IF(U111=0,,(U111/$E$7)*'Customer Info'!$D$19),)","v":0},0,{"$f":"IF($F$6=\"breakfast\",IF(R111=0,,(R111/$E$4)*'Customer Info'!$D$20),)","v":0},{"$f":"IF($F$6=\"lunch\",IF(S111=0,,(S111/$E$5)*'Customer Info'!$D$20),)","v":0},{"$f":"IF($F$6=\"other\",IF(U111=0,,(U111/$E$7)*'Customer Info'!$D$20),)","v":0},0,{"$f":"IF($F$7=\"breakfast\",IF(R111=0,,(R111/$E$4)*'Customer Info'!$D$21),)","v":0},{"$f":"IF($F$7=\"lunch\",IF(S111=0,,(S111/$E$5)*'Customer Info'!$D$21),)","v":0},{"$f":"IF($F$7=\"dinner\",IF(T111=0,,(T111/$E$6)*'Customer Info'!$D$21),)","v":0},0,{"$f":"IF($F$10=\"lunch\",IF(W111=0,,(W111/$E$11)*'Customer Info'!$F$18),)","v":0},{"$f":"IF($F$10=\"dinner\",IF(X111=0,,(X111/$E$12)*'Customer Info'!$F$18),)","v":0},{"$f":"IF($F$10=\"other\",IF(Y111=0,,(Y111/$E$13)*'Customer Info'!$F$18),)","v":0},0,{"$f":"IF($F$11=\"breakfast\",IF(V111=0,,(V111/$E$10)*'Customer Info'!$F$19),)","v":0},{"$f":"IF($F$11=\"dinner\",IF(X111=0,,(X111/$E$12)*'Customer Info'!$F$19),)","v":0},{"$f":"IF($F$11=\"other\",IF(Y111=0,,(Y111/$E$13)*'Customer Info'!$F$19),)","v":0},0,{"$f":"IF($F$12=\"breakfast\",IF(V111=0,,(V111/$E$10)*'Customer Info'!$F$20),)","v":0},{"$f":"IF($F$12=\"lunch\",IF(W111=0,,(W111/$E$11)*'Customer Info'!$F$20),)","v":0},{"$f":"IF($F$12=\"other\",IF(Y111=0,,(Y111/$E$13)*'Customer Info'!$F$20),)","v":0},0,{"$f":"IF($F$13=\"breakfast\",IF(V111=0,,(V111/$E$10)*'Customer Info'!$F$21),)","v":0},{"$f":"IF($F$13=\"lunch\",IF(W111=0,,(W111/$E$11)*'Customer Info'!$F$21),)","v":0},{"$f":"IF($F$13=\"dinner\",IF(X111=0,,(X111/$E$12)*'Customer Info'!$F$21),)","v":0},0,{"$f":"IF($F$16=\"lunch\",IF(AA111=0,,(AA111/$E$17)*'Customer Info'!$H$18),)","v":0},{"$f":"IF($F$16=\"dinner\",IF(AB111=0,,(AB111/$E$18)*'Customer Info'!$H$18),)","v":0},{"$f":"IF($F$16=\"other\",IF(AC111=0,,(AC111/$E$19)*'Customer Info'!$H$18),)","v":0},0,{"$f":"IF($F$17=\"breakfast\",IF(Z111=0,,(Z111/$E$16)*'Customer Info'!$H$19),)","v":0},{"$f":"IF($F$17=\"dinner\",IF(AB111=0,,(AB111/$E$18)*'Customer Info'!$H$19),)","v":0},{"$f":"IF($F$17=\"other\",IF(AC111=0,,(AC111/$E$19)*'Customer Info'!$H$19),)","v":0},0,{"$f":"IF($F$18=\"breakfast\",IF(Z111=0,,(Z111/$E$16)*'Customer Info'!$H$20),)","v":0},{"$f":"IF($F$18=\"lunch\",IF(AA111=0,,(AA111/$E$17)*'Customer Info'!$H$20),)","v":0},{"$f":"IF($F$18=\"other\",IF(AC111=0,,(AC111/$E$19)*'Customer Info'!$H$20),)","v":0},0,{"$f":"IF($F$19=\"breakfast\",IF(Z111=0,,(Z111/$E$16)*'Customer Info'!$H$21),)","v":0},{"$f":"IF($F$19=\"lunch\",IF(AA111=0,,(AA111/$E$17)*'Customer Info'!$H$21),)","v":0},{"$f":"IF($F$19=\"dinner\",IF(AB111=0,,(AB111/$E$18)*'Customer Info'!$H$21),)","v":0},0,0,0,0,0,""]
[null,null,null,null,null,null,null,null,null,null,0,0,0,0,0,0,0,0,0,0,0,0,0,0,0,0,0,0,0,0,0,0,0,{"$f":"IF((OR($F$4=0,$F$4=\"none\")),IF(R112=0,,IF(OR($E$4='Customer Info'!$D$18,$E$4=0),R112,(R112/$E$4)*'Customer Info'!$D$18)),)","v":0},{"$f":"IF((OR($F$5=0,$F$5=\"none\")),IF(S112=0,,IF(OR($E$5='Customer Info'!$D$18,$E$5=0),S112,(S112/$E$5)*'Customer Info'!$D$19)),)","v":0},{"$f":"IF((OR($F$6=0,$F$6=\"none\")),IF(T112=0,,IF(OR($E$6='Customer Info'!$D$18,$E$6=0),T112,(T112/$E$6)*'Customer Info'!$D$20)),)","v":0},{"$f":"IF((OR($F$7=0,$F$7=\"none\")),IF(U112=0,,IF(OR($E$7='Customer Info'!$D$18,$E$7=0),U112,(U112/$E$7)*'Customer Info'!$D$21)),)","v":0},{"$f":"IF((OR($F$10=0,$F$10=\"none\")),IF(V112=0,,IF(OR($E$10='Customer Info'!$F$18,$E$10=0),V112,(V112/$E$10)*'Customer Info'!$F$18)),)","v":0},{"$f":"IF((OR($F$11=0,$F$11=\"none\")),IF(W112=0,,IF(OR($E$11='Customer Info'!$F$19,$E$11=0),W112,(W112/$E$11)*'Customer Info'!$F$19)),)","v":0},{"$f":"IF((OR($F$12=0,$F$12=\"none\")),IF(X112=0,,IF(OR($E$12='Customer Info'!$F$20,$E$12=0),X112,(X112/$E$12)*'Customer Info'!$F$20)),)","v":0},{"$f":"IF((OR($F$13=0,$F$13=\"none\")),IF(Y112=0,,IF(OR($E$13='Customer Info'!$F$21,$E$13=0),Y112,(Y112/$E$13)*'Customer Info'!$F$21)),)","v":0},{"$f":"IF((OR($F$16=0,$F$16=\"none\")),IF(Z112=0,,IF(OR($E$16='Customer Info'!$H$18,$E$16=0),Z112,(Z112/$E$16)*'Customer Info'!$H$18)),)","v":0},{"$f":"IF((OR($F$17=0,$F$17=\"none\")),IF(AA112=0,,IF(OR($E$17='Customer Info'!$H$19,$E$17=0),AA112,(AA112/$E$17)*'Customer Info'!$H$19)),)","v":0},{"$f":"IF((OR($F$18=0,$F$18=\"none\")),IF(AB112=0,,IF(OR($E$18='Customer Info'!$H$20,$E$18=0),AB112,(AB112/$E$18)*'Customer Info'!$H$20)),)","v":0},{"$f":"IF((OR($F$19=0,$F$19=\"none\")),IF(AC112=0,,IF(OR($E$19='Customer Info'!$H$21,$E$19=0),AC112,(AC112/$E$19)*'Customer Info'!$H$21)),)","v":0},{"$f":"IF((OR($F$4=0,$F$4=\"none\")),IF(AD112=0,,IF(OR($E$4='Customer Info'!$D$18,$E$4=0),AD112,(AD112/$E$4)*'Customer Info'!$D$18)),)","v":0},{"$f":"IF((OR($F$5=0,$F$5=\"none\")),IF(AE112=0,,IF(OR($E$5='Customer Info'!$D$19,$E$5=0),AE112,(AE112/$E$5)*'Customer Info'!$D$19)),)","v":0},{"$f":"IF((OR($F$6=0,$F$6=\"none\")),IF(AF112=0,,IF(OR($E$6='Customer Info'!$D$20,$E$6=0),AF112,(AF112/$E$6)*'Customer Info'!$D$20)),)","v":0},{"$f":"IF((OR($F$7=0,$F$7=\"none\")),IF(AG112=0,,IF(OR($E$7='Customer Info'!$D$21,$E$7=0),AG112,(AG112/$E$7)*'Customer Info'!$D$21)),)","v":0},0,0,{"$f":"IF(E112=\"plate waste\",,IF('Customer Info'!$M$18=0,'Log Sheet'!AY112,'Customer Info'!$M$18*'Log Sheet'!AY112))","v":0},{"$f":"IF(E112=\"plate waste\",IF(OR(C112=\"patient\",C112=\"patient beverages\"),IF('Customer Info'!$M$27=0,AY112*'Customer Info'!$M$18,AY112*'Customer Info'!$M$27),IF(C112=\"cafeteria\",IF('Customer Info'!$M$28=0,AY112*'Customer Info'!$M$18,AY112*'Customer Info'!$M$28),IF(C112=\"other1\",IF('Customer Info'!$M$29=0,AY112*'Customer Info'!$M$18,AY112*'Customer Info'!$M$29),))),)","v":0},0,{"$f":"IF($F$4=\"lunch\",IF(S112=0,,(S112/$E$5)*'Customer Info'!$D$18),)","v":0},{"$f":"IF($F$4=\"dinner\",IF(T112=0,,(T112/$E$6)*'Customer Info'!$D$18),)","v":0},{"$f":"IF($F$4=\"other\",IF(U112=0,,(U112/$E$7)*'Customer Info'!$D$18),)","v":0},0,{"$f":"IF($F$5=\"breakfast\",IF(R112=0,,(R112/$E$4)*'Customer Info'!$D$19),)","v":0},{"$f":"IF($F$5=\"dinner\",IF(T112=0,,(T112/$E$6)*'Customer Info'!$D$19),)","v":0},{"$f":"IF($F$5=\"other\",IF(U112=0,,(U112/$E$7)*'Customer Info'!$D$19),)","v":0},0,{"$f":"IF($F$6=\"breakfast\",IF(R112=0,,(R112/$E$4)*'Customer Info'!$D$20),)","v":0},{"$f":"IF($F$6=\"lunch\",IF(S112=0,,(S112/$E$5)*'Customer Info'!$D$20),)","v":0},{"$f":"IF($F$6=\"other\",IF(U112=0,,(U112/$E$7)*'Customer Info'!$D$20),)","v":0},0,{"$f":"IF($F$7=\"breakfast\",IF(R112=0,,(R112/$E$4)*'Customer Info'!$D$21),)","v":0},{"$f":"IF($F$7=\"lunch\",IF(S112=0,,(S112/$E$5)*'Customer Info'!$D$21),)","v":0},{"$f":"IF($F$7=\"dinner\",IF(T112=0,,(T112/$E$6)*'Customer Info'!$D$21),)","v":0},0,{"$f":"IF($F$10=\"lunch\",IF(W112=0,,(W112/$E$11)*'Customer Info'!$F$18),)","v":0},{"$f":"IF($F$10=\"dinner\",IF(X112=0,,(X112/$E$12)*'Customer Info'!$F$18),)","v":0},{"$f":"IF($F$10=\"other\",IF(Y112=0,,(Y112/$E$13)*'Customer Info'!$F$18),)","v":0},0,{"$f":"IF($F$11=\"breakfast\",IF(V112=0,,(V112/$E$10)*'Customer Info'!$F$19),)","v":0},{"$f":"IF($F$11=\"dinner\",IF(X112=0,,(X112/$E$12)*'Customer Info'!$F$19),)","v":0},{"$f":"IF($F$11=\"other\",IF(Y112=0,,(Y112/$E$13)*'Customer Info'!$F$19),)","v":0},0,{"$f":"IF($F$12=\"breakfast\",IF(V112=0,,(V112/$E$10)*'Customer Info'!$F$20),)","v":0},{"$f":"IF($F$12=\"lunch\",IF(W112=0,,(W112/$E$11)*'Customer Info'!$F$20),)","v":0},{"$f":"IF($F$12=\"other\",IF(Y112=0,,(Y112/$E$13)*'Customer Info'!$F$20),)","v":0},0,{"$f":"IF($F$13=\"breakfast\",IF(V112=0,,(V112/$E$10)*'Customer Info'!$F$21),)","v":0},{"$f":"IF($F$13=\"lunch\",IF(W112=0,,(W112/$E$11)*'Customer Info'!$F$21),)","v":0},{"$f":"IF($F$13=\"dinner\",IF(X112=0,,(X112/$E$12)*'Customer Info'!$F$21),)","v":0},0,{"$f":"IF($F$16=\"lunch\",IF(AA112=0,,(AA112/$E$17)*'Customer Info'!$H$18),)","v":0},{"$f":"IF($F$16=\"dinner\",IF(AB112=0,,(AB112/$E$18)*'Customer Info'!$H$18),)","v":0},{"$f":"IF($F$16=\"other\",IF(AC112=0,,(AC112/$E$19)*'Customer Info'!$H$18),)","v":0},0,{"$f":"IF($F$17=\"breakfast\",IF(Z112=0,,(Z112/$E$16)*'Customer Info'!$H$19),)","v":0},{"$f":"IF($F$17=\"dinner\",IF(AB112=0,,(AB112/$E$18)*'Customer Info'!$H$19),)","v":0},{"$f":"IF($F$17=\"other\",IF(AC112=0,,(AC112/$E$19)*'Customer Info'!$H$19),)","v":0},0,{"$f":"IF($F$18=\"breakfast\",IF(Z112=0,,(Z112/$E$16)*'Customer Info'!$H$20),)","v":0},{"$f":"IF($F$18=\"lunch\",IF(AA112=0,,(AA112/$E$17)*'Customer Info'!$H$20),)","v":0},{"$f":"IF($F$18=\"other\",IF(AC112=0,,(AC112/$E$19)*'Customer Info'!$H$20),)","v":0},0,{"$f":"IF($F$19=\"breakfast\",IF(Z112=0,,(Z112/$E$16)*'Customer Info'!$H$21),)","v":0},{"$f":"IF($F$19=\"lunch\",IF(AA112=0,,(AA112/$E$17)*'Customer Info'!$H$21),)","v":0},{"$f":"IF($F$19=\"dinner\",IF(AB112=0,,(AB112/$E$18)*'Customer Info'!$H$21),)","v":0},0,0,0,0,0,""]
[null,null,null,null,null,null,null,null,null,null,0,0,0,0,0,0,0,0,0,0,0,0,0,0,0,0,0,0,0,0,0,0,0,{"$f":"IF((OR($F$4=0,$F$4=\"none\")),IF(R113=0,,IF(OR($E$4='Customer Info'!$D$18,$E$4=0),R113,(R113/$E$4)*'Customer Info'!$D$18)),)","v":0},{"$f":"IF((OR($F$5=0,$F$5=\"none\")),IF(S113=0,,IF(OR($E$5='Customer Info'!$D$18,$E$5=0),S113,(S113/$E$5)*'Customer Info'!$D$19)),)","v":0},{"$f":"IF((OR($F$6=0,$F$6=\"none\")),IF(T113=0,,IF(OR($E$6='Customer Info'!$D$18,$E$6=0),T113,(T113/$E$6)*'Customer Info'!$D$20)),)","v":0},{"$f":"IF((OR($F$7=0,$F$7=\"none\")),IF(U113=0,,IF(OR($E$7='Customer Info'!$D$18,$E$7=0),U113,(U113/$E$7)*'Customer Info'!$D$21)),)","v":0},{"$f":"IF((OR($F$10=0,$F$10=\"none\")),IF(V113=0,,IF(OR($E$10='Customer Info'!$F$18,$E$10=0),V113,(V113/$E$10)*'Customer Info'!$F$18)),)","v":0},{"$f":"IF((OR($F$11=0,$F$11=\"none\")),IF(W113=0,,IF(OR($E$11='Customer Info'!$F$19,$E$11=0),W113,(W113/$E$11)*'Customer Info'!$F$19)),)","v":0},{"$f":"IF((OR($F$12=0,$F$12=\"none\")),IF(X113=0,,IF(OR($E$12='Customer Info'!$F$20,$E$12=0),X113,(X113/$E$12)*'Customer Info'!$F$20)),)","v":0},{"$f":"IF((OR($F$13=0,$F$13=\"none\")),IF(Y113=0,,IF(OR($E$13='Customer Info'!$F$21,$E$13=0),Y113,(Y113/$E$13)*'Customer Info'!$F$21)),)","v":0},{"$f":"IF((OR($F$16=0,$F$16=\"none\")),IF(Z113=0,,IF(OR($E$16='Customer Info'!$H$18,$E$16=0),Z113,(Z113/$E$16)*'Customer Info'!$H$18)),)","v":0},{"$f":"IF((OR($F$17=0,$F$17=\"none\")),IF(AA113=0,,IF(OR($E$17='Customer Info'!$H$19,$E$17=0),AA113,(AA113/$E$17)*'Customer Info'!$H$19)),)","v":0},{"$f":"IF((OR($F$18=0,$F$18=\"none\")),IF(AB113=0,,IF(OR($E$18='Customer Info'!$H$20,$E$18=0),AB113,(AB113/$E$18)*'Customer Info'!$H$20)),)","v":0},{"$f":"IF((OR($F$19=0,$F$19=\"none\")),IF(AC113=0,,IF(OR($E$19='Customer Info'!$H$21,$E$19=0),AC113,(AC113/$E$19)*'Customer Info'!$H$21)),)","v":0},{"$f":"IF((OR($F$4=0,$F$4=\"none\")),IF(AD113=0,,IF(OR($E$4='Customer Info'!$D$18,$E$4=0),AD113,(AD113/$E$4)*'Customer Info'!$D$18)),)","v":0},{"$f":"IF((OR($F$5=0,$F$5=\"none\")),IF(AE113=0,,IF(OR($E$5='Customer Info'!$D$19,$E$5=0),AE113,(AE113/$E$5)*'Customer Info'!$D$19)),)","v":0},{"$f":"IF((OR($F$6=0,$F$6=\"none\")),IF(AF113=0,,IF(OR($E$6='Customer Info'!$D$20,$E$6=0),AF113,(AF113/$E$6)*'Customer Info'!$D$20)),)","v":0},{"$f":"IF((OR($F$7=0,$F$7=\"none\")),IF(AG113=0,,IF(OR($E$7='Customer Info'!$D$21,$E$7=0),AG113,(AG113/$E$7)*'Customer Info'!$D$21)),)","v":0},0,0,{"$f":"IF(E113=\"plate waste\",,IF('Customer Info'!$M$18=0,'Log Sheet'!AY113,'Customer Info'!$M$18*'Log Sheet'!AY113))","v":0},{"$f":"IF(E113=\"plate waste\",IF(OR(C113=\"patient\",C113=\"patient beverages\"),IF('Customer Info'!$M$27=0,AY113*'Customer Info'!$M$18,AY113*'Customer Info'!$M$27),IF(C113=\"cafeteria\",IF('Customer Info'!$M$28=0,AY113*'Customer Info'!$M$18,AY113*'Customer Info'!$M$28),IF(C113=\"other1\",IF('Customer Info'!$M$29=0,AY113*'Customer Info'!$M$18,AY113*'Customer Info'!$M$29),))),)","v":0},0,{"$f":"IF($F$4=\"lunch\",IF(S113=0,,(S113/$E$5)*'Customer Info'!$D$18),)","v":0},{"$f":"IF($F$4=\"dinner\",IF(T113=0,,(T113/$E$6)*'Customer Info'!$D$18),)","v":0},{"$f":"IF($F$4=\"other\",IF(U113=0,,(U113/$E$7)*'Customer Info'!$D$18),)","v":0},0,{"$f":"IF($F$5=\"breakfast\",IF(R113=0,,(R113/$E$4)*'Customer Info'!$D$19),)","v":0},{"$f":"IF($F$5=\"dinner\",IF(T113=0,,(T113/$E$6)*'Customer Info'!$D$19),)","v":0},{"$f":"IF($F$5=\"other\",IF(U113=0,,(U113/$E$7)*'Customer Info'!$D$19),)","v":0},0,{"$f":"IF($F$6=\"breakfast\",IF(R113=0,,(R113/$E$4)*'Customer Info'!$D$20),)","v":0},{"$f":"IF($F$6=\"lunch\",IF(S113=0,,(S113/$E$5)*'Customer Info'!$D$20),)","v":0},{"$f":"IF($F$6=\"other\",IF(U113=0,,(U113/$E$7)*'Customer Info'!$D$20),)","v":0},0,{"$f":"IF($F$7=\"breakfast\",IF(R113=0,,(R113/$E$4)*'Customer Info'!$D$21),)","v":0},{"$f":"IF($F$7=\"lunch\",IF(S113=0,,(S113/$E$5)*'Customer Info'!$D$21),)","v":0},{"$f":"IF($F$7=\"dinner\",IF(T113=0,,(T113/$E$6)*'Customer Info'!$D$21),)","v":0},0,{"$f":"IF($F$10=\"lunch\",IF(W113=0,,(W113/$E$11)*'Customer Info'!$F$18),)","v":0},{"$f":"IF($F$10=\"dinner\",IF(X113=0,,(X113/$E$12)*'Customer Info'!$F$18),)","v":0},{"$f":"IF($F$10=\"other\",IF(Y113=0,,(Y113/$E$13)*'Customer Info'!$F$18),)","v":0},0,{"$f":"IF($F$11=\"breakfast\",IF(V113=0,,(V113/$E$10)*'Customer Info'!$F$19),)","v":0},{"$f":"IF($F$11=\"dinner\",IF(X113=0,,(X113/$E$12)*'Customer Info'!$F$19),)","v":0},{"$f":"IF($F$11=\"other\",IF(Y113=0,,(Y113/$E$13)*'Customer Info'!$F$19),)","v":0},0,{"$f":"IF($F$12=\"breakfast\",IF(V113=0,,(V113/$E$10)*'Customer Info'!$F$20),)","v":0},{"$f":"IF($F$12=\"lunch\",IF(W113=0,,(W113/$E$11)*'Customer Info'!$F$20),)","v":0},{"$f":"IF($F$12=\"other\",IF(Y113=0,,(Y113/$E$13)*'Customer Info'!$F$20),)","v":0},0,{"$f":"IF($F$13=\"breakfast\",IF(V113=0,,(V113/$E$10)*'Customer Info'!$F$21),)","v":0},{"$f":"IF($F$13=\"lunch\",IF(W113=0,,(W113/$E$11)*'Customer Info'!$F$21),)","v":0},{"$f":"IF($F$13=\"dinner\",IF(X113=0,,(X113/$E$12)*'Customer Info'!$F$21),)","v":0},0,{"$f":"IF($F$16=\"lunch\",IF(AA113=0,,(AA113/$E$17)*'Customer Info'!$H$18),)","v":0},{"$f":"IF($F$16=\"dinner\",IF(AB113=0,,(AB113/$E$18)*'Customer Info'!$H$18),)","v":0},{"$f":"IF($F$16=\"other\",IF(AC113=0,,(AC113/$E$19)*'Customer Info'!$H$18),)","v":0},0,{"$f":"IF($F$17=\"breakfast\",IF(Z113=0,,(Z113/$E$16)*'Customer Info'!$H$19),)","v":0},{"$f":"IF($F$17=\"dinner\",IF(AB113=0,,(AB113/$E$18)*'Customer Info'!$H$19),)","v":0},{"$f":"IF($F$17=\"other\",IF(AC113=0,,(AC113/$E$19)*'Customer Info'!$H$19),)","v":0},0,{"$f":"IF($F$18=\"breakfast\",IF(Z113=0,,(Z113/$E$16)*'Customer Info'!$H$20),)","v":0},{"$f":"IF($F$18=\"lunch\",IF(AA113=0,,(AA113/$E$17)*'Customer Info'!$H$20),)","v":0},{"$f":"IF($F$18=\"other\",IF(AC113=0,,(AC113/$E$19)*'Customer Info'!$H$20),)","v":0},0,{"$f":"IF($F$19=\"breakfast\",IF(Z113=0,,(Z113/$E$16)*'Customer Info'!$H$21),)","v":0},{"$f":"IF($F$19=\"lunch\",IF(AA113=0,,(AA113/$E$17)*'Customer Info'!$H$21),)","v":0},{"$f":"IF($F$19=\"dinner\",IF(AB113=0,,(AB113/$E$18)*'Customer Info'!$H$21),)","v":0},0,0,0,0,0,""]
[null,null,null,null,null,null,null,null,null,null,0,0,0,0,0,0,0,0,0,0,0,0,0,0,0,0,0,0,0,0,0,0,0,{"$f":"IF((OR($F$4=0,$F$4=\"none\")),IF(R114=0,,IF(OR($E$4='Customer Info'!$D$18,$E$4=0),R114,(R114/$E$4)*'Customer Info'!$D$18)),)","v":0},{"$f":"IF((OR($F$5=0,$F$5=\"none\")),IF(S114=0,,IF(OR($E$5='Customer Info'!$D$18,$E$5=0),S114,(S114/$E$5)*'Customer Info'!$D$19)),)","v":0},{"$f":"IF((OR($F$6=0,$F$6=\"none\")),IF(T114=0,,IF(OR($E$6='Customer Info'!$D$18,$E$6=0),T114,(T114/$E$6)*'Customer Info'!$D$20)),)","v":0},{"$f":"IF((OR($F$7=0,$F$7=\"none\")),IF(U114=0,,IF(OR($E$7='Customer Info'!$D$18,$E$7=0),U114,(U114/$E$7)*'Customer Info'!$D$21)),)","v":0},{"$f":"IF((OR($F$10=0,$F$10=\"none\")),IF(V114=0,,IF(OR($E$10='Customer Info'!$F$18,$E$10=0),V114,(V114/$E$10)*'Customer Info'!$F$18)),)","v":0},{"$f":"IF((OR($F$11=0,$F$11=\"none\")),IF(W114=0,,IF(OR($E$11='Customer Info'!$F$19,$E$11=0),W114,(W114/$E$11)*'Customer Info'!$F$19)),)","v":0},{"$f":"IF((OR($F$12=0,$F$12=\"none\")),IF(X114=0,,IF(OR($E$12='Customer Info'!$F$20,$E$12=0),X114,(X114/$E$12)*'Customer Info'!$F$20)),)","v":0},{"$f":"IF((OR($F$13=0,$F$13=\"none\")),IF(Y114=0,,IF(OR($E$13='Customer Info'!$F$21,$E$13=0),Y114,(Y114/$E$13)*'Customer Info'!$F$21)),)","v":0},{"$f":"IF((OR($F$16=0,$F$16=\"none\")),IF(Z114=0,,IF(OR($E$16='Customer Info'!$H$18,$E$16=0),Z114,(Z114/$E$16)*'Customer Info'!$H$18)),)","v":0},{"$f":"IF((OR($F$17=0,$F$17=\"none\")),IF(AA114=0,,IF(OR($E$17='Customer Info'!$H$19,$E$17=0),AA114,(AA114/$E$17)*'Customer Info'!$H$19)),)","v":0},{"$f":"IF((OR($F$18=0,$F$18=\"none\")),IF(AB114=0,,IF(OR($E$18='Customer Info'!$H$20,$E$18=0),AB114,(AB114/$E$18)*'Customer Info'!$H$20)),)","v":0},{"$f":"IF((OR($F$19=0,$F$19=\"none\")),IF(AC114=0,,IF(OR($E$19='Customer Info'!$H$21,$E$19=0),AC114,(AC114/$E$19)*'Customer Info'!$H$21)),)","v":0},{"$f":"IF((OR($F$4=0,$F$4=\"none\")),IF(AD114=0,,IF(OR($E$4='Customer Info'!$D$18,$E$4=0),AD114,(AD114/$E$4)*'Customer Info'!$D$18)),)","v":0},{"$f":"IF((OR($F$5=0,$F$5=\"none\")),IF(AE114=0,,IF(OR($E$5='Customer Info'!$D$19,$E$5=0),AE114,(AE114/$E$5)*'Customer Info'!$D$19)),)","v":0},{"$f":"IF((OR($F$6=0,$F$6=\"none\")),IF(AF114=0,,IF(OR($E$6='Customer Info'!$D$20,$E$6=0),AF114,(AF114/$E$6)*'Customer Info'!$D$20)),)","v":0},{"$f":"IF((OR($F$7=0,$F$7=\"none\")),IF(AG114=0,,IF(OR($E$7='Customer Info'!$D$21,$E$7=0),AG114,(AG114/$E$7)*'Customer Info'!$D$21)),)","v":0},0,0,{"$f":"IF(E114=\"plate waste\",,IF('Customer Info'!$M$18=0,'Log Sheet'!AY114,'Customer Info'!$M$18*'Log Sheet'!AY114))","v":0},{"$f":"IF(E114=\"plate waste\",IF(OR(C114=\"patient\",C114=\"patient beverages\"),IF('Customer Info'!$M$27=0,AY114*'Customer Info'!$M$18,AY114*'Customer Info'!$M$27),IF(C114=\"cafeteria\",IF('Customer Info'!$M$28=0,AY114*'Customer Info'!$M$18,AY114*'Customer Info'!$M$28),IF(C114=\"other1\",IF('Customer Info'!$M$29=0,AY114*'Customer Info'!$M$18,AY114*'Customer Info'!$M$29),))),)","v":0},0,{"$f":"IF($F$4=\"lunch\",IF(S114=0,,(S114/$E$5)*'Customer Info'!$D$18),)","v":0},{"$f":"IF($F$4=\"dinner\",IF(T114=0,,(T114/$E$6)*'Customer Info'!$D$18),)","v":0},{"$f":"IF($F$4=\"other\",IF(U114=0,,(U114/$E$7)*'Customer Info'!$D$18),)","v":0},0,{"$f":"IF($F$5=\"breakfast\",IF(R114=0,,(R114/$E$4)*'Customer Info'!$D$19),)","v":0},{"$f":"IF($F$5=\"dinner\",IF(T114=0,,(T114/$E$6)*'Customer Info'!$D$19),)","v":0},{"$f":"IF($F$5=\"other\",IF(U114=0,,(U114/$E$7)*'Customer Info'!$D$19),)","v":0},0,{"$f":"IF($F$6=\"breakfast\",IF(R114=0,,(R114/$E$4)*'Customer Info'!$D$20),)","v":0},{"$f":"IF($F$6=\"lunch\",IF(S114=0,,(S114/$E$5)*'Customer Info'!$D$20),)","v":0},{"$f":"IF($F$6=\"other\",IF(U114=0,,(U114/$E$7)*'Customer Info'!$D$20),)","v":0},0,{"$f":"IF($F$7=\"breakfast\",IF(R114=0,,(R114/$E$4)*'Customer Info'!$D$21),)","v":0},{"$f":"IF($F$7=\"lunch\",IF(S114=0,,(S114/$E$5)*'Customer Info'!$D$21),)","v":0},{"$f":"IF($F$7=\"dinner\",IF(T114=0,,(T114/$E$6)*'Customer Info'!$D$21),)","v":0},0,{"$f":"IF($F$10=\"lunch\",IF(W114=0,,(W114/$E$11)*'Customer Info'!$F$18),)","v":0},{"$f":"IF($F$10=\"dinner\",IF(X114=0,,(X114/$E$12)*'Customer Info'!$F$18),)","v":0},{"$f":"IF($F$10=\"other\",IF(Y114=0,,(Y114/$E$13)*'Customer Info'!$F$18),)","v":0},0,{"$f":"IF($F$11=\"breakfast\",IF(V114=0,,(V114/$E$10)*'Customer Info'!$F$19),)","v":0},{"$f":"IF($F$11=\"dinner\",IF(X114=0,,(X114/$E$12)*'Customer Info'!$F$19),)","v":0},{"$f":"IF($F$11=\"other\",IF(Y114=0,,(Y114/$E$13)*'Customer Info'!$F$19),)","v":0},0,{"$f":"IF($F$12=\"breakfast\",IF(V114=0,,(V114/$E$10)*'Customer Info'!$F$20),)","v":0},{"$f":"IF($F$12=\"lunch\",IF(W114=0,,(W114/$E$11)*'Customer Info'!$F$20),)","v":0},{"$f":"IF($F$12=\"other\",IF(Y114=0,,(Y114/$E$13)*'Customer Info'!$F$20),)","v":0},0,{"$f":"IF($F$13=\"breakfast\",IF(V114=0,,(V114/$E$10)*'Customer Info'!$F$21),)","v":0},{"$f":"IF($F$13=\"lunch\",IF(W114=0,,(W114/$E$11)*'Customer Info'!$F$21),)","v":0},{"$f":"IF($F$13=\"dinner\",IF(X114=0,,(X114/$E$12)*'Customer Info'!$F$21),)","v":0},0,{"$f":"IF($F$16=\"lunch\",IF(AA114=0,,(AA114/$E$17)*'Customer Info'!$H$18),)","v":0},{"$f":"IF($F$16=\"dinner\",IF(AB114=0,,(AB114/$E$18)*'Customer Info'!$H$18),)","v":0},{"$f":"IF($F$16=\"other\",IF(AC114=0,,(AC114/$E$19)*'Customer Info'!$H$18),)","v":0},0,{"$f":"IF($F$17=\"breakfast\",IF(Z114=0,,(Z114/$E$16)*'Customer Info'!$H$19),)","v":0},{"$f":"IF($F$17=\"dinner\",IF(AB114=0,,(AB114/$E$18)*'Customer Info'!$H$19),)","v":0},{"$f":"IF($F$17=\"other\",IF(AC114=0,,(AC114/$E$19)*'Customer Info'!$H$19),)","v":0},0,{"$f":"IF($F$18=\"breakfast\",IF(Z114=0,,(Z114/$E$16)*'Customer Info'!$H$20),)","v":0},{"$f":"IF($F$18=\"lunch\",IF(AA114=0,,(AA114/$E$17)*'Customer Info'!$H$20),)","v":0},{"$f":"IF($F$18=\"other\",IF(AC114=0,,(AC114/$E$19)*'Customer Info'!$H$20),)","v":0},0,{"$f":"IF($F$19=\"breakfast\",IF(Z114=0,,(Z114/$E$16)*'Customer Info'!$H$21),)","v":0},{"$f":"IF($F$19=\"lunch\",IF(AA114=0,,(AA114/$E$17)*'Customer Info'!$H$21),)","v":0},{"$f":"IF($F$19=\"dinner\",IF(AB114=0,,(AB114/$E$18)*'Customer Info'!$H$21),)","v":0},0,0,0,0,0,""]
[null,null,null,null,null,null,null,null,null,null,0,0,0,0,0,0,0,0,0,0,0,0,0,0,0,0,0,0,0,0,0,0,0,{"$f":"IF((OR($F$4=0,$F$4=\"none\")),IF(R115=0,,IF(OR($E$4='Customer Info'!$D$18,$E$4=0),R115,(R115/$E$4)*'Customer Info'!$D$18)),)","v":0},{"$f":"IF((OR($F$5=0,$F$5=\"none\")),IF(S115=0,,IF(OR($E$5='Customer Info'!$D$18,$E$5=0),S115,(S115/$E$5)*'Customer Info'!$D$19)),)","v":0},{"$f":"IF((OR($F$6=0,$F$6=\"none\")),IF(T115=0,,IF(OR($E$6='Customer Info'!$D$18,$E$6=0),T115,(T115/$E$6)*'Customer Info'!$D$20)),)","v":0},{"$f":"IF((OR($F$7=0,$F$7=\"none\")),IF(U115=0,,IF(OR($E$7='Customer Info'!$D$18,$E$7=0),U115,(U115/$E$7)*'Customer Info'!$D$21)),)","v":0},{"$f":"IF((OR($F$10=0,$F$10=\"none\")),IF(V115=0,,IF(OR($E$10='Customer Info'!$F$18,$E$10=0),V115,(V115/$E$10)*'Customer Info'!$F$18)),)","v":0},{"$f":"IF((OR($F$11=0,$F$11=\"none\")),IF(W115=0,,IF(OR($E$11='Customer Info'!$F$19,$E$11=0),W115,(W115/$E$11)*'Customer Info'!$F$19)),)","v":0},{"$f":"IF((OR($F$12=0,$F$12=\"none\")),IF(X115=0,,IF(OR($E$12='Customer Info'!$F$20,$E$12=0),X115,(X115/$E$12)*'Customer Info'!$F$20)),)","v":0},{"$f":"IF((OR($F$13=0,$F$13=\"none\")),IF(Y115=0,,IF(OR($E$13='Customer Info'!$F$21,$E$13=0),Y115,(Y115/$E$13)*'Customer Info'!$F$21)),)","v":0},{"$f":"IF((OR($F$16=0,$F$16=\"none\")),IF(Z115=0,,IF(OR($E$16='Customer Info'!$H$18,$E$16=0),Z115,(Z115/$E$16)*'Customer Info'!$H$18)),)","v":0},{"$f":"IF((OR($F$17=0,$F$17=\"none\")),IF(AA115=0,,IF(OR($E$17='Customer Info'!$H$19,$E$17=0),AA115,(AA115/$E$17)*'Customer Info'!$H$19)),)","v":0},{"$f":"IF((OR($F$18=0,$F$18=\"none\")),IF(AB115=0,,IF(OR($E$18='Customer Info'!$H$20,$E$18=0),AB115,(AB115/$E$18)*'Customer Info'!$H$20)),)","v":0},{"$f":"IF((OR($F$19=0,$F$19=\"none\")),IF(AC115=0,,IF(OR($E$19='Customer Info'!$H$21,$E$19=0),AC115,(AC115/$E$19)*'Customer Info'!$H$21)),)","v":0},{"$f":"IF((OR($F$4=0,$F$4=\"none\")),IF(AD115=0,,IF(OR($E$4='Customer Info'!$D$18,$E$4=0),AD115,(AD115/$E$4)*'Customer Info'!$D$18)),)","v":0},{"$f":"IF((OR($F$5=0,$F$5=\"none\")),IF(AE115=0,,IF(OR($E$5='Customer Info'!$D$19,$E$5=0),AE115,(AE115/$E$5)*'Customer Info'!$D$19)),)","v":0},{"$f":"IF((OR($F$6=0,$F$6=\"none\")),IF(AF115=0,,IF(OR($E$6='Customer Info'!$D$20,$E$6=0),AF115,(AF115/$E$6)*'Customer Info'!$D$20)),)","v":0},{"$f":"IF((OR($F$7=0,$F$7=\"none\")),IF(AG115=0,,IF(OR($E$7='Customer Info'!$D$21,$E$7=0),AG115,(AG115/$E$7)*'Customer Info'!$D$21)),)","v":0},0,0,{"$f":"IF(E115=\"plate waste\",,IF('Customer Info'!$M$18=0,'Log Sheet'!AY115,'Customer Info'!$M$18*'Log Sheet'!AY115))","v":0},{"$f":"IF(E115=\"plate waste\",IF(OR(C115=\"patient\",C115=\"patient beverages\"),IF('Customer Info'!$M$27=0,AY115*'Customer Info'!$M$18,AY115*'Customer Info'!$M$27),IF(C115=\"cafeteria\",IF('Customer Info'!$M$28=0,AY115*'Customer Info'!$M$18,AY115*'Customer Info'!$M$28),IF(C115=\"other1\",IF('Customer Info'!$M$29=0,AY115*'Customer Info'!$M$18,AY115*'Customer Info'!$M$29),))),)","v":0},0,{"$f":"IF($F$4=\"lunch\",IF(S115=0,,(S115/$E$5)*'Customer Info'!$D$18),)","v":0},{"$f":"IF($F$4=\"dinner\",IF(T115=0,,(T115/$E$6)*'Customer Info'!$D$18),)","v":0},{"$f":"IF($F$4=\"other\",IF(U115=0,,(U115/$E$7)*'Customer Info'!$D$18),)","v":0},0,{"$f":"IF($F$5=\"breakfast\",IF(R115=0,,(R115/$E$4)*'Customer Info'!$D$19),)","v":0},{"$f":"IF($F$5=\"dinner\",IF(T115=0,,(T115/$E$6)*'Customer Info'!$D$19),)","v":0},{"$f":"IF($F$5=\"other\",IF(U115=0,,(U115/$E$7)*'Customer Info'!$D$19),)","v":0},0,{"$f":"IF($F$6=\"breakfast\",IF(R115=0,,(R115/$E$4)*'Customer Info'!$D$20),)","v":0},{"$f":"IF($F$6=\"lunch\",IF(S115=0,,(S115/$E$5)*'Customer Info'!$D$20),)","v":0},{"$f":"IF($F$6=\"other\",IF(U115=0,,(U115/$E$7)*'Customer Info'!$D$20),)","v":0},0,{"$f":"IF($F$7=\"breakfast\",IF(R115=0,,(R115/$E$4)*'Customer Info'!$D$21),)","v":0},{"$f":"IF($F$7=\"lunch\",IF(S115=0,,(S115/$E$5)*'Customer Info'!$D$21),)","v":0},{"$f":"IF($F$7=\"dinner\",IF(T115=0,,(T115/$E$6)*'Customer Info'!$D$21),)","v":0},0,{"$f":"IF($F$10=\"lunch\",IF(W115=0,,(W115/$E$11)*'Customer Info'!$F$18),)","v":0},{"$f":"IF($F$10=\"dinner\",IF(X115=0,,(X115/$E$12)*'Customer Info'!$F$18),)","v":0},{"$f":"IF($F$10=\"other\",IF(Y115=0,,(Y115/$E$13)*'Customer Info'!$F$18),)","v":0},0,{"$f":"IF($F$11=\"breakfast\",IF(V115=0,,(V115/$E$10)*'Customer Info'!$F$19),)","v":0},{"$f":"IF($F$11=\"dinner\",IF(X115=0,,(X115/$E$12)*'Customer Info'!$F$19),)","v":0},{"$f":"IF($F$11=\"other\",IF(Y115=0,,(Y115/$E$13)*'Customer Info'!$F$19),)","v":0},0,{"$f":"IF($F$12=\"breakfast\",IF(V115=0,,(V115/$E$10)*'Customer Info'!$F$20),)","v":0},{"$f":"IF($F$12=\"lunch\",IF(W115=0,,(W115/$E$11)*'Customer Info'!$F$20),)","v":0},{"$f":"IF($F$12=\"other\",IF(Y115=0,,(Y115/$E$13)*'Customer Info'!$F$20),)","v":0},0,{"$f":"IF($F$13=\"breakfast\",IF(V115=0,,(V115/$E$10)*'Customer Info'!$F$21),)","v":0},{"$f":"IF($F$13=\"lunch\",IF(W115=0,,(W115/$E$11)*'Customer Info'!$F$21),)","v":0},{"$f":"IF($F$13=\"dinner\",IF(X115=0,,(X115/$E$12)*'Customer Info'!$F$21),)","v":0},0,{"$f":"IF($F$16=\"lunch\",IF(AA115=0,,(AA115/$E$17)*'Customer Info'!$H$18),)","v":0},{"$f":"IF($F$16=\"dinner\",IF(AB115=0,,(AB115/$E$18)*'Customer Info'!$H$18),)","v":0},{"$f":"IF($F$16=\"other\",IF(AC115=0,,(AC115/$E$19)*'Customer Info'!$H$18),)","v":0},0,{"$f":"IF($F$17=\"breakfast\",IF(Z115=0,,(Z115/$E$16)*'Customer Info'!$H$19),)","v":0},{"$f":"IF($F$17=\"dinner\",IF(AB115=0,,(AB115/$E$18)*'Customer Info'!$H$19),)","v":0},{"$f":"IF($F$17=\"other\",IF(AC115=0,,(AC115/$E$19)*'Customer Info'!$H$19),)","v":0},0,{"$f":"IF($F$18=\"breakfast\",IF(Z115=0,,(Z115/$E$16)*'Customer Info'!$H$20),)","v":0},{"$f":"IF($F$18=\"lunch\",IF(AA115=0,,(AA115/$E$17)*'Customer Info'!$H$20),)","v":0},{"$f":"IF($F$18=\"other\",IF(AC115=0,,(AC115/$E$19)*'Customer Info'!$H$20),)","v":0},0,{"$f":"IF($F$19=\"breakfast\",IF(Z115=0,,(Z115/$E$16)*'Customer Info'!$H$21),)","v":0},{"$f":"IF($F$19=\"lunch\",IF(AA115=0,,(AA115/$E$17)*'Customer Info'!$H$21),)","v":0},{"$f":"IF($F$19=\"dinner\",IF(AB115=0,,(AB115/$E$18)*'Customer Info'!$H$21),)","v":0},0,0,0,0,0,""]
[null,null,null,null,null,null,null,null,null,null,0,0,0,0,0,0,0,0,0,0,0,0,0,0,0,0,0,0,0,0,0,0,0,{"$f":"IF((OR($F$4=0,$F$4=\"none\")),IF(R116=0,,IF(OR($E$4='Customer Info'!$D$18,$E$4=0),R116,(R116/$E$4)*'Customer Info'!$D$18)),)","v":0},{"$f":"IF((OR($F$5=0,$F$5=\"none\")),IF(S116=0,,IF(OR($E$5='Customer Info'!$D$18,$E$5=0),S116,(S116/$E$5)*'Customer Info'!$D$19)),)","v":0},{"$f":"IF((OR($F$6=0,$F$6=\"none\")),IF(T116=0,,IF(OR($E$6='Customer Info'!$D$18,$E$6=0),T116,(T116/$E$6)*'Customer Info'!$D$20)),)","v":0},{"$f":"IF((OR($F$7=0,$F$7=\"none\")),IF(U116=0,,IF(OR($E$7='Customer Info'!$D$18,$E$7=0),U116,(U116/$E$7)*'Customer Info'!$D$21)),)","v":0},{"$f":"IF((OR($F$10=0,$F$10=\"none\")),IF(V116=0,,IF(OR($E$10='Customer Info'!$F$18,$E$10=0),V116,(V116/$E$10)*'Customer Info'!$F$18)),)","v":0},{"$f":"IF((OR($F$11=0,$F$11=\"none\")),IF(W116=0,,IF(OR($E$11='Customer Info'!$F$19,$E$11=0),W116,(W116/$E$11)*'Customer Info'!$F$19)),)","v":0},{"$f":"IF((OR($F$12=0,$F$12=\"none\")),IF(X116=0,,IF(OR($E$12='Customer Info'!$F$20,$E$12=0),X116,(X116/$E$12)*'Customer Info'!$F$20)),)","v":0},{"$f":"IF((OR($F$13=0,$F$13=\"none\")),IF(Y116=0,,IF(OR($E$13='Customer Info'!$F$21,$E$13=0),Y116,(Y116/$E$13)*'Customer Info'!$F$21)),)","v":0},{"$f":"IF((OR($F$16=0,$F$16=\"none\")),IF(Z116=0,,IF(OR($E$16='Customer Info'!$H$18,$E$16=0),Z116,(Z116/$E$16)*'Customer Info'!$H$18)),)","v":0},{"$f":"IF((OR($F$17=0,$F$17=\"none\")),IF(AA116=0,,IF(OR($E$17='Customer Info'!$H$19,$E$17=0),AA116,(AA116/$E$17)*'Customer Info'!$H$19)),)","v":0},{"$f":"IF((OR($F$18=0,$F$18=\"none\")),IF(AB116=0,,IF(OR($E$18='Customer Info'!$H$20,$E$18=0),AB116,(AB116/$E$18)*'Customer Info'!$H$20)),)","v":0},{"$f":"IF((OR($F$19=0,$F$19=\"none\")),IF(AC116=0,,IF(OR($E$19='Customer Info'!$H$21,$E$19=0),AC116,(AC116/$E$19)*'Customer Info'!$H$21)),)","v":0},{"$f":"IF((OR($F$4=0,$F$4=\"none\")),IF(AD116=0,,IF(OR($E$4='Customer Info'!$D$18,$E$4=0),AD116,(AD116/$E$4)*'Customer Info'!$D$18)),)","v":0},{"$f":"IF((OR($F$5=0,$F$5=\"none\")),IF(AE116=0,,IF(OR($E$5='Customer Info'!$D$19,$E$5=0),AE116,(AE116/$E$5)*'Customer Info'!$D$19)),)","v":0},{"$f":"IF((OR($F$6=0,$F$6=\"none\")),IF(AF116=0,,IF(OR($E$6='Customer Info'!$D$20,$E$6=0),AF116,(AF116/$E$6)*'Customer Info'!$D$20)),)","v":0},{"$f":"IF((OR($F$7=0,$F$7=\"none\")),IF(AG116=0,,IF(OR($E$7='Customer Info'!$D$21,$E$7=0),AG116,(AG116/$E$7)*'Customer Info'!$D$21)),)","v":0},0,0,{"$f":"IF(E116=\"plate waste\",,IF('Customer Info'!$M$18=0,'Log Sheet'!AY116,'Customer Info'!$M$18*'Log Sheet'!AY116))","v":0},{"$f":"IF(E116=\"plate waste\",IF(OR(C116=\"patient\",C116=\"patient beverages\"),IF('Customer Info'!$M$27=0,AY116*'Customer Info'!$M$18,AY116*'Customer Info'!$M$27),IF(C116=\"cafeteria\",IF('Customer Info'!$M$28=0,AY116*'Customer Info'!$M$18,AY116*'Customer Info'!$M$28),IF(C116=\"other1\",IF('Customer Info'!$M$29=0,AY116*'Customer Info'!$M$18,AY116*'Customer Info'!$M$29),))),)","v":0},0,{"$f":"IF($F$4=\"lunch\",IF(S116=0,,(S116/$E$5)*'Customer Info'!$D$18),)","v":0},{"$f":"IF($F$4=\"dinner\",IF(T116=0,,(T116/$E$6)*'Customer Info'!$D$18),)","v":0},{"$f":"IF($F$4=\"other\",IF(U116=0,,(U116/$E$7)*'Customer Info'!$D$18),)","v":0},0,{"$f":"IF($F$5=\"breakfast\",IF(R116=0,,(R116/$E$4)*'Customer Info'!$D$19),)","v":0},{"$f":"IF($F$5=\"dinner\",IF(T116=0,,(T116/$E$6)*'Customer Info'!$D$19),)","v":0},{"$f":"IF($F$5=\"other\",IF(U116=0,,(U116/$E$7)*'Customer Info'!$D$19),)","v":0},0,{"$f":"IF($F$6=\"breakfast\",IF(R116=0,,(R116/$E$4)*'Customer Info'!$D$20),)","v":0},{"$f":"IF($F$6=\"lunch\",IF(S116=0,,(S116/$E$5)*'Customer Info'!$D$20),)","v":0},{"$f":"IF($F$6=\"other\",IF(U116=0,,(U116/$E$7)*'Customer Info'!$D$20),)","v":0},0,{"$f":"IF($F$7=\"breakfast\",IF(R116=0,,(R116/$E$4)*'Customer Info'!$D$21),)","v":0},{"$f":"IF($F$7=\"lunch\",IF(S116=0,,(S116/$E$5)*'Customer Info'!$D$21),)","v":0},{"$f":"IF($F$7=\"dinner\",IF(T116=0,,(T116/$E$6)*'Customer Info'!$D$21),)","v":0},0,{"$f":"IF($F$10=\"lunch\",IF(W116=0,,(W116/$E$11)*'Customer Info'!$F$18),)","v":0},{"$f":"IF($F$10=\"dinner\",IF(X116=0,,(X116/$E$12)*'Customer Info'!$F$18),)","v":0},{"$f":"IF($F$10=\"other\",IF(Y116=0,,(Y116/$E$13)*'Customer Info'!$F$18),)","v":0},0,{"$f":"IF($F$11=\"breakfast\",IF(V116=0,,(V116/$E$10)*'Customer Info'!$F$19),)","v":0},{"$f":"IF($F$11=\"dinner\",IF(X116=0,,(X116/$E$12)*'Customer Info'!$F$19),)","v":0},{"$f":"IF($F$11=\"other\",IF(Y116=0,,(Y116/$E$13)*'Customer Info'!$F$19),)","v":0},0,{"$f":"IF($F$12=\"breakfast\",IF(V116=0,,(V116/$E$10)*'Customer Info'!$F$20),)","v":0},{"$f":"IF($F$12=\"lunch\",IF(W116=0,,(W116/$E$11)*'Customer Info'!$F$20),)","v":0},{"$f":"IF($F$12=\"other\",IF(Y116=0,,(Y116/$E$13)*'Customer Info'!$F$20),)","v":0},0,{"$f":"IF($F$13=\"breakfast\",IF(V116=0,,(V116/$E$10)*'Customer Info'!$F$21),)","v":0},{"$f":"IF($F$13=\"lunch\",IF(W116=0,,(W116/$E$11)*'Customer Info'!$F$21),)","v":0},{"$f":"IF($F$13=\"dinner\",IF(X116=0,,(X116/$E$12)*'Customer Info'!$F$21),)","v":0},0,{"$f":"IF($F$16=\"lunch\",IF(AA116=0,,(AA116/$E$17)*'Customer Info'!$H$18),)","v":0},{"$f":"IF($F$16=\"dinner\",IF(AB116=0,,(AB116/$E$18)*'Customer Info'!$H$18),)","v":0},{"$f":"IF($F$16=\"other\",IF(AC116=0,,(AC116/$E$19)*'Customer Info'!$H$18),)","v":0},0,{"$f":"IF($F$17=\"breakfast\",IF(Z116=0,,(Z116/$E$16)*'Customer Info'!$H$19),)","v":0},{"$f":"IF($F$17=\"dinner\",IF(AB116=0,,(AB116/$E$18)*'Customer Info'!$H$19),)","v":0},{"$f":"IF($F$17=\"other\",IF(AC116=0,,(AC116/$E$19)*'Customer Info'!$H$19),)","v":0},0,{"$f":"IF($F$18=\"breakfast\",IF(Z116=0,,(Z116/$E$16)*'Customer Info'!$H$20),)","v":0},{"$f":"IF($F$18=\"lunch\",IF(AA116=0,,(AA116/$E$17)*'Customer Info'!$H$20),)","v":0},{"$f":"IF($F$18=\"other\",IF(AC116=0,,(AC116/$E$19)*'Customer Info'!$H$20),)","v":0},0,{"$f":"IF($F$19=\"breakfast\",IF(Z116=0,,(Z116/$E$16)*'Customer Info'!$H$21),)","v":0},{"$f":"IF($F$19=\"lunch\",IF(AA116=0,,(AA116/$E$17)*'Customer Info'!$H$21),)","v":0},{"$f":"IF($F$19=\"dinner\",IF(AB116=0,,(AB116/$E$18)*'Customer Info'!$H$21),)","v":0},0,0,0,0,0,""]
[null,null,null,null,null,null,null,null,null,null,0,0,0,0,0,0,0,0,0,0,0,0,0,0,0,0,0,0,0,0,0,0,0,{"$f":"IF((OR($F$4=0,$F$4=\"none\")),IF(R117=0,,IF(OR($E$4='Customer Info'!$D$18,$E$4=0),R117,(R117/$E$4)*'Customer Info'!$D$18)),)","v":0},{"$f":"IF((OR($F$5=0,$F$5=\"none\")),IF(S117=0,,IF(OR($E$5='Customer Info'!$D$18,$E$5=0),S117,(S117/$E$5)*'Customer Info'!$D$19)),)","v":0},{"$f":"IF((OR($F$6=0,$F$6=\"none\")),IF(T117=0,,IF(OR($E$6='Customer Info'!$D$18,$E$6=0),T117,(T117/$E$6)*'Customer Info'!$D$20)),)","v":0},{"$f":"IF((OR($F$7=0,$F$7=\"none\")),IF(U117=0,,IF(OR($E$7='Customer Info'!$D$18,$E$7=0),U117,(U117/$E$7)*'Customer Info'!$D$21)),)","v":0},{"$f":"IF((OR($F$10=0,$F$10=\"none\")),IF(V117=0,,IF(OR($E$10='Customer Info'!$F$18,$E$10=0),V117,(V117/$E$10)*'Customer Info'!$F$18)),)","v":0},{"$f":"IF((OR($F$11=0,$F$11=\"none\")),IF(W117=0,,IF(OR($E$11='Customer Info'!$F$19,$E$11=0),W117,(W117/$E$11)*'Customer Info'!$F$19)),)","v":0},{"$f":"IF((OR($F$12=0,$F$12=\"none\")),IF(X117=0,,IF(OR($E$12='Customer Info'!$F$20,$E$12=0),X117,(X117/$E$12)*'Customer Info'!$F$20)),)","v":0},{"$f":"IF((OR($F$13=0,$F$13=\"none\")),IF(Y117=0,,IF(OR($E$13='Customer Info'!$F$21,$E$13=0),Y117,(Y117/$E$13)*'Customer Info'!$F$21)),)","v":0},{"$f":"IF((OR($F$16=0,$F$16=\"none\")),IF(Z117=0,,IF(OR($E$16='Customer Info'!$H$18,$E$16=0),Z117,(Z117/$E$16)*'Customer Info'!$H$18)),)","v":0},{"$f":"IF((OR($F$17=0,$F$17=\"none\")),IF(AA117=0,,IF(OR($E$17='Customer Info'!$H$19,$E$17=0),AA117,(AA117/$E$17)*'Customer Info'!$H$19)),)","v":0},{"$f":"IF((OR($F$18=0,$F$18=\"none\")),IF(AB117=0,,IF(OR($E$18='Customer Info'!$H$20,$E$18=0),AB117,(AB117/$E$18)*'Customer Info'!$H$20)),)","v":0},{"$f":"IF((OR($F$19=0,$F$19=\"none\")),IF(AC117=0,,IF(OR($E$19='Customer Info'!$H$21,$E$19=0),AC117,(AC117/$E$19)*'Customer Info'!$H$21)),)","v":0},{"$f":"IF((OR($F$4=0,$F$4=\"none\")),IF(AD117=0,,IF(OR($E$4='Customer Info'!$D$18,$E$4=0),AD117,(AD117/$E$4)*'Customer Info'!$D$18)),)","v":0},{"$f":"IF((OR($F$5=0,$F$5=\"none\")),IF(AE117=0,,IF(OR($E$5='Customer Info'!$D$19,$E$5=0),AE117,(AE117/$E$5)*'Customer Info'!$D$19)),)","v":0},{"$f":"IF((OR($F$6=0,$F$6=\"none\")),IF(AF117=0,,IF(OR($E$6='Customer Info'!$D$20,$E$6=0),AF117,(AF117/$E$6)*'Customer Info'!$D$20)),)","v":0},{"$f":"IF((OR($F$7=0,$F$7=\"none\")),IF(AG117=0,,IF(OR($E$7='Customer Info'!$D$21,$E$7=0),AG117,(AG117/$E$7)*'Customer Info'!$D$21)),)","v":0},0,0,{"$f":"IF(E117=\"plate waste\",,IF('Customer Info'!$M$18=0,'Log Sheet'!AY117,'Customer Info'!$M$18*'Log Sheet'!AY117))","v":0},{"$f":"IF(E117=\"plate waste\",IF(OR(C117=\"patient\",C117=\"patient beverages\"),IF('Customer Info'!$M$27=0,AY117*'Customer Info'!$M$18,AY117*'Customer Info'!$M$27),IF(C117=\"cafeteria\",IF('Customer Info'!$M$28=0,AY117*'Customer Info'!$M$18,AY117*'Customer Info'!$M$28),IF(C117=\"other1\",IF('Customer Info'!$M$29=0,AY117*'Customer Info'!$M$18,AY117*'Customer Info'!$M$29),))),)","v":0},0,{"$f":"IF($F$4=\"lunch\",IF(S117=0,,(S117/$E$5)*'Customer Info'!$D$18),)","v":0},{"$f":"IF($F$4=\"dinner\",IF(T117=0,,(T117/$E$6)*'Customer Info'!$D$18),)","v":0},{"$f":"IF($F$4=\"other\",IF(U117=0,,(U117/$E$7)*'Customer Info'!$D$18),)","v":0},0,{"$f":"IF($F$5=\"breakfast\",IF(R117=0,,(R117/$E$4)*'Customer Info'!$D$19),)","v":0},{"$f":"IF($F$5=\"dinner\",IF(T117=0,,(T117/$E$6)*'Customer Info'!$D$19),)","v":0},{"$f":"IF($F$5=\"other\",IF(U117=0,,(U117/$E$7)*'Customer Info'!$D$19),)","v":0},0,{"$f":"IF($F$6=\"breakfast\",IF(R117=0,,(R117/$E$4)*'Customer Info'!$D$20),)","v":0},{"$f":"IF($F$6=\"lunch\",IF(S117=0,,(S117/$E$5)*'Customer Info'!$D$20),)","v":0},{"$f":"IF($F$6=\"other\",IF(U117=0,,(U117/$E$7)*'Customer Info'!$D$20),)","v":0},0,{"$f":"IF($F$7=\"breakfast\",IF(R117=0,,(R117/$E$4)*'Customer Info'!$D$21),)","v":0},{"$f":"IF($F$7=\"lunch\",IF(S117=0,,(S117/$E$5)*'Customer Info'!$D$21),)","v":0},{"$f":"IF($F$7=\"dinner\",IF(T117=0,,(T117/$E$6)*'Customer Info'!$D$21),)","v":0},0,{"$f":"IF($F$10=\"lunch\",IF(W117=0,,(W117/$E$11)*'Customer Info'!$F$18),)","v":0},{"$f":"IF($F$10=\"dinner\",IF(X117=0,,(X117/$E$12)*'Customer Info'!$F$18),)","v":0},{"$f":"IF($F$10=\"other\",IF(Y117=0,,(Y117/$E$13)*'Customer Info'!$F$18),)","v":0},0,{"$f":"IF($F$11=\"breakfast\",IF(V117=0,,(V117/$E$10)*'Customer Info'!$F$19),)","v":0},{"$f":"IF($F$11=\"dinner\",IF(X117=0,,(X117/$E$12)*'Customer Info'!$F$19),)","v":0},{"$f":"IF($F$11=\"other\",IF(Y117=0,,(Y117/$E$13)*'Customer Info'!$F$19),)","v":0},0,{"$f":"IF($F$12=\"breakfast\",IF(V117=0,,(V117/$E$10)*'Customer Info'!$F$20),)","v":0},{"$f":"IF($F$12=\"lunch\",IF(W117=0,,(W117/$E$11)*'Customer Info'!$F$20),)","v":0},{"$f":"IF($F$12=\"other\",IF(Y117=0,,(Y117/$E$13)*'Customer Info'!$F$20),)","v":0},0,{"$f":"IF($F$13=\"breakfast\",IF(V117=0,,(V117/$E$10)*'Customer Info'!$F$21),)","v":0},{"$f":"IF($F$13=\"lunch\",IF(W117=0,,(W117/$E$11)*'Customer Info'!$F$21),)","v":0},{"$f":"IF($F$13=\"dinner\",IF(X117=0,,(X117/$E$12)*'Customer Info'!$F$21),)","v":0},0,{"$f":"IF($F$16=\"lunch\",IF(AA117=0,,(AA117/$E$17)*'Customer Info'!$H$18),)","v":0},{"$f":"IF($F$16=\"dinner\",IF(AB117=0,,(AB117/$E$18)*'Customer Info'!$H$18),)","v":0},{"$f":"IF($F$16=\"other\",IF(AC117=0,,(AC117/$E$19)*'Customer Info'!$H$18),)","v":0},0,{"$f":"IF($F$17=\"breakfast\",IF(Z117=0,,(Z117/$E$16)*'Customer Info'!$H$19),)","v":0},{"$f":"IF($F$17=\"dinner\",IF(AB117=0,,(AB117/$E$18)*'Customer Info'!$H$19),)","v":0},{"$f":"IF($F$17=\"other\",IF(AC117=0,,(AC117/$E$19)*'Customer Info'!$H$19),)","v":0},0,{"$f":"IF($F$18=\"breakfast\",IF(Z117=0,,(Z117/$E$16)*'Customer Info'!$H$20),)","v":0},{"$f":"IF($F$18=\"lunch\",IF(AA117=0,,(AA117/$E$17)*'Customer Info'!$H$20),)","v":0},{"$f":"IF($F$18=\"other\",IF(AC117=0,,(AC117/$E$19)*'Customer Info'!$H$20),)","v":0},0,{"$f":"IF($F$19=\"breakfast\",IF(Z117=0,,(Z117/$E$16)*'Customer Info'!$H$21),)","v":0},{"$f":"IF($F$19=\"lunch\",IF(AA117=0,,(AA117/$E$17)*'Customer Info'!$H$21),)","v":0},{"$f":"IF($F$19=\"dinner\",IF(AB117=0,,(AB117/$E$18)*'Customer Info'!$H$21),)","v":0},0,0,0,0,0,""]
[null,null,null,null,null,null,null,null,null,null,0,0,0,0,0,0,0,0,0,0,0,0,0,0,0,0,0,0,0,0,0,0,0,{"$f":"IF((OR($F$4=0,$F$4=\"none\")),IF(R118=0,,IF(OR($E$4='Customer Info'!$D$18,$E$4=0),R118,(R118/$E$4)*'Customer Info'!$D$18)),)","v":0},{"$f":"IF((OR($F$5=0,$F$5=\"none\")),IF(S118=0,,IF(OR($E$5='Customer Info'!$D$18,$E$5=0),S118,(S118/$E$5)*'Customer Info'!$D$19)),)","v":0},{"$f":"IF((OR($F$6=0,$F$6=\"none\")),IF(T118=0,,IF(OR($E$6='Customer Info'!$D$18,$E$6=0),T118,(T118/$E$6)*'Customer Info'!$D$20)),)","v":0},{"$f":"IF((OR($F$7=0,$F$7=\"none\")),IF(U118=0,,IF(OR($E$7='Customer Info'!$D$18,$E$7=0),U118,(U118/$E$7)*'Customer Info'!$D$21)),)","v":0},{"$f":"IF((OR($F$10=0,$F$10=\"none\")),IF(V118=0,,IF(OR($E$10='Customer Info'!$F$18,$E$10=0),V118,(V118/$E$10)*'Customer Info'!$F$18)),)","v":0},{"$f":"IF((OR($F$11=0,$F$11=\"none\")),IF(W118=0,,IF(OR($E$11='Customer Info'!$F$19,$E$11=0),W118,(W118/$E$11)*'Customer Info'!$F$19)),)","v":0},{"$f":"IF((OR($F$12=0,$F$12=\"none\")),IF(X118=0,,IF(OR($E$12='Customer Info'!$F$20,$E$12=0),X118,(X118/$E$12)*'Customer Info'!$F$20)),)","v":0},{"$f":"IF((OR($F$13=0,$F$13=\"none\")),IF(Y118=0,,IF(OR($E$13='Customer Info'!$F$21,$E$13=0),Y118,(Y118/$E$13)*'Customer Info'!$F$21)),)","v":0},{"$f":"IF((OR($F$16=0,$F$16=\"none\")),IF(Z118=0,,IF(OR($E$16='Customer Info'!$H$18,$E$16=0),Z118,(Z118/$E$16)*'Customer Info'!$H$18)),)","v":0},{"$f":"IF((OR($F$17=0,$F$17=\"none\")),IF(AA118=0,,IF(OR($E$17='Customer Info'!$H$19,$E$17=0),AA118,(AA118/$E$17)*'Customer Info'!$H$19)),)","v":0},{"$f":"IF((OR($F$18=0,$F$18=\"none\")),IF(AB118=0,,IF(OR($E$18='Customer Info'!$H$20,$E$18=0),AB118,(AB118/$E$18)*'Customer Info'!$H$20)),)","v":0},{"$f":"IF((OR($F$19=0,$F$19=\"none\")),IF(AC118=0,,IF(OR($E$19='Customer Info'!$H$21,$E$19=0),AC118,(AC118/$E$19)*'Customer Info'!$H$21)),)","v":0},{"$f":"IF((OR($F$4=0,$F$4=\"none\")),IF(AD118=0,,IF(OR($E$4='Customer Info'!$D$18,$E$4=0),AD118,(AD118/$E$4)*'Customer Info'!$D$18)),)","v":0},{"$f":"IF((OR($F$5=0,$F$5=\"none\")),IF(AE118=0,,IF(OR($E$5='Customer Info'!$D$19,$E$5=0),AE118,(AE118/$E$5)*'Customer Info'!$D$19)),)","v":0},{"$f":"IF((OR($F$6=0,$F$6=\"none\")),IF(AF118=0,,IF(OR($E$6='Customer Info'!$D$20,$E$6=0),AF118,(AF118/$E$6)*'Customer Info'!$D$20)),)","v":0},{"$f":"IF((OR($F$7=0,$F$7=\"none\")),IF(AG118=0,,IF(OR($E$7='Customer Info'!$D$21,$E$7=0),AG118,(AG118/$E$7)*'Customer Info'!$D$21)),)","v":0},0,0,{"$f":"IF(E118=\"plate waste\",,IF('Customer Info'!$M$18=0,'Log Sheet'!AY118,'Customer Info'!$M$18*'Log Sheet'!AY118))","v":0},{"$f":"IF(E118=\"plate waste\",IF(OR(C118=\"patient\",C118=\"patient beverages\"),IF('Customer Info'!$M$27=0,AY118*'Customer Info'!$M$18,AY118*'Customer Info'!$M$27),IF(C118=\"cafeteria\",IF('Customer Info'!$M$28=0,AY118*'Customer Info'!$M$18,AY118*'Customer Info'!$M$28),IF(C118=\"other1\",IF('Customer Info'!$M$29=0,AY118*'Customer Info'!$M$18,AY118*'Customer Info'!$M$29),))),)","v":0},0,{"$f":"IF($F$4=\"lunch\",IF(S118=0,,(S118/$E$5)*'Customer Info'!$D$18),)","v":0},{"$f":"IF($F$4=\"dinner\",IF(T118=0,,(T118/$E$6)*'Customer Info'!$D$18),)","v":0},{"$f":"IF($F$4=\"other\",IF(U118=0,,(U118/$E$7)*'Customer Info'!$D$18),)","v":0},0,{"$f":"IF($F$5=\"breakfast\",IF(R118=0,,(R118/$E$4)*'Customer Info'!$D$19),)","v":0},{"$f":"IF($F$5=\"dinner\",IF(T118=0,,(T118/$E$6)*'Customer Info'!$D$19),)","v":0},{"$f":"IF($F$5=\"other\",IF(U118=0,,(U118/$E$7)*'Customer Info'!$D$19),)","v":0},0,{"$f":"IF($F$6=\"breakfast\",IF(R118=0,,(R118/$E$4)*'Customer Info'!$D$20),)","v":0},{"$f":"IF($F$6=\"lunch\",IF(S118=0,,(S118/$E$5)*'Customer Info'!$D$20),)","v":0},{"$f":"IF($F$6=\"other\",IF(U118=0,,(U118/$E$7)*'Customer Info'!$D$20),)","v":0},0,{"$f":"IF($F$7=\"breakfast\",IF(R118=0,,(R118/$E$4)*'Customer Info'!$D$21),)","v":0},{"$f":"IF($F$7=\"lunch\",IF(S118=0,,(S118/$E$5)*'Customer Info'!$D$21),)","v":0},{"$f":"IF($F$7=\"dinner\",IF(T118=0,,(T118/$E$6)*'Customer Info'!$D$21),)","v":0},0,{"$f":"IF($F$10=\"lunch\",IF(W118=0,,(W118/$E$11)*'Customer Info'!$F$18),)","v":0},{"$f":"IF($F$10=\"dinner\",IF(X118=0,,(X118/$E$12)*'Customer Info'!$F$18),)","v":0},{"$f":"IF($F$10=\"other\",IF(Y118=0,,(Y118/$E$13)*'Customer Info'!$F$18),)","v":0},0,{"$f":"IF($F$11=\"breakfast\",IF(V118=0,,(V118/$E$10)*'Customer Info'!$F$19),)","v":0},{"$f":"IF($F$11=\"dinner\",IF(X118=0,,(X118/$E$12)*'Customer Info'!$F$19),)","v":0},{"$f":"IF($F$11=\"other\",IF(Y118=0,,(Y118/$E$13)*'Customer Info'!$F$19),)","v":0},0,{"$f":"IF($F$12=\"breakfast\",IF(V118=0,,(V118/$E$10)*'Customer Info'!$F$20),)","v":0},{"$f":"IF($F$12=\"lunch\",IF(W118=0,,(W118/$E$11)*'Customer Info'!$F$20),)","v":0},{"$f":"IF($F$12=\"other\",IF(Y118=0,,(Y118/$E$13)*'Customer Info'!$F$20),)","v":0},0,{"$f":"IF($F$13=\"breakfast\",IF(V118=0,,(V118/$E$10)*'Customer Info'!$F$21),)","v":0},{"$f":"IF($F$13=\"lunch\",IF(W118=0,,(W118/$E$11)*'Customer Info'!$F$21),)","v":0},{"$f":"IF($F$13=\"dinner\",IF(X118=0,,(X118/$E$12)*'Customer Info'!$F$21),)","v":0},0,{"$f":"IF($F$16=\"lunch\",IF(AA118=0,,(AA118/$E$17)*'Customer Info'!$H$18),)","v":0},{"$f":"IF($F$16=\"dinner\",IF(AB118=0,,(AB118/$E$18)*'Customer Info'!$H$18),)","v":0},{"$f":"IF($F$16=\"other\",IF(AC118=0,,(AC118/$E$19)*'Customer Info'!$H$18),)","v":0},0,{"$f":"IF($F$17=\"breakfast\",IF(Z118=0,,(Z118/$E$16)*'Customer Info'!$H$19),)","v":0},{"$f":"IF($F$17=\"dinner\",IF(AB118=0,,(AB118/$E$18)*'Customer Info'!$H$19),)","v":0},{"$f":"IF($F$17=\"other\",IF(AC118=0,,(AC118/$E$19)*'Customer Info'!$H$19),)","v":0},0,{"$f":"IF($F$18=\"breakfast\",IF(Z118=0,,(Z118/$E$16)*'Customer Info'!$H$20),)","v":0},{"$f":"IF($F$18=\"lunch\",IF(AA118=0,,(AA118/$E$17)*'Customer Info'!$H$20),)","v":0},{"$f":"IF($F$18=\"other\",IF(AC118=0,,(AC118/$E$19)*'Customer Info'!$H$20),)","v":0},0,{"$f":"IF($F$19=\"breakfast\",IF(Z118=0,,(Z118/$E$16)*'Customer Info'!$H$21),)","v":0},{"$f":"IF($F$19=\"lunch\",IF(AA118=0,,(AA118/$E$17)*'Customer Info'!$H$21),)","v":0},{"$f":"IF($F$19=\"dinner\",IF(AB118=0,,(AB118/$E$18)*'Customer Info'!$H$21),)","v":0},0,0,0,0,0,""]
[null,null,null,null,null,null,null,null,null,null,0,0,0,0,0,0,0,0,0,0,0,0,0,0,0,0,0,0,0,0,0,0,0,{"$f":"IF((OR($F$4=0,$F$4=\"none\")),IF(R119=0,,IF(OR($E$4='Customer Info'!$D$18,$E$4=0),R119,(R119/$E$4)*'Customer Info'!$D$18)),)","v":0},{"$f":"IF((OR($F$5=0,$F$5=\"none\")),IF(S119=0,,IF(OR($E$5='Customer Info'!$D$18,$E$5=0),S119,(S119/$E$5)*'Customer Info'!$D$19)),)","v":0},{"$f":"IF((OR($F$6=0,$F$6=\"none\")),IF(T119=0,,IF(OR($E$6='Customer Info'!$D$18,$E$6=0),T119,(T119/$E$6)*'Customer Info'!$D$20)),)","v":0},{"$f":"IF((OR($F$7=0,$F$7=\"none\")),IF(U119=0,,IF(OR($E$7='Customer Info'!$D$18,$E$7=0),U119,(U119/$E$7)*'Customer Info'!$D$21)),)","v":0},{"$f":"IF((OR($F$10=0,$F$10=\"none\")),IF(V119=0,,IF(OR($E$10='Customer Info'!$F$18,$E$10=0),V119,(V119/$E$10)*'Customer Info'!$F$18)),)","v":0},{"$f":"IF((OR($F$11=0,$F$11=\"none\")),IF(W119=0,,IF(OR($E$11='Customer Info'!$F$19,$E$11=0),W119,(W119/$E$11)*'Customer Info'!$F$19)),)","v":0},{"$f":"IF((OR($F$12=0,$F$12=\"none\")),IF(X119=0,,IF(OR($E$12='Customer Info'!$F$20,$E$12=0),X119,(X119/$E$12)*'Customer Info'!$F$20)),)","v":0},{"$f":"IF((OR($F$13=0,$F$13=\"none\")),IF(Y119=0,,IF(OR($E$13='Customer Info'!$F$21,$E$13=0),Y119,(Y119/$E$13)*'Customer Info'!$F$21)),)","v":0},{"$f":"IF((OR($F$16=0,$F$16=\"none\")),IF(Z119=0,,IF(OR($E$16='Customer Info'!$H$18,$E$16=0),Z119,(Z119/$E$16)*'Customer Info'!$H$18)),)","v":0},{"$f":"IF((OR($F$17=0,$F$17=\"none\")),IF(AA119=0,,IF(OR($E$17='Customer Info'!$H$19,$E$17=0),AA119,(AA119/$E$17)*'Customer Info'!$H$19)),)","v":0},{"$f":"IF((OR($F$18=0,$F$18=\"none\")),IF(AB119=0,,IF(OR($E$18='Customer Info'!$H$20,$E$18=0),AB119,(AB119/$E$18)*'Customer Info'!$H$20)),)","v":0},{"$f":"IF((OR($F$19=0,$F$19=\"none\")),IF(AC119=0,,IF(OR($E$19='Customer Info'!$H$21,$E$19=0),AC119,(AC119/$E$19)*'Customer Info'!$H$21)),)","v":0},{"$f":"IF((OR($F$4=0,$F$4=\"none\")),IF(AD119=0,,IF(OR($E$4='Customer Info'!$D$18,$E$4=0),AD119,(AD119/$E$4)*'Customer Info'!$D$18)),)","v":0},{"$f":"IF((OR($F$5=0,$F$5=\"none\")),IF(AE119=0,,IF(OR($E$5='Customer Info'!$D$19,$E$5=0),AE119,(AE119/$E$5)*'Customer Info'!$D$19)),)","v":0},{"$f":"IF((OR($F$6=0,$F$6=\"none\")),IF(AF119=0,,IF(OR($E$6='Customer Info'!$D$20,$E$6=0),AF119,(AF119/$E$6)*'Customer Info'!$D$20)),)","v":0},{"$f":"IF((OR($F$7=0,$F$7=\"none\")),IF(AG119=0,,IF(OR($E$7='Customer Info'!$D$21,$E$7=0),AG119,(AG119/$E$7)*'Customer Info'!$D$21)),)","v":0},0,0,{"$f":"IF(E119=\"plate waste\",,IF('Customer Info'!$M$18=0,'Log Sheet'!AY119,'Customer Info'!$M$18*'Log Sheet'!AY119))","v":0},{"$f":"IF(E119=\"plate waste\",IF(OR(C119=\"patient\",C119=\"patient beverages\"),IF('Customer Info'!$M$27=0,AY119*'Customer Info'!$M$18,AY119*'Customer Info'!$M$27),IF(C119=\"cafeteria\",IF('Customer Info'!$M$28=0,AY119*'Customer Info'!$M$18,AY119*'Customer Info'!$M$28),IF(C119=\"other1\",IF('Customer Info'!$M$29=0,AY119*'Customer Info'!$M$18,AY119*'Customer Info'!$M$29),))),)","v":0},0,{"$f":"IF($F$4=\"lunch\",IF(S119=0,,(S119/$E$5)*'Customer Info'!$D$18),)","v":0},{"$f":"IF($F$4=\"dinner\",IF(T119=0,,(T119/$E$6)*'Customer Info'!$D$18),)","v":0},{"$f":"IF($F$4=\"other\",IF(U119=0,,(U119/$E$7)*'Customer Info'!$D$18),)","v":0},0,{"$f":"IF($F$5=\"breakfast\",IF(R119=0,,(R119/$E$4)*'Customer Info'!$D$19),)","v":0},{"$f":"IF($F$5=\"dinner\",IF(T119=0,,(T119/$E$6)*'Customer Info'!$D$19),)","v":0},{"$f":"IF($F$5=\"other\",IF(U119=0,,(U119/$E$7)*'Customer Info'!$D$19),)","v":0},0,{"$f":"IF($F$6=\"breakfast\",IF(R119=0,,(R119/$E$4)*'Customer Info'!$D$20),)","v":0},{"$f":"IF($F$6=\"lunch\",IF(S119=0,,(S119/$E$5)*'Customer Info'!$D$20),)","v":0},{"$f":"IF($F$6=\"other\",IF(U119=0,,(U119/$E$7)*'Customer Info'!$D$20),)","v":0},0,{"$f":"IF($F$7=\"breakfast\",IF(R119=0,,(R119/$E$4)*'Customer Info'!$D$21),)","v":0},{"$f":"IF($F$7=\"lunch\",IF(S119=0,,(S119/$E$5)*'Customer Info'!$D$21),)","v":0},{"$f":"IF($F$7=\"dinner\",IF(T119=0,,(T119/$E$6)*'Customer Info'!$D$21),)","v":0},0,{"$f":"IF($F$10=\"lunch\",IF(W119=0,,(W119/$E$11)*'Customer Info'!$F$18),)","v":0},{"$f":"IF($F$10=\"dinner\",IF(X119=0,,(X119/$E$12)*'Customer Info'!$F$18),)","v":0},{"$f":"IF($F$10=\"other\",IF(Y119=0,,(Y119/$E$13)*'Customer Info'!$F$18),)","v":0},0,{"$f":"IF($F$11=\"breakfast\",IF(V119=0,,(V119/$E$10)*'Customer Info'!$F$19),)","v":0},{"$f":"IF($F$11=\"dinner\",IF(X119=0,,(X119/$E$12)*'Customer Info'!$F$19),)","v":0},{"$f":"IF($F$11=\"other\",IF(Y119=0,,(Y119/$E$13)*'Customer Info'!$F$19),)","v":0},0,{"$f":"IF($F$12=\"breakfast\",IF(V119=0,,(V119/$E$10)*'Customer Info'!$F$20),)","v":0},{"$f":"IF($F$12=\"lunch\",IF(W119=0,,(W119/$E$11)*'Customer Info'!$F$20),)","v":0},{"$f":"IF($F$12=\"other\",IF(Y119=0,,(Y119/$E$13)*'Customer Info'!$F$20),)","v":0},0,{"$f":"IF($F$13=\"breakfast\",IF(V119=0,,(V119/$E$10)*'Customer Info'!$F$21),)","v":0},{"$f":"IF($F$13=\"lunch\",IF(W119=0,,(W119/$E$11)*'Customer Info'!$F$21),)","v":0},{"$f":"IF($F$13=\"dinner\",IF(X119=0,,(X119/$E$12)*'Customer Info'!$F$21),)","v":0},0,{"$f":"IF($F$16=\"lunch\",IF(AA119=0,,(AA119/$E$17)*'Customer Info'!$H$18),)","v":0},{"$f":"IF($F$16=\"dinner\",IF(AB119=0,,(AB119/$E$18)*'Customer Info'!$H$18),)","v":0},{"$f":"IF($F$16=\"other\",IF(AC119=0,,(AC119/$E$19)*'Customer Info'!$H$18),)","v":0},0,{"$f":"IF($F$17=\"breakfast\",IF(Z119=0,,(Z119/$E$16)*'Customer Info'!$H$19),)","v":0},{"$f":"IF($F$17=\"dinner\",IF(AB119=0,,(AB119/$E$18)*'Customer Info'!$H$19),)","v":0},{"$f":"IF($F$17=\"other\",IF(AC119=0,,(AC119/$E$19)*'Customer Info'!$H$19),)","v":0},0,{"$f":"IF($F$18=\"breakfast\",IF(Z119=0,,(Z119/$E$16)*'Customer Info'!$H$20),)","v":0},{"$f":"IF($F$18=\"lunch\",IF(AA119=0,,(AA119/$E$17)*'Customer Info'!$H$20),)","v":0},{"$f":"IF($F$18=\"other\",IF(AC119=0,,(AC119/$E$19)*'Customer Info'!$H$20),)","v":0},0,{"$f":"IF($F$19=\"breakfast\",IF(Z119=0,,(Z119/$E$16)*'Customer Info'!$H$21),)","v":0},{"$f":"IF($F$19=\"lunch\",IF(AA119=0,,(AA119/$E$17)*'Customer Info'!$H$21),)","v":0},{"$f":"IF($F$19=\"dinner\",IF(AB119=0,,(AB119/$E$18)*'Customer Info'!$H$21),)","v":0},0,0,0,0,0,""]
[null,null,null,null,null,null,null,null,null,null,0,0,0,0,0,0,0,0,0,0,0,0,0,0,0,0,0,0,0,0,0,0,0,{"$f":"IF((OR($F$4=0,$F$4=\"none\")),IF(R120=0,,IF(OR($E$4='Customer Info'!$D$18,$E$4=0),R120,(R120/$E$4)*'Customer Info'!$D$18)),)","v":0},{"$f":"IF((OR($F$5=0,$F$5=\"none\")),IF(S120=0,,IF(OR($E$5='Customer Info'!$D$18,$E$5=0),S120,(S120/$E$5)*'Customer Info'!$D$19)),)","v":0},{"$f":"IF((OR($F$6=0,$F$6=\"none\")),IF(T120=0,,IF(OR($E$6='Customer Info'!$D$18,$E$6=0),T120,(T120/$E$6)*'Customer Info'!$D$20)),)","v":0},{"$f":"IF((OR($F$7=0,$F$7=\"none\")),IF(U120=0,,IF(OR($E$7='Customer Info'!$D$18,$E$7=0),U120,(U120/$E$7)*'Customer Info'!$D$21)),)","v":0},{"$f":"IF((OR($F$10=0,$F$10=\"none\")),IF(V120=0,,IF(OR($E$10='Customer Info'!$F$18,$E$10=0),V120,(V120/$E$10)*'Customer Info'!$F$18)),)","v":0},{"$f":"IF((OR($F$11=0,$F$11=\"none\")),IF(W120=0,,IF(OR($E$11='Customer Info'!$F$19,$E$11=0),W120,(W120/$E$11)*'Customer Info'!$F$19)),)","v":0},{"$f":"IF((OR($F$12=0,$F$12=\"none\")),IF(X120=0,,IF(OR($E$12='Customer Info'!$F$20,$E$12=0),X120,(X120/$E$12)*'Customer Info'!$F$20)),)","v":0},{"$f":"IF((OR($F$13=0,$F$13=\"none\")),IF(Y120=0,,IF(OR($E$13='Customer Info'!$F$21,$E$13=0),Y120,(Y120/$E$13)*'Customer Info'!$F$21)),)","v":0},{"$f":"IF((OR($F$16=0,$F$16=\"none\")),IF(Z120=0,,IF(OR($E$16='Customer Info'!$H$18,$E$16=0),Z120,(Z120/$E$16)*'Customer Info'!$H$18)),)","v":0},{"$f":"IF((OR($F$17=0,$F$17=\"none\")),IF(AA120=0,,IF(OR($E$17='Customer Info'!$H$19,$E$17=0),AA120,(AA120/$E$17)*'Customer Info'!$H$19)),)","v":0},{"$f":"IF((OR($F$18=0,$F$18=\"none\")),IF(AB120=0,,IF(OR($E$18='Customer Info'!$H$20,$E$18=0),AB120,(AB120/$E$18)*'Customer Info'!$H$20)),)","v":0},{"$f":"IF((OR($F$19=0,$F$19=\"none\")),IF(AC120=0,,IF(OR($E$19='Customer Info'!$H$21,$E$19=0),AC120,(AC120/$E$19)*'Customer Info'!$H$21)),)","v":0},{"$f":"IF((OR($F$4=0,$F$4=\"none\")),IF(AD120=0,,IF(OR($E$4='Customer Info'!$D$18,$E$4=0),AD120,(AD120/$E$4)*'Customer Info'!$D$18)),)","v":0},{"$f":"IF((OR($F$5=0,$F$5=\"none\")),IF(AE120=0,,IF(OR($E$5='Customer Info'!$D$19,$E$5=0),AE120,(AE120/$E$5)*'Customer Info'!$D$19)),)","v":0},{"$f":"IF((OR($F$6=0,$F$6=\"none\")),IF(AF120=0,,IF(OR($E$6='Customer Info'!$D$20,$E$6=0),AF120,(AF120/$E$6)*'Customer Info'!$D$20)),)","v":0},{"$f":"IF((OR($F$7=0,$F$7=\"none\")),IF(AG120=0,,IF(OR($E$7='Customer Info'!$D$21,$E$7=0),AG120,(AG120/$E$7)*'Customer Info'!$D$21)),)","v":0},0,0,{"$f":"IF(E120=\"plate waste\",,IF('Customer Info'!$M$18=0,'Log Sheet'!AY120,'Customer Info'!$M$18*'Log Sheet'!AY120))","v":0},{"$f":"IF(E120=\"plate waste\",IF(OR(C120=\"patient\",C120=\"patient beverages\"),IF('Customer Info'!$M$27=0,AY120*'Customer Info'!$M$18,AY120*'Customer Info'!$M$27),IF(C120=\"cafeteria\",IF('Customer Info'!$M$28=0,AY120*'Customer Info'!$M$18,AY120*'Customer Info'!$M$28),IF(C120=\"other1\",IF('Customer Info'!$M$29=0,AY120*'Customer Info'!$M$18,AY120*'Customer Info'!$M$29),))),)","v":0},0,{"$f":"IF($F$4=\"lunch\",IF(S120=0,,(S120/$E$5)*'Customer Info'!$D$18),)","v":0},{"$f":"IF($F$4=\"dinner\",IF(T120=0,,(T120/$E$6)*'Customer Info'!$D$18),)","v":0},{"$f":"IF($F$4=\"other\",IF(U120=0,,(U120/$E$7)*'Customer Info'!$D$18),)","v":0},0,{"$f":"IF($F$5=\"breakfast\",IF(R120=0,,(R120/$E$4)*'Customer Info'!$D$19),)","v":0},{"$f":"IF($F$5=\"dinner\",IF(T120=0,,(T120/$E$6)*'Customer Info'!$D$19),)","v":0},{"$f":"IF($F$5=\"other\",IF(U120=0,,(U120/$E$7)*'Customer Info'!$D$19),)","v":0},0,{"$f":"IF($F$6=\"breakfast\",IF(R120=0,,(R120/$E$4)*'Customer Info'!$D$20),)","v":0},{"$f":"IF($F$6=\"lunch\",IF(S120=0,,(S120/$E$5)*'Customer Info'!$D$20),)","v":0},{"$f":"IF($F$6=\"other\",IF(U120=0,,(U120/$E$7)*'Customer Info'!$D$20),)","v":0},0,{"$f":"IF($F$7=\"breakfast\",IF(R120=0,,(R120/$E$4)*'Customer Info'!$D$21),)","v":0},{"$f":"IF($F$7=\"lunch\",IF(S120=0,,(S120/$E$5)*'Customer Info'!$D$21),)","v":0},{"$f":"IF($F$7=\"dinner\",IF(T120=0,,(T120/$E$6)*'Customer Info'!$D$21),)","v":0},0,{"$f":"IF($F$10=\"lunch\",IF(W120=0,,(W120/$E$11)*'Customer Info'!$F$18),)","v":0},{"$f":"IF($F$10=\"dinner\",IF(X120=0,,(X120/$E$12)*'Customer Info'!$F$18),)","v":0},{"$f":"IF($F$10=\"other\",IF(Y120=0,,(Y120/$E$13)*'Customer Info'!$F$18),)","v":0},0,{"$f":"IF($F$11=\"breakfast\",IF(V120=0,,(V120/$E$10)*'Customer Info'!$F$19),)","v":0},{"$f":"IF($F$11=\"dinner\",IF(X120=0,,(X120/$E$12)*'Customer Info'!$F$19),)","v":0},{"$f":"IF($F$11=\"other\",IF(Y120=0,,(Y120/$E$13)*'Customer Info'!$F$19),)","v":0},0,{"$f":"IF($F$12=\"breakfast\",IF(V120=0,,(V120/$E$10)*'Customer Info'!$F$20),)","v":0},{"$f":"IF($F$12=\"lunch\",IF(W120=0,,(W120/$E$11)*'Customer Info'!$F$20),)","v":0},{"$f":"IF($F$12=\"other\",IF(Y120=0,,(Y120/$E$13)*'Customer Info'!$F$20),)","v":0},0,{"$f":"IF($F$13=\"breakfast\",IF(V120=0,,(V120/$E$10)*'Customer Info'!$F$21),)","v":0},{"$f":"IF($F$13=\"lunch\",IF(W120=0,,(W120/$E$11)*'Customer Info'!$F$21),)","v":0},{"$f":"IF($F$13=\"dinner\",IF(X120=0,,(X120/$E$12)*'Customer Info'!$F$21),)","v":0},0,{"$f":"IF($F$16=\"lunch\",IF(AA120=0,,(AA120/$E$17)*'Customer Info'!$H$18),)","v":0},{"$f":"IF($F$16=\"dinner\",IF(AB120=0,,(AB120/$E$18)*'Customer Info'!$H$18),)","v":0},{"$f":"IF($F$16=\"other\",IF(AC120=0,,(AC120/$E$19)*'Customer Info'!$H$18),)","v":0},0,{"$f":"IF($F$17=\"breakfast\",IF(Z120=0,,(Z120/$E$16)*'Customer Info'!$H$19),)","v":0},{"$f":"IF($F$17=\"dinner\",IF(AB120=0,,(AB120/$E$18)*'Customer Info'!$H$19),)","v":0},{"$f":"IF($F$17=\"other\",IF(AC120=0,,(AC120/$E$19)*'Customer Info'!$H$19),)","v":0},0,{"$f":"IF($F$18=\"breakfast\",IF(Z120=0,,(Z120/$E$16)*'Customer Info'!$H$20),)","v":0},{"$f":"IF($F$18=\"lunch\",IF(AA120=0,,(AA120/$E$17)*'Customer Info'!$H$20),)","v":0},{"$f":"IF($F$18=\"other\",IF(AC120=0,,(AC120/$E$19)*'Customer Info'!$H$20),)","v":0},0,{"$f":"IF($F$19=\"breakfast\",IF(Z120=0,,(Z120/$E$16)*'Customer Info'!$H$21),)","v":0},{"$f":"IF($F$19=\"lunch\",IF(AA120=0,,(AA120/$E$17)*'Customer Info'!$H$21),)","v":0},{"$f":"IF($F$19=\"dinner\",IF(AB120=0,,(AB120/$E$18)*'Customer Info'!$H$21),)","v":0},0,0,0,0,0,""]
[null,null,null,null,null,null,null,null,null,null,0,0,0,0,0,0,0,0,0,0,0,0,0,0,0,0,0,0,0,0,0,0,0,{"$f":"IF((OR($F$4=0,$F$4=\"none\")),IF(R121=0,,IF(OR($E$4='Customer Info'!$D$18,$E$4=0),R121,(R121/$E$4)*'Customer Info'!$D$18)),)","v":0},{"$f":"IF((OR($F$5=0,$F$5=\"none\")),IF(S121=0,,IF(OR($E$5='Customer Info'!$D$18,$E$5=0),S121,(S121/$E$5)*'Customer Info'!$D$19)),)","v":0},{"$f":"IF((OR($F$6=0,$F$6=\"none\")),IF(T121=0,,IF(OR($E$6='Customer Info'!$D$18,$E$6=0),T121,(T121/$E$6)*'Customer Info'!$D$20)),)","v":0},{"$f":"IF((OR($F$7=0,$F$7=\"none\")),IF(U121=0,,IF(OR($E$7='Customer Info'!$D$18,$E$7=0),U121,(U121/$E$7)*'Customer Info'!$D$21)),)","v":0},{"$f":"IF((OR($F$10=0,$F$10=\"none\")),IF(V121=0,,IF(OR($E$10='Customer Info'!$F$18,$E$10=0),V121,(V121/$E$10)*'Customer Info'!$F$18)),)","v":0},{"$f":"IF((OR($F$11=0,$F$11=\"none\")),IF(W121=0,,IF(OR($E$11='Customer Info'!$F$19,$E$11=0),W121,(W121/$E$11)*'Customer Info'!$F$19)),)","v":0},{"$f":"IF((OR($F$12=0,$F$12=\"none\")),IF(X121=0,,IF(OR($E$12='Customer Info'!$F$20,$E$12=0),X121,(X121/$E$12)*'Customer Info'!$F$20)),)","v":0},{"$f":"IF((OR($F$13=0,$F$13=\"none\")),IF(Y121=0,,IF(OR($E$13='Customer Info'!$F$21,$E$13=0),Y121,(Y121/$E$13)*'Customer Info'!$F$21)),)","v":0},{"$f":"IF((OR($F$16=0,$F$16=\"none\")),IF(Z121=0,,IF(OR($E$16='Customer Info'!$H$18,$E$16=0),Z121,(Z121/$E$16)*'Customer Info'!$H$18)),)","v":0},{"$f":"IF((OR($F$17=0,$F$17=\"none\")),IF(AA121=0,,IF(OR($E$17='Customer Info'!$H$19,$E$17=0),AA121,(AA121/$E$17)*'Customer Info'!$H$19)),)","v":0},{"$f":"IF((OR($F$18=0,$F$18=\"none\")),IF(AB121=0,,IF(OR($E$18='Customer Info'!$H$20,$E$18=0),AB121,(AB121/$E$18)*'Customer Info'!$H$20)),)","v":0},{"$f":"IF((OR($F$19=0,$F$19=\"none\")),IF(AC121=0,,IF(OR($E$19='Customer Info'!$H$21,$E$19=0),AC121,(AC121/$E$19)*'Customer Info'!$H$21)),)","v":0},{"$f":"IF((OR($F$4=0,$F$4=\"none\")),IF(AD121=0,,IF(OR($E$4='Customer Info'!$D$18,$E$4=0),AD121,(AD121/$E$4)*'Customer Info'!$D$18)),)","v":0},{"$f":"IF((OR($F$5=0,$F$5=\"none\")),IF(AE121=0,,IF(OR($E$5='Customer Info'!$D$19,$E$5=0),AE121,(AE121/$E$5)*'Customer Info'!$D$19)),)","v":0},{"$f":"IF((OR($F$6=0,$F$6=\"none\")),IF(AF121=0,,IF(OR($E$6='Customer Info'!$D$20,$E$6=0),AF121,(AF121/$E$6)*'Customer Info'!$D$20)),)","v":0},{"$f":"IF((OR($F$7=0,$F$7=\"none\")),IF(AG121=0,,IF(OR($E$7='Customer Info'!$D$21,$E$7=0),AG121,(AG121/$E$7)*'Customer Info'!$D$21)),)","v":0},0,0,{"$f":"IF(E121=\"plate waste\",,IF('Customer Info'!$M$18=0,'Log Sheet'!AY121,'Customer Info'!$M$18*'Log Sheet'!AY121))","v":0},{"$f":"IF(E121=\"plate waste\",IF(OR(C121=\"patient\",C121=\"patient beverages\"),IF('Customer Info'!$M$27=0,AY121*'Customer Info'!$M$18,AY121*'Customer Info'!$M$27),IF(C121=\"cafeteria\",IF('Customer Info'!$M$28=0,AY121*'Customer Info'!$M$18,AY121*'Customer Info'!$M$28),IF(C121=\"other1\",IF('Customer Info'!$M$29=0,AY121*'Customer Info'!$M$18,AY121*'Customer Info'!$M$29),))),)","v":0},0,{"$f":"IF($F$4=\"lunch\",IF(S121=0,,(S121/$E$5)*'Customer Info'!$D$18),)","v":0},{"$f":"IF($F$4=\"dinner\",IF(T121=0,,(T121/$E$6)*'Customer Info'!$D$18),)","v":0},{"$f":"IF($F$4=\"other\",IF(U121=0,,(U121/$E$7)*'Customer Info'!$D$18),)","v":0},0,{"$f":"IF($F$5=\"breakfast\",IF(R121=0,,(R121/$E$4)*'Customer Info'!$D$19),)","v":0},{"$f":"IF($F$5=\"dinner\",IF(T121=0,,(T121/$E$6)*'Customer Info'!$D$19),)","v":0},{"$f":"IF($F$5=\"other\",IF(U121=0,,(U121/$E$7)*'Customer Info'!$D$19),)","v":0},0,{"$f":"IF($F$6=\"breakfast\",IF(R121=0,,(R121/$E$4)*'Customer Info'!$D$20),)","v":0},{"$f":"IF($F$6=\"lunch\",IF(S121=0,,(S121/$E$5)*'Customer Info'!$D$20),)","v":0},{"$f":"IF($F$6=\"other\",IF(U121=0,,(U121/$E$7)*'Customer Info'!$D$20),)","v":0},0,{"$f":"IF($F$7=\"breakfast\",IF(R121=0,,(R121/$E$4)*'Customer Info'!$D$21),)","v":0},{"$f":"IF($F$7=\"lunch\",IF(S121=0,,(S121/$E$5)*'Customer Info'!$D$21),)","v":0},{"$f":"IF($F$7=\"dinner\",IF(T121=0,,(T121/$E$6)*'Customer Info'!$D$21),)","v":0},0,{"$f":"IF($F$10=\"lunch\",IF(W121=0,,(W121/$E$11)*'Customer Info'!$F$18),)","v":0},{"$f":"IF($F$10=\"dinner\",IF(X121=0,,(X121/$E$12)*'Customer Info'!$F$18),)","v":0},{"$f":"IF($F$10=\"other\",IF(Y121=0,,(Y121/$E$13)*'Customer Info'!$F$18),)","v":0},0,{"$f":"IF($F$11=\"breakfast\",IF(V121=0,,(V121/$E$10)*'Customer Info'!$F$19),)","v":0},{"$f":"IF($F$11=\"dinner\",IF(X121=0,,(X121/$E$12)*'Customer Info'!$F$19),)","v":0},{"$f":"IF($F$11=\"other\",IF(Y121=0,,(Y121/$E$13)*'Customer Info'!$F$19),)","v":0},0,{"$f":"IF($F$12=\"breakfast\",IF(V121=0,,(V121/$E$10)*'Customer Info'!$F$20),)","v":0},{"$f":"IF($F$12=\"lunch\",IF(W121=0,,(W121/$E$11)*'Customer Info'!$F$20),)","v":0},{"$f":"IF($F$12=\"other\",IF(Y121=0,,(Y121/$E$13)*'Customer Info'!$F$20),)","v":0},0,{"$f":"IF($F$13=\"breakfast\",IF(V121=0,,(V121/$E$10)*'Customer Info'!$F$21),)","v":0},{"$f":"IF($F$13=\"lunch\",IF(W121=0,,(W121/$E$11)*'Customer Info'!$F$21),)","v":0},{"$f":"IF($F$13=\"dinner\",IF(X121=0,,(X121/$E$12)*'Customer Info'!$F$21),)","v":0},0,{"$f":"IF($F$16=\"lunch\",IF(AA121=0,,(AA121/$E$17)*'Customer Info'!$H$18),)","v":0},{"$f":"IF($F$16=\"dinner\",IF(AB121=0,,(AB121/$E$18)*'Customer Info'!$H$18),)","v":0},{"$f":"IF($F$16=\"other\",IF(AC121=0,,(AC121/$E$19)*'Customer Info'!$H$18),)","v":0},0,{"$f":"IF($F$17=\"breakfast\",IF(Z121=0,,(Z121/$E$16)*'Customer Info'!$H$19),)","v":0},{"$f":"IF($F$17=\"dinner\",IF(AB121=0,,(AB121/$E$18)*'Customer Info'!$H$19),)","v":0},{"$f":"IF($F$17=\"other\",IF(AC121=0,,(AC121/$E$19)*'Customer Info'!$H$19),)","v":0},0,{"$f":"IF($F$18=\"breakfast\",IF(Z121=0,,(Z121/$E$16)*'Customer Info'!$H$20),)","v":0},{"$f":"IF($F$18=\"lunch\",IF(AA121=0,,(AA121/$E$17)*'Customer Info'!$H$20),)","v":0},{"$f":"IF($F$18=\"other\",IF(AC121=0,,(AC121/$E$19)*'Customer Info'!$H$20),)","v":0},0,{"$f":"IF($F$19=\"breakfast\",IF(Z121=0,,(Z121/$E$16)*'Customer Info'!$H$21),)","v":0},{"$f":"IF($F$19=\"lunch\",IF(AA121=0,,(AA121/$E$17)*'Customer Info'!$H$21),)","v":0},{"$f":"IF($F$19=\"dinner\",IF(AB121=0,,(AB121/$E$18)*'Customer Info'!$H$21),)","v":0},0,0,0,0,0,""]
[null,null,null,null,null,null,null,null,null,null,0,0,0,0,0,0,0,0,0,0,0,0,0,0,0,0,0,0,0,0,0,0,0,{"$f":"IF((OR($F$4=0,$F$4=\"none\")),IF(R122=0,,IF(OR($E$4='Customer Info'!$D$18,$E$4=0),R122,(R122/$E$4)*'Customer Info'!$D$18)),)","v":0},{"$f":"IF((OR($F$5=0,$F$5=\"none\")),IF(S122=0,,IF(OR($E$5='Customer Info'!$D$18,$E$5=0),S122,(S122/$E$5)*'Customer Info'!$D$19)),)","v":0},{"$f":"IF((OR($F$6=0,$F$6=\"none\")),IF(T122=0,,IF(OR($E$6='Customer Info'!$D$18,$E$6=0),T122,(T122/$E$6)*'Customer Info'!$D$20)),)","v":0},{"$f":"IF((OR($F$7=0,$F$7=\"none\")),IF(U122=0,,IF(OR($E$7='Customer Info'!$D$18,$E$7=0),U122,(U122/$E$7)*'Customer Info'!$D$21)),)","v":0},{"$f":"IF((OR($F$10=0,$F$10=\"none\")),IF(V122=0,,IF(OR($E$10='Customer Info'!$F$18,$E$10=0),V122,(V122/$E$10)*'Customer Info'!$F$18)),)","v":0},{"$f":"IF((OR($F$11=0,$F$11=\"none\")),IF(W122=0,,IF(OR($E$11='Customer Info'!$F$19,$E$11=0),W122,(W122/$E$11)*'Customer Info'!$F$19)),)","v":0},{"$f":"IF((OR($F$12=0,$F$12=\"none\")),IF(X122=0,,IF(OR($E$12='Customer Info'!$F$20,$E$12=0),X122,(X122/$E$12)*'Customer Info'!$F$20)),)","v":0},{"$f":"IF((OR($F$13=0,$F$13=\"none\")),IF(Y122=0,,IF(OR($E$13='Customer Info'!$F$21,$E$13=0),Y122,(Y122/$E$13)*'Customer Info'!$F$21)),)","v":0},{"$f":"IF((OR($F$16=0,$F$16=\"none\")),IF(Z122=0,,IF(OR($E$16='Customer Info'!$H$18,$E$16=0),Z122,(Z122/$E$16)*'Customer Info'!$H$18)),)","v":0},{"$f":"IF((OR($F$17=0,$F$17=\"none\")),IF(AA122=0,,IF(OR($E$17='Customer Info'!$H$19,$E$17=0),AA122,(AA122/$E$17)*'Customer Info'!$H$19)),)","v":0},{"$f":"IF((OR($F$18=0,$F$18=\"none\")),IF(AB122=0,,IF(OR($E$18='Customer Info'!$H$20,$E$18=0),AB122,(AB122/$E$18)*'Customer Info'!$H$20)),)","v":0},{"$f":"IF((OR($F$19=0,$F$19=\"none\")),IF(AC122=0,,IF(OR($E$19='Customer Info'!$H$21,$E$19=0),AC122,(AC122/$E$19)*'Customer Info'!$H$21)),)","v":0},{"$f":"IF((OR($F$4=0,$F$4=\"none\")),IF(AD122=0,,IF(OR($E$4='Customer Info'!$D$18,$E$4=0),AD122,(AD122/$E$4)*'Customer Info'!$D$18)),)","v":0},{"$f":"IF((OR($F$5=0,$F$5=\"none\")),IF(AE122=0,,IF(OR($E$5='Customer Info'!$D$19,$E$5=0),AE122,(AE122/$E$5)*'Customer Info'!$D$19)),)","v":0},{"$f":"IF((OR($F$6=0,$F$6=\"none\")),IF(AF122=0,,IF(OR($E$6='Customer Info'!$D$20,$E$6=0),AF122,(AF122/$E$6)*'Customer Info'!$D$20)),)","v":0},{"$f":"IF((OR($F$7=0,$F$7=\"none\")),IF(AG122=0,,IF(OR($E$7='Customer Info'!$D$21,$E$7=0),AG122,(AG122/$E$7)*'Customer Info'!$D$21)),)","v":0},0,0,{"$f":"IF(E122=\"plate waste\",,IF('Customer Info'!$M$18=0,'Log Sheet'!AY122,'Customer Info'!$M$18*'Log Sheet'!AY122))","v":0},{"$f":"IF(E122=\"plate waste\",IF(OR(C122=\"patient\",C122=\"patient beverages\"),IF('Customer Info'!$M$27=0,AY122*'Customer Info'!$M$18,AY122*'Customer Info'!$M$27),IF(C122=\"cafeteria\",IF('Customer Info'!$M$28=0,AY122*'Customer Info'!$M$18,AY122*'Customer Info'!$M$28),IF(C122=\"other1\",IF('Customer Info'!$M$29=0,AY122*'Customer Info'!$M$18,AY122*'Customer Info'!$M$29),))),)","v":0},0,{"$f":"IF($F$4=\"lunch\",IF(S122=0,,(S122/$E$5)*'Customer Info'!$D$18),)","v":0},{"$f":"IF($F$4=\"dinner\",IF(T122=0,,(T122/$E$6)*'Customer Info'!$D$18),)","v":0},{"$f":"IF($F$4=\"other\",IF(U122=0,,(U122/$E$7)*'Customer Info'!$D$18),)","v":0},0,{"$f":"IF($F$5=\"breakfast\",IF(R122=0,,(R122/$E$4)*'Customer Info'!$D$19),)","v":0},{"$f":"IF($F$5=\"dinner\",IF(T122=0,,(T122/$E$6)*'Customer Info'!$D$19),)","v":0},{"$f":"IF($F$5=\"other\",IF(U122=0,,(U122/$E$7)*'Customer Info'!$D$19),)","v":0},0,{"$f":"IF($F$6=\"breakfast\",IF(R122=0,,(R122/$E$4)*'Customer Info'!$D$20),)","v":0},{"$f":"IF($F$6=\"lunch\",IF(S122=0,,(S122/$E$5)*'Customer Info'!$D$20),)","v":0},{"$f":"IF($F$6=\"other\",IF(U122=0,,(U122/$E$7)*'Customer Info'!$D$20),)","v":0},0,{"$f":"IF($F$7=\"breakfast\",IF(R122=0,,(R122/$E$4)*'Customer Info'!$D$21),)","v":0},{"$f":"IF($F$7=\"lunch\",IF(S122=0,,(S122/$E$5)*'Customer Info'!$D$21),)","v":0},{"$f":"IF($F$7=\"dinner\",IF(T122=0,,(T122/$E$6)*'Customer Info'!$D$21),)","v":0},0,{"$f":"IF($F$10=\"lunch\",IF(W122=0,,(W122/$E$11)*'Customer Info'!$F$18),)","v":0},{"$f":"IF($F$10=\"dinner\",IF(X122=0,,(X122/$E$12)*'Customer Info'!$F$18),)","v":0},{"$f":"IF($F$10=\"other\",IF(Y122=0,,(Y122/$E$13)*'Customer Info'!$F$18),)","v":0},0,{"$f":"IF($F$11=\"breakfast\",IF(V122=0,,(V122/$E$10)*'Customer Info'!$F$19),)","v":0},{"$f":"IF($F$11=\"dinner\",IF(X122=0,,(X122/$E$12)*'Customer Info'!$F$19),)","v":0},{"$f":"IF($F$11=\"other\",IF(Y122=0,,(Y122/$E$13)*'Customer Info'!$F$19),)","v":0},0,{"$f":"IF($F$12=\"breakfast\",IF(V122=0,,(V122/$E$10)*'Customer Info'!$F$20),)","v":0},{"$f":"IF($F$12=\"lunch\",IF(W122=0,,(W122/$E$11)*'Customer Info'!$F$20),)","v":0},{"$f":"IF($F$12=\"other\",IF(Y122=0,,(Y122/$E$13)*'Customer Info'!$F$20),)","v":0},0,{"$f":"IF($F$13=\"breakfast\",IF(V122=0,,(V122/$E$10)*'Customer Info'!$F$21),)","v":0},{"$f":"IF($F$13=\"lunch\",IF(W122=0,,(W122/$E$11)*'Customer Info'!$F$21),)","v":0},{"$f":"IF($F$13=\"dinner\",IF(X122=0,,(X122/$E$12)*'Customer Info'!$F$21),)","v":0},0,{"$f":"IF($F$16=\"lunch\",IF(AA122=0,,(AA122/$E$17)*'Customer Info'!$H$18),)","v":0},{"$f":"IF($F$16=\"dinner\",IF(AB122=0,,(AB122/$E$18)*'Customer Info'!$H$18),)","v":0},{"$f":"IF($F$16=\"other\",IF(AC122=0,,(AC122/$E$19)*'Customer Info'!$H$18),)","v":0},0,{"$f":"IF($F$17=\"breakfast\",IF(Z122=0,,(Z122/$E$16)*'Customer Info'!$H$19),)","v":0},{"$f":"IF($F$17=\"dinner\",IF(AB122=0,,(AB122/$E$18)*'Customer Info'!$H$19),)","v":0},{"$f":"IF($F$17=\"other\",IF(AC122=0,,(AC122/$E$19)*'Customer Info'!$H$19),)","v":0},0,{"$f":"IF($F$18=\"breakfast\",IF(Z122=0,,(Z122/$E$16)*'Customer Info'!$H$20),)","v":0},{"$f":"IF($F$18=\"lunch\",IF(AA122=0,,(AA122/$E$17)*'Customer Info'!$H$20),)","v":0},{"$f":"IF($F$18=\"other\",IF(AC122=0,,(AC122/$E$19)*'Customer Info'!$H$20),)","v":0},0,{"$f":"IF($F$19=\"breakfast\",IF(Z122=0,,(Z122/$E$16)*'Customer Info'!$H$21),)","v":0},{"$f":"IF($F$19=\"lunch\",IF(AA122=0,,(AA122/$E$17)*'Customer Info'!$H$21),)","v":0},{"$f":"IF($F$19=\"dinner\",IF(AB122=0,,(AB122/$E$18)*'Customer Info'!$H$21),)","v":0},0,0,0,0,0,""]
[null,null,null,null,null,null,null,null,null,null,0,0,0,0,0,0,0,0,0,0,0,0,0,0,0,0,0,0,0,0,0,0,0,{"$f":"IF((OR($F$4=0,$F$4=\"none\")),IF(R123=0,,IF(OR($E$4='Customer Info'!$D$18,$E$4=0),R123,(R123/$E$4)*'Customer Info'!$D$18)),)","v":0},{"$f":"IF((OR($F$5=0,$F$5=\"none\")),IF(S123=0,,IF(OR($E$5='Customer Info'!$D$18,$E$5=0),S123,(S123/$E$5)*'Customer Info'!$D$19)),)","v":0},{"$f":"IF((OR($F$6=0,$F$6=\"none\")),IF(T123=0,,IF(OR($E$6='Customer Info'!$D$18,$E$6=0),T123,(T123/$E$6)*'Customer Info'!$D$20)),)","v":0},{"$f":"IF((OR($F$7=0,$F$7=\"none\")),IF(U123=0,,IF(OR($E$7='Customer Info'!$D$18,$E$7=0),U123,(U123/$E$7)*'Customer Info'!$D$21)),)","v":0},{"$f":"IF((OR($F$10=0,$F$10=\"none\")),IF(V123=0,,IF(OR($E$10='Customer Info'!$F$18,$E$10=0),V123,(V123/$E$10)*'Customer Info'!$F$18)),)","v":0},{"$f":"IF((OR($F$11=0,$F$11=\"none\")),IF(W123=0,,IF(OR($E$11='Customer Info'!$F$19,$E$11=0),W123,(W123/$E$11)*'Customer Info'!$F$19)),)","v":0},{"$f":"IF((OR($F$12=0,$F$12=\"none\")),IF(X123=0,,IF(OR($E$12='Customer Info'!$F$20,$E$12=0),X123,(X123/$E$12)*'Customer Info'!$F$20)),)","v":0},{"$f":"IF((OR($F$13=0,$F$13=\"none\")),IF(Y123=0,,IF(OR($E$13='Customer Info'!$F$21,$E$13=0),Y123,(Y123/$E$13)*'Customer Info'!$F$21)),)","v":0},{"$f":"IF((OR($F$16=0,$F$16=\"none\")),IF(Z123=0,,IF(OR($E$16='Customer Info'!$H$18,$E$16=0),Z123,(Z123/$E$16)*'Customer Info'!$H$18)),)","v":0},{"$f":"IF((OR($F$17=0,$F$17=\"none\")),IF(AA123=0,,IF(OR($E$17='Customer Info'!$H$19,$E$17=0),AA123,(AA123/$E$17)*'Customer Info'!$H$19)),)","v":0},{"$f":"IF((OR($F$18=0,$F$18=\"none\")),IF(AB123=0,,IF(OR($E$18='Customer Info'!$H$20,$E$18=0),AB123,(AB123/$E$18)*'Customer Info'!$H$20)),)","v":0},{"$f":"IF((OR($F$19=0,$F$19=\"none\")),IF(AC123=0,,IF(OR($E$19='Customer Info'!$H$21,$E$19=0),AC123,(AC123/$E$19)*'Customer Info'!$H$21)),)","v":0},{"$f":"IF((OR($F$4=0,$F$4=\"none\")),IF(AD123=0,,IF(OR($E$4='Customer Info'!$D$18,$E$4=0),AD123,(AD123/$E$4)*'Customer Info'!$D$18)),)","v":0},{"$f":"IF((OR($F$5=0,$F$5=\"none\")),IF(AE123=0,,IF(OR($E$5='Customer Info'!$D$19,$E$5=0),AE123,(AE123/$E$5)*'Customer Info'!$D$19)),)","v":0},{"$f":"IF((OR($F$6=0,$F$6=\"none\")),IF(AF123=0,,IF(OR($E$6='Customer Info'!$D$20,$E$6=0),AF123,(AF123/$E$6)*'Customer Info'!$D$20)),)","v":0},{"$f":"IF((OR($F$7=0,$F$7=\"none\")),IF(AG123=0,,IF(OR($E$7='Customer Info'!$D$21,$E$7=0),AG123,(AG123/$E$7)*'Customer Info'!$D$21)),)","v":0},0,0,{"$f":"IF(E123=\"plate waste\",,IF('Customer Info'!$M$18=0,'Log Sheet'!AY123,'Customer Info'!$M$18*'Log Sheet'!AY123))","v":0},{"$f":"IF(E123=\"plate waste\",IF(OR(C123=\"patient\",C123=\"patient beverages\"),IF('Customer Info'!$M$27=0,AY123*'Customer Info'!$M$18,AY123*'Customer Info'!$M$27),IF(C123=\"cafeteria\",IF('Customer Info'!$M$28=0,AY123*'Customer Info'!$M$18,AY123*'Customer Info'!$M$28),IF(C123=\"other1\",IF('Customer Info'!$M$29=0,AY123*'Customer Info'!$M$18,AY123*'Customer Info'!$M$29),))),)","v":0},0,{"$f":"IF($F$4=\"lunch\",IF(S123=0,,(S123/$E$5)*'Customer Info'!$D$18),)","v":0},{"$f":"IF($F$4=\"dinner\",IF(T123=0,,(T123/$E$6)*'Customer Info'!$D$18),)","v":0},{"$f":"IF($F$4=\"other\",IF(U123=0,,(U123/$E$7)*'Customer Info'!$D$18),)","v":0},0,{"$f":"IF($F$5=\"breakfast\",IF(R123=0,,(R123/$E$4)*'Customer Info'!$D$19),)","v":0},{"$f":"IF($F$5=\"dinner\",IF(T123=0,,(T123/$E$6)*'Customer Info'!$D$19),)","v":0},{"$f":"IF($F$5=\"other\",IF(U123=0,,(U123/$E$7)*'Customer Info'!$D$19),)","v":0},0,{"$f":"IF($F$6=\"breakfast\",IF(R123=0,,(R123/$E$4)*'Customer Info'!$D$20),)","v":0},{"$f":"IF($F$6=\"lunch\",IF(S123=0,,(S123/$E$5)*'Customer Info'!$D$20),)","v":0},{"$f":"IF($F$6=\"other\",IF(U123=0,,(U123/$E$7)*'Customer Info'!$D$20),)","v":0},0,{"$f":"IF($F$7=\"breakfast\",IF(R123=0,,(R123/$E$4)*'Customer Info'!$D$21),)","v":0},{"$f":"IF($F$7=\"lunch\",IF(S123=0,,(S123/$E$5)*'Customer Info'!$D$21),)","v":0},{"$f":"IF($F$7=\"dinner\",IF(T123=0,,(T123/$E$6)*'Customer Info'!$D$21),)","v":0},0,{"$f":"IF($F$10=\"lunch\",IF(W123=0,,(W123/$E$11)*'Customer Info'!$F$18),)","v":0},{"$f":"IF($F$10=\"dinner\",IF(X123=0,,(X123/$E$12)*'Customer Info'!$F$18),)","v":0},{"$f":"IF($F$10=\"other\",IF(Y123=0,,(Y123/$E$13)*'Customer Info'!$F$18),)","v":0},0,{"$f":"IF($F$11=\"breakfast\",IF(V123=0,,(V123/$E$10)*'Customer Info'!$F$19),)","v":0},{"$f":"IF($F$11=\"dinner\",IF(X123=0,,(X123/$E$12)*'Customer Info'!$F$19),)","v":0},{"$f":"IF($F$11=\"other\",IF(Y123=0,,(Y123/$E$13)*'Customer Info'!$F$19),)","v":0},0,{"$f":"IF($F$12=\"breakfast\",IF(V123=0,,(V123/$E$10)*'Customer Info'!$F$20),)","v":0},{"$f":"IF($F$12=\"lunch\",IF(W123=0,,(W123/$E$11)*'Customer Info'!$F$20),)","v":0},{"$f":"IF($F$12=\"other\",IF(Y123=0,,(Y123/$E$13)*'Customer Info'!$F$20),)","v":0},0,{"$f":"IF($F$13=\"breakfast\",IF(V123=0,,(V123/$E$10)*'Customer Info'!$F$21),)","v":0},{"$f":"IF($F$13=\"lunch\",IF(W123=0,,(W123/$E$11)*'Customer Info'!$F$21),)","v":0},{"$f":"IF($F$13=\"dinner\",IF(X123=0,,(X123/$E$12)*'Customer Info'!$F$21),)","v":0},0,{"$f":"IF($F$16=\"lunch\",IF(AA123=0,,(AA123/$E$17)*'Customer Info'!$H$18),)","v":0},{"$f":"IF($F$16=\"dinner\",IF(AB123=0,,(AB123/$E$18)*'Customer Info'!$H$18),)","v":0},{"$f":"IF($F$16=\"other\",IF(AC123=0,,(AC123/$E$19)*'Customer Info'!$H$18),)","v":0},0,{"$f":"IF($F$17=\"breakfast\",IF(Z123=0,,(Z123/$E$16)*'Customer Info'!$H$19),)","v":0},{"$f":"IF($F$17=\"dinner\",IF(AB123=0,,(AB123/$E$18)*'Customer Info'!$H$19),)","v":0},{"$f":"IF($F$17=\"other\",IF(AC123=0,,(AC123/$E$19)*'Customer Info'!$H$19),)","v":0},0,{"$f":"IF($F$18=\"breakfast\",IF(Z123=0,,(Z123/$E$16)*'Customer Info'!$H$20),)","v":0},{"$f":"IF($F$18=\"lunch\",IF(AA123=0,,(AA123/$E$17)*'Customer Info'!$H$20),)","v":0},{"$f":"IF($F$18=\"other\",IF(AC123=0,,(AC123/$E$19)*'Customer Info'!$H$20),)","v":0},0,{"$f":"IF($F$19=\"breakfast\",IF(Z123=0,,(Z123/$E$16)*'Customer Info'!$H$21),)","v":0},{"$f":"IF($F$19=\"lunch\",IF(AA123=0,,(AA123/$E$17)*'Customer Info'!$H$21),)","v":0},{"$f":"IF($F$19=\"dinner\",IF(AB123=0,,(AB123/$E$18)*'Customer Info'!$H$21),)","v":0},0,0,0,0,0,""]
[null,null,null,null,null,null,null,null,null,null,0,0,0,0,0,0,0,0,0,0,0,0,0,0,0,0,0,0,0,0,0,0,0,{"$f":"IF((OR($F$4=0,$F$4=\"none\")),IF(R124=0,,IF(OR($E$4='Customer Info'!$D$18,$E$4=0),R124,(R124/$E$4)*'Customer Info'!$D$18)),)","v":0},{"$f":"IF((OR($F$5=0,$F$5=\"none\")),IF(S124=0,,IF(OR($E$5='Customer Info'!$D$18,$E$5=0),S124,(S124/$E$5)*'Customer Info'!$D$19)),)","v":0},{"$f":"IF((OR($F$6=0,$F$6=\"none\")),IF(T124=0,,IF(OR($E$6='Customer Info'!$D$18,$E$6=0),T124,(T124/$E$6)*'Customer Info'!$D$20)),)","v":0},{"$f":"IF((OR($F$7=0,$F$7=\"none\")),IF(U124=0,,IF(OR($E$7='Customer Info'!$D$18,$E$7=0),U124,(U124/$E$7)*'Customer Info'!$D$21)),)","v":0},{"$f":"IF((OR($F$10=0,$F$10=\"none\")),IF(V124=0,,IF(OR($E$10='Customer Info'!$F$18,$E$10=0),V124,(V124/$E$10)*'Customer Info'!$F$18)),)","v":0},{"$f":"IF((OR($F$11=0,$F$11=\"none\")),IF(W124=0,,IF(OR($E$11='Customer Info'!$F$19,$E$11=0),W124,(W124/$E$11)*'Customer Info'!$F$19)),)","v":0},{"$f":"IF((OR($F$12=0,$F$12=\"none\")),IF(X124=0,,IF(OR($E$12='Customer Info'!$F$20,$E$12=0),X124,(X124/$E$12)*'Customer Info'!$F$20)),)","v":0},{"$f":"IF((OR($F$13=0,$F$13=\"none\")),IF(Y124=0,,IF(OR($E$13='Customer Info'!$F$21,$E$13=0),Y124,(Y124/$E$13)*'Customer Info'!$F$21)),)","v":0},{"$f":"IF((OR($F$16=0,$F$16=\"none\")),IF(Z124=0,,IF(OR($E$16='Customer Info'!$H$18,$E$16=0),Z124,(Z124/$E$16)*'Customer Info'!$H$18)),)","v":0},{"$f":"IF((OR($F$17=0,$F$17=\"none\")),IF(AA124=0,,IF(OR($E$17='Customer Info'!$H$19,$E$17=0),AA124,(AA124/$E$17)*'Customer Info'!$H$19)),)","v":0},{"$f":"IF((OR($F$18=0,$F$18=\"none\")),IF(AB124=0,,IF(OR($E$18='Customer Info'!$H$20,$E$18=0),AB124,(AB124/$E$18)*'Customer Info'!$H$20)),)","v":0},{"$f":"IF((OR($F$19=0,$F$19=\"none\")),IF(AC124=0,,IF(OR($E$19='Customer Info'!$H$21,$E$19=0),AC124,(AC124/$E$19)*'Customer Info'!$H$21)),)","v":0},{"$f":"IF((OR($F$4=0,$F$4=\"none\")),IF(AD124=0,,IF(OR($E$4='Customer Info'!$D$18,$E$4=0),AD124,(AD124/$E$4)*'Customer Info'!$D$18)),)","v":0},{"$f":"IF((OR($F$5=0,$F$5=\"none\")),IF(AE124=0,,IF(OR($E$5='Customer Info'!$D$19,$E$5=0),AE124,(AE124/$E$5)*'Customer Info'!$D$19)),)","v":0},{"$f":"IF((OR($F$6=0,$F$6=\"none\")),IF(AF124=0,,IF(OR($E$6='Customer Info'!$D$20,$E$6=0),AF124,(AF124/$E$6)*'Customer Info'!$D$20)),)","v":0},{"$f":"IF((OR($F$7=0,$F$7=\"none\")),IF(AG124=0,,IF(OR($E$7='Customer Info'!$D$21,$E$7=0),AG124,(AG124/$E$7)*'Customer Info'!$D$21)),)","v":0},0,0,{"$f":"IF(E124=\"plate waste\",,IF('Customer Info'!$M$18=0,'Log Sheet'!AY124,'Customer Info'!$M$18*'Log Sheet'!AY124))","v":0},{"$f":"IF(E124=\"plate waste\",IF(OR(C124=\"patient\",C124=\"patient beverages\"),IF('Customer Info'!$M$27=0,AY124*'Customer Info'!$M$18,AY124*'Customer Info'!$M$27),IF(C124=\"cafeteria\",IF('Customer Info'!$M$28=0,AY124*'Customer Info'!$M$18,AY124*'Customer Info'!$M$28),IF(C124=\"other1\",IF('Customer Info'!$M$29=0,AY124*'Customer Info'!$M$18,AY124*'Customer Info'!$M$29),))),)","v":0},0,{"$f":"IF($F$4=\"lunch\",IF(S124=0,,(S124/$E$5)*'Customer Info'!$D$18),)","v":0},{"$f":"IF($F$4=\"dinner\",IF(T124=0,,(T124/$E$6)*'Customer Info'!$D$18),)","v":0},{"$f":"IF($F$4=\"other\",IF(U124=0,,(U124/$E$7)*'Customer Info'!$D$18),)","v":0},0,{"$f":"IF($F$5=\"breakfast\",IF(R124=0,,(R124/$E$4)*'Customer Info'!$D$19),)","v":0},{"$f":"IF($F$5=\"dinner\",IF(T124=0,,(T124/$E$6)*'Customer Info'!$D$19),)","v":0},{"$f":"IF($F$5=\"other\",IF(U124=0,,(U124/$E$7)*'Customer Info'!$D$19),)","v":0},0,{"$f":"IF($F$6=\"breakfast\",IF(R124=0,,(R124/$E$4)*'Customer Info'!$D$20),)","v":0},{"$f":"IF($F$6=\"lunch\",IF(S124=0,,(S124/$E$5)*'Customer Info'!$D$20),)","v":0},{"$f":"IF($F$6=\"other\",IF(U124=0,,(U124/$E$7)*'Customer Info'!$D$20),)","v":0},0,{"$f":"IF($F$7=\"breakfast\",IF(R124=0,,(R124/$E$4)*'Customer Info'!$D$21),)","v":0},{"$f":"IF($F$7=\"lunch\",IF(S124=0,,(S124/$E$5)*'Customer Info'!$D$21),)","v":0},{"$f":"IF($F$7=\"dinner\",IF(T124=0,,(T124/$E$6)*'Customer Info'!$D$21),)","v":0},0,{"$f":"IF($F$10=\"lunch\",IF(W124=0,,(W124/$E$11)*'Customer Info'!$F$18),)","v":0},{"$f":"IF($F$10=\"dinner\",IF(X124=0,,(X124/$E$12)*'Customer Info'!$F$18),)","v":0},{"$f":"IF($F$10=\"other\",IF(Y124=0,,(Y124/$E$13)*'Customer Info'!$F$18),)","v":0},0,{"$f":"IF($F$11=\"breakfast\",IF(V124=0,,(V124/$E$10)*'Customer Info'!$F$19),)","v":0},{"$f":"IF($F$11=\"dinner\",IF(X124=0,,(X124/$E$12)*'Customer Info'!$F$19),)","v":0},{"$f":"IF($F$11=\"other\",IF(Y124=0,,(Y124/$E$13)*'Customer Info'!$F$19),)","v":0},0,{"$f":"IF($F$12=\"breakfast\",IF(V124=0,,(V124/$E$10)*'Customer Info'!$F$20),)","v":0},{"$f":"IF($F$12=\"lunch\",IF(W124=0,,(W124/$E$11)*'Customer Info'!$F$20),)","v":0},{"$f":"IF($F$12=\"other\",IF(Y124=0,,(Y124/$E$13)*'Customer Info'!$F$20),)","v":0},0,{"$f":"IF($F$13=\"breakfast\",IF(V124=0,,(V124/$E$10)*'Customer Info'!$F$21),)","v":0},{"$f":"IF($F$13=\"lunch\",IF(W124=0,,(W124/$E$11)*'Customer Info'!$F$21),)","v":0},{"$f":"IF($F$13=\"dinner\",IF(X124=0,,(X124/$E$12)*'Customer Info'!$F$21),)","v":0},0,{"$f":"IF($F$16=\"lunch\",IF(AA124=0,,(AA124/$E$17)*'Customer Info'!$H$18),)","v":0},{"$f":"IF($F$16=\"dinner\",IF(AB124=0,,(AB124/$E$18)*'Customer Info'!$H$18),)","v":0},{"$f":"IF($F$16=\"other\",IF(AC124=0,,(AC124/$E$19)*'Customer Info'!$H$18),)","v":0},0,{"$f":"IF($F$17=\"breakfast\",IF(Z124=0,,(Z124/$E$16)*'Customer Info'!$H$19),)","v":0},{"$f":"IF($F$17=\"dinner\",IF(AB124=0,,(AB124/$E$18)*'Customer Info'!$H$19),)","v":0},{"$f":"IF($F$17=\"other\",IF(AC124=0,,(AC124/$E$19)*'Customer Info'!$H$19),)","v":0},0,{"$f":"IF($F$18=\"breakfast\",IF(Z124=0,,(Z124/$E$16)*'Customer Info'!$H$20),)","v":0},{"$f":"IF($F$18=\"lunch\",IF(AA124=0,,(AA124/$E$17)*'Customer Info'!$H$20),)","v":0},{"$f":"IF($F$18=\"other\",IF(AC124=0,,(AC124/$E$19)*'Customer Info'!$H$20),)","v":0},0,{"$f":"IF($F$19=\"breakfast\",IF(Z124=0,,(Z124/$E$16)*'Customer Info'!$H$21),)","v":0},{"$f":"IF($F$19=\"lunch\",IF(AA124=0,,(AA124/$E$17)*'Customer Info'!$H$21),)","v":0},{"$f":"IF($F$19=\"dinner\",IF(AB124=0,,(AB124/$E$18)*'Customer Info'!$H$21),)","v":0},0,0,0,0,0,""]
[null,null,null,null,null,null,null,null,null,null,0,0,0,0,0,0,0,0,0,0,0,0,0,0,0,0,0,0,0,0,0,0,0,{"$f":"IF((OR($F$4=0,$F$4=\"none\")),IF(R125=0,,IF(OR($E$4='Customer Info'!$D$18,$E$4=0),R125,(R125/$E$4)*'Customer Info'!$D$18)),)","v":0},{"$f":"IF((OR($F$5=0,$F$5=\"none\")),IF(S125=0,,IF(OR($E$5='Customer Info'!$D$18,$E$5=0),S125,(S125/$E$5)*'Customer Info'!$D$19)),)","v":0},{"$f":"IF((OR($F$6=0,$F$6=\"none\")),IF(T125=0,,IF(OR($E$6='Customer Info'!$D$18,$E$6=0),T125,(T125/$E$6)*'Customer Info'!$D$20)),)","v":0},{"$f":"IF((OR($F$7=0,$F$7=\"none\")),IF(U125=0,,IF(OR($E$7='Customer Info'!$D$18,$E$7=0),U125,(U125/$E$7)*'Customer Info'!$D$21)),)","v":0},{"$f":"IF((OR($F$10=0,$F$10=\"none\")),IF(V125=0,,IF(OR($E$10='Customer Info'!$F$18,$E$10=0),V125,(V125/$E$10)*'Customer Info'!$F$18)),)","v":0},{"$f":"IF((OR($F$11=0,$F$11=\"none\")),IF(W125=0,,IF(OR($E$11='Customer Info'!$F$19,$E$11=0),W125,(W125/$E$11)*'Customer Info'!$F$19)),)","v":0},{"$f":"IF((OR($F$12=0,$F$12=\"none\")),IF(X125=0,,IF(OR($E$12='Customer Info'!$F$20,$E$12=0),X125,(X125/$E$12)*'Customer Info'!$F$20)),)","v":0},{"$f":"IF((OR($F$13=0,$F$13=\"none\")),IF(Y125=0,,IF(OR($E$13='Customer Info'!$F$21,$E$13=0),Y125,(Y125/$E$13)*'Customer Info'!$F$21)),)","v":0},{"$f":"IF((OR($F$16=0,$F$16=\"none\")),IF(Z125=0,,IF(OR($E$16='Customer Info'!$H$18,$E$16=0),Z125,(Z125/$E$16)*'Customer Info'!$H$18)),)","v":0},{"$f":"IF((OR($F$17=0,$F$17=\"none\")),IF(AA125=0,,IF(OR($E$17='Customer Info'!$H$19,$E$17=0),AA125,(AA125/$E$17)*'Customer Info'!$H$19)),)","v":0},{"$f":"IF((OR($F$18=0,$F$18=\"none\")),IF(AB125=0,,IF(OR($E$18='Customer Info'!$H$20,$E$18=0),AB125,(AB125/$E$18)*'Customer Info'!$H$20)),)","v":0},{"$f":"IF((OR($F$19=0,$F$19=\"none\")),IF(AC125=0,,IF(OR($E$19='Customer Info'!$H$21,$E$19=0),AC125,(AC125/$E$19)*'Customer Info'!$H$21)),)","v":0},{"$f":"IF((OR($F$4=0,$F$4=\"none\")),IF(AD125=0,,IF(OR($E$4='Customer Info'!$D$18,$E$4=0),AD125,(AD125/$E$4)*'Customer Info'!$D$18)),)","v":0},{"$f":"IF((OR($F$5=0,$F$5=\"none\")),IF(AE125=0,,IF(OR($E$5='Customer Info'!$D$19,$E$5=0),AE125,(AE125/$E$5)*'Customer Info'!$D$19)),)","v":0},{"$f":"IF((OR($F$6=0,$F$6=\"none\")),IF(AF125=0,,IF(OR($E$6='Customer Info'!$D$20,$E$6=0),AF125,(AF125/$E$6)*'Customer Info'!$D$20)),)","v":0},{"$f":"IF((OR($F$7=0,$F$7=\"none\")),IF(AG125=0,,IF(OR($E$7='Customer Info'!$D$21,$E$7=0),AG125,(AG125/$E$7)*'Customer Info'!$D$21)),)","v":0},0,0,{"$f":"IF(E125=\"plate waste\",,IF('Customer Info'!$M$18=0,'Log Sheet'!AY125,'Customer Info'!$M$18*'Log Sheet'!AY125))","v":0},{"$f":"IF(E125=\"plate waste\",IF(OR(C125=\"patient\",C125=\"patient beverages\"),IF('Customer Info'!$M$27=0,AY125*'Customer Info'!$M$18,AY125*'Customer Info'!$M$27),IF(C125=\"cafeteria\",IF('Customer Info'!$M$28=0,AY125*'Customer Info'!$M$18,AY125*'Customer Info'!$M$28),IF(C125=\"other1\",IF('Customer Info'!$M$29=0,AY125*'Customer Info'!$M$18,AY125*'Customer Info'!$M$29),))),)","v":0},0,{"$f":"IF($F$4=\"lunch\",IF(S125=0,,(S125/$E$5)*'Customer Info'!$D$18),)","v":0},{"$f":"IF($F$4=\"dinner\",IF(T125=0,,(T125/$E$6)*'Customer Info'!$D$18),)","v":0},{"$f":"IF($F$4=\"other\",IF(U125=0,,(U125/$E$7)*'Customer Info'!$D$18),)","v":0},0,{"$f":"IF($F$5=\"breakfast\",IF(R125=0,,(R125/$E$4)*'Customer Info'!$D$19),)","v":0},{"$f":"IF($F$5=\"dinner\",IF(T125=0,,(T125/$E$6)*'Customer Info'!$D$19),)","v":0},{"$f":"IF($F$5=\"other\",IF(U125=0,,(U125/$E$7)*'Customer Info'!$D$19),)","v":0},0,{"$f":"IF($F$6=\"breakfast\",IF(R125=0,,(R125/$E$4)*'Customer Info'!$D$20),)","v":0},{"$f":"IF($F$6=\"lunch\",IF(S125=0,,(S125/$E$5)*'Customer Info'!$D$20),)","v":0},{"$f":"IF($F$6=\"other\",IF(U125=0,,(U125/$E$7)*'Customer Info'!$D$20),)","v":0},0,{"$f":"IF($F$7=\"breakfast\",IF(R125=0,,(R125/$E$4)*'Customer Info'!$D$21),)","v":0},{"$f":"IF($F$7=\"lunch\",IF(S125=0,,(S125/$E$5)*'Customer Info'!$D$21),)","v":0},{"$f":"IF($F$7=\"dinner\",IF(T125=0,,(T125/$E$6)*'Customer Info'!$D$21),)","v":0},0,{"$f":"IF($F$10=\"lunch\",IF(W125=0,,(W125/$E$11)*'Customer Info'!$F$18),)","v":0},{"$f":"IF($F$10=\"dinner\",IF(X125=0,,(X125/$E$12)*'Customer Info'!$F$18),)","v":0},{"$f":"IF($F$10=\"other\",IF(Y125=0,,(Y125/$E$13)*'Customer Info'!$F$18),)","v":0},0,{"$f":"IF($F$11=\"breakfast\",IF(V125=0,,(V125/$E$10)*'Customer Info'!$F$19),)","v":0},{"$f":"IF($F$11=\"dinner\",IF(X125=0,,(X125/$E$12)*'Customer Info'!$F$19),)","v":0},{"$f":"IF($F$11=\"other\",IF(Y125=0,,(Y125/$E$13)*'Customer Info'!$F$19),)","v":0},0,{"$f":"IF($F$12=\"breakfast\",IF(V125=0,,(V125/$E$10)*'Customer Info'!$F$20),)","v":0},{"$f":"IF($F$12=\"lunch\",IF(W125=0,,(W125/$E$11)*'Customer Info'!$F$20),)","v":0},{"$f":"IF($F$12=\"other\",IF(Y125=0,,(Y125/$E$13)*'Customer Info'!$F$20),)","v":0},0,{"$f":"IF($F$13=\"breakfast\",IF(V125=0,,(V125/$E$10)*'Customer Info'!$F$21),)","v":0},{"$f":"IF($F$13=\"lunch\",IF(W125=0,,(W125/$E$11)*'Customer Info'!$F$21),)","v":0},{"$f":"IF($F$13=\"dinner\",IF(X125=0,,(X125/$E$12)*'Customer Info'!$F$21),)","v":0},0,{"$f":"IF($F$16=\"lunch\",IF(AA125=0,,(AA125/$E$17)*'Customer Info'!$H$18),)","v":0},{"$f":"IF($F$16=\"dinner\",IF(AB125=0,,(AB125/$E$18)*'Customer Info'!$H$18),)","v":0},{"$f":"IF($F$16=\"other\",IF(AC125=0,,(AC125/$E$19)*'Customer Info'!$H$18),)","v":0},0,{"$f":"IF($F$17=\"breakfast\",IF(Z125=0,,(Z125/$E$16)*'Customer Info'!$H$19),)","v":0},{"$f":"IF($F$17=\"dinner\",IF(AB125=0,,(AB125/$E$18)*'Customer Info'!$H$19),)","v":0},{"$f":"IF($F$17=\"other\",IF(AC125=0,,(AC125/$E$19)*'Customer Info'!$H$19),)","v":0},0,{"$f":"IF($F$18=\"breakfast\",IF(Z125=0,,(Z125/$E$16)*'Customer Info'!$H$20),)","v":0},{"$f":"IF($F$18=\"lunch\",IF(AA125=0,,(AA125/$E$17)*'Customer Info'!$H$20),)","v":0},{"$f":"IF($F$18=\"other\",IF(AC125=0,,(AC125/$E$19)*'Customer Info'!$H$20),)","v":0},0,{"$f":"IF($F$19=\"breakfast\",IF(Z125=0,,(Z125/$E$16)*'Customer Info'!$H$21),)","v":0},{"$f":"IF($F$19=\"lunch\",IF(AA125=0,,(AA125/$E$17)*'Customer Info'!$H$21),)","v":0},{"$f":"IF($F$19=\"dinner\",IF(AB125=0,,(AB125/$E$18)*'Customer Info'!$H$21),)","v":0},0,0,0,0,0,""]
[null,null,null,null,null,null,null,null,null,null,0,0,0,0,0,0,0,0,0,0,0,0,0,0,0,0,0,0,0,0,0,0,0,{"$f":"IF((OR($F$4=0,$F$4=\"none\")),IF(R126=0,,IF(OR($E$4='Customer Info'!$D$18,$E$4=0),R126,(R126/$E$4)*'Customer Info'!$D$18)),)","v":0},{"$f":"IF((OR($F$5=0,$F$5=\"none\")),IF(S126=0,,IF(OR($E$5='Customer Info'!$D$18,$E$5=0),S126,(S126/$E$5)*'Customer Info'!$D$19)),)","v":0},{"$f":"IF((OR($F$6=0,$F$6=\"none\")),IF(T126=0,,IF(OR($E$6='Customer Info'!$D$18,$E$6=0),T126,(T126/$E$6)*'Customer Info'!$D$20)),)","v":0},{"$f":"IF((OR($F$7=0,$F$7=\"none\")),IF(U126=0,,IF(OR($E$7='Customer Info'!$D$18,$E$7=0),U126,(U126/$E$7)*'Customer Info'!$D$21)),)","v":0},{"$f":"IF((OR($F$10=0,$F$10=\"none\")),IF(V126=0,,IF(OR($E$10='Customer Info'!$F$18,$E$10=0),V126,(V126/$E$10)*'Customer Info'!$F$18)),)","v":0},{"$f":"IF((OR($F$11=0,$F$11=\"none\")),IF(W126=0,,IF(OR($E$11='Customer Info'!$F$19,$E$11=0),W126,(W126/$E$11)*'Customer Info'!$F$19)),)","v":0},{"$f":"IF((OR($F$12=0,$F$12=\"none\")),IF(X126=0,,IF(OR($E$12='Customer Info'!$F$20,$E$12=0),X126,(X126/$E$12)*'Customer Info'!$F$20)),)","v":0},{"$f":"IF((OR($F$13=0,$F$13=\"none\")),IF(Y126=0,,IF(OR($E$13='Customer Info'!$F$21,$E$13=0),Y126,(Y126/$E$13)*'Customer Info'!$F$21)),)","v":0},{"$f":"IF((OR($F$16=0,$F$16=\"none\")),IF(Z126=0,,IF(OR($E$16='Customer Info'!$H$18,$E$16=0),Z126,(Z126/$E$16)*'Customer Info'!$H$18)),)","v":0},{"$f":"IF((OR($F$17=0,$F$17=\"none\")),IF(AA126=0,,IF(OR($E$17='Customer Info'!$H$19,$E$17=0),AA126,(AA126/$E$17)*'Customer Info'!$H$19)),)","v":0},{"$f":"IF((OR($F$18=0,$F$18=\"none\")),IF(AB126=0,,IF(OR($E$18='Customer Info'!$H$20,$E$18=0),AB126,(AB126/$E$18)*'Customer Info'!$H$20)),)","v":0},{"$f":"IF((OR($F$19=0,$F$19=\"none\")),IF(AC126=0,,IF(OR($E$19='Customer Info'!$H$21,$E$19=0),AC126,(AC126/$E$19)*'Customer Info'!$H$21)),)","v":0},{"$f":"IF((OR($F$4=0,$F$4=\"none\")),IF(AD126=0,,IF(OR($E$4='Customer Info'!$D$18,$E$4=0),AD126,(AD126/$E$4)*'Customer Info'!$D$18)),)","v":0},{"$f":"IF((OR($F$5=0,$F$5=\"none\")),IF(AE126=0,,IF(OR($E$5='Customer Info'!$D$19,$E$5=0),AE126,(AE126/$E$5)*'Customer Info'!$D$19)),)","v":0},{"$f":"IF((OR($F$6=0,$F$6=\"none\")),IF(AF126=0,,IF(OR($E$6='Customer Info'!$D$20,$E$6=0),AF126,(AF126/$E$6)*'Customer Info'!$D$20)),)","v":0},{"$f":"IF((OR($F$7=0,$F$7=\"none\")),IF(AG126=0,,IF(OR($E$7='Customer Info'!$D$21,$E$7=0),AG126,(AG126/$E$7)*'Customer Info'!$D$21)),)","v":0},0,0,{"$f":"IF(E126=\"plate waste\",,IF('Customer Info'!$M$18=0,'Log Sheet'!AY126,'Customer Info'!$M$18*'Log Sheet'!AY126))","v":0},{"$f":"IF(E126=\"plate waste\",IF(OR(C126=\"patient\",C126=\"patient beverages\"),IF('Customer Info'!$M$27=0,AY126*'Customer Info'!$M$18,AY126*'Customer Info'!$M$27),IF(C126=\"cafeteria\",IF('Customer Info'!$M$28=0,AY126*'Customer Info'!$M$18,AY126*'Customer Info'!$M$28),IF(C126=\"other1\",IF('Customer Info'!$M$29=0,AY126*'Customer Info'!$M$18,AY126*'Customer Info'!$M$29),))),)","v":0},0,{"$f":"IF($F$4=\"lunch\",IF(S126=0,,(S126/$E$5)*'Customer Info'!$D$18),)","v":0},{"$f":"IF($F$4=\"dinner\",IF(T126=0,,(T126/$E$6)*'Customer Info'!$D$18),)","v":0},{"$f":"IF($F$4=\"other\",IF(U126=0,,(U126/$E$7)*'Customer Info'!$D$18),)","v":0},0,{"$f":"IF($F$5=\"breakfast\",IF(R126=0,,(R126/$E$4)*'Customer Info'!$D$19),)","v":0},{"$f":"IF($F$5=\"dinner\",IF(T126=0,,(T126/$E$6)*'Customer Info'!$D$19),)","v":0},{"$f":"IF($F$5=\"other\",IF(U126=0,,(U126/$E$7)*'Customer Info'!$D$19),)","v":0},0,{"$f":"IF($F$6=\"breakfast\",IF(R126=0,,(R126/$E$4)*'Customer Info'!$D$20),)","v":0},{"$f":"IF($F$6=\"lunch\",IF(S126=0,,(S126/$E$5)*'Customer Info'!$D$20),)","v":0},{"$f":"IF($F$6=\"other\",IF(U126=0,,(U126/$E$7)*'Customer Info'!$D$20),)","v":0},0,{"$f":"IF($F$7=\"breakfast\",IF(R126=0,,(R126/$E$4)*'Customer Info'!$D$21),)","v":0},{"$f":"IF($F$7=\"lunch\",IF(S126=0,,(S126/$E$5)*'Customer Info'!$D$21),)","v":0},{"$f":"IF($F$7=\"dinner\",IF(T126=0,,(T126/$E$6)*'Customer Info'!$D$21),)","v":0},0,{"$f":"IF($F$10=\"lunch\",IF(W126=0,,(W126/$E$11)*'Customer Info'!$F$18),)","v":0},{"$f":"IF($F$10=\"dinner\",IF(X126=0,,(X126/$E$12)*'Customer Info'!$F$18),)","v":0},{"$f":"IF($F$10=\"other\",IF(Y126=0,,(Y126/$E$13)*'Customer Info'!$F$18),)","v":0},0,{"$f":"IF($F$11=\"breakfast\",IF(V126=0,,(V126/$E$10)*'Customer Info'!$F$19),)","v":0},{"$f":"IF($F$11=\"dinner\",IF(X126=0,,(X126/$E$12)*'Customer Info'!$F$19),)","v":0},{"$f":"IF($F$11=\"other\",IF(Y126=0,,(Y126/$E$13)*'Customer Info'!$F$19),)","v":0},0,{"$f":"IF($F$12=\"breakfast\",IF(V126=0,,(V126/$E$10)*'Customer Info'!$F$20),)","v":0},{"$f":"IF($F$12=\"lunch\",IF(W126=0,,(W126/$E$11)*'Customer Info'!$F$20),)","v":0},{"$f":"IF($F$12=\"other\",IF(Y126=0,,(Y126/$E$13)*'Customer Info'!$F$20),)","v":0},0,{"$f":"IF($F$13=\"breakfast\",IF(V126=0,,(V126/$E$10)*'Customer Info'!$F$21),)","v":0},{"$f":"IF($F$13=\"lunch\",IF(W126=0,,(W126/$E$11)*'Customer Info'!$F$21),)","v":0},{"$f":"IF($F$13=\"dinner\",IF(X126=0,,(X126/$E$12)*'Customer Info'!$F$21),)","v":0},0,{"$f":"IF($F$16=\"lunch\",IF(AA126=0,,(AA126/$E$17)*'Customer Info'!$H$18),)","v":0},{"$f":"IF($F$16=\"dinner\",IF(AB126=0,,(AB126/$E$18)*'Customer Info'!$H$18),)","v":0},{"$f":"IF($F$16=\"other\",IF(AC126=0,,(AC126/$E$19)*'Customer Info'!$H$18),)","v":0},0,{"$f":"IF($F$17=\"breakfast\",IF(Z126=0,,(Z126/$E$16)*'Customer Info'!$H$19),)","v":0},{"$f":"IF($F$17=\"dinner\",IF(AB126=0,,(AB126/$E$18)*'Customer Info'!$H$19),)","v":0},{"$f":"IF($F$17=\"other\",IF(AC126=0,,(AC126/$E$19)*'Customer Info'!$H$19),)","v":0},0,{"$f":"IF($F$18=\"breakfast\",IF(Z126=0,,(Z126/$E$16)*'Customer Info'!$H$20),)","v":0},{"$f":"IF($F$18=\"lunch\",IF(AA126=0,,(AA126/$E$17)*'Customer Info'!$H$20),)","v":0},{"$f":"IF($F$18=\"other\",IF(AC126=0,,(AC126/$E$19)*'Customer Info'!$H$20),)","v":0},0,{"$f":"IF($F$19=\"breakfast\",IF(Z126=0,,(Z126/$E$16)*'Customer Info'!$H$21),)","v":0},{"$f":"IF($F$19=\"lunch\",IF(AA126=0,,(AA126/$E$17)*'Customer Info'!$H$21),)","v":0},{"$f":"IF($F$19=\"dinner\",IF(AB126=0,,(AB126/$E$18)*'Customer Info'!$H$21),)","v":0},0,0,0,0,0,""]
[null,null,null,null,null,null,null,null,null,null,0,0,0,0,0,0,0,0,0,0,0,0,0,0,0,0,0,0,0,0,0,0,0,{"$f":"IF((OR($F$4=0,$F$4=\"none\")),IF(R127=0,,IF(OR($E$4='Customer Info'!$D$18,$E$4=0),R127,(R127/$E$4)*'Customer Info'!$D$18)),)","v":0},{"$f":"IF((OR($F$5=0,$F$5=\"none\")),IF(S127=0,,IF(OR($E$5='Customer Info'!$D$18,$E$5=0),S127,(S127/$E$5)*'Customer Info'!$D$19)),)","v":0},{"$f":"IF((OR($F$6=0,$F$6=\"none\")),IF(T127=0,,IF(OR($E$6='Customer Info'!$D$18,$E$6=0),T127,(T127/$E$6)*'Customer Info'!$D$20)),)","v":0},{"$f":"IF((OR($F$7=0,$F$7=\"none\")),IF(U127=0,,IF(OR($E$7='Customer Info'!$D$18,$E$7=0),U127,(U127/$E$7)*'Customer Info'!$D$21)),)","v":0},{"$f":"IF((OR($F$10=0,$F$10=\"none\")),IF(V127=0,,IF(OR($E$10='Customer Info'!$F$18,$E$10=0),V127,(V127/$E$10)*'Customer Info'!$F$18)),)","v":0},{"$f":"IF((OR($F$11=0,$F$11=\"none\")),IF(W127=0,,IF(OR($E$11='Customer Info'!$F$19,$E$11=0),W127,(W127/$E$11)*'Customer Info'!$F$19)),)","v":0},{"$f":"IF((OR($F$12=0,$F$12=\"none\")),IF(X127=0,,IF(OR($E$12='Customer Info'!$F$20,$E$12=0),X127,(X127/$E$12)*'Customer Info'!$F$20)),)","v":0},{"$f":"IF((OR($F$13=0,$F$13=\"none\")),IF(Y127=0,,IF(OR($E$13='Customer Info'!$F$21,$E$13=0),Y127,(Y127/$E$13)*'Customer Info'!$F$21)),)","v":0},{"$f":"IF((OR($F$16=0,$F$16=\"none\")),IF(Z127=0,,IF(OR($E$16='Customer Info'!$H$18,$E$16=0),Z127,(Z127/$E$16)*'Customer Info'!$H$18)),)","v":0},{"$f":"IF((OR($F$17=0,$F$17=\"none\")),IF(AA127=0,,IF(OR($E$17='Customer Info'!$H$19,$E$17=0),AA127,(AA127/$E$17)*'Customer Info'!$H$19)),)","v":0},{"$f":"IF((OR($F$18=0,$F$18=\"none\")),IF(AB127=0,,IF(OR($E$18='Customer Info'!$H$20,$E$18=0),AB127,(AB127/$E$18)*'Customer Info'!$H$20)),)","v":0},{"$f":"IF((OR($F$19=0,$F$19=\"none\")),IF(AC127=0,,IF(OR($E$19='Customer Info'!$H$21,$E$19=0),AC127,(AC127/$E$19)*'Customer Info'!$H$21)),)","v":0},{"$f":"IF((OR($F$4=0,$F$4=\"none\")),IF(AD127=0,,IF(OR($E$4='Customer Info'!$D$18,$E$4=0),AD127,(AD127/$E$4)*'Customer Info'!$D$18)),)","v":0},{"$f":"IF((OR($F$5=0,$F$5=\"none\")),IF(AE127=0,,IF(OR($E$5='Customer Info'!$D$19,$E$5=0),AE127,(AE127/$E$5)*'Customer Info'!$D$19)),)","v":0},{"$f":"IF((OR($F$6=0,$F$6=\"none\")),IF(AF127=0,,IF(OR($E$6='Customer Info'!$D$20,$E$6=0),AF127,(AF127/$E$6)*'Customer Info'!$D$20)),)","v":0},{"$f":"IF((OR($F$7=0,$F$7=\"none\")),IF(AG127=0,,IF(OR($E$7='Customer Info'!$D$21,$E$7=0),AG127,(AG127/$E$7)*'Customer Info'!$D$21)),)","v":0},0,0,{"$f":"IF(E127=\"plate waste\",,IF('Customer Info'!$M$18=0,'Log Sheet'!AY127,'Customer Info'!$M$18*'Log Sheet'!AY127))","v":0},{"$f":"IF(E127=\"plate waste\",IF(OR(C127=\"patient\",C127=\"patient beverages\"),IF('Customer Info'!$M$27=0,AY127*'Customer Info'!$M$18,AY127*'Customer Info'!$M$27),IF(C127=\"cafeteria\",IF('Customer Info'!$M$28=0,AY127*'Customer Info'!$M$18,AY127*'Customer Info'!$M$28),IF(C127=\"other1\",IF('Customer Info'!$M$29=0,AY127*'Customer Info'!$M$18,AY127*'Customer Info'!$M$29),))),)","v":0},0,{"$f":"IF($F$4=\"lunch\",IF(S127=0,,(S127/$E$5)*'Customer Info'!$D$18),)","v":0},{"$f":"IF($F$4=\"dinner\",IF(T127=0,,(T127/$E$6)*'Customer Info'!$D$18),)","v":0},{"$f":"IF($F$4=\"other\",IF(U127=0,,(U127/$E$7)*'Customer Info'!$D$18),)","v":0},0,{"$f":"IF($F$5=\"breakfast\",IF(R127=0,,(R127/$E$4)*'Customer Info'!$D$19),)","v":0},{"$f":"IF($F$5=\"dinner\",IF(T127=0,,(T127/$E$6)*'Customer Info'!$D$19),)","v":0},{"$f":"IF($F$5=\"other\",IF(U127=0,,(U127/$E$7)*'Customer Info'!$D$19),)","v":0},0,{"$f":"IF($F$6=\"breakfast\",IF(R127=0,,(R127/$E$4)*'Customer Info'!$D$20),)","v":0},{"$f":"IF($F$6=\"lunch\",IF(S127=0,,(S127/$E$5)*'Customer Info'!$D$20),)","v":0},{"$f":"IF($F$6=\"other\",IF(U127=0,,(U127/$E$7)*'Customer Info'!$D$20),)","v":0},0,{"$f":"IF($F$7=\"breakfast\",IF(R127=0,,(R127/$E$4)*'Customer Info'!$D$21),)","v":0},{"$f":"IF($F$7=\"lunch\",IF(S127=0,,(S127/$E$5)*'Customer Info'!$D$21),)","v":0},{"$f":"IF($F$7=\"dinner\",IF(T127=0,,(T127/$E$6)*'Customer Info'!$D$21),)","v":0},0,{"$f":"IF($F$10=\"lunch\",IF(W127=0,,(W127/$E$11)*'Customer Info'!$F$18),)","v":0},{"$f":"IF($F$10=\"dinner\",IF(X127=0,,(X127/$E$12)*'Customer Info'!$F$18),)","v":0},{"$f":"IF($F$10=\"other\",IF(Y127=0,,(Y127/$E$13)*'Customer Info'!$F$18),)","v":0},0,{"$f":"IF($F$11=\"breakfast\",IF(V127=0,,(V127/$E$10)*'Customer Info'!$F$19),)","v":0},{"$f":"IF($F$11=\"dinner\",IF(X127=0,,(X127/$E$12)*'Customer Info'!$F$19),)","v":0},{"$f":"IF($F$11=\"other\",IF(Y127=0,,(Y127/$E$13)*'Customer Info'!$F$19),)","v":0},0,{"$f":"IF($F$12=\"breakfast\",IF(V127=0,,(V127/$E$10)*'Customer Info'!$F$20),)","v":0},{"$f":"IF($F$12=\"lunch\",IF(W127=0,,(W127/$E$11)*'Customer Info'!$F$20),)","v":0},{"$f":"IF($F$12=\"other\",IF(Y127=0,,(Y127/$E$13)*'Customer Info'!$F$20),)","v":0},0,{"$f":"IF($F$13=\"breakfast\",IF(V127=0,,(V127/$E$10)*'Customer Info'!$F$21),)","v":0},{"$f":"IF($F$13=\"lunch\",IF(W127=0,,(W127/$E$11)*'Customer Info'!$F$21),)","v":0},{"$f":"IF($F$13=\"dinner\",IF(X127=0,,(X127/$E$12)*'Customer Info'!$F$21),)","v":0},0,{"$f":"IF($F$16=\"lunch\",IF(AA127=0,,(AA127/$E$17)*'Customer Info'!$H$18),)","v":0},{"$f":"IF($F$16=\"dinner\",IF(AB127=0,,(AB127/$E$18)*'Customer Info'!$H$18),)","v":0},{"$f":"IF($F$16=\"other\",IF(AC127=0,,(AC127/$E$19)*'Customer Info'!$H$18),)","v":0},0,{"$f":"IF($F$17=\"breakfast\",IF(Z127=0,,(Z127/$E$16)*'Customer Info'!$H$19),)","v":0},{"$f":"IF($F$17=\"dinner\",IF(AB127=0,,(AB127/$E$18)*'Customer Info'!$H$19),)","v":0},{"$f":"IF($F$17=\"other\",IF(AC127=0,,(AC127/$E$19)*'Customer Info'!$H$19),)","v":0},0,{"$f":"IF($F$18=\"breakfast\",IF(Z127=0,,(Z127/$E$16)*'Customer Info'!$H$20),)","v":0},{"$f":"IF($F$18=\"lunch\",IF(AA127=0,,(AA127/$E$17)*'Customer Info'!$H$20),)","v":0},{"$f":"IF($F$18=\"other\",IF(AC127=0,,(AC127/$E$19)*'Customer Info'!$H$20),)","v":0},0,{"$f":"IF($F$19=\"breakfast\",IF(Z127=0,,(Z127/$E$16)*'Customer Info'!$H$21),)","v":0},{"$f":"IF($F$19=\"lunch\",IF(AA127=0,,(AA127/$E$17)*'Customer Info'!$H$21),)","v":0},{"$f":"IF($F$19=\"dinner\",IF(AB127=0,,(AB127/$E$18)*'Customer Info'!$H$21),)","v":0},0,0,0,0,0,""]
[null,null,null,null,null,null,null,null,null,null,0,0,0,0,0,0,0,0,0,0,0,0,0,0,0,0,0,0,0,0,0,0,0,{"$f":"IF((OR($F$4=0,$F$4=\"none\")),IF(R128=0,,IF(OR($E$4='Customer Info'!$D$18,$E$4=0),R128,(R128/$E$4)*'Customer Info'!$D$18)),)","v":0},{"$f":"IF((OR($F$5=0,$F$5=\"none\")),IF(S128=0,,IF(OR($E$5='Customer Info'!$D$18,$E$5=0),S128,(S128/$E$5)*'Customer Info'!$D$19)),)","v":0},{"$f":"IF((OR($F$6=0,$F$6=\"none\")),IF(T128=0,,IF(OR($E$6='Customer Info'!$D$18,$E$6=0),T128,(T128/$E$6)*'Customer Info'!$D$20)),)","v":0},{"$f":"IF((OR($F$7=0,$F$7=\"none\")),IF(U128=0,,IF(OR($E$7='Customer Info'!$D$18,$E$7=0),U128,(U128/$E$7)*'Customer Info'!$D$21)),)","v":0},{"$f":"IF((OR($F$10=0,$F$10=\"none\")),IF(V128=0,,IF(OR($E$10='Customer Info'!$F$18,$E$10=0),V128,(V128/$E$10)*'Customer Info'!$F$18)),)","v":0},{"$f":"IF((OR($F$11=0,$F$11=\"none\")),IF(W128=0,,IF(OR($E$11='Customer Info'!$F$19,$E$11=0),W128,(W128/$E$11)*'Customer Info'!$F$19)),)","v":0},{"$f":"IF((OR($F$12=0,$F$12=\"none\")),IF(X128=0,,IF(OR($E$12='Customer Info'!$F$20,$E$12=0),X128,(X128/$E$12)*'Customer Info'!$F$20)),)","v":0},{"$f":"IF((OR($F$13=0,$F$13=\"none\")),IF(Y128=0,,IF(OR($E$13='Customer Info'!$F$21,$E$13=0),Y128,(Y128/$E$13)*'Customer Info'!$F$21)),)","v":0},{"$f":"IF((OR($F$16=0,$F$16=\"none\")),IF(Z128=0,,IF(OR($E$16='Customer Info'!$H$18,$E$16=0),Z128,(Z128/$E$16)*'Customer Info'!$H$18)),)","v":0},{"$f":"IF((OR($F$17=0,$F$17=\"none\")),IF(AA128=0,,IF(OR($E$17='Customer Info'!$H$19,$E$17=0),AA128,(AA128/$E$17)*'Customer Info'!$H$19)),)","v":0},{"$f":"IF((OR($F$18=0,$F$18=\"none\")),IF(AB128=0,,IF(OR($E$18='Customer Info'!$H$20,$E$18=0),AB128,(AB128/$E$18)*'Customer Info'!$H$20)),)","v":0},{"$f":"IF((OR($F$19=0,$F$19=\"none\")),IF(AC128=0,,IF(OR($E$19='Customer Info'!$H$21,$E$19=0),AC128,(AC128/$E$19)*'Customer Info'!$H$21)),)","v":0},{"$f":"IF((OR($F$4=0,$F$4=\"none\")),IF(AD128=0,,IF(OR($E$4='Customer Info'!$D$18,$E$4=0),AD128,(AD128/$E$4)*'Customer Info'!$D$18)),)","v":0},{"$f":"IF((OR($F$5=0,$F$5=\"none\")),IF(AE128=0,,IF(OR($E$5='Customer Info'!$D$19,$E$5=0),AE128,(AE128/$E$5)*'Customer Info'!$D$19)),)","v":0},{"$f":"IF((OR($F$6=0,$F$6=\"none\")),IF(AF128=0,,IF(OR($E$6='Customer Info'!$D$20,$E$6=0),AF128,(AF128/$E$6)*'Customer Info'!$D$20)),)","v":0},{"$f":"IF((OR($F$7=0,$F$7=\"none\")),IF(AG128=0,,IF(OR($E$7='Customer Info'!$D$21,$E$7=0),AG128,(AG128/$E$7)*'Customer Info'!$D$21)),)","v":0},0,0,{"$f":"IF(E128=\"plate waste\",,IF('Customer Info'!$M$18=0,'Log Sheet'!AY128,'Customer Info'!$M$18*'Log Sheet'!AY128))","v":0},{"$f":"IF(E128=\"plate waste\",IF(OR(C128=\"patient\",C128=\"patient beverages\"),IF('Customer Info'!$M$27=0,AY128*'Customer Info'!$M$18,AY128*'Customer Info'!$M$27),IF(C128=\"cafeteria\",IF('Customer Info'!$M$28=0,AY128*'Customer Info'!$M$18,AY128*'Customer Info'!$M$28),IF(C128=\"other1\",IF('Customer Info'!$M$29=0,AY128*'Customer Info'!$M$18,AY128*'Customer Info'!$M$29),))),)","v":0},0,{"$f":"IF($F$4=\"lunch\",IF(S128=0,,(S128/$E$5)*'Customer Info'!$D$18),)","v":0},{"$f":"IF($F$4=\"dinner\",IF(T128=0,,(T128/$E$6)*'Customer Info'!$D$18),)","v":0},{"$f":"IF($F$4=\"other\",IF(U128=0,,(U128/$E$7)*'Customer Info'!$D$18),)","v":0},0,{"$f":"IF($F$5=\"breakfast\",IF(R128=0,,(R128/$E$4)*'Customer Info'!$D$19),)","v":0},{"$f":"IF($F$5=\"dinner\",IF(T128=0,,(T128/$E$6)*'Customer Info'!$D$19),)","v":0},{"$f":"IF($F$5=\"other\",IF(U128=0,,(U128/$E$7)*'Customer Info'!$D$19),)","v":0},0,{"$f":"IF($F$6=\"breakfast\",IF(R128=0,,(R128/$E$4)*'Customer Info'!$D$20),)","v":0},{"$f":"IF($F$6=\"lunch\",IF(S128=0,,(S128/$E$5)*'Customer Info'!$D$20),)","v":0},{"$f":"IF($F$6=\"other\",IF(U128=0,,(U128/$E$7)*'Customer Info'!$D$20),)","v":0},0,{"$f":"IF($F$7=\"breakfast\",IF(R128=0,,(R128/$E$4)*'Customer Info'!$D$21),)","v":0},{"$f":"IF($F$7=\"lunch\",IF(S128=0,,(S128/$E$5)*'Customer Info'!$D$21),)","v":0},{"$f":"IF($F$7=\"dinner\",IF(T128=0,,(T128/$E$6)*'Customer Info'!$D$21),)","v":0},0,{"$f":"IF($F$10=\"lunch\",IF(W128=0,,(W128/$E$11)*'Customer Info'!$F$18),)","v":0},{"$f":"IF($F$10=\"dinner\",IF(X128=0,,(X128/$E$12)*'Customer Info'!$F$18),)","v":0},{"$f":"IF($F$10=\"other\",IF(Y128=0,,(Y128/$E$13)*'Customer Info'!$F$18),)","v":0},0,{"$f":"IF($F$11=\"breakfast\",IF(V128=0,,(V128/$E$10)*'Customer Info'!$F$19),)","v":0},{"$f":"IF($F$11=\"dinner\",IF(X128=0,,(X128/$E$12)*'Customer Info'!$F$19),)","v":0},{"$f":"IF($F$11=\"other\",IF(Y128=0,,(Y128/$E$13)*'Customer Info'!$F$19),)","v":0},0,{"$f":"IF($F$12=\"breakfast\",IF(V128=0,,(V128/$E$10)*'Customer Info'!$F$20),)","v":0},{"$f":"IF($F$12=\"lunch\",IF(W128=0,,(W128/$E$11)*'Customer Info'!$F$20),)","v":0},{"$f":"IF($F$12=\"other\",IF(Y128=0,,(Y128/$E$13)*'Customer Info'!$F$20),)","v":0},0,{"$f":"IF($F$13=\"breakfast\",IF(V128=0,,(V128/$E$10)*'Customer Info'!$F$21),)","v":0},{"$f":"IF($F$13=\"lunch\",IF(W128=0,,(W128/$E$11)*'Customer Info'!$F$21),)","v":0},{"$f":"IF($F$13=\"dinner\",IF(X128=0,,(X128/$E$12)*'Customer Info'!$F$21),)","v":0},0,{"$f":"IF($F$16=\"lunch\",IF(AA128=0,,(AA128/$E$17)*'Customer Info'!$H$18),)","v":0},{"$f":"IF($F$16=\"dinner\",IF(AB128=0,,(AB128/$E$18)*'Customer Info'!$H$18),)","v":0},{"$f":"IF($F$16=\"other\",IF(AC128=0,,(AC128/$E$19)*'Customer Info'!$H$18),)","v":0},0,{"$f":"IF($F$17=\"breakfast\",IF(Z128=0,,(Z128/$E$16)*'Customer Info'!$H$19),)","v":0},{"$f":"IF($F$17=\"dinner\",IF(AB128=0,,(AB128/$E$18)*'Customer Info'!$H$19),)","v":0},{"$f":"IF($F$17=\"other\",IF(AC128=0,,(AC128/$E$19)*'Customer Info'!$H$19),)","v":0},0,{"$f":"IF($F$18=\"breakfast\",IF(Z128=0,,(Z128/$E$16)*'Customer Info'!$H$20),)","v":0},{"$f":"IF($F$18=\"lunch\",IF(AA128=0,,(AA128/$E$17)*'Customer Info'!$H$20),)","v":0},{"$f":"IF($F$18=\"other\",IF(AC128=0,,(AC128/$E$19)*'Customer Info'!$H$20),)","v":0},0,{"$f":"IF($F$19=\"breakfast\",IF(Z128=0,,(Z128/$E$16)*'Customer Info'!$H$21),)","v":0},{"$f":"IF($F$19=\"lunch\",IF(AA128=0,,(AA128/$E$17)*'Customer Info'!$H$21),)","v":0},{"$f":"IF($F$19=\"dinner\",IF(AB128=0,,(AB128/$E$18)*'Customer Info'!$H$21),)","v":0},0,0,0,0,0,""]
[null,null,null,null,null,null,null,null,null,null,0,0,0,0,0,0,0,0,0,0,0,0,0,0,0,0,0,0,0,0,0,0,0,{"$f":"IF((OR($F$4=0,$F$4=\"none\")),IF(R129=0,,IF(OR($E$4='Customer Info'!$D$18,$E$4=0),R129,(R129/$E$4)*'Customer Info'!$D$18)),)","v":0},{"$f":"IF((OR($F$5=0,$F$5=\"none\")),IF(S129=0,,IF(OR($E$5='Customer Info'!$D$18,$E$5=0),S129,(S129/$E$5)*'Customer Info'!$D$19)),)","v":0},{"$f":"IF((OR($F$6=0,$F$6=\"none\")),IF(T129=0,,IF(OR($E$6='Customer Info'!$D$18,$E$6=0),T129,(T129/$E$6)*'Customer Info'!$D$20)),)","v":0},{"$f":"IF((OR($F$7=0,$F$7=\"none\")),IF(U129=0,,IF(OR($E$7='Customer Info'!$D$18,$E$7=0),U129,(U129/$E$7)*'Customer Info'!$D$21)),)","v":0},{"$f":"IF((OR($F$10=0,$F$10=\"none\")),IF(V129=0,,IF(OR($E$10='Customer Info'!$F$18,$E$10=0),V129,(V129/$E$10)*'Customer Info'!$F$18)),)","v":0},{"$f":"IF((OR($F$11=0,$F$11=\"none\")),IF(W129=0,,IF(OR($E$11='Customer Info'!$F$19,$E$11=0),W129,(W129/$E$11)*'Customer Info'!$F$19)),)","v":0},{"$f":"IF((OR($F$12=0,$F$12=\"none\")),IF(X129=0,,IF(OR($E$12='Customer Info'!$F$20,$E$12=0),X129,(X129/$E$12)*'Customer Info'!$F$20)),)","v":0},{"$f":"IF((OR($F$13=0,$F$13=\"none\")),IF(Y129=0,,IF(OR($E$13='Customer Info'!$F$21,$E$13=0),Y129,(Y129/$E$13)*'Customer Info'!$F$21)),)","v":0},{"$f":"IF((OR($F$16=0,$F$16=\"none\")),IF(Z129=0,,IF(OR($E$16='Customer Info'!$H$18,$E$16=0),Z129,(Z129/$E$16)*'Customer Info'!$H$18)),)","v":0},{"$f":"IF((OR($F$17=0,$F$17=\"none\")),IF(AA129=0,,IF(OR($E$17='Customer Info'!$H$19,$E$17=0),AA129,(AA129/$E$17)*'Customer Info'!$H$19)),)","v":0},{"$f":"IF((OR($F$18=0,$F$18=\"none\")),IF(AB129=0,,IF(OR($E$18='Customer Info'!$H$20,$E$18=0),AB129,(AB129/$E$18)*'Customer Info'!$H$20)),)","v":0},{"$f":"IF((OR($F$19=0,$F$19=\"none\")),IF(AC129=0,,IF(OR($E$19='Customer Info'!$H$21,$E$19=0),AC129,(AC129/$E$19)*'Customer Info'!$H$21)),)","v":0},{"$f":"IF((OR($F$4=0,$F$4=\"none\")),IF(AD129=0,,IF(OR($E$4='Customer Info'!$D$18,$E$4=0),AD129,(AD129/$E$4)*'Customer Info'!$D$18)),)","v":0},{"$f":"IF((OR($F$5=0,$F$5=\"none\")),IF(AE129=0,,IF(OR($E$5='Customer Info'!$D$19,$E$5=0),AE129,(AE129/$E$5)*'Customer Info'!$D$19)),)","v":0},{"$f":"IF((OR($F$6=0,$F$6=\"none\")),IF(AF129=0,,IF(OR($E$6='Customer Info'!$D$20,$E$6=0),AF129,(AF129/$E$6)*'Customer Info'!$D$20)),)","v":0},{"$f":"IF((OR($F$7=0,$F$7=\"none\")),IF(AG129=0,,IF(OR($E$7='Customer Info'!$D$21,$E$7=0),AG129,(AG129/$E$7)*'Customer Info'!$D$21)),)","v":0},0,0,{"$f":"IF(E129=\"plate waste\",,IF('Customer Info'!$M$18=0,'Log Sheet'!AY129,'Customer Info'!$M$18*'Log Sheet'!AY129))","v":0},{"$f":"IF(E129=\"plate waste\",IF(OR(C129=\"patient\",C129=\"patient beverages\"),IF('Customer Info'!$M$27=0,AY129*'Customer Info'!$M$18,AY129*'Customer Info'!$M$27),IF(C129=\"cafeteria\",IF('Customer Info'!$M$28=0,AY129*'Customer Info'!$M$18,AY129*'Customer Info'!$M$28),IF(C129=\"other1\",IF('Customer Info'!$M$29=0,AY129*'Customer Info'!$M$18,AY129*'Customer Info'!$M$29),))),)","v":0},0,{"$f":"IF($F$4=\"lunch\",IF(S129=0,,(S129/$E$5)*'Customer Info'!$D$18),)","v":0},{"$f":"IF($F$4=\"dinner\",IF(T129=0,,(T129/$E$6)*'Customer Info'!$D$18),)","v":0},{"$f":"IF($F$4=\"other\",IF(U129=0,,(U129/$E$7)*'Customer Info'!$D$18),)","v":0},0,{"$f":"IF($F$5=\"breakfast\",IF(R129=0,,(R129/$E$4)*'Customer Info'!$D$19),)","v":0},{"$f":"IF($F$5=\"dinner\",IF(T129=0,,(T129/$E$6)*'Customer Info'!$D$19),)","v":0},{"$f":"IF($F$5=\"other\",IF(U129=0,,(U129/$E$7)*'Customer Info'!$D$19),)","v":0},0,{"$f":"IF($F$6=\"breakfast\",IF(R129=0,,(R129/$E$4)*'Customer Info'!$D$20),)","v":0},{"$f":"IF($F$6=\"lunch\",IF(S129=0,,(S129/$E$5)*'Customer Info'!$D$20),)","v":0},{"$f":"IF($F$6=\"other\",IF(U129=0,,(U129/$E$7)*'Customer Info'!$D$20),)","v":0},0,{"$f":"IF($F$7=\"breakfast\",IF(R129=0,,(R129/$E$4)*'Customer Info'!$D$21),)","v":0},{"$f":"IF($F$7=\"lunch\",IF(S129=0,,(S129/$E$5)*'Customer Info'!$D$21),)","v":0},{"$f":"IF($F$7=\"dinner\",IF(T129=0,,(T129/$E$6)*'Customer Info'!$D$21),)","v":0},0,{"$f":"IF($F$10=\"lunch\",IF(W129=0,,(W129/$E$11)*'Customer Info'!$F$18),)","v":0},{"$f":"IF($F$10=\"dinner\",IF(X129=0,,(X129/$E$12)*'Customer Info'!$F$18),)","v":0},{"$f":"IF($F$10=\"other\",IF(Y129=0,,(Y129/$E$13)*'Customer Info'!$F$18),)","v":0},0,{"$f":"IF($F$11=\"breakfast\",IF(V129=0,,(V129/$E$10)*'Customer Info'!$F$19),)","v":0},{"$f":"IF($F$11=\"dinner\",IF(X129=0,,(X129/$E$12)*'Customer Info'!$F$19),)","v":0},{"$f":"IF($F$11=\"other\",IF(Y129=0,,(Y129/$E$13)*'Customer Info'!$F$19),)","v":0},0,{"$f":"IF($F$12=\"breakfast\",IF(V129=0,,(V129/$E$10)*'Customer Info'!$F$20),)","v":0},{"$f":"IF($F$12=\"lunch\",IF(W129=0,,(W129/$E$11)*'Customer Info'!$F$20),)","v":0},{"$f":"IF($F$12=\"other\",IF(Y129=0,,(Y129/$E$13)*'Customer Info'!$F$20),)","v":0},0,{"$f":"IF($F$13=\"breakfast\",IF(V129=0,,(V129/$E$10)*'Customer Info'!$F$21),)","v":0},{"$f":"IF($F$13=\"lunch\",IF(W129=0,,(W129/$E$11)*'Customer Info'!$F$21),)","v":0},{"$f":"IF($F$13=\"dinner\",IF(X129=0,,(X129/$E$12)*'Customer Info'!$F$21),)","v":0},0,{"$f":"IF($F$16=\"lunch\",IF(AA129=0,,(AA129/$E$17)*'Customer Info'!$H$18),)","v":0},{"$f":"IF($F$16=\"dinner\",IF(AB129=0,,(AB129/$E$18)*'Customer Info'!$H$18),)","v":0},{"$f":"IF($F$16=\"other\",IF(AC129=0,,(AC129/$E$19)*'Customer Info'!$H$18),)","v":0},0,{"$f":"IF($F$17=\"breakfast\",IF(Z129=0,,(Z129/$E$16)*'Customer Info'!$H$19),)","v":0},{"$f":"IF($F$17=\"dinner\",IF(AB129=0,,(AB129/$E$18)*'Customer Info'!$H$19),)","v":0},{"$f":"IF($F$17=\"other\",IF(AC129=0,,(AC129/$E$19)*'Customer Info'!$H$19),)","v":0},0,{"$f":"IF($F$18=\"breakfast\",IF(Z129=0,,(Z129/$E$16)*'Customer Info'!$H$20),)","v":0},{"$f":"IF($F$18=\"lunch\",IF(AA129=0,,(AA129/$E$17)*'Customer Info'!$H$20),)","v":0},{"$f":"IF($F$18=\"other\",IF(AC129=0,,(AC129/$E$19)*'Customer Info'!$H$20),)","v":0},0,{"$f":"IF($F$19=\"breakfast\",IF(Z129=0,,(Z129/$E$16)*'Customer Info'!$H$21),)","v":0},{"$f":"IF($F$19=\"lunch\",IF(AA129=0,,(AA129/$E$17)*'Customer Info'!$H$21),)","v":0},{"$f":"IF($F$19=\"dinner\",IF(AB129=0,,(AB129/$E$18)*'Customer Info'!$H$21),)","v":0},0,0,0,0,0,""]
[null,null,null,null,null,null,null,null,null,null,0,0,0,0,0,0,0,0,0,0,0,0,0,0,0,0,0,0,0,0,0,0,0,{"$f":"IF((OR($F$4=0,$F$4=\"none\")),IF(R130=0,,IF(OR($E$4='Customer Info'!$D$18,$E$4=0),R130,(R130/$E$4)*'Customer Info'!$D$18)),)","v":0},{"$f":"IF((OR($F$5=0,$F$5=\"none\")),IF(S130=0,,IF(OR($E$5='Customer Info'!$D$18,$E$5=0),S130,(S130/$E$5)*'Customer Info'!$D$19)),)","v":0},{"$f":"IF((OR($F$6=0,$F$6=\"none\")),IF(T130=0,,IF(OR($E$6='Customer Info'!$D$18,$E$6=0),T130,(T130/$E$6)*'Customer Info'!$D$20)),)","v":0},{"$f":"IF((OR($F$7=0,$F$7=\"none\")),IF(U130=0,,IF(OR($E$7='Customer Info'!$D$18,$E$7=0),U130,(U130/$E$7)*'Customer Info'!$D$21)),)","v":0},{"$f":"IF((OR($F$10=0,$F$10=\"none\")),IF(V130=0,,IF(OR($E$10='Customer Info'!$F$18,$E$10=0),V130,(V130/$E$10)*'Customer Info'!$F$18)),)","v":0},{"$f":"IF((OR($F$11=0,$F$11=\"none\")),IF(W130=0,,IF(OR($E$11='Customer Info'!$F$19,$E$11=0),W130,(W130/$E$11)*'Customer Info'!$F$19)),)","v":0},{"$f":"IF((OR($F$12=0,$F$12=\"none\")),IF(X130=0,,IF(OR($E$12='Customer Info'!$F$20,$E$12=0),X130,(X130/$E$12)*'Customer Info'!$F$20)),)","v":0},{"$f":"IF((OR($F$13=0,$F$13=\"none\")),IF(Y130=0,,IF(OR($E$13='Customer Info'!$F$21,$E$13=0),Y130,(Y130/$E$13)*'Customer Info'!$F$21)),)","v":0},{"$f":"IF((OR($F$16=0,$F$16=\"none\")),IF(Z130=0,,IF(OR($E$16='Customer Info'!$H$18,$E$16=0),Z130,(Z130/$E$16)*'Customer Info'!$H$18)),)","v":0},{"$f":"IF((OR($F$17=0,$F$17=\"none\")),IF(AA130=0,,IF(OR($E$17='Customer Info'!$H$19,$E$17=0),AA130,(AA130/$E$17)*'Customer Info'!$H$19)),)","v":0},{"$f":"IF((OR($F$18=0,$F$18=\"none\")),IF(AB130=0,,IF(OR($E$18='Customer Info'!$H$20,$E$18=0),AB130,(AB130/$E$18)*'Customer Info'!$H$20)),)","v":0},{"$f":"IF((OR($F$19=0,$F$19=\"none\")),IF(AC130=0,,IF(OR($E$19='Customer Info'!$H$21,$E$19=0),AC130,(AC130/$E$19)*'Customer Info'!$H$21)),)","v":0},{"$f":"IF((OR($F$4=0,$F$4=\"none\")),IF(AD130=0,,IF(OR($E$4='Customer Info'!$D$18,$E$4=0),AD130,(AD130/$E$4)*'Customer Info'!$D$18)),)","v":0},{"$f":"IF((OR($F$5=0,$F$5=\"none\")),IF(AE130=0,,IF(OR($E$5='Customer Info'!$D$19,$E$5=0),AE130,(AE130/$E$5)*'Customer Info'!$D$19)),)","v":0},{"$f":"IF((OR($F$6=0,$F$6=\"none\")),IF(AF130=0,,IF(OR($E$6='Customer Info'!$D$20,$E$6=0),AF130,(AF130/$E$6)*'Customer Info'!$D$20)),)","v":0},{"$f":"IF((OR($F$7=0,$F$7=\"none\")),IF(AG130=0,,IF(OR($E$7='Customer Info'!$D$21,$E$7=0),AG130,(AG130/$E$7)*'Customer Info'!$D$21)),)","v":0},0,0,{"$f":"IF(E130=\"plate waste\",,IF('Customer Info'!$M$18=0,'Log Sheet'!AY130,'Customer Info'!$M$18*'Log Sheet'!AY130))","v":0},{"$f":"IF(E130=\"plate waste\",IF(OR(C130=\"patient\",C130=\"patient beverages\"),IF('Customer Info'!$M$27=0,AY130*'Customer Info'!$M$18,AY130*'Customer Info'!$M$27),IF(C130=\"cafeteria\",IF('Customer Info'!$M$28=0,AY130*'Customer Info'!$M$18,AY130*'Customer Info'!$M$28),IF(C130=\"other1\",IF('Customer Info'!$M$29=0,AY130*'Customer Info'!$M$18,AY130*'Customer Info'!$M$29),))),)","v":0},0,{"$f":"IF($F$4=\"lunch\",IF(S130=0,,(S130/$E$5)*'Customer Info'!$D$18),)","v":0},{"$f":"IF($F$4=\"dinner\",IF(T130=0,,(T130/$E$6)*'Customer Info'!$D$18),)","v":0},{"$f":"IF($F$4=\"other\",IF(U130=0,,(U130/$E$7)*'Customer Info'!$D$18),)","v":0},0,{"$f":"IF($F$5=\"breakfast\",IF(R130=0,,(R130/$E$4)*'Customer Info'!$D$19),)","v":0},{"$f":"IF($F$5=\"dinner\",IF(T130=0,,(T130/$E$6)*'Customer Info'!$D$19),)","v":0},{"$f":"IF($F$5=\"other\",IF(U130=0,,(U130/$E$7)*'Customer Info'!$D$19),)","v":0},0,{"$f":"IF($F$6=\"breakfast\",IF(R130=0,,(R130/$E$4)*'Customer Info'!$D$20),)","v":0},{"$f":"IF($F$6=\"lunch\",IF(S130=0,,(S130/$E$5)*'Customer Info'!$D$20),)","v":0},{"$f":"IF($F$6=\"other\",IF(U130=0,,(U130/$E$7)*'Customer Info'!$D$20),)","v":0},0,{"$f":"IF($F$7=\"breakfast\",IF(R130=0,,(R130/$E$4)*'Customer Info'!$D$21),)","v":0},{"$f":"IF($F$7=\"lunch\",IF(S130=0,,(S130/$E$5)*'Customer Info'!$D$21),)","v":0},{"$f":"IF($F$7=\"dinner\",IF(T130=0,,(T130/$E$6)*'Customer Info'!$D$21),)","v":0},0,{"$f":"IF($F$10=\"lunch\",IF(W130=0,,(W130/$E$11)*'Customer Info'!$F$18),)","v":0},{"$f":"IF($F$10=\"dinner\",IF(X130=0,,(X130/$E$12)*'Customer Info'!$F$18),)","v":0},{"$f":"IF($F$10=\"other\",IF(Y130=0,,(Y130/$E$13)*'Customer Info'!$F$18),)","v":0},0,{"$f":"IF($F$11=\"breakfast\",IF(V130=0,,(V130/$E$10)*'Customer Info'!$F$19),)","v":0},{"$f":"IF($F$11=\"dinner\",IF(X130=0,,(X130/$E$12)*'Customer Info'!$F$19),)","v":0},{"$f":"IF($F$11=\"other\",IF(Y130=0,,(Y130/$E$13)*'Customer Info'!$F$19),)","v":0},0,{"$f":"IF($F$12=\"breakfast\",IF(V130=0,,(V130/$E$10)*'Customer Info'!$F$20),)","v":0},{"$f":"IF($F$12=\"lunch\",IF(W130=0,,(W130/$E$11)*'Customer Info'!$F$20),)","v":0},{"$f":"IF($F$12=\"other\",IF(Y130=0,,(Y130/$E$13)*'Customer Info'!$F$20),)","v":0},0,{"$f":"IF($F$13=\"breakfast\",IF(V130=0,,(V130/$E$10)*'Customer Info'!$F$21),)","v":0},{"$f":"IF($F$13=\"lunch\",IF(W130=0,,(W130/$E$11)*'Customer Info'!$F$21),)","v":0},{"$f":"IF($F$13=\"dinner\",IF(X130=0,,(X130/$E$12)*'Customer Info'!$F$21),)","v":0},0,{"$f":"IF($F$16=\"lunch\",IF(AA130=0,,(AA130/$E$17)*'Customer Info'!$H$18),)","v":0},{"$f":"IF($F$16=\"dinner\",IF(AB130=0,,(AB130/$E$18)*'Customer Info'!$H$18),)","v":0},{"$f":"IF($F$16=\"other\",IF(AC130=0,,(AC130/$E$19)*'Customer Info'!$H$18),)","v":0},0,{"$f":"IF($F$17=\"breakfast\",IF(Z130=0,,(Z130/$E$16)*'Customer Info'!$H$19),)","v":0},{"$f":"IF($F$17=\"dinner\",IF(AB130=0,,(AB130/$E$18)*'Customer Info'!$H$19),)","v":0},{"$f":"IF($F$17=\"other\",IF(AC130=0,,(AC130/$E$19)*'Customer Info'!$H$19),)","v":0},0,{"$f":"IF($F$18=\"breakfast\",IF(Z130=0,,(Z130/$E$16)*'Customer Info'!$H$20),)","v":0},{"$f":"IF($F$18=\"lunch\",IF(AA130=0,,(AA130/$E$17)*'Customer Info'!$H$20),)","v":0},{"$f":"IF($F$18=\"other\",IF(AC130=0,,(AC130/$E$19)*'Customer Info'!$H$20),)","v":0},0,{"$f":"IF($F$19=\"breakfast\",IF(Z130=0,,(Z130/$E$16)*'Customer Info'!$H$21),)","v":0},{"$f":"IF($F$19=\"lunch\",IF(AA130=0,,(AA130/$E$17)*'Customer Info'!$H$21),)","v":0},{"$f":"IF($F$19=\"dinner\",IF(AB130=0,,(AB130/$E$18)*'Customer Info'!$H$21),)","v":0},0,0,0,0,0,""]
[null,null,null,null,null,null,null,null,null,null,0,0,0,0,0,0,0,0,0,0,0,0,0,0,0,0,0,0,0,0,0,0,0,{"$f":"IF((OR($F$4=0,$F$4=\"none\")),IF(R131=0,,IF(OR($E$4='Customer Info'!$D$18,$E$4=0),R131,(R131/$E$4)*'Customer Info'!$D$18)),)","v":0},{"$f":"IF((OR($F$5=0,$F$5=\"none\")),IF(S131=0,,IF(OR($E$5='Customer Info'!$D$18,$E$5=0),S131,(S131/$E$5)*'Customer Info'!$D$19)),)","v":0},{"$f":"IF((OR($F$6=0,$F$6=\"none\")),IF(T131=0,,IF(OR($E$6='Customer Info'!$D$18,$E$6=0),T131,(T131/$E$6)*'Customer Info'!$D$20)),)","v":0},{"$f":"IF((OR($F$7=0,$F$7=\"none\")),IF(U131=0,,IF(OR($E$7='Customer Info'!$D$18,$E$7=0),U131,(U131/$E$7)*'Customer Info'!$D$21)),)","v":0},{"$f":"IF((OR($F$10=0,$F$10=\"none\")),IF(V131=0,,IF(OR($E$10='Customer Info'!$F$18,$E$10=0),V131,(V131/$E$10)*'Customer Info'!$F$18)),)","v":0},{"$f":"IF((OR($F$11=0,$F$11=\"none\")),IF(W131=0,,IF(OR($E$11='Customer Info'!$F$19,$E$11=0),W131,(W131/$E$11)*'Customer Info'!$F$19)),)","v":0},{"$f":"IF((OR($F$12=0,$F$12=\"none\")),IF(X131=0,,IF(OR($E$12='Customer Info'!$F$20,$E$12=0),X131,(X131/$E$12)*'Customer Info'!$F$20)),)","v":0},{"$f":"IF((OR($F$13=0,$F$13=\"none\")),IF(Y131=0,,IF(OR($E$13='Customer Info'!$F$21,$E$13=0),Y131,(Y131/$E$13)*'Customer Info'!$F$21)),)","v":0},{"$f":"IF((OR($F$16=0,$F$16=\"none\")),IF(Z131=0,,IF(OR($E$16='Customer Info'!$H$18,$E$16=0),Z131,(Z131/$E$16)*'Customer Info'!$H$18)),)","v":0},{"$f":"IF((OR($F$17=0,$F$17=\"none\")),IF(AA131=0,,IF(OR($E$17='Customer Info'!$H$19,$E$17=0),AA131,(AA131/$E$17)*'Customer Info'!$H$19)),)","v":0},{"$f":"IF((OR($F$18=0,$F$18=\"none\")),IF(AB131=0,,IF(OR($E$18='Customer Info'!$H$20,$E$18=0),AB131,(AB131/$E$18)*'Customer Info'!$H$20)),)","v":0},{"$f":"IF((OR($F$19=0,$F$19=\"none\")),IF(AC131=0,,IF(OR($E$19='Customer Info'!$H$21,$E$19=0),AC131,(AC131/$E$19)*'Customer Info'!$H$21)),)","v":0},{"$f":"IF((OR($F$4=0,$F$4=\"none\")),IF(AD131=0,,IF(OR($E$4='Customer Info'!$D$18,$E$4=0),AD131,(AD131/$E$4)*'Customer Info'!$D$18)),)","v":0},{"$f":"IF((OR($F$5=0,$F$5=\"none\")),IF(AE131=0,,IF(OR($E$5='Customer Info'!$D$19,$E$5=0),AE131,(AE131/$E$5)*'Customer Info'!$D$19)),)","v":0},{"$f":"IF((OR($F$6=0,$F$6=\"none\")),IF(AF131=0,,IF(OR($E$6='Customer Info'!$D$20,$E$6=0),AF131,(AF131/$E$6)*'Customer Info'!$D$20)),)","v":0},{"$f":"IF((OR($F$7=0,$F$7=\"none\")),IF(AG131=0,,IF(OR($E$7='Customer Info'!$D$21,$E$7=0),AG131,(AG131/$E$7)*'Customer Info'!$D$21)),)","v":0},0,0,{"$f":"IF(E131=\"plate waste\",,IF('Customer Info'!$M$18=0,'Log Sheet'!AY131,'Customer Info'!$M$18*'Log Sheet'!AY131))","v":0},{"$f":"IF(E131=\"plate waste\",IF(OR(C131=\"patient\",C131=\"patient beverages\"),IF('Customer Info'!$M$27=0,AY131*'Customer Info'!$M$18,AY131*'Customer Info'!$M$27),IF(C131=\"cafeteria\",IF('Customer Info'!$M$28=0,AY131*'Customer Info'!$M$18,AY131*'Customer Info'!$M$28),IF(C131=\"other1\",IF('Customer Info'!$M$29=0,AY131*'Customer Info'!$M$18,AY131*'Customer Info'!$M$29),))),)","v":0},0,{"$f":"IF($F$4=\"lunch\",IF(S131=0,,(S131/$E$5)*'Customer Info'!$D$18),)","v":0},{"$f":"IF($F$4=\"dinner\",IF(T131=0,,(T131/$E$6)*'Customer Info'!$D$18),)","v":0},{"$f":"IF($F$4=\"other\",IF(U131=0,,(U131/$E$7)*'Customer Info'!$D$18),)","v":0},0,{"$f":"IF($F$5=\"breakfast\",IF(R131=0,,(R131/$E$4)*'Customer Info'!$D$19),)","v":0},{"$f":"IF($F$5=\"dinner\",IF(T131=0,,(T131/$E$6)*'Customer Info'!$D$19),)","v":0},{"$f":"IF($F$5=\"other\",IF(U131=0,,(U131/$E$7)*'Customer Info'!$D$19),)","v":0},0,{"$f":"IF($F$6=\"breakfast\",IF(R131=0,,(R131/$E$4)*'Customer Info'!$D$20),)","v":0},{"$f":"IF($F$6=\"lunch\",IF(S131=0,,(S131/$E$5)*'Customer Info'!$D$20),)","v":0},{"$f":"IF($F$6=\"other\",IF(U131=0,,(U131/$E$7)*'Customer Info'!$D$20),)","v":0},0,{"$f":"IF($F$7=\"breakfast\",IF(R131=0,,(R131/$E$4)*'Customer Info'!$D$21),)","v":0},{"$f":"IF($F$7=\"lunch\",IF(S131=0,,(S131/$E$5)*'Customer Info'!$D$21),)","v":0},{"$f":"IF($F$7=\"dinner\",IF(T131=0,,(T131/$E$6)*'Customer Info'!$D$21),)","v":0},0,{"$f":"IF($F$10=\"lunch\",IF(W131=0,,(W131/$E$11)*'Customer Info'!$F$18),)","v":0},{"$f":"IF($F$10=\"dinner\",IF(X131=0,,(X131/$E$12)*'Customer Info'!$F$18),)","v":0},{"$f":"IF($F$10=\"other\",IF(Y131=0,,(Y131/$E$13)*'Customer Info'!$F$18),)","v":0},0,{"$f":"IF($F$11=\"breakfast\",IF(V131=0,,(V131/$E$10)*'Customer Info'!$F$19),)","v":0},{"$f":"IF($F$11=\"dinner\",IF(X131=0,,(X131/$E$12)*'Customer Info'!$F$19),)","v":0},{"$f":"IF($F$11=\"other\",IF(Y131=0,,(Y131/$E$13)*'Customer Info'!$F$19),)","v":0},0,{"$f":"IF($F$12=\"breakfast\",IF(V131=0,,(V131/$E$10)*'Customer Info'!$F$20),)","v":0},{"$f":"IF($F$12=\"lunch\",IF(W131=0,,(W131/$E$11)*'Customer Info'!$F$20),)","v":0},{"$f":"IF($F$12=\"other\",IF(Y131=0,,(Y131/$E$13)*'Customer Info'!$F$20),)","v":0},0,{"$f":"IF($F$13=\"breakfast\",IF(V131=0,,(V131/$E$10)*'Customer Info'!$F$21),)","v":0},{"$f":"IF($F$13=\"lunch\",IF(W131=0,,(W131/$E$11)*'Customer Info'!$F$21),)","v":0},{"$f":"IF($F$13=\"dinner\",IF(X131=0,,(X131/$E$12)*'Customer Info'!$F$21),)","v":0},0,{"$f":"IF($F$16=\"lunch\",IF(AA131=0,,(AA131/$E$17)*'Customer Info'!$H$18),)","v":0},{"$f":"IF($F$16=\"dinner\",IF(AB131=0,,(AB131/$E$18)*'Customer Info'!$H$18),)","v":0},{"$f":"IF($F$16=\"other\",IF(AC131=0,,(AC131/$E$19)*'Customer Info'!$H$18),)","v":0},0,{"$f":"IF($F$17=\"breakfast\",IF(Z131=0,,(Z131/$E$16)*'Customer Info'!$H$19),)","v":0},{"$f":"IF($F$17=\"dinner\",IF(AB131=0,,(AB131/$E$18)*'Customer Info'!$H$19),)","v":0},{"$f":"IF($F$17=\"other\",IF(AC131=0,,(AC131/$E$19)*'Customer Info'!$H$19),)","v":0},0,{"$f":"IF($F$18=\"breakfast\",IF(Z131=0,,(Z131/$E$16)*'Customer Info'!$H$20),)","v":0},{"$f":"IF($F$18=\"lunch\",IF(AA131=0,,(AA131/$E$17)*'Customer Info'!$H$20),)","v":0},{"$f":"IF($F$18=\"other\",IF(AC131=0,,(AC131/$E$19)*'Customer Info'!$H$20),)","v":0},0,{"$f":"IF($F$19=\"breakfast\",IF(Z131=0,,(Z131/$E$16)*'Customer Info'!$H$21),)","v":0},{"$f":"IF($F$19=\"lunch\",IF(AA131=0,,(AA131/$E$17)*'Customer Info'!$H$21),)","v":0},{"$f":"IF($F$19=\"dinner\",IF(AB131=0,,(AB131/$E$18)*'Customer Info'!$H$21),)","v":0},0,0,0,0,0,""]
[null,null,null,null,null,null,null,null,null,null,0,0,0,0,0,0,0,0,0,0,0,0,0,0,0,0,0,0,0,0,0,0,0,{"$f":"IF((OR($F$4=0,$F$4=\"none\")),IF(R132=0,,IF(OR($E$4='Customer Info'!$D$18,$E$4=0),R132,(R132/$E$4)*'Customer Info'!$D$18)),)","v":0},{"$f":"IF((OR($F$5=0,$F$5=\"none\")),IF(S132=0,,IF(OR($E$5='Customer Info'!$D$18,$E$5=0),S132,(S132/$E$5)*'Customer Info'!$D$19)),)","v":0},{"$f":"IF((OR($F$6=0,$F$6=\"none\")),IF(T132=0,,IF(OR($E$6='Customer Info'!$D$18,$E$6=0),T132,(T132/$E$6)*'Customer Info'!$D$20)),)","v":0},{"$f":"IF((OR($F$7=0,$F$7=\"none\")),IF(U132=0,,IF(OR($E$7='Customer Info'!$D$18,$E$7=0),U132,(U132/$E$7)*'Customer Info'!$D$21)),)","v":0},{"$f":"IF((OR($F$10=0,$F$10=\"none\")),IF(V132=0,,IF(OR($E$10='Customer Info'!$F$18,$E$10=0),V132,(V132/$E$10)*'Customer Info'!$F$18)),)","v":0},{"$f":"IF((OR($F$11=0,$F$11=\"none\")),IF(W132=0,,IF(OR($E$11='Customer Info'!$F$19,$E$11=0),W132,(W132/$E$11)*'Customer Info'!$F$19)),)","v":0},{"$f":"IF((OR($F$12=0,$F$12=\"none\")),IF(X132=0,,IF(OR($E$12='Customer Info'!$F$20,$E$12=0),X132,(X132/$E$12)*'Customer Info'!$F$20)),)","v":0},{"$f":"IF((OR($F$13=0,$F$13=\"none\")),IF(Y132=0,,IF(OR($E$13='Customer Info'!$F$21,$E$13=0),Y132,(Y132/$E$13)*'Customer Info'!$F$21)),)","v":0},{"$f":"IF((OR($F$16=0,$F$16=\"none\")),IF(Z132=0,,IF(OR($E$16='Customer Info'!$H$18,$E$16=0),Z132,(Z132/$E$16)*'Customer Info'!$H$18)),)","v":0},{"$f":"IF((OR($F$17=0,$F$17=\"none\")),IF(AA132=0,,IF(OR($E$17='Customer Info'!$H$19,$E$17=0),AA132,(AA132/$E$17)*'Customer Info'!$H$19)),)","v":0},{"$f":"IF((OR($F$18=0,$F$18=\"none\")),IF(AB132=0,,IF(OR($E$18='Customer Info'!$H$20,$E$18=0),AB132,(AB132/$E$18)*'Customer Info'!$H$20)),)","v":0},{"$f":"IF((OR($F$19=0,$F$19=\"none\")),IF(AC132=0,,IF(OR($E$19='Customer Info'!$H$21,$E$19=0),AC132,(AC132/$E$19)*'Customer Info'!$H$21)),)","v":0},{"$f":"IF((OR($F$4=0,$F$4=\"none\")),IF(AD132=0,,IF(OR($E$4='Customer Info'!$D$18,$E$4=0),AD132,(AD132/$E$4)*'Customer Info'!$D$18)),)","v":0},{"$f":"IF((OR($F$5=0,$F$5=\"none\")),IF(AE132=0,,IF(OR($E$5='Customer Info'!$D$19,$E$5=0),AE132,(AE132/$E$5)*'Customer Info'!$D$19)),)","v":0},{"$f":"IF((OR($F$6=0,$F$6=\"none\")),IF(AF132=0,,IF(OR($E$6='Customer Info'!$D$20,$E$6=0),AF132,(AF132/$E$6)*'Customer Info'!$D$20)),)","v":0},{"$f":"IF((OR($F$7=0,$F$7=\"none\")),IF(AG132=0,,IF(OR($E$7='Customer Info'!$D$21,$E$7=0),AG132,(AG132/$E$7)*'Customer Info'!$D$21)),)","v":0},0,0,{"$f":"IF(E132=\"plate waste\",,IF('Customer Info'!$M$18=0,'Log Sheet'!AY132,'Customer Info'!$M$18*'Log Sheet'!AY132))","v":0},{"$f":"IF(E132=\"plate waste\",IF(OR(C132=\"patient\",C132=\"patient beverages\"),IF('Customer Info'!$M$27=0,AY132*'Customer Info'!$M$18,AY132*'Customer Info'!$M$27),IF(C132=\"cafeteria\",IF('Customer Info'!$M$28=0,AY132*'Customer Info'!$M$18,AY132*'Customer Info'!$M$28),IF(C132=\"other1\",IF('Customer Info'!$M$29=0,AY132*'Customer Info'!$M$18,AY132*'Customer Info'!$M$29),))),)","v":0},0,{"$f":"IF($F$4=\"lunch\",IF(S132=0,,(S132/$E$5)*'Customer Info'!$D$18),)","v":0},{"$f":"IF($F$4=\"dinner\",IF(T132=0,,(T132/$E$6)*'Customer Info'!$D$18),)","v":0},{"$f":"IF($F$4=\"other\",IF(U132=0,,(U132/$E$7)*'Customer Info'!$D$18),)","v":0},0,{"$f":"IF($F$5=\"breakfast\",IF(R132=0,,(R132/$E$4)*'Customer Info'!$D$19),)","v":0},{"$f":"IF($F$5=\"dinner\",IF(T132=0,,(T132/$E$6)*'Customer Info'!$D$19),)","v":0},{"$f":"IF($F$5=\"other\",IF(U132=0,,(U132/$E$7)*'Customer Info'!$D$19),)","v":0},0,{"$f":"IF($F$6=\"breakfast\",IF(R132=0,,(R132/$E$4)*'Customer Info'!$D$20),)","v":0},{"$f":"IF($F$6=\"lunch\",IF(S132=0,,(S132/$E$5)*'Customer Info'!$D$20),)","v":0},{"$f":"IF($F$6=\"other\",IF(U132=0,,(U132/$E$7)*'Customer Info'!$D$20),)","v":0},0,{"$f":"IF($F$7=\"breakfast\",IF(R132=0,,(R132/$E$4)*'Customer Info'!$D$21),)","v":0},{"$f":"IF($F$7=\"lunch\",IF(S132=0,,(S132/$E$5)*'Customer Info'!$D$21),)","v":0},{"$f":"IF($F$7=\"dinner\",IF(T132=0,,(T132/$E$6)*'Customer Info'!$D$21),)","v":0},0,{"$f":"IF($F$10=\"lunch\",IF(W132=0,,(W132/$E$11)*'Customer Info'!$F$18),)","v":0},{"$f":"IF($F$10=\"dinner\",IF(X132=0,,(X132/$E$12)*'Customer Info'!$F$18),)","v":0},{"$f":"IF($F$10=\"other\",IF(Y132=0,,(Y132/$E$13)*'Customer Info'!$F$18),)","v":0},0,{"$f":"IF($F$11=\"breakfast\",IF(V132=0,,(V132/$E$10)*'Customer Info'!$F$19),)","v":0},{"$f":"IF($F$11=\"dinner\",IF(X132=0,,(X132/$E$12)*'Customer Info'!$F$19),)","v":0},{"$f":"IF($F$11=\"other\",IF(Y132=0,,(Y132/$E$13)*'Customer Info'!$F$19),)","v":0},0,{"$f":"IF($F$12=\"breakfast\",IF(V132=0,,(V132/$E$10)*'Customer Info'!$F$20),)","v":0},{"$f":"IF($F$12=\"lunch\",IF(W132=0,,(W132/$E$11)*'Customer Info'!$F$20),)","v":0},{"$f":"IF($F$12=\"other\",IF(Y132=0,,(Y132/$E$13)*'Customer Info'!$F$20),)","v":0},0,{"$f":"IF($F$13=\"breakfast\",IF(V132=0,,(V132/$E$10)*'Customer Info'!$F$21),)","v":0},{"$f":"IF($F$13=\"lunch\",IF(W132=0,,(W132/$E$11)*'Customer Info'!$F$21),)","v":0},{"$f":"IF($F$13=\"dinner\",IF(X132=0,,(X132/$E$12)*'Customer Info'!$F$21),)","v":0},0,{"$f":"IF($F$16=\"lunch\",IF(AA132=0,,(AA132/$E$17)*'Customer Info'!$H$18),)","v":0},{"$f":"IF($F$16=\"dinner\",IF(AB132=0,,(AB132/$E$18)*'Customer Info'!$H$18),)","v":0},{"$f":"IF($F$16=\"other\",IF(AC132=0,,(AC132/$E$19)*'Customer Info'!$H$18),)","v":0},0,{"$f":"IF($F$17=\"breakfast\",IF(Z132=0,,(Z132/$E$16)*'Customer Info'!$H$19),)","v":0},{"$f":"IF($F$17=\"dinner\",IF(AB132=0,,(AB132/$E$18)*'Customer Info'!$H$19),)","v":0},{"$f":"IF($F$17=\"other\",IF(AC132=0,,(AC132/$E$19)*'Customer Info'!$H$19),)","v":0},0,{"$f":"IF($F$18=\"breakfast\",IF(Z132=0,,(Z132/$E$16)*'Customer Info'!$H$20),)","v":0},{"$f":"IF($F$18=\"lunch\",IF(AA132=0,,(AA132/$E$17)*'Customer Info'!$H$20),)","v":0},{"$f":"IF($F$18=\"other\",IF(AC132=0,,(AC132/$E$19)*'Customer Info'!$H$20),)","v":0},0,{"$f":"IF($F$19=\"breakfast\",IF(Z132=0,,(Z132/$E$16)*'Customer Info'!$H$21),)","v":0},{"$f":"IF($F$19=\"lunch\",IF(AA132=0,,(AA132/$E$17)*'Customer Info'!$H$21),)","v":0},{"$f":"IF($F$19=\"dinner\",IF(AB132=0,,(AB132/$E$18)*'Customer Info'!$H$21),)","v":0},0,0,0,0,0,""]
[null,null,null,null,null,null,null,null,null,null,0,0,0,0,0,0,0,0,0,0,0,0,0,0,0,0,0,0,0,0,0,0,0,{"$f":"IF((OR($F$4=0,$F$4=\"none\")),IF(R133=0,,IF(OR($E$4='Customer Info'!$D$18,$E$4=0),R133,(R133/$E$4)*'Customer Info'!$D$18)),)","v":0},{"$f":"IF((OR($F$5=0,$F$5=\"none\")),IF(S133=0,,IF(OR($E$5='Customer Info'!$D$18,$E$5=0),S133,(S133/$E$5)*'Customer Info'!$D$19)),)","v":0},{"$f":"IF((OR($F$6=0,$F$6=\"none\")),IF(T133=0,,IF(OR($E$6='Customer Info'!$D$18,$E$6=0),T133,(T133/$E$6)*'Customer Info'!$D$20)),)","v":0},{"$f":"IF((OR($F$7=0,$F$7=\"none\")),IF(U133=0,,IF(OR($E$7='Customer Info'!$D$18,$E$7=0),U133,(U133/$E$7)*'Customer Info'!$D$21)),)","v":0},{"$f":"IF((OR($F$10=0,$F$10=\"none\")),IF(V133=0,,IF(OR($E$10='Customer Info'!$F$18,$E$10=0),V133,(V133/$E$10)*'Customer Info'!$F$18)),)","v":0},{"$f":"IF((OR($F$11=0,$F$11=\"none\")),IF(W133=0,,IF(OR($E$11='Customer Info'!$F$19,$E$11=0),W133,(W133/$E$11)*'Customer Info'!$F$19)),)","v":0},{"$f":"IF((OR($F$12=0,$F$12=\"none\")),IF(X133=0,,IF(OR($E$12='Customer Info'!$F$20,$E$12=0),X133,(X133/$E$12)*'Customer Info'!$F$20)),)","v":0},{"$f":"IF((OR($F$13=0,$F$13=\"none\")),IF(Y133=0,,IF(OR($E$13='Customer Info'!$F$21,$E$13=0),Y133,(Y133/$E$13)*'Customer Info'!$F$21)),)","v":0},{"$f":"IF((OR($F$16=0,$F$16=\"none\")),IF(Z133=0,,IF(OR($E$16='Customer Info'!$H$18,$E$16=0),Z133,(Z133/$E$16)*'Customer Info'!$H$18)),)","v":0},{"$f":"IF((OR($F$17=0,$F$17=\"none\")),IF(AA133=0,,IF(OR($E$17='Customer Info'!$H$19,$E$17=0),AA133,(AA133/$E$17)*'Customer Info'!$H$19)),)","v":0},{"$f":"IF((OR($F$18=0,$F$18=\"none\")),IF(AB133=0,,IF(OR($E$18='Customer Info'!$H$20,$E$18=0),AB133,(AB133/$E$18)*'Customer Info'!$H$20)),)","v":0},{"$f":"IF((OR($F$19=0,$F$19=\"none\")),IF(AC133=0,,IF(OR($E$19='Customer Info'!$H$21,$E$19=0),AC133,(AC133/$E$19)*'Customer Info'!$H$21)),)","v":0},{"$f":"IF((OR($F$4=0,$F$4=\"none\")),IF(AD133=0,,IF(OR($E$4='Customer Info'!$D$18,$E$4=0),AD133,(AD133/$E$4)*'Customer Info'!$D$18)),)","v":0},{"$f":"IF((OR($F$5=0,$F$5=\"none\")),IF(AE133=0,,IF(OR($E$5='Customer Info'!$D$19,$E$5=0),AE133,(AE133/$E$5)*'Customer Info'!$D$19)),)","v":0},{"$f":"IF((OR($F$6=0,$F$6=\"none\")),IF(AF133=0,,IF(OR($E$6='Customer Info'!$D$20,$E$6=0),AF133,(AF133/$E$6)*'Customer Info'!$D$20)),)","v":0},{"$f":"IF((OR($F$7=0,$F$7=\"none\")),IF(AG133=0,,IF(OR($E$7='Customer Info'!$D$21,$E$7=0),AG133,(AG133/$E$7)*'Customer Info'!$D$21)),)","v":0},0,0,{"$f":"IF(E133=\"plate waste\",,IF('Customer Info'!$M$18=0,'Log Sheet'!AY133,'Customer Info'!$M$18*'Log Sheet'!AY133))","v":0},{"$f":"IF(E133=\"plate waste\",IF(OR(C133=\"patient\",C133=\"patient beverages\"),IF('Customer Info'!$M$27=0,AY133*'Customer Info'!$M$18,AY133*'Customer Info'!$M$27),IF(C133=\"cafeteria\",IF('Customer Info'!$M$28=0,AY133*'Customer Info'!$M$18,AY133*'Customer Info'!$M$28),IF(C133=\"other1\",IF('Customer Info'!$M$29=0,AY133*'Customer Info'!$M$18,AY133*'Customer Info'!$M$29),))),)","v":0},0,{"$f":"IF($F$4=\"lunch\",IF(S133=0,,(S133/$E$5)*'Customer Info'!$D$18),)","v":0},{"$f":"IF($F$4=\"dinner\",IF(T133=0,,(T133/$E$6)*'Customer Info'!$D$18),)","v":0},{"$f":"IF($F$4=\"other\",IF(U133=0,,(U133/$E$7)*'Customer Info'!$D$18),)","v":0},0,{"$f":"IF($F$5=\"breakfast\",IF(R133=0,,(R133/$E$4)*'Customer Info'!$D$19),)","v":0},{"$f":"IF($F$5=\"dinner\",IF(T133=0,,(T133/$E$6)*'Customer Info'!$D$19),)","v":0},{"$f":"IF($F$5=\"other\",IF(U133=0,,(U133/$E$7)*'Customer Info'!$D$19),)","v":0},0,{"$f":"IF($F$6=\"breakfast\",IF(R133=0,,(R133/$E$4)*'Customer Info'!$D$20),)","v":0},{"$f":"IF($F$6=\"lunch\",IF(S133=0,,(S133/$E$5)*'Customer Info'!$D$20),)","v":0},{"$f":"IF($F$6=\"other\",IF(U133=0,,(U133/$E$7)*'Customer Info'!$D$20),)","v":0},0,{"$f":"IF($F$7=\"breakfast\",IF(R133=0,,(R133/$E$4)*'Customer Info'!$D$21),)","v":0},{"$f":"IF($F$7=\"lunch\",IF(S133=0,,(S133/$E$5)*'Customer Info'!$D$21),)","v":0},{"$f":"IF($F$7=\"dinner\",IF(T133=0,,(T133/$E$6)*'Customer Info'!$D$21),)","v":0},0,{"$f":"IF($F$10=\"lunch\",IF(W133=0,,(W133/$E$11)*'Customer Info'!$F$18),)","v":0},{"$f":"IF($F$10=\"dinner\",IF(X133=0,,(X133/$E$12)*'Customer Info'!$F$18),)","v":0},{"$f":"IF($F$10=\"other\",IF(Y133=0,,(Y133/$E$13)*'Customer Info'!$F$18),)","v":0},0,{"$f":"IF($F$11=\"breakfast\",IF(V133=0,,(V133/$E$10)*'Customer Info'!$F$19),)","v":0},{"$f":"IF($F$11=\"dinner\",IF(X133=0,,(X133/$E$12)*'Customer Info'!$F$19),)","v":0},{"$f":"IF($F$11=\"other\",IF(Y133=0,,(Y133/$E$13)*'Customer Info'!$F$19),)","v":0},0,{"$f":"IF($F$12=\"breakfast\",IF(V133=0,,(V133/$E$10)*'Customer Info'!$F$20),)","v":0},{"$f":"IF($F$12=\"lunch\",IF(W133=0,,(W133/$E$11)*'Customer Info'!$F$20),)","v":0},{"$f":"IF($F$12=\"other\",IF(Y133=0,,(Y133/$E$13)*'Customer Info'!$F$20),)","v":0},0,{"$f":"IF($F$13=\"breakfast\",IF(V133=0,,(V133/$E$10)*'Customer Info'!$F$21),)","v":0},{"$f":"IF($F$13=\"lunch\",IF(W133=0,,(W133/$E$11)*'Customer Info'!$F$21),)","v":0},{"$f":"IF($F$13=\"dinner\",IF(X133=0,,(X133/$E$12)*'Customer Info'!$F$21),)","v":0},0,{"$f":"IF($F$16=\"lunch\",IF(AA133=0,,(AA133/$E$17)*'Customer Info'!$H$18),)","v":0},{"$f":"IF($F$16=\"dinner\",IF(AB133=0,,(AB133/$E$18)*'Customer Info'!$H$18),)","v":0},{"$f":"IF($F$16=\"other\",IF(AC133=0,,(AC133/$E$19)*'Customer Info'!$H$18),)","v":0},0,{"$f":"IF($F$17=\"breakfast\",IF(Z133=0,,(Z133/$E$16)*'Customer Info'!$H$19),)","v":0},{"$f":"IF($F$17=\"dinner\",IF(AB133=0,,(AB133/$E$18)*'Customer Info'!$H$19),)","v":0},{"$f":"IF($F$17=\"other\",IF(AC133=0,,(AC133/$E$19)*'Customer Info'!$H$19),)","v":0},0,{"$f":"IF($F$18=\"breakfast\",IF(Z133=0,,(Z133/$E$16)*'Customer Info'!$H$20),)","v":0},{"$f":"IF($F$18=\"lunch\",IF(AA133=0,,(AA133/$E$17)*'Customer Info'!$H$20),)","v":0},{"$f":"IF($F$18=\"other\",IF(AC133=0,,(AC133/$E$19)*'Customer Info'!$H$20),)","v":0},0,{"$f":"IF($F$19=\"breakfast\",IF(Z133=0,,(Z133/$E$16)*'Customer Info'!$H$21),)","v":0},{"$f":"IF($F$19=\"lunch\",IF(AA133=0,,(AA133/$E$17)*'Customer Info'!$H$21),)","v":0},{"$f":"IF($F$19=\"dinner\",IF(AB133=0,,(AB133/$E$18)*'Customer Info'!$H$21),)","v":0},0,0,0,0,0,""]
[null,null,null,null,null,null,null,null,null,null,0,0,0,0,0,0,0,0,0,0,0,0,0,0,0,0,0,0,0,0,0,0,0,{"$f":"IF((OR($F$4=0,$F$4=\"none\")),IF(R134=0,,IF(OR($E$4='Customer Info'!$D$18,$E$4=0),R134,(R134/$E$4)*'Customer Info'!$D$18)),)","v":0},{"$f":"IF((OR($F$5=0,$F$5=\"none\")),IF(S134=0,,IF(OR($E$5='Customer Info'!$D$18,$E$5=0),S134,(S134/$E$5)*'Customer Info'!$D$19)),)","v":0},{"$f":"IF((OR($F$6=0,$F$6=\"none\")),IF(T134=0,,IF(OR($E$6='Customer Info'!$D$18,$E$6=0),T134,(T134/$E$6)*'Customer Info'!$D$20)),)","v":0},{"$f":"IF((OR($F$7=0,$F$7=\"none\")),IF(U134=0,,IF(OR($E$7='Customer Info'!$D$18,$E$7=0),U134,(U134/$E$7)*'Customer Info'!$D$21)),)","v":0},{"$f":"IF((OR($F$10=0,$F$10=\"none\")),IF(V134=0,,IF(OR($E$10='Customer Info'!$F$18,$E$10=0),V134,(V134/$E$10)*'Customer Info'!$F$18)),)","v":0},{"$f":"IF((OR($F$11=0,$F$11=\"none\")),IF(W134=0,,IF(OR($E$11='Customer Info'!$F$19,$E$11=0),W134,(W134/$E$11)*'Customer Info'!$F$19)),)","v":0},{"$f":"IF((OR($F$12=0,$F$12=\"none\")),IF(X134=0,,IF(OR($E$12='Customer Info'!$F$20,$E$12=0),X134,(X134/$E$12)*'Customer Info'!$F$20)),)","v":0},{"$f":"IF((OR($F$13=0,$F$13=\"none\")),IF(Y134=0,,IF(OR($E$13='Customer Info'!$F$21,$E$13=0),Y134,(Y134/$E$13)*'Customer Info'!$F$21)),)","v":0},{"$f":"IF((OR($F$16=0,$F$16=\"none\")),IF(Z134=0,,IF(OR($E$16='Customer Info'!$H$18,$E$16=0),Z134,(Z134/$E$16)*'Customer Info'!$H$18)),)","v":0},{"$f":"IF((OR($F$17=0,$F$17=\"none\")),IF(AA134=0,,IF(OR($E$17='Customer Info'!$H$19,$E$17=0),AA134,(AA134/$E$17)*'Customer Info'!$H$19)),)","v":0},{"$f":"IF((OR($F$18=0,$F$18=\"none\")),IF(AB134=0,,IF(OR($E$18='Customer Info'!$H$20,$E$18=0),AB134,(AB134/$E$18)*'Customer Info'!$H$20)),)","v":0},{"$f":"IF((OR($F$19=0,$F$19=\"none\")),IF(AC134=0,,IF(OR($E$19='Customer Info'!$H$21,$E$19=0),AC134,(AC134/$E$19)*'Customer Info'!$H$21)),)","v":0},{"$f":"IF((OR($F$4=0,$F$4=\"none\")),IF(AD134=0,,IF(OR($E$4='Customer Info'!$D$18,$E$4=0),AD134,(AD134/$E$4)*'Customer Info'!$D$18)),)","v":0},{"$f":"IF((OR($F$5=0,$F$5=\"none\")),IF(AE134=0,,IF(OR($E$5='Customer Info'!$D$19,$E$5=0),AE134,(AE134/$E$5)*'Customer Info'!$D$19)),)","v":0},{"$f":"IF((OR($F$6=0,$F$6=\"none\")),IF(AF134=0,,IF(OR($E$6='Customer Info'!$D$20,$E$6=0),AF134,(AF134/$E$6)*'Customer Info'!$D$20)),)","v":0},{"$f":"IF((OR($F$7=0,$F$7=\"none\")),IF(AG134=0,,IF(OR($E$7='Customer Info'!$D$21,$E$7=0),AG134,(AG134/$E$7)*'Customer Info'!$D$21)),)","v":0},0,0,{"$f":"IF(E134=\"plate waste\",,IF('Customer Info'!$M$18=0,'Log Sheet'!AY134,'Customer Info'!$M$18*'Log Sheet'!AY134))","v":0},{"$f":"IF(E134=\"plate waste\",IF(OR(C134=\"patient\",C134=\"patient beverages\"),IF('Customer Info'!$M$27=0,AY134*'Customer Info'!$M$18,AY134*'Customer Info'!$M$27),IF(C134=\"cafeteria\",IF('Customer Info'!$M$28=0,AY134*'Customer Info'!$M$18,AY134*'Customer Info'!$M$28),IF(C134=\"other1\",IF('Customer Info'!$M$29=0,AY134*'Customer Info'!$M$18,AY134*'Customer Info'!$M$29),))),)","v":0},0,{"$f":"IF($F$4=\"lunch\",IF(S134=0,,(S134/$E$5)*'Customer Info'!$D$18),)","v":0},{"$f":"IF($F$4=\"dinner\",IF(T134=0,,(T134/$E$6)*'Customer Info'!$D$18),)","v":0},{"$f":"IF($F$4=\"other\",IF(U134=0,,(U134/$E$7)*'Customer Info'!$D$18),)","v":0},0,{"$f":"IF($F$5=\"breakfast\",IF(R134=0,,(R134/$E$4)*'Customer Info'!$D$19),)","v":0},{"$f":"IF($F$5=\"dinner\",IF(T134=0,,(T134/$E$6)*'Customer Info'!$D$19),)","v":0},{"$f":"IF($F$5=\"other\",IF(U134=0,,(U134/$E$7)*'Customer Info'!$D$19),)","v":0},0,{"$f":"IF($F$6=\"breakfast\",IF(R134=0,,(R134/$E$4)*'Customer Info'!$D$20),)","v":0},{"$f":"IF($F$6=\"lunch\",IF(S134=0,,(S134/$E$5)*'Customer Info'!$D$20),)","v":0},{"$f":"IF($F$6=\"other\",IF(U134=0,,(U134/$E$7)*'Customer Info'!$D$20),)","v":0},0,{"$f":"IF($F$7=\"breakfast\",IF(R134=0,,(R134/$E$4)*'Customer Info'!$D$21),)","v":0},{"$f":"IF($F$7=\"lunch\",IF(S134=0,,(S134/$E$5)*'Customer Info'!$D$21),)","v":0},{"$f":"IF($F$7=\"dinner\",IF(T134=0,,(T134/$E$6)*'Customer Info'!$D$21),)","v":0},0,{"$f":"IF($F$10=\"lunch\",IF(W134=0,,(W134/$E$11)*'Customer Info'!$F$18),)","v":0},{"$f":"IF($F$10=\"dinner\",IF(X134=0,,(X134/$E$12)*'Customer Info'!$F$18),)","v":0},{"$f":"IF($F$10=\"other\",IF(Y134=0,,(Y134/$E$13)*'Customer Info'!$F$18),)","v":0},0,{"$f":"IF($F$11=\"breakfast\",IF(V134=0,,(V134/$E$10)*'Customer Info'!$F$19),)","v":0},{"$f":"IF($F$11=\"dinner\",IF(X134=0,,(X134/$E$12)*'Customer Info'!$F$19),)","v":0},{"$f":"IF($F$11=\"other\",IF(Y134=0,,(Y134/$E$13)*'Customer Info'!$F$19),)","v":0},0,{"$f":"IF($F$12=\"breakfast\",IF(V134=0,,(V134/$E$10)*'Customer Info'!$F$20),)","v":0},{"$f":"IF($F$12=\"lunch\",IF(W134=0,,(W134/$E$11)*'Customer Info'!$F$20),)","v":0},{"$f":"IF($F$12=\"other\",IF(Y134=0,,(Y134/$E$13)*'Customer Info'!$F$20),)","v":0},0,{"$f":"IF($F$13=\"breakfast\",IF(V134=0,,(V134/$E$10)*'Customer Info'!$F$21),)","v":0},{"$f":"IF($F$13=\"lunch\",IF(W134=0,,(W134/$E$11)*'Customer Info'!$F$21),)","v":0},{"$f":"IF($F$13=\"dinner\",IF(X134=0,,(X134/$E$12)*'Customer Info'!$F$21),)","v":0},0,{"$f":"IF($F$16=\"lunch\",IF(AA134=0,,(AA134/$E$17)*'Customer Info'!$H$18),)","v":0},{"$f":"IF($F$16=\"dinner\",IF(AB134=0,,(AB134/$E$18)*'Customer Info'!$H$18),)","v":0},{"$f":"IF($F$16=\"other\",IF(AC134=0,,(AC134/$E$19)*'Customer Info'!$H$18),)","v":0},0,{"$f":"IF($F$17=\"breakfast\",IF(Z134=0,,(Z134/$E$16)*'Customer Info'!$H$19),)","v":0},{"$f":"IF($F$17=\"dinner\",IF(AB134=0,,(AB134/$E$18)*'Customer Info'!$H$19),)","v":0},{"$f":"IF($F$17=\"other\",IF(AC134=0,,(AC134/$E$19)*'Customer Info'!$H$19),)","v":0},0,{"$f":"IF($F$18=\"breakfast\",IF(Z134=0,,(Z134/$E$16)*'Customer Info'!$H$20),)","v":0},{"$f":"IF($F$18=\"lunch\",IF(AA134=0,,(AA134/$E$17)*'Customer Info'!$H$20),)","v":0},{"$f":"IF($F$18=\"other\",IF(AC134=0,,(AC134/$E$19)*'Customer Info'!$H$20),)","v":0},0,{"$f":"IF($F$19=\"breakfast\",IF(Z134=0,,(Z134/$E$16)*'Customer Info'!$H$21),)","v":0},{"$f":"IF($F$19=\"lunch\",IF(AA134=0,,(AA134/$E$17)*'Customer Info'!$H$21),)","v":0},{"$f":"IF($F$19=\"dinner\",IF(AB134=0,,(AB134/$E$18)*'Customer Info'!$H$21),)","v":0},0,0,0,0,0,""]
[null,null,null,null,null,null,null,null,null,null,0,0,0,0,0,0,0,0,0,0,0,0,0,0,0,0,0,0,0,0,0,0,0,{"$f":"IF((OR($F$4=0,$F$4=\"none\")),IF(R135=0,,IF(OR($E$4='Customer Info'!$D$18,$E$4=0),R135,(R135/$E$4)*'Customer Info'!$D$18)),)","v":0},{"$f":"IF((OR($F$5=0,$F$5=\"none\")),IF(S135=0,,IF(OR($E$5='Customer Info'!$D$18,$E$5=0),S135,(S135/$E$5)*'Customer Info'!$D$19)),)","v":0},{"$f":"IF((OR($F$6=0,$F$6=\"none\")),IF(T135=0,,IF(OR($E$6='Customer Info'!$D$18,$E$6=0),T135,(T135/$E$6)*'Customer Info'!$D$20)),)","v":0},{"$f":"IF((OR($F$7=0,$F$7=\"none\")),IF(U135=0,,IF(OR($E$7='Customer Info'!$D$18,$E$7=0),U135,(U135/$E$7)*'Customer Info'!$D$21)),)","v":0},{"$f":"IF((OR($F$10=0,$F$10=\"none\")),IF(V135=0,,IF(OR($E$10='Customer Info'!$F$18,$E$10=0),V135,(V135/$E$10)*'Customer Info'!$F$18)),)","v":0},{"$f":"IF((OR($F$11=0,$F$11=\"none\")),IF(W135=0,,IF(OR($E$11='Customer Info'!$F$19,$E$11=0),W135,(W135/$E$11)*'Customer Info'!$F$19)),)","v":0},{"$f":"IF((OR($F$12=0,$F$12=\"none\")),IF(X135=0,,IF(OR($E$12='Customer Info'!$F$20,$E$12=0),X135,(X135/$E$12)*'Customer Info'!$F$20)),)","v":0},{"$f":"IF((OR($F$13=0,$F$13=\"none\")),IF(Y135=0,,IF(OR($E$13='Customer Info'!$F$21,$E$13=0),Y135,(Y135/$E$13)*'Customer Info'!$F$21)),)","v":0},{"$f":"IF((OR($F$16=0,$F$16=\"none\")),IF(Z135=0,,IF(OR($E$16='Customer Info'!$H$18,$E$16=0),Z135,(Z135/$E$16)*'Customer Info'!$H$18)),)","v":0},{"$f":"IF((OR($F$17=0,$F$17=\"none\")),IF(AA135=0,,IF(OR($E$17='Customer Info'!$H$19,$E$17=0),AA135,(AA135/$E$17)*'Customer Info'!$H$19)),)","v":0},{"$f":"IF((OR($F$18=0,$F$18=\"none\")),IF(AB135=0,,IF(OR($E$18='Customer Info'!$H$20,$E$18=0),AB135,(AB135/$E$18)*'Customer Info'!$H$20)),)","v":0},{"$f":"IF((OR($F$19=0,$F$19=\"none\")),IF(AC135=0,,IF(OR($E$19='Customer Info'!$H$21,$E$19=0),AC135,(AC135/$E$19)*'Customer Info'!$H$21)),)","v":0},{"$f":"IF((OR($F$4=0,$F$4=\"none\")),IF(AD135=0,,IF(OR($E$4='Customer Info'!$D$18,$E$4=0),AD135,(AD135/$E$4)*'Customer Info'!$D$18)),)","v":0},{"$f":"IF((OR($F$5=0,$F$5=\"none\")),IF(AE135=0,,IF(OR($E$5='Customer Info'!$D$19,$E$5=0),AE135,(AE135/$E$5)*'Customer Info'!$D$19)),)","v":0},{"$f":"IF((OR($F$6=0,$F$6=\"none\")),IF(AF135=0,,IF(OR($E$6='Customer Info'!$D$20,$E$6=0),AF135,(AF135/$E$6)*'Customer Info'!$D$20)),)","v":0},{"$f":"IF((OR($F$7=0,$F$7=\"none\")),IF(AG135=0,,IF(OR($E$7='Customer Info'!$D$21,$E$7=0),AG135,(AG135/$E$7)*'Customer Info'!$D$21)),)","v":0},0,0,{"$f":"IF(E135=\"plate waste\",,IF('Customer Info'!$M$18=0,'Log Sheet'!AY135,'Customer Info'!$M$18*'Log Sheet'!AY135))","v":0},{"$f":"IF(E135=\"plate waste\",IF(OR(C135=\"patient\",C135=\"patient beverages\"),IF('Customer Info'!$M$27=0,AY135*'Customer Info'!$M$18,AY135*'Customer Info'!$M$27),IF(C135=\"cafeteria\",IF('Customer Info'!$M$28=0,AY135*'Customer Info'!$M$18,AY135*'Customer Info'!$M$28),IF(C135=\"other1\",IF('Customer Info'!$M$29=0,AY135*'Customer Info'!$M$18,AY135*'Customer Info'!$M$29),))),)","v":0},0,{"$f":"IF($F$4=\"lunch\",IF(S135=0,,(S135/$E$5)*'Customer Info'!$D$18),)","v":0},{"$f":"IF($F$4=\"dinner\",IF(T135=0,,(T135/$E$6)*'Customer Info'!$D$18),)","v":0},{"$f":"IF($F$4=\"other\",IF(U135=0,,(U135/$E$7)*'Customer Info'!$D$18),)","v":0},0,{"$f":"IF($F$5=\"breakfast\",IF(R135=0,,(R135/$E$4)*'Customer Info'!$D$19),)","v":0},{"$f":"IF($F$5=\"dinner\",IF(T135=0,,(T135/$E$6)*'Customer Info'!$D$19),)","v":0},{"$f":"IF($F$5=\"other\",IF(U135=0,,(U135/$E$7)*'Customer Info'!$D$19),)","v":0},0,{"$f":"IF($F$6=\"breakfast\",IF(R135=0,,(R135/$E$4)*'Customer Info'!$D$20),)","v":0},{"$f":"IF($F$6=\"lunch\",IF(S135=0,,(S135/$E$5)*'Customer Info'!$D$20),)","v":0},{"$f":"IF($F$6=\"other\",IF(U135=0,,(U135/$E$7)*'Customer Info'!$D$20),)","v":0},0,{"$f":"IF($F$7=\"breakfast\",IF(R135=0,,(R135/$E$4)*'Customer Info'!$D$21),)","v":0},{"$f":"IF($F$7=\"lunch\",IF(S135=0,,(S135/$E$5)*'Customer Info'!$D$21),)","v":0},{"$f":"IF($F$7=\"dinner\",IF(T135=0,,(T135/$E$6)*'Customer Info'!$D$21),)","v":0},0,{"$f":"IF($F$10=\"lunch\",IF(W135=0,,(W135/$E$11)*'Customer Info'!$F$18),)","v":0},{"$f":"IF($F$10=\"dinner\",IF(X135=0,,(X135/$E$12)*'Customer Info'!$F$18),)","v":0},{"$f":"IF($F$10=\"other\",IF(Y135=0,,(Y135/$E$13)*'Customer Info'!$F$18),)","v":0},0,{"$f":"IF($F$11=\"breakfast\",IF(V135=0,,(V135/$E$10)*'Customer Info'!$F$19),)","v":0},{"$f":"IF($F$11=\"dinner\",IF(X135=0,,(X135/$E$12)*'Customer Info'!$F$19),)","v":0},{"$f":"IF($F$11=\"other\",IF(Y135=0,,(Y135/$E$13)*'Customer Info'!$F$19),)","v":0},0,{"$f":"IF($F$12=\"breakfast\",IF(V135=0,,(V135/$E$10)*'Customer Info'!$F$20),)","v":0},{"$f":"IF($F$12=\"lunch\",IF(W135=0,,(W135/$E$11)*'Customer Info'!$F$20),)","v":0},{"$f":"IF($F$12=\"other\",IF(Y135=0,,(Y135/$E$13)*'Customer Info'!$F$20),)","v":0},0,{"$f":"IF($F$13=\"breakfast\",IF(V135=0,,(V135/$E$10)*'Customer Info'!$F$21),)","v":0},{"$f":"IF($F$13=\"lunch\",IF(W135=0,,(W135/$E$11)*'Customer Info'!$F$21),)","v":0},{"$f":"IF($F$13=\"dinner\",IF(X135=0,,(X135/$E$12)*'Customer Info'!$F$21),)","v":0},0,{"$f":"IF($F$16=\"lunch\",IF(AA135=0,,(AA135/$E$17)*'Customer Info'!$H$18),)","v":0},{"$f":"IF($F$16=\"dinner\",IF(AB135=0,,(AB135/$E$18)*'Customer Info'!$H$18),)","v":0},{"$f":"IF($F$16=\"other\",IF(AC135=0,,(AC135/$E$19)*'Customer Info'!$H$18),)","v":0},0,{"$f":"IF($F$17=\"breakfast\",IF(Z135=0,,(Z135/$E$16)*'Customer Info'!$H$19),)","v":0},{"$f":"IF($F$17=\"dinner\",IF(AB135=0,,(AB135/$E$18)*'Customer Info'!$H$19),)","v":0},{"$f":"IF($F$17=\"other\",IF(AC135=0,,(AC135/$E$19)*'Customer Info'!$H$19),)","v":0},0,{"$f":"IF($F$18=\"breakfast\",IF(Z135=0,,(Z135/$E$16)*'Customer Info'!$H$20),)","v":0},{"$f":"IF($F$18=\"lunch\",IF(AA135=0,,(AA135/$E$17)*'Customer Info'!$H$20),)","v":0},{"$f":"IF($F$18=\"other\",IF(AC135=0,,(AC135/$E$19)*'Customer Info'!$H$20),)","v":0},0,{"$f":"IF($F$19=\"breakfast\",IF(Z135=0,,(Z135/$E$16)*'Customer Info'!$H$21),)","v":0},{"$f":"IF($F$19=\"lunch\",IF(AA135=0,,(AA135/$E$17)*'Customer Info'!$H$21),)","v":0},{"$f":"IF($F$19=\"dinner\",IF(AB135=0,,(AB135/$E$18)*'Customer Info'!$H$21),)","v":0},0,0,0,0,0,""]
[null,null,null,null,null,null,null,null,null,null,0,0,0,0,0,0,0,0,0,0,0,0,0,0,0,0,0,0,0,0,0,0,0,{"$f":"IF((OR($F$4=0,$F$4=\"none\")),IF(R136=0,,IF(OR($E$4='Customer Info'!$D$18,$E$4=0),R136,(R136/$E$4)*'Customer Info'!$D$18)),)","v":0},{"$f":"IF((OR($F$5=0,$F$5=\"none\")),IF(S136=0,,IF(OR($E$5='Customer Info'!$D$18,$E$5=0),S136,(S136/$E$5)*'Customer Info'!$D$19)),)","v":0},{"$f":"IF((OR($F$6=0,$F$6=\"none\")),IF(T136=0,,IF(OR($E$6='Customer Info'!$D$18,$E$6=0),T136,(T136/$E$6)*'Customer Info'!$D$20)),)","v":0},{"$f":"IF((OR($F$7=0,$F$7=\"none\")),IF(U136=0,,IF(OR($E$7='Customer Info'!$D$18,$E$7=0),U136,(U136/$E$7)*'Customer Info'!$D$21)),)","v":0},{"$f":"IF((OR($F$10=0,$F$10=\"none\")),IF(V136=0,,IF(OR($E$10='Customer Info'!$F$18,$E$10=0),V136,(V136/$E$10)*'Customer Info'!$F$18)),)","v":0},{"$f":"IF((OR($F$11=0,$F$11=\"none\")),IF(W136=0,,IF(OR($E$11='Customer Info'!$F$19,$E$11=0),W136,(W136/$E$11)*'Customer Info'!$F$19)),)","v":0},{"$f":"IF((OR($F$12=0,$F$12=\"none\")),IF(X136=0,,IF(OR($E$12='Customer Info'!$F$20,$E$12=0),X136,(X136/$E$12)*'Customer Info'!$F$20)),)","v":0},{"$f":"IF((OR($F$13=0,$F$13=\"none\")),IF(Y136=0,,IF(OR($E$13='Customer Info'!$F$21,$E$13=0),Y136,(Y136/$E$13)*'Customer Info'!$F$21)),)","v":0},{"$f":"IF((OR($F$16=0,$F$16=\"none\")),IF(Z136=0,,IF(OR($E$16='Customer Info'!$H$18,$E$16=0),Z136,(Z136/$E$16)*'Customer Info'!$H$18)),)","v":0},{"$f":"IF((OR($F$17=0,$F$17=\"none\")),IF(AA136=0,,IF(OR($E$17='Customer Info'!$H$19,$E$17=0),AA136,(AA136/$E$17)*'Customer Info'!$H$19)),)","v":0},{"$f":"IF((OR($F$18=0,$F$18=\"none\")),IF(AB136=0,,IF(OR($E$18='Customer Info'!$H$20,$E$18=0),AB136,(AB136/$E$18)*'Customer Info'!$H$20)),)","v":0},{"$f":"IF((OR($F$19=0,$F$19=\"none\")),IF(AC136=0,,IF(OR($E$19='Customer Info'!$H$21,$E$19=0),AC136,(AC136/$E$19)*'Customer Info'!$H$21)),)","v":0},{"$f":"IF((OR($F$4=0,$F$4=\"none\")),IF(AD136=0,,IF(OR($E$4='Customer Info'!$D$18,$E$4=0),AD136,(AD136/$E$4)*'Customer Info'!$D$18)),)","v":0},{"$f":"IF((OR($F$5=0,$F$5=\"none\")),IF(AE136=0,,IF(OR($E$5='Customer Info'!$D$19,$E$5=0),AE136,(AE136/$E$5)*'Customer Info'!$D$19)),)","v":0},{"$f":"IF((OR($F$6=0,$F$6=\"none\")),IF(AF136=0,,IF(OR($E$6='Customer Info'!$D$20,$E$6=0),AF136,(AF136/$E$6)*'Customer Info'!$D$20)),)","v":0},{"$f":"IF((OR($F$7=0,$F$7=\"none\")),IF(AG136=0,,IF(OR($E$7='Customer Info'!$D$21,$E$7=0),AG136,(AG136/$E$7)*'Customer Info'!$D$21)),)","v":0},0,0,{"$f":"IF(E136=\"plate waste\",,IF('Customer Info'!$M$18=0,'Log Sheet'!AY136,'Customer Info'!$M$18*'Log Sheet'!AY136))","v":0},{"$f":"IF(E136=\"plate waste\",IF(OR(C136=\"patient\",C136=\"patient beverages\"),IF('Customer Info'!$M$27=0,AY136*'Customer Info'!$M$18,AY136*'Customer Info'!$M$27),IF(C136=\"cafeteria\",IF('Customer Info'!$M$28=0,AY136*'Customer Info'!$M$18,AY136*'Customer Info'!$M$28),IF(C136=\"other1\",IF('Customer Info'!$M$29=0,AY136*'Customer Info'!$M$18,AY136*'Customer Info'!$M$29),))),)","v":0},0,{"$f":"IF($F$4=\"lunch\",IF(S136=0,,(S136/$E$5)*'Customer Info'!$D$18),)","v":0},{"$f":"IF($F$4=\"dinner\",IF(T136=0,,(T136/$E$6)*'Customer Info'!$D$18),)","v":0},{"$f":"IF($F$4=\"other\",IF(U136=0,,(U136/$E$7)*'Customer Info'!$D$18),)","v":0},0,{"$f":"IF($F$5=\"breakfast\",IF(R136=0,,(R136/$E$4)*'Customer Info'!$D$19),)","v":0},{"$f":"IF($F$5=\"dinner\",IF(T136=0,,(T136/$E$6)*'Customer Info'!$D$19),)","v":0},{"$f":"IF($F$5=\"other\",IF(U136=0,,(U136/$E$7)*'Customer Info'!$D$19),)","v":0},0,{"$f":"IF($F$6=\"breakfast\",IF(R136=0,,(R136/$E$4)*'Customer Info'!$D$20),)","v":0},{"$f":"IF($F$6=\"lunch\",IF(S136=0,,(S136/$E$5)*'Customer Info'!$D$20),)","v":0},{"$f":"IF($F$6=\"other\",IF(U136=0,,(U136/$E$7)*'Customer Info'!$D$20),)","v":0},0,{"$f":"IF($F$7=\"breakfast\",IF(R136=0,,(R136/$E$4)*'Customer Info'!$D$21),)","v":0},{"$f":"IF($F$7=\"lunch\",IF(S136=0,,(S136/$E$5)*'Customer Info'!$D$21),)","v":0},{"$f":"IF($F$7=\"dinner\",IF(T136=0,,(T136/$E$6)*'Customer Info'!$D$21),)","v":0},0,{"$f":"IF($F$10=\"lunch\",IF(W136=0,,(W136/$E$11)*'Customer Info'!$F$18),)","v":0},{"$f":"IF($F$10=\"dinner\",IF(X136=0,,(X136/$E$12)*'Customer Info'!$F$18),)","v":0},{"$f":"IF($F$10=\"other\",IF(Y136=0,,(Y136/$E$13)*'Customer Info'!$F$18),)","v":0},0,{"$f":"IF($F$11=\"breakfast\",IF(V136=0,,(V136/$E$10)*'Customer Info'!$F$19),)","v":0},{"$f":"IF($F$11=\"dinner\",IF(X136=0,,(X136/$E$12)*'Customer Info'!$F$19),)","v":0},{"$f":"IF($F$11=\"other\",IF(Y136=0,,(Y136/$E$13)*'Customer Info'!$F$19),)","v":0},0,{"$f":"IF($F$12=\"breakfast\",IF(V136=0,,(V136/$E$10)*'Customer Info'!$F$20),)","v":0},{"$f":"IF($F$12=\"lunch\",IF(W136=0,,(W136/$E$11)*'Customer Info'!$F$20),)","v":0},{"$f":"IF($F$12=\"other\",IF(Y136=0,,(Y136/$E$13)*'Customer Info'!$F$20),)","v":0},0,{"$f":"IF($F$13=\"breakfast\",IF(V136=0,,(V136/$E$10)*'Customer Info'!$F$21),)","v":0},{"$f":"IF($F$13=\"lunch\",IF(W136=0,,(W136/$E$11)*'Customer Info'!$F$21),)","v":0},{"$f":"IF($F$13=\"dinner\",IF(X136=0,,(X136/$E$12)*'Customer Info'!$F$21),)","v":0},0,{"$f":"IF($F$16=\"lunch\",IF(AA136=0,,(AA136/$E$17)*'Customer Info'!$H$18),)","v":0},{"$f":"IF($F$16=\"dinner\",IF(AB136=0,,(AB136/$E$18)*'Customer Info'!$H$18),)","v":0},{"$f":"IF($F$16=\"other\",IF(AC136=0,,(AC136/$E$19)*'Customer Info'!$H$18),)","v":0},0,{"$f":"IF($F$17=\"breakfast\",IF(Z136=0,,(Z136/$E$16)*'Customer Info'!$H$19),)","v":0},{"$f":"IF($F$17=\"dinner\",IF(AB136=0,,(AB136/$E$18)*'Customer Info'!$H$19),)","v":0},{"$f":"IF($F$17=\"other\",IF(AC136=0,,(AC136/$E$19)*'Customer Info'!$H$19),)","v":0},0,{"$f":"IF($F$18=\"breakfast\",IF(Z136=0,,(Z136/$E$16)*'Customer Info'!$H$20),)","v":0},{"$f":"IF($F$18=\"lunch\",IF(AA136=0,,(AA136/$E$17)*'Customer Info'!$H$20),)","v":0},{"$f":"IF($F$18=\"other\",IF(AC136=0,,(AC136/$E$19)*'Customer Info'!$H$20),)","v":0},0,{"$f":"IF($F$19=\"breakfast\",IF(Z136=0,,(Z136/$E$16)*'Customer Info'!$H$21),)","v":0},{"$f":"IF($F$19=\"lunch\",IF(AA136=0,,(AA136/$E$17)*'Customer Info'!$H$21),)","v":0},{"$f":"IF($F$19=\"dinner\",IF(AB136=0,,(AB136/$E$18)*'Customer Info'!$H$21),)","v":0},0,0,0,0,0,""]
[null,null,null,null,null,null,null,null,null,null,0,0,0,0,0,0,0,0,0,0,0,0,0,0,0,0,0,0,0,0,0,0,0,{"$f":"IF((OR($F$4=0,$F$4=\"none\")),IF(R137=0,,IF(OR($E$4='Customer Info'!$D$18,$E$4=0),R137,(R137/$E$4)*'Customer Info'!$D$18)),)","v":0},{"$f":"IF((OR($F$5=0,$F$5=\"none\")),IF(S137=0,,IF(OR($E$5='Customer Info'!$D$18,$E$5=0),S137,(S137/$E$5)*'Customer Info'!$D$19)),)","v":0},{"$f":"IF((OR($F$6=0,$F$6=\"none\")),IF(T137=0,,IF(OR($E$6='Customer Info'!$D$18,$E$6=0),T137,(T137/$E$6)*'Customer Info'!$D$20)),)","v":0},{"$f":"IF((OR($F$7=0,$F$7=\"none\")),IF(U137=0,,IF(OR($E$7='Customer Info'!$D$18,$E$7=0),U137,(U137/$E$7)*'Customer Info'!$D$21)),)","v":0},{"$f":"IF((OR($F$10=0,$F$10=\"none\")),IF(V137=0,,IF(OR($E$10='Customer Info'!$F$18,$E$10=0),V137,(V137/$E$10)*'Customer Info'!$F$18)),)","v":0},{"$f":"IF((OR($F$11=0,$F$11=\"none\")),IF(W137=0,,IF(OR($E$11='Customer Info'!$F$19,$E$11=0),W137,(W137/$E$11)*'Customer Info'!$F$19)),)","v":0},{"$f":"IF((OR($F$12=0,$F$12=\"none\")),IF(X137=0,,IF(OR($E$12='Customer Info'!$F$20,$E$12=0),X137,(X137/$E$12)*'Customer Info'!$F$20)),)","v":0},{"$f":"IF((OR($F$13=0,$F$13=\"none\")),IF(Y137=0,,IF(OR($E$13='Customer Info'!$F$21,$E$13=0),Y137,(Y137/$E$13)*'Customer Info'!$F$21)),)","v":0},{"$f":"IF((OR($F$16=0,$F$16=\"none\")),IF(Z137=0,,IF(OR($E$16='Customer Info'!$H$18,$E$16=0),Z137,(Z137/$E$16)*'Customer Info'!$H$18)),)","v":0},{"$f":"IF((OR($F$17=0,$F$17=\"none\")),IF(AA137=0,,IF(OR($E$17='Customer Info'!$H$19,$E$17=0),AA137,(AA137/$E$17)*'Customer Info'!$H$19)),)","v":0},{"$f":"IF((OR($F$18=0,$F$18=\"none\")),IF(AB137=0,,IF(OR($E$18='Customer Info'!$H$20,$E$18=0),AB137,(AB137/$E$18)*'Customer Info'!$H$20)),)","v":0},{"$f":"IF((OR($F$19=0,$F$19=\"none\")),IF(AC137=0,,IF(OR($E$19='Customer Info'!$H$21,$E$19=0),AC137,(AC137/$E$19)*'Customer Info'!$H$21)),)","v":0},{"$f":"IF((OR($F$4=0,$F$4=\"none\")),IF(AD137=0,,IF(OR($E$4='Customer Info'!$D$18,$E$4=0),AD137,(AD137/$E$4)*'Customer Info'!$D$18)),)","v":0},{"$f":"IF((OR($F$5=0,$F$5=\"none\")),IF(AE137=0,,IF(OR($E$5='Customer Info'!$D$19,$E$5=0),AE137,(AE137/$E$5)*'Customer Info'!$D$19)),)","v":0},{"$f":"IF((OR($F$6=0,$F$6=\"none\")),IF(AF137=0,,IF(OR($E$6='Customer Info'!$D$20,$E$6=0),AF137,(AF137/$E$6)*'Customer Info'!$D$20)),)","v":0},{"$f":"IF((OR($F$7=0,$F$7=\"none\")),IF(AG137=0,,IF(OR($E$7='Customer Info'!$D$21,$E$7=0),AG137,(AG137/$E$7)*'Customer Info'!$D$21)),)","v":0},0,0,{"$f":"IF(E137=\"plate waste\",,IF('Customer Info'!$M$18=0,'Log Sheet'!AY137,'Customer Info'!$M$18*'Log Sheet'!AY137))","v":0},{"$f":"IF(E137=\"plate waste\",IF(OR(C137=\"patient\",C137=\"patient beverages\"),IF('Customer Info'!$M$27=0,AY137*'Customer Info'!$M$18,AY137*'Customer Info'!$M$27),IF(C137=\"cafeteria\",IF('Customer Info'!$M$28=0,AY137*'Customer Info'!$M$18,AY137*'Customer Info'!$M$28),IF(C137=\"other1\",IF('Customer Info'!$M$29=0,AY137*'Customer Info'!$M$18,AY137*'Customer Info'!$M$29),))),)","v":0},0,{"$f":"IF($F$4=\"lunch\",IF(S137=0,,(S137/$E$5)*'Customer Info'!$D$18),)","v":0},{"$f":"IF($F$4=\"dinner\",IF(T137=0,,(T137/$E$6)*'Customer Info'!$D$18),)","v":0},{"$f":"IF($F$4=\"other\",IF(U137=0,,(U137/$E$7)*'Customer Info'!$D$18),)","v":0},0,{"$f":"IF($F$5=\"breakfast\",IF(R137=0,,(R137/$E$4)*'Customer Info'!$D$19),)","v":0},{"$f":"IF($F$5=\"dinner\",IF(T137=0,,(T137/$E$6)*'Customer Info'!$D$19),)","v":0},{"$f":"IF($F$5=\"other\",IF(U137=0,,(U137/$E$7)*'Customer Info'!$D$19),)","v":0},0,{"$f":"IF($F$6=\"breakfast\",IF(R137=0,,(R137/$E$4)*'Customer Info'!$D$20),)","v":0},{"$f":"IF($F$6=\"lunch\",IF(S137=0,,(S137/$E$5)*'Customer Info'!$D$20),)","v":0},{"$f":"IF($F$6=\"other\",IF(U137=0,,(U137/$E$7)*'Customer Info'!$D$20),)","v":0},0,{"$f":"IF($F$7=\"breakfast\",IF(R137=0,,(R137/$E$4)*'Customer Info'!$D$21),)","v":0},{"$f":"IF($F$7=\"lunch\",IF(S137=0,,(S137/$E$5)*'Customer Info'!$D$21),)","v":0},{"$f":"IF($F$7=\"dinner\",IF(T137=0,,(T137/$E$6)*'Customer Info'!$D$21),)","v":0},0,{"$f":"IF($F$10=\"lunch\",IF(W137=0,,(W137/$E$11)*'Customer Info'!$F$18),)","v":0},{"$f":"IF($F$10=\"dinner\",IF(X137=0,,(X137/$E$12)*'Customer Info'!$F$18),)","v":0},{"$f":"IF($F$10=\"other\",IF(Y137=0,,(Y137/$E$13)*'Customer Info'!$F$18),)","v":0},0,{"$f":"IF($F$11=\"breakfast\",IF(V137=0,,(V137/$E$10)*'Customer Info'!$F$19),)","v":0},{"$f":"IF($F$11=\"dinner\",IF(X137=0,,(X137/$E$12)*'Customer Info'!$F$19),)","v":0},{"$f":"IF($F$11=\"other\",IF(Y137=0,,(Y137/$E$13)*'Customer Info'!$F$19),)","v":0},0,{"$f":"IF($F$12=\"breakfast\",IF(V137=0,,(V137/$E$10)*'Customer Info'!$F$20),)","v":0},{"$f":"IF($F$12=\"lunch\",IF(W137=0,,(W137/$E$11)*'Customer Info'!$F$20),)","v":0},{"$f":"IF($F$12=\"other\",IF(Y137=0,,(Y137/$E$13)*'Customer Info'!$F$20),)","v":0},0,{"$f":"IF($F$13=\"breakfast\",IF(V137=0,,(V137/$E$10)*'Customer Info'!$F$21),)","v":0},{"$f":"IF($F$13=\"lunch\",IF(W137=0,,(W137/$E$11)*'Customer Info'!$F$21),)","v":0},{"$f":"IF($F$13=\"dinner\",IF(X137=0,,(X137/$E$12)*'Customer Info'!$F$21),)","v":0},0,{"$f":"IF($F$16=\"lunch\",IF(AA137=0,,(AA137/$E$17)*'Customer Info'!$H$18),)","v":0},{"$f":"IF($F$16=\"dinner\",IF(AB137=0,,(AB137/$E$18)*'Customer Info'!$H$18),)","v":0},{"$f":"IF($F$16=\"other\",IF(AC137=0,,(AC137/$E$19)*'Customer Info'!$H$18),)","v":0},0,{"$f":"IF($F$17=\"breakfast\",IF(Z137=0,,(Z137/$E$16)*'Customer Info'!$H$19),)","v":0},{"$f":"IF($F$17=\"dinner\",IF(AB137=0,,(AB137/$E$18)*'Customer Info'!$H$19),)","v":0},{"$f":"IF($F$17=\"other\",IF(AC137=0,,(AC137/$E$19)*'Customer Info'!$H$19),)","v":0},0,{"$f":"IF($F$18=\"breakfast\",IF(Z137=0,,(Z137/$E$16)*'Customer Info'!$H$20),)","v":0},{"$f":"IF($F$18=\"lunch\",IF(AA137=0,,(AA137/$E$17)*'Customer Info'!$H$20),)","v":0},{"$f":"IF($F$18=\"other\",IF(AC137=0,,(AC137/$E$19)*'Customer Info'!$H$20),)","v":0},0,{"$f":"IF($F$19=\"breakfast\",IF(Z137=0,,(Z137/$E$16)*'Customer Info'!$H$21),)","v":0},{"$f":"IF($F$19=\"lunch\",IF(AA137=0,,(AA137/$E$17)*'Customer Info'!$H$21),)","v":0},{"$f":"IF($F$19=\"dinner\",IF(AB137=0,,(AB137/$E$18)*'Customer Info'!$H$21),)","v":0},0,0,0,0,0,""]
[null,null,null,null,null,null,null,null,null,null,0,0,0,0,0,0,0,0,0,0,0,0,0,0,0,0,0,0,0,0,0,0,0,{"$f":"IF((OR($F$4=0,$F$4=\"none\")),IF(R138=0,,IF(OR($E$4='Customer Info'!$D$18,$E$4=0),R138,(R138/$E$4)*'Customer Info'!$D$18)),)","v":0},{"$f":"IF((OR($F$5=0,$F$5=\"none\")),IF(S138=0,,IF(OR($E$5='Customer Info'!$D$18,$E$5=0),S138,(S138/$E$5)*'Customer Info'!$D$19)),)","v":0},{"$f":"IF((OR($F$6=0,$F$6=\"none\")),IF(T138=0,,IF(OR($E$6='Customer Info'!$D$18,$E$6=0),T138,(T138/$E$6)*'Customer Info'!$D$20)),)","v":0},{"$f":"IF((OR($F$7=0,$F$7=\"none\")),IF(U138=0,,IF(OR($E$7='Customer Info'!$D$18,$E$7=0),U138,(U138/$E$7)*'Customer Info'!$D$21)),)","v":0},{"$f":"IF((OR($F$10=0,$F$10=\"none\")),IF(V138=0,,IF(OR($E$10='Customer Info'!$F$18,$E$10=0),V138,(V138/$E$10)*'Customer Info'!$F$18)),)","v":0},{"$f":"IF((OR($F$11=0,$F$11=\"none\")),IF(W138=0,,IF(OR($E$11='Customer Info'!$F$19,$E$11=0),W138,(W138/$E$11)*'Customer Info'!$F$19)),)","v":0},{"$f":"IF((OR($F$12=0,$F$12=\"none\")),IF(X138=0,,IF(OR($E$12='Customer Info'!$F$20,$E$12=0),X138,(X138/$E$12)*'Customer Info'!$F$20)),)","v":0},{"$f":"IF((OR($F$13=0,$F$13=\"none\")),IF(Y138=0,,IF(OR($E$13='Customer Info'!$F$21,$E$13=0),Y138,(Y138/$E$13)*'Customer Info'!$F$21)),)","v":0},{"$f":"IF((OR($F$16=0,$F$16=\"none\")),IF(Z138=0,,IF(OR($E$16='Customer Info'!$H$18,$E$16=0),Z138,(Z138/$E$16)*'Customer Info'!$H$18)),)","v":0},{"$f":"IF((OR($F$17=0,$F$17=\"none\")),IF(AA138=0,,IF(OR($E$17='Customer Info'!$H$19,$E$17=0),AA138,(AA138/$E$17)*'Customer Info'!$H$19)),)","v":0},{"$f":"IF((OR($F$18=0,$F$18=\"none\")),IF(AB138=0,,IF(OR($E$18='Customer Info'!$H$20,$E$18=0),AB138,(AB138/$E$18)*'Customer Info'!$H$20)),)","v":0},{"$f":"IF((OR($F$19=0,$F$19=\"none\")),IF(AC138=0,,IF(OR($E$19='Customer Info'!$H$21,$E$19=0),AC138,(AC138/$E$19)*'Customer Info'!$H$21)),)","v":0},{"$f":"IF((OR($F$4=0,$F$4=\"none\")),IF(AD138=0,,IF(OR($E$4='Customer Info'!$D$18,$E$4=0),AD138,(AD138/$E$4)*'Customer Info'!$D$18)),)","v":0},{"$f":"IF((OR($F$5=0,$F$5=\"none\")),IF(AE138=0,,IF(OR($E$5='Customer Info'!$D$19,$E$5=0),AE138,(AE138/$E$5)*'Customer Info'!$D$19)),)","v":0},{"$f":"IF((OR($F$6=0,$F$6=\"none\")),IF(AF138=0,,IF(OR($E$6='Customer Info'!$D$20,$E$6=0),AF138,(AF138/$E$6)*'Customer Info'!$D$20)),)","v":0},{"$f":"IF((OR($F$7=0,$F$7=\"none\")),IF(AG138=0,,IF(OR($E$7='Customer Info'!$D$21,$E$7=0),AG138,(AG138/$E$7)*'Customer Info'!$D$21)),)","v":0},0,0,{"$f":"IF(E138=\"plate waste\",,IF('Customer Info'!$M$18=0,'Log Sheet'!AY138,'Customer Info'!$M$18*'Log Sheet'!AY138))","v":0},{"$f":"IF(E138=\"plate waste\",IF(OR(C138=\"patient\",C138=\"patient beverages\"),IF('Customer Info'!$M$27=0,AY138*'Customer Info'!$M$18,AY138*'Customer Info'!$M$27),IF(C138=\"cafeteria\",IF('Customer Info'!$M$28=0,AY138*'Customer Info'!$M$18,AY138*'Customer Info'!$M$28),IF(C138=\"other1\",IF('Customer Info'!$M$29=0,AY138*'Customer Info'!$M$18,AY138*'Customer Info'!$M$29),))),)","v":0},0,{"$f":"IF($F$4=\"lunch\",IF(S138=0,,(S138/$E$5)*'Customer Info'!$D$18),)","v":0},{"$f":"IF($F$4=\"dinner\",IF(T138=0,,(T138/$E$6)*'Customer Info'!$D$18),)","v":0},{"$f":"IF($F$4=\"other\",IF(U138=0,,(U138/$E$7)*'Customer Info'!$D$18),)","v":0},0,{"$f":"IF($F$5=\"breakfast\",IF(R138=0,,(R138/$E$4)*'Customer Info'!$D$19),)","v":0},{"$f":"IF($F$5=\"dinner\",IF(T138=0,,(T138/$E$6)*'Customer Info'!$D$19),)","v":0},{"$f":"IF($F$5=\"other\",IF(U138=0,,(U138/$E$7)*'Customer Info'!$D$19),)","v":0},0,{"$f":"IF($F$6=\"breakfast\",IF(R138=0,,(R138/$E$4)*'Customer Info'!$D$20),)","v":0},{"$f":"IF($F$6=\"lunch\",IF(S138=0,,(S138/$E$5)*'Customer Info'!$D$20),)","v":0},{"$f":"IF($F$6=\"other\",IF(U138=0,,(U138/$E$7)*'Customer Info'!$D$20),)","v":0},0,{"$f":"IF($F$7=\"breakfast\",IF(R138=0,,(R138/$E$4)*'Customer Info'!$D$21),)","v":0},{"$f":"IF($F$7=\"lunch\",IF(S138=0,,(S138/$E$5)*'Customer Info'!$D$21),)","v":0},{"$f":"IF($F$7=\"dinner\",IF(T138=0,,(T138/$E$6)*'Customer Info'!$D$21),)","v":0},0,{"$f":"IF($F$10=\"lunch\",IF(W138=0,,(W138/$E$11)*'Customer Info'!$F$18),)","v":0},{"$f":"IF($F$10=\"dinner\",IF(X138=0,,(X138/$E$12)*'Customer Info'!$F$18),)","v":0},{"$f":"IF($F$10=\"other\",IF(Y138=0,,(Y138/$E$13)*'Customer Info'!$F$18),)","v":0},0,{"$f":"IF($F$11=\"breakfast\",IF(V138=0,,(V138/$E$10)*'Customer Info'!$F$19),)","v":0},{"$f":"IF($F$11=\"dinner\",IF(X138=0,,(X138/$E$12)*'Customer Info'!$F$19),)","v":0},{"$f":"IF($F$11=\"other\",IF(Y138=0,,(Y138/$E$13)*'Customer Info'!$F$19),)","v":0},0,{"$f":"IF($F$12=\"breakfast\",IF(V138=0,,(V138/$E$10)*'Customer Info'!$F$20),)","v":0},{"$f":"IF($F$12=\"lunch\",IF(W138=0,,(W138/$E$11)*'Customer Info'!$F$20),)","v":0},{"$f":"IF($F$12=\"other\",IF(Y138=0,,(Y138/$E$13)*'Customer Info'!$F$20),)","v":0},0,{"$f":"IF($F$13=\"breakfast\",IF(V138=0,,(V138/$E$10)*'Customer Info'!$F$21),)","v":0},{"$f":"IF($F$13=\"lunch\",IF(W138=0,,(W138/$E$11)*'Customer Info'!$F$21),)","v":0},{"$f":"IF($F$13=\"dinner\",IF(X138=0,,(X138/$E$12)*'Customer Info'!$F$21),)","v":0},0,{"$f":"IF($F$16=\"lunch\",IF(AA138=0,,(AA138/$E$17)*'Customer Info'!$H$18),)","v":0},{"$f":"IF($F$16=\"dinner\",IF(AB138=0,,(AB138/$E$18)*'Customer Info'!$H$18),)","v":0},{"$f":"IF($F$16=\"other\",IF(AC138=0,,(AC138/$E$19)*'Customer Info'!$H$18),)","v":0},0,{"$f":"IF($F$17=\"breakfast\",IF(Z138=0,,(Z138/$E$16)*'Customer Info'!$H$19),)","v":0},{"$f":"IF($F$17=\"dinner\",IF(AB138=0,,(AB138/$E$18)*'Customer Info'!$H$19),)","v":0},{"$f":"IF($F$17=\"other\",IF(AC138=0,,(AC138/$E$19)*'Customer Info'!$H$19),)","v":0},0,{"$f":"IF($F$18=\"breakfast\",IF(Z138=0,,(Z138/$E$16)*'Customer Info'!$H$20),)","v":0},{"$f":"IF($F$18=\"lunch\",IF(AA138=0,,(AA138/$E$17)*'Customer Info'!$H$20),)","v":0},{"$f":"IF($F$18=\"other\",IF(AC138=0,,(AC138/$E$19)*'Customer Info'!$H$20),)","v":0},0,{"$f":"IF($F$19=\"breakfast\",IF(Z138=0,,(Z138/$E$16)*'Customer Info'!$H$21),)","v":0},{"$f":"IF($F$19=\"lunch\",IF(AA138=0,,(AA138/$E$17)*'Customer Info'!$H$21),)","v":0},{"$f":"IF($F$19=\"dinner\",IF(AB138=0,,(AB138/$E$18)*'Customer Info'!$H$21),)","v":0},0,0,0,0,0,""]
[null,null,null,null,null,null,null,null,null,null,0,0,0,0,0,0,0,0,0,0,0,0,0,0,0,0,0,0,0,0,0,0,0,{"$f":"IF((OR($F$4=0,$F$4=\"none\")),IF(R139=0,,IF(OR($E$4='Customer Info'!$D$18,$E$4=0),R139,(R139/$E$4)*'Customer Info'!$D$18)),)","v":0},{"$f":"IF((OR($F$5=0,$F$5=\"none\")),IF(S139=0,,IF(OR($E$5='Customer Info'!$D$18,$E$5=0),S139,(S139/$E$5)*'Customer Info'!$D$19)),)","v":0},{"$f":"IF((OR($F$6=0,$F$6=\"none\")),IF(T139=0,,IF(OR($E$6='Customer Info'!$D$18,$E$6=0),T139,(T139/$E$6)*'Customer Info'!$D$20)),)","v":0},{"$f":"IF((OR($F$7=0,$F$7=\"none\")),IF(U139=0,,IF(OR($E$7='Customer Info'!$D$18,$E$7=0),U139,(U139/$E$7)*'Customer Info'!$D$21)),)","v":0},{"$f":"IF((OR($F$10=0,$F$10=\"none\")),IF(V139=0,,IF(OR($E$10='Customer Info'!$F$18,$E$10=0),V139,(V139/$E$10)*'Customer Info'!$F$18)),)","v":0},{"$f":"IF((OR($F$11=0,$F$11=\"none\")),IF(W139=0,,IF(OR($E$11='Customer Info'!$F$19,$E$11=0),W139,(W139/$E$11)*'Customer Info'!$F$19)),)","v":0},{"$f":"IF((OR($F$12=0,$F$12=\"none\")),IF(X139=0,,IF(OR($E$12='Customer Info'!$F$20,$E$12=0),X139,(X139/$E$12)*'Customer Info'!$F$20)),)","v":0},{"$f":"IF((OR($F$13=0,$F$13=\"none\")),IF(Y139=0,,IF(OR($E$13='Customer Info'!$F$21,$E$13=0),Y139,(Y139/$E$13)*'Customer Info'!$F$21)),)","v":0},{"$f":"IF((OR($F$16=0,$F$16=\"none\")),IF(Z139=0,,IF(OR($E$16='Customer Info'!$H$18,$E$16=0),Z139,(Z139/$E$16)*'Customer Info'!$H$18)),)","v":0},{"$f":"IF((OR($F$17=0,$F$17=\"none\")),IF(AA139=0,,IF(OR($E$17='Customer Info'!$H$19,$E$17=0),AA139,(AA139/$E$17)*'Customer Info'!$H$19)),)","v":0},{"$f":"IF((OR($F$18=0,$F$18=\"none\")),IF(AB139=0,,IF(OR($E$18='Customer Info'!$H$20,$E$18=0),AB139,(AB139/$E$18)*'Customer Info'!$H$20)),)","v":0},{"$f":"IF((OR($F$19=0,$F$19=\"none\")),IF(AC139=0,,IF(OR($E$19='Customer Info'!$H$21,$E$19=0),AC139,(AC139/$E$19)*'Customer Info'!$H$21)),)","v":0},{"$f":"IF((OR($F$4=0,$F$4=\"none\")),IF(AD139=0,,IF(OR($E$4='Customer Info'!$D$18,$E$4=0),AD139,(AD139/$E$4)*'Customer Info'!$D$18)),)","v":0},{"$f":"IF((OR($F$5=0,$F$5=\"none\")),IF(AE139=0,,IF(OR($E$5='Customer Info'!$D$19,$E$5=0),AE139,(AE139/$E$5)*'Customer Info'!$D$19)),)","v":0},{"$f":"IF((OR($F$6=0,$F$6=\"none\")),IF(AF139=0,,IF(OR($E$6='Customer Info'!$D$20,$E$6=0),AF139,(AF139/$E$6)*'Customer Info'!$D$20)),)","v":0},{"$f":"IF((OR($F$7=0,$F$7=\"none\")),IF(AG139=0,,IF(OR($E$7='Customer Info'!$D$21,$E$7=0),AG139,(AG139/$E$7)*'Customer Info'!$D$21)),)","v":0},0,0,{"$f":"IF(E139=\"plate waste\",,IF('Customer Info'!$M$18=0,'Log Sheet'!AY139,'Customer Info'!$M$18*'Log Sheet'!AY139))","v":0},{"$f":"IF(E139=\"plate waste\",IF(OR(C139=\"patient\",C139=\"patient beverages\"),IF('Customer Info'!$M$27=0,AY139*'Customer Info'!$M$18,AY139*'Customer Info'!$M$27),IF(C139=\"cafeteria\",IF('Customer Info'!$M$28=0,AY139*'Customer Info'!$M$18,AY139*'Customer Info'!$M$28),IF(C139=\"other1\",IF('Customer Info'!$M$29=0,AY139*'Customer Info'!$M$18,AY139*'Customer Info'!$M$29),))),)","v":0},0,{"$f":"IF($F$4=\"lunch\",IF(S139=0,,(S139/$E$5)*'Customer Info'!$D$18),)","v":0},{"$f":"IF($F$4=\"dinner\",IF(T139=0,,(T139/$E$6)*'Customer Info'!$D$18),)","v":0},{"$f":"IF($F$4=\"other\",IF(U139=0,,(U139/$E$7)*'Customer Info'!$D$18),)","v":0},0,{"$f":"IF($F$5=\"breakfast\",IF(R139=0,,(R139/$E$4)*'Customer Info'!$D$19),)","v":0},{"$f":"IF($F$5=\"dinner\",IF(T139=0,,(T139/$E$6)*'Customer Info'!$D$19),)","v":0},{"$f":"IF($F$5=\"other\",IF(U139=0,,(U139/$E$7)*'Customer Info'!$D$19),)","v":0},0,{"$f":"IF($F$6=\"breakfast\",IF(R139=0,,(R139/$E$4)*'Customer Info'!$D$20),)","v":0},{"$f":"IF($F$6=\"lunch\",IF(S139=0,,(S139/$E$5)*'Customer Info'!$D$20),)","v":0},{"$f":"IF($F$6=\"other\",IF(U139=0,,(U139/$E$7)*'Customer Info'!$D$20),)","v":0},0,{"$f":"IF($F$7=\"breakfast\",IF(R139=0,,(R139/$E$4)*'Customer Info'!$D$21),)","v":0},{"$f":"IF($F$7=\"lunch\",IF(S139=0,,(S139/$E$5)*'Customer Info'!$D$21),)","v":0},{"$f":"IF($F$7=\"dinner\",IF(T139=0,,(T139/$E$6)*'Customer Info'!$D$21),)","v":0},0,{"$f":"IF($F$10=\"lunch\",IF(W139=0,,(W139/$E$11)*'Customer Info'!$F$18),)","v":0},{"$f":"IF($F$10=\"dinner\",IF(X139=0,,(X139/$E$12)*'Customer Info'!$F$18),)","v":0},{"$f":"IF($F$10=\"other\",IF(Y139=0,,(Y139/$E$13)*'Customer Info'!$F$18),)","v":0},0,{"$f":"IF($F$11=\"breakfast\",IF(V139=0,,(V139/$E$10)*'Customer Info'!$F$19),)","v":0},{"$f":"IF($F$11=\"dinner\",IF(X139=0,,(X139/$E$12)*'Customer Info'!$F$19),)","v":0},{"$f":"IF($F$11=\"other\",IF(Y139=0,,(Y139/$E$13)*'Customer Info'!$F$19),)","v":0},0,{"$f":"IF($F$12=\"breakfast\",IF(V139=0,,(V139/$E$10)*'Customer Info'!$F$20),)","v":0},{"$f":"IF($F$12=\"lunch\",IF(W139=0,,(W139/$E$11)*'Customer Info'!$F$20),)","v":0},{"$f":"IF($F$12=\"other\",IF(Y139=0,,(Y139/$E$13)*'Customer Info'!$F$20),)","v":0},0,{"$f":"IF($F$13=\"breakfast\",IF(V139=0,,(V139/$E$10)*'Customer Info'!$F$21),)","v":0},{"$f":"IF($F$13=\"lunch\",IF(W139=0,,(W139/$E$11)*'Customer Info'!$F$21),)","v":0},{"$f":"IF($F$13=\"dinner\",IF(X139=0,,(X139/$E$12)*'Customer Info'!$F$21),)","v":0},0,{"$f":"IF($F$16=\"lunch\",IF(AA139=0,,(AA139/$E$17)*'Customer Info'!$H$18),)","v":0},{"$f":"IF($F$16=\"dinner\",IF(AB139=0,,(AB139/$E$18)*'Customer Info'!$H$18),)","v":0},{"$f":"IF($F$16=\"other\",IF(AC139=0,,(AC139/$E$19)*'Customer Info'!$H$18),)","v":0},0,{"$f":"IF($F$17=\"breakfast\",IF(Z139=0,,(Z139/$E$16)*'Customer Info'!$H$19),)","v":0},{"$f":"IF($F$17=\"dinner\",IF(AB139=0,,(AB139/$E$18)*'Customer Info'!$H$19),)","v":0},{"$f":"IF($F$17=\"other\",IF(AC139=0,,(AC139/$E$19)*'Customer Info'!$H$19),)","v":0},0,{"$f":"IF($F$18=\"breakfast\",IF(Z139=0,,(Z139/$E$16)*'Customer Info'!$H$20),)","v":0},{"$f":"IF($F$18=\"lunch\",IF(AA139=0,,(AA139/$E$17)*'Customer Info'!$H$20),)","v":0},{"$f":"IF($F$18=\"other\",IF(AC139=0,,(AC139/$E$19)*'Customer Info'!$H$20),)","v":0},0,{"$f":"IF($F$19=\"breakfast\",IF(Z139=0,,(Z139/$E$16)*'Customer Info'!$H$21),)","v":0},{"$f":"IF($F$19=\"lunch\",IF(AA139=0,,(AA139/$E$17)*'Customer Info'!$H$21),)","v":0},{"$f":"IF($F$19=\"dinner\",IF(AB139=0,,(AB139/$E$18)*'Customer Info'!$H$21),)","v":0},0,0,0,0,0,""]
[null,null,null,null,null,null,null,null,null,null,0,0,0,0,0,0,0,0,0,0,0,0,0,0,0,0,0,0,0,0,0,0,0,{"$f":"IF((OR($F$4=0,$F$4=\"none\")),IF(R140=0,,IF(OR($E$4='Customer Info'!$D$18,$E$4=0),R140,(R140/$E$4)*'Customer Info'!$D$18)),)","v":0},{"$f":"IF((OR($F$5=0,$F$5=\"none\")),IF(S140=0,,IF(OR($E$5='Customer Info'!$D$18,$E$5=0),S140,(S140/$E$5)*'Customer Info'!$D$19)),)","v":0},{"$f":"IF((OR($F$6=0,$F$6=\"none\")),IF(T140=0,,IF(OR($E$6='Customer Info'!$D$18,$E$6=0),T140,(T140/$E$6)*'Customer Info'!$D$20)),)","v":0},{"$f":"IF((OR($F$7=0,$F$7=\"none\")),IF(U140=0,,IF(OR($E$7='Customer Info'!$D$18,$E$7=0),U140,(U140/$E$7)*'Customer Info'!$D$21)),)","v":0},{"$f":"IF((OR($F$10=0,$F$10=\"none\")),IF(V140=0,,IF(OR($E$10='Customer Info'!$F$18,$E$10=0),V140,(V140/$E$10)*'Customer Info'!$F$18)),)","v":0},{"$f":"IF((OR($F$11=0,$F$11=\"none\")),IF(W140=0,,IF(OR($E$11='Customer Info'!$F$19,$E$11=0),W140,(W140/$E$11)*'Customer Info'!$F$19)),)","v":0},{"$f":"IF((OR($F$12=0,$F$12=\"none\")),IF(X140=0,,IF(OR($E$12='Customer Info'!$F$20,$E$12=0),X140,(X140/$E$12)*'Customer Info'!$F$20)),)","v":0},{"$f":"IF((OR($F$13=0,$F$13=\"none\")),IF(Y140=0,,IF(OR($E$13='Customer Info'!$F$21,$E$13=0),Y140,(Y140/$E$13)*'Customer Info'!$F$21)),)","v":0},{"$f":"IF((OR($F$16=0,$F$16=\"none\")),IF(Z140=0,,IF(OR($E$16='Customer Info'!$H$18,$E$16=0),Z140,(Z140/$E$16)*'Customer Info'!$H$18)),)","v":0},{"$f":"IF((OR($F$17=0,$F$17=\"none\")),IF(AA140=0,,IF(OR($E$17='Customer Info'!$H$19,$E$17=0),AA140,(AA140/$E$17)*'Customer Info'!$H$19)),)","v":0},{"$f":"IF((OR($F$18=0,$F$18=\"none\")),IF(AB140=0,,IF(OR($E$18='Customer Info'!$H$20,$E$18=0),AB140,(AB140/$E$18)*'Customer Info'!$H$20)),)","v":0},{"$f":"IF((OR($F$19=0,$F$19=\"none\")),IF(AC140=0,,IF(OR($E$19='Customer Info'!$H$21,$E$19=0),AC140,(AC140/$E$19)*'Customer Info'!$H$21)),)","v":0},{"$f":"IF((OR($F$4=0,$F$4=\"none\")),IF(AD140=0,,IF(OR($E$4='Customer Info'!$D$18,$E$4=0),AD140,(AD140/$E$4)*'Customer Info'!$D$18)),)","v":0},{"$f":"IF((OR($F$5=0,$F$5=\"none\")),IF(AE140=0,,IF(OR($E$5='Customer Info'!$D$19,$E$5=0),AE140,(AE140/$E$5)*'Customer Info'!$D$19)),)","v":0},{"$f":"IF((OR($F$6=0,$F$6=\"none\")),IF(AF140=0,,IF(OR($E$6='Customer Info'!$D$20,$E$6=0),AF140,(AF140/$E$6)*'Customer Info'!$D$20)),)","v":0},{"$f":"IF((OR($F$7=0,$F$7=\"none\")),IF(AG140=0,,IF(OR($E$7='Customer Info'!$D$21,$E$7=0),AG140,(AG140/$E$7)*'Customer Info'!$D$21)),)","v":0},0,0,{"$f":"IF(E140=\"plate waste\",,IF('Customer Info'!$M$18=0,'Log Sheet'!AY140,'Customer Info'!$M$18*'Log Sheet'!AY140))","v":0},{"$f":"IF(E140=\"plate waste\",IF(OR(C140=\"patient\",C140=\"patient beverages\"),IF('Customer Info'!$M$27=0,AY140*'Customer Info'!$M$18,AY140*'Customer Info'!$M$27),IF(C140=\"cafeteria\",IF('Customer Info'!$M$28=0,AY140*'Customer Info'!$M$18,AY140*'Customer Info'!$M$28),IF(C140=\"other1\",IF('Customer Info'!$M$29=0,AY140*'Customer Info'!$M$18,AY140*'Customer Info'!$M$29),))),)","v":0},0,{"$f":"IF($F$4=\"lunch\",IF(S140=0,,(S140/$E$5)*'Customer Info'!$D$18),)","v":0},{"$f":"IF($F$4=\"dinner\",IF(T140=0,,(T140/$E$6)*'Customer Info'!$D$18),)","v":0},{"$f":"IF($F$4=\"other\",IF(U140=0,,(U140/$E$7)*'Customer Info'!$D$18),)","v":0},0,{"$f":"IF($F$5=\"breakfast\",IF(R140=0,,(R140/$E$4)*'Customer Info'!$D$19),)","v":0},{"$f":"IF($F$5=\"dinner\",IF(T140=0,,(T140/$E$6)*'Customer Info'!$D$19),)","v":0},{"$f":"IF($F$5=\"other\",IF(U140=0,,(U140/$E$7)*'Customer Info'!$D$19),)","v":0},0,{"$f":"IF($F$6=\"breakfast\",IF(R140=0,,(R140/$E$4)*'Customer Info'!$D$20),)","v":0},{"$f":"IF($F$6=\"lunch\",IF(S140=0,,(S140/$E$5)*'Customer Info'!$D$20),)","v":0},{"$f":"IF($F$6=\"other\",IF(U140=0,,(U140/$E$7)*'Customer Info'!$D$20),)","v":0},0,{"$f":"IF($F$7=\"breakfast\",IF(R140=0,,(R140/$E$4)*'Customer Info'!$D$21),)","v":0},{"$f":"IF($F$7=\"lunch\",IF(S140=0,,(S140/$E$5)*'Customer Info'!$D$21),)","v":0},{"$f":"IF($F$7=\"dinner\",IF(T140=0,,(T140/$E$6)*'Customer Info'!$D$21),)","v":0},0,{"$f":"IF($F$10=\"lunch\",IF(W140=0,,(W140/$E$11)*'Customer Info'!$F$18),)","v":0},{"$f":"IF($F$10=\"dinner\",IF(X140=0,,(X140/$E$12)*'Customer Info'!$F$18),)","v":0},{"$f":"IF($F$10=\"other\",IF(Y140=0,,(Y140/$E$13)*'Customer Info'!$F$18),)","v":0},0,{"$f":"IF($F$11=\"breakfast\",IF(V140=0,,(V140/$E$10)*'Customer Info'!$F$19),)","v":0},{"$f":"IF($F$11=\"dinner\",IF(X140=0,,(X140/$E$12)*'Customer Info'!$F$19),)","v":0},{"$f":"IF($F$11=\"other\",IF(Y140=0,,(Y140/$E$13)*'Customer Info'!$F$19),)","v":0},0,{"$f":"IF($F$12=\"breakfast\",IF(V140=0,,(V140/$E$10)*'Customer Info'!$F$20),)","v":0},{"$f":"IF($F$12=\"lunch\",IF(W140=0,,(W140/$E$11)*'Customer Info'!$F$20),)","v":0},{"$f":"IF($F$12=\"other\",IF(Y140=0,,(Y140/$E$13)*'Customer Info'!$F$20),)","v":0},0,{"$f":"IF($F$13=\"breakfast\",IF(V140=0,,(V140/$E$10)*'Customer Info'!$F$21),)","v":0},{"$f":"IF($F$13=\"lunch\",IF(W140=0,,(W140/$E$11)*'Customer Info'!$F$21),)","v":0},{"$f":"IF($F$13=\"dinner\",IF(X140=0,,(X140/$E$12)*'Customer Info'!$F$21),)","v":0},0,{"$f":"IF($F$16=\"lunch\",IF(AA140=0,,(AA140/$E$17)*'Customer Info'!$H$18),)","v":0},{"$f":"IF($F$16=\"dinner\",IF(AB140=0,,(AB140/$E$18)*'Customer Info'!$H$18),)","v":0},{"$f":"IF($F$16=\"other\",IF(AC140=0,,(AC140/$E$19)*'Customer Info'!$H$18),)","v":0},0,{"$f":"IF($F$17=\"breakfast\",IF(Z140=0,,(Z140/$E$16)*'Customer Info'!$H$19),)","v":0},{"$f":"IF($F$17=\"dinner\",IF(AB140=0,,(AB140/$E$18)*'Customer Info'!$H$19),)","v":0},{"$f":"IF($F$17=\"other\",IF(AC140=0,,(AC140/$E$19)*'Customer Info'!$H$19),)","v":0},0,{"$f":"IF($F$18=\"breakfast\",IF(Z140=0,,(Z140/$E$16)*'Customer Info'!$H$20),)","v":0},{"$f":"IF($F$18=\"lunch\",IF(AA140=0,,(AA140/$E$17)*'Customer Info'!$H$20),)","v":0},{"$f":"IF($F$18=\"other\",IF(AC140=0,,(AC140/$E$19)*'Customer Info'!$H$20),)","v":0},0,{"$f":"IF($F$19=\"breakfast\",IF(Z140=0,,(Z140/$E$16)*'Customer Info'!$H$21),)","v":0},{"$f":"IF($F$19=\"lunch\",IF(AA140=0,,(AA140/$E$17)*'Customer Info'!$H$21),)","v":0},{"$f":"IF($F$19=\"dinner\",IF(AB140=0,,(AB140/$E$18)*'Customer Info'!$H$21),)","v":0},0,0,0,0,0,""]
[null,null,null,null,null,null,null,null,null,null,0,0,0,0,0,0,0,0,0,0,0,0,0,0,0,0,0,0,0,0,0,0,0,{"$f":"IF((OR($F$4=0,$F$4=\"none\")),IF(R141=0,,IF(OR($E$4='Customer Info'!$D$18,$E$4=0),R141,(R141/$E$4)*'Customer Info'!$D$18)),)","v":0},{"$f":"IF((OR($F$5=0,$F$5=\"none\")),IF(S141=0,,IF(OR($E$5='Customer Info'!$D$18,$E$5=0),S141,(S141/$E$5)*'Customer Info'!$D$19)),)","v":0},{"$f":"IF((OR($F$6=0,$F$6=\"none\")),IF(T141=0,,IF(OR($E$6='Customer Info'!$D$18,$E$6=0),T141,(T141/$E$6)*'Customer Info'!$D$20)),)","v":0},{"$f":"IF((OR($F$7=0,$F$7=\"none\")),IF(U141=0,,IF(OR($E$7='Customer Info'!$D$18,$E$7=0),U141,(U141/$E$7)*'Customer Info'!$D$21)),)","v":0},{"$f":"IF((OR($F$10=0,$F$10=\"none\")),IF(V141=0,,IF(OR($E$10='Customer Info'!$F$18,$E$10=0),V141,(V141/$E$10)*'Customer Info'!$F$18)),)","v":0},{"$f":"IF((OR($F$11=0,$F$11=\"none\")),IF(W141=0,,IF(OR($E$11='Customer Info'!$F$19,$E$11=0),W141,(W141/$E$11)*'Customer Info'!$F$19)),)","v":0},{"$f":"IF((OR($F$12=0,$F$12=\"none\")),IF(X141=0,,IF(OR($E$12='Customer Info'!$F$20,$E$12=0),X141,(X141/$E$12)*'Customer Info'!$F$20)),)","v":0},{"$f":"IF((OR($F$13=0,$F$13=\"none\")),IF(Y141=0,,IF(OR($E$13='Customer Info'!$F$21,$E$13=0),Y141,(Y141/$E$13)*'Customer Info'!$F$21)),)","v":0},{"$f":"IF((OR($F$16=0,$F$16=\"none\")),IF(Z141=0,,IF(OR($E$16='Customer Info'!$H$18,$E$16=0),Z141,(Z141/$E$16)*'Customer Info'!$H$18)),)","v":0},{"$f":"IF((OR($F$17=0,$F$17=\"none\")),IF(AA141=0,,IF(OR($E$17='Customer Info'!$H$19,$E$17=0),AA141,(AA141/$E$17)*'Customer Info'!$H$19)),)","v":0},{"$f":"IF((OR($F$18=0,$F$18=\"none\")),IF(AB141=0,,IF(OR($E$18='Customer Info'!$H$20,$E$18=0),AB141,(AB141/$E$18)*'Customer Info'!$H$20)),)","v":0},{"$f":"IF((OR($F$19=0,$F$19=\"none\")),IF(AC141=0,,IF(OR($E$19='Customer Info'!$H$21,$E$19=0),AC141,(AC141/$E$19)*'Customer Info'!$H$21)),)","v":0},{"$f":"IF((OR($F$4=0,$F$4=\"none\")),IF(AD141=0,,IF(OR($E$4='Customer Info'!$D$18,$E$4=0),AD141,(AD141/$E$4)*'Customer Info'!$D$18)),)","v":0},{"$f":"IF((OR($F$5=0,$F$5=\"none\")),IF(AE141=0,,IF(OR($E$5='Customer Info'!$D$19,$E$5=0),AE141,(AE141/$E$5)*'Customer Info'!$D$19)),)","v":0},{"$f":"IF((OR($F$6=0,$F$6=\"none\")),IF(AF141=0,,IF(OR($E$6='Customer Info'!$D$20,$E$6=0),AF141,(AF141/$E$6)*'Customer Info'!$D$20)),)","v":0},{"$f":"IF((OR($F$7=0,$F$7=\"none\")),IF(AG141=0,,IF(OR($E$7='Customer Info'!$D$21,$E$7=0),AG141,(AG141/$E$7)*'Customer Info'!$D$21)),)","v":0},0,0,{"$f":"IF(E141=\"plate waste\",,IF('Customer Info'!$M$18=0,'Log Sheet'!AY141,'Customer Info'!$M$18*'Log Sheet'!AY141))","v":0},{"$f":"IF(E141=\"plate waste\",IF(OR(C141=\"patient\",C141=\"patient beverages\"),IF('Customer Info'!$M$27=0,AY141*'Customer Info'!$M$18,AY141*'Customer Info'!$M$27),IF(C141=\"cafeteria\",IF('Customer Info'!$M$28=0,AY141*'Customer Info'!$M$18,AY141*'Customer Info'!$M$28),IF(C141=\"other1\",IF('Customer Info'!$M$29=0,AY141*'Customer Info'!$M$18,AY141*'Customer Info'!$M$29),))),)","v":0},0,{"$f":"IF($F$4=\"lunch\",IF(S141=0,,(S141/$E$5)*'Customer Info'!$D$18),)","v":0},{"$f":"IF($F$4=\"dinner\",IF(T141=0,,(T141/$E$6)*'Customer Info'!$D$18),)","v":0},{"$f":"IF($F$4=\"other\",IF(U141=0,,(U141/$E$7)*'Customer Info'!$D$18),)","v":0},0,{"$f":"IF($F$5=\"breakfast\",IF(R141=0,,(R141/$E$4)*'Customer Info'!$D$19),)","v":0},{"$f":"IF($F$5=\"dinner\",IF(T141=0,,(T141/$E$6)*'Customer Info'!$D$19),)","v":0},{"$f":"IF($F$5=\"other\",IF(U141=0,,(U141/$E$7)*'Customer Info'!$D$19),)","v":0},0,{"$f":"IF($F$6=\"breakfast\",IF(R141=0,,(R141/$E$4)*'Customer Info'!$D$20),)","v":0},{"$f":"IF($F$6=\"lunch\",IF(S141=0,,(S141/$E$5)*'Customer Info'!$D$20),)","v":0},{"$f":"IF($F$6=\"other\",IF(U141=0,,(U141/$E$7)*'Customer Info'!$D$20),)","v":0},0,{"$f":"IF($F$7=\"breakfast\",IF(R141=0,,(R141/$E$4)*'Customer Info'!$D$21),)","v":0},{"$f":"IF($F$7=\"lunch\",IF(S141=0,,(S141/$E$5)*'Customer Info'!$D$21),)","v":0},{"$f":"IF($F$7=\"dinner\",IF(T141=0,,(T141/$E$6)*'Customer Info'!$D$21),)","v":0},0,{"$f":"IF($F$10=\"lunch\",IF(W141=0,,(W141/$E$11)*'Customer Info'!$F$18),)","v":0},{"$f":"IF($F$10=\"dinner\",IF(X141=0,,(X141/$E$12)*'Customer Info'!$F$18),)","v":0},{"$f":"IF($F$10=\"other\",IF(Y141=0,,(Y141/$E$13)*'Customer Info'!$F$18),)","v":0},0,{"$f":"IF($F$11=\"breakfast\",IF(V141=0,,(V141/$E$10)*'Customer Info'!$F$19),)","v":0},{"$f":"IF($F$11=\"dinner\",IF(X141=0,,(X141/$E$12)*'Customer Info'!$F$19),)","v":0},{"$f":"IF($F$11=\"other\",IF(Y141=0,,(Y141/$E$13)*'Customer Info'!$F$19),)","v":0},0,{"$f":"IF($F$12=\"breakfast\",IF(V141=0,,(V141/$E$10)*'Customer Info'!$F$20),)","v":0},{"$f":"IF($F$12=\"lunch\",IF(W141=0,,(W141/$E$11)*'Customer Info'!$F$20),)","v":0},{"$f":"IF($F$12=\"other\",IF(Y141=0,,(Y141/$E$13)*'Customer Info'!$F$20),)","v":0},0,{"$f":"IF($F$13=\"breakfast\",IF(V141=0,,(V141/$E$10)*'Customer Info'!$F$21),)","v":0},{"$f":"IF($F$13=\"lunch\",IF(W141=0,,(W141/$E$11)*'Customer Info'!$F$21),)","v":0},{"$f":"IF($F$13=\"dinner\",IF(X141=0,,(X141/$E$12)*'Customer Info'!$F$21),)","v":0},0,{"$f":"IF($F$16=\"lunch\",IF(AA141=0,,(AA141/$E$17)*'Customer Info'!$H$18),)","v":0},{"$f":"IF($F$16=\"dinner\",IF(AB141=0,,(AB141/$E$18)*'Customer Info'!$H$18),)","v":0},{"$f":"IF($F$16=\"other\",IF(AC141=0,,(AC141/$E$19)*'Customer Info'!$H$18),)","v":0},0,{"$f":"IF($F$17=\"breakfast\",IF(Z141=0,,(Z141/$E$16)*'Customer Info'!$H$19),)","v":0},{"$f":"IF($F$17=\"dinner\",IF(AB141=0,,(AB141/$E$18)*'Customer Info'!$H$19),)","v":0},{"$f":"IF($F$17=\"other\",IF(AC141=0,,(AC141/$E$19)*'Customer Info'!$H$19),)","v":0},0,{"$f":"IF($F$18=\"breakfast\",IF(Z141=0,,(Z141/$E$16)*'Customer Info'!$H$20),)","v":0},{"$f":"IF($F$18=\"lunch\",IF(AA141=0,,(AA141/$E$17)*'Customer Info'!$H$20),)","v":0},{"$f":"IF($F$18=\"other\",IF(AC141=0,,(AC141/$E$19)*'Customer Info'!$H$20),)","v":0},0,{"$f":"IF($F$19=\"breakfast\",IF(Z141=0,,(Z141/$E$16)*'Customer Info'!$H$21),)","v":0},{"$f":"IF($F$19=\"lunch\",IF(AA141=0,,(AA141/$E$17)*'Customer Info'!$H$21),)","v":0},{"$f":"IF($F$19=\"dinner\",IF(AB141=0,,(AB141/$E$18)*'Customer Info'!$H$21),)","v":0},0,0,0,0,0,""]
[null,null,null,null,null,null,null,null,null,null,0,0,0,0,0,0,0,0,0,0,0,0,0,0,0,0,0,0,0,0,0,0,0,{"$f":"IF((OR($F$4=0,$F$4=\"none\")),IF(R142=0,,IF(OR($E$4='Customer Info'!$D$18,$E$4=0),R142,(R142/$E$4)*'Customer Info'!$D$18)),)","v":0},{"$f":"IF((OR($F$5=0,$F$5=\"none\")),IF(S142=0,,IF(OR($E$5='Customer Info'!$D$18,$E$5=0),S142,(S142/$E$5)*'Customer Info'!$D$19)),)","v":0},{"$f":"IF((OR($F$6=0,$F$6=\"none\")),IF(T142=0,,IF(OR($E$6='Customer Info'!$D$18,$E$6=0),T142,(T142/$E$6)*'Customer Info'!$D$20)),)","v":0},{"$f":"IF((OR($F$7=0,$F$7=\"none\")),IF(U142=0,,IF(OR($E$7='Customer Info'!$D$18,$E$7=0),U142,(U142/$E$7)*'Customer Info'!$D$21)),)","v":0},{"$f":"IF((OR($F$10=0,$F$10=\"none\")),IF(V142=0,,IF(OR($E$10='Customer Info'!$F$18,$E$10=0),V142,(V142/$E$10)*'Customer Info'!$F$18)),)","v":0},{"$f":"IF((OR($F$11=0,$F$11=\"none\")),IF(W142=0,,IF(OR($E$11='Customer Info'!$F$19,$E$11=0),W142,(W142/$E$11)*'Customer Info'!$F$19)),)","v":0},{"$f":"IF((OR($F$12=0,$F$12=\"none\")),IF(X142=0,,IF(OR($E$12='Customer Info'!$F$20,$E$12=0),X142,(X142/$E$12)*'Customer Info'!$F$20)),)","v":0},{"$f":"IF((OR($F$13=0,$F$13=\"none\")),IF(Y142=0,,IF(OR($E$13='Customer Info'!$F$21,$E$13=0),Y142,(Y142/$E$13)*'Customer Info'!$F$21)),)","v":0},{"$f":"IF((OR($F$16=0,$F$16=\"none\")),IF(Z142=0,,IF(OR($E$16='Customer Info'!$H$18,$E$16=0),Z142,(Z142/$E$16)*'Customer Info'!$H$18)),)","v":0},{"$f":"IF((OR($F$17=0,$F$17=\"none\")),IF(AA142=0,,IF(OR($E$17='Customer Info'!$H$19,$E$17=0),AA142,(AA142/$E$17)*'Customer Info'!$H$19)),)","v":0},{"$f":"IF((OR($F$18=0,$F$18=\"none\")),IF(AB142=0,,IF(OR($E$18='Customer Info'!$H$20,$E$18=0),AB142,(AB142/$E$18)*'Customer Info'!$H$20)),)","v":0},{"$f":"IF((OR($F$19=0,$F$19=\"none\")),IF(AC142=0,,IF(OR($E$19='Customer Info'!$H$21,$E$19=0),AC142,(AC142/$E$19)*'Customer Info'!$H$21)),)","v":0},{"$f":"IF((OR($F$4=0,$F$4=\"none\")),IF(AD142=0,,IF(OR($E$4='Customer Info'!$D$18,$E$4=0),AD142,(AD142/$E$4)*'Customer Info'!$D$18)),)","v":0},{"$f":"IF((OR($F$5=0,$F$5=\"none\")),IF(AE142=0,,IF(OR($E$5='Customer Info'!$D$19,$E$5=0),AE142,(AE142/$E$5)*'Customer Info'!$D$19)),)","v":0},{"$f":"IF((OR($F$6=0,$F$6=\"none\")),IF(AF142=0,,IF(OR($E$6='Customer Info'!$D$20,$E$6=0),AF142,(AF142/$E$6)*'Customer Info'!$D$20)),)","v":0},{"$f":"IF((OR($F$7=0,$F$7=\"none\")),IF(AG142=0,,IF(OR($E$7='Customer Info'!$D$21,$E$7=0),AG142,(AG142/$E$7)*'Customer Info'!$D$21)),)","v":0},0,0,{"$f":"IF(E142=\"plate waste\",,IF('Customer Info'!$M$18=0,'Log Sheet'!AY142,'Customer Info'!$M$18*'Log Sheet'!AY142))","v":0},{"$f":"IF(E142=\"plate waste\",IF(OR(C142=\"patient\",C142=\"patient beverages\"),IF('Customer Info'!$M$27=0,AY142*'Customer Info'!$M$18,AY142*'Customer Info'!$M$27),IF(C142=\"cafeteria\",IF('Customer Info'!$M$28=0,AY142*'Customer Info'!$M$18,AY142*'Customer Info'!$M$28),IF(C142=\"other1\",IF('Customer Info'!$M$29=0,AY142*'Customer Info'!$M$18,AY142*'Customer Info'!$M$29),))),)","v":0},0,{"$f":"IF($F$4=\"lunch\",IF(S142=0,,(S142/$E$5)*'Customer Info'!$D$18),)","v":0},{"$f":"IF($F$4=\"dinner\",IF(T142=0,,(T142/$E$6)*'Customer Info'!$D$18),)","v":0},{"$f":"IF($F$4=\"other\",IF(U142=0,,(U142/$E$7)*'Customer Info'!$D$18),)","v":0},0,{"$f":"IF($F$5=\"breakfast\",IF(R142=0,,(R142/$E$4)*'Customer Info'!$D$19),)","v":0},{"$f":"IF($F$5=\"dinner\",IF(T142=0,,(T142/$E$6)*'Customer Info'!$D$19),)","v":0},{"$f":"IF($F$5=\"other\",IF(U142=0,,(U142/$E$7)*'Customer Info'!$D$19),)","v":0},0,{"$f":"IF($F$6=\"breakfast\",IF(R142=0,,(R142/$E$4)*'Customer Info'!$D$20),)","v":0},{"$f":"IF($F$6=\"lunch\",IF(S142=0,,(S142/$E$5)*'Customer Info'!$D$20),)","v":0},{"$f":"IF($F$6=\"other\",IF(U142=0,,(U142/$E$7)*'Customer Info'!$D$20),)","v":0},0,{"$f":"IF($F$7=\"breakfast\",IF(R142=0,,(R142/$E$4)*'Customer Info'!$D$21),)","v":0},{"$f":"IF($F$7=\"lunch\",IF(S142=0,,(S142/$E$5)*'Customer Info'!$D$21),)","v":0},{"$f":"IF($F$7=\"dinner\",IF(T142=0,,(T142/$E$6)*'Customer Info'!$D$21),)","v":0},0,{"$f":"IF($F$10=\"lunch\",IF(W142=0,,(W142/$E$11)*'Customer Info'!$F$18),)","v":0},{"$f":"IF($F$10=\"dinner\",IF(X142=0,,(X142/$E$12)*'Customer Info'!$F$18),)","v":0},{"$f":"IF($F$10=\"other\",IF(Y142=0,,(Y142/$E$13)*'Customer Info'!$F$18),)","v":0},0,{"$f":"IF($F$11=\"breakfast\",IF(V142=0,,(V142/$E$10)*'Customer Info'!$F$19),)","v":0},{"$f":"IF($F$11=\"dinner\",IF(X142=0,,(X142/$E$12)*'Customer Info'!$F$19),)","v":0},{"$f":"IF($F$11=\"other\",IF(Y142=0,,(Y142/$E$13)*'Customer Info'!$F$19),)","v":0},0,{"$f":"IF($F$12=\"breakfast\",IF(V142=0,,(V142/$E$10)*'Customer Info'!$F$20),)","v":0},{"$f":"IF($F$12=\"lunch\",IF(W142=0,,(W142/$E$11)*'Customer Info'!$F$20),)","v":0},{"$f":"IF($F$12=\"other\",IF(Y142=0,,(Y142/$E$13)*'Customer Info'!$F$20),)","v":0},0,{"$f":"IF($F$13=\"breakfast\",IF(V142=0,,(V142/$E$10)*'Customer Info'!$F$21),)","v":0},{"$f":"IF($F$13=\"lunch\",IF(W142=0,,(W142/$E$11)*'Customer Info'!$F$21),)","v":0},{"$f":"IF($F$13=\"dinner\",IF(X142=0,,(X142/$E$12)*'Customer Info'!$F$21),)","v":0},0,{"$f":"IF($F$16=\"lunch\",IF(AA142=0,,(AA142/$E$17)*'Customer Info'!$H$18),)","v":0},{"$f":"IF($F$16=\"dinner\",IF(AB142=0,,(AB142/$E$18)*'Customer Info'!$H$18),)","v":0},{"$f":"IF($F$16=\"other\",IF(AC142=0,,(AC142/$E$19)*'Customer Info'!$H$18),)","v":0},0,{"$f":"IF($F$17=\"breakfast\",IF(Z142=0,,(Z142/$E$16)*'Customer Info'!$H$19),)","v":0},{"$f":"IF($F$17=\"dinner\",IF(AB142=0,,(AB142/$E$18)*'Customer Info'!$H$19),)","v":0},{"$f":"IF($F$17=\"other\",IF(AC142=0,,(AC142/$E$19)*'Customer Info'!$H$19),)","v":0},0,{"$f":"IF($F$18=\"breakfast\",IF(Z142=0,,(Z142/$E$16)*'Customer Info'!$H$20),)","v":0},{"$f":"IF($F$18=\"lunch\",IF(AA142=0,,(AA142/$E$17)*'Customer Info'!$H$20),)","v":0},{"$f":"IF($F$18=\"other\",IF(AC142=0,,(AC142/$E$19)*'Customer Info'!$H$20),)","v":0},0,{"$f":"IF($F$19=\"breakfast\",IF(Z142=0,,(Z142/$E$16)*'Customer Info'!$H$21),)","v":0},{"$f":"IF($F$19=\"lunch\",IF(AA142=0,,(AA142/$E$17)*'Customer Info'!$H$21),)","v":0},{"$f":"IF($F$19=\"dinner\",IF(AB142=0,,(AB142/$E$18)*'Customer Info'!$H$21),)","v":0},0,0,0,0,0,""]
[null,null,null,null,null,null,null,null,null,null,0,0,0,0,0,0,0,0,0,0,0,0,0,0,0,0,0,0,0,0,0,0,0,{"$f":"IF((OR($F$4=0,$F$4=\"none\")),IF(R143=0,,IF(OR($E$4='Customer Info'!$D$18,$E$4=0),R143,(R143/$E$4)*'Customer Info'!$D$18)),)","v":0},{"$f":"IF((OR($F$5=0,$F$5=\"none\")),IF(S143=0,,IF(OR($E$5='Customer Info'!$D$18,$E$5=0),S143,(S143/$E$5)*'Customer Info'!$D$19)),)","v":0},{"$f":"IF((OR($F$6=0,$F$6=\"none\")),IF(T143=0,,IF(OR($E$6='Customer Info'!$D$18,$E$6=0),T143,(T143/$E$6)*'Customer Info'!$D$20)),)","v":0},{"$f":"IF((OR($F$7=0,$F$7=\"none\")),IF(U143=0,,IF(OR($E$7='Customer Info'!$D$18,$E$7=0),U143,(U143/$E$7)*'Customer Info'!$D$21)),)","v":0},{"$f":"IF((OR($F$10=0,$F$10=\"none\")),IF(V143=0,,IF(OR($E$10='Customer Info'!$F$18,$E$10=0),V143,(V143/$E$10)*'Customer Info'!$F$18)),)","v":0},{"$f":"IF((OR($F$11=0,$F$11=\"none\")),IF(W143=0,,IF(OR($E$11='Customer Info'!$F$19,$E$11=0),W143,(W143/$E$11)*'Customer Info'!$F$19)),)","v":0},{"$f":"IF((OR($F$12=0,$F$12=\"none\")),IF(X143=0,,IF(OR($E$12='Customer Info'!$F$20,$E$12=0),X143,(X143/$E$12)*'Customer Info'!$F$20)),)","v":0},{"$f":"IF((OR($F$13=0,$F$13=\"none\")),IF(Y143=0,,IF(OR($E$13='Customer Info'!$F$21,$E$13=0),Y143,(Y143/$E$13)*'Customer Info'!$F$21)),)","v":0},{"$f":"IF((OR($F$16=0,$F$16=\"none\")),IF(Z143=0,,IF(OR($E$16='Customer Info'!$H$18,$E$16=0),Z143,(Z143/$E$16)*'Customer Info'!$H$18)),)","v":0},{"$f":"IF((OR($F$17=0,$F$17=\"none\")),IF(AA143=0,,IF(OR($E$17='Customer Info'!$H$19,$E$17=0),AA143,(AA143/$E$17)*'Customer Info'!$H$19)),)","v":0},{"$f":"IF((OR($F$18=0,$F$18=\"none\")),IF(AB143=0,,IF(OR($E$18='Customer Info'!$H$20,$E$18=0),AB143,(AB143/$E$18)*'Customer Info'!$H$20)),)","v":0},{"$f":"IF((OR($F$19=0,$F$19=\"none\")),IF(AC143=0,,IF(OR($E$19='Customer Info'!$H$21,$E$19=0),AC143,(AC143/$E$19)*'Customer Info'!$H$21)),)","v":0},{"$f":"IF((OR($F$4=0,$F$4=\"none\")),IF(AD143=0,,IF(OR($E$4='Customer Info'!$D$18,$E$4=0),AD143,(AD143/$E$4)*'Customer Info'!$D$18)),)","v":0},{"$f":"IF((OR($F$5=0,$F$5=\"none\")),IF(AE143=0,,IF(OR($E$5='Customer Info'!$D$19,$E$5=0),AE143,(AE143/$E$5)*'Customer Info'!$D$19)),)","v":0},{"$f":"IF((OR($F$6=0,$F$6=\"none\")),IF(AF143=0,,IF(OR($E$6='Customer Info'!$D$20,$E$6=0),AF143,(AF143/$E$6)*'Customer Info'!$D$20)),)","v":0},{"$f":"IF((OR($F$7=0,$F$7=\"none\")),IF(AG143=0,,IF(OR($E$7='Customer Info'!$D$21,$E$7=0),AG143,(AG143/$E$7)*'Customer Info'!$D$21)),)","v":0},0,0,{"$f":"IF(E143=\"plate waste\",,IF('Customer Info'!$M$18=0,'Log Sheet'!AY143,'Customer Info'!$M$18*'Log Sheet'!AY143))","v":0},{"$f":"IF(E143=\"plate waste\",IF(OR(C143=\"patient\",C143=\"patient beverages\"),IF('Customer Info'!$M$27=0,AY143*'Customer Info'!$M$18,AY143*'Customer Info'!$M$27),IF(C143=\"cafeteria\",IF('Customer Info'!$M$28=0,AY143*'Customer Info'!$M$18,AY143*'Customer Info'!$M$28),IF(C143=\"other1\",IF('Customer Info'!$M$29=0,AY143*'Customer Info'!$M$18,AY143*'Customer Info'!$M$29),))),)","v":0},0,{"$f":"IF($F$4=\"lunch\",IF(S143=0,,(S143/$E$5)*'Customer Info'!$D$18),)","v":0},{"$f":"IF($F$4=\"dinner\",IF(T143=0,,(T143/$E$6)*'Customer Info'!$D$18),)","v":0},{"$f":"IF($F$4=\"other\",IF(U143=0,,(U143/$E$7)*'Customer Info'!$D$18),)","v":0},0,{"$f":"IF($F$5=\"breakfast\",IF(R143=0,,(R143/$E$4)*'Customer Info'!$D$19),)","v":0},{"$f":"IF($F$5=\"dinner\",IF(T143=0,,(T143/$E$6)*'Customer Info'!$D$19),)","v":0},{"$f":"IF($F$5=\"other\",IF(U143=0,,(U143/$E$7)*'Customer Info'!$D$19),)","v":0},0,{"$f":"IF($F$6=\"breakfast\",IF(R143=0,,(R143/$E$4)*'Customer Info'!$D$20),)","v":0},{"$f":"IF($F$6=\"lunch\",IF(S143=0,,(S143/$E$5)*'Customer Info'!$D$20),)","v":0},{"$f":"IF($F$6=\"other\",IF(U143=0,,(U143/$E$7)*'Customer Info'!$D$20),)","v":0},0,{"$f":"IF($F$7=\"breakfast\",IF(R143=0,,(R143/$E$4)*'Customer Info'!$D$21),)","v":0},{"$f":"IF($F$7=\"lunch\",IF(S143=0,,(S143/$E$5)*'Customer Info'!$D$21),)","v":0},{"$f":"IF($F$7=\"dinner\",IF(T143=0,,(T143/$E$6)*'Customer Info'!$D$21),)","v":0},0,{"$f":"IF($F$10=\"lunch\",IF(W143=0,,(W143/$E$11)*'Customer Info'!$F$18),)","v":0},{"$f":"IF($F$10=\"dinner\",IF(X143=0,,(X143/$E$12)*'Customer Info'!$F$18),)","v":0},{"$f":"IF($F$10=\"other\",IF(Y143=0,,(Y143/$E$13)*'Customer Info'!$F$18),)","v":0},0,{"$f":"IF($F$11=\"breakfast\",IF(V143=0,,(V143/$E$10)*'Customer Info'!$F$19),)","v":0},{"$f":"IF($F$11=\"dinner\",IF(X143=0,,(X143/$E$12)*'Customer Info'!$F$19),)","v":0},{"$f":"IF($F$11=\"other\",IF(Y143=0,,(Y143/$E$13)*'Customer Info'!$F$19),)","v":0},0,{"$f":"IF($F$12=\"breakfast\",IF(V143=0,,(V143/$E$10)*'Customer Info'!$F$20),)","v":0},{"$f":"IF($F$12=\"lunch\",IF(W143=0,,(W143/$E$11)*'Customer Info'!$F$20),)","v":0},{"$f":"IF($F$12=\"other\",IF(Y143=0,,(Y143/$E$13)*'Customer Info'!$F$20),)","v":0},0,{"$f":"IF($F$13=\"breakfast\",IF(V143=0,,(V143/$E$10)*'Customer Info'!$F$21),)","v":0},{"$f":"IF($F$13=\"lunch\",IF(W143=0,,(W143/$E$11)*'Customer Info'!$F$21),)","v":0},{"$f":"IF($F$13=\"dinner\",IF(X143=0,,(X143/$E$12)*'Customer Info'!$F$21),)","v":0},0,{"$f":"IF($F$16=\"lunch\",IF(AA143=0,,(AA143/$E$17)*'Customer Info'!$H$18),)","v":0},{"$f":"IF($F$16=\"dinner\",IF(AB143=0,,(AB143/$E$18)*'Customer Info'!$H$18),)","v":0},{"$f":"IF($F$16=\"other\",IF(AC143=0,,(AC143/$E$19)*'Customer Info'!$H$18),)","v":0},0,{"$f":"IF($F$17=\"breakfast\",IF(Z143=0,,(Z143/$E$16)*'Customer Info'!$H$19),)","v":0},{"$f":"IF($F$17=\"dinner\",IF(AB143=0,,(AB143/$E$18)*'Customer Info'!$H$19),)","v":0},{"$f":"IF($F$17=\"other\",IF(AC143=0,,(AC143/$E$19)*'Customer Info'!$H$19),)","v":0},0,{"$f":"IF($F$18=\"breakfast\",IF(Z143=0,,(Z143/$E$16)*'Customer Info'!$H$20),)","v":0},{"$f":"IF($F$18=\"lunch\",IF(AA143=0,,(AA143/$E$17)*'Customer Info'!$H$20),)","v":0},{"$f":"IF($F$18=\"other\",IF(AC143=0,,(AC143/$E$19)*'Customer Info'!$H$20),)","v":0},0,{"$f":"IF($F$19=\"breakfast\",IF(Z143=0,,(Z143/$E$16)*'Customer Info'!$H$21),)","v":0},{"$f":"IF($F$19=\"lunch\",IF(AA143=0,,(AA143/$E$17)*'Customer Info'!$H$21),)","v":0},{"$f":"IF($F$19=\"dinner\",IF(AB143=0,,(AB143/$E$18)*'Customer Info'!$H$21),)","v":0},0,0,0,0,0,""]
[null,null,null,null,null,null,null,null,null,null,0,0,0,0,0,0,0,0,0,0,0,0,0,0,0,0,0,0,0,0,0,0,0,{"$f":"IF((OR($F$4=0,$F$4=\"none\")),IF(R144=0,,IF(OR($E$4='Customer Info'!$D$18,$E$4=0),R144,(R144/$E$4)*'Customer Info'!$D$18)),)","v":0},{"$f":"IF((OR($F$5=0,$F$5=\"none\")),IF(S144=0,,IF(OR($E$5='Customer Info'!$D$18,$E$5=0),S144,(S144/$E$5)*'Customer Info'!$D$19)),)","v":0},{"$f":"IF((OR($F$6=0,$F$6=\"none\")),IF(T144=0,,IF(OR($E$6='Customer Info'!$D$18,$E$6=0),T144,(T144/$E$6)*'Customer Info'!$D$20)),)","v":0},{"$f":"IF((OR($F$7=0,$F$7=\"none\")),IF(U144=0,,IF(OR($E$7='Customer Info'!$D$18,$E$7=0),U144,(U144/$E$7)*'Customer Info'!$D$21)),)","v":0},{"$f":"IF((OR($F$10=0,$F$10=\"none\")),IF(V144=0,,IF(OR($E$10='Customer Info'!$F$18,$E$10=0),V144,(V144/$E$10)*'Customer Info'!$F$18)),)","v":0},{"$f":"IF((OR($F$11=0,$F$11=\"none\")),IF(W144=0,,IF(OR($E$11='Customer Info'!$F$19,$E$11=0),W144,(W144/$E$11)*'Customer Info'!$F$19)),)","v":0},{"$f":"IF((OR($F$12=0,$F$12=\"none\")),IF(X144=0,,IF(OR($E$12='Customer Info'!$F$20,$E$12=0),X144,(X144/$E$12)*'Customer Info'!$F$20)),)","v":0},{"$f":"IF((OR($F$13=0,$F$13=\"none\")),IF(Y144=0,,IF(OR($E$13='Customer Info'!$F$21,$E$13=0),Y144,(Y144/$E$13)*'Customer Info'!$F$21)),)","v":0},{"$f":"IF((OR($F$16=0,$F$16=\"none\")),IF(Z144=0,,IF(OR($E$16='Customer Info'!$H$18,$E$16=0),Z144,(Z144/$E$16)*'Customer Info'!$H$18)),)","v":0},{"$f":"IF((OR($F$17=0,$F$17=\"none\")),IF(AA144=0,,IF(OR($E$17='Customer Info'!$H$19,$E$17=0),AA144,(AA144/$E$17)*'Customer Info'!$H$19)),)","v":0},{"$f":"IF((OR($F$18=0,$F$18=\"none\")),IF(AB144=0,,IF(OR($E$18='Customer Info'!$H$20,$E$18=0),AB144,(AB144/$E$18)*'Customer Info'!$H$20)),)","v":0},{"$f":"IF((OR($F$19=0,$F$19=\"none\")),IF(AC144=0,,IF(OR($E$19='Customer Info'!$H$21,$E$19=0),AC144,(AC144/$E$19)*'Customer Info'!$H$21)),)","v":0},{"$f":"IF((OR($F$4=0,$F$4=\"none\")),IF(AD144=0,,IF(OR($E$4='Customer Info'!$D$18,$E$4=0),AD144,(AD144/$E$4)*'Customer Info'!$D$18)),)","v":0},{"$f":"IF((OR($F$5=0,$F$5=\"none\")),IF(AE144=0,,IF(OR($E$5='Customer Info'!$D$19,$E$5=0),AE144,(AE144/$E$5)*'Customer Info'!$D$19)),)","v":0},{"$f":"IF((OR($F$6=0,$F$6=\"none\")),IF(AF144=0,,IF(OR($E$6='Customer Info'!$D$20,$E$6=0),AF144,(AF144/$E$6)*'Customer Info'!$D$20)),)","v":0},{"$f":"IF((OR($F$7=0,$F$7=\"none\")),IF(AG144=0,,IF(OR($E$7='Customer Info'!$D$21,$E$7=0),AG144,(AG144/$E$7)*'Customer Info'!$D$21)),)","v":0},0,0,{"$f":"IF(E144=\"plate waste\",,IF('Customer Info'!$M$18=0,'Log Sheet'!AY144,'Customer Info'!$M$18*'Log Sheet'!AY144))","v":0},{"$f":"IF(E144=\"plate waste\",IF(OR(C144=\"patient\",C144=\"patient beverages\"),IF('Customer Info'!$M$27=0,AY144*'Customer Info'!$M$18,AY144*'Customer Info'!$M$27),IF(C144=\"cafeteria\",IF('Customer Info'!$M$28=0,AY144*'Customer Info'!$M$18,AY144*'Customer Info'!$M$28),IF(C144=\"other1\",IF('Customer Info'!$M$29=0,AY144*'Customer Info'!$M$18,AY144*'Customer Info'!$M$29),))),)","v":0},0,{"$f":"IF($F$4=\"lunch\",IF(S144=0,,(S144/$E$5)*'Customer Info'!$D$18),)","v":0},{"$f":"IF($F$4=\"dinner\",IF(T144=0,,(T144/$E$6)*'Customer Info'!$D$18),)","v":0},{"$f":"IF($F$4=\"other\",IF(U144=0,,(U144/$E$7)*'Customer Info'!$D$18),)","v":0},0,{"$f":"IF($F$5=\"breakfast\",IF(R144=0,,(R144/$E$4)*'Customer Info'!$D$19),)","v":0},{"$f":"IF($F$5=\"dinner\",IF(T144=0,,(T144/$E$6)*'Customer Info'!$D$19),)","v":0},{"$f":"IF($F$5=\"other\",IF(U144=0,,(U144/$E$7)*'Customer Info'!$D$19),)","v":0},0,{"$f":"IF($F$6=\"breakfast\",IF(R144=0,,(R144/$E$4)*'Customer Info'!$D$20),)","v":0},{"$f":"IF($F$6=\"lunch\",IF(S144=0,,(S144/$E$5)*'Customer Info'!$D$20),)","v":0},{"$f":"IF($F$6=\"other\",IF(U144=0,,(U144/$E$7)*'Customer Info'!$D$20),)","v":0},0,{"$f":"IF($F$7=\"breakfast\",IF(R144=0,,(R144/$E$4)*'Customer Info'!$D$21),)","v":0},{"$f":"IF($F$7=\"lunch\",IF(S144=0,,(S144/$E$5)*'Customer Info'!$D$21),)","v":0},{"$f":"IF($F$7=\"dinner\",IF(T144=0,,(T144/$E$6)*'Customer Info'!$D$21),)","v":0},0,{"$f":"IF($F$10=\"lunch\",IF(W144=0,,(W144/$E$11)*'Customer Info'!$F$18),)","v":0},{"$f":"IF($F$10=\"dinner\",IF(X144=0,,(X144/$E$12)*'Customer Info'!$F$18),)","v":0},{"$f":"IF($F$10=\"other\",IF(Y144=0,,(Y144/$E$13)*'Customer Info'!$F$18),)","v":0},0,{"$f":"IF($F$11=\"breakfast\",IF(V144=0,,(V144/$E$10)*'Customer Info'!$F$19),)","v":0},{"$f":"IF($F$11=\"dinner\",IF(X144=0,,(X144/$E$12)*'Customer Info'!$F$19),)","v":0},{"$f":"IF($F$11=\"other\",IF(Y144=0,,(Y144/$E$13)*'Customer Info'!$F$19),)","v":0},0,{"$f":"IF($F$12=\"breakfast\",IF(V144=0,,(V144/$E$10)*'Customer Info'!$F$20),)","v":0},{"$f":"IF($F$12=\"lunch\",IF(W144=0,,(W144/$E$11)*'Customer Info'!$F$20),)","v":0},{"$f":"IF($F$12=\"other\",IF(Y144=0,,(Y144/$E$13)*'Customer Info'!$F$20),)","v":0},0,{"$f":"IF($F$13=\"breakfast\",IF(V144=0,,(V144/$E$10)*'Customer Info'!$F$21),)","v":0},{"$f":"IF($F$13=\"lunch\",IF(W144=0,,(W144/$E$11)*'Customer Info'!$F$21),)","v":0},{"$f":"IF($F$13=\"dinner\",IF(X144=0,,(X144/$E$12)*'Customer Info'!$F$21),)","v":0},0,{"$f":"IF($F$16=\"lunch\",IF(AA144=0,,(AA144/$E$17)*'Customer Info'!$H$18),)","v":0},{"$f":"IF($F$16=\"dinner\",IF(AB144=0,,(AB144/$E$18)*'Customer Info'!$H$18),)","v":0},{"$f":"IF($F$16=\"other\",IF(AC144=0,,(AC144/$E$19)*'Customer Info'!$H$18),)","v":0},0,{"$f":"IF($F$17=\"breakfast\",IF(Z144=0,,(Z144/$E$16)*'Customer Info'!$H$19),)","v":0},{"$f":"IF($F$17=\"dinner\",IF(AB144=0,,(AB144/$E$18)*'Customer Info'!$H$19),)","v":0},{"$f":"IF($F$17=\"other\",IF(AC144=0,,(AC144/$E$19)*'Customer Info'!$H$19),)","v":0},0,{"$f":"IF($F$18=\"breakfast\",IF(Z144=0,,(Z144/$E$16)*'Customer Info'!$H$20),)","v":0},{"$f":"IF($F$18=\"lunch\",IF(AA144=0,,(AA144/$E$17)*'Customer Info'!$H$20),)","v":0},{"$f":"IF($F$18=\"other\",IF(AC144=0,,(AC144/$E$19)*'Customer Info'!$H$20),)","v":0},0,{"$f":"IF($F$19=\"breakfast\",IF(Z144=0,,(Z144/$E$16)*'Customer Info'!$H$21),)","v":0},{"$f":"IF($F$19=\"lunch\",IF(AA144=0,,(AA144/$E$17)*'Customer Info'!$H$21),)","v":0},{"$f":"IF($F$19=\"dinner\",IF(AB144=0,,(AB144/$E$18)*'Customer Info'!$H$21),)","v":0},0,0,0,0,0,""]
[null,null,null,null,null,null,null,null,null,null,0,0,0,0,0,0,0,0,0,0,0,0,0,0,0,0,0,0,0,0,0,0,0,{"$f":"IF((OR($F$4=0,$F$4=\"none\")),IF(R145=0,,IF(OR($E$4='Customer Info'!$D$18,$E$4=0),R145,(R145/$E$4)*'Customer Info'!$D$18)),)","v":0},{"$f":"IF((OR($F$5=0,$F$5=\"none\")),IF(S145=0,,IF(OR($E$5='Customer Info'!$D$18,$E$5=0),S145,(S145/$E$5)*'Customer Info'!$D$19)),)","v":0},{"$f":"IF((OR($F$6=0,$F$6=\"none\")),IF(T145=0,,IF(OR($E$6='Customer Info'!$D$18,$E$6=0),T145,(T145/$E$6)*'Customer Info'!$D$20)),)","v":0},{"$f":"IF((OR($F$7=0,$F$7=\"none\")),IF(U145=0,,IF(OR($E$7='Customer Info'!$D$18,$E$7=0),U145,(U145/$E$7)*'Customer Info'!$D$21)),)","v":0},{"$f":"IF((OR($F$10=0,$F$10=\"none\")),IF(V145=0,,IF(OR($E$10='Customer Info'!$F$18,$E$10=0),V145,(V145/$E$10)*'Customer Info'!$F$18)),)","v":0},{"$f":"IF((OR($F$11=0,$F$11=\"none\")),IF(W145=0,,IF(OR($E$11='Customer Info'!$F$19,$E$11=0),W145,(W145/$E$11)*'Customer Info'!$F$19)),)","v":0},{"$f":"IF((OR($F$12=0,$F$12=\"none\")),IF(X145=0,,IF(OR($E$12='Customer Info'!$F$20,$E$12=0),X145,(X145/$E$12)*'Customer Info'!$F$20)),)","v":0},{"$f":"IF((OR($F$13=0,$F$13=\"none\")),IF(Y145=0,,IF(OR($E$13='Customer Info'!$F$21,$E$13=0),Y145,(Y145/$E$13)*'Customer Info'!$F$21)),)","v":0},{"$f":"IF((OR($F$16=0,$F$16=\"none\")),IF(Z145=0,,IF(OR($E$16='Customer Info'!$H$18,$E$16=0),Z145,(Z145/$E$16)*'Customer Info'!$H$18)),)","v":0},{"$f":"IF((OR($F$17=0,$F$17=\"none\")),IF(AA145=0,,IF(OR($E$17='Customer Info'!$H$19,$E$17=0),AA145,(AA145/$E$17)*'Customer Info'!$H$19)),)","v":0},{"$f":"IF((OR($F$18=0,$F$18=\"none\")),IF(AB145=0,,IF(OR($E$18='Customer Info'!$H$20,$E$18=0),AB145,(AB145/$E$18)*'Customer Info'!$H$20)),)","v":0},{"$f":"IF((OR($F$19=0,$F$19=\"none\")),IF(AC145=0,,IF(OR($E$19='Customer Info'!$H$21,$E$19=0),AC145,(AC145/$E$19)*'Customer Info'!$H$21)),)","v":0},{"$f":"IF((OR($F$4=0,$F$4=\"none\")),IF(AD145=0,,IF(OR($E$4='Customer Info'!$D$18,$E$4=0),AD145,(AD145/$E$4)*'Customer Info'!$D$18)),)","v":0},{"$f":"IF((OR($F$5=0,$F$5=\"none\")),IF(AE145=0,,IF(OR($E$5='Customer Info'!$D$19,$E$5=0),AE145,(AE145/$E$5)*'Customer Info'!$D$19)),)","v":0},{"$f":"IF((OR($F$6=0,$F$6=\"none\")),IF(AF145=0,,IF(OR($E$6='Customer Info'!$D$20,$E$6=0),AF145,(AF145/$E$6)*'Customer Info'!$D$20)),)","v":0},{"$f":"IF((OR($F$7=0,$F$7=\"none\")),IF(AG145=0,,IF(OR($E$7='Customer Info'!$D$21,$E$7=0),AG145,(AG145/$E$7)*'Customer Info'!$D$21)),)","v":0},0,0,{"$f":"IF(E145=\"plate waste\",,IF('Customer Info'!$M$18=0,'Log Sheet'!AY145,'Customer Info'!$M$18*'Log Sheet'!AY145))","v":0},{"$f":"IF(E145=\"plate waste\",IF(OR(C145=\"patient\",C145=\"patient beverages\"),IF('Customer Info'!$M$27=0,AY145*'Customer Info'!$M$18,AY145*'Customer Info'!$M$27),IF(C145=\"cafeteria\",IF('Customer Info'!$M$28=0,AY145*'Customer Info'!$M$18,AY145*'Customer Info'!$M$28),IF(C145=\"other1\",IF('Customer Info'!$M$29=0,AY145*'Customer Info'!$M$18,AY145*'Customer Info'!$M$29),))),)","v":0},0,{"$f":"IF($F$4=\"lunch\",IF(S145=0,,(S145/$E$5)*'Customer Info'!$D$18),)","v":0},{"$f":"IF($F$4=\"dinner\",IF(T145=0,,(T145/$E$6)*'Customer Info'!$D$18),)","v":0},{"$f":"IF($F$4=\"other\",IF(U145=0,,(U145/$E$7)*'Customer Info'!$D$18),)","v":0},0,{"$f":"IF($F$5=\"breakfast\",IF(R145=0,,(R145/$E$4)*'Customer Info'!$D$19),)","v":0},{"$f":"IF($F$5=\"dinner\",IF(T145=0,,(T145/$E$6)*'Customer Info'!$D$19),)","v":0},{"$f":"IF($F$5=\"other\",IF(U145=0,,(U145/$E$7)*'Customer Info'!$D$19),)","v":0},0,{"$f":"IF($F$6=\"breakfast\",IF(R145=0,,(R145/$E$4)*'Customer Info'!$D$20),)","v":0},{"$f":"IF($F$6=\"lunch\",IF(S145=0,,(S145/$E$5)*'Customer Info'!$D$20),)","v":0},{"$f":"IF($F$6=\"other\",IF(U145=0,,(U145/$E$7)*'Customer Info'!$D$20),)","v":0},0,{"$f":"IF($F$7=\"breakfast\",IF(R145=0,,(R145/$E$4)*'Customer Info'!$D$21),)","v":0},{"$f":"IF($F$7=\"lunch\",IF(S145=0,,(S145/$E$5)*'Customer Info'!$D$21),)","v":0},{"$f":"IF($F$7=\"dinner\",IF(T145=0,,(T145/$E$6)*'Customer Info'!$D$21),)","v":0},0,{"$f":"IF($F$10=\"lunch\",IF(W145=0,,(W145/$E$11)*'Customer Info'!$F$18),)","v":0},{"$f":"IF($F$10=\"dinner\",IF(X145=0,,(X145/$E$12)*'Customer Info'!$F$18),)","v":0},{"$f":"IF($F$10=\"other\",IF(Y145=0,,(Y145/$E$13)*'Customer Info'!$F$18),)","v":0},0,{"$f":"IF($F$11=\"breakfast\",IF(V145=0,,(V145/$E$10)*'Customer Info'!$F$19),)","v":0},{"$f":"IF($F$11=\"dinner\",IF(X145=0,,(X145/$E$12)*'Customer Info'!$F$19),)","v":0},{"$f":"IF($F$11=\"other\",IF(Y145=0,,(Y145/$E$13)*'Customer Info'!$F$19),)","v":0},0,{"$f":"IF($F$12=\"breakfast\",IF(V145=0,,(V145/$E$10)*'Customer Info'!$F$20),)","v":0},{"$f":"IF($F$12=\"lunch\",IF(W145=0,,(W145/$E$11)*'Customer Info'!$F$20),)","v":0},{"$f":"IF($F$12=\"other\",IF(Y145=0,,(Y145/$E$13)*'Customer Info'!$F$20),)","v":0},0,{"$f":"IF($F$13=\"breakfast\",IF(V145=0,,(V145/$E$10)*'Customer Info'!$F$21),)","v":0},{"$f":"IF($F$13=\"lunch\",IF(W145=0,,(W145/$E$11)*'Customer Info'!$F$21),)","v":0},{"$f":"IF($F$13=\"dinner\",IF(X145=0,,(X145/$E$12)*'Customer Info'!$F$21),)","v":0},0,{"$f":"IF($F$16=\"lunch\",IF(AA145=0,,(AA145/$E$17)*'Customer Info'!$H$18),)","v":0},{"$f":"IF($F$16=\"dinner\",IF(AB145=0,,(AB145/$E$18)*'Customer Info'!$H$18),)","v":0},{"$f":"IF($F$16=\"other\",IF(AC145=0,,(AC145/$E$19)*'Customer Info'!$H$18),)","v":0},0,{"$f":"IF($F$17=\"breakfast\",IF(Z145=0,,(Z145/$E$16)*'Customer Info'!$H$19),)","v":0},{"$f":"IF($F$17=\"dinner\",IF(AB145=0,,(AB145/$E$18)*'Customer Info'!$H$19),)","v":0},{"$f":"IF($F$17=\"other\",IF(AC145=0,,(AC145/$E$19)*'Customer Info'!$H$19),)","v":0},0,{"$f":"IF($F$18=\"breakfast\",IF(Z145=0,,(Z145/$E$16)*'Customer Info'!$H$20),)","v":0},{"$f":"IF($F$18=\"lunch\",IF(AA145=0,,(AA145/$E$17)*'Customer Info'!$H$20),)","v":0},{"$f":"IF($F$18=\"other\",IF(AC145=0,,(AC145/$E$19)*'Customer Info'!$H$20),)","v":0},0,{"$f":"IF($F$19=\"breakfast\",IF(Z145=0,,(Z145/$E$16)*'Customer Info'!$H$21),)","v":0},{"$f":"IF($F$19=\"lunch\",IF(AA145=0,,(AA145/$E$17)*'Customer Info'!$H$21),)","v":0},{"$f":"IF($F$19=\"dinner\",IF(AB145=0,,(AB145/$E$18)*'Customer Info'!$H$21),)","v":0},0,0,0,0,0,""]
[null,null,null,null,null,null,null,null,null,null,0,0,0,0,0,0,0,0,0,0,0,0,0,0,0,0,0,0,0,0,0,0,0,{"$f":"IF((OR($F$4=0,$F$4=\"none\")),IF(R146=0,,IF(OR($E$4='Customer Info'!$D$18,$E$4=0),R146,(R146/$E$4)*'Customer Info'!$D$18)),)","v":0},{"$f":"IF((OR($F$5=0,$F$5=\"none\")),IF(S146=0,,IF(OR($E$5='Customer Info'!$D$18,$E$5=0),S146,(S146/$E$5)*'Customer Info'!$D$19)),)","v":0},{"$f":"IF((OR($F$6=0,$F$6=\"none\")),IF(T146=0,,IF(OR($E$6='Customer Info'!$D$18,$E$6=0),T146,(T146/$E$6)*'Customer Info'!$D$20)),)","v":0},{"$f":"IF((OR($F$7=0,$F$7=\"none\")),IF(U146=0,,IF(OR($E$7='Customer Info'!$D$18,$E$7=0),U146,(U146/$E$7)*'Customer Info'!$D$21)),)","v":0},{"$f":"IF((OR($F$10=0,$F$10=\"none\")),IF(V146=0,,IF(OR($E$10='Customer Info'!$F$18,$E$10=0),V146,(V146/$E$10)*'Customer Info'!$F$18)),)","v":0},{"$f":"IF((OR($F$11=0,$F$11=\"none\")),IF(W146=0,,IF(OR($E$11='Customer Info'!$F$19,$E$11=0),W146,(W146/$E$11)*'Customer Info'!$F$19)),)","v":0},{"$f":"IF((OR($F$12=0,$F$12=\"none\")),IF(X146=0,,IF(OR($E$12='Customer Info'!$F$20,$E$12=0),X146,(X146/$E$12)*'Customer Info'!$F$20)),)","v":0},{"$f":"IF((OR($F$13=0,$F$13=\"none\")),IF(Y146=0,,IF(OR($E$13='Customer Info'!$F$21,$E$13=0),Y146,(Y146/$E$13)*'Customer Info'!$F$21)),)","v":0},{"$f":"IF((OR($F$16=0,$F$16=\"none\")),IF(Z146=0,,IF(OR($E$16='Customer Info'!$H$18,$E$16=0),Z146,(Z146/$E$16)*'Customer Info'!$H$18)),)","v":0},{"$f":"IF((OR($F$17=0,$F$17=\"none\")),IF(AA146=0,,IF(OR($E$17='Customer Info'!$H$19,$E$17=0),AA146,(AA146/$E$17)*'Customer Info'!$H$19)),)","v":0},{"$f":"IF((OR($F$18=0,$F$18=\"none\")),IF(AB146=0,,IF(OR($E$18='Customer Info'!$H$20,$E$18=0),AB146,(AB146/$E$18)*'Customer Info'!$H$20)),)","v":0},{"$f":"IF((OR($F$19=0,$F$19=\"none\")),IF(AC146=0,,IF(OR($E$19='Customer Info'!$H$21,$E$19=0),AC146,(AC146/$E$19)*'Customer Info'!$H$21)),)","v":0},{"$f":"IF((OR($F$4=0,$F$4=\"none\")),IF(AD146=0,,IF(OR($E$4='Customer Info'!$D$18,$E$4=0),AD146,(AD146/$E$4)*'Customer Info'!$D$18)),)","v":0},{"$f":"IF((OR($F$5=0,$F$5=\"none\")),IF(AE146=0,,IF(OR($E$5='Customer Info'!$D$19,$E$5=0),AE146,(AE146/$E$5)*'Customer Info'!$D$19)),)","v":0},{"$f":"IF((OR($F$6=0,$F$6=\"none\")),IF(AF146=0,,IF(OR($E$6='Customer Info'!$D$20,$E$6=0),AF146,(AF146/$E$6)*'Customer Info'!$D$20)),)","v":0},{"$f":"IF((OR($F$7=0,$F$7=\"none\")),IF(AG146=0,,IF(OR($E$7='Customer Info'!$D$21,$E$7=0),AG146,(AG146/$E$7)*'Customer Info'!$D$21)),)","v":0},0,0,{"$f":"IF(E146=\"plate waste\",,IF('Customer Info'!$M$18=0,'Log Sheet'!AY146,'Customer Info'!$M$18*'Log Sheet'!AY146))","v":0},{"$f":"IF(E146=\"plate waste\",IF(OR(C146=\"patient\",C146=\"patient beverages\"),IF('Customer Info'!$M$27=0,AY146*'Customer Info'!$M$18,AY146*'Customer Info'!$M$27),IF(C146=\"cafeteria\",IF('Customer Info'!$M$28=0,AY146*'Customer Info'!$M$18,AY146*'Customer Info'!$M$28),IF(C146=\"other1\",IF('Customer Info'!$M$29=0,AY146*'Customer Info'!$M$18,AY146*'Customer Info'!$M$29),))),)","v":0},0,{"$f":"IF($F$4=\"lunch\",IF(S146=0,,(S146/$E$5)*'Customer Info'!$D$18),)","v":0},{"$f":"IF($F$4=\"dinner\",IF(T146=0,,(T146/$E$6)*'Customer Info'!$D$18),)","v":0},{"$f":"IF($F$4=\"other\",IF(U146=0,,(U146/$E$7)*'Customer Info'!$D$18),)","v":0},0,{"$f":"IF($F$5=\"breakfast\",IF(R146=0,,(R146/$E$4)*'Customer Info'!$D$19),)","v":0},{"$f":"IF($F$5=\"dinner\",IF(T146=0,,(T146/$E$6)*'Customer Info'!$D$19),)","v":0},{"$f":"IF($F$5=\"other\",IF(U146=0,,(U146/$E$7)*'Customer Info'!$D$19),)","v":0},0,{"$f":"IF($F$6=\"breakfast\",IF(R146=0,,(R146/$E$4)*'Customer Info'!$D$20),)","v":0},{"$f":"IF($F$6=\"lunch\",IF(S146=0,,(S146/$E$5)*'Customer Info'!$D$20),)","v":0},{"$f":"IF($F$6=\"other\",IF(U146=0,,(U146/$E$7)*'Customer Info'!$D$20),)","v":0},0,{"$f":"IF($F$7=\"breakfast\",IF(R146=0,,(R146/$E$4)*'Customer Info'!$D$21),)","v":0},{"$f":"IF($F$7=\"lunch\",IF(S146=0,,(S146/$E$5)*'Customer Info'!$D$21),)","v":0},{"$f":"IF($F$7=\"dinner\",IF(T146=0,,(T146/$E$6)*'Customer Info'!$D$21),)","v":0},0,{"$f":"IF($F$10=\"lunch\",IF(W146=0,,(W146/$E$11)*'Customer Info'!$F$18),)","v":0},{"$f":"IF($F$10=\"dinner\",IF(X146=0,,(X146/$E$12)*'Customer Info'!$F$18),)","v":0},{"$f":"IF($F$10=\"other\",IF(Y146=0,,(Y146/$E$13)*'Customer Info'!$F$18),)","v":0},0,{"$f":"IF($F$11=\"breakfast\",IF(V146=0,,(V146/$E$10)*'Customer Info'!$F$19),)","v":0},{"$f":"IF($F$11=\"dinner\",IF(X146=0,,(X146/$E$12)*'Customer Info'!$F$19),)","v":0},{"$f":"IF($F$11=\"other\",IF(Y146=0,,(Y146/$E$13)*'Customer Info'!$F$19),)","v":0},0,{"$f":"IF($F$12=\"breakfast\",IF(V146=0,,(V146/$E$10)*'Customer Info'!$F$20),)","v":0},{"$f":"IF($F$12=\"lunch\",IF(W146=0,,(W146/$E$11)*'Customer Info'!$F$20),)","v":0},{"$f":"IF($F$12=\"other\",IF(Y146=0,,(Y146/$E$13)*'Customer Info'!$F$20),)","v":0},0,{"$f":"IF($F$13=\"breakfast\",IF(V146=0,,(V146/$E$10)*'Customer Info'!$F$21),)","v":0},{"$f":"IF($F$13=\"lunch\",IF(W146=0,,(W146/$E$11)*'Customer Info'!$F$21),)","v":0},{"$f":"IF($F$13=\"dinner\",IF(X146=0,,(X146/$E$12)*'Customer Info'!$F$21),)","v":0},0,{"$f":"IF($F$16=\"lunch\",IF(AA146=0,,(AA146/$E$17)*'Customer Info'!$H$18),)","v":0},{"$f":"IF($F$16=\"dinner\",IF(AB146=0,,(AB146/$E$18)*'Customer Info'!$H$18),)","v":0},{"$f":"IF($F$16=\"other\",IF(AC146=0,,(AC146/$E$19)*'Customer Info'!$H$18),)","v":0},0,{"$f":"IF($F$17=\"breakfast\",IF(Z146=0,,(Z146/$E$16)*'Customer Info'!$H$19),)","v":0},{"$f":"IF($F$17=\"dinner\",IF(AB146=0,,(AB146/$E$18)*'Customer Info'!$H$19),)","v":0},{"$f":"IF($F$17=\"other\",IF(AC146=0,,(AC146/$E$19)*'Customer Info'!$H$19),)","v":0},0,{"$f":"IF($F$18=\"breakfast\",IF(Z146=0,,(Z146/$E$16)*'Customer Info'!$H$20),)","v":0},{"$f":"IF($F$18=\"lunch\",IF(AA146=0,,(AA146/$E$17)*'Customer Info'!$H$20),)","v":0},{"$f":"IF($F$18=\"other\",IF(AC146=0,,(AC146/$E$19)*'Customer Info'!$H$20),)","v":0},0,{"$f":"IF($F$19=\"breakfast\",IF(Z146=0,,(Z146/$E$16)*'Customer Info'!$H$21),)","v":0},{"$f":"IF($F$19=\"lunch\",IF(AA146=0,,(AA146/$E$17)*'Customer Info'!$H$21),)","v":0},{"$f":"IF($F$19=\"dinner\",IF(AB146=0,,(AB146/$E$18)*'Customer Info'!$H$21),)","v":0},0,0,0,0,0,""]
[null,null,null,null,null,null,null,null,null,null,0,0,0,0,0,0,0,0,0,0,0,0,0,0,0,0,0,0,0,0,0,0,0,{"$f":"IF((OR($F$4=0,$F$4=\"none\")),IF(R147=0,,IF(OR($E$4='Customer Info'!$D$18,$E$4=0),R147,(R147/$E$4)*'Customer Info'!$D$18)),)","v":0},{"$f":"IF((OR($F$5=0,$F$5=\"none\")),IF(S147=0,,IF(OR($E$5='Customer Info'!$D$18,$E$5=0),S147,(S147/$E$5)*'Customer Info'!$D$19)),)","v":0},{"$f":"IF((OR($F$6=0,$F$6=\"none\")),IF(T147=0,,IF(OR($E$6='Customer Info'!$D$18,$E$6=0),T147,(T147/$E$6)*'Customer Info'!$D$20)),)","v":0},{"$f":"IF((OR($F$7=0,$F$7=\"none\")),IF(U147=0,,IF(OR($E$7='Customer Info'!$D$18,$E$7=0),U147,(U147/$E$7)*'Customer Info'!$D$21)),)","v":0},{"$f":"IF((OR($F$10=0,$F$10=\"none\")),IF(V147=0,,IF(OR($E$10='Customer Info'!$F$18,$E$10=0),V147,(V147/$E$10)*'Customer Info'!$F$18)),)","v":0},{"$f":"IF((OR($F$11=0,$F$11=\"none\")),IF(W147=0,,IF(OR($E$11='Customer Info'!$F$19,$E$11=0),W147,(W147/$E$11)*'Customer Info'!$F$19)),)","v":0},{"$f":"IF((OR($F$12=0,$F$12=\"none\")),IF(X147=0,,IF(OR($E$12='Customer Info'!$F$20,$E$12=0),X147,(X147/$E$12)*'Customer Info'!$F$20)),)","v":0},{"$f":"IF((OR($F$13=0,$F$13=\"none\")),IF(Y147=0,,IF(OR($E$13='Customer Info'!$F$21,$E$13=0),Y147,(Y147/$E$13)*'Customer Info'!$F$21)),)","v":0},{"$f":"IF((OR($F$16=0,$F$16=\"none\")),IF(Z147=0,,IF(OR($E$16='Customer Info'!$H$18,$E$16=0),Z147,(Z147/$E$16)*'Customer Info'!$H$18)),)","v":0},{"$f":"IF((OR($F$17=0,$F$17=\"none\")),IF(AA147=0,,IF(OR($E$17='Customer Info'!$H$19,$E$17=0),AA147,(AA147/$E$17)*'Customer Info'!$H$19)),)","v":0},{"$f":"IF((OR($F$18=0,$F$18=\"none\")),IF(AB147=0,,IF(OR($E$18='Customer Info'!$H$20,$E$18=0),AB147,(AB147/$E$18)*'Customer Info'!$H$20)),)","v":0},{"$f":"IF((OR($F$19=0,$F$19=\"none\")),IF(AC147=0,,IF(OR($E$19='Customer Info'!$H$21,$E$19=0),AC147,(AC147/$E$19)*'Customer Info'!$H$21)),)","v":0},{"$f":"IF((OR($F$4=0,$F$4=\"none\")),IF(AD147=0,,IF(OR($E$4='Customer Info'!$D$18,$E$4=0),AD147,(AD147/$E$4)*'Customer Info'!$D$18)),)","v":0},{"$f":"IF((OR($F$5=0,$F$5=\"none\")),IF(AE147=0,,IF(OR($E$5='Customer Info'!$D$19,$E$5=0),AE147,(AE147/$E$5)*'Customer Info'!$D$19)),)","v":0},{"$f":"IF((OR($F$6=0,$F$6=\"none\")),IF(AF147=0,,IF(OR($E$6='Customer Info'!$D$20,$E$6=0),AF147,(AF147/$E$6)*'Customer Info'!$D$20)),)","v":0},{"$f":"IF((OR($F$7=0,$F$7=\"none\")),IF(AG147=0,,IF(OR($E$7='Customer Info'!$D$21,$E$7=0),AG147,(AG147/$E$7)*'Customer Info'!$D$21)),)","v":0},0,0,{"$f":"IF(E147=\"plate waste\",,IF('Customer Info'!$M$18=0,'Log Sheet'!AY147,'Customer Info'!$M$18*'Log Sheet'!AY147))","v":0},{"$f":"IF(E147=\"plate waste\",IF(OR(C147=\"patient\",C147=\"patient beverages\"),IF('Customer Info'!$M$27=0,AY147*'Customer Info'!$M$18,AY147*'Customer Info'!$M$27),IF(C147=\"cafeteria\",IF('Customer Info'!$M$28=0,AY147*'Customer Info'!$M$18,AY147*'Customer Info'!$M$28),IF(C147=\"other1\",IF('Customer Info'!$M$29=0,AY147*'Customer Info'!$M$18,AY147*'Customer Info'!$M$29),))),)","v":0},0,{"$f":"IF($F$4=\"lunch\",IF(S147=0,,(S147/$E$5)*'Customer Info'!$D$18),)","v":0},{"$f":"IF($F$4=\"dinner\",IF(T147=0,,(T147/$E$6)*'Customer Info'!$D$18),)","v":0},{"$f":"IF($F$4=\"other\",IF(U147=0,,(U147/$E$7)*'Customer Info'!$D$18),)","v":0},0,{"$f":"IF($F$5=\"breakfast\",IF(R147=0,,(R147/$E$4)*'Customer Info'!$D$19),)","v":0},{"$f":"IF($F$5=\"dinner\",IF(T147=0,,(T147/$E$6)*'Customer Info'!$D$19),)","v":0},{"$f":"IF($F$5=\"other\",IF(U147=0,,(U147/$E$7)*'Customer Info'!$D$19),)","v":0},0,{"$f":"IF($F$6=\"breakfast\",IF(R147=0,,(R147/$E$4)*'Customer Info'!$D$20),)","v":0},{"$f":"IF($F$6=\"lunch\",IF(S147=0,,(S147/$E$5)*'Customer Info'!$D$20),)","v":0},{"$f":"IF($F$6=\"other\",IF(U147=0,,(U147/$E$7)*'Customer Info'!$D$20),)","v":0},0,{"$f":"IF($F$7=\"breakfast\",IF(R147=0,,(R147/$E$4)*'Customer Info'!$D$21),)","v":0},{"$f":"IF($F$7=\"lunch\",IF(S147=0,,(S147/$E$5)*'Customer Info'!$D$21),)","v":0},{"$f":"IF($F$7=\"dinner\",IF(T147=0,,(T147/$E$6)*'Customer Info'!$D$21),)","v":0},0,{"$f":"IF($F$10=\"lunch\",IF(W147=0,,(W147/$E$11)*'Customer Info'!$F$18),)","v":0},{"$f":"IF($F$10=\"dinner\",IF(X147=0,,(X147/$E$12)*'Customer Info'!$F$18),)","v":0},{"$f":"IF($F$10=\"other\",IF(Y147=0,,(Y147/$E$13)*'Customer Info'!$F$18),)","v":0},0,{"$f":"IF($F$11=\"breakfast\",IF(V147=0,,(V147/$E$10)*'Customer Info'!$F$19),)","v":0},{"$f":"IF($F$11=\"dinner\",IF(X147=0,,(X147/$E$12)*'Customer Info'!$F$19),)","v":0},{"$f":"IF($F$11=\"other\",IF(Y147=0,,(Y147/$E$13)*'Customer Info'!$F$19),)","v":0},0,{"$f":"IF($F$12=\"breakfast\",IF(V147=0,,(V147/$E$10)*'Customer Info'!$F$20),)","v":0},{"$f":"IF($F$12=\"lunch\",IF(W147=0,,(W147/$E$11)*'Customer Info'!$F$20),)","v":0},{"$f":"IF($F$12=\"other\",IF(Y147=0,,(Y147/$E$13)*'Customer Info'!$F$20),)","v":0},0,{"$f":"IF($F$13=\"breakfast\",IF(V147=0,,(V147/$E$10)*'Customer Info'!$F$21),)","v":0},{"$f":"IF($F$13=\"lunch\",IF(W147=0,,(W147/$E$11)*'Customer Info'!$F$21),)","v":0},{"$f":"IF($F$13=\"dinner\",IF(X147=0,,(X147/$E$12)*'Customer Info'!$F$21),)","v":0},0,{"$f":"IF($F$16=\"lunch\",IF(AA147=0,,(AA147/$E$17)*'Customer Info'!$H$18),)","v":0},{"$f":"IF($F$16=\"dinner\",IF(AB147=0,,(AB147/$E$18)*'Customer Info'!$H$18),)","v":0},{"$f":"IF($F$16=\"other\",IF(AC147=0,,(AC147/$E$19)*'Customer Info'!$H$18),)","v":0},0,{"$f":"IF($F$17=\"breakfast\",IF(Z147=0,,(Z147/$E$16)*'Customer Info'!$H$19),)","v":0},{"$f":"IF($F$17=\"dinner\",IF(AB147=0,,(AB147/$E$18)*'Customer Info'!$H$19),)","v":0},{"$f":"IF($F$17=\"other\",IF(AC147=0,,(AC147/$E$19)*'Customer Info'!$H$19),)","v":0},0,{"$f":"IF($F$18=\"breakfast\",IF(Z147=0,,(Z147/$E$16)*'Customer Info'!$H$20),)","v":0},{"$f":"IF($F$18=\"lunch\",IF(AA147=0,,(AA147/$E$17)*'Customer Info'!$H$20),)","v":0},{"$f":"IF($F$18=\"other\",IF(AC147=0,,(AC147/$E$19)*'Customer Info'!$H$20),)","v":0},0,{"$f":"IF($F$19=\"breakfast\",IF(Z147=0,,(Z147/$E$16)*'Customer Info'!$H$21),)","v":0},{"$f":"IF($F$19=\"lunch\",IF(AA147=0,,(AA147/$E$17)*'Customer Info'!$H$21),)","v":0},{"$f":"IF($F$19=\"dinner\",IF(AB147=0,,(AB147/$E$18)*'Customer Info'!$H$21),)","v":0},0,0,0,0,0,""]
[null,null,null,null,null,null,null,null,null,null,0,0,0,0,0,0,0,0,0,0,0,0,0,0,0,0,0,0,0,0,0,0,0,{"$f":"IF((OR($F$4=0,$F$4=\"none\")),IF(R148=0,,IF(OR($E$4='Customer Info'!$D$18,$E$4=0),R148,(R148/$E$4)*'Customer Info'!$D$18)),)","v":0},{"$f":"IF((OR($F$5=0,$F$5=\"none\")),IF(S148=0,,IF(OR($E$5='Customer Info'!$D$18,$E$5=0),S148,(S148/$E$5)*'Customer Info'!$D$19)),)","v":0},{"$f":"IF((OR($F$6=0,$F$6=\"none\")),IF(T148=0,,IF(OR($E$6='Customer Info'!$D$18,$E$6=0),T148,(T148/$E$6)*'Customer Info'!$D$20)),)","v":0},{"$f":"IF((OR($F$7=0,$F$7=\"none\")),IF(U148=0,,IF(OR($E$7='Customer Info'!$D$18,$E$7=0),U148,(U148/$E$7)*'Customer Info'!$D$21)),)","v":0},{"$f":"IF((OR($F$10=0,$F$10=\"none\")),IF(V148=0,,IF(OR($E$10='Customer Info'!$F$18,$E$10=0),V148,(V148/$E$10)*'Customer Info'!$F$18)),)","v":0},{"$f":"IF((OR($F$11=0,$F$11=\"none\")),IF(W148=0,,IF(OR($E$11='Customer Info'!$F$19,$E$11=0),W148,(W148/$E$11)*'Customer Info'!$F$19)),)","v":0},{"$f":"IF((OR($F$12=0,$F$12=\"none\")),IF(X148=0,,IF(OR($E$12='Customer Info'!$F$20,$E$12=0),X148,(X148/$E$12)*'Customer Info'!$F$20)),)","v":0},{"$f":"IF((OR($F$13=0,$F$13=\"none\")),IF(Y148=0,,IF(OR($E$13='Customer Info'!$F$21,$E$13=0),Y148,(Y148/$E$13)*'Customer Info'!$F$21)),)","v":0},{"$f":"IF((OR($F$16=0,$F$16=\"none\")),IF(Z148=0,,IF(OR($E$16='Customer Info'!$H$18,$E$16=0),Z148,(Z148/$E$16)*'Customer Info'!$H$18)),)","v":0},{"$f":"IF((OR($F$17=0,$F$17=\"none\")),IF(AA148=0,,IF(OR($E$17='Customer Info'!$H$19,$E$17=0),AA148,(AA148/$E$17)*'Customer Info'!$H$19)),)","v":0},{"$f":"IF((OR($F$18=0,$F$18=\"none\")),IF(AB148=0,,IF(OR($E$18='Customer Info'!$H$20,$E$18=0),AB148,(AB148/$E$18)*'Customer Info'!$H$20)),)","v":0},{"$f":"IF((OR($F$19=0,$F$19=\"none\")),IF(AC148=0,,IF(OR($E$19='Customer Info'!$H$21,$E$19=0),AC148,(AC148/$E$19)*'Customer Info'!$H$21)),)","v":0},{"$f":"IF((OR($F$4=0,$F$4=\"none\")),IF(AD148=0,,IF(OR($E$4='Customer Info'!$D$18,$E$4=0),AD148,(AD148/$E$4)*'Customer Info'!$D$18)),)","v":0},{"$f":"IF((OR($F$5=0,$F$5=\"none\")),IF(AE148=0,,IF(OR($E$5='Customer Info'!$D$19,$E$5=0),AE148,(AE148/$E$5)*'Customer Info'!$D$19)),)","v":0},{"$f":"IF((OR($F$6=0,$F$6=\"none\")),IF(AF148=0,,IF(OR($E$6='Customer Info'!$D$20,$E$6=0),AF148,(AF148/$E$6)*'Customer Info'!$D$20)),)","v":0},{"$f":"IF((OR($F$7=0,$F$7=\"none\")),IF(AG148=0,,IF(OR($E$7='Customer Info'!$D$21,$E$7=0),AG148,(AG148/$E$7)*'Customer Info'!$D$21)),)","v":0},0,0,{"$f":"IF(E148=\"plate waste\",,IF('Customer Info'!$M$18=0,'Log Sheet'!AY148,'Customer Info'!$M$18*'Log Sheet'!AY148))","v":0},{"$f":"IF(E148=\"plate waste\",IF(OR(C148=\"patient\",C148=\"patient beverages\"),IF('Customer Info'!$M$27=0,AY148*'Customer Info'!$M$18,AY148*'Customer Info'!$M$27),IF(C148=\"cafeteria\",IF('Customer Info'!$M$28=0,AY148*'Customer Info'!$M$18,AY148*'Customer Info'!$M$28),IF(C148=\"other1\",IF('Customer Info'!$M$29=0,AY148*'Customer Info'!$M$18,AY148*'Customer Info'!$M$29),))),)","v":0},0,{"$f":"IF($F$4=\"lunch\",IF(S148=0,,(S148/$E$5)*'Customer Info'!$D$18),)","v":0},{"$f":"IF($F$4=\"dinner\",IF(T148=0,,(T148/$E$6)*'Customer Info'!$D$18),)","v":0},{"$f":"IF($F$4=\"other\",IF(U148=0,,(U148/$E$7)*'Customer Info'!$D$18),)","v":0},0,{"$f":"IF($F$5=\"breakfast\",IF(R148=0,,(R148/$E$4)*'Customer Info'!$D$19),)","v":0},{"$f":"IF($F$5=\"dinner\",IF(T148=0,,(T148/$E$6)*'Customer Info'!$D$19),)","v":0},{"$f":"IF($F$5=\"other\",IF(U148=0,,(U148/$E$7)*'Customer Info'!$D$19),)","v":0},0,{"$f":"IF($F$6=\"breakfast\",IF(R148=0,,(R148/$E$4)*'Customer Info'!$D$20),)","v":0},{"$f":"IF($F$6=\"lunch\",IF(S148=0,,(S148/$E$5)*'Customer Info'!$D$20),)","v":0},{"$f":"IF($F$6=\"other\",IF(U148=0,,(U148/$E$7)*'Customer Info'!$D$20),)","v":0},0,{"$f":"IF($F$7=\"breakfast\",IF(R148=0,,(R148/$E$4)*'Customer Info'!$D$21),)","v":0},{"$f":"IF($F$7=\"lunch\",IF(S148=0,,(S148/$E$5)*'Customer Info'!$D$21),)","v":0},{"$f":"IF($F$7=\"dinner\",IF(T148=0,,(T148/$E$6)*'Customer Info'!$D$21),)","v":0},0,{"$f":"IF($F$10=\"lunch\",IF(W148=0,,(W148/$E$11)*'Customer Info'!$F$18),)","v":0},{"$f":"IF($F$10=\"dinner\",IF(X148=0,,(X148/$E$12)*'Customer Info'!$F$18),)","v":0},{"$f":"IF($F$10=\"other\",IF(Y148=0,,(Y148/$E$13)*'Customer Info'!$F$18),)","v":0},0,{"$f":"IF($F$11=\"breakfast\",IF(V148=0,,(V148/$E$10)*'Customer Info'!$F$19),)","v":0},{"$f":"IF($F$11=\"dinner\",IF(X148=0,,(X148/$E$12)*'Customer Info'!$F$19),)","v":0},{"$f":"IF($F$11=\"other\",IF(Y148=0,,(Y148/$E$13)*'Customer Info'!$F$19),)","v":0},0,{"$f":"IF($F$12=\"breakfast\",IF(V148=0,,(V148/$E$10)*'Customer Info'!$F$20),)","v":0},{"$f":"IF($F$12=\"lunch\",IF(W148=0,,(W148/$E$11)*'Customer Info'!$F$20),)","v":0},{"$f":"IF($F$12=\"other\",IF(Y148=0,,(Y148/$E$13)*'Customer Info'!$F$20),)","v":0},0,{"$f":"IF($F$13=\"breakfast\",IF(V148=0,,(V148/$E$10)*'Customer Info'!$F$21),)","v":0},{"$f":"IF($F$13=\"lunch\",IF(W148=0,,(W148/$E$11)*'Customer Info'!$F$21),)","v":0},{"$f":"IF($F$13=\"dinner\",IF(X148=0,,(X148/$E$12)*'Customer Info'!$F$21),)","v":0},0,{"$f":"IF($F$16=\"lunch\",IF(AA148=0,,(AA148/$E$17)*'Customer Info'!$H$18),)","v":0},{"$f":"IF($F$16=\"dinner\",IF(AB148=0,,(AB148/$E$18)*'Customer Info'!$H$18),)","v":0},{"$f":"IF($F$16=\"other\",IF(AC148=0,,(AC148/$E$19)*'Customer Info'!$H$18),)","v":0},0,{"$f":"IF($F$17=\"breakfast\",IF(Z148=0,,(Z148/$E$16)*'Customer Info'!$H$19),)","v":0},{"$f":"IF($F$17=\"dinner\",IF(AB148=0,,(AB148/$E$18)*'Customer Info'!$H$19),)","v":0},{"$f":"IF($F$17=\"other\",IF(AC148=0,,(AC148/$E$19)*'Customer Info'!$H$19),)","v":0},0,{"$f":"IF($F$18=\"breakfast\",IF(Z148=0,,(Z148/$E$16)*'Customer Info'!$H$20),)","v":0},{"$f":"IF($F$18=\"lunch\",IF(AA148=0,,(AA148/$E$17)*'Customer Info'!$H$20),)","v":0},{"$f":"IF($F$18=\"other\",IF(AC148=0,,(AC148/$E$19)*'Customer Info'!$H$20),)","v":0},0,{"$f":"IF($F$19=\"breakfast\",IF(Z148=0,,(Z148/$E$16)*'Customer Info'!$H$21),)","v":0},{"$f":"IF($F$19=\"lunch\",IF(AA148=0,,(AA148/$E$17)*'Customer Info'!$H$21),)","v":0},{"$f":"IF($F$19=\"dinner\",IF(AB148=0,,(AB148/$E$18)*'Customer Info'!$H$21),)","v":0},0,0,0,0,0,""]
[null,null,null,null,null,null,null,null,null,null,0,0,0,0,0,0,0,0,0,0,0,0,0,0,0,0,0,0,0,0,0,0,0,{"$f":"IF((OR($F$4=0,$F$4=\"none\")),IF(R149=0,,IF(OR($E$4='Customer Info'!$D$18,$E$4=0),R149,(R149/$E$4)*'Customer Info'!$D$18)),)","v":0},{"$f":"IF((OR($F$5=0,$F$5=\"none\")),IF(S149=0,,IF(OR($E$5='Customer Info'!$D$18,$E$5=0),S149,(S149/$E$5)*'Customer Info'!$D$19)),)","v":0},{"$f":"IF((OR($F$6=0,$F$6=\"none\")),IF(T149=0,,IF(OR($E$6='Customer Info'!$D$18,$E$6=0),T149,(T149/$E$6)*'Customer Info'!$D$20)),)","v":0},{"$f":"IF((OR($F$7=0,$F$7=\"none\")),IF(U149=0,,IF(OR($E$7='Customer Info'!$D$18,$E$7=0),U149,(U149/$E$7)*'Customer Info'!$D$21)),)","v":0},{"$f":"IF((OR($F$10=0,$F$10=\"none\")),IF(V149=0,,IF(OR($E$10='Customer Info'!$F$18,$E$10=0),V149,(V149/$E$10)*'Customer Info'!$F$18)),)","v":0},{"$f":"IF((OR($F$11=0,$F$11=\"none\")),IF(W149=0,,IF(OR($E$11='Customer Info'!$F$19,$E$11=0),W149,(W149/$E$11)*'Customer Info'!$F$19)),)","v":0},{"$f":"IF((OR($F$12=0,$F$12=\"none\")),IF(X149=0,,IF(OR($E$12='Customer Info'!$F$20,$E$12=0),X149,(X149/$E$12)*'Customer Info'!$F$20)),)","v":0},{"$f":"IF((OR($F$13=0,$F$13=\"none\")),IF(Y149=0,,IF(OR($E$13='Customer Info'!$F$21,$E$13=0),Y149,(Y149/$E$13)*'Customer Info'!$F$21)),)","v":0},{"$f":"IF((OR($F$16=0,$F$16=\"none\")),IF(Z149=0,,IF(OR($E$16='Customer Info'!$H$18,$E$16=0),Z149,(Z149/$E$16)*'Customer Info'!$H$18)),)","v":0},{"$f":"IF((OR($F$17=0,$F$17=\"none\")),IF(AA149=0,,IF(OR($E$17='Customer Info'!$H$19,$E$17=0),AA149,(AA149/$E$17)*'Customer Info'!$H$19)),)","v":0},{"$f":"IF((OR($F$18=0,$F$18=\"none\")),IF(AB149=0,,IF(OR($E$18='Customer Info'!$H$20,$E$18=0),AB149,(AB149/$E$18)*'Customer Info'!$H$20)),)","v":0},{"$f":"IF((OR($F$19=0,$F$19=\"none\")),IF(AC149=0,,IF(OR($E$19='Customer Info'!$H$21,$E$19=0),AC149,(AC149/$E$19)*'Customer Info'!$H$21)),)","v":0},{"$f":"IF((OR($F$4=0,$F$4=\"none\")),IF(AD149=0,,IF(OR($E$4='Customer Info'!$D$18,$E$4=0),AD149,(AD149/$E$4)*'Customer Info'!$D$18)),)","v":0},{"$f":"IF((OR($F$5=0,$F$5=\"none\")),IF(AE149=0,,IF(OR($E$5='Customer Info'!$D$19,$E$5=0),AE149,(AE149/$E$5)*'Customer Info'!$D$19)),)","v":0},{"$f":"IF((OR($F$6=0,$F$6=\"none\")),IF(AF149=0,,IF(OR($E$6='Customer Info'!$D$20,$E$6=0),AF149,(AF149/$E$6)*'Customer Info'!$D$20)),)","v":0},{"$f":"IF((OR($F$7=0,$F$7=\"none\")),IF(AG149=0,,IF(OR($E$7='Customer Info'!$D$21,$E$7=0),AG149,(AG149/$E$7)*'Customer Info'!$D$21)),)","v":0},0,0,{"$f":"IF(E149=\"plate waste\",,IF('Customer Info'!$M$18=0,'Log Sheet'!AY149,'Customer Info'!$M$18*'Log Sheet'!AY149))","v":0},{"$f":"IF(E149=\"plate waste\",IF(OR(C149=\"patient\",C149=\"patient beverages\"),IF('Customer Info'!$M$27=0,AY149*'Customer Info'!$M$18,AY149*'Customer Info'!$M$27),IF(C149=\"cafeteria\",IF('Customer Info'!$M$28=0,AY149*'Customer Info'!$M$18,AY149*'Customer Info'!$M$28),IF(C149=\"other1\",IF('Customer Info'!$M$29=0,AY149*'Customer Info'!$M$18,AY149*'Customer Info'!$M$29),))),)","v":0},0,{"$f":"IF($F$4=\"lunch\",IF(S149=0,,(S149/$E$5)*'Customer Info'!$D$18),)","v":0},{"$f":"IF($F$4=\"dinner\",IF(T149=0,,(T149/$E$6)*'Customer Info'!$D$18),)","v":0},{"$f":"IF($F$4=\"other\",IF(U149=0,,(U149/$E$7)*'Customer Info'!$D$18),)","v":0},0,{"$f":"IF($F$5=\"breakfast\",IF(R149=0,,(R149/$E$4)*'Customer Info'!$D$19),)","v":0},{"$f":"IF($F$5=\"dinner\",IF(T149=0,,(T149/$E$6)*'Customer Info'!$D$19),)","v":0},{"$f":"IF($F$5=\"other\",IF(U149=0,,(U149/$E$7)*'Customer Info'!$D$19),)","v":0},0,{"$f":"IF($F$6=\"breakfast\",IF(R149=0,,(R149/$E$4)*'Customer Info'!$D$20),)","v":0},{"$f":"IF($F$6=\"lunch\",IF(S149=0,,(S149/$E$5)*'Customer Info'!$D$20),)","v":0},{"$f":"IF($F$6=\"other\",IF(U149=0,,(U149/$E$7)*'Customer Info'!$D$20),)","v":0},0,{"$f":"IF($F$7=\"breakfast\",IF(R149=0,,(R149/$E$4)*'Customer Info'!$D$21),)","v":0},{"$f":"IF($F$7=\"lunch\",IF(S149=0,,(S149/$E$5)*'Customer Info'!$D$21),)","v":0},{"$f":"IF($F$7=\"dinner\",IF(T149=0,,(T149/$E$6)*'Customer Info'!$D$21),)","v":0},0,{"$f":"IF($F$10=\"lunch\",IF(W149=0,,(W149/$E$11)*'Customer Info'!$F$18),)","v":0},{"$f":"IF($F$10=\"dinner\",IF(X149=0,,(X149/$E$12)*'Customer Info'!$F$18),)","v":0},{"$f":"IF($F$10=\"other\",IF(Y149=0,,(Y149/$E$13)*'Customer Info'!$F$18),)","v":0},0,{"$f":"IF($F$11=\"breakfast\",IF(V149=0,,(V149/$E$10)*'Customer Info'!$F$19),)","v":0},{"$f":"IF($F$11=\"dinner\",IF(X149=0,,(X149/$E$12)*'Customer Info'!$F$19),)","v":0},{"$f":"IF($F$11=\"other\",IF(Y149=0,,(Y149/$E$13)*'Customer Info'!$F$19),)","v":0},0,{"$f":"IF($F$12=\"breakfast\",IF(V149=0,,(V149/$E$10)*'Customer Info'!$F$20),)","v":0},{"$f":"IF($F$12=\"lunch\",IF(W149=0,,(W149/$E$11)*'Customer Info'!$F$20),)","v":0},{"$f":"IF($F$12=\"other\",IF(Y149=0,,(Y149/$E$13)*'Customer Info'!$F$20),)","v":0},0,{"$f":"IF($F$13=\"breakfast\",IF(V149=0,,(V149/$E$10)*'Customer Info'!$F$21),)","v":0},{"$f":"IF($F$13=\"lunch\",IF(W149=0,,(W149/$E$11)*'Customer Info'!$F$21),)","v":0},{"$f":"IF($F$13=\"dinner\",IF(X149=0,,(X149/$E$12)*'Customer Info'!$F$21),)","v":0},0,{"$f":"IF($F$16=\"lunch\",IF(AA149=0,,(AA149/$E$17)*'Customer Info'!$H$18),)","v":0},{"$f":"IF($F$16=\"dinner\",IF(AB149=0,,(AB149/$E$18)*'Customer Info'!$H$18),)","v":0},{"$f":"IF($F$16=\"other\",IF(AC149=0,,(AC149/$E$19)*'Customer Info'!$H$18),)","v":0},0,{"$f":"IF($F$17=\"breakfast\",IF(Z149=0,,(Z149/$E$16)*'Customer Info'!$H$19),)","v":0},{"$f":"IF($F$17=\"dinner\",IF(AB149=0,,(AB149/$E$18)*'Customer Info'!$H$19),)","v":0},{"$f":"IF($F$17=\"other\",IF(AC149=0,,(AC149/$E$19)*'Customer Info'!$H$19),)","v":0},0,{"$f":"IF($F$18=\"breakfast\",IF(Z149=0,,(Z149/$E$16)*'Customer Info'!$H$20),)","v":0},{"$f":"IF($F$18=\"lunch\",IF(AA149=0,,(AA149/$E$17)*'Customer Info'!$H$20),)","v":0},{"$f":"IF($F$18=\"other\",IF(AC149=0,,(AC149/$E$19)*'Customer Info'!$H$20),)","v":0},0,{"$f":"IF($F$19=\"breakfast\",IF(Z149=0,,(Z149/$E$16)*'Customer Info'!$H$21),)","v":0},{"$f":"IF($F$19=\"lunch\",IF(AA149=0,,(AA149/$E$17)*'Customer Info'!$H$21),)","v":0},{"$f":"IF($F$19=\"dinner\",IF(AB149=0,,(AB149/$E$18)*'Customer Info'!$H$21),)","v":0},0,0,0,0,0,""]
[null,null,null,null,null,null,null,null,null,null,0,0,0,0,0,0,0,0,0,0,0,0,0,0,0,0,0,0,0,0,0,0,0,{"$f":"IF((OR($F$4=0,$F$4=\"none\")),IF(R150=0,,IF(OR($E$4='Customer Info'!$D$18,$E$4=0),R150,(R150/$E$4)*'Customer Info'!$D$18)),)","v":0},{"$f":"IF((OR($F$5=0,$F$5=\"none\")),IF(S150=0,,IF(OR($E$5='Customer Info'!$D$18,$E$5=0),S150,(S150/$E$5)*'Customer Info'!$D$19)),)","v":0},{"$f":"IF((OR($F$6=0,$F$6=\"none\")),IF(T150=0,,IF(OR($E$6='Customer Info'!$D$18,$E$6=0),T150,(T150/$E$6)*'Customer Info'!$D$20)),)","v":0},{"$f":"IF((OR($F$7=0,$F$7=\"none\")),IF(U150=0,,IF(OR($E$7='Customer Info'!$D$18,$E$7=0),U150,(U150/$E$7)*'Customer Info'!$D$21)),)","v":0},{"$f":"IF((OR($F$10=0,$F$10=\"none\")),IF(V150=0,,IF(OR($E$10='Customer Info'!$F$18,$E$10=0),V150,(V150/$E$10)*'Customer Info'!$F$18)),)","v":0},{"$f":"IF((OR($F$11=0,$F$11=\"none\")),IF(W150=0,,IF(OR($E$11='Customer Info'!$F$19,$E$11=0),W150,(W150/$E$11)*'Customer Info'!$F$19)),)","v":0},{"$f":"IF((OR($F$12=0,$F$12=\"none\")),IF(X150=0,,IF(OR($E$12='Customer Info'!$F$20,$E$12=0),X150,(X150/$E$12)*'Customer Info'!$F$20)),)","v":0},{"$f":"IF((OR($F$13=0,$F$13=\"none\")),IF(Y150=0,,IF(OR($E$13='Customer Info'!$F$21,$E$13=0),Y150,(Y150/$E$13)*'Customer Info'!$F$21)),)","v":0},{"$f":"IF((OR($F$16=0,$F$16=\"none\")),IF(Z150=0,,IF(OR($E$16='Customer Info'!$H$18,$E$16=0),Z150,(Z150/$E$16)*'Customer Info'!$H$18)),)","v":0},{"$f":"IF((OR($F$17=0,$F$17=\"none\")),IF(AA150=0,,IF(OR($E$17='Customer Info'!$H$19,$E$17=0),AA150,(AA150/$E$17)*'Customer Info'!$H$19)),)","v":0},{"$f":"IF((OR($F$18=0,$F$18=\"none\")),IF(AB150=0,,IF(OR($E$18='Customer Info'!$H$20,$E$18=0),AB150,(AB150/$E$18)*'Customer Info'!$H$20)),)","v":0},{"$f":"IF((OR($F$19=0,$F$19=\"none\")),IF(AC150=0,,IF(OR($E$19='Customer Info'!$H$21,$E$19=0),AC150,(AC150/$E$19)*'Customer Info'!$H$21)),)","v":0},{"$f":"IF((OR($F$4=0,$F$4=\"none\")),IF(AD150=0,,IF(OR($E$4='Customer Info'!$D$18,$E$4=0),AD150,(AD150/$E$4)*'Customer Info'!$D$18)),)","v":0},{"$f":"IF((OR($F$5=0,$F$5=\"none\")),IF(AE150=0,,IF(OR($E$5='Customer Info'!$D$19,$E$5=0),AE150,(AE150/$E$5)*'Customer Info'!$D$19)),)","v":0},{"$f":"IF((OR($F$6=0,$F$6=\"none\")),IF(AF150=0,,IF(OR($E$6='Customer Info'!$D$20,$E$6=0),AF150,(AF150/$E$6)*'Customer Info'!$D$20)),)","v":0},{"$f":"IF((OR($F$7=0,$F$7=\"none\")),IF(AG150=0,,IF(OR($E$7='Customer Info'!$D$21,$E$7=0),AG150,(AG150/$E$7)*'Customer Info'!$D$21)),)","v":0},0,0,{"$f":"IF(E150=\"plate waste\",,IF('Customer Info'!$M$18=0,'Log Sheet'!AY150,'Customer Info'!$M$18*'Log Sheet'!AY150))","v":0},{"$f":"IF(E150=\"plate waste\",IF(OR(C150=\"patient\",C150=\"patient beverages\"),IF('Customer Info'!$M$27=0,AY150*'Customer Info'!$M$18,AY150*'Customer Info'!$M$27),IF(C150=\"cafeteria\",IF('Customer Info'!$M$28=0,AY150*'Customer Info'!$M$18,AY150*'Customer Info'!$M$28),IF(C150=\"other1\",IF('Customer Info'!$M$29=0,AY150*'Customer Info'!$M$18,AY150*'Customer Info'!$M$29),))),)","v":0},0,{"$f":"IF($F$4=\"lunch\",IF(S150=0,,(S150/$E$5)*'Customer Info'!$D$18),)","v":0},{"$f":"IF($F$4=\"dinner\",IF(T150=0,,(T150/$E$6)*'Customer Info'!$D$18),)","v":0},{"$f":"IF($F$4=\"other\",IF(U150=0,,(U150/$E$7)*'Customer Info'!$D$18),)","v":0},0,{"$f":"IF($F$5=\"breakfast\",IF(R150=0,,(R150/$E$4)*'Customer Info'!$D$19),)","v":0},{"$f":"IF($F$5=\"dinner\",IF(T150=0,,(T150/$E$6)*'Customer Info'!$D$19),)","v":0},{"$f":"IF($F$5=\"other\",IF(U150=0,,(U150/$E$7)*'Customer Info'!$D$19),)","v":0},0,{"$f":"IF($F$6=\"breakfast\",IF(R150=0,,(R150/$E$4)*'Customer Info'!$D$20),)","v":0},{"$f":"IF($F$6=\"lunch\",IF(S150=0,,(S150/$E$5)*'Customer Info'!$D$20),)","v":0},{"$f":"IF($F$6=\"other\",IF(U150=0,,(U150/$E$7)*'Customer Info'!$D$20),)","v":0},0,{"$f":"IF($F$7=\"breakfast\",IF(R150=0,,(R150/$E$4)*'Customer Info'!$D$21),)","v":0},{"$f":"IF($F$7=\"lunch\",IF(S150=0,,(S150/$E$5)*'Customer Info'!$D$21),)","v":0},{"$f":"IF($F$7=\"dinner\",IF(T150=0,,(T150/$E$6)*'Customer Info'!$D$21),)","v":0},0,{"$f":"IF($F$10=\"lunch\",IF(W150=0,,(W150/$E$11)*'Customer Info'!$F$18),)","v":0},{"$f":"IF($F$10=\"dinner\",IF(X150=0,,(X150/$E$12)*'Customer Info'!$F$18),)","v":0},{"$f":"IF($F$10=\"other\",IF(Y150=0,,(Y150/$E$13)*'Customer Info'!$F$18),)","v":0},0,{"$f":"IF($F$11=\"breakfast\",IF(V150=0,,(V150/$E$10)*'Customer Info'!$F$19),)","v":0},{"$f":"IF($F$11=\"dinner\",IF(X150=0,,(X150/$E$12)*'Customer Info'!$F$19),)","v":0},{"$f":"IF($F$11=\"other\",IF(Y150=0,,(Y150/$E$13)*'Customer Info'!$F$19),)","v":0},0,{"$f":"IF($F$12=\"breakfast\",IF(V150=0,,(V150/$E$10)*'Customer Info'!$F$20),)","v":0},{"$f":"IF($F$12=\"lunch\",IF(W150=0,,(W150/$E$11)*'Customer Info'!$F$20),)","v":0},{"$f":"IF($F$12=\"other\",IF(Y150=0,,(Y150/$E$13)*'Customer Info'!$F$20),)","v":0},0,{"$f":"IF($F$13=\"breakfast\",IF(V150=0,,(V150/$E$10)*'Customer Info'!$F$21),)","v":0},{"$f":"IF($F$13=\"lunch\",IF(W150=0,,(W150/$E$11)*'Customer Info'!$F$21),)","v":0},{"$f":"IF($F$13=\"dinner\",IF(X150=0,,(X150/$E$12)*'Customer Info'!$F$21),)","v":0},0,{"$f":"IF($F$16=\"lunch\",IF(AA150=0,,(AA150/$E$17)*'Customer Info'!$H$18),)","v":0},{"$f":"IF($F$16=\"dinner\",IF(AB150=0,,(AB150/$E$18)*'Customer Info'!$H$18),)","v":0},{"$f":"IF($F$16=\"other\",IF(AC150=0,,(AC150/$E$19)*'Customer Info'!$H$18),)","v":0},0,{"$f":"IF($F$17=\"breakfast\",IF(Z150=0,,(Z150/$E$16)*'Customer Info'!$H$19),)","v":0},{"$f":"IF($F$17=\"dinner\",IF(AB150=0,,(AB150/$E$18)*'Customer Info'!$H$19),)","v":0},{"$f":"IF($F$17=\"other\",IF(AC150=0,,(AC150/$E$19)*'Customer Info'!$H$19),)","v":0},0,{"$f":"IF($F$18=\"breakfast\",IF(Z150=0,,(Z150/$E$16)*'Customer Info'!$H$20),)","v":0},{"$f":"IF($F$18=\"lunch\",IF(AA150=0,,(AA150/$E$17)*'Customer Info'!$H$20),)","v":0},{"$f":"IF($F$18=\"other\",IF(AC150=0,,(AC150/$E$19)*'Customer Info'!$H$20),)","v":0},0,{"$f":"IF($F$19=\"breakfast\",IF(Z150=0,,(Z150/$E$16)*'Customer Info'!$H$21),)","v":0},{"$f":"IF($F$19=\"lunch\",IF(AA150=0,,(AA150/$E$17)*'Customer Info'!$H$21),)","v":0},{"$f":"IF($F$19=\"dinner\",IF(AB150=0,,(AB150/$E$18)*'Customer Info'!$H$21),)","v":0},0,0,0,0,0,""]
[null,null,null,null,null,null,null,null,null,null,{"$f":"H151-G151","v":0},0,{"$f":"IF(E151=\"plate waste\",K151,)","v":0},{"$f":"IF(M151=0,,IF(C151=\"patient\",K151,))","v":0},0,{"$f":"IF(M151=0,,IF(C151=\"other1\",K151,))","v":0},{"$f":"IF(C151=\"patient beverages\",K151,0)","v":0},{"$f":"IF(N151=0,,IF(A151=\"breakfast\",K151,))","v":0},{"$f":"IF(N151=0,,IF(A151=\"lunch\",K151,))","v":0},{"$f":"IF(N151=0,,IF(A151=\"dinner\",K151,))","v":0},{"$f":"IF(N151=0,,IF(A151=\"other\",K151,))","v":0},{"$f":"IF(O151=0,,IF(A151=\"breakfast\",K151,))","v":0},{"$f":"IF(O151=0,,IF(A151=\"lunch\",K151,))","v":0},{"$f":"IF(O151=0,,IF(A151=\"dinner\",K151,))","v":0},{"$f":"IF(O151=0,,IF(A151=\"other\",K151,))","v":0},{"$f":"IF(P151=0,,IF(A151=\"breakfast\",K151,))","v":0},{"$f":"IF(P151=0,,IF(A151=\"lunch\",K151,))","v":0},{"$f":"IF(P151=0,,IF(A151=\"dinner\",K151,))","v":0},{"$f":"IF(P151=0,,IF(A151=\"other\",K151,))","v":0},{"$f":"IF(Q151=0,,IF(A151=\"breakfast\",Q151,))","v":0},{"$f":"IF(Q151=0,,IF(A151=\"lunch\",Q151,))","v":0},{"$f":"IF(Q151=0,,IF(A151=\"dinner\",Q151,))","v":0},{"$f":"IF(Q151=0,,IF(A151=\"other\",Q151,))","v":0},{"$f":"IF((OR($F$4=0,$F$4=\"none\")),IF(R151=0,,IF(OR($E$4='Customer Info'!$D$18,$E$4=0),R151,(R151/$E$4)*'Customer Info'!$D$18)),)","v":0},{"$f":"IF((OR($F$5=0,$F$5=\"none\")),IF(S151=0,,IF(OR($E$5='Customer Info'!$D$18,$E$5=0),S151,(S151/$E$5)*'Customer Info'!$D$19)),)","v":0},{"$f":"IF((OR($F$6=0,$F$6=\"none\")),IF(T151=0,,IF(OR($E$6='Customer Info'!$D$18,$E$6=0),T151,(T151/$E$6)*'Customer Info'!$D$20)),)","v":0},{"$f":"IF((OR($F$7=0,$F$7=\"none\")),IF(U151=0,,IF(OR($E$7='Customer Info'!$D$18,$E$7=0),U151,(U151/$E$7)*'Customer Info'!$D$21)),)","v":0},{"$f":"IF((OR($F$10=0,$F$10=\"none\")),IF(V151=0,,IF(OR($E$10='Customer Info'!$F$18,$E$10=0),V151,(V151/$E$10)*'Customer Info'!$F$18)),)","v":0},{"$f":"IF((OR($F$11=0,$F$11=\"none\")),IF(W151=0,,IF(OR($E$11='Customer Info'!$F$19,$E$11=0),W151,(W151/$E$11)*'Customer Info'!$F$19)),)","v":0},{"$f":"IF((OR($F$12=0,$F$12=\"none\")),IF(X151=0,,IF(OR($E$12='Customer Info'!$F$20,$E$12=0),X151,(X151/$E$12)*'Customer Info'!$F$20)),)","v":0},{"$f":"IF((OR($F$13=0,$F$13=\"none\")),IF(Y151=0,,IF(OR($E$13='Customer Info'!$F$21,$E$13=0),Y151,(Y151/$E$13)*'Customer Info'!$F$21)),)","v":0},{"$f":"IF((OR($F$16=0,$F$16=\"none\")),IF(Z151=0,,IF(OR($E$16='Customer Info'!$H$18,$E$16=0),Z151,(Z151/$E$16)*'Customer Info'!$H$18)),)","v":0},{"$f":"IF((OR($F$17=0,$F$17=\"none\")),IF(AA151=0,,IF(OR($E$17='Customer Info'!$H$19,$E$17=0),AA151,(AA151/$E$17)*'Customer Info'!$H$19)),)","v":0},{"$f":"IF((OR($F$18=0,$F$18=\"none\")),IF(AB151=0,,IF(OR($E$18='Customer Info'!$H$20,$E$18=0),AB151,(AB151/$E$18)*'Customer Info'!$H$20)),)","v":0},{"$f":"IF((OR($F$19=0,$F$19=\"none\")),IF(AC151=0,,IF(OR($E$19='Customer Info'!$H$21,$E$19=0),AC151,(AC151/$E$19)*'Customer Info'!$H$21)),)","v":0},{"$f":"IF((OR($F$4=0,$F$4=\"none\")),IF(AD151=0,,IF(OR($E$4='Customer Info'!$D$18,$E$4=0),AD151,(AD151/$E$4)*'Customer Info'!$D$18)),)","v":0},{"$f":"IF((OR($F$5=0,$F$5=\"none\")),IF(AE151=0,,IF(OR($E$5='Customer Info'!$D$19,$E$5=0),AE151,(AE151/$E$5)*'Customer Info'!$D$19)),)","v":0},{"$f":"IF((OR($F$6=0,$F$6=\"none\")),IF(AF151=0,,IF(OR($E$6='Customer Info'!$D$20,$E$6=0),AF151,(AF151/$E$6)*'Customer Info'!$D$20)),)","v":0},{"$f":"IF((OR($F$7=0,$F$7=\"none\")),IF(AG151=0,,IF(OR($E$7='Customer Info'!$D$21,$E$7=0),AG151,(AG151/$E$7)*'Customer Info'!$D$21)),)","v":0},0,{"$f":"IF(AX151=0,(IF(B151=0, K151,K151*24/B151)),(IF(B151=0, AX151,AX151*24/B151)))","v":0},{"$f":"IF(E151=\"plate waste\",,IF('Customer Info'!$M$18=0,'Log Sheet'!AY151,'Customer Info'!$M$18*'Log Sheet'!AY151))","v":0},{"$f":"IF(E151=\"plate waste\",IF(OR(C151=\"patient\",C151=\"patient beverages\"),IF('Customer Info'!$M$27=0,AY151*'Customer Info'!$M$18,AY151*'Customer Info'!$M$27),IF(C151=\"cafeteria\",IF('Customer Info'!$M$28=0,AY151*'Customer Info'!$M$18,AY151*'Customer Info'!$M$28),IF(C151=\"other1\",IF('Customer Info'!$M$29=0,AY151*'Customer Info'!$M$18,AY151*'Customer Info'!$M$29),))),)","v":0},0,{"$f":"IF($F$4=\"lunch\",IF(S151=0,,(S151/$E$5)*'Customer Info'!$D$18),)","v":0},{"$f":"IF($F$4=\"dinner\",IF(T151=0,,(T151/$E$6)*'Customer Info'!$D$18),)","v":0},{"$f":"IF($F$4=\"other\",IF(U151=0,,(U151/$E$7)*'Customer Info'!$D$18),)","v":0},0,{"$f":"IF($F$5=\"breakfast\",IF(R151=0,,(R151/$E$4)*'Customer Info'!$D$19),)","v":0},{"$f":"IF($F$5=\"dinner\",IF(T151=0,,(T151/$E$6)*'Customer Info'!$D$19),)","v":0},{"$f":"IF($F$5=\"other\",IF(U151=0,,(U151/$E$7)*'Customer Info'!$D$19),)","v":0},0,{"$f":"IF($F$6=\"breakfast\",IF(R151=0,,(R151/$E$4)*'Customer Info'!$D$20),)","v":0},{"$f":"IF($F$6=\"lunch\",IF(S151=0,,(S151/$E$5)*'Customer Info'!$D$20),)","v":0},{"$f":"IF($F$6=\"other\",IF(U151=0,,(U151/$E$7)*'Customer Info'!$D$20),)","v":0},0,{"$f":"IF($F$7=\"breakfast\",IF(R151=0,,(R151/$E$4)*'Customer Info'!$D$21),)","v":0},{"$f":"IF($F$7=\"lunch\",IF(S151=0,,(S151/$E$5)*'Customer Info'!$D$21),)","v":0},{"$f":"IF($F$7=\"dinner\",IF(T151=0,,(T151/$E$6)*'Customer Info'!$D$21),)","v":0},0,{"$f":"IF($F$10=\"lunch\",IF(W151=0,,(W151/$E$11)*'Customer Info'!$F$18),)","v":0},{"$f":"IF($F$10=\"dinner\",IF(X151=0,,(X151/$E$12)*'Customer Info'!$F$18),)","v":0},{"$f":"IF($F$10=\"other\",IF(Y151=0,,(Y151/$E$13)*'Customer Info'!$F$18),)","v":0},0,{"$f":"IF($F$11=\"breakfast\",IF(V151=0,,(V151/$E$10)*'Customer Info'!$F$19),)","v":0},{"$f":"IF($F$11=\"dinner\",IF(X151=0,,(X151/$E$12)*'Customer Info'!$F$19),)","v":0},{"$f":"IF($F$11=\"other\",IF(Y151=0,,(Y151/$E$13)*'Customer Info'!$F$19),)","v":0},0,{"$f":"IF($F$12=\"breakfast\",IF(V151=0,,(V151/$E$10)*'Customer Info'!$F$20),)","v":0},{"$f":"IF($F$12=\"lunch\",IF(W151=0,,(W151/$E$11)*'Customer Info'!$F$20),)","v":0},{"$f":"IF($F$12=\"other\",IF(Y151=0,,(Y151/$E$13)*'Customer Info'!$F$20),)","v":0},0,{"$f":"IF($F$13=\"breakfast\",IF(V151=0,,(V151/$E$10)*'Customer Info'!$F$21),)","v":0},{"$f":"IF($F$13=\"lunch\",IF(W151=0,,(W151/$E$11)*'Customer Info'!$F$21),)","v":0},{"$f":"IF($F$13=\"dinner\",IF(X151=0,,(X151/$E$12)*'Customer Info'!$F$21),)","v":0},0,{"$f":"IF($F$16=\"lunch\",IF(AA151=0,,(AA151/$E$17)*'Customer Info'!$H$18),)","v":0},{"$f":"IF($F$16=\"dinner\",IF(AB151=0,,(AB151/$E$18)*'Customer Info'!$H$18),)","v":0},{"$f":"IF($F$16=\"other\",IF(AC151=0,,(AC151/$E$19)*'Customer Info'!$H$18),)","v":0},0,{"$f":"IF($F$17=\"breakfast\",IF(Z151=0,,(Z151/$E$16)*'Customer Info'!$H$19),)","v":0},{"$f":"IF($F$17=\"dinner\",IF(AB151=0,,(AB151/$E$18)*'Customer Info'!$H$19),)","v":0},{"$f":"IF($F$17=\"other\",IF(AC151=0,,(AC151/$E$19)*'Customer Info'!$H$19),)","v":0},0,{"$f":"IF($F$18=\"breakfast\",IF(Z151=0,,(Z151/$E$16)*'Customer Info'!$H$20),)","v":0},{"$f":"IF($F$18=\"lunch\",IF(AA151=0,,(AA151/$E$17)*'Customer Info'!$H$20),)","v":0},{"$f":"IF($F$18=\"other\",IF(AC151=0,,(AC151/$E$19)*'Customer Info'!$H$20),)","v":0},0,{"$f":"IF($F$19=\"breakfast\",IF(Z151=0,,(Z151/$E$16)*'Customer Info'!$H$21),)","v":0},{"$f":"IF($F$19=\"lunch\",IF(AA151=0,,(AA151/$E$17)*'Customer Info'!$H$21),)","v":0},{"$f":"IF($F$19=\"dinner\",IF(AB151=0,,(AB151/$E$18)*'Customer Info'!$H$21),)","v":0},0,{"$f":"IF(E151=\"plate waste\",BB151,)","v":0},{"$f":"IF(E151=\"plate waste\",,BB151)","v":0},0,0,""]
[null,null,null,null,null,null,null,null,null,null,0,{"$f":"BB152","v":0},0,0,{"$f":"IF(M152=0,,IF(C152=\"cafeteria\",M152,))","v":0},0,0,0,0,0,0,0,0,0,0,0,0,0,0,0,0,0,0,{"$f":"IF((OR($F$4=0,$F$4=\"none\")),IF(R152=0,,IF(OR($E$4='Customer Info'!$D$18,$E$4=0),R152,(R152/$E$4)*'Customer Info'!$D$18)),)","v":0},{"$f":"IF((OR($F$5=0,$F$5=\"none\")),IF(S152=0,,IF(OR($E$5='Customer Info'!$D$18,$E$5=0),S152,(S152/$E$5)*'Customer Info'!$D$19)),)","v":0},{"$f":"IF((OR($F$6=0,$F$6=\"none\")),IF(T152=0,,IF(OR($E$6='Customer Info'!$D$18,$E$6=0),T152,(T152/$E$6)*'Customer Info'!$D$20)),)","v":0},{"$f":"IF((OR($F$7=0,$F$7=\"none\")),IF(U152=0,,IF(OR($E$7='Customer Info'!$D$18,$E$7=0),U152,(U152/$E$7)*'Customer Info'!$D$21)),)","v":0},{"$f":"IF((OR($F$10=0,$F$10=\"none\")),IF(V152=0,,IF(OR($E$10='Customer Info'!$F$18,$E$10=0),V152,(V152/$E$10)*'Customer Info'!$F$18)),)","v":0},{"$f":"IF((OR($F$11=0,$F$11=\"none\")),IF(W152=0,,IF(OR($E$11='Customer Info'!$F$19,$E$11=0),W152,(W152/$E$11)*'Customer Info'!$F$19)),)","v":0},{"$f":"IF((OR($F$12=0,$F$12=\"none\")),IF(X152=0,,IF(OR($E$12='Customer Info'!$F$20,$E$12=0),X152,(X152/$E$12)*'Customer Info'!$F$20)),)","v":0},{"$f":"IF((OR($F$13=0,$F$13=\"none\")),IF(Y152=0,,IF(OR($E$13='Customer Info'!$F$21,$E$13=0),Y152,(Y152/$E$13)*'Customer Info'!$F$21)),)","v":0},{"$f":"IF((OR($F$16=0,$F$16=\"none\")),IF(Z152=0,,IF(OR($E$16='Customer Info'!$H$18,$E$16=0),Z152,(Z152/$E$16)*'Customer Info'!$H$18)),)","v":0},{"$f":"IF((OR($F$17=0,$F$17=\"none\")),IF(AA152=0,,IF(OR($E$17='Customer Info'!$H$19,$E$17=0),AA152,(AA152/$E$17)*'Customer Info'!$H$19)),)","v":0},{"$f":"IF((OR($F$18=0,$F$18=\"none\")),IF(AB152=0,,IF(OR($E$18='Customer Info'!$H$20,$E$18=0),AB152,(AB152/$E$18)*'Customer Info'!$H$20)),)","v":0},{"$f":"IF((OR($F$19=0,$F$19=\"none\")),IF(AC152=0,,IF(OR($E$19='Customer Info'!$H$21,$E$19=0),AC152,(AC152/$E$19)*'Customer Info'!$H$21)),)","v":0},{"$f":"IF((OR($F$4=0,$F$4=\"none\")),IF(AD152=0,,IF(OR($E$4='Customer Info'!$D$18,$E$4=0),AD152,(AD152/$E$4)*'Customer Info'!$D$18)),)","v":0},{"$f":"IF((OR($F$5=0,$F$5=\"none\")),IF(AE152=0,,IF(OR($E$5='Customer Info'!$D$19,$E$5=0),AE152,(AE152/$E$5)*'Customer Info'!$D$19)),)","v":0},{"$f":"IF((OR($F$6=0,$F$6=\"none\")),IF(AF152=0,,IF(OR($E$6='Customer Info'!$D$20,$E$6=0),AF152,(AF152/$E$6)*'Customer Info'!$D$20)),)","v":0},{"$f":"IF((OR($F$7=0,$F$7=\"none\")),IF(AG152=0,,IF(OR($E$7='Customer Info'!$D$21,$E$7=0),AG152,(AG152/$E$7)*'Customer Info'!$D$21)),)","v":0},{"$f":"SUM(AH152:AW152)","v":0},0,{"$f":"IF(E152=\"plate waste\",,IF('Customer Info'!$M$18=0,'Log Sheet'!AY152,'Customer Info'!$M$18*'Log Sheet'!AY152))","v":0},{"$f":"IF(E152=\"plate waste\",IF(OR(C152=\"patient\",C152=\"patient beverages\"),IF('Customer Info'!$M$27=0,AY152*'Customer Info'!$M$18,AY152*'Customer Info'!$M$27),IF(C152=\"cafeteria\",IF('Customer Info'!$M$28=0,AY152*'Customer Info'!$M$18,AY152*'Customer Info'!$M$28),IF(C152=\"other1\",IF('Customer Info'!$M$29=0,AY152*'Customer Info'!$M$18,AY152*'Customer Info'!$M$29),))),)","v":0},{"$f":"SUM(AZ152:BA152)","v":0},{"$f":"IF($F$4=\"lunch\",IF(S152=0,,(S152/$E$5)*'Customer Info'!$D$18),)","v":0},{"$f":"IF($F$4=\"dinner\",IF(T152=0,,(T152/$E$6)*'Customer Info'!$D$18),)","v":0},{"$f":"IF($F$4=\"other\",IF(U152=0,,(U152/$E$7)*'Customer Info'!$D$18),)","v":0},{"$f":"SUM(BC152:BE152)","v":0},{"$f":"IF($F$5=\"breakfast\",IF(R152=0,,(R152/$E$4)*'Customer Info'!$D$19),)","v":0},{"$f":"IF($F$5=\"dinner\",IF(T152=0,,(T152/$E$6)*'Customer Info'!$D$19),)","v":0},{"$f":"IF($F$5=\"other\",IF(U152=0,,(U152/$E$7)*'Customer Info'!$D$19),)","v":0},{"$f":"SUM(BG152:BI152)","v":0},{"$f":"IF($F$6=\"breakfast\",IF(R152=0,,(R152/$E$4)*'Customer Info'!$D$20),)","v":0},{"$f":"IF($F$6=\"lunch\",IF(S152=0,,(S152/$E$5)*'Customer Info'!$D$20),)","v":0},{"$f":"IF($F$6=\"other\",IF(U152=0,,(U152/$E$7)*'Customer Info'!$D$20),)","v":0},{"$f":"SUM(BK152:BM152)","v":0},{"$f":"IF($F$7=\"breakfast\",IF(R152=0,,(R152/$E$4)*'Customer Info'!$D$21),)","v":0},{"$f":"IF($F$7=\"lunch\",IF(S152=0,,(S152/$E$5)*'Customer Info'!$D$21),)","v":0},{"$f":"IF($F$7=\"dinner\",IF(T152=0,,(T152/$E$6)*'Customer Info'!$D$21),)","v":0},{"$f":"SUM(BO152:BQ152)","v":0},{"$f":"IF($F$10=\"lunch\",IF(W152=0,,(W152/$E$11)*'Customer Info'!$F$18),)","v":0},{"$f":"IF($F$10=\"dinner\",IF(X152=0,,(X152/$E$12)*'Customer Info'!$F$18),)","v":0},{"$f":"IF($F$10=\"other\",IF(Y152=0,,(Y152/$E$13)*'Customer Info'!$F$18),)","v":0},{"$f":"SUM(BS152:BU152)","v":0},{"$f":"IF($F$11=\"breakfast\",IF(V152=0,,(V152/$E$10)*'Customer Info'!$F$19),)","v":0},{"$f":"IF($F$11=\"dinner\",IF(X152=0,,(X152/$E$12)*'Customer Info'!$F$19),)","v":0},{"$f":"IF($F$11=\"other\",IF(Y152=0,,(Y152/$E$13)*'Customer Info'!$F$19),)","v":0},{"$f":"SUM(BW152:BY152)","v":0},{"$f":"IF($F$12=\"breakfast\",IF(V152=0,,(V152/$E$10)*'Customer Info'!$F$20),)","v":0},{"$f":"IF($F$12=\"lunch\",IF(W152=0,,(W152/$E$11)*'Customer Info'!$F$20),)","v":0},{"$f":"IF($F$12=\"other\",IF(Y152=0,,(Y152/$E$13)*'Customer Info'!$F$20),)","v":0},{"$f":"SUM(CA152:CC152)","v":0},{"$f":"IF($F$13=\"breakfast\",IF(V152=0,,(V152/$E$10)*'Customer Info'!$F$21),)","v":0},{"$f":"IF($F$13=\"lunch\",IF(W152=0,,(W152/$E$11)*'Customer Info'!$F$21),)","v":0},{"$f":"IF($F$13=\"dinner\",IF(X152=0,,(X152/$E$12)*'Customer Info'!$F$21),)","v":0},{"$f":"SUM(CE152:CG152)","v":0},{"$f":"IF($F$16=\"lunch\",IF(AA152=0,,(AA152/$E$17)*'Customer Info'!$H$18),)","v":0},{"$f":"IF($F$16=\"dinner\",IF(AB152=0,,(AB152/$E$18)*'Customer Info'!$H$18),)","v":0},{"$f":"IF($F$16=\"other\",IF(AC152=0,,(AC152/$E$19)*'Customer Info'!$H$18),)","v":0},{"$f":"SUM(CI152:CK152)","v":0},{"$f":"IF($F$17=\"breakfast\",IF(Z152=0,,(Z152/$E$16)*'Customer Info'!$H$19),)","v":0},{"$f":"IF($F$17=\"dinner\",IF(AB152=0,,(AB152/$E$18)*'Customer Info'!$H$19),)","v":0},{"$f":"IF($F$17=\"other\",IF(AC152=0,,(AC152/$E$19)*'Customer Info'!$H$19),)","v":0},{"$f":"SUM(CM152:CO152)","v":0},{"$f":"IF($F$18=\"breakfast\",IF(Z152=0,,(Z152/$E$16)*'Customer Info'!$H$20),)","v":0},{"$f":"IF($F$18=\"lunch\",IF(AA152=0,,(AA152/$E$17)*'Customer Info'!$H$20),)","v":0},{"$f":"IF($F$18=\"other\",IF(AC152=0,,(AC152/$E$19)*'Customer Info'!$H$20),)","v":0},{"$f":"SUM(CQ152:CS152)","v":0},{"$f":"IF($F$19=\"breakfast\",IF(Z152=0,,(Z152/$E$16)*'Customer Info'!$H$21),)","v":0},{"$f":"IF($F$19=\"lunch\",IF(AA152=0,,(AA152/$E$17)*'Customer Info'!$H$21),)","v":0},{"$f":"IF($F$19=\"dinner\",IF(AB152=0,,(AB152/$E$18)*'Customer Info'!$H$21),)","v":0},{"$f":"SUM(CU152:CW152)","v":0},0,0,{"$f":"IF(Q152=0,,I152*(L152/K152))","v":0},{"$f":"IF(Q152=0,,L152)","v":0},{"$f":"IF(I152>0,A152,\"\")","v":""}]
[null,null,null,null,null,null,null,null,null,null,0,0,0,0,0,0,0,0,0,0,0,0,0,0,0,0,0,0,0,0,0,0,0,{"$f":"IF((OR($F$4=0,$F$4=\"none\")),IF(R153=0,,IF(OR($E$4='Customer Info'!$D$18,$E$4=0),R153,(R153/$E$4)*'Customer Info'!$D$18)),)","v":0},{"$f":"IF((OR($F$5=0,$F$5=\"none\")),IF(S153=0,,IF(OR($E$5='Customer Info'!$D$18,$E$5=0),S153,(S153/$E$5)*'Customer Info'!$D$19)),)","v":0},{"$f":"IF((OR($F$6=0,$F$6=\"none\")),IF(T153=0,,IF(OR($E$6='Customer Info'!$D$18,$E$6=0),T153,(T153/$E$6)*'Customer Info'!$D$20)),)","v":0},{"$f":"IF((OR($F$7=0,$F$7=\"none\")),IF(U153=0,,IF(OR($E$7='Customer Info'!$D$18,$E$7=0),U153,(U153/$E$7)*'Customer Info'!$D$21)),)","v":0},{"$f":"IF((OR($F$10=0,$F$10=\"none\")),IF(V153=0,,IF(OR($E$10='Customer Info'!$F$18,$E$10=0),V153,(V153/$E$10)*'Customer Info'!$F$18)),)","v":0},{"$f":"IF((OR($F$11=0,$F$11=\"none\")),IF(W153=0,,IF(OR($E$11='Customer Info'!$F$19,$E$11=0),W153,(W153/$E$11)*'Customer Info'!$F$19)),)","v":0},{"$f":"IF((OR($F$12=0,$F$12=\"none\")),IF(X153=0,,IF(OR($E$12='Customer Info'!$F$20,$E$12=0),X153,(X153/$E$12)*'Customer Info'!$F$20)),)","v":0},{"$f":"IF((OR($F$13=0,$F$13=\"none\")),IF(Y153=0,,IF(OR($E$13='Customer Info'!$F$21,$E$13=0),Y153,(Y153/$E$13)*'Customer Info'!$F$21)),)","v":0},{"$f":"IF((OR($F$16=0,$F$16=\"none\")),IF(Z153=0,,IF(OR($E$16='Customer Info'!$H$18,$E$16=0),Z153,(Z153/$E$16)*'Customer Info'!$H$18)),)","v":0},{"$f":"IF((OR($F$17=0,$F$17=\"none\")),IF(AA153=0,,IF(OR($E$17='Customer Info'!$H$19,$E$17=0),AA153,(AA153/$E$17)*'Customer Info'!$H$19)),)","v":0},{"$f":"IF((OR($F$18=0,$F$18=\"none\")),IF(AB153=0,,IF(OR($E$18='Customer Info'!$H$20,$E$18=0),AB153,(AB153/$E$18)*'Customer Info'!$H$20)),)","v":0},{"$f":"IF((OR($F$19=0,$F$19=\"none\")),IF(AC153=0,,IF(OR($E$19='Customer Info'!$H$21,$E$19=0),AC153,(AC153/$E$19)*'Customer Info'!$H$21)),)","v":0},{"$f":"IF((OR($F$4=0,$F$4=\"none\")),IF(AD153=0,,IF(OR($E$4='Customer Info'!$D$18,$E$4=0),AD153,(AD153/$E$4)*'Customer Info'!$D$18)),)","v":0},{"$f":"IF((OR($F$5=0,$F$5=\"none\")),IF(AE153=0,,IF(OR($E$5='Customer Info'!$D$19,$E$5=0),AE153,(AE153/$E$5)*'Customer Info'!$D$19)),)","v":0},{"$f":"IF((OR($F$6=0,$F$6=\"none\")),IF(AF153=0,,IF(OR($E$6='Customer Info'!$D$20,$E$6=0),AF153,(AF153/$E$6)*'Customer Info'!$D$20)),)","v":0},{"$f":"IF((OR($F$7=0,$F$7=\"none\")),IF(AG153=0,,IF(OR($E$7='Customer Info'!$D$21,$E$7=0),AG153,(AG153/$E$7)*'Customer Info'!$D$21)),)","v":0},0,0,{"$f":"IF(E153=\"plate waste\",,IF('Customer Info'!$M$18=0,'Log Sheet'!AY153,'Customer Info'!$M$18*'Log Sheet'!AY153))","v":0},{"$f":"IF(E153=\"plate waste\",IF(OR(C153=\"patient\",C153=\"patient beverages\"),IF('Customer Info'!$M$27=0,AY153*'Customer Info'!$M$18,AY153*'Customer Info'!$M$27),IF(C153=\"cafeteria\",IF('Customer Info'!$M$28=0,AY153*'Customer Info'!$M$18,AY153*'Customer Info'!$M$28),IF(C153=\"other1\",IF('Customer Info'!$M$29=0,AY153*'Customer Info'!$M$18,AY153*'Customer Info'!$M$29),))),)","v":0},0,{"$f":"IF($F$4=\"lunch\",IF(S153=0,,(S153/$E$5)*'Customer Info'!$D$18),)","v":0},{"$f":"IF($F$4=\"dinner\",IF(T153=0,,(T153/$E$6)*'Customer Info'!$D$18),)","v":0},{"$f":"IF($F$4=\"other\",IF(U153=0,,(U153/$E$7)*'Customer Info'!$D$18),)","v":0},0,{"$f":"IF($F$5=\"breakfast\",IF(R153=0,,(R153/$E$4)*'Customer Info'!$D$19),)","v":0},{"$f":"IF($F$5=\"dinner\",IF(T153=0,,(T153/$E$6)*'Customer Info'!$D$19),)","v":0},{"$f":"IF($F$5=\"other\",IF(U153=0,,(U153/$E$7)*'Customer Info'!$D$19),)","v":0},0,{"$f":"IF($F$6=\"breakfast\",IF(R153=0,,(R153/$E$4)*'Customer Info'!$D$20),)","v":0},{"$f":"IF($F$6=\"lunch\",IF(S153=0,,(S153/$E$5)*'Customer Info'!$D$20),)","v":0},{"$f":"IF($F$6=\"other\",IF(U153=0,,(U153/$E$7)*'Customer Info'!$D$20),)","v":0},0,{"$f":"IF($F$7=\"breakfast\",IF(R153=0,,(R153/$E$4)*'Customer Info'!$D$21),)","v":0},{"$f":"IF($F$7=\"lunch\",IF(S153=0,,(S153/$E$5)*'Customer Info'!$D$21),)","v":0},{"$f":"IF($F$7=\"dinner\",IF(T153=0,,(T153/$E$6)*'Customer Info'!$D$21),)","v":0},0,{"$f":"IF($F$10=\"lunch\",IF(W153=0,,(W153/$E$11)*'Customer Info'!$F$18),)","v":0},{"$f":"IF($F$10=\"dinner\",IF(X153=0,,(X153/$E$12)*'Customer Info'!$F$18),)","v":0},{"$f":"IF($F$10=\"other\",IF(Y153=0,,(Y153/$E$13)*'Customer Info'!$F$18),)","v":0},0,{"$f":"IF($F$11=\"breakfast\",IF(V153=0,,(V153/$E$10)*'Customer Info'!$F$19),)","v":0},{"$f":"IF($F$11=\"dinner\",IF(X153=0,,(X153/$E$12)*'Customer Info'!$F$19),)","v":0},{"$f":"IF($F$11=\"other\",IF(Y153=0,,(Y153/$E$13)*'Customer Info'!$F$19),)","v":0},0,{"$f":"IF($F$12=\"breakfast\",IF(V153=0,,(V153/$E$10)*'Customer Info'!$F$20),)","v":0},{"$f":"IF($F$12=\"lunch\",IF(W153=0,,(W153/$E$11)*'Customer Info'!$F$20),)","v":0},{"$f":"IF($F$12=\"other\",IF(Y153=0,,(Y153/$E$13)*'Customer Info'!$F$20),)","v":0},0,{"$f":"IF($F$13=\"breakfast\",IF(V153=0,,(V153/$E$10)*'Customer Info'!$F$21),)","v":0},{"$f":"IF($F$13=\"lunch\",IF(W153=0,,(W153/$E$11)*'Customer Info'!$F$21),)","v":0},{"$f":"IF($F$13=\"dinner\",IF(X153=0,,(X153/$E$12)*'Customer Info'!$F$21),)","v":0},0,{"$f":"IF($F$16=\"lunch\",IF(AA153=0,,(AA153/$E$17)*'Customer Info'!$H$18),)","v":0},{"$f":"IF($F$16=\"dinner\",IF(AB153=0,,(AB153/$E$18)*'Customer Info'!$H$18),)","v":0},{"$f":"IF($F$16=\"other\",IF(AC153=0,,(AC153/$E$19)*'Customer Info'!$H$18),)","v":0},0,{"$f":"IF($F$17=\"breakfast\",IF(Z153=0,,(Z153/$E$16)*'Customer Info'!$H$19),)","v":0},{"$f":"IF($F$17=\"dinner\",IF(AB153=0,,(AB153/$E$18)*'Customer Info'!$H$19),)","v":0},{"$f":"IF($F$17=\"other\",IF(AC153=0,,(AC153/$E$19)*'Customer Info'!$H$19),)","v":0},0,{"$f":"IF($F$18=\"breakfast\",IF(Z153=0,,(Z153/$E$16)*'Customer Info'!$H$20),)","v":0},{"$f":"IF($F$18=\"lunch\",IF(AA153=0,,(AA153/$E$17)*'Customer Info'!$H$20),)","v":0},{"$f":"IF($F$18=\"other\",IF(AC153=0,,(AC153/$E$19)*'Customer Info'!$H$20),)","v":0},0,{"$f":"IF($F$19=\"breakfast\",IF(Z153=0,,(Z153/$E$16)*'Customer Info'!$H$21),)","v":0},{"$f":"IF($F$19=\"lunch\",IF(AA153=0,,(AA153/$E$17)*'Customer Info'!$H$21),)","v":0},{"$f":"IF($F$19=\"dinner\",IF(AB153=0,,(AB153/$E$18)*'Customer Info'!$H$21),)","v":0},0,0,0,0,0,""]
[null,null,null,null,null,null,null,null,null,null,0,0,0,0,0,0,0,0,0,0,0,0,0,0,0,0,0,0,0,0,0,0,0,{"$f":"IF((OR($F$4=0,$F$4=\"none\")),IF(R154=0,,IF(OR($E$4='Customer Info'!$D$18,$E$4=0),R154,(R154/$E$4)*'Customer Info'!$D$18)),)","v":0},{"$f":"IF((OR($F$5=0,$F$5=\"none\")),IF(S154=0,,IF(OR($E$5='Customer Info'!$D$18,$E$5=0),S154,(S154/$E$5)*'Customer Info'!$D$19)),)","v":0},{"$f":"IF((OR($F$6=0,$F$6=\"none\")),IF(T154=0,,IF(OR($E$6='Customer Info'!$D$18,$E$6=0),T154,(T154/$E$6)*'Customer Info'!$D$20)),)","v":0},{"$f":"IF((OR($F$7=0,$F$7=\"none\")),IF(U154=0,,IF(OR($E$7='Customer Info'!$D$18,$E$7=0),U154,(U154/$E$7)*'Customer Info'!$D$21)),)","v":0},{"$f":"IF((OR($F$10=0,$F$10=\"none\")),IF(V154=0,,IF(OR($E$10='Customer Info'!$F$18,$E$10=0),V154,(V154/$E$10)*'Customer Info'!$F$18)),)","v":0},{"$f":"IF((OR($F$11=0,$F$11=\"none\")),IF(W154=0,,IF(OR($E$11='Customer Info'!$F$19,$E$11=0),W154,(W154/$E$11)*'Customer Info'!$F$19)),)","v":0},{"$f":"IF((OR($F$12=0,$F$12=\"none\")),IF(X154=0,,IF(OR($E$12='Customer Info'!$F$20,$E$12=0),X154,(X154/$E$12)*'Customer Info'!$F$20)),)","v":0},{"$f":"IF((OR($F$13=0,$F$13=\"none\")),IF(Y154=0,,IF(OR($E$13='Customer Info'!$F$21,$E$13=0),Y154,(Y154/$E$13)*'Customer Info'!$F$21)),)","v":0},{"$f":"IF((OR($F$16=0,$F$16=\"none\")),IF(Z154=0,,IF(OR($E$16='Customer Info'!$H$18,$E$16=0),Z154,(Z154/$E$16)*'Customer Info'!$H$18)),)","v":0},{"$f":"IF((OR($F$17=0,$F$17=\"none\")),IF(AA154=0,,IF(OR($E$17='Customer Info'!$H$19,$E$17=0),AA154,(AA154/$E$17)*'Customer Info'!$H$19)),)","v":0},{"$f":"IF((OR($F$18=0,$F$18=\"none\")),IF(AB154=0,,IF(OR($E$18='Customer Info'!$H$20,$E$18=0),AB154,(AB154/$E$18)*'Customer Info'!$H$20)),)","v":0},{"$f":"IF((OR($F$19=0,$F$19=\"none\")),IF(AC154=0,,IF(OR($E$19='Customer Info'!$H$21,$E$19=0),AC154,(AC154/$E$19)*'Customer Info'!$H$21)),)","v":0},{"$f":"IF((OR($F$4=0,$F$4=\"none\")),IF(AD154=0,,IF(OR($E$4='Customer Info'!$D$18,$E$4=0),AD154,(AD154/$E$4)*'Customer Info'!$D$18)),)","v":0},{"$f":"IF((OR($F$5=0,$F$5=\"none\")),IF(AE154=0,,IF(OR($E$5='Customer Info'!$D$19,$E$5=0),AE154,(AE154/$E$5)*'Customer Info'!$D$19)),)","v":0},{"$f":"IF((OR($F$6=0,$F$6=\"none\")),IF(AF154=0,,IF(OR($E$6='Customer Info'!$D$20,$E$6=0),AF154,(AF154/$E$6)*'Customer Info'!$D$20)),)","v":0},{"$f":"IF((OR($F$7=0,$F$7=\"none\")),IF(AG154=0,,IF(OR($E$7='Customer Info'!$D$21,$E$7=0),AG154,(AG154/$E$7)*'Customer Info'!$D$21)),)","v":0},0,0,{"$f":"IF(E154=\"plate waste\",,IF('Customer Info'!$M$18=0,'Log Sheet'!AY154,'Customer Info'!$M$18*'Log Sheet'!AY154))","v":0},{"$f":"IF(E154=\"plate waste\",IF(OR(C154=\"patient\",C154=\"patient beverages\"),IF('Customer Info'!$M$27=0,AY154*'Customer Info'!$M$18,AY154*'Customer Info'!$M$27),IF(C154=\"cafeteria\",IF('Customer Info'!$M$28=0,AY154*'Customer Info'!$M$18,AY154*'Customer Info'!$M$28),IF(C154=\"other1\",IF('Customer Info'!$M$29=0,AY154*'Customer Info'!$M$18,AY154*'Customer Info'!$M$29),))),)","v":0},0,{"$f":"IF($F$4=\"lunch\",IF(S154=0,,(S154/$E$5)*'Customer Info'!$D$18),)","v":0},{"$f":"IF($F$4=\"dinner\",IF(T154=0,,(T154/$E$6)*'Customer Info'!$D$18),)","v":0},{"$f":"IF($F$4=\"other\",IF(U154=0,,(U154/$E$7)*'Customer Info'!$D$18),)","v":0},0,{"$f":"IF($F$5=\"breakfast\",IF(R154=0,,(R154/$E$4)*'Customer Info'!$D$19),)","v":0},{"$f":"IF($F$5=\"dinner\",IF(T154=0,,(T154/$E$6)*'Customer Info'!$D$19),)","v":0},{"$f":"IF($F$5=\"other\",IF(U154=0,,(U154/$E$7)*'Customer Info'!$D$19),)","v":0},0,{"$f":"IF($F$6=\"breakfast\",IF(R154=0,,(R154/$E$4)*'Customer Info'!$D$20),)","v":0},{"$f":"IF($F$6=\"lunch\",IF(S154=0,,(S154/$E$5)*'Customer Info'!$D$20),)","v":0},{"$f":"IF($F$6=\"other\",IF(U154=0,,(U154/$E$7)*'Customer Info'!$D$20),)","v":0},0,{"$f":"IF($F$7=\"breakfast\",IF(R154=0,,(R154/$E$4)*'Customer Info'!$D$21),)","v":0},{"$f":"IF($F$7=\"lunch\",IF(S154=0,,(S154/$E$5)*'Customer Info'!$D$21),)","v":0},{"$f":"IF($F$7=\"dinner\",IF(T154=0,,(T154/$E$6)*'Customer Info'!$D$21),)","v":0},0,{"$f":"IF($F$10=\"lunch\",IF(W154=0,,(W154/$E$11)*'Customer Info'!$F$18),)","v":0},{"$f":"IF($F$10=\"dinner\",IF(X154=0,,(X154/$E$12)*'Customer Info'!$F$18),)","v":0},{"$f":"IF($F$10=\"other\",IF(Y154=0,,(Y154/$E$13)*'Customer Info'!$F$18),)","v":0},0,{"$f":"IF($F$11=\"breakfast\",IF(V154=0,,(V154/$E$10)*'Customer Info'!$F$19),)","v":0},{"$f":"IF($F$11=\"dinner\",IF(X154=0,,(X154/$E$12)*'Customer Info'!$F$19),)","v":0},{"$f":"IF($F$11=\"other\",IF(Y154=0,,(Y154/$E$13)*'Customer Info'!$F$19),)","v":0},0,{"$f":"IF($F$12=\"breakfast\",IF(V154=0,,(V154/$E$10)*'Customer Info'!$F$20),)","v":0},{"$f":"IF($F$12=\"lunch\",IF(W154=0,,(W154/$E$11)*'Customer Info'!$F$20),)","v":0},{"$f":"IF($F$12=\"other\",IF(Y154=0,,(Y154/$E$13)*'Customer Info'!$F$20),)","v":0},0,{"$f":"IF($F$13=\"breakfast\",IF(V154=0,,(V154/$E$10)*'Customer Info'!$F$21),)","v":0},{"$f":"IF($F$13=\"lunch\",IF(W154=0,,(W154/$E$11)*'Customer Info'!$F$21),)","v":0},{"$f":"IF($F$13=\"dinner\",IF(X154=0,,(X154/$E$12)*'Customer Info'!$F$21),)","v":0},0,{"$f":"IF($F$16=\"lunch\",IF(AA154=0,,(AA154/$E$17)*'Customer Info'!$H$18),)","v":0},{"$f":"IF($F$16=\"dinner\",IF(AB154=0,,(AB154/$E$18)*'Customer Info'!$H$18),)","v":0},{"$f":"IF($F$16=\"other\",IF(AC154=0,,(AC154/$E$19)*'Customer Info'!$H$18),)","v":0},0,{"$f":"IF($F$17=\"breakfast\",IF(Z154=0,,(Z154/$E$16)*'Customer Info'!$H$19),)","v":0},{"$f":"IF($F$17=\"dinner\",IF(AB154=0,,(AB154/$E$18)*'Customer Info'!$H$19),)","v":0},{"$f":"IF($F$17=\"other\",IF(AC154=0,,(AC154/$E$19)*'Customer Info'!$H$19),)","v":0},0,{"$f":"IF($F$18=\"breakfast\",IF(Z154=0,,(Z154/$E$16)*'Customer Info'!$H$20),)","v":0},{"$f":"IF($F$18=\"lunch\",IF(AA154=0,,(AA154/$E$17)*'Customer Info'!$H$20),)","v":0},{"$f":"IF($F$18=\"other\",IF(AC154=0,,(AC154/$E$19)*'Customer Info'!$H$20),)","v":0},0,{"$f":"IF($F$19=\"breakfast\",IF(Z154=0,,(Z154/$E$16)*'Customer Info'!$H$21),)","v":0},{"$f":"IF($F$19=\"lunch\",IF(AA154=0,,(AA154/$E$17)*'Customer Info'!$H$21),)","v":0},{"$f":"IF($F$19=\"dinner\",IF(AB154=0,,(AB154/$E$18)*'Customer Info'!$H$21),)","v":0},0,0,0,0,0,""]
[null,null,null,null,null,null,null,null,null,null,0,0,0,0,0,0,0,0,0,0,0,0,0,0,0,0,0,0,0,0,0,0,0,{"$f":"IF((OR($F$4=0,$F$4=\"none\")),IF(R155=0,,IF(OR($E$4='Customer Info'!$D$18,$E$4=0),R155,(R155/$E$4)*'Customer Info'!$D$18)),)","v":0},{"$f":"IF((OR($F$5=0,$F$5=\"none\")),IF(S155=0,,IF(OR($E$5='Customer Info'!$D$18,$E$5=0),S155,(S155/$E$5)*'Customer Info'!$D$19)),)","v":0},{"$f":"IF((OR($F$6=0,$F$6=\"none\")),IF(T155=0,,IF(OR($E$6='Customer Info'!$D$18,$E$6=0),T155,(T155/$E$6)*'Customer Info'!$D$20)),)","v":0},{"$f":"IF((OR($F$7=0,$F$7=\"none\")),IF(U155=0,,IF(OR($E$7='Customer Info'!$D$18,$E$7=0),U155,(U155/$E$7)*'Customer Info'!$D$21)),)","v":0},{"$f":"IF((OR($F$10=0,$F$10=\"none\")),IF(V155=0,,IF(OR($E$10='Customer Info'!$F$18,$E$10=0),V155,(V155/$E$10)*'Customer Info'!$F$18)),)","v":0},{"$f":"IF((OR($F$11=0,$F$11=\"none\")),IF(W155=0,,IF(OR($E$11='Customer Info'!$F$19,$E$11=0),W155,(W155/$E$11)*'Customer Info'!$F$19)),)","v":0},{"$f":"IF((OR($F$12=0,$F$12=\"none\")),IF(X155=0,,IF(OR($E$12='Customer Info'!$F$20,$E$12=0),X155,(X155/$E$12)*'Customer Info'!$F$20)),)","v":0},{"$f":"IF((OR($F$13=0,$F$13=\"none\")),IF(Y155=0,,IF(OR($E$13='Customer Info'!$F$21,$E$13=0),Y155,(Y155/$E$13)*'Customer Info'!$F$21)),)","v":0},{"$f":"IF((OR($F$16=0,$F$16=\"none\")),IF(Z155=0,,IF(OR($E$16='Customer Info'!$H$18,$E$16=0),Z155,(Z155/$E$16)*'Customer Info'!$H$18)),)","v":0},{"$f":"IF((OR($F$17=0,$F$17=\"none\")),IF(AA155=0,,IF(OR($E$17='Customer Info'!$H$19,$E$17=0),AA155,(AA155/$E$17)*'Customer Info'!$H$19)),)","v":0},{"$f":"IF((OR($F$18=0,$F$18=\"none\")),IF(AB155=0,,IF(OR($E$18='Customer Info'!$H$20,$E$18=0),AB155,(AB155/$E$18)*'Customer Info'!$H$20)),)","v":0},{"$f":"IF((OR($F$19=0,$F$19=\"none\")),IF(AC155=0,,IF(OR($E$19='Customer Info'!$H$21,$E$19=0),AC155,(AC155/$E$19)*'Customer Info'!$H$21)),)","v":0},{"$f":"IF((OR($F$4=0,$F$4=\"none\")),IF(AD155=0,,IF(OR($E$4='Customer Info'!$D$18,$E$4=0),AD155,(AD155/$E$4)*'Customer Info'!$D$18)),)","v":0},{"$f":"IF((OR($F$5=0,$F$5=\"none\")),IF(AE155=0,,IF(OR($E$5='Customer Info'!$D$19,$E$5=0),AE155,(AE155/$E$5)*'Customer Info'!$D$19)),)","v":0},{"$f":"IF((OR($F$6=0,$F$6=\"none\")),IF(AF155=0,,IF(OR($E$6='Customer Info'!$D$20,$E$6=0),AF155,(AF155/$E$6)*'Customer Info'!$D$20)),)","v":0},{"$f":"IF((OR($F$7=0,$F$7=\"none\")),IF(AG155=0,,IF(OR($E$7='Customer Info'!$D$21,$E$7=0),AG155,(AG155/$E$7)*'Customer Info'!$D$21)),)","v":0},0,0,{"$f":"IF(E155=\"plate waste\",,IF('Customer Info'!$M$18=0,'Log Sheet'!AY155,'Customer Info'!$M$18*'Log Sheet'!AY155))","v":0},{"$f":"IF(E155=\"plate waste\",IF(OR(C155=\"patient\",C155=\"patient beverages\"),IF('Customer Info'!$M$27=0,AY155*'Customer Info'!$M$18,AY155*'Customer Info'!$M$27),IF(C155=\"cafeteria\",IF('Customer Info'!$M$28=0,AY155*'Customer Info'!$M$18,AY155*'Customer Info'!$M$28),IF(C155=\"other1\",IF('Customer Info'!$M$29=0,AY155*'Customer Info'!$M$18,AY155*'Customer Info'!$M$29),))),)","v":0},0,{"$f":"IF($F$4=\"lunch\",IF(S155=0,,(S155/$E$5)*'Customer Info'!$D$18),)","v":0},{"$f":"IF($F$4=\"dinner\",IF(T155=0,,(T155/$E$6)*'Customer Info'!$D$18),)","v":0},{"$f":"IF($F$4=\"other\",IF(U155=0,,(U155/$E$7)*'Customer Info'!$D$18),)","v":0},0,{"$f":"IF($F$5=\"breakfast\",IF(R155=0,,(R155/$E$4)*'Customer Info'!$D$19),)","v":0},{"$f":"IF($F$5=\"dinner\",IF(T155=0,,(T155/$E$6)*'Customer Info'!$D$19),)","v":0},{"$f":"IF($F$5=\"other\",IF(U155=0,,(U155/$E$7)*'Customer Info'!$D$19),)","v":0},0,{"$f":"IF($F$6=\"breakfast\",IF(R155=0,,(R155/$E$4)*'Customer Info'!$D$20),)","v":0},{"$f":"IF($F$6=\"lunch\",IF(S155=0,,(S155/$E$5)*'Customer Info'!$D$20),)","v":0},{"$f":"IF($F$6=\"other\",IF(U155=0,,(U155/$E$7)*'Customer Info'!$D$20),)","v":0},0,{"$f":"IF($F$7=\"breakfast\",IF(R155=0,,(R155/$E$4)*'Customer Info'!$D$21),)","v":0},{"$f":"IF($F$7=\"lunch\",IF(S155=0,,(S155/$E$5)*'Customer Info'!$D$21),)","v":0},{"$f":"IF($F$7=\"dinner\",IF(T155=0,,(T155/$E$6)*'Customer Info'!$D$21),)","v":0},0,{"$f":"IF($F$10=\"lunch\",IF(W155=0,,(W155/$E$11)*'Customer Info'!$F$18),)","v":0},{"$f":"IF($F$10=\"dinner\",IF(X155=0,,(X155/$E$12)*'Customer Info'!$F$18),)","v":0},{"$f":"IF($F$10=\"other\",IF(Y155=0,,(Y155/$E$13)*'Customer Info'!$F$18),)","v":0},0,{"$f":"IF($F$11=\"breakfast\",IF(V155=0,,(V155/$E$10)*'Customer Info'!$F$19),)","v":0},{"$f":"IF($F$11=\"dinner\",IF(X155=0,,(X155/$E$12)*'Customer Info'!$F$19),)","v":0},{"$f":"IF($F$11=\"other\",IF(Y155=0,,(Y155/$E$13)*'Customer Info'!$F$19),)","v":0},0,{"$f":"IF($F$12=\"breakfast\",IF(V155=0,,(V155/$E$10)*'Customer Info'!$F$20),)","v":0},{"$f":"IF($F$12=\"lunch\",IF(W155=0,,(W155/$E$11)*'Customer Info'!$F$20),)","v":0},{"$f":"IF($F$12=\"other\",IF(Y155=0,,(Y155/$E$13)*'Customer Info'!$F$20),)","v":0},0,{"$f":"IF($F$13=\"breakfast\",IF(V155=0,,(V155/$E$10)*'Customer Info'!$F$21),)","v":0},{"$f":"IF($F$13=\"lunch\",IF(W155=0,,(W155/$E$11)*'Customer Info'!$F$21),)","v":0},{"$f":"IF($F$13=\"dinner\",IF(X155=0,,(X155/$E$12)*'Customer Info'!$F$21),)","v":0},0,{"$f":"IF($F$16=\"lunch\",IF(AA155=0,,(AA155/$E$17)*'Customer Info'!$H$18),)","v":0},{"$f":"IF($F$16=\"dinner\",IF(AB155=0,,(AB155/$E$18)*'Customer Info'!$H$18),)","v":0},{"$f":"IF($F$16=\"other\",IF(AC155=0,,(AC155/$E$19)*'Customer Info'!$H$18),)","v":0},0,{"$f":"IF($F$17=\"breakfast\",IF(Z155=0,,(Z155/$E$16)*'Customer Info'!$H$19),)","v":0},{"$f":"IF($F$17=\"dinner\",IF(AB155=0,,(AB155/$E$18)*'Customer Info'!$H$19),)","v":0},{"$f":"IF($F$17=\"other\",IF(AC155=0,,(AC155/$E$19)*'Customer Info'!$H$19),)","v":0},0,{"$f":"IF($F$18=\"breakfast\",IF(Z155=0,,(Z155/$E$16)*'Customer Info'!$H$20),)","v":0},{"$f":"IF($F$18=\"lunch\",IF(AA155=0,,(AA155/$E$17)*'Customer Info'!$H$20),)","v":0},{"$f":"IF($F$18=\"other\",IF(AC155=0,,(AC155/$E$19)*'Customer Info'!$H$20),)","v":0},0,{"$f":"IF($F$19=\"breakfast\",IF(Z155=0,,(Z155/$E$16)*'Customer Info'!$H$21),)","v":0},{"$f":"IF($F$19=\"lunch\",IF(AA155=0,,(AA155/$E$17)*'Customer Info'!$H$21),)","v":0},{"$f":"IF($F$19=\"dinner\",IF(AB155=0,,(AB155/$E$18)*'Customer Info'!$H$21),)","v":0},0,0,0,0,0,""]
[null,null,null,null,null,null,null,null,null,null,0,0,0,0,0,0,0,0,0,0,0,0,0,0,0,0,0,0,0,0,0,0,0,{"$f":"IF((OR($F$4=0,$F$4=\"none\")),IF(R156=0,,IF(OR($E$4='Customer Info'!$D$18,$E$4=0),R156,(R156/$E$4)*'Customer Info'!$D$18)),)","v":0},{"$f":"IF((OR($F$5=0,$F$5=\"none\")),IF(S156=0,,IF(OR($E$5='Customer Info'!$D$18,$E$5=0),S156,(S156/$E$5)*'Customer Info'!$D$19)),)","v":0},{"$f":"IF((OR($F$6=0,$F$6=\"none\")),IF(T156=0,,IF(OR($E$6='Customer Info'!$D$18,$E$6=0),T156,(T156/$E$6)*'Customer Info'!$D$20)),)","v":0},{"$f":"IF((OR($F$7=0,$F$7=\"none\")),IF(U156=0,,IF(OR($E$7='Customer Info'!$D$18,$E$7=0),U156,(U156/$E$7)*'Customer Info'!$D$21)),)","v":0},{"$f":"IF((OR($F$10=0,$F$10=\"none\")),IF(V156=0,,IF(OR($E$10='Customer Info'!$F$18,$E$10=0),V156,(V156/$E$10)*'Customer Info'!$F$18)),)","v":0},{"$f":"IF((OR($F$11=0,$F$11=\"none\")),IF(W156=0,,IF(OR($E$11='Customer Info'!$F$19,$E$11=0),W156,(W156/$E$11)*'Customer Info'!$F$19)),)","v":0},{"$f":"IF((OR($F$12=0,$F$12=\"none\")),IF(X156=0,,IF(OR($E$12='Customer Info'!$F$20,$E$12=0),X156,(X156/$E$12)*'Customer Info'!$F$20)),)","v":0},{"$f":"IF((OR($F$13=0,$F$13=\"none\")),IF(Y156=0,,IF(OR($E$13='Customer Info'!$F$21,$E$13=0),Y156,(Y156/$E$13)*'Customer Info'!$F$21)),)","v":0},{"$f":"IF((OR($F$16=0,$F$16=\"none\")),IF(Z156=0,,IF(OR($E$16='Customer Info'!$H$18,$E$16=0),Z156,(Z156/$E$16)*'Customer Info'!$H$18)),)","v":0},{"$f":"IF((OR($F$17=0,$F$17=\"none\")),IF(AA156=0,,IF(OR($E$17='Customer Info'!$H$19,$E$17=0),AA156,(AA156/$E$17)*'Customer Info'!$H$19)),)","v":0},{"$f":"IF((OR($F$18=0,$F$18=\"none\")),IF(AB156=0,,IF(OR($E$18='Customer Info'!$H$20,$E$18=0),AB156,(AB156/$E$18)*'Customer Info'!$H$20)),)","v":0},{"$f":"IF((OR($F$19=0,$F$19=\"none\")),IF(AC156=0,,IF(OR($E$19='Customer Info'!$H$21,$E$19=0),AC156,(AC156/$E$19)*'Customer Info'!$H$21)),)","v":0},{"$f":"IF((OR($F$4=0,$F$4=\"none\")),IF(AD156=0,,IF(OR($E$4='Customer Info'!$D$18,$E$4=0),AD156,(AD156/$E$4)*'Customer Info'!$D$18)),)","v":0},{"$f":"IF((OR($F$5=0,$F$5=\"none\")),IF(AE156=0,,IF(OR($E$5='Customer Info'!$D$19,$E$5=0),AE156,(AE156/$E$5)*'Customer Info'!$D$19)),)","v":0},{"$f":"IF((OR($F$6=0,$F$6=\"none\")),IF(AF156=0,,IF(OR($E$6='Customer Info'!$D$20,$E$6=0),AF156,(AF156/$E$6)*'Customer Info'!$D$20)),)","v":0},{"$f":"IF((OR($F$7=0,$F$7=\"none\")),IF(AG156=0,,IF(OR($E$7='Customer Info'!$D$21,$E$7=0),AG156,(AG156/$E$7)*'Customer Info'!$D$21)),)","v":0},0,0,{"$f":"IF(E156=\"plate waste\",,IF('Customer Info'!$M$18=0,'Log Sheet'!AY156,'Customer Info'!$M$18*'Log Sheet'!AY156))","v":0},{"$f":"IF(E156=\"plate waste\",IF(OR(C156=\"patient\",C156=\"patient beverages\"),IF('Customer Info'!$M$27=0,AY156*'Customer Info'!$M$18,AY156*'Customer Info'!$M$27),IF(C156=\"cafeteria\",IF('Customer Info'!$M$28=0,AY156*'Customer Info'!$M$18,AY156*'Customer Info'!$M$28),IF(C156=\"other1\",IF('Customer Info'!$M$29=0,AY156*'Customer Info'!$M$18,AY156*'Customer Info'!$M$29),))),)","v":0},0,{"$f":"IF($F$4=\"lunch\",IF(S156=0,,(S156/$E$5)*'Customer Info'!$D$18),)","v":0},{"$f":"IF($F$4=\"dinner\",IF(T156=0,,(T156/$E$6)*'Customer Info'!$D$18),)","v":0},{"$f":"IF($F$4=\"other\",IF(U156=0,,(U156/$E$7)*'Customer Info'!$D$18),)","v":0},0,{"$f":"IF($F$5=\"breakfast\",IF(R156=0,,(R156/$E$4)*'Customer Info'!$D$19),)","v":0},{"$f":"IF($F$5=\"dinner\",IF(T156=0,,(T156/$E$6)*'Customer Info'!$D$19),)","v":0},{"$f":"IF($F$5=\"other\",IF(U156=0,,(U156/$E$7)*'Customer Info'!$D$19),)","v":0},0,{"$f":"IF($F$6=\"breakfast\",IF(R156=0,,(R156/$E$4)*'Customer Info'!$D$20),)","v":0},{"$f":"IF($F$6=\"lunch\",IF(S156=0,,(S156/$E$5)*'Customer Info'!$D$20),)","v":0},{"$f":"IF($F$6=\"other\",IF(U156=0,,(U156/$E$7)*'Customer Info'!$D$20),)","v":0},0,{"$f":"IF($F$7=\"breakfast\",IF(R156=0,,(R156/$E$4)*'Customer Info'!$D$21),)","v":0},{"$f":"IF($F$7=\"lunch\",IF(S156=0,,(S156/$E$5)*'Customer Info'!$D$21),)","v":0},{"$f":"IF($F$7=\"dinner\",IF(T156=0,,(T156/$E$6)*'Customer Info'!$D$21),)","v":0},0,{"$f":"IF($F$10=\"lunch\",IF(W156=0,,(W156/$E$11)*'Customer Info'!$F$18),)","v":0},{"$f":"IF($F$10=\"dinner\",IF(X156=0,,(X156/$E$12)*'Customer Info'!$F$18),)","v":0},{"$f":"IF($F$10=\"other\",IF(Y156=0,,(Y156/$E$13)*'Customer Info'!$F$18),)","v":0},0,{"$f":"IF($F$11=\"breakfast\",IF(V156=0,,(V156/$E$10)*'Customer Info'!$F$19),)","v":0},{"$f":"IF($F$11=\"dinner\",IF(X156=0,,(X156/$E$12)*'Customer Info'!$F$19),)","v":0},{"$f":"IF($F$11=\"other\",IF(Y156=0,,(Y156/$E$13)*'Customer Info'!$F$19),)","v":0},0,{"$f":"IF($F$12=\"breakfast\",IF(V156=0,,(V156/$E$10)*'Customer Info'!$F$20),)","v":0},{"$f":"IF($F$12=\"lunch\",IF(W156=0,,(W156/$E$11)*'Customer Info'!$F$20),)","v":0},{"$f":"IF($F$12=\"other\",IF(Y156=0,,(Y156/$E$13)*'Customer Info'!$F$20),)","v":0},0,{"$f":"IF($F$13=\"breakfast\",IF(V156=0,,(V156/$E$10)*'Customer Info'!$F$21),)","v":0},{"$f":"IF($F$13=\"lunch\",IF(W156=0,,(W156/$E$11)*'Customer Info'!$F$21),)","v":0},{"$f":"IF($F$13=\"dinner\",IF(X156=0,,(X156/$E$12)*'Customer Info'!$F$21),)","v":0},0,{"$f":"IF($F$16=\"lunch\",IF(AA156=0,,(AA156/$E$17)*'Customer Info'!$H$18),)","v":0},{"$f":"IF($F$16=\"dinner\",IF(AB156=0,,(AB156/$E$18)*'Customer Info'!$H$18),)","v":0},{"$f":"IF($F$16=\"other\",IF(AC156=0,,(AC156/$E$19)*'Customer Info'!$H$18),)","v":0},0,{"$f":"IF($F$17=\"breakfast\",IF(Z156=0,,(Z156/$E$16)*'Customer Info'!$H$19),)","v":0},{"$f":"IF($F$17=\"dinner\",IF(AB156=0,,(AB156/$E$18)*'Customer Info'!$H$19),)","v":0},{"$f":"IF($F$17=\"other\",IF(AC156=0,,(AC156/$E$19)*'Customer Info'!$H$19),)","v":0},0,{"$f":"IF($F$18=\"breakfast\",IF(Z156=0,,(Z156/$E$16)*'Customer Info'!$H$20),)","v":0},{"$f":"IF($F$18=\"lunch\",IF(AA156=0,,(AA156/$E$17)*'Customer Info'!$H$20),)","v":0},{"$f":"IF($F$18=\"other\",IF(AC156=0,,(AC156/$E$19)*'Customer Info'!$H$20),)","v":0},0,{"$f":"IF($F$19=\"breakfast\",IF(Z156=0,,(Z156/$E$16)*'Customer Info'!$H$21),)","v":0},{"$f":"IF($F$19=\"lunch\",IF(AA156=0,,(AA156/$E$17)*'Customer Info'!$H$21),)","v":0},{"$f":"IF($F$19=\"dinner\",IF(AB156=0,,(AB156/$E$18)*'Customer Info'!$H$21),)","v":0},0,0,0,0,0,""]
[null,null,null,null,null,null,null,null,null,null,0,0,0,0,0,0,0,0,0,0,0,0,0,0,0,0,0,0,0,0,0,0,0,{"$f":"IF((OR($F$4=0,$F$4=\"none\")),IF(R157=0,,IF(OR($E$4='Customer Info'!$D$18,$E$4=0),R157,(R157/$E$4)*'Customer Info'!$D$18)),)","v":0},{"$f":"IF((OR($F$5=0,$F$5=\"none\")),IF(S157=0,,IF(OR($E$5='Customer Info'!$D$18,$E$5=0),S157,(S157/$E$5)*'Customer Info'!$D$19)),)","v":0},{"$f":"IF((OR($F$6=0,$F$6=\"none\")),IF(T157=0,,IF(OR($E$6='Customer Info'!$D$18,$E$6=0),T157,(T157/$E$6)*'Customer Info'!$D$20)),)","v":0},{"$f":"IF((OR($F$7=0,$F$7=\"none\")),IF(U157=0,,IF(OR($E$7='Customer Info'!$D$18,$E$7=0),U157,(U157/$E$7)*'Customer Info'!$D$21)),)","v":0},{"$f":"IF((OR($F$10=0,$F$10=\"none\")),IF(V157=0,,IF(OR($E$10='Customer Info'!$F$18,$E$10=0),V157,(V157/$E$10)*'Customer Info'!$F$18)),)","v":0},{"$f":"IF((OR($F$11=0,$F$11=\"none\")),IF(W157=0,,IF(OR($E$11='Customer Info'!$F$19,$E$11=0),W157,(W157/$E$11)*'Customer Info'!$F$19)),)","v":0},{"$f":"IF((OR($F$12=0,$F$12=\"none\")),IF(X157=0,,IF(OR($E$12='Customer Info'!$F$20,$E$12=0),X157,(X157/$E$12)*'Customer Info'!$F$20)),)","v":0},{"$f":"IF((OR($F$13=0,$F$13=\"none\")),IF(Y157=0,,IF(OR($E$13='Customer Info'!$F$21,$E$13=0),Y157,(Y157/$E$13)*'Customer Info'!$F$21)),)","v":0},{"$f":"IF((OR($F$16=0,$F$16=\"none\")),IF(Z157=0,,IF(OR($E$16='Customer Info'!$H$18,$E$16=0),Z157,(Z157/$E$16)*'Customer Info'!$H$18)),)","v":0},{"$f":"IF((OR($F$17=0,$F$17=\"none\")),IF(AA157=0,,IF(OR($E$17='Customer Info'!$H$19,$E$17=0),AA157,(AA157/$E$17)*'Customer Info'!$H$19)),)","v":0},{"$f":"IF((OR($F$18=0,$F$18=\"none\")),IF(AB157=0,,IF(OR($E$18='Customer Info'!$H$20,$E$18=0),AB157,(AB157/$E$18)*'Customer Info'!$H$20)),)","v":0},{"$f":"IF((OR($F$19=0,$F$19=\"none\")),IF(AC157=0,,IF(OR($E$19='Customer Info'!$H$21,$E$19=0),AC157,(AC157/$E$19)*'Customer Info'!$H$21)),)","v":0},{"$f":"IF((OR($F$4=0,$F$4=\"none\")),IF(AD157=0,,IF(OR($E$4='Customer Info'!$D$18,$E$4=0),AD157,(AD157/$E$4)*'Customer Info'!$D$18)),)","v":0},{"$f":"IF((OR($F$5=0,$F$5=\"none\")),IF(AE157=0,,IF(OR($E$5='Customer Info'!$D$19,$E$5=0),AE157,(AE157/$E$5)*'Customer Info'!$D$19)),)","v":0},{"$f":"IF((OR($F$6=0,$F$6=\"none\")),IF(AF157=0,,IF(OR($E$6='Customer Info'!$D$20,$E$6=0),AF157,(AF157/$E$6)*'Customer Info'!$D$20)),)","v":0},{"$f":"IF((OR($F$7=0,$F$7=\"none\")),IF(AG157=0,,IF(OR($E$7='Customer Info'!$D$21,$E$7=0),AG157,(AG157/$E$7)*'Customer Info'!$D$21)),)","v":0},0,0,{"$f":"IF(E157=\"plate waste\",,IF('Customer Info'!$M$18=0,'Log Sheet'!AY157,'Customer Info'!$M$18*'Log Sheet'!AY157))","v":0},{"$f":"IF(E157=\"plate waste\",IF(OR(C157=\"patient\",C157=\"patient beverages\"),IF('Customer Info'!$M$27=0,AY157*'Customer Info'!$M$18,AY157*'Customer Info'!$M$27),IF(C157=\"cafeteria\",IF('Customer Info'!$M$28=0,AY157*'Customer Info'!$M$18,AY157*'Customer Info'!$M$28),IF(C157=\"other1\",IF('Customer Info'!$M$29=0,AY157*'Customer Info'!$M$18,AY157*'Customer Info'!$M$29),))),)","v":0},0,{"$f":"IF($F$4=\"lunch\",IF(S157=0,,(S157/$E$5)*'Customer Info'!$D$18),)","v":0},{"$f":"IF($F$4=\"dinner\",IF(T157=0,,(T157/$E$6)*'Customer Info'!$D$18),)","v":0},{"$f":"IF($F$4=\"other\",IF(U157=0,,(U157/$E$7)*'Customer Info'!$D$18),)","v":0},0,{"$f":"IF($F$5=\"breakfast\",IF(R157=0,,(R157/$E$4)*'Customer Info'!$D$19),)","v":0},{"$f":"IF($F$5=\"dinner\",IF(T157=0,,(T157/$E$6)*'Customer Info'!$D$19),)","v":0},{"$f":"IF($F$5=\"other\",IF(U157=0,,(U157/$E$7)*'Customer Info'!$D$19),)","v":0},0,{"$f":"IF($F$6=\"breakfast\",IF(R157=0,,(R157/$E$4)*'Customer Info'!$D$20),)","v":0},{"$f":"IF($F$6=\"lunch\",IF(S157=0,,(S157/$E$5)*'Customer Info'!$D$20),)","v":0},{"$f":"IF($F$6=\"other\",IF(U157=0,,(U157/$E$7)*'Customer Info'!$D$20),)","v":0},0,{"$f":"IF($F$7=\"breakfast\",IF(R157=0,,(R157/$E$4)*'Customer Info'!$D$21),)","v":0},{"$f":"IF($F$7=\"lunch\",IF(S157=0,,(S157/$E$5)*'Customer Info'!$D$21),)","v":0},{"$f":"IF($F$7=\"dinner\",IF(T157=0,,(T157/$E$6)*'Customer Info'!$D$21),)","v":0},0,{"$f":"IF($F$10=\"lunch\",IF(W157=0,,(W157/$E$11)*'Customer Info'!$F$18),)","v":0},{"$f":"IF($F$10=\"dinner\",IF(X157=0,,(X157/$E$12)*'Customer Info'!$F$18),)","v":0},{"$f":"IF($F$10=\"other\",IF(Y157=0,,(Y157/$E$13)*'Customer Info'!$F$18),)","v":0},0,{"$f":"IF($F$11=\"breakfast\",IF(V157=0,,(V157/$E$10)*'Customer Info'!$F$19),)","v":0},{"$f":"IF($F$11=\"dinner\",IF(X157=0,,(X157/$E$12)*'Customer Info'!$F$19),)","v":0},{"$f":"IF($F$11=\"other\",IF(Y157=0,,(Y157/$E$13)*'Customer Info'!$F$19),)","v":0},0,{"$f":"IF($F$12=\"breakfast\",IF(V157=0,,(V157/$E$10)*'Customer Info'!$F$20),)","v":0},{"$f":"IF($F$12=\"lunch\",IF(W157=0,,(W157/$E$11)*'Customer Info'!$F$20),)","v":0},{"$f":"IF($F$12=\"other\",IF(Y157=0,,(Y157/$E$13)*'Customer Info'!$F$20),)","v":0},0,{"$f":"IF($F$13=\"breakfast\",IF(V157=0,,(V157/$E$10)*'Customer Info'!$F$21),)","v":0},{"$f":"IF($F$13=\"lunch\",IF(W157=0,,(W157/$E$11)*'Customer Info'!$F$21),)","v":0},{"$f":"IF($F$13=\"dinner\",IF(X157=0,,(X157/$E$12)*'Customer Info'!$F$21),)","v":0},0,{"$f":"IF($F$16=\"lunch\",IF(AA157=0,,(AA157/$E$17)*'Customer Info'!$H$18),)","v":0},{"$f":"IF($F$16=\"dinner\",IF(AB157=0,,(AB157/$E$18)*'Customer Info'!$H$18),)","v":0},{"$f":"IF($F$16=\"other\",IF(AC157=0,,(AC157/$E$19)*'Customer Info'!$H$18),)","v":0},0,{"$f":"IF($F$17=\"breakfast\",IF(Z157=0,,(Z157/$E$16)*'Customer Info'!$H$19),)","v":0},{"$f":"IF($F$17=\"dinner\",IF(AB157=0,,(AB157/$E$18)*'Customer Info'!$H$19),)","v":0},{"$f":"IF($F$17=\"other\",IF(AC157=0,,(AC157/$E$19)*'Customer Info'!$H$19),)","v":0},0,{"$f":"IF($F$18=\"breakfast\",IF(Z157=0,,(Z157/$E$16)*'Customer Info'!$H$20),)","v":0},{"$f":"IF($F$18=\"lunch\",IF(AA157=0,,(AA157/$E$17)*'Customer Info'!$H$20),)","v":0},{"$f":"IF($F$18=\"other\",IF(AC157=0,,(AC157/$E$19)*'Customer Info'!$H$20),)","v":0},0,{"$f":"IF($F$19=\"breakfast\",IF(Z157=0,,(Z157/$E$16)*'Customer Info'!$H$21),)","v":0},{"$f":"IF($F$19=\"lunch\",IF(AA157=0,,(AA157/$E$17)*'Customer Info'!$H$21),)","v":0},{"$f":"IF($F$19=\"dinner\",IF(AB157=0,,(AB157/$E$18)*'Customer Info'!$H$21),)","v":0},0,0,0,0,0,""]
[null,null,null,null,null,null,null,null,null,null,0,0,0,0,0,0,0,0,0,0,0,0,0,0,0,0,0,0,0,0,0,0,0,{"$f":"IF((OR($F$4=0,$F$4=\"none\")),IF(R158=0,,IF(OR($E$4='Customer Info'!$D$18,$E$4=0),R158,(R158/$E$4)*'Customer Info'!$D$18)),)","v":0},{"$f":"IF((OR($F$5=0,$F$5=\"none\")),IF(S158=0,,IF(OR($E$5='Customer Info'!$D$18,$E$5=0),S158,(S158/$E$5)*'Customer Info'!$D$19)),)","v":0},{"$f":"IF((OR($F$6=0,$F$6=\"none\")),IF(T158=0,,IF(OR($E$6='Customer Info'!$D$18,$E$6=0),T158,(T158/$E$6)*'Customer Info'!$D$20)),)","v":0},{"$f":"IF((OR($F$7=0,$F$7=\"none\")),IF(U158=0,,IF(OR($E$7='Customer Info'!$D$18,$E$7=0),U158,(U158/$E$7)*'Customer Info'!$D$21)),)","v":0},{"$f":"IF((OR($F$10=0,$F$10=\"none\")),IF(V158=0,,IF(OR($E$10='Customer Info'!$F$18,$E$10=0),V158,(V158/$E$10)*'Customer Info'!$F$18)),)","v":0},{"$f":"IF((OR($F$11=0,$F$11=\"none\")),IF(W158=0,,IF(OR($E$11='Customer Info'!$F$19,$E$11=0),W158,(W158/$E$11)*'Customer Info'!$F$19)),)","v":0},{"$f":"IF((OR($F$12=0,$F$12=\"none\")),IF(X158=0,,IF(OR($E$12='Customer Info'!$F$20,$E$12=0),X158,(X158/$E$12)*'Customer Info'!$F$20)),)","v":0},{"$f":"IF((OR($F$13=0,$F$13=\"none\")),IF(Y158=0,,IF(OR($E$13='Customer Info'!$F$21,$E$13=0),Y158,(Y158/$E$13)*'Customer Info'!$F$21)),)","v":0},{"$f":"IF((OR($F$16=0,$F$16=\"none\")),IF(Z158=0,,IF(OR($E$16='Customer Info'!$H$18,$E$16=0),Z158,(Z158/$E$16)*'Customer Info'!$H$18)),)","v":0},{"$f":"IF((OR($F$17=0,$F$17=\"none\")),IF(AA158=0,,IF(OR($E$17='Customer Info'!$H$19,$E$17=0),AA158,(AA158/$E$17)*'Customer Info'!$H$19)),)","v":0},{"$f":"IF((OR($F$18=0,$F$18=\"none\")),IF(AB158=0,,IF(OR($E$18='Customer Info'!$H$20,$E$18=0),AB158,(AB158/$E$18)*'Customer Info'!$H$20)),)","v":0},{"$f":"IF((OR($F$19=0,$F$19=\"none\")),IF(AC158=0,,IF(OR($E$19='Customer Info'!$H$21,$E$19=0),AC158,(AC158/$E$19)*'Customer Info'!$H$21)),)","v":0},{"$f":"IF((OR($F$4=0,$F$4=\"none\")),IF(AD158=0,,IF(OR($E$4='Customer Info'!$D$18,$E$4=0),AD158,(AD158/$E$4)*'Customer Info'!$D$18)),)","v":0},{"$f":"IF((OR($F$5=0,$F$5=\"none\")),IF(AE158=0,,IF(OR($E$5='Customer Info'!$D$19,$E$5=0),AE158,(AE158/$E$5)*'Customer Info'!$D$19)),)","v":0},{"$f":"IF((OR($F$6=0,$F$6=\"none\")),IF(AF158=0,,IF(OR($E$6='Customer Info'!$D$20,$E$6=0),AF158,(AF158/$E$6)*'Customer Info'!$D$20)),)","v":0},{"$f":"IF((OR($F$7=0,$F$7=\"none\")),IF(AG158=0,,IF(OR($E$7='Customer Info'!$D$21,$E$7=0),AG158,(AG158/$E$7)*'Customer Info'!$D$21)),)","v":0},0,0,{"$f":"IF(E158=\"plate waste\",,IF('Customer Info'!$M$18=0,'Log Sheet'!AY158,'Customer Info'!$M$18*'Log Sheet'!AY158))","v":0},{"$f":"IF(E158=\"plate waste\",IF(OR(C158=\"patient\",C158=\"patient beverages\"),IF('Customer Info'!$M$27=0,AY158*'Customer Info'!$M$18,AY158*'Customer Info'!$M$27),IF(C158=\"cafeteria\",IF('Customer Info'!$M$28=0,AY158*'Customer Info'!$M$18,AY158*'Customer Info'!$M$28),IF(C158=\"other1\",IF('Customer Info'!$M$29=0,AY158*'Customer Info'!$M$18,AY158*'Customer Info'!$M$29),))),)","v":0},0,{"$f":"IF($F$4=\"lunch\",IF(S158=0,,(S158/$E$5)*'Customer Info'!$D$18),)","v":0},{"$f":"IF($F$4=\"dinner\",IF(T158=0,,(T158/$E$6)*'Customer Info'!$D$18),)","v":0},{"$f":"IF($F$4=\"other\",IF(U158=0,,(U158/$E$7)*'Customer Info'!$D$18),)","v":0},0,{"$f":"IF($F$5=\"breakfast\",IF(R158=0,,(R158/$E$4)*'Customer Info'!$D$19),)","v":0},{"$f":"IF($F$5=\"dinner\",IF(T158=0,,(T158/$E$6)*'Customer Info'!$D$19),)","v":0},{"$f":"IF($F$5=\"other\",IF(U158=0,,(U158/$E$7)*'Customer Info'!$D$19),)","v":0},0,{"$f":"IF($F$6=\"breakfast\",IF(R158=0,,(R158/$E$4)*'Customer Info'!$D$20),)","v":0},{"$f":"IF($F$6=\"lunch\",IF(S158=0,,(S158/$E$5)*'Customer Info'!$D$20),)","v":0},{"$f":"IF($F$6=\"other\",IF(U158=0,,(U158/$E$7)*'Customer Info'!$D$20),)","v":0},0,{"$f":"IF($F$7=\"breakfast\",IF(R158=0,,(R158/$E$4)*'Customer Info'!$D$21),)","v":0},{"$f":"IF($F$7=\"lunch\",IF(S158=0,,(S158/$E$5)*'Customer Info'!$D$21),)","v":0},{"$f":"IF($F$7=\"dinner\",IF(T158=0,,(T158/$E$6)*'Customer Info'!$D$21),)","v":0},0,{"$f":"IF($F$10=\"lunch\",IF(W158=0,,(W158/$E$11)*'Customer Info'!$F$18),)","v":0},{"$f":"IF($F$10=\"dinner\",IF(X158=0,,(X158/$E$12)*'Customer Info'!$F$18),)","v":0},{"$f":"IF($F$10=\"other\",IF(Y158=0,,(Y158/$E$13)*'Customer Info'!$F$18),)","v":0},0,{"$f":"IF($F$11=\"breakfast\",IF(V158=0,,(V158/$E$10)*'Customer Info'!$F$19),)","v":0},{"$f":"IF($F$11=\"dinner\",IF(X158=0,,(X158/$E$12)*'Customer Info'!$F$19),)","v":0},{"$f":"IF($F$11=\"other\",IF(Y158=0,,(Y158/$E$13)*'Customer Info'!$F$19),)","v":0},0,{"$f":"IF($F$12=\"breakfast\",IF(V158=0,,(V158/$E$10)*'Customer Info'!$F$20),)","v":0},{"$f":"IF($F$12=\"lunch\",IF(W158=0,,(W158/$E$11)*'Customer Info'!$F$20),)","v":0},{"$f":"IF($F$12=\"other\",IF(Y158=0,,(Y158/$E$13)*'Customer Info'!$F$20),)","v":0},0,{"$f":"IF($F$13=\"breakfast\",IF(V158=0,,(V158/$E$10)*'Customer Info'!$F$21),)","v":0},{"$f":"IF($F$13=\"lunch\",IF(W158=0,,(W158/$E$11)*'Customer Info'!$F$21),)","v":0},{"$f":"IF($F$13=\"dinner\",IF(X158=0,,(X158/$E$12)*'Customer Info'!$F$21),)","v":0},0,{"$f":"IF($F$16=\"lunch\",IF(AA158=0,,(AA158/$E$17)*'Customer Info'!$H$18),)","v":0},{"$f":"IF($F$16=\"dinner\",IF(AB158=0,,(AB158/$E$18)*'Customer Info'!$H$18),)","v":0},{"$f":"IF($F$16=\"other\",IF(AC158=0,,(AC158/$E$19)*'Customer Info'!$H$18),)","v":0},0,{"$f":"IF($F$17=\"breakfast\",IF(Z158=0,,(Z158/$E$16)*'Customer Info'!$H$19),)","v":0},{"$f":"IF($F$17=\"dinner\",IF(AB158=0,,(AB158/$E$18)*'Customer Info'!$H$19),)","v":0},{"$f":"IF($F$17=\"other\",IF(AC158=0,,(AC158/$E$19)*'Customer Info'!$H$19),)","v":0},0,{"$f":"IF($F$18=\"breakfast\",IF(Z158=0,,(Z158/$E$16)*'Customer Info'!$H$20),)","v":0},{"$f":"IF($F$18=\"lunch\",IF(AA158=0,,(AA158/$E$17)*'Customer Info'!$H$20),)","v":0},{"$f":"IF($F$18=\"other\",IF(AC158=0,,(AC158/$E$19)*'Customer Info'!$H$20),)","v":0},0,{"$f":"IF($F$19=\"breakfast\",IF(Z158=0,,(Z158/$E$16)*'Customer Info'!$H$21),)","v":0},{"$f":"IF($F$19=\"lunch\",IF(AA158=0,,(AA158/$E$17)*'Customer Info'!$H$21),)","v":0},{"$f":"IF($F$19=\"dinner\",IF(AB158=0,,(AB158/$E$18)*'Customer Info'!$H$21),)","v":0},0,0,0,0,0,""]
[null,null,null,null,null,null,null,null,null,null,0,0,0,0,0,0,0,0,0,0,0,0,0,0,0,0,0,0,0,0,0,0,0,{"$f":"IF((OR($F$4=0,$F$4=\"none\")),IF(R159=0,,IF(OR($E$4='Customer Info'!$D$18,$E$4=0),R159,(R159/$E$4)*'Customer Info'!$D$18)),)","v":0},{"$f":"IF((OR($F$5=0,$F$5=\"none\")),IF(S159=0,,IF(OR($E$5='Customer Info'!$D$18,$E$5=0),S159,(S159/$E$5)*'Customer Info'!$D$19)),)","v":0},{"$f":"IF((OR($F$6=0,$F$6=\"none\")),IF(T159=0,,IF(OR($E$6='Customer Info'!$D$18,$E$6=0),T159,(T159/$E$6)*'Customer Info'!$D$20)),)","v":0},{"$f":"IF((OR($F$7=0,$F$7=\"none\")),IF(U159=0,,IF(OR($E$7='Customer Info'!$D$18,$E$7=0),U159,(U159/$E$7)*'Customer Info'!$D$21)),)","v":0},{"$f":"IF((OR($F$10=0,$F$10=\"none\")),IF(V159=0,,IF(OR($E$10='Customer Info'!$F$18,$E$10=0),V159,(V159/$E$10)*'Customer Info'!$F$18)),)","v":0},{"$f":"IF((OR($F$11=0,$F$11=\"none\")),IF(W159=0,,IF(OR($E$11='Customer Info'!$F$19,$E$11=0),W159,(W159/$E$11)*'Customer Info'!$F$19)),)","v":0},{"$f":"IF((OR($F$12=0,$F$12=\"none\")),IF(X159=0,,IF(OR($E$12='Customer Info'!$F$20,$E$12=0),X159,(X159/$E$12)*'Customer Info'!$F$20)),)","v":0},{"$f":"IF((OR($F$13=0,$F$13=\"none\")),IF(Y159=0,,IF(OR($E$13='Customer Info'!$F$21,$E$13=0),Y159,(Y159/$E$13)*'Customer Info'!$F$21)),)","v":0},{"$f":"IF((OR($F$16=0,$F$16=\"none\")),IF(Z159=0,,IF(OR($E$16='Customer Info'!$H$18,$E$16=0),Z159,(Z159/$E$16)*'Customer Info'!$H$18)),)","v":0},{"$f":"IF((OR($F$17=0,$F$17=\"none\")),IF(AA159=0,,IF(OR($E$17='Customer Info'!$H$19,$E$17=0),AA159,(AA159/$E$17)*'Customer Info'!$H$19)),)","v":0},{"$f":"IF((OR($F$18=0,$F$18=\"none\")),IF(AB159=0,,IF(OR($E$18='Customer Info'!$H$20,$E$18=0),AB159,(AB159/$E$18)*'Customer Info'!$H$20)),)","v":0},{"$f":"IF((OR($F$19=0,$F$19=\"none\")),IF(AC159=0,,IF(OR($E$19='Customer Info'!$H$21,$E$19=0),AC159,(AC159/$E$19)*'Customer Info'!$H$21)),)","v":0},{"$f":"IF((OR($F$4=0,$F$4=\"none\")),IF(AD159=0,,IF(OR($E$4='Customer Info'!$D$18,$E$4=0),AD159,(AD159/$E$4)*'Customer Info'!$D$18)),)","v":0},{"$f":"IF((OR($F$5=0,$F$5=\"none\")),IF(AE159=0,,IF(OR($E$5='Customer Info'!$D$19,$E$5=0),AE159,(AE159/$E$5)*'Customer Info'!$D$19)),)","v":0},{"$f":"IF((OR($F$6=0,$F$6=\"none\")),IF(AF159=0,,IF(OR($E$6='Customer Info'!$D$20,$E$6=0),AF159,(AF159/$E$6)*'Customer Info'!$D$20)),)","v":0},{"$f":"IF((OR($F$7=0,$F$7=\"none\")),IF(AG159=0,,IF(OR($E$7='Customer Info'!$D$21,$E$7=0),AG159,(AG159/$E$7)*'Customer Info'!$D$21)),)","v":0},0,0,{"$f":"IF(E159=\"plate waste\",,IF('Customer Info'!$M$18=0,'Log Sheet'!AY159,'Customer Info'!$M$18*'Log Sheet'!AY159))","v":0},{"$f":"IF(E159=\"plate waste\",IF(OR(C159=\"patient\",C159=\"patient beverages\"),IF('Customer Info'!$M$27=0,AY159*'Customer Info'!$M$18,AY159*'Customer Info'!$M$27),IF(C159=\"cafeteria\",IF('Customer Info'!$M$28=0,AY159*'Customer Info'!$M$18,AY159*'Customer Info'!$M$28),IF(C159=\"other1\",IF('Customer Info'!$M$29=0,AY159*'Customer Info'!$M$18,AY159*'Customer Info'!$M$29),))),)","v":0},0,{"$f":"IF($F$4=\"lunch\",IF(S159=0,,(S159/$E$5)*'Customer Info'!$D$18),)","v":0},{"$f":"IF($F$4=\"dinner\",IF(T159=0,,(T159/$E$6)*'Customer Info'!$D$18),)","v":0},{"$f":"IF($F$4=\"other\",IF(U159=0,,(U159/$E$7)*'Customer Info'!$D$18),)","v":0},0,{"$f":"IF($F$5=\"breakfast\",IF(R159=0,,(R159/$E$4)*'Customer Info'!$D$19),)","v":0},{"$f":"IF($F$5=\"dinner\",IF(T159=0,,(T159/$E$6)*'Customer Info'!$D$19),)","v":0},{"$f":"IF($F$5=\"other\",IF(U159=0,,(U159/$E$7)*'Customer Info'!$D$19),)","v":0},0,{"$f":"IF($F$6=\"breakfast\",IF(R159=0,,(R159/$E$4)*'Customer Info'!$D$20),)","v":0},{"$f":"IF($F$6=\"lunch\",IF(S159=0,,(S159/$E$5)*'Customer Info'!$D$20),)","v":0},{"$f":"IF($F$6=\"other\",IF(U159=0,,(U159/$E$7)*'Customer Info'!$D$20),)","v":0},0,{"$f":"IF($F$7=\"breakfast\",IF(R159=0,,(R159/$E$4)*'Customer Info'!$D$21),)","v":0},{"$f":"IF($F$7=\"lunch\",IF(S159=0,,(S159/$E$5)*'Customer Info'!$D$21),)","v":0},{"$f":"IF($F$7=\"dinner\",IF(T159=0,,(T159/$E$6)*'Customer Info'!$D$21),)","v":0},0,{"$f":"IF($F$10=\"lunch\",IF(W159=0,,(W159/$E$11)*'Customer Info'!$F$18),)","v":0},{"$f":"IF($F$10=\"dinner\",IF(X159=0,,(X159/$E$12)*'Customer Info'!$F$18),)","v":0},{"$f":"IF($F$10=\"other\",IF(Y159=0,,(Y159/$E$13)*'Customer Info'!$F$18),)","v":0},0,{"$f":"IF($F$11=\"breakfast\",IF(V159=0,,(V159/$E$10)*'Customer Info'!$F$19),)","v":0},{"$f":"IF($F$11=\"dinner\",IF(X159=0,,(X159/$E$12)*'Customer Info'!$F$19),)","v":0},{"$f":"IF($F$11=\"other\",IF(Y159=0,,(Y159/$E$13)*'Customer Info'!$F$19),)","v":0},0,{"$f":"IF($F$12=\"breakfast\",IF(V159=0,,(V159/$E$10)*'Customer Info'!$F$20),)","v":0},{"$f":"IF($F$12=\"lunch\",IF(W159=0,,(W159/$E$11)*'Customer Info'!$F$20),)","v":0},{"$f":"IF($F$12=\"other\",IF(Y159=0,,(Y159/$E$13)*'Customer Info'!$F$20),)","v":0},0,{"$f":"IF($F$13=\"breakfast\",IF(V159=0,,(V159/$E$10)*'Customer Info'!$F$21),)","v":0},{"$f":"IF($F$13=\"lunch\",IF(W159=0,,(W159/$E$11)*'Customer Info'!$F$21),)","v":0},{"$f":"IF($F$13=\"dinner\",IF(X159=0,,(X159/$E$12)*'Customer Info'!$F$21),)","v":0},0,{"$f":"IF($F$16=\"lunch\",IF(AA159=0,,(AA159/$E$17)*'Customer Info'!$H$18),)","v":0},{"$f":"IF($F$16=\"dinner\",IF(AB159=0,,(AB159/$E$18)*'Customer Info'!$H$18),)","v":0},{"$f":"IF($F$16=\"other\",IF(AC159=0,,(AC159/$E$19)*'Customer Info'!$H$18),)","v":0},0,{"$f":"IF($F$17=\"breakfast\",IF(Z159=0,,(Z159/$E$16)*'Customer Info'!$H$19),)","v":0},{"$f":"IF($F$17=\"dinner\",IF(AB159=0,,(AB159/$E$18)*'Customer Info'!$H$19),)","v":0},{"$f":"IF($F$17=\"other\",IF(AC159=0,,(AC159/$E$19)*'Customer Info'!$H$19),)","v":0},0,{"$f":"IF($F$18=\"breakfast\",IF(Z159=0,,(Z159/$E$16)*'Customer Info'!$H$20),)","v":0},{"$f":"IF($F$18=\"lunch\",IF(AA159=0,,(AA159/$E$17)*'Customer Info'!$H$20),)","v":0},{"$f":"IF($F$18=\"other\",IF(AC159=0,,(AC159/$E$19)*'Customer Info'!$H$20),)","v":0},0,{"$f":"IF($F$19=\"breakfast\",IF(Z159=0,,(Z159/$E$16)*'Customer Info'!$H$21),)","v":0},{"$f":"IF($F$19=\"lunch\",IF(AA159=0,,(AA159/$E$17)*'Customer Info'!$H$21),)","v":0},{"$f":"IF($F$19=\"dinner\",IF(AB159=0,,(AB159/$E$18)*'Customer Info'!$H$21),)","v":0},0,0,0,0,0,""]
[null,null,null,null,null,null,null,null,null,null,0,0,0,0,0,0,0,0,0,0,0,0,0,0,0,0,0,0,0,0,0,0,0,{"$f":"IF((OR($F$4=0,$F$4=\"none\")),IF(R160=0,,IF(OR($E$4='Customer Info'!$D$18,$E$4=0),R160,(R160/$E$4)*'Customer Info'!$D$18)),)","v":0},{"$f":"IF((OR($F$5=0,$F$5=\"none\")),IF(S160=0,,IF(OR($E$5='Customer Info'!$D$18,$E$5=0),S160,(S160/$E$5)*'Customer Info'!$D$19)),)","v":0},{"$f":"IF((OR($F$6=0,$F$6=\"none\")),IF(T160=0,,IF(OR($E$6='Customer Info'!$D$18,$E$6=0),T160,(T160/$E$6)*'Customer Info'!$D$20)),)","v":0},{"$f":"IF((OR($F$7=0,$F$7=\"none\")),IF(U160=0,,IF(OR($E$7='Customer Info'!$D$18,$E$7=0),U160,(U160/$E$7)*'Customer Info'!$D$21)),)","v":0},{"$f":"IF((OR($F$10=0,$F$10=\"none\")),IF(V160=0,,IF(OR($E$10='Customer Info'!$F$18,$E$10=0),V160,(V160/$E$10)*'Customer Info'!$F$18)),)","v":0},{"$f":"IF((OR($F$11=0,$F$11=\"none\")),IF(W160=0,,IF(OR($E$11='Customer Info'!$F$19,$E$11=0),W160,(W160/$E$11)*'Customer Info'!$F$19)),)","v":0},{"$f":"IF((OR($F$12=0,$F$12=\"none\")),IF(X160=0,,IF(OR($E$12='Customer Info'!$F$20,$E$12=0),X160,(X160/$E$12)*'Customer Info'!$F$20)),)","v":0},{"$f":"IF((OR($F$13=0,$F$13=\"none\")),IF(Y160=0,,IF(OR($E$13='Customer Info'!$F$21,$E$13=0),Y160,(Y160/$E$13)*'Customer Info'!$F$21)),)","v":0},{"$f":"IF((OR($F$16=0,$F$16=\"none\")),IF(Z160=0,,IF(OR($E$16='Customer Info'!$H$18,$E$16=0),Z160,(Z160/$E$16)*'Customer Info'!$H$18)),)","v":0},{"$f":"IF((OR($F$17=0,$F$17=\"none\")),IF(AA160=0,,IF(OR($E$17='Customer Info'!$H$19,$E$17=0),AA160,(AA160/$E$17)*'Customer Info'!$H$19)),)","v":0},{"$f":"IF((OR($F$18=0,$F$18=\"none\")),IF(AB160=0,,IF(OR($E$18='Customer Info'!$H$20,$E$18=0),AB160,(AB160/$E$18)*'Customer Info'!$H$20)),)","v":0},{"$f":"IF((OR($F$19=0,$F$19=\"none\")),IF(AC160=0,,IF(OR($E$19='Customer Info'!$H$21,$E$19=0),AC160,(AC160/$E$19)*'Customer Info'!$H$21)),)","v":0},{"$f":"IF((OR($F$4=0,$F$4=\"none\")),IF(AD160=0,,IF(OR($E$4='Customer Info'!$D$18,$E$4=0),AD160,(AD160/$E$4)*'Customer Info'!$D$18)),)","v":0},{"$f":"IF((OR($F$5=0,$F$5=\"none\")),IF(AE160=0,,IF(OR($E$5='Customer Info'!$D$19,$E$5=0),AE160,(AE160/$E$5)*'Customer Info'!$D$19)),)","v":0},{"$f":"IF((OR($F$6=0,$F$6=\"none\")),IF(AF160=0,,IF(OR($E$6='Customer Info'!$D$20,$E$6=0),AF160,(AF160/$E$6)*'Customer Info'!$D$20)),)","v":0},{"$f":"IF((OR($F$7=0,$F$7=\"none\")),IF(AG160=0,,IF(OR($E$7='Customer Info'!$D$21,$E$7=0),AG160,(AG160/$E$7)*'Customer Info'!$D$21)),)","v":0},0,0,{"$f":"IF(E160=\"plate waste\",,IF('Customer Info'!$M$18=0,'Log Sheet'!AY160,'Customer Info'!$M$18*'Log Sheet'!AY160))","v":0},{"$f":"IF(E160=\"plate waste\",IF(OR(C160=\"patient\",C160=\"patient beverages\"),IF('Customer Info'!$M$27=0,AY160*'Customer Info'!$M$18,AY160*'Customer Info'!$M$27),IF(C160=\"cafeteria\",IF('Customer Info'!$M$28=0,AY160*'Customer Info'!$M$18,AY160*'Customer Info'!$M$28),IF(C160=\"other1\",IF('Customer Info'!$M$29=0,AY160*'Customer Info'!$M$18,AY160*'Customer Info'!$M$29),))),)","v":0},0,{"$f":"IF($F$4=\"lunch\",IF(S160=0,,(S160/$E$5)*'Customer Info'!$D$18),)","v":0},{"$f":"IF($F$4=\"dinner\",IF(T160=0,,(T160/$E$6)*'Customer Info'!$D$18),)","v":0},{"$f":"IF($F$4=\"other\",IF(U160=0,,(U160/$E$7)*'Customer Info'!$D$18),)","v":0},0,{"$f":"IF($F$5=\"breakfast\",IF(R160=0,,(R160/$E$4)*'Customer Info'!$D$19),)","v":0},{"$f":"IF($F$5=\"dinner\",IF(T160=0,,(T160/$E$6)*'Customer Info'!$D$19),)","v":0},{"$f":"IF($F$5=\"other\",IF(U160=0,,(U160/$E$7)*'Customer Info'!$D$19),)","v":0},0,{"$f":"IF($F$6=\"breakfast\",IF(R160=0,,(R160/$E$4)*'Customer Info'!$D$20),)","v":0},{"$f":"IF($F$6=\"lunch\",IF(S160=0,,(S160/$E$5)*'Customer Info'!$D$20),)","v":0},{"$f":"IF($F$6=\"other\",IF(U160=0,,(U160/$E$7)*'Customer Info'!$D$20),)","v":0},0,{"$f":"IF($F$7=\"breakfast\",IF(R160=0,,(R160/$E$4)*'Customer Info'!$D$21),)","v":0},{"$f":"IF($F$7=\"lunch\",IF(S160=0,,(S160/$E$5)*'Customer Info'!$D$21),)","v":0},{"$f":"IF($F$7=\"dinner\",IF(T160=0,,(T160/$E$6)*'Customer Info'!$D$21),)","v":0},0,{"$f":"IF($F$10=\"lunch\",IF(W160=0,,(W160/$E$11)*'Customer Info'!$F$18),)","v":0},{"$f":"IF($F$10=\"dinner\",IF(X160=0,,(X160/$E$12)*'Customer Info'!$F$18),)","v":0},{"$f":"IF($F$10=\"other\",IF(Y160=0,,(Y160/$E$13)*'Customer Info'!$F$18),)","v":0},0,{"$f":"IF($F$11=\"breakfast\",IF(V160=0,,(V160/$E$10)*'Customer Info'!$F$19),)","v":0},{"$f":"IF($F$11=\"dinner\",IF(X160=0,,(X160/$E$12)*'Customer Info'!$F$19),)","v":0},{"$f":"IF($F$11=\"other\",IF(Y160=0,,(Y160/$E$13)*'Customer Info'!$F$19),)","v":0},0,{"$f":"IF($F$12=\"breakfast\",IF(V160=0,,(V160/$E$10)*'Customer Info'!$F$20),)","v":0},{"$f":"IF($F$12=\"lunch\",IF(W160=0,,(W160/$E$11)*'Customer Info'!$F$20),)","v":0},{"$f":"IF($F$12=\"other\",IF(Y160=0,,(Y160/$E$13)*'Customer Info'!$F$20),)","v":0},0,{"$f":"IF($F$13=\"breakfast\",IF(V160=0,,(V160/$E$10)*'Customer Info'!$F$21),)","v":0},{"$f":"IF($F$13=\"lunch\",IF(W160=0,,(W160/$E$11)*'Customer Info'!$F$21),)","v":0},{"$f":"IF($F$13=\"dinner\",IF(X160=0,,(X160/$E$12)*'Customer Info'!$F$21),)","v":0},0,{"$f":"IF($F$16=\"lunch\",IF(AA160=0,,(AA160/$E$17)*'Customer Info'!$H$18),)","v":0},{"$f":"IF($F$16=\"dinner\",IF(AB160=0,,(AB160/$E$18)*'Customer Info'!$H$18),)","v":0},{"$f":"IF($F$16=\"other\",IF(AC160=0,,(AC160/$E$19)*'Customer Info'!$H$18),)","v":0},0,{"$f":"IF($F$17=\"breakfast\",IF(Z160=0,,(Z160/$E$16)*'Customer Info'!$H$19),)","v":0},{"$f":"IF($F$17=\"dinner\",IF(AB160=0,,(AB160/$E$18)*'Customer Info'!$H$19),)","v":0},{"$f":"IF($F$17=\"other\",IF(AC160=0,,(AC160/$E$19)*'Customer Info'!$H$19),)","v":0},0,{"$f":"IF($F$18=\"breakfast\",IF(Z160=0,,(Z160/$E$16)*'Customer Info'!$H$20),)","v":0},{"$f":"IF($F$18=\"lunch\",IF(AA160=0,,(AA160/$E$17)*'Customer Info'!$H$20),)","v":0},{"$f":"IF($F$18=\"other\",IF(AC160=0,,(AC160/$E$19)*'Customer Info'!$H$20),)","v":0},0,{"$f":"IF($F$19=\"breakfast\",IF(Z160=0,,(Z160/$E$16)*'Customer Info'!$H$21),)","v":0},{"$f":"IF($F$19=\"lunch\",IF(AA160=0,,(AA160/$E$17)*'Customer Info'!$H$21),)","v":0},{"$f":"IF($F$19=\"dinner\",IF(AB160=0,,(AB160/$E$18)*'Customer Info'!$H$21),)","v":0},0,0,0,0,0,""]
[null,null,null,null,null,null,null,null,null,null,0,0,0,0,0,0,0,0,0,0,0,0,0,0,0,0,0,0,0,0,0,0,0,{"$f":"IF((OR($F$4=0,$F$4=\"none\")),IF(R161=0,,IF(OR($E$4='Customer Info'!$D$18,$E$4=0),R161,(R161/$E$4)*'Customer Info'!$D$18)),)","v":0},{"$f":"IF((OR($F$5=0,$F$5=\"none\")),IF(S161=0,,IF(OR($E$5='Customer Info'!$D$18,$E$5=0),S161,(S161/$E$5)*'Customer Info'!$D$19)),)","v":0},{"$f":"IF((OR($F$6=0,$F$6=\"none\")),IF(T161=0,,IF(OR($E$6='Customer Info'!$D$18,$E$6=0),T161,(T161/$E$6)*'Customer Info'!$D$20)),)","v":0},{"$f":"IF((OR($F$7=0,$F$7=\"none\")),IF(U161=0,,IF(OR($E$7='Customer Info'!$D$18,$E$7=0),U161,(U161/$E$7)*'Customer Info'!$D$21)),)","v":0},{"$f":"IF((OR($F$10=0,$F$10=\"none\")),IF(V161=0,,IF(OR($E$10='Customer Info'!$F$18,$E$10=0),V161,(V161/$E$10)*'Customer Info'!$F$18)),)","v":0},{"$f":"IF((OR($F$11=0,$F$11=\"none\")),IF(W161=0,,IF(OR($E$11='Customer Info'!$F$19,$E$11=0),W161,(W161/$E$11)*'Customer Info'!$F$19)),)","v":0},{"$f":"IF((OR($F$12=0,$F$12=\"none\")),IF(X161=0,,IF(OR($E$12='Customer Info'!$F$20,$E$12=0),X161,(X161/$E$12)*'Customer Info'!$F$20)),)","v":0},{"$f":"IF((OR($F$13=0,$F$13=\"none\")),IF(Y161=0,,IF(OR($E$13='Customer Info'!$F$21,$E$13=0),Y161,(Y161/$E$13)*'Customer Info'!$F$21)),)","v":0},{"$f":"IF((OR($F$16=0,$F$16=\"none\")),IF(Z161=0,,IF(OR($E$16='Customer Info'!$H$18,$E$16=0),Z161,(Z161/$E$16)*'Customer Info'!$H$18)),)","v":0},{"$f":"IF((OR($F$17=0,$F$17=\"none\")),IF(AA161=0,,IF(OR($E$17='Customer Info'!$H$19,$E$17=0),AA161,(AA161/$E$17)*'Customer Info'!$H$19)),)","v":0},{"$f":"IF((OR($F$18=0,$F$18=\"none\")),IF(AB161=0,,IF(OR($E$18='Customer Info'!$H$20,$E$18=0),AB161,(AB161/$E$18)*'Customer Info'!$H$20)),)","v":0},{"$f":"IF((OR($F$19=0,$F$19=\"none\")),IF(AC161=0,,IF(OR($E$19='Customer Info'!$H$21,$E$19=0),AC161,(AC161/$E$19)*'Customer Info'!$H$21)),)","v":0},{"$f":"IF((OR($F$4=0,$F$4=\"none\")),IF(AD161=0,,IF(OR($E$4='Customer Info'!$D$18,$E$4=0),AD161,(AD161/$E$4)*'Customer Info'!$D$18)),)","v":0},{"$f":"IF((OR($F$5=0,$F$5=\"none\")),IF(AE161=0,,IF(OR($E$5='Customer Info'!$D$19,$E$5=0),AE161,(AE161/$E$5)*'Customer Info'!$D$19)),)","v":0},{"$f":"IF((OR($F$6=0,$F$6=\"none\")),IF(AF161=0,,IF(OR($E$6='Customer Info'!$D$20,$E$6=0),AF161,(AF161/$E$6)*'Customer Info'!$D$20)),)","v":0},{"$f":"IF((OR($F$7=0,$F$7=\"none\")),IF(AG161=0,,IF(OR($E$7='Customer Info'!$D$21,$E$7=0),AG161,(AG161/$E$7)*'Customer Info'!$D$21)),)","v":0},0,0,{"$f":"IF(E161=\"plate waste\",,IF('Customer Info'!$M$18=0,'Log Sheet'!AY161,'Customer Info'!$M$18*'Log Sheet'!AY161))","v":0},{"$f":"IF(E161=\"plate waste\",IF(OR(C161=\"patient\",C161=\"patient beverages\"),IF('Customer Info'!$M$27=0,AY161*'Customer Info'!$M$18,AY161*'Customer Info'!$M$27),IF(C161=\"cafeteria\",IF('Customer Info'!$M$28=0,AY161*'Customer Info'!$M$18,AY161*'Customer Info'!$M$28),IF(C161=\"other1\",IF('Customer Info'!$M$29=0,AY161*'Customer Info'!$M$18,AY161*'Customer Info'!$M$29),))),)","v":0},0,{"$f":"IF($F$4=\"lunch\",IF(S161=0,,(S161/$E$5)*'Customer Info'!$D$18),)","v":0},{"$f":"IF($F$4=\"dinner\",IF(T161=0,,(T161/$E$6)*'Customer Info'!$D$18),)","v":0},{"$f":"IF($F$4=\"other\",IF(U161=0,,(U161/$E$7)*'Customer Info'!$D$18),)","v":0},0,{"$f":"IF($F$5=\"breakfast\",IF(R161=0,,(R161/$E$4)*'Customer Info'!$D$19),)","v":0},{"$f":"IF($F$5=\"dinner\",IF(T161=0,,(T161/$E$6)*'Customer Info'!$D$19),)","v":0},{"$f":"IF($F$5=\"other\",IF(U161=0,,(U161/$E$7)*'Customer Info'!$D$19),)","v":0},0,{"$f":"IF($F$6=\"breakfast\",IF(R161=0,,(R161/$E$4)*'Customer Info'!$D$20),)","v":0},{"$f":"IF($F$6=\"lunch\",IF(S161=0,,(S161/$E$5)*'Customer Info'!$D$20),)","v":0},{"$f":"IF($F$6=\"other\",IF(U161=0,,(U161/$E$7)*'Customer Info'!$D$20),)","v":0},0,{"$f":"IF($F$7=\"breakfast\",IF(R161=0,,(R161/$E$4)*'Customer Info'!$D$21),)","v":0},{"$f":"IF($F$7=\"lunch\",IF(S161=0,,(S161/$E$5)*'Customer Info'!$D$21),)","v":0},{"$f":"IF($F$7=\"dinner\",IF(T161=0,,(T161/$E$6)*'Customer Info'!$D$21),)","v":0},0,{"$f":"IF($F$10=\"lunch\",IF(W161=0,,(W161/$E$11)*'Customer Info'!$F$18),)","v":0},{"$f":"IF($F$10=\"dinner\",IF(X161=0,,(X161/$E$12)*'Customer Info'!$F$18),)","v":0},{"$f":"IF($F$10=\"other\",IF(Y161=0,,(Y161/$E$13)*'Customer Info'!$F$18),)","v":0},0,{"$f":"IF($F$11=\"breakfast\",IF(V161=0,,(V161/$E$10)*'Customer Info'!$F$19),)","v":0},{"$f":"IF($F$11=\"dinner\",IF(X161=0,,(X161/$E$12)*'Customer Info'!$F$19),)","v":0},{"$f":"IF($F$11=\"other\",IF(Y161=0,,(Y161/$E$13)*'Customer Info'!$F$19),)","v":0},0,{"$f":"IF($F$12=\"breakfast\",IF(V161=0,,(V161/$E$10)*'Customer Info'!$F$20),)","v":0},{"$f":"IF($F$12=\"lunch\",IF(W161=0,,(W161/$E$11)*'Customer Info'!$F$20),)","v":0},{"$f":"IF($F$12=\"other\",IF(Y161=0,,(Y161/$E$13)*'Customer Info'!$F$20),)","v":0},0,{"$f":"IF($F$13=\"breakfast\",IF(V161=0,,(V161/$E$10)*'Customer Info'!$F$21),)","v":0},{"$f":"IF($F$13=\"lunch\",IF(W161=0,,(W161/$E$11)*'Customer Info'!$F$21),)","v":0},{"$f":"IF($F$13=\"dinner\",IF(X161=0,,(X161/$E$12)*'Customer Info'!$F$21),)","v":0},0,{"$f":"IF($F$16=\"lunch\",IF(AA161=0,,(AA161/$E$17)*'Customer Info'!$H$18),)","v":0},{"$f":"IF($F$16=\"dinner\",IF(AB161=0,,(AB161/$E$18)*'Customer Info'!$H$18),)","v":0},{"$f":"IF($F$16=\"other\",IF(AC161=0,,(AC161/$E$19)*'Customer Info'!$H$18),)","v":0},0,{"$f":"IF($F$17=\"breakfast\",IF(Z161=0,,(Z161/$E$16)*'Customer Info'!$H$19),)","v":0},{"$f":"IF($F$17=\"dinner\",IF(AB161=0,,(AB161/$E$18)*'Customer Info'!$H$19),)","v":0},{"$f":"IF($F$17=\"other\",IF(AC161=0,,(AC161/$E$19)*'Customer Info'!$H$19),)","v":0},0,{"$f":"IF($F$18=\"breakfast\",IF(Z161=0,,(Z161/$E$16)*'Customer Info'!$H$20),)","v":0},{"$f":"IF($F$18=\"lunch\",IF(AA161=0,,(AA161/$E$17)*'Customer Info'!$H$20),)","v":0},{"$f":"IF($F$18=\"other\",IF(AC161=0,,(AC161/$E$19)*'Customer Info'!$H$20),)","v":0},0,{"$f":"IF($F$19=\"breakfast\",IF(Z161=0,,(Z161/$E$16)*'Customer Info'!$H$21),)","v":0},{"$f":"IF($F$19=\"lunch\",IF(AA161=0,,(AA161/$E$17)*'Customer Info'!$H$21),)","v":0},{"$f":"IF($F$19=\"dinner\",IF(AB161=0,,(AB161/$E$18)*'Customer Info'!$H$21),)","v":0},0,0,0,0,0,""]
[null,null,null,null,null,null,null,null,null,null,0,0,0,0,0,0,0,0,0,0,0,0,0,0,0,0,0,0,0,0,0,0,0,{"$f":"IF((OR($F$4=0,$F$4=\"none\")),IF(R162=0,,IF(OR($E$4='Customer Info'!$D$18,$E$4=0),R162,(R162/$E$4)*'Customer Info'!$D$18)),)","v":0},{"$f":"IF((OR($F$5=0,$F$5=\"none\")),IF(S162=0,,IF(OR($E$5='Customer Info'!$D$18,$E$5=0),S162,(S162/$E$5)*'Customer Info'!$D$19)),)","v":0},{"$f":"IF((OR($F$6=0,$F$6=\"none\")),IF(T162=0,,IF(OR($E$6='Customer Info'!$D$18,$E$6=0),T162,(T162/$E$6)*'Customer Info'!$D$20)),)","v":0},{"$f":"IF((OR($F$7=0,$F$7=\"none\")),IF(U162=0,,IF(OR($E$7='Customer Info'!$D$18,$E$7=0),U162,(U162/$E$7)*'Customer Info'!$D$21)),)","v":0},{"$f":"IF((OR($F$10=0,$F$10=\"none\")),IF(V162=0,,IF(OR($E$10='Customer Info'!$F$18,$E$10=0),V162,(V162/$E$10)*'Customer Info'!$F$18)),)","v":0},{"$f":"IF((OR($F$11=0,$F$11=\"none\")),IF(W162=0,,IF(OR($E$11='Customer Info'!$F$19,$E$11=0),W162,(W162/$E$11)*'Customer Info'!$F$19)),)","v":0},{"$f":"IF((OR($F$12=0,$F$12=\"none\")),IF(X162=0,,IF(OR($E$12='Customer Info'!$F$20,$E$12=0),X162,(X162/$E$12)*'Customer Info'!$F$20)),)","v":0},{"$f":"IF((OR($F$13=0,$F$13=\"none\")),IF(Y162=0,,IF(OR($E$13='Customer Info'!$F$21,$E$13=0),Y162,(Y162/$E$13)*'Customer Info'!$F$21)),)","v":0},{"$f":"IF((OR($F$16=0,$F$16=\"none\")),IF(Z162=0,,IF(OR($E$16='Customer Info'!$H$18,$E$16=0),Z162,(Z162/$E$16)*'Customer Info'!$H$18)),)","v":0},{"$f":"IF((OR($F$17=0,$F$17=\"none\")),IF(AA162=0,,IF(OR($E$17='Customer Info'!$H$19,$E$17=0),AA162,(AA162/$E$17)*'Customer Info'!$H$19)),)","v":0},{"$f":"IF((OR($F$18=0,$F$18=\"none\")),IF(AB162=0,,IF(OR($E$18='Customer Info'!$H$20,$E$18=0),AB162,(AB162/$E$18)*'Customer Info'!$H$20)),)","v":0},{"$f":"IF((OR($F$19=0,$F$19=\"none\")),IF(AC162=0,,IF(OR($E$19='Customer Info'!$H$21,$E$19=0),AC162,(AC162/$E$19)*'Customer Info'!$H$21)),)","v":0},{"$f":"IF((OR($F$4=0,$F$4=\"none\")),IF(AD162=0,,IF(OR($E$4='Customer Info'!$D$18,$E$4=0),AD162,(AD162/$E$4)*'Customer Info'!$D$18)),)","v":0},{"$f":"IF((OR($F$5=0,$F$5=\"none\")),IF(AE162=0,,IF(OR($E$5='Customer Info'!$D$19,$E$5=0),AE162,(AE162/$E$5)*'Customer Info'!$D$19)),)","v":0},{"$f":"IF((OR($F$6=0,$F$6=\"none\")),IF(AF162=0,,IF(OR($E$6='Customer Info'!$D$20,$E$6=0),AF162,(AF162/$E$6)*'Customer Info'!$D$20)),)","v":0},{"$f":"IF((OR($F$7=0,$F$7=\"none\")),IF(AG162=0,,IF(OR($E$7='Customer Info'!$D$21,$E$7=0),AG162,(AG162/$E$7)*'Customer Info'!$D$21)),)","v":0},0,0,{"$f":"IF(E162=\"plate waste\",,IF('Customer Info'!$M$18=0,'Log Sheet'!AY162,'Customer Info'!$M$18*'Log Sheet'!AY162))","v":0},{"$f":"IF(E162=\"plate waste\",IF(OR(C162=\"patient\",C162=\"patient beverages\"),IF('Customer Info'!$M$27=0,AY162*'Customer Info'!$M$18,AY162*'Customer Info'!$M$27),IF(C162=\"cafeteria\",IF('Customer Info'!$M$28=0,AY162*'Customer Info'!$M$18,AY162*'Customer Info'!$M$28),IF(C162=\"other1\",IF('Customer Info'!$M$29=0,AY162*'Customer Info'!$M$18,AY162*'Customer Info'!$M$29),))),)","v":0},0,{"$f":"IF($F$4=\"lunch\",IF(S162=0,,(S162/$E$5)*'Customer Info'!$D$18),)","v":0},{"$f":"IF($F$4=\"dinner\",IF(T162=0,,(T162/$E$6)*'Customer Info'!$D$18),)","v":0},{"$f":"IF($F$4=\"other\",IF(U162=0,,(U162/$E$7)*'Customer Info'!$D$18),)","v":0},0,{"$f":"IF($F$5=\"breakfast\",IF(R162=0,,(R162/$E$4)*'Customer Info'!$D$19),)","v":0},{"$f":"IF($F$5=\"dinner\",IF(T162=0,,(T162/$E$6)*'Customer Info'!$D$19),)","v":0},{"$f":"IF($F$5=\"other\",IF(U162=0,,(U162/$E$7)*'Customer Info'!$D$19),)","v":0},0,{"$f":"IF($F$6=\"breakfast\",IF(R162=0,,(R162/$E$4)*'Customer Info'!$D$20),)","v":0},{"$f":"IF($F$6=\"lunch\",IF(S162=0,,(S162/$E$5)*'Customer Info'!$D$20),)","v":0},{"$f":"IF($F$6=\"other\",IF(U162=0,,(U162/$E$7)*'Customer Info'!$D$20),)","v":0},0,{"$f":"IF($F$7=\"breakfast\",IF(R162=0,,(R162/$E$4)*'Customer Info'!$D$21),)","v":0},{"$f":"IF($F$7=\"lunch\",IF(S162=0,,(S162/$E$5)*'Customer Info'!$D$21),)","v":0},{"$f":"IF($F$7=\"dinner\",IF(T162=0,,(T162/$E$6)*'Customer Info'!$D$21),)","v":0},0,{"$f":"IF($F$10=\"lunch\",IF(W162=0,,(W162/$E$11)*'Customer Info'!$F$18),)","v":0},{"$f":"IF($F$10=\"dinner\",IF(X162=0,,(X162/$E$12)*'Customer Info'!$F$18),)","v":0},{"$f":"IF($F$10=\"other\",IF(Y162=0,,(Y162/$E$13)*'Customer Info'!$F$18),)","v":0},0,{"$f":"IF($F$11=\"breakfast\",IF(V162=0,,(V162/$E$10)*'Customer Info'!$F$19),)","v":0},{"$f":"IF($F$11=\"dinner\",IF(X162=0,,(X162/$E$12)*'Customer Info'!$F$19),)","v":0},{"$f":"IF($F$11=\"other\",IF(Y162=0,,(Y162/$E$13)*'Customer Info'!$F$19),)","v":0},0,{"$f":"IF($F$12=\"breakfast\",IF(V162=0,,(V162/$E$10)*'Customer Info'!$F$20),)","v":0},{"$f":"IF($F$12=\"lunch\",IF(W162=0,,(W162/$E$11)*'Customer Info'!$F$20),)","v":0},{"$f":"IF($F$12=\"other\",IF(Y162=0,,(Y162/$E$13)*'Customer Info'!$F$20),)","v":0},0,{"$f":"IF($F$13=\"breakfast\",IF(V162=0,,(V162/$E$10)*'Customer Info'!$F$21),)","v":0},{"$f":"IF($F$13=\"lunch\",IF(W162=0,,(W162/$E$11)*'Customer Info'!$F$21),)","v":0},{"$f":"IF($F$13=\"dinner\",IF(X162=0,,(X162/$E$12)*'Customer Info'!$F$21),)","v":0},0,{"$f":"IF($F$16=\"lunch\",IF(AA162=0,,(AA162/$E$17)*'Customer Info'!$H$18),)","v":0},{"$f":"IF($F$16=\"dinner\",IF(AB162=0,,(AB162/$E$18)*'Customer Info'!$H$18),)","v":0},{"$f":"IF($F$16=\"other\",IF(AC162=0,,(AC162/$E$19)*'Customer Info'!$H$18),)","v":0},0,{"$f":"IF($F$17=\"breakfast\",IF(Z162=0,,(Z162/$E$16)*'Customer Info'!$H$19),)","v":0},{"$f":"IF($F$17=\"dinner\",IF(AB162=0,,(AB162/$E$18)*'Customer Info'!$H$19),)","v":0},{"$f":"IF($F$17=\"other\",IF(AC162=0,,(AC162/$E$19)*'Customer Info'!$H$19),)","v":0},0,{"$f":"IF($F$18=\"breakfast\",IF(Z162=0,,(Z162/$E$16)*'Customer Info'!$H$20),)","v":0},{"$f":"IF($F$18=\"lunch\",IF(AA162=0,,(AA162/$E$17)*'Customer Info'!$H$20),)","v":0},{"$f":"IF($F$18=\"other\",IF(AC162=0,,(AC162/$E$19)*'Customer Info'!$H$20),)","v":0},0,{"$f":"IF($F$19=\"breakfast\",IF(Z162=0,,(Z162/$E$16)*'Customer Info'!$H$21),)","v":0},{"$f":"IF($F$19=\"lunch\",IF(AA162=0,,(AA162/$E$17)*'Customer Info'!$H$21),)","v":0},{"$f":"IF($F$19=\"dinner\",IF(AB162=0,,(AB162/$E$18)*'Customer Info'!$H$21),)","v":0},0,0,0,0,0,""]
[null,null,null,null,null,null,null,null,null,null,0,0,0,0,0,0,0,0,0,0,0,0,0,0,0,0,0,0,0,0,0,0,0,{"$f":"IF((OR($F$4=0,$F$4=\"none\")),IF(R163=0,,IF(OR($E$4='Customer Info'!$D$18,$E$4=0),R163,(R163/$E$4)*'Customer Info'!$D$18)),)","v":0},{"$f":"IF((OR($F$5=0,$F$5=\"none\")),IF(S163=0,,IF(OR($E$5='Customer Info'!$D$18,$E$5=0),S163,(S163/$E$5)*'Customer Info'!$D$19)),)","v":0},{"$f":"IF((OR($F$6=0,$F$6=\"none\")),IF(T163=0,,IF(OR($E$6='Customer Info'!$D$18,$E$6=0),T163,(T163/$E$6)*'Customer Info'!$D$20)),)","v":0},{"$f":"IF((OR($F$7=0,$F$7=\"none\")),IF(U163=0,,IF(OR($E$7='Customer Info'!$D$18,$E$7=0),U163,(U163/$E$7)*'Customer Info'!$D$21)),)","v":0},{"$f":"IF((OR($F$10=0,$F$10=\"none\")),IF(V163=0,,IF(OR($E$10='Customer Info'!$F$18,$E$10=0),V163,(V163/$E$10)*'Customer Info'!$F$18)),)","v":0},{"$f":"IF((OR($F$11=0,$F$11=\"none\")),IF(W163=0,,IF(OR($E$11='Customer Info'!$F$19,$E$11=0),W163,(W163/$E$11)*'Customer Info'!$F$19)),)","v":0},{"$f":"IF((OR($F$12=0,$F$12=\"none\")),IF(X163=0,,IF(OR($E$12='Customer Info'!$F$20,$E$12=0),X163,(X163/$E$12)*'Customer Info'!$F$20)),)","v":0},{"$f":"IF((OR($F$13=0,$F$13=\"none\")),IF(Y163=0,,IF(OR($E$13='Customer Info'!$F$21,$E$13=0),Y163,(Y163/$E$13)*'Customer Info'!$F$21)),)","v":0},{"$f":"IF((OR($F$16=0,$F$16=\"none\")),IF(Z163=0,,IF(OR($E$16='Customer Info'!$H$18,$E$16=0),Z163,(Z163/$E$16)*'Customer Info'!$H$18)),)","v":0},{"$f":"IF((OR($F$17=0,$F$17=\"none\")),IF(AA163=0,,IF(OR($E$17='Customer Info'!$H$19,$E$17=0),AA163,(AA163/$E$17)*'Customer Info'!$H$19)),)","v":0},{"$f":"IF((OR($F$18=0,$F$18=\"none\")),IF(AB163=0,,IF(OR($E$18='Customer Info'!$H$20,$E$18=0),AB163,(AB163/$E$18)*'Customer Info'!$H$20)),)","v":0},{"$f":"IF((OR($F$19=0,$F$19=\"none\")),IF(AC163=0,,IF(OR($E$19='Customer Info'!$H$21,$E$19=0),AC163,(AC163/$E$19)*'Customer Info'!$H$21)),)","v":0},{"$f":"IF((OR($F$4=0,$F$4=\"none\")),IF(AD163=0,,IF(OR($E$4='Customer Info'!$D$18,$E$4=0),AD163,(AD163/$E$4)*'Customer Info'!$D$18)),)","v":0},{"$f":"IF((OR($F$5=0,$F$5=\"none\")),IF(AE163=0,,IF(OR($E$5='Customer Info'!$D$19,$E$5=0),AE163,(AE163/$E$5)*'Customer Info'!$D$19)),)","v":0},{"$f":"IF((OR($F$6=0,$F$6=\"none\")),IF(AF163=0,,IF(OR($E$6='Customer Info'!$D$20,$E$6=0),AF163,(AF163/$E$6)*'Customer Info'!$D$20)),)","v":0},{"$f":"IF((OR($F$7=0,$F$7=\"none\")),IF(AG163=0,,IF(OR($E$7='Customer Info'!$D$21,$E$7=0),AG163,(AG163/$E$7)*'Customer Info'!$D$21)),)","v":0},0,0,{"$f":"IF(E163=\"plate waste\",,IF('Customer Info'!$M$18=0,'Log Sheet'!AY163,'Customer Info'!$M$18*'Log Sheet'!AY163))","v":0},{"$f":"IF(E163=\"plate waste\",IF(OR(C163=\"patient\",C163=\"patient beverages\"),IF('Customer Info'!$M$27=0,AY163*'Customer Info'!$M$18,AY163*'Customer Info'!$M$27),IF(C163=\"cafeteria\",IF('Customer Info'!$M$28=0,AY163*'Customer Info'!$M$18,AY163*'Customer Info'!$M$28),IF(C163=\"other1\",IF('Customer Info'!$M$29=0,AY163*'Customer Info'!$M$18,AY163*'Customer Info'!$M$29),))),)","v":0},0,{"$f":"IF($F$4=\"lunch\",IF(S163=0,,(S163/$E$5)*'Customer Info'!$D$18),)","v":0},{"$f":"IF($F$4=\"dinner\",IF(T163=0,,(T163/$E$6)*'Customer Info'!$D$18),)","v":0},{"$f":"IF($F$4=\"other\",IF(U163=0,,(U163/$E$7)*'Customer Info'!$D$18),)","v":0},0,{"$f":"IF($F$5=\"breakfast\",IF(R163=0,,(R163/$E$4)*'Customer Info'!$D$19),)","v":0},{"$f":"IF($F$5=\"dinner\",IF(T163=0,,(T163/$E$6)*'Customer Info'!$D$19),)","v":0},{"$f":"IF($F$5=\"other\",IF(U163=0,,(U163/$E$7)*'Customer Info'!$D$19),)","v":0},0,{"$f":"IF($F$6=\"breakfast\",IF(R163=0,,(R163/$E$4)*'Customer Info'!$D$20),)","v":0},{"$f":"IF($F$6=\"lunch\",IF(S163=0,,(S163/$E$5)*'Customer Info'!$D$20),)","v":0},{"$f":"IF($F$6=\"other\",IF(U163=0,,(U163/$E$7)*'Customer Info'!$D$20),)","v":0},0,{"$f":"IF($F$7=\"breakfast\",IF(R163=0,,(R163/$E$4)*'Customer Info'!$D$21),)","v":0},{"$f":"IF($F$7=\"lunch\",IF(S163=0,,(S163/$E$5)*'Customer Info'!$D$21),)","v":0},{"$f":"IF($F$7=\"dinner\",IF(T163=0,,(T163/$E$6)*'Customer Info'!$D$21),)","v":0},0,{"$f":"IF($F$10=\"lunch\",IF(W163=0,,(W163/$E$11)*'Customer Info'!$F$18),)","v":0},{"$f":"IF($F$10=\"dinner\",IF(X163=0,,(X163/$E$12)*'Customer Info'!$F$18),)","v":0},{"$f":"IF($F$10=\"other\",IF(Y163=0,,(Y163/$E$13)*'Customer Info'!$F$18),)","v":0},0,{"$f":"IF($F$11=\"breakfast\",IF(V163=0,,(V163/$E$10)*'Customer Info'!$F$19),)","v":0},{"$f":"IF($F$11=\"dinner\",IF(X163=0,,(X163/$E$12)*'Customer Info'!$F$19),)","v":0},{"$f":"IF($F$11=\"other\",IF(Y163=0,,(Y163/$E$13)*'Customer Info'!$F$19),)","v":0},0,{"$f":"IF($F$12=\"breakfast\",IF(V163=0,,(V163/$E$10)*'Customer Info'!$F$20),)","v":0},{"$f":"IF($F$12=\"lunch\",IF(W163=0,,(W163/$E$11)*'Customer Info'!$F$20),)","v":0},{"$f":"IF($F$12=\"other\",IF(Y163=0,,(Y163/$E$13)*'Customer Info'!$F$20),)","v":0},0,{"$f":"IF($F$13=\"breakfast\",IF(V163=0,,(V163/$E$10)*'Customer Info'!$F$21),)","v":0},{"$f":"IF($F$13=\"lunch\",IF(W163=0,,(W163/$E$11)*'Customer Info'!$F$21),)","v":0},{"$f":"IF($F$13=\"dinner\",IF(X163=0,,(X163/$E$12)*'Customer Info'!$F$21),)","v":0},0,{"$f":"IF($F$16=\"lunch\",IF(AA163=0,,(AA163/$E$17)*'Customer Info'!$H$18),)","v":0},{"$f":"IF($F$16=\"dinner\",IF(AB163=0,,(AB163/$E$18)*'Customer Info'!$H$18),)","v":0},{"$f":"IF($F$16=\"other\",IF(AC163=0,,(AC163/$E$19)*'Customer Info'!$H$18),)","v":0},0,{"$f":"IF($F$17=\"breakfast\",IF(Z163=0,,(Z163/$E$16)*'Customer Info'!$H$19),)","v":0},{"$f":"IF($F$17=\"dinner\",IF(AB163=0,,(AB163/$E$18)*'Customer Info'!$H$19),)","v":0},{"$f":"IF($F$17=\"other\",IF(AC163=0,,(AC163/$E$19)*'Customer Info'!$H$19),)","v":0},0,{"$f":"IF($F$18=\"breakfast\",IF(Z163=0,,(Z163/$E$16)*'Customer Info'!$H$20),)","v":0},{"$f":"IF($F$18=\"lunch\",IF(AA163=0,,(AA163/$E$17)*'Customer Info'!$H$20),)","v":0},{"$f":"IF($F$18=\"other\",IF(AC163=0,,(AC163/$E$19)*'Customer Info'!$H$20),)","v":0},0,{"$f":"IF($F$19=\"breakfast\",IF(Z163=0,,(Z163/$E$16)*'Customer Info'!$H$21),)","v":0},{"$f":"IF($F$19=\"lunch\",IF(AA163=0,,(AA163/$E$17)*'Customer Info'!$H$21),)","v":0},{"$f":"IF($F$19=\"dinner\",IF(AB163=0,,(AB163/$E$18)*'Customer Info'!$H$21),)","v":0},0,0,0,0,0,""]
[null,null,null,null,null,null,null,null,null,null,0,0,0,0,0,0,0,0,0,0,0,0,0,0,0,0,0,0,0,0,0,0,0,{"$f":"IF((OR($F$4=0,$F$4=\"none\")),IF(R164=0,,IF(OR($E$4='Customer Info'!$D$18,$E$4=0),R164,(R164/$E$4)*'Customer Info'!$D$18)),)","v":0},{"$f":"IF((OR($F$5=0,$F$5=\"none\")),IF(S164=0,,IF(OR($E$5='Customer Info'!$D$18,$E$5=0),S164,(S164/$E$5)*'Customer Info'!$D$19)),)","v":0},{"$f":"IF((OR($F$6=0,$F$6=\"none\")),IF(T164=0,,IF(OR($E$6='Customer Info'!$D$18,$E$6=0),T164,(T164/$E$6)*'Customer Info'!$D$20)),)","v":0},{"$f":"IF((OR($F$7=0,$F$7=\"none\")),IF(U164=0,,IF(OR($E$7='Customer Info'!$D$18,$E$7=0),U164,(U164/$E$7)*'Customer Info'!$D$21)),)","v":0},{"$f":"IF((OR($F$10=0,$F$10=\"none\")),IF(V164=0,,IF(OR($E$10='Customer Info'!$F$18,$E$10=0),V164,(V164/$E$10)*'Customer Info'!$F$18)),)","v":0},{"$f":"IF((OR($F$11=0,$F$11=\"none\")),IF(W164=0,,IF(OR($E$11='Customer Info'!$F$19,$E$11=0),W164,(W164/$E$11)*'Customer Info'!$F$19)),)","v":0},{"$f":"IF((OR($F$12=0,$F$12=\"none\")),IF(X164=0,,IF(OR($E$12='Customer Info'!$F$20,$E$12=0),X164,(X164/$E$12)*'Customer Info'!$F$20)),)","v":0},{"$f":"IF((OR($F$13=0,$F$13=\"none\")),IF(Y164=0,,IF(OR($E$13='Customer Info'!$F$21,$E$13=0),Y164,(Y164/$E$13)*'Customer Info'!$F$21)),)","v":0},{"$f":"IF((OR($F$16=0,$F$16=\"none\")),IF(Z164=0,,IF(OR($E$16='Customer Info'!$H$18,$E$16=0),Z164,(Z164/$E$16)*'Customer Info'!$H$18)),)","v":0},{"$f":"IF((OR($F$17=0,$F$17=\"none\")),IF(AA164=0,,IF(OR($E$17='Customer Info'!$H$19,$E$17=0),AA164,(AA164/$E$17)*'Customer Info'!$H$19)),)","v":0},{"$f":"IF((OR($F$18=0,$F$18=\"none\")),IF(AB164=0,,IF(OR($E$18='Customer Info'!$H$20,$E$18=0),AB164,(AB164/$E$18)*'Customer Info'!$H$20)),)","v":0},{"$f":"IF((OR($F$19=0,$F$19=\"none\")),IF(AC164=0,,IF(OR($E$19='Customer Info'!$H$21,$E$19=0),AC164,(AC164/$E$19)*'Customer Info'!$H$21)),)","v":0},{"$f":"IF((OR($F$4=0,$F$4=\"none\")),IF(AD164=0,,IF(OR($E$4='Customer Info'!$D$18,$E$4=0),AD164,(AD164/$E$4)*'Customer Info'!$D$18)),)","v":0},{"$f":"IF((OR($F$5=0,$F$5=\"none\")),IF(AE164=0,,IF(OR($E$5='Customer Info'!$D$19,$E$5=0),AE164,(AE164/$E$5)*'Customer Info'!$D$19)),)","v":0},{"$f":"IF((OR($F$6=0,$F$6=\"none\")),IF(AF164=0,,IF(OR($E$6='Customer Info'!$D$20,$E$6=0),AF164,(AF164/$E$6)*'Customer Info'!$D$20)),)","v":0},{"$f":"IF((OR($F$7=0,$F$7=\"none\")),IF(AG164=0,,IF(OR($E$7='Customer Info'!$D$21,$E$7=0),AG164,(AG164/$E$7)*'Customer Info'!$D$21)),)","v":0},0,0,{"$f":"IF(E164=\"plate waste\",,IF('Customer Info'!$M$18=0,'Log Sheet'!AY164,'Customer Info'!$M$18*'Log Sheet'!AY164))","v":0},{"$f":"IF(E164=\"plate waste\",IF(OR(C164=\"patient\",C164=\"patient beverages\"),IF('Customer Info'!$M$27=0,AY164*'Customer Info'!$M$18,AY164*'Customer Info'!$M$27),IF(C164=\"cafeteria\",IF('Customer Info'!$M$28=0,AY164*'Customer Info'!$M$18,AY164*'Customer Info'!$M$28),IF(C164=\"other1\",IF('Customer Info'!$M$29=0,AY164*'Customer Info'!$M$18,AY164*'Customer Info'!$M$29),))),)","v":0},0,{"$f":"IF($F$4=\"lunch\",IF(S164=0,,(S164/$E$5)*'Customer Info'!$D$18),)","v":0},{"$f":"IF($F$4=\"dinner\",IF(T164=0,,(T164/$E$6)*'Customer Info'!$D$18),)","v":0},{"$f":"IF($F$4=\"other\",IF(U164=0,,(U164/$E$7)*'Customer Info'!$D$18),)","v":0},0,{"$f":"IF($F$5=\"breakfast\",IF(R164=0,,(R164/$E$4)*'Customer Info'!$D$19),)","v":0},{"$f":"IF($F$5=\"dinner\",IF(T164=0,,(T164/$E$6)*'Customer Info'!$D$19),)","v":0},{"$f":"IF($F$5=\"other\",IF(U164=0,,(U164/$E$7)*'Customer Info'!$D$19),)","v":0},0,{"$f":"IF($F$6=\"breakfast\",IF(R164=0,,(R164/$E$4)*'Customer Info'!$D$20),)","v":0},{"$f":"IF($F$6=\"lunch\",IF(S164=0,,(S164/$E$5)*'Customer Info'!$D$20),)","v":0},{"$f":"IF($F$6=\"other\",IF(U164=0,,(U164/$E$7)*'Customer Info'!$D$20),)","v":0},0,{"$f":"IF($F$7=\"breakfast\",IF(R164=0,,(R164/$E$4)*'Customer Info'!$D$21),)","v":0},{"$f":"IF($F$7=\"lunch\",IF(S164=0,,(S164/$E$5)*'Customer Info'!$D$21),)","v":0},{"$f":"IF($F$7=\"dinner\",IF(T164=0,,(T164/$E$6)*'Customer Info'!$D$21),)","v":0},0,{"$f":"IF($F$10=\"lunch\",IF(W164=0,,(W164/$E$11)*'Customer Info'!$F$18),)","v":0},{"$f":"IF($F$10=\"dinner\",IF(X164=0,,(X164/$E$12)*'Customer Info'!$F$18),)","v":0},{"$f":"IF($F$10=\"other\",IF(Y164=0,,(Y164/$E$13)*'Customer Info'!$F$18),)","v":0},0,{"$f":"IF($F$11=\"breakfast\",IF(V164=0,,(V164/$E$10)*'Customer Info'!$F$19),)","v":0},{"$f":"IF($F$11=\"dinner\",IF(X164=0,,(X164/$E$12)*'Customer Info'!$F$19),)","v":0},{"$f":"IF($F$11=\"other\",IF(Y164=0,,(Y164/$E$13)*'Customer Info'!$F$19),)","v":0},0,{"$f":"IF($F$12=\"breakfast\",IF(V164=0,,(V164/$E$10)*'Customer Info'!$F$20),)","v":0},{"$f":"IF($F$12=\"lunch\",IF(W164=0,,(W164/$E$11)*'Customer Info'!$F$20),)","v":0},{"$f":"IF($F$12=\"other\",IF(Y164=0,,(Y164/$E$13)*'Customer Info'!$F$20),)","v":0},0,{"$f":"IF($F$13=\"breakfast\",IF(V164=0,,(V164/$E$10)*'Customer Info'!$F$21),)","v":0},{"$f":"IF($F$13=\"lunch\",IF(W164=0,,(W164/$E$11)*'Customer Info'!$F$21),)","v":0},{"$f":"IF($F$13=\"dinner\",IF(X164=0,,(X164/$E$12)*'Customer Info'!$F$21),)","v":0},0,{"$f":"IF($F$16=\"lunch\",IF(AA164=0,,(AA164/$E$17)*'Customer Info'!$H$18),)","v":0},{"$f":"IF($F$16=\"dinner\",IF(AB164=0,,(AB164/$E$18)*'Customer Info'!$H$18),)","v":0},{"$f":"IF($F$16=\"other\",IF(AC164=0,,(AC164/$E$19)*'Customer Info'!$H$18),)","v":0},0,{"$f":"IF($F$17=\"breakfast\",IF(Z164=0,,(Z164/$E$16)*'Customer Info'!$H$19),)","v":0},{"$f":"IF($F$17=\"dinner\",IF(AB164=0,,(AB164/$E$18)*'Customer Info'!$H$19),)","v":0},{"$f":"IF($F$17=\"other\",IF(AC164=0,,(AC164/$E$19)*'Customer Info'!$H$19),)","v":0},0,{"$f":"IF($F$18=\"breakfast\",IF(Z164=0,,(Z164/$E$16)*'Customer Info'!$H$20),)","v":0},{"$f":"IF($F$18=\"lunch\",IF(AA164=0,,(AA164/$E$17)*'Customer Info'!$H$20),)","v":0},{"$f":"IF($F$18=\"other\",IF(AC164=0,,(AC164/$E$19)*'Customer Info'!$H$20),)","v":0},0,{"$f":"IF($F$19=\"breakfast\",IF(Z164=0,,(Z164/$E$16)*'Customer Info'!$H$21),)","v":0},{"$f":"IF($F$19=\"lunch\",IF(AA164=0,,(AA164/$E$17)*'Customer Info'!$H$21),)","v":0},{"$f":"IF($F$19=\"dinner\",IF(AB164=0,,(AB164/$E$18)*'Customer Info'!$H$21),)","v":0},0,0,0,0,0,""]
[null,null,null,null,null,null,null,null,null,null,0,0,0,0,0,0,0,0,0,0,0,0,0,0,0,0,0,0,0,0,0,0,0,{"$f":"IF((OR($F$4=0,$F$4=\"none\")),IF(R165=0,,IF(OR($E$4='Customer Info'!$D$18,$E$4=0),R165,(R165/$E$4)*'Customer Info'!$D$18)),)","v":0},{"$f":"IF((OR($F$5=0,$F$5=\"none\")),IF(S165=0,,IF(OR($E$5='Customer Info'!$D$18,$E$5=0),S165,(S165/$E$5)*'Customer Info'!$D$19)),)","v":0},{"$f":"IF((OR($F$6=0,$F$6=\"none\")),IF(T165=0,,IF(OR($E$6='Customer Info'!$D$18,$E$6=0),T165,(T165/$E$6)*'Customer Info'!$D$20)),)","v":0},{"$f":"IF((OR($F$7=0,$F$7=\"none\")),IF(U165=0,,IF(OR($E$7='Customer Info'!$D$18,$E$7=0),U165,(U165/$E$7)*'Customer Info'!$D$21)),)","v":0},{"$f":"IF((OR($F$10=0,$F$10=\"none\")),IF(V165=0,,IF(OR($E$10='Customer Info'!$F$18,$E$10=0),V165,(V165/$E$10)*'Customer Info'!$F$18)),)","v":0},{"$f":"IF((OR($F$11=0,$F$11=\"none\")),IF(W165=0,,IF(OR($E$11='Customer Info'!$F$19,$E$11=0),W165,(W165/$E$11)*'Customer Info'!$F$19)),)","v":0},{"$f":"IF((OR($F$12=0,$F$12=\"none\")),IF(X165=0,,IF(OR($E$12='Customer Info'!$F$20,$E$12=0),X165,(X165/$E$12)*'Customer Info'!$F$20)),)","v":0},{"$f":"IF((OR($F$13=0,$F$13=\"none\")),IF(Y165=0,,IF(OR($E$13='Customer Info'!$F$21,$E$13=0),Y165,(Y165/$E$13)*'Customer Info'!$F$21)),)","v":0},{"$f":"IF((OR($F$16=0,$F$16=\"none\")),IF(Z165=0,,IF(OR($E$16='Customer Info'!$H$18,$E$16=0),Z165,(Z165/$E$16)*'Customer Info'!$H$18)),)","v":0},{"$f":"IF((OR($F$17=0,$F$17=\"none\")),IF(AA165=0,,IF(OR($E$17='Customer Info'!$H$19,$E$17=0),AA165,(AA165/$E$17)*'Customer Info'!$H$19)),)","v":0},{"$f":"IF((OR($F$18=0,$F$18=\"none\")),IF(AB165=0,,IF(OR($E$18='Customer Info'!$H$20,$E$18=0),AB165,(AB165/$E$18)*'Customer Info'!$H$20)),)","v":0},{"$f":"IF((OR($F$19=0,$F$19=\"none\")),IF(AC165=0,,IF(OR($E$19='Customer Info'!$H$21,$E$19=0),AC165,(AC165/$E$19)*'Customer Info'!$H$21)),)","v":0},{"$f":"IF((OR($F$4=0,$F$4=\"none\")),IF(AD165=0,,IF(OR($E$4='Customer Info'!$D$18,$E$4=0),AD165,(AD165/$E$4)*'Customer Info'!$D$18)),)","v":0},{"$f":"IF((OR($F$5=0,$F$5=\"none\")),IF(AE165=0,,IF(OR($E$5='Customer Info'!$D$19,$E$5=0),AE165,(AE165/$E$5)*'Customer Info'!$D$19)),)","v":0},{"$f":"IF((OR($F$6=0,$F$6=\"none\")),IF(AF165=0,,IF(OR($E$6='Customer Info'!$D$20,$E$6=0),AF165,(AF165/$E$6)*'Customer Info'!$D$20)),)","v":0},{"$f":"IF((OR($F$7=0,$F$7=\"none\")),IF(AG165=0,,IF(OR($E$7='Customer Info'!$D$21,$E$7=0),AG165,(AG165/$E$7)*'Customer Info'!$D$21)),)","v":0},0,0,{"$f":"IF(E165=\"plate waste\",,IF('Customer Info'!$M$18=0,'Log Sheet'!AY165,'Customer Info'!$M$18*'Log Sheet'!AY165))","v":0},{"$f":"IF(E165=\"plate waste\",IF(OR(C165=\"patient\",C165=\"patient beverages\"),IF('Customer Info'!$M$27=0,AY165*'Customer Info'!$M$18,AY165*'Customer Info'!$M$27),IF(C165=\"cafeteria\",IF('Customer Info'!$M$28=0,AY165*'Customer Info'!$M$18,AY165*'Customer Info'!$M$28),IF(C165=\"other1\",IF('Customer Info'!$M$29=0,AY165*'Customer Info'!$M$18,AY165*'Customer Info'!$M$29),))),)","v":0},0,{"$f":"IF($F$4=\"lunch\",IF(S165=0,,(S165/$E$5)*'Customer Info'!$D$18),)","v":0},{"$f":"IF($F$4=\"dinner\",IF(T165=0,,(T165/$E$6)*'Customer Info'!$D$18),)","v":0},{"$f":"IF($F$4=\"other\",IF(U165=0,,(U165/$E$7)*'Customer Info'!$D$18),)","v":0},0,{"$f":"IF($F$5=\"breakfast\",IF(R165=0,,(R165/$E$4)*'Customer Info'!$D$19),)","v":0},{"$f":"IF($F$5=\"dinner\",IF(T165=0,,(T165/$E$6)*'Customer Info'!$D$19),)","v":0},{"$f":"IF($F$5=\"other\",IF(U165=0,,(U165/$E$7)*'Customer Info'!$D$19),)","v":0},0,{"$f":"IF($F$6=\"breakfast\",IF(R165=0,,(R165/$E$4)*'Customer Info'!$D$20),)","v":0},{"$f":"IF($F$6=\"lunch\",IF(S165=0,,(S165/$E$5)*'Customer Info'!$D$20),)","v":0},{"$f":"IF($F$6=\"other\",IF(U165=0,,(U165/$E$7)*'Customer Info'!$D$20),)","v":0},0,{"$f":"IF($F$7=\"breakfast\",IF(R165=0,,(R165/$E$4)*'Customer Info'!$D$21),)","v":0},{"$f":"IF($F$7=\"lunch\",IF(S165=0,,(S165/$E$5)*'Customer Info'!$D$21),)","v":0},{"$f":"IF($F$7=\"dinner\",IF(T165=0,,(T165/$E$6)*'Customer Info'!$D$21),)","v":0},0,{"$f":"IF($F$10=\"lunch\",IF(W165=0,,(W165/$E$11)*'Customer Info'!$F$18),)","v":0},{"$f":"IF($F$10=\"dinner\",IF(X165=0,,(X165/$E$12)*'Customer Info'!$F$18),)","v":0},{"$f":"IF($F$10=\"other\",IF(Y165=0,,(Y165/$E$13)*'Customer Info'!$F$18),)","v":0},0,{"$f":"IF($F$11=\"breakfast\",IF(V165=0,,(V165/$E$10)*'Customer Info'!$F$19),)","v":0},{"$f":"IF($F$11=\"dinner\",IF(X165=0,,(X165/$E$12)*'Customer Info'!$F$19),)","v":0},{"$f":"IF($F$11=\"other\",IF(Y165=0,,(Y165/$E$13)*'Customer Info'!$F$19),)","v":0},0,{"$f":"IF($F$12=\"breakfast\",IF(V165=0,,(V165/$E$10)*'Customer Info'!$F$20),)","v":0},{"$f":"IF($F$12=\"lunch\",IF(W165=0,,(W165/$E$11)*'Customer Info'!$F$20),)","v":0},{"$f":"IF($F$12=\"other\",IF(Y165=0,,(Y165/$E$13)*'Customer Info'!$F$20),)","v":0},0,{"$f":"IF($F$13=\"breakfast\",IF(V165=0,,(V165/$E$10)*'Customer Info'!$F$21),)","v":0},{"$f":"IF($F$13=\"lunch\",IF(W165=0,,(W165/$E$11)*'Customer Info'!$F$21),)","v":0},{"$f":"IF($F$13=\"dinner\",IF(X165=0,,(X165/$E$12)*'Customer Info'!$F$21),)","v":0},0,{"$f":"IF($F$16=\"lunch\",IF(AA165=0,,(AA165/$E$17)*'Customer Info'!$H$18),)","v":0},{"$f":"IF($F$16=\"dinner\",IF(AB165=0,,(AB165/$E$18)*'Customer Info'!$H$18),)","v":0},{"$f":"IF($F$16=\"other\",IF(AC165=0,,(AC165/$E$19)*'Customer Info'!$H$18),)","v":0},0,{"$f":"IF($F$17=\"breakfast\",IF(Z165=0,,(Z165/$E$16)*'Customer Info'!$H$19),)","v":0},{"$f":"IF($F$17=\"dinner\",IF(AB165=0,,(AB165/$E$18)*'Customer Info'!$H$19),)","v":0},{"$f":"IF($F$17=\"other\",IF(AC165=0,,(AC165/$E$19)*'Customer Info'!$H$19),)","v":0},0,{"$f":"IF($F$18=\"breakfast\",IF(Z165=0,,(Z165/$E$16)*'Customer Info'!$H$20),)","v":0},{"$f":"IF($F$18=\"lunch\",IF(AA165=0,,(AA165/$E$17)*'Customer Info'!$H$20),)","v":0},{"$f":"IF($F$18=\"other\",IF(AC165=0,,(AC165/$E$19)*'Customer Info'!$H$20),)","v":0},0,{"$f":"IF($F$19=\"breakfast\",IF(Z165=0,,(Z165/$E$16)*'Customer Info'!$H$21),)","v":0},{"$f":"IF($F$19=\"lunch\",IF(AA165=0,,(AA165/$E$17)*'Customer Info'!$H$21),)","v":0},{"$f":"IF($F$19=\"dinner\",IF(AB165=0,,(AB165/$E$18)*'Customer Info'!$H$21),)","v":0},0,0,0,0,0,""]
[null,null,null,null,null,null,null,null,null,null,0,0,0,0,0,0,0,0,0,0,0,0,0,0,0,0,0,0,0,0,0,0,0,{"$f":"IF((OR($F$4=0,$F$4=\"none\")),IF(R166=0,,IF(OR($E$4='Customer Info'!$D$18,$E$4=0),R166,(R166/$E$4)*'Customer Info'!$D$18)),)","v":0},{"$f":"IF((OR($F$5=0,$F$5=\"none\")),IF(S166=0,,IF(OR($E$5='Customer Info'!$D$18,$E$5=0),S166,(S166/$E$5)*'Customer Info'!$D$19)),)","v":0},{"$f":"IF((OR($F$6=0,$F$6=\"none\")),IF(T166=0,,IF(OR($E$6='Customer Info'!$D$18,$E$6=0),T166,(T166/$E$6)*'Customer Info'!$D$20)),)","v":0},{"$f":"IF((OR($F$7=0,$F$7=\"none\")),IF(U166=0,,IF(OR($E$7='Customer Info'!$D$18,$E$7=0),U166,(U166/$E$7)*'Customer Info'!$D$21)),)","v":0},{"$f":"IF((OR($F$10=0,$F$10=\"none\")),IF(V166=0,,IF(OR($E$10='Customer Info'!$F$18,$E$10=0),V166,(V166/$E$10)*'Customer Info'!$F$18)),)","v":0},{"$f":"IF((OR($F$11=0,$F$11=\"none\")),IF(W166=0,,IF(OR($E$11='Customer Info'!$F$19,$E$11=0),W166,(W166/$E$11)*'Customer Info'!$F$19)),)","v":0},{"$f":"IF((OR($F$12=0,$F$12=\"none\")),IF(X166=0,,IF(OR($E$12='Customer Info'!$F$20,$E$12=0),X166,(X166/$E$12)*'Customer Info'!$F$20)),)","v":0},{"$f":"IF((OR($F$13=0,$F$13=\"none\")),IF(Y166=0,,IF(OR($E$13='Customer Info'!$F$21,$E$13=0),Y166,(Y166/$E$13)*'Customer Info'!$F$21)),)","v":0},{"$f":"IF((OR($F$16=0,$F$16=\"none\")),IF(Z166=0,,IF(OR($E$16='Customer Info'!$H$18,$E$16=0),Z166,(Z166/$E$16)*'Customer Info'!$H$18)),)","v":0},{"$f":"IF((OR($F$17=0,$F$17=\"none\")),IF(AA166=0,,IF(OR($E$17='Customer Info'!$H$19,$E$17=0),AA166,(AA166/$E$17)*'Customer Info'!$H$19)),)","v":0},{"$f":"IF((OR($F$18=0,$F$18=\"none\")),IF(AB166=0,,IF(OR($E$18='Customer Info'!$H$20,$E$18=0),AB166,(AB166/$E$18)*'Customer Info'!$H$20)),)","v":0},{"$f":"IF((OR($F$19=0,$F$19=\"none\")),IF(AC166=0,,IF(OR($E$19='Customer Info'!$H$21,$E$19=0),AC166,(AC166/$E$19)*'Customer Info'!$H$21)),)","v":0},{"$f":"IF((OR($F$4=0,$F$4=\"none\")),IF(AD166=0,,IF(OR($E$4='Customer Info'!$D$18,$E$4=0),AD166,(AD166/$E$4)*'Customer Info'!$D$18)),)","v":0},{"$f":"IF((OR($F$5=0,$F$5=\"none\")),IF(AE166=0,,IF(OR($E$5='Customer Info'!$D$19,$E$5=0),AE166,(AE166/$E$5)*'Customer Info'!$D$19)),)","v":0},{"$f":"IF((OR($F$6=0,$F$6=\"none\")),IF(AF166=0,,IF(OR($E$6='Customer Info'!$D$20,$E$6=0),AF166,(AF166/$E$6)*'Customer Info'!$D$20)),)","v":0},{"$f":"IF((OR($F$7=0,$F$7=\"none\")),IF(AG166=0,,IF(OR($E$7='Customer Info'!$D$21,$E$7=0),AG166,(AG166/$E$7)*'Customer Info'!$D$21)),)","v":0},0,0,{"$f":"IF(E166=\"plate waste\",,IF('Customer Info'!$M$18=0,'Log Sheet'!AY166,'Customer Info'!$M$18*'Log Sheet'!AY166))","v":0},{"$f":"IF(E166=\"plate waste\",IF(OR(C166=\"patient\",C166=\"patient beverages\"),IF('Customer Info'!$M$27=0,AY166*'Customer Info'!$M$18,AY166*'Customer Info'!$M$27),IF(C166=\"cafeteria\",IF('Customer Info'!$M$28=0,AY166*'Customer Info'!$M$18,AY166*'Customer Info'!$M$28),IF(C166=\"other1\",IF('Customer Info'!$M$29=0,AY166*'Customer Info'!$M$18,AY166*'Customer Info'!$M$29),))),)","v":0},0,{"$f":"IF($F$4=\"lunch\",IF(S166=0,,(S166/$E$5)*'Customer Info'!$D$18),)","v":0},{"$f":"IF($F$4=\"dinner\",IF(T166=0,,(T166/$E$6)*'Customer Info'!$D$18),)","v":0},{"$f":"IF($F$4=\"other\",IF(U166=0,,(U166/$E$7)*'Customer Info'!$D$18),)","v":0},0,{"$f":"IF($F$5=\"breakfast\",IF(R166=0,,(R166/$E$4)*'Customer Info'!$D$19),)","v":0},{"$f":"IF($F$5=\"dinner\",IF(T166=0,,(T166/$E$6)*'Customer Info'!$D$19),)","v":0},{"$f":"IF($F$5=\"other\",IF(U166=0,,(U166/$E$7)*'Customer Info'!$D$19),)","v":0},0,{"$f":"IF($F$6=\"breakfast\",IF(R166=0,,(R166/$E$4)*'Customer Info'!$D$20),)","v":0},{"$f":"IF($F$6=\"lunch\",IF(S166=0,,(S166/$E$5)*'Customer Info'!$D$20),)","v":0},{"$f":"IF($F$6=\"other\",IF(U166=0,,(U166/$E$7)*'Customer Info'!$D$20),)","v":0},0,{"$f":"IF($F$7=\"breakfast\",IF(R166=0,,(R166/$E$4)*'Customer Info'!$D$21),)","v":0},{"$f":"IF($F$7=\"lunch\",IF(S166=0,,(S166/$E$5)*'Customer Info'!$D$21),)","v":0},{"$f":"IF($F$7=\"dinner\",IF(T166=0,,(T166/$E$6)*'Customer Info'!$D$21),)","v":0},0,{"$f":"IF($F$10=\"lunch\",IF(W166=0,,(W166/$E$11)*'Customer Info'!$F$18),)","v":0},{"$f":"IF($F$10=\"dinner\",IF(X166=0,,(X166/$E$12)*'Customer Info'!$F$18),)","v":0},{"$f":"IF($F$10=\"other\",IF(Y166=0,,(Y166/$E$13)*'Customer Info'!$F$18),)","v":0},0,{"$f":"IF($F$11=\"breakfast\",IF(V166=0,,(V166/$E$10)*'Customer Info'!$F$19),)","v":0},{"$f":"IF($F$11=\"dinner\",IF(X166=0,,(X166/$E$12)*'Customer Info'!$F$19),)","v":0},{"$f":"IF($F$11=\"other\",IF(Y166=0,,(Y166/$E$13)*'Customer Info'!$F$19),)","v":0},0,{"$f":"IF($F$12=\"breakfast\",IF(V166=0,,(V166/$E$10)*'Customer Info'!$F$20),)","v":0},{"$f":"IF($F$12=\"lunch\",IF(W166=0,,(W166/$E$11)*'Customer Info'!$F$20),)","v":0},{"$f":"IF($F$12=\"other\",IF(Y166=0,,(Y166/$E$13)*'Customer Info'!$F$20),)","v":0},0,{"$f":"IF($F$13=\"breakfast\",IF(V166=0,,(V166/$E$10)*'Customer Info'!$F$21),)","v":0},{"$f":"IF($F$13=\"lunch\",IF(W166=0,,(W166/$E$11)*'Customer Info'!$F$21),)","v":0},{"$f":"IF($F$13=\"dinner\",IF(X166=0,,(X166/$E$12)*'Customer Info'!$F$21),)","v":0},0,{"$f":"IF($F$16=\"lunch\",IF(AA166=0,,(AA166/$E$17)*'Customer Info'!$H$18),)","v":0},{"$f":"IF($F$16=\"dinner\",IF(AB166=0,,(AB166/$E$18)*'Customer Info'!$H$18),)","v":0},{"$f":"IF($F$16=\"other\",IF(AC166=0,,(AC166/$E$19)*'Customer Info'!$H$18),)","v":0},0,{"$f":"IF($F$17=\"breakfast\",IF(Z166=0,,(Z166/$E$16)*'Customer Info'!$H$19),)","v":0},{"$f":"IF($F$17=\"dinner\",IF(AB166=0,,(AB166/$E$18)*'Customer Info'!$H$19),)","v":0},{"$f":"IF($F$17=\"other\",IF(AC166=0,,(AC166/$E$19)*'Customer Info'!$H$19),)","v":0},0,{"$f":"IF($F$18=\"breakfast\",IF(Z166=0,,(Z166/$E$16)*'Customer Info'!$H$20),)","v":0},{"$f":"IF($F$18=\"lunch\",IF(AA166=0,,(AA166/$E$17)*'Customer Info'!$H$20),)","v":0},{"$f":"IF($F$18=\"other\",IF(AC166=0,,(AC166/$E$19)*'Customer Info'!$H$20),)","v":0},0,{"$f":"IF($F$19=\"breakfast\",IF(Z166=0,,(Z166/$E$16)*'Customer Info'!$H$21),)","v":0},{"$f":"IF($F$19=\"lunch\",IF(AA166=0,,(AA166/$E$17)*'Customer Info'!$H$21),)","v":0},{"$f":"IF($F$19=\"dinner\",IF(AB166=0,,(AB166/$E$18)*'Customer Info'!$H$21),)","v":0},0,0,0,0,0,""]
[null,null,null,null,null,null,null,null,null,null,0,0,0,0,0,0,0,0,0,0,0,0,0,0,0,0,0,0,0,0,0,0,0,{"$f":"IF((OR($F$4=0,$F$4=\"none\")),IF(R167=0,,IF(OR($E$4='Customer Info'!$D$18,$E$4=0),R167,(R167/$E$4)*'Customer Info'!$D$18)),)","v":0},{"$f":"IF((OR($F$5=0,$F$5=\"none\")),IF(S167=0,,IF(OR($E$5='Customer Info'!$D$18,$E$5=0),S167,(S167/$E$5)*'Customer Info'!$D$19)),)","v":0},{"$f":"IF((OR($F$6=0,$F$6=\"none\")),IF(T167=0,,IF(OR($E$6='Customer Info'!$D$18,$E$6=0),T167,(T167/$E$6)*'Customer Info'!$D$20)),)","v":0},{"$f":"IF((OR($F$7=0,$F$7=\"none\")),IF(U167=0,,IF(OR($E$7='Customer Info'!$D$18,$E$7=0),U167,(U167/$E$7)*'Customer Info'!$D$21)),)","v":0},{"$f":"IF((OR($F$10=0,$F$10=\"none\")),IF(V167=0,,IF(OR($E$10='Customer Info'!$F$18,$E$10=0),V167,(V167/$E$10)*'Customer Info'!$F$18)),)","v":0},{"$f":"IF((OR($F$11=0,$F$11=\"none\")),IF(W167=0,,IF(OR($E$11='Customer Info'!$F$19,$E$11=0),W167,(W167/$E$11)*'Customer Info'!$F$19)),)","v":0},{"$f":"IF((OR($F$12=0,$F$12=\"none\")),IF(X167=0,,IF(OR($E$12='Customer Info'!$F$20,$E$12=0),X167,(X167/$E$12)*'Customer Info'!$F$20)),)","v":0},{"$f":"IF((OR($F$13=0,$F$13=\"none\")),IF(Y167=0,,IF(OR($E$13='Customer Info'!$F$21,$E$13=0),Y167,(Y167/$E$13)*'Customer Info'!$F$21)),)","v":0},{"$f":"IF((OR($F$16=0,$F$16=\"none\")),IF(Z167=0,,IF(OR($E$16='Customer Info'!$H$18,$E$16=0),Z167,(Z167/$E$16)*'Customer Info'!$H$18)),)","v":0},{"$f":"IF((OR($F$17=0,$F$17=\"none\")),IF(AA167=0,,IF(OR($E$17='Customer Info'!$H$19,$E$17=0),AA167,(AA167/$E$17)*'Customer Info'!$H$19)),)","v":0},{"$f":"IF((OR($F$18=0,$F$18=\"none\")),IF(AB167=0,,IF(OR($E$18='Customer Info'!$H$20,$E$18=0),AB167,(AB167/$E$18)*'Customer Info'!$H$20)),)","v":0},{"$f":"IF((OR($F$19=0,$F$19=\"none\")),IF(AC167=0,,IF(OR($E$19='Customer Info'!$H$21,$E$19=0),AC167,(AC167/$E$19)*'Customer Info'!$H$21)),)","v":0},{"$f":"IF((OR($F$4=0,$F$4=\"none\")),IF(AD167=0,,IF(OR($E$4='Customer Info'!$D$18,$E$4=0),AD167,(AD167/$E$4)*'Customer Info'!$D$18)),)","v":0},{"$f":"IF((OR($F$5=0,$F$5=\"none\")),IF(AE167=0,,IF(OR($E$5='Customer Info'!$D$19,$E$5=0),AE167,(AE167/$E$5)*'Customer Info'!$D$19)),)","v":0},{"$f":"IF((OR($F$6=0,$F$6=\"none\")),IF(AF167=0,,IF(OR($E$6='Customer Info'!$D$20,$E$6=0),AF167,(AF167/$E$6)*'Customer Info'!$D$20)),)","v":0},{"$f":"IF((OR($F$7=0,$F$7=\"none\")),IF(AG167=0,,IF(OR($E$7='Customer Info'!$D$21,$E$7=0),AG167,(AG167/$E$7)*'Customer Info'!$D$21)),)","v":0},0,0,{"$f":"IF(E167=\"plate waste\",,IF('Customer Info'!$M$18=0,'Log Sheet'!AY167,'Customer Info'!$M$18*'Log Sheet'!AY167))","v":0},{"$f":"IF(E167=\"plate waste\",IF(OR(C167=\"patient\",C167=\"patient beverages\"),IF('Customer Info'!$M$27=0,AY167*'Customer Info'!$M$18,AY167*'Customer Info'!$M$27),IF(C167=\"cafeteria\",IF('Customer Info'!$M$28=0,AY167*'Customer Info'!$M$18,AY167*'Customer Info'!$M$28),IF(C167=\"other1\",IF('Customer Info'!$M$29=0,AY167*'Customer Info'!$M$18,AY167*'Customer Info'!$M$29),))),)","v":0},0,{"$f":"IF($F$4=\"lunch\",IF(S167=0,,(S167/$E$5)*'Customer Info'!$D$18),)","v":0},{"$f":"IF($F$4=\"dinner\",IF(T167=0,,(T167/$E$6)*'Customer Info'!$D$18),)","v":0},{"$f":"IF($F$4=\"other\",IF(U167=0,,(U167/$E$7)*'Customer Info'!$D$18),)","v":0},0,{"$f":"IF($F$5=\"breakfast\",IF(R167=0,,(R167/$E$4)*'Customer Info'!$D$19),)","v":0},{"$f":"IF($F$5=\"dinner\",IF(T167=0,,(T167/$E$6)*'Customer Info'!$D$19),)","v":0},{"$f":"IF($F$5=\"other\",IF(U167=0,,(U167/$E$7)*'Customer Info'!$D$19),)","v":0},0,{"$f":"IF($F$6=\"breakfast\",IF(R167=0,,(R167/$E$4)*'Customer Info'!$D$20),)","v":0},{"$f":"IF($F$6=\"lunch\",IF(S167=0,,(S167/$E$5)*'Customer Info'!$D$20),)","v":0},{"$f":"IF($F$6=\"other\",IF(U167=0,,(U167/$E$7)*'Customer Info'!$D$20),)","v":0},0,{"$f":"IF($F$7=\"breakfast\",IF(R167=0,,(R167/$E$4)*'Customer Info'!$D$21),)","v":0},{"$f":"IF($F$7=\"lunch\",IF(S167=0,,(S167/$E$5)*'Customer Info'!$D$21),)","v":0},{"$f":"IF($F$7=\"dinner\",IF(T167=0,,(T167/$E$6)*'Customer Info'!$D$21),)","v":0},0,{"$f":"IF($F$10=\"lunch\",IF(W167=0,,(W167/$E$11)*'Customer Info'!$F$18),)","v":0},{"$f":"IF($F$10=\"dinner\",IF(X167=0,,(X167/$E$12)*'Customer Info'!$F$18),)","v":0},{"$f":"IF($F$10=\"other\",IF(Y167=0,,(Y167/$E$13)*'Customer Info'!$F$18),)","v":0},0,{"$f":"IF($F$11=\"breakfast\",IF(V167=0,,(V167/$E$10)*'Customer Info'!$F$19),)","v":0},{"$f":"IF($F$11=\"dinner\",IF(X167=0,,(X167/$E$12)*'Customer Info'!$F$19),)","v":0},{"$f":"IF($F$11=\"other\",IF(Y167=0,,(Y167/$E$13)*'Customer Info'!$F$19),)","v":0},0,{"$f":"IF($F$12=\"breakfast\",IF(V167=0,,(V167/$E$10)*'Customer Info'!$F$20),)","v":0},{"$f":"IF($F$12=\"lunch\",IF(W167=0,,(W167/$E$11)*'Customer Info'!$F$20),)","v":0},{"$f":"IF($F$12=\"other\",IF(Y167=0,,(Y167/$E$13)*'Customer Info'!$F$20),)","v":0},0,{"$f":"IF($F$13=\"breakfast\",IF(V167=0,,(V167/$E$10)*'Customer Info'!$F$21),)","v":0},{"$f":"IF($F$13=\"lunch\",IF(W167=0,,(W167/$E$11)*'Customer Info'!$F$21),)","v":0},{"$f":"IF($F$13=\"dinner\",IF(X167=0,,(X167/$E$12)*'Customer Info'!$F$21),)","v":0},0,{"$f":"IF($F$16=\"lunch\",IF(AA167=0,,(AA167/$E$17)*'Customer Info'!$H$18),)","v":0},{"$f":"IF($F$16=\"dinner\",IF(AB167=0,,(AB167/$E$18)*'Customer Info'!$H$18),)","v":0},{"$f":"IF($F$16=\"other\",IF(AC167=0,,(AC167/$E$19)*'Customer Info'!$H$18),)","v":0},0,{"$f":"IF($F$17=\"breakfast\",IF(Z167=0,,(Z167/$E$16)*'Customer Info'!$H$19),)","v":0},{"$f":"IF($F$17=\"dinner\",IF(AB167=0,,(AB167/$E$18)*'Customer Info'!$H$19),)","v":0},{"$f":"IF($F$17=\"other\",IF(AC167=0,,(AC167/$E$19)*'Customer Info'!$H$19),)","v":0},0,{"$f":"IF($F$18=\"breakfast\",IF(Z167=0,,(Z167/$E$16)*'Customer Info'!$H$20),)","v":0},{"$f":"IF($F$18=\"lunch\",IF(AA167=0,,(AA167/$E$17)*'Customer Info'!$H$20),)","v":0},{"$f":"IF($F$18=\"other\",IF(AC167=0,,(AC167/$E$19)*'Customer Info'!$H$20),)","v":0},0,{"$f":"IF($F$19=\"breakfast\",IF(Z167=0,,(Z167/$E$16)*'Customer Info'!$H$21),)","v":0},{"$f":"IF($F$19=\"lunch\",IF(AA167=0,,(AA167/$E$17)*'Customer Info'!$H$21),)","v":0},{"$f":"IF($F$19=\"dinner\",IF(AB167=0,,(AB167/$E$18)*'Customer Info'!$H$21),)","v":0},0,0,0,0,0,""]
[null,null,null,null,null,null,null,null,null,null,0,0,0,0,0,0,0,0,0,0,0,0,0,0,0,0,0,0,0,0,0,0,0,{"$f":"IF((OR($F$4=0,$F$4=\"none\")),IF(R168=0,,IF(OR($E$4='Customer Info'!$D$18,$E$4=0),R168,(R168/$E$4)*'Customer Info'!$D$18)),)","v":0},{"$f":"IF((OR($F$5=0,$F$5=\"none\")),IF(S168=0,,IF(OR($E$5='Customer Info'!$D$18,$E$5=0),S168,(S168/$E$5)*'Customer Info'!$D$19)),)","v":0},{"$f":"IF((OR($F$6=0,$F$6=\"none\")),IF(T168=0,,IF(OR($E$6='Customer Info'!$D$18,$E$6=0),T168,(T168/$E$6)*'Customer Info'!$D$20)),)","v":0},{"$f":"IF((OR($F$7=0,$F$7=\"none\")),IF(U168=0,,IF(OR($E$7='Customer Info'!$D$18,$E$7=0),U168,(U168/$E$7)*'Customer Info'!$D$21)),)","v":0},{"$f":"IF((OR($F$10=0,$F$10=\"none\")),IF(V168=0,,IF(OR($E$10='Customer Info'!$F$18,$E$10=0),V168,(V168/$E$10)*'Customer Info'!$F$18)),)","v":0},{"$f":"IF((OR($F$11=0,$F$11=\"none\")),IF(W168=0,,IF(OR($E$11='Customer Info'!$F$19,$E$11=0),W168,(W168/$E$11)*'Customer Info'!$F$19)),)","v":0},{"$f":"IF((OR($F$12=0,$F$12=\"none\")),IF(X168=0,,IF(OR($E$12='Customer Info'!$F$20,$E$12=0),X168,(X168/$E$12)*'Customer Info'!$F$20)),)","v":0},{"$f":"IF((OR($F$13=0,$F$13=\"none\")),IF(Y168=0,,IF(OR($E$13='Customer Info'!$F$21,$E$13=0),Y168,(Y168/$E$13)*'Customer Info'!$F$21)),)","v":0},{"$f":"IF((OR($F$16=0,$F$16=\"none\")),IF(Z168=0,,IF(OR($E$16='Customer Info'!$H$18,$E$16=0),Z168,(Z168/$E$16)*'Customer Info'!$H$18)),)","v":0},{"$f":"IF((OR($F$17=0,$F$17=\"none\")),IF(AA168=0,,IF(OR($E$17='Customer Info'!$H$19,$E$17=0),AA168,(AA168/$E$17)*'Customer Info'!$H$19)),)","v":0},{"$f":"IF((OR($F$18=0,$F$18=\"none\")),IF(AB168=0,,IF(OR($E$18='Customer Info'!$H$20,$E$18=0),AB168,(AB168/$E$18)*'Customer Info'!$H$20)),)","v":0},{"$f":"IF((OR($F$19=0,$F$19=\"none\")),IF(AC168=0,,IF(OR($E$19='Customer Info'!$H$21,$E$19=0),AC168,(AC168/$E$19)*'Customer Info'!$H$21)),)","v":0},{"$f":"IF((OR($F$4=0,$F$4=\"none\")),IF(AD168=0,,IF(OR($E$4='Customer Info'!$D$18,$E$4=0),AD168,(AD168/$E$4)*'Customer Info'!$D$18)),)","v":0},{"$f":"IF((OR($F$5=0,$F$5=\"none\")),IF(AE168=0,,IF(OR($E$5='Customer Info'!$D$19,$E$5=0),AE168,(AE168/$E$5)*'Customer Info'!$D$19)),)","v":0},{"$f":"IF((OR($F$6=0,$F$6=\"none\")),IF(AF168=0,,IF(OR($E$6='Customer Info'!$D$20,$E$6=0),AF168,(AF168/$E$6)*'Customer Info'!$D$20)),)","v":0},{"$f":"IF((OR($F$7=0,$F$7=\"none\")),IF(AG168=0,,IF(OR($E$7='Customer Info'!$D$21,$E$7=0),AG168,(AG168/$E$7)*'Customer Info'!$D$21)),)","v":0},0,0,{"$f":"IF(E168=\"plate waste\",,IF('Customer Info'!$M$18=0,'Log Sheet'!AY168,'Customer Info'!$M$18*'Log Sheet'!AY168))","v":0},{"$f":"IF(E168=\"plate waste\",IF(OR(C168=\"patient\",C168=\"patient beverages\"),IF('Customer Info'!$M$27=0,AY168*'Customer Info'!$M$18,AY168*'Customer Info'!$M$27),IF(C168=\"cafeteria\",IF('Customer Info'!$M$28=0,AY168*'Customer Info'!$M$18,AY168*'Customer Info'!$M$28),IF(C168=\"other1\",IF('Customer Info'!$M$29=0,AY168*'Customer Info'!$M$18,AY168*'Customer Info'!$M$29),))),)","v":0},0,{"$f":"IF($F$4=\"lunch\",IF(S168=0,,(S168/$E$5)*'Customer Info'!$D$18),)","v":0},{"$f":"IF($F$4=\"dinner\",IF(T168=0,,(T168/$E$6)*'Customer Info'!$D$18),)","v":0},{"$f":"IF($F$4=\"other\",IF(U168=0,,(U168/$E$7)*'Customer Info'!$D$18),)","v":0},0,{"$f":"IF($F$5=\"breakfast\",IF(R168=0,,(R168/$E$4)*'Customer Info'!$D$19),)","v":0},{"$f":"IF($F$5=\"dinner\",IF(T168=0,,(T168/$E$6)*'Customer Info'!$D$19),)","v":0},{"$f":"IF($F$5=\"other\",IF(U168=0,,(U168/$E$7)*'Customer Info'!$D$19),)","v":0},0,{"$f":"IF($F$6=\"breakfast\",IF(R168=0,,(R168/$E$4)*'Customer Info'!$D$20),)","v":0},{"$f":"IF($F$6=\"lunch\",IF(S168=0,,(S168/$E$5)*'Customer Info'!$D$20),)","v":0},{"$f":"IF($F$6=\"other\",IF(U168=0,,(U168/$E$7)*'Customer Info'!$D$20),)","v":0},0,{"$f":"IF($F$7=\"breakfast\",IF(R168=0,,(R168/$E$4)*'Customer Info'!$D$21),)","v":0},{"$f":"IF($F$7=\"lunch\",IF(S168=0,,(S168/$E$5)*'Customer Info'!$D$21),)","v":0},{"$f":"IF($F$7=\"dinner\",IF(T168=0,,(T168/$E$6)*'Customer Info'!$D$21),)","v":0},0,{"$f":"IF($F$10=\"lunch\",IF(W168=0,,(W168/$E$11)*'Customer Info'!$F$18),)","v":0},{"$f":"IF($F$10=\"dinner\",IF(X168=0,,(X168/$E$12)*'Customer Info'!$F$18),)","v":0},{"$f":"IF($F$10=\"other\",IF(Y168=0,,(Y168/$E$13)*'Customer Info'!$F$18),)","v":0},0,{"$f":"IF($F$11=\"breakfast\",IF(V168=0,,(V168/$E$10)*'Customer Info'!$F$19),)","v":0},{"$f":"IF($F$11=\"dinner\",IF(X168=0,,(X168/$E$12)*'Customer Info'!$F$19),)","v":0},{"$f":"IF($F$11=\"other\",IF(Y168=0,,(Y168/$E$13)*'Customer Info'!$F$19),)","v":0},0,{"$f":"IF($F$12=\"breakfast\",IF(V168=0,,(V168/$E$10)*'Customer Info'!$F$20),)","v":0},{"$f":"IF($F$12=\"lunch\",IF(W168=0,,(W168/$E$11)*'Customer Info'!$F$20),)","v":0},{"$f":"IF($F$12=\"other\",IF(Y168=0,,(Y168/$E$13)*'Customer Info'!$F$20),)","v":0},0,{"$f":"IF($F$13=\"breakfast\",IF(V168=0,,(V168/$E$10)*'Customer Info'!$F$21),)","v":0},{"$f":"IF($F$13=\"lunch\",IF(W168=0,,(W168/$E$11)*'Customer Info'!$F$21),)","v":0},{"$f":"IF($F$13=\"dinner\",IF(X168=0,,(X168/$E$12)*'Customer Info'!$F$21),)","v":0},0,{"$f":"IF($F$16=\"lunch\",IF(AA168=0,,(AA168/$E$17)*'Customer Info'!$H$18),)","v":0},{"$f":"IF($F$16=\"dinner\",IF(AB168=0,,(AB168/$E$18)*'Customer Info'!$H$18),)","v":0},{"$f":"IF($F$16=\"other\",IF(AC168=0,,(AC168/$E$19)*'Customer Info'!$H$18),)","v":0},0,{"$f":"IF($F$17=\"breakfast\",IF(Z168=0,,(Z168/$E$16)*'Customer Info'!$H$19),)","v":0},{"$f":"IF($F$17=\"dinner\",IF(AB168=0,,(AB168/$E$18)*'Customer Info'!$H$19),)","v":0},{"$f":"IF($F$17=\"other\",IF(AC168=0,,(AC168/$E$19)*'Customer Info'!$H$19),)","v":0},0,{"$f":"IF($F$18=\"breakfast\",IF(Z168=0,,(Z168/$E$16)*'Customer Info'!$H$20),)","v":0},{"$f":"IF($F$18=\"lunch\",IF(AA168=0,,(AA168/$E$17)*'Customer Info'!$H$20),)","v":0},{"$f":"IF($F$18=\"other\",IF(AC168=0,,(AC168/$E$19)*'Customer Info'!$H$20),)","v":0},0,{"$f":"IF($F$19=\"breakfast\",IF(Z168=0,,(Z168/$E$16)*'Customer Info'!$H$21),)","v":0},{"$f":"IF($F$19=\"lunch\",IF(AA168=0,,(AA168/$E$17)*'Customer Info'!$H$21),)","v":0},{"$f":"IF($F$19=\"dinner\",IF(AB168=0,,(AB168/$E$18)*'Customer Info'!$H$21),)","v":0},0,0,0,0,0,""]
[null,null,null,null,null,null,null,null,null,null,0,0,0,0,0,0,0,0,0,0,0,0,0,0,0,0,0,0,0,0,0,0,0,{"$f":"IF((OR($F$4=0,$F$4=\"none\")),IF(R169=0,,IF(OR($E$4='Customer Info'!$D$18,$E$4=0),R169,(R169/$E$4)*'Customer Info'!$D$18)),)","v":0},{"$f":"IF((OR($F$5=0,$F$5=\"none\")),IF(S169=0,,IF(OR($E$5='Customer Info'!$D$18,$E$5=0),S169,(S169/$E$5)*'Customer Info'!$D$19)),)","v":0},{"$f":"IF((OR($F$6=0,$F$6=\"none\")),IF(T169=0,,IF(OR($E$6='Customer Info'!$D$18,$E$6=0),T169,(T169/$E$6)*'Customer Info'!$D$20)),)","v":0},{"$f":"IF((OR($F$7=0,$F$7=\"none\")),IF(U169=0,,IF(OR($E$7='Customer Info'!$D$18,$E$7=0),U169,(U169/$E$7)*'Customer Info'!$D$21)),)","v":0},{"$f":"IF((OR($F$10=0,$F$10=\"none\")),IF(V169=0,,IF(OR($E$10='Customer Info'!$F$18,$E$10=0),V169,(V169/$E$10)*'Customer Info'!$F$18)),)","v":0},{"$f":"IF((OR($F$11=0,$F$11=\"none\")),IF(W169=0,,IF(OR($E$11='Customer Info'!$F$19,$E$11=0),W169,(W169/$E$11)*'Customer Info'!$F$19)),)","v":0},{"$f":"IF((OR($F$12=0,$F$12=\"none\")),IF(X169=0,,IF(OR($E$12='Customer Info'!$F$20,$E$12=0),X169,(X169/$E$12)*'Customer Info'!$F$20)),)","v":0},{"$f":"IF((OR($F$13=0,$F$13=\"none\")),IF(Y169=0,,IF(OR($E$13='Customer Info'!$F$21,$E$13=0),Y169,(Y169/$E$13)*'Customer Info'!$F$21)),)","v":0},{"$f":"IF((OR($F$16=0,$F$16=\"none\")),IF(Z169=0,,IF(OR($E$16='Customer Info'!$H$18,$E$16=0),Z169,(Z169/$E$16)*'Customer Info'!$H$18)),)","v":0},{"$f":"IF((OR($F$17=0,$F$17=\"none\")),IF(AA169=0,,IF(OR($E$17='Customer Info'!$H$19,$E$17=0),AA169,(AA169/$E$17)*'Customer Info'!$H$19)),)","v":0},{"$f":"IF((OR($F$18=0,$F$18=\"none\")),IF(AB169=0,,IF(OR($E$18='Customer Info'!$H$20,$E$18=0),AB169,(AB169/$E$18)*'Customer Info'!$H$20)),)","v":0},{"$f":"IF((OR($F$19=0,$F$19=\"none\")),IF(AC169=0,,IF(OR($E$19='Customer Info'!$H$21,$E$19=0),AC169,(AC169/$E$19)*'Customer Info'!$H$21)),)","v":0},{"$f":"IF((OR($F$4=0,$F$4=\"none\")),IF(AD169=0,,IF(OR($E$4='Customer Info'!$D$18,$E$4=0),AD169,(AD169/$E$4)*'Customer Info'!$D$18)),)","v":0},{"$f":"IF((OR($F$5=0,$F$5=\"none\")),IF(AE169=0,,IF(OR($E$5='Customer Info'!$D$19,$E$5=0),AE169,(AE169/$E$5)*'Customer Info'!$D$19)),)","v":0},{"$f":"IF((OR($F$6=0,$F$6=\"none\")),IF(AF169=0,,IF(OR($E$6='Customer Info'!$D$20,$E$6=0),AF169,(AF169/$E$6)*'Customer Info'!$D$20)),)","v":0},{"$f":"IF((OR($F$7=0,$F$7=\"none\")),IF(AG169=0,,IF(OR($E$7='Customer Info'!$D$21,$E$7=0),AG169,(AG169/$E$7)*'Customer Info'!$D$21)),)","v":0},0,0,{"$f":"IF(E169=\"plate waste\",,IF('Customer Info'!$M$18=0,'Log Sheet'!AY169,'Customer Info'!$M$18*'Log Sheet'!AY169))","v":0},{"$f":"IF(E169=\"plate waste\",IF(OR(C169=\"patient\",C169=\"patient beverages\"),IF('Customer Info'!$M$27=0,AY169*'Customer Info'!$M$18,AY169*'Customer Info'!$M$27),IF(C169=\"cafeteria\",IF('Customer Info'!$M$28=0,AY169*'Customer Info'!$M$18,AY169*'Customer Info'!$M$28),IF(C169=\"other1\",IF('Customer Info'!$M$29=0,AY169*'Customer Info'!$M$18,AY169*'Customer Info'!$M$29),))),)","v":0},0,{"$f":"IF($F$4=\"lunch\",IF(S169=0,,(S169/$E$5)*'Customer Info'!$D$18),)","v":0},{"$f":"IF($F$4=\"dinner\",IF(T169=0,,(T169/$E$6)*'Customer Info'!$D$18),)","v":0},{"$f":"IF($F$4=\"other\",IF(U169=0,,(U169/$E$7)*'Customer Info'!$D$18),)","v":0},0,{"$f":"IF($F$5=\"breakfast\",IF(R169=0,,(R169/$E$4)*'Customer Info'!$D$19),)","v":0},{"$f":"IF($F$5=\"dinner\",IF(T169=0,,(T169/$E$6)*'Customer Info'!$D$19),)","v":0},{"$f":"IF($F$5=\"other\",IF(U169=0,,(U169/$E$7)*'Customer Info'!$D$19),)","v":0},0,{"$f":"IF($F$6=\"breakfast\",IF(R169=0,,(R169/$E$4)*'Customer Info'!$D$20),)","v":0},{"$f":"IF($F$6=\"lunch\",IF(S169=0,,(S169/$E$5)*'Customer Info'!$D$20),)","v":0},{"$f":"IF($F$6=\"other\",IF(U169=0,,(U169/$E$7)*'Customer Info'!$D$20),)","v":0},0,{"$f":"IF($F$7=\"breakfast\",IF(R169=0,,(R169/$E$4)*'Customer Info'!$D$21),)","v":0},{"$f":"IF($F$7=\"lunch\",IF(S169=0,,(S169/$E$5)*'Customer Info'!$D$21),)","v":0},{"$f":"IF($F$7=\"dinner\",IF(T169=0,,(T169/$E$6)*'Customer Info'!$D$21),)","v":0},0,{"$f":"IF($F$10=\"lunch\",IF(W169=0,,(W169/$E$11)*'Customer Info'!$F$18),)","v":0},{"$f":"IF($F$10=\"dinner\",IF(X169=0,,(X169/$E$12)*'Customer Info'!$F$18),)","v":0},{"$f":"IF($F$10=\"other\",IF(Y169=0,,(Y169/$E$13)*'Customer Info'!$F$18),)","v":0},0,{"$f":"IF($F$11=\"breakfast\",IF(V169=0,,(V169/$E$10)*'Customer Info'!$F$19),)","v":0},{"$f":"IF($F$11=\"dinner\",IF(X169=0,,(X169/$E$12)*'Customer Info'!$F$19),)","v":0},{"$f":"IF($F$11=\"other\",IF(Y169=0,,(Y169/$E$13)*'Customer Info'!$F$19),)","v":0},0,{"$f":"IF($F$12=\"breakfast\",IF(V169=0,,(V169/$E$10)*'Customer Info'!$F$20),)","v":0},{"$f":"IF($F$12=\"lunch\",IF(W169=0,,(W169/$E$11)*'Customer Info'!$F$20),)","v":0},{"$f":"IF($F$12=\"other\",IF(Y169=0,,(Y169/$E$13)*'Customer Info'!$F$20),)","v":0},0,{"$f":"IF($F$13=\"breakfast\",IF(V169=0,,(V169/$E$10)*'Customer Info'!$F$21),)","v":0},{"$f":"IF($F$13=\"lunch\",IF(W169=0,,(W169/$E$11)*'Customer Info'!$F$21),)","v":0},{"$f":"IF($F$13=\"dinner\",IF(X169=0,,(X169/$E$12)*'Customer Info'!$F$21),)","v":0},0,{"$f":"IF($F$16=\"lunch\",IF(AA169=0,,(AA169/$E$17)*'Customer Info'!$H$18),)","v":0},{"$f":"IF($F$16=\"dinner\",IF(AB169=0,,(AB169/$E$18)*'Customer Info'!$H$18),)","v":0},{"$f":"IF($F$16=\"other\",IF(AC169=0,,(AC169/$E$19)*'Customer Info'!$H$18),)","v":0},0,{"$f":"IF($F$17=\"breakfast\",IF(Z169=0,,(Z169/$E$16)*'Customer Info'!$H$19),)","v":0},{"$f":"IF($F$17=\"dinner\",IF(AB169=0,,(AB169/$E$18)*'Customer Info'!$H$19),)","v":0},{"$f":"IF($F$17=\"other\",IF(AC169=0,,(AC169/$E$19)*'Customer Info'!$H$19),)","v":0},0,{"$f":"IF($F$18=\"breakfast\",IF(Z169=0,,(Z169/$E$16)*'Customer Info'!$H$20),)","v":0},{"$f":"IF($F$18=\"lunch\",IF(AA169=0,,(AA169/$E$17)*'Customer Info'!$H$20),)","v":0},{"$f":"IF($F$18=\"other\",IF(AC169=0,,(AC169/$E$19)*'Customer Info'!$H$20),)","v":0},0,{"$f":"IF($F$19=\"breakfast\",IF(Z169=0,,(Z169/$E$16)*'Customer Info'!$H$21),)","v":0},{"$f":"IF($F$19=\"lunch\",IF(AA169=0,,(AA169/$E$17)*'Customer Info'!$H$21),)","v":0},{"$f":"IF($F$19=\"dinner\",IF(AB169=0,,(AB169/$E$18)*'Customer Info'!$H$21),)","v":0},0,0,0,0,0,""]
[null,null,null,null,null,null,null,null,null,null,0,0,0,0,0,0,0,0,0,0,0,0,0,0,0,0,0,0,0,0,0,0,0,{"$f":"IF((OR($F$4=0,$F$4=\"none\")),IF(R170=0,,IF(OR($E$4='Customer Info'!$D$18,$E$4=0),R170,(R170/$E$4)*'Customer Info'!$D$18)),)","v":0},{"$f":"IF((OR($F$5=0,$F$5=\"none\")),IF(S170=0,,IF(OR($E$5='Customer Info'!$D$18,$E$5=0),S170,(S170/$E$5)*'Customer Info'!$D$19)),)","v":0},{"$f":"IF((OR($F$6=0,$F$6=\"none\")),IF(T170=0,,IF(OR($E$6='Customer Info'!$D$18,$E$6=0),T170,(T170/$E$6)*'Customer Info'!$D$20)),)","v":0},{"$f":"IF((OR($F$7=0,$F$7=\"none\")),IF(U170=0,,IF(OR($E$7='Customer Info'!$D$18,$E$7=0),U170,(U170/$E$7)*'Customer Info'!$D$21)),)","v":0},{"$f":"IF((OR($F$10=0,$F$10=\"none\")),IF(V170=0,,IF(OR($E$10='Customer Info'!$F$18,$E$10=0),V170,(V170/$E$10)*'Customer Info'!$F$18)),)","v":0},{"$f":"IF((OR($F$11=0,$F$11=\"none\")),IF(W170=0,,IF(OR($E$11='Customer Info'!$F$19,$E$11=0),W170,(W170/$E$11)*'Customer Info'!$F$19)),)","v":0},{"$f":"IF((OR($F$12=0,$F$12=\"none\")),IF(X170=0,,IF(OR($E$12='Customer Info'!$F$20,$E$12=0),X170,(X170/$E$12)*'Customer Info'!$F$20)),)","v":0},{"$f":"IF((OR($F$13=0,$F$13=\"none\")),IF(Y170=0,,IF(OR($E$13='Customer Info'!$F$21,$E$13=0),Y170,(Y170/$E$13)*'Customer Info'!$F$21)),)","v":0},{"$f":"IF((OR($F$16=0,$F$16=\"none\")),IF(Z170=0,,IF(OR($E$16='Customer Info'!$H$18,$E$16=0),Z170,(Z170/$E$16)*'Customer Info'!$H$18)),)","v":0},{"$f":"IF((OR($F$17=0,$F$17=\"none\")),IF(AA170=0,,IF(OR($E$17='Customer Info'!$H$19,$E$17=0),AA170,(AA170/$E$17)*'Customer Info'!$H$19)),)","v":0},{"$f":"IF((OR($F$18=0,$F$18=\"none\")),IF(AB170=0,,IF(OR($E$18='Customer Info'!$H$20,$E$18=0),AB170,(AB170/$E$18)*'Customer Info'!$H$20)),)","v":0},{"$f":"IF((OR($F$19=0,$F$19=\"none\")),IF(AC170=0,,IF(OR($E$19='Customer Info'!$H$21,$E$19=0),AC170,(AC170/$E$19)*'Customer Info'!$H$21)),)","v":0},{"$f":"IF((OR($F$4=0,$F$4=\"none\")),IF(AD170=0,,IF(OR($E$4='Customer Info'!$D$18,$E$4=0),AD170,(AD170/$E$4)*'Customer Info'!$D$18)),)","v":0},{"$f":"IF((OR($F$5=0,$F$5=\"none\")),IF(AE170=0,,IF(OR($E$5='Customer Info'!$D$19,$E$5=0),AE170,(AE170/$E$5)*'Customer Info'!$D$19)),)","v":0},{"$f":"IF((OR($F$6=0,$F$6=\"none\")),IF(AF170=0,,IF(OR($E$6='Customer Info'!$D$20,$E$6=0),AF170,(AF170/$E$6)*'Customer Info'!$D$20)),)","v":0},{"$f":"IF((OR($F$7=0,$F$7=\"none\")),IF(AG170=0,,IF(OR($E$7='Customer Info'!$D$21,$E$7=0),AG170,(AG170/$E$7)*'Customer Info'!$D$21)),)","v":0},0,0,{"$f":"IF(E170=\"plate waste\",,IF('Customer Info'!$M$18=0,'Log Sheet'!AY170,'Customer Info'!$M$18*'Log Sheet'!AY170))","v":0},{"$f":"IF(E170=\"plate waste\",IF(OR(C170=\"patient\",C170=\"patient beverages\"),IF('Customer Info'!$M$27=0,AY170*'Customer Info'!$M$18,AY170*'Customer Info'!$M$27),IF(C170=\"cafeteria\",IF('Customer Info'!$M$28=0,AY170*'Customer Info'!$M$18,AY170*'Customer Info'!$M$28),IF(C170=\"other1\",IF('Customer Info'!$M$29=0,AY170*'Customer Info'!$M$18,AY170*'Customer Info'!$M$29),))),)","v":0},0,{"$f":"IF($F$4=\"lunch\",IF(S170=0,,(S170/$E$5)*'Customer Info'!$D$18),)","v":0},{"$f":"IF($F$4=\"dinner\",IF(T170=0,,(T170/$E$6)*'Customer Info'!$D$18),)","v":0},{"$f":"IF($F$4=\"other\",IF(U170=0,,(U170/$E$7)*'Customer Info'!$D$18),)","v":0},0,{"$f":"IF($F$5=\"breakfast\",IF(R170=0,,(R170/$E$4)*'Customer Info'!$D$19),)","v":0},{"$f":"IF($F$5=\"dinner\",IF(T170=0,,(T170/$E$6)*'Customer Info'!$D$19),)","v":0},{"$f":"IF($F$5=\"other\",IF(U170=0,,(U170/$E$7)*'Customer Info'!$D$19),)","v":0},0,{"$f":"IF($F$6=\"breakfast\",IF(R170=0,,(R170/$E$4)*'Customer Info'!$D$20),)","v":0},{"$f":"IF($F$6=\"lunch\",IF(S170=0,,(S170/$E$5)*'Customer Info'!$D$20),)","v":0},{"$f":"IF($F$6=\"other\",IF(U170=0,,(U170/$E$7)*'Customer Info'!$D$20),)","v":0},0,{"$f":"IF($F$7=\"breakfast\",IF(R170=0,,(R170/$E$4)*'Customer Info'!$D$21),)","v":0},{"$f":"IF($F$7=\"lunch\",IF(S170=0,,(S170/$E$5)*'Customer Info'!$D$21),)","v":0},{"$f":"IF($F$7=\"dinner\",IF(T170=0,,(T170/$E$6)*'Customer Info'!$D$21),)","v":0},0,{"$f":"IF($F$10=\"lunch\",IF(W170=0,,(W170/$E$11)*'Customer Info'!$F$18),)","v":0},{"$f":"IF($F$10=\"dinner\",IF(X170=0,,(X170/$E$12)*'Customer Info'!$F$18),)","v":0},{"$f":"IF($F$10=\"other\",IF(Y170=0,,(Y170/$E$13)*'Customer Info'!$F$18),)","v":0},0,{"$f":"IF($F$11=\"breakfast\",IF(V170=0,,(V170/$E$10)*'Customer Info'!$F$19),)","v":0},{"$f":"IF($F$11=\"dinner\",IF(X170=0,,(X170/$E$12)*'Customer Info'!$F$19),)","v":0},{"$f":"IF($F$11=\"other\",IF(Y170=0,,(Y170/$E$13)*'Customer Info'!$F$19),)","v":0},0,{"$f":"IF($F$12=\"breakfast\",IF(V170=0,,(V170/$E$10)*'Customer Info'!$F$20),)","v":0},{"$f":"IF($F$12=\"lunch\",IF(W170=0,,(W170/$E$11)*'Customer Info'!$F$20),)","v":0},{"$f":"IF($F$12=\"other\",IF(Y170=0,,(Y170/$E$13)*'Customer Info'!$F$20),)","v":0},0,{"$f":"IF($F$13=\"breakfast\",IF(V170=0,,(V170/$E$10)*'Customer Info'!$F$21),)","v":0},{"$f":"IF($F$13=\"lunch\",IF(W170=0,,(W170/$E$11)*'Customer Info'!$F$21),)","v":0},{"$f":"IF($F$13=\"dinner\",IF(X170=0,,(X170/$E$12)*'Customer Info'!$F$21),)","v":0},0,{"$f":"IF($F$16=\"lunch\",IF(AA170=0,,(AA170/$E$17)*'Customer Info'!$H$18),)","v":0},{"$f":"IF($F$16=\"dinner\",IF(AB170=0,,(AB170/$E$18)*'Customer Info'!$H$18),)","v":0},{"$f":"IF($F$16=\"other\",IF(AC170=0,,(AC170/$E$19)*'Customer Info'!$H$18),)","v":0},0,{"$f":"IF($F$17=\"breakfast\",IF(Z170=0,,(Z170/$E$16)*'Customer Info'!$H$19),)","v":0},{"$f":"IF($F$17=\"dinner\",IF(AB170=0,,(AB170/$E$18)*'Customer Info'!$H$19),)","v":0},{"$f":"IF($F$17=\"other\",IF(AC170=0,,(AC170/$E$19)*'Customer Info'!$H$19),)","v":0},0,{"$f":"IF($F$18=\"breakfast\",IF(Z170=0,,(Z170/$E$16)*'Customer Info'!$H$20),)","v":0},{"$f":"IF($F$18=\"lunch\",IF(AA170=0,,(AA170/$E$17)*'Customer Info'!$H$20),)","v":0},{"$f":"IF($F$18=\"other\",IF(AC170=0,,(AC170/$E$19)*'Customer Info'!$H$20),)","v":0},0,{"$f":"IF($F$19=\"breakfast\",IF(Z170=0,,(Z170/$E$16)*'Customer Info'!$H$21),)","v":0},{"$f":"IF($F$19=\"lunch\",IF(AA170=0,,(AA170/$E$17)*'Customer Info'!$H$21),)","v":0},{"$f":"IF($F$19=\"dinner\",IF(AB170=0,,(AB170/$E$18)*'Customer Info'!$H$21),)","v":0},0,0,0,0,0,""]
[null,null,null,null,null,null,null,null,null,null,0,0,0,0,0,0,0,0,0,0,0,0,0,0,0,0,0,0,0,0,0,0,0,{"$f":"IF((OR($F$4=0,$F$4=\"none\")),IF(R171=0,,IF(OR($E$4='Customer Info'!$D$18,$E$4=0),R171,(R171/$E$4)*'Customer Info'!$D$18)),)","v":0},{"$f":"IF((OR($F$5=0,$F$5=\"none\")),IF(S171=0,,IF(OR($E$5='Customer Info'!$D$18,$E$5=0),S171,(S171/$E$5)*'Customer Info'!$D$19)),)","v":0},{"$f":"IF((OR($F$6=0,$F$6=\"none\")),IF(T171=0,,IF(OR($E$6='Customer Info'!$D$18,$E$6=0),T171,(T171/$E$6)*'Customer Info'!$D$20)),)","v":0},{"$f":"IF((OR($F$7=0,$F$7=\"none\")),IF(U171=0,,IF(OR($E$7='Customer Info'!$D$18,$E$7=0),U171,(U171/$E$7)*'Customer Info'!$D$21)),)","v":0},{"$f":"IF((OR($F$10=0,$F$10=\"none\")),IF(V171=0,,IF(OR($E$10='Customer Info'!$F$18,$E$10=0),V171,(V171/$E$10)*'Customer Info'!$F$18)),)","v":0},{"$f":"IF((OR($F$11=0,$F$11=\"none\")),IF(W171=0,,IF(OR($E$11='Customer Info'!$F$19,$E$11=0),W171,(W171/$E$11)*'Customer Info'!$F$19)),)","v":0},{"$f":"IF((OR($F$12=0,$F$12=\"none\")),IF(X171=0,,IF(OR($E$12='Customer Info'!$F$20,$E$12=0),X171,(X171/$E$12)*'Customer Info'!$F$20)),)","v":0},{"$f":"IF((OR($F$13=0,$F$13=\"none\")),IF(Y171=0,,IF(OR($E$13='Customer Info'!$F$21,$E$13=0),Y171,(Y171/$E$13)*'Customer Info'!$F$21)),)","v":0},{"$f":"IF((OR($F$16=0,$F$16=\"none\")),IF(Z171=0,,IF(OR($E$16='Customer Info'!$H$18,$E$16=0),Z171,(Z171/$E$16)*'Customer Info'!$H$18)),)","v":0},{"$f":"IF((OR($F$17=0,$F$17=\"none\")),IF(AA171=0,,IF(OR($E$17='Customer Info'!$H$19,$E$17=0),AA171,(AA171/$E$17)*'Customer Info'!$H$19)),)","v":0},{"$f":"IF((OR($F$18=0,$F$18=\"none\")),IF(AB171=0,,IF(OR($E$18='Customer Info'!$H$20,$E$18=0),AB171,(AB171/$E$18)*'Customer Info'!$H$20)),)","v":0},{"$f":"IF((OR($F$19=0,$F$19=\"none\")),IF(AC171=0,,IF(OR($E$19='Customer Info'!$H$21,$E$19=0),AC171,(AC171/$E$19)*'Customer Info'!$H$21)),)","v":0},{"$f":"IF((OR($F$4=0,$F$4=\"none\")),IF(AD171=0,,IF(OR($E$4='Customer Info'!$D$18,$E$4=0),AD171,(AD171/$E$4)*'Customer Info'!$D$18)),)","v":0},{"$f":"IF((OR($F$5=0,$F$5=\"none\")),IF(AE171=0,,IF(OR($E$5='Customer Info'!$D$19,$E$5=0),AE171,(AE171/$E$5)*'Customer Info'!$D$19)),)","v":0},{"$f":"IF((OR($F$6=0,$F$6=\"none\")),IF(AF171=0,,IF(OR($E$6='Customer Info'!$D$20,$E$6=0),AF171,(AF171/$E$6)*'Customer Info'!$D$20)),)","v":0},{"$f":"IF((OR($F$7=0,$F$7=\"none\")),IF(AG171=0,,IF(OR($E$7='Customer Info'!$D$21,$E$7=0),AG171,(AG171/$E$7)*'Customer Info'!$D$21)),)","v":0},0,0,{"$f":"IF(E171=\"plate waste\",,IF('Customer Info'!$M$18=0,'Log Sheet'!AY171,'Customer Info'!$M$18*'Log Sheet'!AY171))","v":0},{"$f":"IF(E171=\"plate waste\",IF(OR(C171=\"patient\",C171=\"patient beverages\"),IF('Customer Info'!$M$27=0,AY171*'Customer Info'!$M$18,AY171*'Customer Info'!$M$27),IF(C171=\"cafeteria\",IF('Customer Info'!$M$28=0,AY171*'Customer Info'!$M$18,AY171*'Customer Info'!$M$28),IF(C171=\"other1\",IF('Customer Info'!$M$29=0,AY171*'Customer Info'!$M$18,AY171*'Customer Info'!$M$29),))),)","v":0},0,{"$f":"IF($F$4=\"lunch\",IF(S171=0,,(S171/$E$5)*'Customer Info'!$D$18),)","v":0},{"$f":"IF($F$4=\"dinner\",IF(T171=0,,(T171/$E$6)*'Customer Info'!$D$18),)","v":0},{"$f":"IF($F$4=\"other\",IF(U171=0,,(U171/$E$7)*'Customer Info'!$D$18),)","v":0},0,{"$f":"IF($F$5=\"breakfast\",IF(R171=0,,(R171/$E$4)*'Customer Info'!$D$19),)","v":0},{"$f":"IF($F$5=\"dinner\",IF(T171=0,,(T171/$E$6)*'Customer Info'!$D$19),)","v":0},{"$f":"IF($F$5=\"other\",IF(U171=0,,(U171/$E$7)*'Customer Info'!$D$19),)","v":0},0,{"$f":"IF($F$6=\"breakfast\",IF(R171=0,,(R171/$E$4)*'Customer Info'!$D$20),)","v":0},{"$f":"IF($F$6=\"lunch\",IF(S171=0,,(S171/$E$5)*'Customer Info'!$D$20),)","v":0},{"$f":"IF($F$6=\"other\",IF(U171=0,,(U171/$E$7)*'Customer Info'!$D$20),)","v":0},0,{"$f":"IF($F$7=\"breakfast\",IF(R171=0,,(R171/$E$4)*'Customer Info'!$D$21),)","v":0},{"$f":"IF($F$7=\"lunch\",IF(S171=0,,(S171/$E$5)*'Customer Info'!$D$21),)","v":0},{"$f":"IF($F$7=\"dinner\",IF(T171=0,,(T171/$E$6)*'Customer Info'!$D$21),)","v":0},0,{"$f":"IF($F$10=\"lunch\",IF(W171=0,,(W171/$E$11)*'Customer Info'!$F$18),)","v":0},{"$f":"IF($F$10=\"dinner\",IF(X171=0,,(X171/$E$12)*'Customer Info'!$F$18),)","v":0},{"$f":"IF($F$10=\"other\",IF(Y171=0,,(Y171/$E$13)*'Customer Info'!$F$18),)","v":0},0,{"$f":"IF($F$11=\"breakfast\",IF(V171=0,,(V171/$E$10)*'Customer Info'!$F$19),)","v":0},{"$f":"IF($F$11=\"dinner\",IF(X171=0,,(X171/$E$12)*'Customer Info'!$F$19),)","v":0},{"$f":"IF($F$11=\"other\",IF(Y171=0,,(Y171/$E$13)*'Customer Info'!$F$19),)","v":0},0,{"$f":"IF($F$12=\"breakfast\",IF(V171=0,,(V171/$E$10)*'Customer Info'!$F$20),)","v":0},{"$f":"IF($F$12=\"lunch\",IF(W171=0,,(W171/$E$11)*'Customer Info'!$F$20),)","v":0},{"$f":"IF($F$12=\"other\",IF(Y171=0,,(Y171/$E$13)*'Customer Info'!$F$20),)","v":0},0,{"$f":"IF($F$13=\"breakfast\",IF(V171=0,,(V171/$E$10)*'Customer Info'!$F$21),)","v":0},{"$f":"IF($F$13=\"lunch\",IF(W171=0,,(W171/$E$11)*'Customer Info'!$F$21),)","v":0},{"$f":"IF($F$13=\"dinner\",IF(X171=0,,(X171/$E$12)*'Customer Info'!$F$21),)","v":0},0,{"$f":"IF($F$16=\"lunch\",IF(AA171=0,,(AA171/$E$17)*'Customer Info'!$H$18),)","v":0},{"$f":"IF($F$16=\"dinner\",IF(AB171=0,,(AB171/$E$18)*'Customer Info'!$H$18),)","v":0},{"$f":"IF($F$16=\"other\",IF(AC171=0,,(AC171/$E$19)*'Customer Info'!$H$18),)","v":0},0,{"$f":"IF($F$17=\"breakfast\",IF(Z171=0,,(Z171/$E$16)*'Customer Info'!$H$19),)","v":0},{"$f":"IF($F$17=\"dinner\",IF(AB171=0,,(AB171/$E$18)*'Customer Info'!$H$19),)","v":0},{"$f":"IF($F$17=\"other\",IF(AC171=0,,(AC171/$E$19)*'Customer Info'!$H$19),)","v":0},0,{"$f":"IF($F$18=\"breakfast\",IF(Z171=0,,(Z171/$E$16)*'Customer Info'!$H$20),)","v":0},{"$f":"IF($F$18=\"lunch\",IF(AA171=0,,(AA171/$E$17)*'Customer Info'!$H$20),)","v":0},{"$f":"IF($F$18=\"other\",IF(AC171=0,,(AC171/$E$19)*'Customer Info'!$H$20),)","v":0},0,{"$f":"IF($F$19=\"breakfast\",IF(Z171=0,,(Z171/$E$16)*'Customer Info'!$H$21),)","v":0},{"$f":"IF($F$19=\"lunch\",IF(AA171=0,,(AA171/$E$17)*'Customer Info'!$H$21),)","v":0},{"$f":"IF($F$19=\"dinner\",IF(AB171=0,,(AB171/$E$18)*'Customer Info'!$H$21),)","v":0},0,0,0,0,0,""]
[null,null,null,null,null,null,null,null,null,null,0,0,0,0,0,0,0,0,0,0,0,0,0,0,0,0,0,0,0,0,0,0,0,{"$f":"IF((OR($F$4=0,$F$4=\"none\")),IF(R172=0,,IF(OR($E$4='Customer Info'!$D$18,$E$4=0),R172,(R172/$E$4)*'Customer Info'!$D$18)),)","v":0},{"$f":"IF((OR($F$5=0,$F$5=\"none\")),IF(S172=0,,IF(OR($E$5='Customer Info'!$D$18,$E$5=0),S172,(S172/$E$5)*'Customer Info'!$D$19)),)","v":0},{"$f":"IF((OR($F$6=0,$F$6=\"none\")),IF(T172=0,,IF(OR($E$6='Customer Info'!$D$18,$E$6=0),T172,(T172/$E$6)*'Customer Info'!$D$20)),)","v":0},{"$f":"IF((OR($F$7=0,$F$7=\"none\")),IF(U172=0,,IF(OR($E$7='Customer Info'!$D$18,$E$7=0),U172,(U172/$E$7)*'Customer Info'!$D$21)),)","v":0},{"$f":"IF((OR($F$10=0,$F$10=\"none\")),IF(V172=0,,IF(OR($E$10='Customer Info'!$F$18,$E$10=0),V172,(V172/$E$10)*'Customer Info'!$F$18)),)","v":0},{"$f":"IF((OR($F$11=0,$F$11=\"none\")),IF(W172=0,,IF(OR($E$11='Customer Info'!$F$19,$E$11=0),W172,(W172/$E$11)*'Customer Info'!$F$19)),)","v":0},{"$f":"IF((OR($F$12=0,$F$12=\"none\")),IF(X172=0,,IF(OR($E$12='Customer Info'!$F$20,$E$12=0),X172,(X172/$E$12)*'Customer Info'!$F$20)),)","v":0},{"$f":"IF((OR($F$13=0,$F$13=\"none\")),IF(Y172=0,,IF(OR($E$13='Customer Info'!$F$21,$E$13=0),Y172,(Y172/$E$13)*'Customer Info'!$F$21)),)","v":0},{"$f":"IF((OR($F$16=0,$F$16=\"none\")),IF(Z172=0,,IF(OR($E$16='Customer Info'!$H$18,$E$16=0),Z172,(Z172/$E$16)*'Customer Info'!$H$18)),)","v":0},{"$f":"IF((OR($F$17=0,$F$17=\"none\")),IF(AA172=0,,IF(OR($E$17='Customer Info'!$H$19,$E$17=0),AA172,(AA172/$E$17)*'Customer Info'!$H$19)),)","v":0},{"$f":"IF((OR($F$18=0,$F$18=\"none\")),IF(AB172=0,,IF(OR($E$18='Customer Info'!$H$20,$E$18=0),AB172,(AB172/$E$18)*'Customer Info'!$H$20)),)","v":0},{"$f":"IF((OR($F$19=0,$F$19=\"none\")),IF(AC172=0,,IF(OR($E$19='Customer Info'!$H$21,$E$19=0),AC172,(AC172/$E$19)*'Customer Info'!$H$21)),)","v":0},{"$f":"IF((OR($F$4=0,$F$4=\"none\")),IF(AD172=0,,IF(OR($E$4='Customer Info'!$D$18,$E$4=0),AD172,(AD172/$E$4)*'Customer Info'!$D$18)),)","v":0},{"$f":"IF((OR($F$5=0,$F$5=\"none\")),IF(AE172=0,,IF(OR($E$5='Customer Info'!$D$19,$E$5=0),AE172,(AE172/$E$5)*'Customer Info'!$D$19)),)","v":0},{"$f":"IF((OR($F$6=0,$F$6=\"none\")),IF(AF172=0,,IF(OR($E$6='Customer Info'!$D$20,$E$6=0),AF172,(AF172/$E$6)*'Customer Info'!$D$20)),)","v":0},{"$f":"IF((OR($F$7=0,$F$7=\"none\")),IF(AG172=0,,IF(OR($E$7='Customer Info'!$D$21,$E$7=0),AG172,(AG172/$E$7)*'Customer Info'!$D$21)),)","v":0},0,0,{"$f":"IF(E172=\"plate waste\",,IF('Customer Info'!$M$18=0,'Log Sheet'!AY172,'Customer Info'!$M$18*'Log Sheet'!AY172))","v":0},{"$f":"IF(E172=\"plate waste\",IF(OR(C172=\"patient\",C172=\"patient beverages\"),IF('Customer Info'!$M$27=0,AY172*'Customer Info'!$M$18,AY172*'Customer Info'!$M$27),IF(C172=\"cafeteria\",IF('Customer Info'!$M$28=0,AY172*'Customer Info'!$M$18,AY172*'Customer Info'!$M$28),IF(C172=\"other1\",IF('Customer Info'!$M$29=0,AY172*'Customer Info'!$M$18,AY172*'Customer Info'!$M$29),))),)","v":0},0,{"$f":"IF($F$4=\"lunch\",IF(S172=0,,(S172/$E$5)*'Customer Info'!$D$18),)","v":0},{"$f":"IF($F$4=\"dinner\",IF(T172=0,,(T172/$E$6)*'Customer Info'!$D$18),)","v":0},{"$f":"IF($F$4=\"other\",IF(U172=0,,(U172/$E$7)*'Customer Info'!$D$18),)","v":0},0,{"$f":"IF($F$5=\"breakfast\",IF(R172=0,,(R172/$E$4)*'Customer Info'!$D$19),)","v":0},{"$f":"IF($F$5=\"dinner\",IF(T172=0,,(T172/$E$6)*'Customer Info'!$D$19),)","v":0},{"$f":"IF($F$5=\"other\",IF(U172=0,,(U172/$E$7)*'Customer Info'!$D$19),)","v":0},0,{"$f":"IF($F$6=\"breakfast\",IF(R172=0,,(R172/$E$4)*'Customer Info'!$D$20),)","v":0},{"$f":"IF($F$6=\"lunch\",IF(S172=0,,(S172/$E$5)*'Customer Info'!$D$20),)","v":0},{"$f":"IF($F$6=\"other\",IF(U172=0,,(U172/$E$7)*'Customer Info'!$D$20),)","v":0},0,{"$f":"IF($F$7=\"breakfast\",IF(R172=0,,(R172/$E$4)*'Customer Info'!$D$21),)","v":0},{"$f":"IF($F$7=\"lunch\",IF(S172=0,,(S172/$E$5)*'Customer Info'!$D$21),)","v":0},{"$f":"IF($F$7=\"dinner\",IF(T172=0,,(T172/$E$6)*'Customer Info'!$D$21),)","v":0},0,{"$f":"IF($F$10=\"lunch\",IF(W172=0,,(W172/$E$11)*'Customer Info'!$F$18),)","v":0},{"$f":"IF($F$10=\"dinner\",IF(X172=0,,(X172/$E$12)*'Customer Info'!$F$18),)","v":0},{"$f":"IF($F$10=\"other\",IF(Y172=0,,(Y172/$E$13)*'Customer Info'!$F$18),)","v":0},0,{"$f":"IF($F$11=\"breakfast\",IF(V172=0,,(V172/$E$10)*'Customer Info'!$F$19),)","v":0},{"$f":"IF($F$11=\"dinner\",IF(X172=0,,(X172/$E$12)*'Customer Info'!$F$19),)","v":0},{"$f":"IF($F$11=\"other\",IF(Y172=0,,(Y172/$E$13)*'Customer Info'!$F$19),)","v":0},0,{"$f":"IF($F$12=\"breakfast\",IF(V172=0,,(V172/$E$10)*'Customer Info'!$F$20),)","v":0},{"$f":"IF($F$12=\"lunch\",IF(W172=0,,(W172/$E$11)*'Customer Info'!$F$20),)","v":0},{"$f":"IF($F$12=\"other\",IF(Y172=0,,(Y172/$E$13)*'Customer Info'!$F$20),)","v":0},0,{"$f":"IF($F$13=\"breakfast\",IF(V172=0,,(V172/$E$10)*'Customer Info'!$F$21),)","v":0},{"$f":"IF($F$13=\"lunch\",IF(W172=0,,(W172/$E$11)*'Customer Info'!$F$21),)","v":0},{"$f":"IF($F$13=\"dinner\",IF(X172=0,,(X172/$E$12)*'Customer Info'!$F$21),)","v":0},0,{"$f":"IF($F$16=\"lunch\",IF(AA172=0,,(AA172/$E$17)*'Customer Info'!$H$18),)","v":0},{"$f":"IF($F$16=\"dinner\",IF(AB172=0,,(AB172/$E$18)*'Customer Info'!$H$18),)","v":0},{"$f":"IF($F$16=\"other\",IF(AC172=0,,(AC172/$E$19)*'Customer Info'!$H$18),)","v":0},0,{"$f":"IF($F$17=\"breakfast\",IF(Z172=0,,(Z172/$E$16)*'Customer Info'!$H$19),)","v":0},{"$f":"IF($F$17=\"dinner\",IF(AB172=0,,(AB172/$E$18)*'Customer Info'!$H$19),)","v":0},{"$f":"IF($F$17=\"other\",IF(AC172=0,,(AC172/$E$19)*'Customer Info'!$H$19),)","v":0},0,{"$f":"IF($F$18=\"breakfast\",IF(Z172=0,,(Z172/$E$16)*'Customer Info'!$H$20),)","v":0},{"$f":"IF($F$18=\"lunch\",IF(AA172=0,,(AA172/$E$17)*'Customer Info'!$H$20),)","v":0},{"$f":"IF($F$18=\"other\",IF(AC172=0,,(AC172/$E$19)*'Customer Info'!$H$20),)","v":0},0,{"$f":"IF($F$19=\"breakfast\",IF(Z172=0,,(Z172/$E$16)*'Customer Info'!$H$21),)","v":0},{"$f":"IF($F$19=\"lunch\",IF(AA172=0,,(AA172/$E$17)*'Customer Info'!$H$21),)","v":0},{"$f":"IF($F$19=\"dinner\",IF(AB172=0,,(AB172/$E$18)*'Customer Info'!$H$21),)","v":0},0,0,0,0,0,""]
[null,null,null,null,null,null,null,null,null,null,0,0,0,0,0,0,0,0,0,0,0,0,0,0,0,0,0,0,0,0,0,0,0,{"$f":"IF((OR($F$4=0,$F$4=\"none\")),IF(R173=0,,IF(OR($E$4='Customer Info'!$D$18,$E$4=0),R173,(R173/$E$4)*'Customer Info'!$D$18)),)","v":0},{"$f":"IF((OR($F$5=0,$F$5=\"none\")),IF(S173=0,,IF(OR($E$5='Customer Info'!$D$18,$E$5=0),S173,(S173/$E$5)*'Customer Info'!$D$19)),)","v":0},{"$f":"IF((OR($F$6=0,$F$6=\"none\")),IF(T173=0,,IF(OR($E$6='Customer Info'!$D$18,$E$6=0),T173,(T173/$E$6)*'Customer Info'!$D$20)),)","v":0},{"$f":"IF((OR($F$7=0,$F$7=\"none\")),IF(U173=0,,IF(OR($E$7='Customer Info'!$D$18,$E$7=0),U173,(U173/$E$7)*'Customer Info'!$D$21)),)","v":0},{"$f":"IF((OR($F$10=0,$F$10=\"none\")),IF(V173=0,,IF(OR($E$10='Customer Info'!$F$18,$E$10=0),V173,(V173/$E$10)*'Customer Info'!$F$18)),)","v":0},{"$f":"IF((OR($F$11=0,$F$11=\"none\")),IF(W173=0,,IF(OR($E$11='Customer Info'!$F$19,$E$11=0),W173,(W173/$E$11)*'Customer Info'!$F$19)),)","v":0},{"$f":"IF((OR($F$12=0,$F$12=\"none\")),IF(X173=0,,IF(OR($E$12='Customer Info'!$F$20,$E$12=0),X173,(X173/$E$12)*'Customer Info'!$F$20)),)","v":0},{"$f":"IF((OR($F$13=0,$F$13=\"none\")),IF(Y173=0,,IF(OR($E$13='Customer Info'!$F$21,$E$13=0),Y173,(Y173/$E$13)*'Customer Info'!$F$21)),)","v":0},{"$f":"IF((OR($F$16=0,$F$16=\"none\")),IF(Z173=0,,IF(OR($E$16='Customer Info'!$H$18,$E$16=0),Z173,(Z173/$E$16)*'Customer Info'!$H$18)),)","v":0},{"$f":"IF((OR($F$17=0,$F$17=\"none\")),IF(AA173=0,,IF(OR($E$17='Customer Info'!$H$19,$E$17=0),AA173,(AA173/$E$17)*'Customer Info'!$H$19)),)","v":0},{"$f":"IF((OR($F$18=0,$F$18=\"none\")),IF(AB173=0,,IF(OR($E$18='Customer Info'!$H$20,$E$18=0),AB173,(AB173/$E$18)*'Customer Info'!$H$20)),)","v":0},{"$f":"IF((OR($F$19=0,$F$19=\"none\")),IF(AC173=0,,IF(OR($E$19='Customer Info'!$H$21,$E$19=0),AC173,(AC173/$E$19)*'Customer Info'!$H$21)),)","v":0},{"$f":"IF((OR($F$4=0,$F$4=\"none\")),IF(AD173=0,,IF(OR($E$4='Customer Info'!$D$18,$E$4=0),AD173,(AD173/$E$4)*'Customer Info'!$D$18)),)","v":0},{"$f":"IF((OR($F$5=0,$F$5=\"none\")),IF(AE173=0,,IF(OR($E$5='Customer Info'!$D$19,$E$5=0),AE173,(AE173/$E$5)*'Customer Info'!$D$19)),)","v":0},{"$f":"IF((OR($F$6=0,$F$6=\"none\")),IF(AF173=0,,IF(OR($E$6='Customer Info'!$D$20,$E$6=0),AF173,(AF173/$E$6)*'Customer Info'!$D$20)),)","v":0},{"$f":"IF((OR($F$7=0,$F$7=\"none\")),IF(AG173=0,,IF(OR($E$7='Customer Info'!$D$21,$E$7=0),AG173,(AG173/$E$7)*'Customer Info'!$D$21)),)","v":0},0,0,{"$f":"IF(E173=\"plate waste\",,IF('Customer Info'!$M$18=0,'Log Sheet'!AY173,'Customer Info'!$M$18*'Log Sheet'!AY173))","v":0},{"$f":"IF(E173=\"plate waste\",IF(OR(C173=\"patient\",C173=\"patient beverages\"),IF('Customer Info'!$M$27=0,AY173*'Customer Info'!$M$18,AY173*'Customer Info'!$M$27),IF(C173=\"cafeteria\",IF('Customer Info'!$M$28=0,AY173*'Customer Info'!$M$18,AY173*'Customer Info'!$M$28),IF(C173=\"other1\",IF('Customer Info'!$M$29=0,AY173*'Customer Info'!$M$18,AY173*'Customer Info'!$M$29),))),)","v":0},0,{"$f":"IF($F$4=\"lunch\",IF(S173=0,,(S173/$E$5)*'Customer Info'!$D$18),)","v":0},{"$f":"IF($F$4=\"dinner\",IF(T173=0,,(T173/$E$6)*'Customer Info'!$D$18),)","v":0},{"$f":"IF($F$4=\"other\",IF(U173=0,,(U173/$E$7)*'Customer Info'!$D$18),)","v":0},0,{"$f":"IF($F$5=\"breakfast\",IF(R173=0,,(R173/$E$4)*'Customer Info'!$D$19),)","v":0},{"$f":"IF($F$5=\"dinner\",IF(T173=0,,(T173/$E$6)*'Customer Info'!$D$19),)","v":0},{"$f":"IF($F$5=\"other\",IF(U173=0,,(U173/$E$7)*'Customer Info'!$D$19),)","v":0},0,{"$f":"IF($F$6=\"breakfast\",IF(R173=0,,(R173/$E$4)*'Customer Info'!$D$20),)","v":0},{"$f":"IF($F$6=\"lunch\",IF(S173=0,,(S173/$E$5)*'Customer Info'!$D$20),)","v":0},{"$f":"IF($F$6=\"other\",IF(U173=0,,(U173/$E$7)*'Customer Info'!$D$20),)","v":0},0,{"$f":"IF($F$7=\"breakfast\",IF(R173=0,,(R173/$E$4)*'Customer Info'!$D$21),)","v":0},{"$f":"IF($F$7=\"lunch\",IF(S173=0,,(S173/$E$5)*'Customer Info'!$D$21),)","v":0},{"$f":"IF($F$7=\"dinner\",IF(T173=0,,(T173/$E$6)*'Customer Info'!$D$21),)","v":0},0,{"$f":"IF($F$10=\"lunch\",IF(W173=0,,(W173/$E$11)*'Customer Info'!$F$18),)","v":0},{"$f":"IF($F$10=\"dinner\",IF(X173=0,,(X173/$E$12)*'Customer Info'!$F$18),)","v":0},{"$f":"IF($F$10=\"other\",IF(Y173=0,,(Y173/$E$13)*'Customer Info'!$F$18),)","v":0},0,{"$f":"IF($F$11=\"breakfast\",IF(V173=0,,(V173/$E$10)*'Customer Info'!$F$19),)","v":0},{"$f":"IF($F$11=\"dinner\",IF(X173=0,,(X173/$E$12)*'Customer Info'!$F$19),)","v":0},{"$f":"IF($F$11=\"other\",IF(Y173=0,,(Y173/$E$13)*'Customer Info'!$F$19),)","v":0},0,{"$f":"IF($F$12=\"breakfast\",IF(V173=0,,(V173/$E$10)*'Customer Info'!$F$20),)","v":0},{"$f":"IF($F$12=\"lunch\",IF(W173=0,,(W173/$E$11)*'Customer Info'!$F$20),)","v":0},{"$f":"IF($F$12=\"other\",IF(Y173=0,,(Y173/$E$13)*'Customer Info'!$F$20),)","v":0},0,{"$f":"IF($F$13=\"breakfast\",IF(V173=0,,(V173/$E$10)*'Customer Info'!$F$21),)","v":0},{"$f":"IF($F$13=\"lunch\",IF(W173=0,,(W173/$E$11)*'Customer Info'!$F$21),)","v":0},{"$f":"IF($F$13=\"dinner\",IF(X173=0,,(X173/$E$12)*'Customer Info'!$F$21),)","v":0},0,{"$f":"IF($F$16=\"lunch\",IF(AA173=0,,(AA173/$E$17)*'Customer Info'!$H$18),)","v":0},{"$f":"IF($F$16=\"dinner\",IF(AB173=0,,(AB173/$E$18)*'Customer Info'!$H$18),)","v":0},{"$f":"IF($F$16=\"other\",IF(AC173=0,,(AC173/$E$19)*'Customer Info'!$H$18),)","v":0},0,{"$f":"IF($F$17=\"breakfast\",IF(Z173=0,,(Z173/$E$16)*'Customer Info'!$H$19),)","v":0},{"$f":"IF($F$17=\"dinner\",IF(AB173=0,,(AB173/$E$18)*'Customer Info'!$H$19),)","v":0},{"$f":"IF($F$17=\"other\",IF(AC173=0,,(AC173/$E$19)*'Customer Info'!$H$19),)","v":0},0,{"$f":"IF($F$18=\"breakfast\",IF(Z173=0,,(Z173/$E$16)*'Customer Info'!$H$20),)","v":0},{"$f":"IF($F$18=\"lunch\",IF(AA173=0,,(AA173/$E$17)*'Customer Info'!$H$20),)","v":0},{"$f":"IF($F$18=\"other\",IF(AC173=0,,(AC173/$E$19)*'Customer Info'!$H$20),)","v":0},0,{"$f":"IF($F$19=\"breakfast\",IF(Z173=0,,(Z173/$E$16)*'Customer Info'!$H$21),)","v":0},{"$f":"IF($F$19=\"lunch\",IF(AA173=0,,(AA173/$E$17)*'Customer Info'!$H$21),)","v":0},{"$f":"IF($F$19=\"dinner\",IF(AB173=0,,(AB173/$E$18)*'Customer Info'!$H$21),)","v":0},0,0,0,0,0,""]
[null,null,null,null,null,null,null,null,null,null,0,0,0,0,0,0,0,0,0,0,0,0,0,0,0,0,0,0,0,0,0,0,0,{"$f":"IF((OR($F$4=0,$F$4=\"none\")),IF(R174=0,,IF(OR($E$4='Customer Info'!$D$18,$E$4=0),R174,(R174/$E$4)*'Customer Info'!$D$18)),)","v":0},{"$f":"IF((OR($F$5=0,$F$5=\"none\")),IF(S174=0,,IF(OR($E$5='Customer Info'!$D$18,$E$5=0),S174,(S174/$E$5)*'Customer Info'!$D$19)),)","v":0},{"$f":"IF((OR($F$6=0,$F$6=\"none\")),IF(T174=0,,IF(OR($E$6='Customer Info'!$D$18,$E$6=0),T174,(T174/$E$6)*'Customer Info'!$D$20)),)","v":0},{"$f":"IF((OR($F$7=0,$F$7=\"none\")),IF(U174=0,,IF(OR($E$7='Customer Info'!$D$18,$E$7=0),U174,(U174/$E$7)*'Customer Info'!$D$21)),)","v":0},{"$f":"IF((OR($F$10=0,$F$10=\"none\")),IF(V174=0,,IF(OR($E$10='Customer Info'!$F$18,$E$10=0),V174,(V174/$E$10)*'Customer Info'!$F$18)),)","v":0},{"$f":"IF((OR($F$11=0,$F$11=\"none\")),IF(W174=0,,IF(OR($E$11='Customer Info'!$F$19,$E$11=0),W174,(W174/$E$11)*'Customer Info'!$F$19)),)","v":0},{"$f":"IF((OR($F$12=0,$F$12=\"none\")),IF(X174=0,,IF(OR($E$12='Customer Info'!$F$20,$E$12=0),X174,(X174/$E$12)*'Customer Info'!$F$20)),)","v":0},{"$f":"IF((OR($F$13=0,$F$13=\"none\")),IF(Y174=0,,IF(OR($E$13='Customer Info'!$F$21,$E$13=0),Y174,(Y174/$E$13)*'Customer Info'!$F$21)),)","v":0},{"$f":"IF((OR($F$16=0,$F$16=\"none\")),IF(Z174=0,,IF(OR($E$16='Customer Info'!$H$18,$E$16=0),Z174,(Z174/$E$16)*'Customer Info'!$H$18)),)","v":0},{"$f":"IF((OR($F$17=0,$F$17=\"none\")),IF(AA174=0,,IF(OR($E$17='Customer Info'!$H$19,$E$17=0),AA174,(AA174/$E$17)*'Customer Info'!$H$19)),)","v":0},{"$f":"IF((OR($F$18=0,$F$18=\"none\")),IF(AB174=0,,IF(OR($E$18='Customer Info'!$H$20,$E$18=0),AB174,(AB174/$E$18)*'Customer Info'!$H$20)),)","v":0},{"$f":"IF((OR($F$19=0,$F$19=\"none\")),IF(AC174=0,,IF(OR($E$19='Customer Info'!$H$21,$E$19=0),AC174,(AC174/$E$19)*'Customer Info'!$H$21)),)","v":0},{"$f":"IF((OR($F$4=0,$F$4=\"none\")),IF(AD174=0,,IF(OR($E$4='Customer Info'!$D$18,$E$4=0),AD174,(AD174/$E$4)*'Customer Info'!$D$18)),)","v":0},{"$f":"IF((OR($F$5=0,$F$5=\"none\")),IF(AE174=0,,IF(OR($E$5='Customer Info'!$D$19,$E$5=0),AE174,(AE174/$E$5)*'Customer Info'!$D$19)),)","v":0},{"$f":"IF((OR($F$6=0,$F$6=\"none\")),IF(AF174=0,,IF(OR($E$6='Customer Info'!$D$20,$E$6=0),AF174,(AF174/$E$6)*'Customer Info'!$D$20)),)","v":0},{"$f":"IF((OR($F$7=0,$F$7=\"none\")),IF(AG174=0,,IF(OR($E$7='Customer Info'!$D$21,$E$7=0),AG174,(AG174/$E$7)*'Customer Info'!$D$21)),)","v":0},0,0,{"$f":"IF(E174=\"plate waste\",,IF('Customer Info'!$M$18=0,'Log Sheet'!AY174,'Customer Info'!$M$18*'Log Sheet'!AY174))","v":0},{"$f":"IF(E174=\"plate waste\",IF(OR(C174=\"patient\",C174=\"patient beverages\"),IF('Customer Info'!$M$27=0,AY174*'Customer Info'!$M$18,AY174*'Customer Info'!$M$27),IF(C174=\"cafeteria\",IF('Customer Info'!$M$28=0,AY174*'Customer Info'!$M$18,AY174*'Customer Info'!$M$28),IF(C174=\"other1\",IF('Customer Info'!$M$29=0,AY174*'Customer Info'!$M$18,AY174*'Customer Info'!$M$29),))),)","v":0},0,{"$f":"IF($F$4=\"lunch\",IF(S174=0,,(S174/$E$5)*'Customer Info'!$D$18),)","v":0},{"$f":"IF($F$4=\"dinner\",IF(T174=0,,(T174/$E$6)*'Customer Info'!$D$18),)","v":0},{"$f":"IF($F$4=\"other\",IF(U174=0,,(U174/$E$7)*'Customer Info'!$D$18),)","v":0},0,{"$f":"IF($F$5=\"breakfast\",IF(R174=0,,(R174/$E$4)*'Customer Info'!$D$19),)","v":0},{"$f":"IF($F$5=\"dinner\",IF(T174=0,,(T174/$E$6)*'Customer Info'!$D$19),)","v":0},{"$f":"IF($F$5=\"other\",IF(U174=0,,(U174/$E$7)*'Customer Info'!$D$19),)","v":0},0,{"$f":"IF($F$6=\"breakfast\",IF(R174=0,,(R174/$E$4)*'Customer Info'!$D$20),)","v":0},{"$f":"IF($F$6=\"lunch\",IF(S174=0,,(S174/$E$5)*'Customer Info'!$D$20),)","v":0},{"$f":"IF($F$6=\"other\",IF(U174=0,,(U174/$E$7)*'Customer Info'!$D$20),)","v":0},0,{"$f":"IF($F$7=\"breakfast\",IF(R174=0,,(R174/$E$4)*'Customer Info'!$D$21),)","v":0},{"$f":"IF($F$7=\"lunch\",IF(S174=0,,(S174/$E$5)*'Customer Info'!$D$21),)","v":0},{"$f":"IF($F$7=\"dinner\",IF(T174=0,,(T174/$E$6)*'Customer Info'!$D$21),)","v":0},0,{"$f":"IF($F$10=\"lunch\",IF(W174=0,,(W174/$E$11)*'Customer Info'!$F$18),)","v":0},{"$f":"IF($F$10=\"dinner\",IF(X174=0,,(X174/$E$12)*'Customer Info'!$F$18),)","v":0},{"$f":"IF($F$10=\"other\",IF(Y174=0,,(Y174/$E$13)*'Customer Info'!$F$18),)","v":0},0,{"$f":"IF($F$11=\"breakfast\",IF(V174=0,,(V174/$E$10)*'Customer Info'!$F$19),)","v":0},{"$f":"IF($F$11=\"dinner\",IF(X174=0,,(X174/$E$12)*'Customer Info'!$F$19),)","v":0},{"$f":"IF($F$11=\"other\",IF(Y174=0,,(Y174/$E$13)*'Customer Info'!$F$19),)","v":0},0,{"$f":"IF($F$12=\"breakfast\",IF(V174=0,,(V174/$E$10)*'Customer Info'!$F$20),)","v":0},{"$f":"IF($F$12=\"lunch\",IF(W174=0,,(W174/$E$11)*'Customer Info'!$F$20),)","v":0},{"$f":"IF($F$12=\"other\",IF(Y174=0,,(Y174/$E$13)*'Customer Info'!$F$20),)","v":0},0,{"$f":"IF($F$13=\"breakfast\",IF(V174=0,,(V174/$E$10)*'Customer Info'!$F$21),)","v":0},{"$f":"IF($F$13=\"lunch\",IF(W174=0,,(W174/$E$11)*'Customer Info'!$F$21),)","v":0},{"$f":"IF($F$13=\"dinner\",IF(X174=0,,(X174/$E$12)*'Customer Info'!$F$21),)","v":0},0,{"$f":"IF($F$16=\"lunch\",IF(AA174=0,,(AA174/$E$17)*'Customer Info'!$H$18),)","v":0},{"$f":"IF($F$16=\"dinner\",IF(AB174=0,,(AB174/$E$18)*'Customer Info'!$H$18),)","v":0},{"$f":"IF($F$16=\"other\",IF(AC174=0,,(AC174/$E$19)*'Customer Info'!$H$18),)","v":0},0,{"$f":"IF($F$17=\"breakfast\",IF(Z174=0,,(Z174/$E$16)*'Customer Info'!$H$19),)","v":0},{"$f":"IF($F$17=\"dinner\",IF(AB174=0,,(AB174/$E$18)*'Customer Info'!$H$19),)","v":0},{"$f":"IF($F$17=\"other\",IF(AC174=0,,(AC174/$E$19)*'Customer Info'!$H$19),)","v":0},0,{"$f":"IF($F$18=\"breakfast\",IF(Z174=0,,(Z174/$E$16)*'Customer Info'!$H$20),)","v":0},{"$f":"IF($F$18=\"lunch\",IF(AA174=0,,(AA174/$E$17)*'Customer Info'!$H$20),)","v":0},{"$f":"IF($F$18=\"other\",IF(AC174=0,,(AC174/$E$19)*'Customer Info'!$H$20),)","v":0},0,{"$f":"IF($F$19=\"breakfast\",IF(Z174=0,,(Z174/$E$16)*'Customer Info'!$H$21),)","v":0},{"$f":"IF($F$19=\"lunch\",IF(AA174=0,,(AA174/$E$17)*'Customer Info'!$H$21),)","v":0},{"$f":"IF($F$19=\"dinner\",IF(AB174=0,,(AB174/$E$18)*'Customer Info'!$H$21),)","v":0},0,0,0,0,0,""]
[null,null,null,null,null,null,null,null,null,null,0,0,0,0,0,0,0,0,0,0,0,0,0,0,0,0,0,0,0,0,0,0,0,{"$f":"IF((OR($F$4=0,$F$4=\"none\")),IF(R175=0,,IF(OR($E$4='Customer Info'!$D$18,$E$4=0),R175,(R175/$E$4)*'Customer Info'!$D$18)),)","v":0},{"$f":"IF((OR($F$5=0,$F$5=\"none\")),IF(S175=0,,IF(OR($E$5='Customer Info'!$D$18,$E$5=0),S175,(S175/$E$5)*'Customer Info'!$D$19)),)","v":0},{"$f":"IF((OR($F$6=0,$F$6=\"none\")),IF(T175=0,,IF(OR($E$6='Customer Info'!$D$18,$E$6=0),T175,(T175/$E$6)*'Customer Info'!$D$20)),)","v":0},{"$f":"IF((OR($F$7=0,$F$7=\"none\")),IF(U175=0,,IF(OR($E$7='Customer Info'!$D$18,$E$7=0),U175,(U175/$E$7)*'Customer Info'!$D$21)),)","v":0},{"$f":"IF((OR($F$10=0,$F$10=\"none\")),IF(V175=0,,IF(OR($E$10='Customer Info'!$F$18,$E$10=0),V175,(V175/$E$10)*'Customer Info'!$F$18)),)","v":0},{"$f":"IF((OR($F$11=0,$F$11=\"none\")),IF(W175=0,,IF(OR($E$11='Customer Info'!$F$19,$E$11=0),W175,(W175/$E$11)*'Customer Info'!$F$19)),)","v":0},{"$f":"IF((OR($F$12=0,$F$12=\"none\")),IF(X175=0,,IF(OR($E$12='Customer Info'!$F$20,$E$12=0),X175,(X175/$E$12)*'Customer Info'!$F$20)),)","v":0},{"$f":"IF((OR($F$13=0,$F$13=\"none\")),IF(Y175=0,,IF(OR($E$13='Customer Info'!$F$21,$E$13=0),Y175,(Y175/$E$13)*'Customer Info'!$F$21)),)","v":0},{"$f":"IF((OR($F$16=0,$F$16=\"none\")),IF(Z175=0,,IF(OR($E$16='Customer Info'!$H$18,$E$16=0),Z175,(Z175/$E$16)*'Customer Info'!$H$18)),)","v":0},{"$f":"IF((OR($F$17=0,$F$17=\"none\")),IF(AA175=0,,IF(OR($E$17='Customer Info'!$H$19,$E$17=0),AA175,(AA175/$E$17)*'Customer Info'!$H$19)),)","v":0},{"$f":"IF((OR($F$18=0,$F$18=\"none\")),IF(AB175=0,,IF(OR($E$18='Customer Info'!$H$20,$E$18=0),AB175,(AB175/$E$18)*'Customer Info'!$H$20)),)","v":0},{"$f":"IF((OR($F$19=0,$F$19=\"none\")),IF(AC175=0,,IF(OR($E$19='Customer Info'!$H$21,$E$19=0),AC175,(AC175/$E$19)*'Customer Info'!$H$21)),)","v":0},{"$f":"IF((OR($F$4=0,$F$4=\"none\")),IF(AD175=0,,IF(OR($E$4='Customer Info'!$D$18,$E$4=0),AD175,(AD175/$E$4)*'Customer Info'!$D$18)),)","v":0},{"$f":"IF((OR($F$5=0,$F$5=\"none\")),IF(AE175=0,,IF(OR($E$5='Customer Info'!$D$19,$E$5=0),AE175,(AE175/$E$5)*'Customer Info'!$D$19)),)","v":0},{"$f":"IF((OR($F$6=0,$F$6=\"none\")),IF(AF175=0,,IF(OR($E$6='Customer Info'!$D$20,$E$6=0),AF175,(AF175/$E$6)*'Customer Info'!$D$20)),)","v":0},{"$f":"IF((OR($F$7=0,$F$7=\"none\")),IF(AG175=0,,IF(OR($E$7='Customer Info'!$D$21,$E$7=0),AG175,(AG175/$E$7)*'Customer Info'!$D$21)),)","v":0},0,0,{"$f":"IF(E175=\"plate waste\",,IF('Customer Info'!$M$18=0,'Log Sheet'!AY175,'Customer Info'!$M$18*'Log Sheet'!AY175))","v":0},{"$f":"IF(E175=\"plate waste\",IF(OR(C175=\"patient\",C175=\"patient beverages\"),IF('Customer Info'!$M$27=0,AY175*'Customer Info'!$M$18,AY175*'Customer Info'!$M$27),IF(C175=\"cafeteria\",IF('Customer Info'!$M$28=0,AY175*'Customer Info'!$M$18,AY175*'Customer Info'!$M$28),IF(C175=\"other1\",IF('Customer Info'!$M$29=0,AY175*'Customer Info'!$M$18,AY175*'Customer Info'!$M$29),))),)","v":0},0,{"$f":"IF($F$4=\"lunch\",IF(S175=0,,(S175/$E$5)*'Customer Info'!$D$18),)","v":0},{"$f":"IF($F$4=\"dinner\",IF(T175=0,,(T175/$E$6)*'Customer Info'!$D$18),)","v":0},{"$f":"IF($F$4=\"other\",IF(U175=0,,(U175/$E$7)*'Customer Info'!$D$18),)","v":0},0,{"$f":"IF($F$5=\"breakfast\",IF(R175=0,,(R175/$E$4)*'Customer Info'!$D$19),)","v":0},{"$f":"IF($F$5=\"dinner\",IF(T175=0,,(T175/$E$6)*'Customer Info'!$D$19),)","v":0},{"$f":"IF($F$5=\"other\",IF(U175=0,,(U175/$E$7)*'Customer Info'!$D$19),)","v":0},0,{"$f":"IF($F$6=\"breakfast\",IF(R175=0,,(R175/$E$4)*'Customer Info'!$D$20),)","v":0},{"$f":"IF($F$6=\"lunch\",IF(S175=0,,(S175/$E$5)*'Customer Info'!$D$20),)","v":0},{"$f":"IF($F$6=\"other\",IF(U175=0,,(U175/$E$7)*'Customer Info'!$D$20),)","v":0},0,{"$f":"IF($F$7=\"breakfast\",IF(R175=0,,(R175/$E$4)*'Customer Info'!$D$21),)","v":0},{"$f":"IF($F$7=\"lunch\",IF(S175=0,,(S175/$E$5)*'Customer Info'!$D$21),)","v":0},{"$f":"IF($F$7=\"dinner\",IF(T175=0,,(T175/$E$6)*'Customer Info'!$D$21),)","v":0},0,{"$f":"IF($F$10=\"lunch\",IF(W175=0,,(W175/$E$11)*'Customer Info'!$F$18),)","v":0},{"$f":"IF($F$10=\"dinner\",IF(X175=0,,(X175/$E$12)*'Customer Info'!$F$18),)","v":0},{"$f":"IF($F$10=\"other\",IF(Y175=0,,(Y175/$E$13)*'Customer Info'!$F$18),)","v":0},0,{"$f":"IF($F$11=\"breakfast\",IF(V175=0,,(V175/$E$10)*'Customer Info'!$F$19),)","v":0},{"$f":"IF($F$11=\"dinner\",IF(X175=0,,(X175/$E$12)*'Customer Info'!$F$19),)","v":0},{"$f":"IF($F$11=\"other\",IF(Y175=0,,(Y175/$E$13)*'Customer Info'!$F$19),)","v":0},0,{"$f":"IF($F$12=\"breakfast\",IF(V175=0,,(V175/$E$10)*'Customer Info'!$F$20),)","v":0},{"$f":"IF($F$12=\"lunch\",IF(W175=0,,(W175/$E$11)*'Customer Info'!$F$20),)","v":0},{"$f":"IF($F$12=\"other\",IF(Y175=0,,(Y175/$E$13)*'Customer Info'!$F$20),)","v":0},0,{"$f":"IF($F$13=\"breakfast\",IF(V175=0,,(V175/$E$10)*'Customer Info'!$F$21),)","v":0},{"$f":"IF($F$13=\"lunch\",IF(W175=0,,(W175/$E$11)*'Customer Info'!$F$21),)","v":0},{"$f":"IF($F$13=\"dinner\",IF(X175=0,,(X175/$E$12)*'Customer Info'!$F$21),)","v":0},0,{"$f":"IF($F$16=\"lunch\",IF(AA175=0,,(AA175/$E$17)*'Customer Info'!$H$18),)","v":0},{"$f":"IF($F$16=\"dinner\",IF(AB175=0,,(AB175/$E$18)*'Customer Info'!$H$18),)","v":0},{"$f":"IF($F$16=\"other\",IF(AC175=0,,(AC175/$E$19)*'Customer Info'!$H$18),)","v":0},0,{"$f":"IF($F$17=\"breakfast\",IF(Z175=0,,(Z175/$E$16)*'Customer Info'!$H$19),)","v":0},{"$f":"IF($F$17=\"dinner\",IF(AB175=0,,(AB175/$E$18)*'Customer Info'!$H$19),)","v":0},{"$f":"IF($F$17=\"other\",IF(AC175=0,,(AC175/$E$19)*'Customer Info'!$H$19),)","v":0},0,{"$f":"IF($F$18=\"breakfast\",IF(Z175=0,,(Z175/$E$16)*'Customer Info'!$H$20),)","v":0},{"$f":"IF($F$18=\"lunch\",IF(AA175=0,,(AA175/$E$17)*'Customer Info'!$H$20),)","v":0},{"$f":"IF($F$18=\"other\",IF(AC175=0,,(AC175/$E$19)*'Customer Info'!$H$20),)","v":0},0,{"$f":"IF($F$19=\"breakfast\",IF(Z175=0,,(Z175/$E$16)*'Customer Info'!$H$21),)","v":0},{"$f":"IF($F$19=\"lunch\",IF(AA175=0,,(AA175/$E$17)*'Customer Info'!$H$21),)","v":0},{"$f":"IF($F$19=\"dinner\",IF(AB175=0,,(AB175/$E$18)*'Customer Info'!$H$21),)","v":0},0,0,0,0,0,""]
[null,null,null,null,null,null,null,null,null,null,0,0,0,0,0,0,0,0,0,0,0,0,0,0,0,0,0,0,0,0,0,0,0,{"$f":"IF((OR($F$4=0,$F$4=\"none\")),IF(R176=0,,IF(OR($E$4='Customer Info'!$D$18,$E$4=0),R176,(R176/$E$4)*'Customer Info'!$D$18)),)","v":0},{"$f":"IF((OR($F$5=0,$F$5=\"none\")),IF(S176=0,,IF(OR($E$5='Customer Info'!$D$18,$E$5=0),S176,(S176/$E$5)*'Customer Info'!$D$19)),)","v":0},{"$f":"IF((OR($F$6=0,$F$6=\"none\")),IF(T176=0,,IF(OR($E$6='Customer Info'!$D$18,$E$6=0),T176,(T176/$E$6)*'Customer Info'!$D$20)),)","v":0},{"$f":"IF((OR($F$7=0,$F$7=\"none\")),IF(U176=0,,IF(OR($E$7='Customer Info'!$D$18,$E$7=0),U176,(U176/$E$7)*'Customer Info'!$D$21)),)","v":0},{"$f":"IF((OR($F$10=0,$F$10=\"none\")),IF(V176=0,,IF(OR($E$10='Customer Info'!$F$18,$E$10=0),V176,(V176/$E$10)*'Customer Info'!$F$18)),)","v":0},{"$f":"IF((OR($F$11=0,$F$11=\"none\")),IF(W176=0,,IF(OR($E$11='Customer Info'!$F$19,$E$11=0),W176,(W176/$E$11)*'Customer Info'!$F$19)),)","v":0},{"$f":"IF((OR($F$12=0,$F$12=\"none\")),IF(X176=0,,IF(OR($E$12='Customer Info'!$F$20,$E$12=0),X176,(X176/$E$12)*'Customer Info'!$F$20)),)","v":0},{"$f":"IF((OR($F$13=0,$F$13=\"none\")),IF(Y176=0,,IF(OR($E$13='Customer Info'!$F$21,$E$13=0),Y176,(Y176/$E$13)*'Customer Info'!$F$21)),)","v":0},{"$f":"IF((OR($F$16=0,$F$16=\"none\")),IF(Z176=0,,IF(OR($E$16='Customer Info'!$H$18,$E$16=0),Z176,(Z176/$E$16)*'Customer Info'!$H$18)),)","v":0},{"$f":"IF((OR($F$17=0,$F$17=\"none\")),IF(AA176=0,,IF(OR($E$17='Customer Info'!$H$19,$E$17=0),AA176,(AA176/$E$17)*'Customer Info'!$H$19)),)","v":0},{"$f":"IF((OR($F$18=0,$F$18=\"none\")),IF(AB176=0,,IF(OR($E$18='Customer Info'!$H$20,$E$18=0),AB176,(AB176/$E$18)*'Customer Info'!$H$20)),)","v":0},{"$f":"IF((OR($F$19=0,$F$19=\"none\")),IF(AC176=0,,IF(OR($E$19='Customer Info'!$H$21,$E$19=0),AC176,(AC176/$E$19)*'Customer Info'!$H$21)),)","v":0},{"$f":"IF((OR($F$4=0,$F$4=\"none\")),IF(AD176=0,,IF(OR($E$4='Customer Info'!$D$18,$E$4=0),AD176,(AD176/$E$4)*'Customer Info'!$D$18)),)","v":0},{"$f":"IF((OR($F$5=0,$F$5=\"none\")),IF(AE176=0,,IF(OR($E$5='Customer Info'!$D$19,$E$5=0),AE176,(AE176/$E$5)*'Customer Info'!$D$19)),)","v":0},{"$f":"IF((OR($F$6=0,$F$6=\"none\")),IF(AF176=0,,IF(OR($E$6='Customer Info'!$D$20,$E$6=0),AF176,(AF176/$E$6)*'Customer Info'!$D$20)),)","v":0},{"$f":"IF((OR($F$7=0,$F$7=\"none\")),IF(AG176=0,,IF(OR($E$7='Customer Info'!$D$21,$E$7=0),AG176,(AG176/$E$7)*'Customer Info'!$D$21)),)","v":0},0,0,{"$f":"IF(E176=\"plate waste\",,IF('Customer Info'!$M$18=0,'Log Sheet'!AY176,'Customer Info'!$M$18*'Log Sheet'!AY176))","v":0},{"$f":"IF(E176=\"plate waste\",IF(OR(C176=\"patient\",C176=\"patient beverages\"),IF('Customer Info'!$M$27=0,AY176*'Customer Info'!$M$18,AY176*'Customer Info'!$M$27),IF(C176=\"cafeteria\",IF('Customer Info'!$M$28=0,AY176*'Customer Info'!$M$18,AY176*'Customer Info'!$M$28),IF(C176=\"other1\",IF('Customer Info'!$M$29=0,AY176*'Customer Info'!$M$18,AY176*'Customer Info'!$M$29),))),)","v":0},0,{"$f":"IF($F$4=\"lunch\",IF(S176=0,,(S176/$E$5)*'Customer Info'!$D$18),)","v":0},{"$f":"IF($F$4=\"dinner\",IF(T176=0,,(T176/$E$6)*'Customer Info'!$D$18),)","v":0},{"$f":"IF($F$4=\"other\",IF(U176=0,,(U176/$E$7)*'Customer Info'!$D$18),)","v":0},0,{"$f":"IF($F$5=\"breakfast\",IF(R176=0,,(R176/$E$4)*'Customer Info'!$D$19),)","v":0},{"$f":"IF($F$5=\"dinner\",IF(T176=0,,(T176/$E$6)*'Customer Info'!$D$19),)","v":0},{"$f":"IF($F$5=\"other\",IF(U176=0,,(U176/$E$7)*'Customer Info'!$D$19),)","v":0},0,{"$f":"IF($F$6=\"breakfast\",IF(R176=0,,(R176/$E$4)*'Customer Info'!$D$20),)","v":0},{"$f":"IF($F$6=\"lunch\",IF(S176=0,,(S176/$E$5)*'Customer Info'!$D$20),)","v":0},{"$f":"IF($F$6=\"other\",IF(U176=0,,(U176/$E$7)*'Customer Info'!$D$20),)","v":0},0,{"$f":"IF($F$7=\"breakfast\",IF(R176=0,,(R176/$E$4)*'Customer Info'!$D$21),)","v":0},{"$f":"IF($F$7=\"lunch\",IF(S176=0,,(S176/$E$5)*'Customer Info'!$D$21),)","v":0},{"$f":"IF($F$7=\"dinner\",IF(T176=0,,(T176/$E$6)*'Customer Info'!$D$21),)","v":0},0,{"$f":"IF($F$10=\"lunch\",IF(W176=0,,(W176/$E$11)*'Customer Info'!$F$18),)","v":0},{"$f":"IF($F$10=\"dinner\",IF(X176=0,,(X176/$E$12)*'Customer Info'!$F$18),)","v":0},{"$f":"IF($F$10=\"other\",IF(Y176=0,,(Y176/$E$13)*'Customer Info'!$F$18),)","v":0},0,{"$f":"IF($F$11=\"breakfast\",IF(V176=0,,(V176/$E$10)*'Customer Info'!$F$19),)","v":0},{"$f":"IF($F$11=\"dinner\",IF(X176=0,,(X176/$E$12)*'Customer Info'!$F$19),)","v":0},{"$f":"IF($F$11=\"other\",IF(Y176=0,,(Y176/$E$13)*'Customer Info'!$F$19),)","v":0},0,{"$f":"IF($F$12=\"breakfast\",IF(V176=0,,(V176/$E$10)*'Customer Info'!$F$20),)","v":0},{"$f":"IF($F$12=\"lunch\",IF(W176=0,,(W176/$E$11)*'Customer Info'!$F$20),)","v":0},{"$f":"IF($F$12=\"other\",IF(Y176=0,,(Y176/$E$13)*'Customer Info'!$F$20),)","v":0},0,{"$f":"IF($F$13=\"breakfast\",IF(V176=0,,(V176/$E$10)*'Customer Info'!$F$21),)","v":0},{"$f":"IF($F$13=\"lunch\",IF(W176=0,,(W176/$E$11)*'Customer Info'!$F$21),)","v":0},{"$f":"IF($F$13=\"dinner\",IF(X176=0,,(X176/$E$12)*'Customer Info'!$F$21),)","v":0},0,{"$f":"IF($F$16=\"lunch\",IF(AA176=0,,(AA176/$E$17)*'Customer Info'!$H$18),)","v":0},{"$f":"IF($F$16=\"dinner\",IF(AB176=0,,(AB176/$E$18)*'Customer Info'!$H$18),)","v":0},{"$f":"IF($F$16=\"other\",IF(AC176=0,,(AC176/$E$19)*'Customer Info'!$H$18),)","v":0},0,{"$f":"IF($F$17=\"breakfast\",IF(Z176=0,,(Z176/$E$16)*'Customer Info'!$H$19),)","v":0},{"$f":"IF($F$17=\"dinner\",IF(AB176=0,,(AB176/$E$18)*'Customer Info'!$H$19),)","v":0},{"$f":"IF($F$17=\"other\",IF(AC176=0,,(AC176/$E$19)*'Customer Info'!$H$19),)","v":0},0,{"$f":"IF($F$18=\"breakfast\",IF(Z176=0,,(Z176/$E$16)*'Customer Info'!$H$20),)","v":0},{"$f":"IF($F$18=\"lunch\",IF(AA176=0,,(AA176/$E$17)*'Customer Info'!$H$20),)","v":0},{"$f":"IF($F$18=\"other\",IF(AC176=0,,(AC176/$E$19)*'Customer Info'!$H$20),)","v":0},0,{"$f":"IF($F$19=\"breakfast\",IF(Z176=0,,(Z176/$E$16)*'Customer Info'!$H$21),)","v":0},{"$f":"IF($F$19=\"lunch\",IF(AA176=0,,(AA176/$E$17)*'Customer Info'!$H$21),)","v":0},{"$f":"IF($F$19=\"dinner\",IF(AB176=0,,(AB176/$E$18)*'Customer Info'!$H$21),)","v":0},0,0,0,0,0,""]
[null,null,null,null,null,null,null,null,null,null,0,0,0,0,0,0,0,0,0,0,0,0,0,0,0,0,0,0,0,0,0,0,0,{"$f":"IF((OR($F$4=0,$F$4=\"none\")),IF(R177=0,,IF(OR($E$4='Customer Info'!$D$18,$E$4=0),R177,(R177/$E$4)*'Customer Info'!$D$18)),)","v":0},{"$f":"IF((OR($F$5=0,$F$5=\"none\")),IF(S177=0,,IF(OR($E$5='Customer Info'!$D$18,$E$5=0),S177,(S177/$E$5)*'Customer Info'!$D$19)),)","v":0},{"$f":"IF((OR($F$6=0,$F$6=\"none\")),IF(T177=0,,IF(OR($E$6='Customer Info'!$D$18,$E$6=0),T177,(T177/$E$6)*'Customer Info'!$D$20)),)","v":0},{"$f":"IF((OR($F$7=0,$F$7=\"none\")),IF(U177=0,,IF(OR($E$7='Customer Info'!$D$18,$E$7=0),U177,(U177/$E$7)*'Customer Info'!$D$21)),)","v":0},{"$f":"IF((OR($F$10=0,$F$10=\"none\")),IF(V177=0,,IF(OR($E$10='Customer Info'!$F$18,$E$10=0),V177,(V177/$E$10)*'Customer Info'!$F$18)),)","v":0},{"$f":"IF((OR($F$11=0,$F$11=\"none\")),IF(W177=0,,IF(OR($E$11='Customer Info'!$F$19,$E$11=0),W177,(W177/$E$11)*'Customer Info'!$F$19)),)","v":0},{"$f":"IF((OR($F$12=0,$F$12=\"none\")),IF(X177=0,,IF(OR($E$12='Customer Info'!$F$20,$E$12=0),X177,(X177/$E$12)*'Customer Info'!$F$20)),)","v":0},{"$f":"IF((OR($F$13=0,$F$13=\"none\")),IF(Y177=0,,IF(OR($E$13='Customer Info'!$F$21,$E$13=0),Y177,(Y177/$E$13)*'Customer Info'!$F$21)),)","v":0},{"$f":"IF((OR($F$16=0,$F$16=\"none\")),IF(Z177=0,,IF(OR($E$16='Customer Info'!$H$18,$E$16=0),Z177,(Z177/$E$16)*'Customer Info'!$H$18)),)","v":0},{"$f":"IF((OR($F$17=0,$F$17=\"none\")),IF(AA177=0,,IF(OR($E$17='Customer Info'!$H$19,$E$17=0),AA177,(AA177/$E$17)*'Customer Info'!$H$19)),)","v":0},{"$f":"IF((OR($F$18=0,$F$18=\"none\")),IF(AB177=0,,IF(OR($E$18='Customer Info'!$H$20,$E$18=0),AB177,(AB177/$E$18)*'Customer Info'!$H$20)),)","v":0},{"$f":"IF((OR($F$19=0,$F$19=\"none\")),IF(AC177=0,,IF(OR($E$19='Customer Info'!$H$21,$E$19=0),AC177,(AC177/$E$19)*'Customer Info'!$H$21)),)","v":0},{"$f":"IF((OR($F$4=0,$F$4=\"none\")),IF(AD177=0,,IF(OR($E$4='Customer Info'!$D$18,$E$4=0),AD177,(AD177/$E$4)*'Customer Info'!$D$18)),)","v":0},{"$f":"IF((OR($F$5=0,$F$5=\"none\")),IF(AE177=0,,IF(OR($E$5='Customer Info'!$D$19,$E$5=0),AE177,(AE177/$E$5)*'Customer Info'!$D$19)),)","v":0},{"$f":"IF((OR($F$6=0,$F$6=\"none\")),IF(AF177=0,,IF(OR($E$6='Customer Info'!$D$20,$E$6=0),AF177,(AF177/$E$6)*'Customer Info'!$D$20)),)","v":0},{"$f":"IF((OR($F$7=0,$F$7=\"none\")),IF(AG177=0,,IF(OR($E$7='Customer Info'!$D$21,$E$7=0),AG177,(AG177/$E$7)*'Customer Info'!$D$21)),)","v":0},0,0,{"$f":"IF(E177=\"plate waste\",,IF('Customer Info'!$M$18=0,'Log Sheet'!AY177,'Customer Info'!$M$18*'Log Sheet'!AY177))","v":0},{"$f":"IF(E177=\"plate waste\",IF(OR(C177=\"patient\",C177=\"patient beverages\"),IF('Customer Info'!$M$27=0,AY177*'Customer Info'!$M$18,AY177*'Customer Info'!$M$27),IF(C177=\"cafeteria\",IF('Customer Info'!$M$28=0,AY177*'Customer Info'!$M$18,AY177*'Customer Info'!$M$28),IF(C177=\"other1\",IF('Customer Info'!$M$29=0,AY177*'Customer Info'!$M$18,AY177*'Customer Info'!$M$29),))),)","v":0},0,{"$f":"IF($F$4=\"lunch\",IF(S177=0,,(S177/$E$5)*'Customer Info'!$D$18),)","v":0},{"$f":"IF($F$4=\"dinner\",IF(T177=0,,(T177/$E$6)*'Customer Info'!$D$18),)","v":0},{"$f":"IF($F$4=\"other\",IF(U177=0,,(U177/$E$7)*'Customer Info'!$D$18),)","v":0},0,{"$f":"IF($F$5=\"breakfast\",IF(R177=0,,(R177/$E$4)*'Customer Info'!$D$19),)","v":0},{"$f":"IF($F$5=\"dinner\",IF(T177=0,,(T177/$E$6)*'Customer Info'!$D$19),)","v":0},{"$f":"IF($F$5=\"other\",IF(U177=0,,(U177/$E$7)*'Customer Info'!$D$19),)","v":0},0,{"$f":"IF($F$6=\"breakfast\",IF(R177=0,,(R177/$E$4)*'Customer Info'!$D$20),)","v":0},{"$f":"IF($F$6=\"lunch\",IF(S177=0,,(S177/$E$5)*'Customer Info'!$D$20),)","v":0},{"$f":"IF($F$6=\"other\",IF(U177=0,,(U177/$E$7)*'Customer Info'!$D$20),)","v":0},0,{"$f":"IF($F$7=\"breakfast\",IF(R177=0,,(R177/$E$4)*'Customer Info'!$D$21),)","v":0},{"$f":"IF($F$7=\"lunch\",IF(S177=0,,(S177/$E$5)*'Customer Info'!$D$21),)","v":0},{"$f":"IF($F$7=\"dinner\",IF(T177=0,,(T177/$E$6)*'Customer Info'!$D$21),)","v":0},0,{"$f":"IF($F$10=\"lunch\",IF(W177=0,,(W177/$E$11)*'Customer Info'!$F$18),)","v":0},{"$f":"IF($F$10=\"dinner\",IF(X177=0,,(X177/$E$12)*'Customer Info'!$F$18),)","v":0},{"$f":"IF($F$10=\"other\",IF(Y177=0,,(Y177/$E$13)*'Customer Info'!$F$18),)","v":0},0,{"$f":"IF($F$11=\"breakfast\",IF(V177=0,,(V177/$E$10)*'Customer Info'!$F$19),)","v":0},{"$f":"IF($F$11=\"dinner\",IF(X177=0,,(X177/$E$12)*'Customer Info'!$F$19),)","v":0},{"$f":"IF($F$11=\"other\",IF(Y177=0,,(Y177/$E$13)*'Customer Info'!$F$19),)","v":0},0,{"$f":"IF($F$12=\"breakfast\",IF(V177=0,,(V177/$E$10)*'Customer Info'!$F$20),)","v":0},{"$f":"IF($F$12=\"lunch\",IF(W177=0,,(W177/$E$11)*'Customer Info'!$F$20),)","v":0},{"$f":"IF($F$12=\"other\",IF(Y177=0,,(Y177/$E$13)*'Customer Info'!$F$20),)","v":0},0,{"$f":"IF($F$13=\"breakfast\",IF(V177=0,,(V177/$E$10)*'Customer Info'!$F$21),)","v":0},{"$f":"IF($F$13=\"lunch\",IF(W177=0,,(W177/$E$11)*'Customer Info'!$F$21),)","v":0},{"$f":"IF($F$13=\"dinner\",IF(X177=0,,(X177/$E$12)*'Customer Info'!$F$21),)","v":0},0,{"$f":"IF($F$16=\"lunch\",IF(AA177=0,,(AA177/$E$17)*'Customer Info'!$H$18),)","v":0},{"$f":"IF($F$16=\"dinner\",IF(AB177=0,,(AB177/$E$18)*'Customer Info'!$H$18),)","v":0},{"$f":"IF($F$16=\"other\",IF(AC177=0,,(AC177/$E$19)*'Customer Info'!$H$18),)","v":0},0,{"$f":"IF($F$17=\"breakfast\",IF(Z177=0,,(Z177/$E$16)*'Customer Info'!$H$19),)","v":0},{"$f":"IF($F$17=\"dinner\",IF(AB177=0,,(AB177/$E$18)*'Customer Info'!$H$19),)","v":0},{"$f":"IF($F$17=\"other\",IF(AC177=0,,(AC177/$E$19)*'Customer Info'!$H$19),)","v":0},0,{"$f":"IF($F$18=\"breakfast\",IF(Z177=0,,(Z177/$E$16)*'Customer Info'!$H$20),)","v":0},{"$f":"IF($F$18=\"lunch\",IF(AA177=0,,(AA177/$E$17)*'Customer Info'!$H$20),)","v":0},{"$f":"IF($F$18=\"other\",IF(AC177=0,,(AC177/$E$19)*'Customer Info'!$H$20),)","v":0},0,{"$f":"IF($F$19=\"breakfast\",IF(Z177=0,,(Z177/$E$16)*'Customer Info'!$H$21),)","v":0},{"$f":"IF($F$19=\"lunch\",IF(AA177=0,,(AA177/$E$17)*'Customer Info'!$H$21),)","v":0},{"$f":"IF($F$19=\"dinner\",IF(AB177=0,,(AB177/$E$18)*'Customer Info'!$H$21),)","v":0},0,0,0,0,0,""]
[null,null,null,null,null,null,null,null,null,null,0,0,0,0,0,0,0,0,0,0,0,0,0,0,0,0,0,0,0,0,0,0,0,{"$f":"IF((OR($F$4=0,$F$4=\"none\")),IF(R178=0,,IF(OR($E$4='Customer Info'!$D$18,$E$4=0),R178,(R178/$E$4)*'Customer Info'!$D$18)),)","v":0},{"$f":"IF((OR($F$5=0,$F$5=\"none\")),IF(S178=0,,IF(OR($E$5='Customer Info'!$D$18,$E$5=0),S178,(S178/$E$5)*'Customer Info'!$D$19)),)","v":0},{"$f":"IF((OR($F$6=0,$F$6=\"none\")),IF(T178=0,,IF(OR($E$6='Customer Info'!$D$18,$E$6=0),T178,(T178/$E$6)*'Customer Info'!$D$20)),)","v":0},{"$f":"IF((OR($F$7=0,$F$7=\"none\")),IF(U178=0,,IF(OR($E$7='Customer Info'!$D$18,$E$7=0),U178,(U178/$E$7)*'Customer Info'!$D$21)),)","v":0},{"$f":"IF((OR($F$10=0,$F$10=\"none\")),IF(V178=0,,IF(OR($E$10='Customer Info'!$F$18,$E$10=0),V178,(V178/$E$10)*'Customer Info'!$F$18)),)","v":0},{"$f":"IF((OR($F$11=0,$F$11=\"none\")),IF(W178=0,,IF(OR($E$11='Customer Info'!$F$19,$E$11=0),W178,(W178/$E$11)*'Customer Info'!$F$19)),)","v":0},{"$f":"IF((OR($F$12=0,$F$12=\"none\")),IF(X178=0,,IF(OR($E$12='Customer Info'!$F$20,$E$12=0),X178,(X178/$E$12)*'Customer Info'!$F$20)),)","v":0},{"$f":"IF((OR($F$13=0,$F$13=\"none\")),IF(Y178=0,,IF(OR($E$13='Customer Info'!$F$21,$E$13=0),Y178,(Y178/$E$13)*'Customer Info'!$F$21)),)","v":0},{"$f":"IF((OR($F$16=0,$F$16=\"none\")),IF(Z178=0,,IF(OR($E$16='Customer Info'!$H$18,$E$16=0),Z178,(Z178/$E$16)*'Customer Info'!$H$18)),)","v":0},{"$f":"IF((OR($F$17=0,$F$17=\"none\")),IF(AA178=0,,IF(OR($E$17='Customer Info'!$H$19,$E$17=0),AA178,(AA178/$E$17)*'Customer Info'!$H$19)),)","v":0},{"$f":"IF((OR($F$18=0,$F$18=\"none\")),IF(AB178=0,,IF(OR($E$18='Customer Info'!$H$20,$E$18=0),AB178,(AB178/$E$18)*'Customer Info'!$H$20)),)","v":0},{"$f":"IF((OR($F$19=0,$F$19=\"none\")),IF(AC178=0,,IF(OR($E$19='Customer Info'!$H$21,$E$19=0),AC178,(AC178/$E$19)*'Customer Info'!$H$21)),)","v":0},{"$f":"IF((OR($F$4=0,$F$4=\"none\")),IF(AD178=0,,IF(OR($E$4='Customer Info'!$D$18,$E$4=0),AD178,(AD178/$E$4)*'Customer Info'!$D$18)),)","v":0},{"$f":"IF((OR($F$5=0,$F$5=\"none\")),IF(AE178=0,,IF(OR($E$5='Customer Info'!$D$19,$E$5=0),AE178,(AE178/$E$5)*'Customer Info'!$D$19)),)","v":0},{"$f":"IF((OR($F$6=0,$F$6=\"none\")),IF(AF178=0,,IF(OR($E$6='Customer Info'!$D$20,$E$6=0),AF178,(AF178/$E$6)*'Customer Info'!$D$20)),)","v":0},{"$f":"IF((OR($F$7=0,$F$7=\"none\")),IF(AG178=0,,IF(OR($E$7='Customer Info'!$D$21,$E$7=0),AG178,(AG178/$E$7)*'Customer Info'!$D$21)),)","v":0},0,0,{"$f":"IF(E178=\"plate waste\",,IF('Customer Info'!$M$18=0,'Log Sheet'!AY178,'Customer Info'!$M$18*'Log Sheet'!AY178))","v":0},{"$f":"IF(E178=\"plate waste\",IF(OR(C178=\"patient\",C178=\"patient beverages\"),IF('Customer Info'!$M$27=0,AY178*'Customer Info'!$M$18,AY178*'Customer Info'!$M$27),IF(C178=\"cafeteria\",IF('Customer Info'!$M$28=0,AY178*'Customer Info'!$M$18,AY178*'Customer Info'!$M$28),IF(C178=\"other1\",IF('Customer Info'!$M$29=0,AY178*'Customer Info'!$M$18,AY178*'Customer Info'!$M$29),))),)","v":0},0,{"$f":"IF($F$4=\"lunch\",IF(S178=0,,(S178/$E$5)*'Customer Info'!$D$18),)","v":0},{"$f":"IF($F$4=\"dinner\",IF(T178=0,,(T178/$E$6)*'Customer Info'!$D$18),)","v":0},{"$f":"IF($F$4=\"other\",IF(U178=0,,(U178/$E$7)*'Customer Info'!$D$18),)","v":0},0,{"$f":"IF($F$5=\"breakfast\",IF(R178=0,,(R178/$E$4)*'Customer Info'!$D$19),)","v":0},{"$f":"IF($F$5=\"dinner\",IF(T178=0,,(T178/$E$6)*'Customer Info'!$D$19),)","v":0},{"$f":"IF($F$5=\"other\",IF(U178=0,,(U178/$E$7)*'Customer Info'!$D$19),)","v":0},0,{"$f":"IF($F$6=\"breakfast\",IF(R178=0,,(R178/$E$4)*'Customer Info'!$D$20),)","v":0},{"$f":"IF($F$6=\"lunch\",IF(S178=0,,(S178/$E$5)*'Customer Info'!$D$20),)","v":0},{"$f":"IF($F$6=\"other\",IF(U178=0,,(U178/$E$7)*'Customer Info'!$D$20),)","v":0},0,{"$f":"IF($F$7=\"breakfast\",IF(R178=0,,(R178/$E$4)*'Customer Info'!$D$21),)","v":0},{"$f":"IF($F$7=\"lunch\",IF(S178=0,,(S178/$E$5)*'Customer Info'!$D$21),)","v":0},{"$f":"IF($F$7=\"dinner\",IF(T178=0,,(T178/$E$6)*'Customer Info'!$D$21),)","v":0},0,{"$f":"IF($F$10=\"lunch\",IF(W178=0,,(W178/$E$11)*'Customer Info'!$F$18),)","v":0},{"$f":"IF($F$10=\"dinner\",IF(X178=0,,(X178/$E$12)*'Customer Info'!$F$18),)","v":0},{"$f":"IF($F$10=\"other\",IF(Y178=0,,(Y178/$E$13)*'Customer Info'!$F$18),)","v":0},0,{"$f":"IF($F$11=\"breakfast\",IF(V178=0,,(V178/$E$10)*'Customer Info'!$F$19),)","v":0},{"$f":"IF($F$11=\"dinner\",IF(X178=0,,(X178/$E$12)*'Customer Info'!$F$19),)","v":0},{"$f":"IF($F$11=\"other\",IF(Y178=0,,(Y178/$E$13)*'Customer Info'!$F$19),)","v":0},0,{"$f":"IF($F$12=\"breakfast\",IF(V178=0,,(V178/$E$10)*'Customer Info'!$F$20),)","v":0},{"$f":"IF($F$12=\"lunch\",IF(W178=0,,(W178/$E$11)*'Customer Info'!$F$20),)","v":0},{"$f":"IF($F$12=\"other\",IF(Y178=0,,(Y178/$E$13)*'Customer Info'!$F$20),)","v":0},0,{"$f":"IF($F$13=\"breakfast\",IF(V178=0,,(V178/$E$10)*'Customer Info'!$F$21),)","v":0},{"$f":"IF($F$13=\"lunch\",IF(W178=0,,(W178/$E$11)*'Customer Info'!$F$21),)","v":0},{"$f":"IF($F$13=\"dinner\",IF(X178=0,,(X178/$E$12)*'Customer Info'!$F$21),)","v":0},0,{"$f":"IF($F$16=\"lunch\",IF(AA178=0,,(AA178/$E$17)*'Customer Info'!$H$18),)","v":0},{"$f":"IF($F$16=\"dinner\",IF(AB178=0,,(AB178/$E$18)*'Customer Info'!$H$18),)","v":0},{"$f":"IF($F$16=\"other\",IF(AC178=0,,(AC178/$E$19)*'Customer Info'!$H$18),)","v":0},0,{"$f":"IF($F$17=\"breakfast\",IF(Z178=0,,(Z178/$E$16)*'Customer Info'!$H$19),)","v":0},{"$f":"IF($F$17=\"dinner\",IF(AB178=0,,(AB178/$E$18)*'Customer Info'!$H$19),)","v":0},{"$f":"IF($F$17=\"other\",IF(AC178=0,,(AC178/$E$19)*'Customer Info'!$H$19),)","v":0},0,{"$f":"IF($F$18=\"breakfast\",IF(Z178=0,,(Z178/$E$16)*'Customer Info'!$H$20),)","v":0},{"$f":"IF($F$18=\"lunch\",IF(AA178=0,,(AA178/$E$17)*'Customer Info'!$H$20),)","v":0},{"$f":"IF($F$18=\"other\",IF(AC178=0,,(AC178/$E$19)*'Customer Info'!$H$20),)","v":0},0,{"$f":"IF($F$19=\"breakfast\",IF(Z178=0,,(Z178/$E$16)*'Customer Info'!$H$21),)","v":0},{"$f":"IF($F$19=\"lunch\",IF(AA178=0,,(AA178/$E$17)*'Customer Info'!$H$21),)","v":0},{"$f":"IF($F$19=\"dinner\",IF(AB178=0,,(AB178/$E$18)*'Customer Info'!$H$21),)","v":0},0,0,0,0,0,""]
[null,null,null,null,null,null,null,null,null,null,0,0,0,0,0,0,0,0,0,0,0,0,0,0,0,0,0,0,0,0,0,0,0,{"$f":"IF((OR($F$4=0,$F$4=\"none\")),IF(R179=0,,IF(OR($E$4='Customer Info'!$D$18,$E$4=0),R179,(R179/$E$4)*'Customer Info'!$D$18)),)","v":0},{"$f":"IF((OR($F$5=0,$F$5=\"none\")),IF(S179=0,,IF(OR($E$5='Customer Info'!$D$18,$E$5=0),S179,(S179/$E$5)*'Customer Info'!$D$19)),)","v":0},{"$f":"IF((OR($F$6=0,$F$6=\"none\")),IF(T179=0,,IF(OR($E$6='Customer Info'!$D$18,$E$6=0),T179,(T179/$E$6)*'Customer Info'!$D$20)),)","v":0},{"$f":"IF((OR($F$7=0,$F$7=\"none\")),IF(U179=0,,IF(OR($E$7='Customer Info'!$D$18,$E$7=0),U179,(U179/$E$7)*'Customer Info'!$D$21)),)","v":0},{"$f":"IF((OR($F$10=0,$F$10=\"none\")),IF(V179=0,,IF(OR($E$10='Customer Info'!$F$18,$E$10=0),V179,(V179/$E$10)*'Customer Info'!$F$18)),)","v":0},{"$f":"IF((OR($F$11=0,$F$11=\"none\")),IF(W179=0,,IF(OR($E$11='Customer Info'!$F$19,$E$11=0),W179,(W179/$E$11)*'Customer Info'!$F$19)),)","v":0},{"$f":"IF((OR($F$12=0,$F$12=\"none\")),IF(X179=0,,IF(OR($E$12='Customer Info'!$F$20,$E$12=0),X179,(X179/$E$12)*'Customer Info'!$F$20)),)","v":0},{"$f":"IF((OR($F$13=0,$F$13=\"none\")),IF(Y179=0,,IF(OR($E$13='Customer Info'!$F$21,$E$13=0),Y179,(Y179/$E$13)*'Customer Info'!$F$21)),)","v":0},{"$f":"IF((OR($F$16=0,$F$16=\"none\")),IF(Z179=0,,IF(OR($E$16='Customer Info'!$H$18,$E$16=0),Z179,(Z179/$E$16)*'Customer Info'!$H$18)),)","v":0},{"$f":"IF((OR($F$17=0,$F$17=\"none\")),IF(AA179=0,,IF(OR($E$17='Customer Info'!$H$19,$E$17=0),AA179,(AA179/$E$17)*'Customer Info'!$H$19)),)","v":0},{"$f":"IF((OR($F$18=0,$F$18=\"none\")),IF(AB179=0,,IF(OR($E$18='Customer Info'!$H$20,$E$18=0),AB179,(AB179/$E$18)*'Customer Info'!$H$20)),)","v":0},{"$f":"IF((OR($F$19=0,$F$19=\"none\")),IF(AC179=0,,IF(OR($E$19='Customer Info'!$H$21,$E$19=0),AC179,(AC179/$E$19)*'Customer Info'!$H$21)),)","v":0},{"$f":"IF((OR($F$4=0,$F$4=\"none\")),IF(AD179=0,,IF(OR($E$4='Customer Info'!$D$18,$E$4=0),AD179,(AD179/$E$4)*'Customer Info'!$D$18)),)","v":0},{"$f":"IF((OR($F$5=0,$F$5=\"none\")),IF(AE179=0,,IF(OR($E$5='Customer Info'!$D$19,$E$5=0),AE179,(AE179/$E$5)*'Customer Info'!$D$19)),)","v":0},{"$f":"IF((OR($F$6=0,$F$6=\"none\")),IF(AF179=0,,IF(OR($E$6='Customer Info'!$D$20,$E$6=0),AF179,(AF179/$E$6)*'Customer Info'!$D$20)),)","v":0},{"$f":"IF((OR($F$7=0,$F$7=\"none\")),IF(AG179=0,,IF(OR($E$7='Customer Info'!$D$21,$E$7=0),AG179,(AG179/$E$7)*'Customer Info'!$D$21)),)","v":0},0,0,{"$f":"IF(E179=\"plate waste\",,IF('Customer Info'!$M$18=0,'Log Sheet'!AY179,'Customer Info'!$M$18*'Log Sheet'!AY179))","v":0},{"$f":"IF(E179=\"plate waste\",IF(OR(C179=\"patient\",C179=\"patient beverages\"),IF('Customer Info'!$M$27=0,AY179*'Customer Info'!$M$18,AY179*'Customer Info'!$M$27),IF(C179=\"cafeteria\",IF('Customer Info'!$M$28=0,AY179*'Customer Info'!$M$18,AY179*'Customer Info'!$M$28),IF(C179=\"other1\",IF('Customer Info'!$M$29=0,AY179*'Customer Info'!$M$18,AY179*'Customer Info'!$M$29),))),)","v":0},0,{"$f":"IF($F$4=\"lunch\",IF(S179=0,,(S179/$E$5)*'Customer Info'!$D$18),)","v":0},{"$f":"IF($F$4=\"dinner\",IF(T179=0,,(T179/$E$6)*'Customer Info'!$D$18),)","v":0},{"$f":"IF($F$4=\"other\",IF(U179=0,,(U179/$E$7)*'Customer Info'!$D$18),)","v":0},0,{"$f":"IF($F$5=\"breakfast\",IF(R179=0,,(R179/$E$4)*'Customer Info'!$D$19),)","v":0},{"$f":"IF($F$5=\"dinner\",IF(T179=0,,(T179/$E$6)*'Customer Info'!$D$19),)","v":0},{"$f":"IF($F$5=\"other\",IF(U179=0,,(U179/$E$7)*'Customer Info'!$D$19),)","v":0},0,{"$f":"IF($F$6=\"breakfast\",IF(R179=0,,(R179/$E$4)*'Customer Info'!$D$20),)","v":0},{"$f":"IF($F$6=\"lunch\",IF(S179=0,,(S179/$E$5)*'Customer Info'!$D$20),)","v":0},{"$f":"IF($F$6=\"other\",IF(U179=0,,(U179/$E$7)*'Customer Info'!$D$20),)","v":0},0,{"$f":"IF($F$7=\"breakfast\",IF(R179=0,,(R179/$E$4)*'Customer Info'!$D$21),)","v":0},{"$f":"IF($F$7=\"lunch\",IF(S179=0,,(S179/$E$5)*'Customer Info'!$D$21),)","v":0},{"$f":"IF($F$7=\"dinner\",IF(T179=0,,(T179/$E$6)*'Customer Info'!$D$21),)","v":0},0,{"$f":"IF($F$10=\"lunch\",IF(W179=0,,(W179/$E$11)*'Customer Info'!$F$18),)","v":0},{"$f":"IF($F$10=\"dinner\",IF(X179=0,,(X179/$E$12)*'Customer Info'!$F$18),)","v":0},{"$f":"IF($F$10=\"other\",IF(Y179=0,,(Y179/$E$13)*'Customer Info'!$F$18),)","v":0},0,{"$f":"IF($F$11=\"breakfast\",IF(V179=0,,(V179/$E$10)*'Customer Info'!$F$19),)","v":0},{"$f":"IF($F$11=\"dinner\",IF(X179=0,,(X179/$E$12)*'Customer Info'!$F$19),)","v":0},{"$f":"IF($F$11=\"other\",IF(Y179=0,,(Y179/$E$13)*'Customer Info'!$F$19),)","v":0},0,{"$f":"IF($F$12=\"breakfast\",IF(V179=0,,(V179/$E$10)*'Customer Info'!$F$20),)","v":0},{"$f":"IF($F$12=\"lunch\",IF(W179=0,,(W179/$E$11)*'Customer Info'!$F$20),)","v":0},{"$f":"IF($F$12=\"other\",IF(Y179=0,,(Y179/$E$13)*'Customer Info'!$F$20),)","v":0},0,{"$f":"IF($F$13=\"breakfast\",IF(V179=0,,(V179/$E$10)*'Customer Info'!$F$21),)","v":0},{"$f":"IF($F$13=\"lunch\",IF(W179=0,,(W179/$E$11)*'Customer Info'!$F$21),)","v":0},{"$f":"IF($F$13=\"dinner\",IF(X179=0,,(X179/$E$12)*'Customer Info'!$F$21),)","v":0},0,{"$f":"IF($F$16=\"lunch\",IF(AA179=0,,(AA179/$E$17)*'Customer Info'!$H$18),)","v":0},{"$f":"IF($F$16=\"dinner\",IF(AB179=0,,(AB179/$E$18)*'Customer Info'!$H$18),)","v":0},{"$f":"IF($F$16=\"other\",IF(AC179=0,,(AC179/$E$19)*'Customer Info'!$H$18),)","v":0},0,{"$f":"IF($F$17=\"breakfast\",IF(Z179=0,,(Z179/$E$16)*'Customer Info'!$H$19),)","v":0},{"$f":"IF($F$17=\"dinner\",IF(AB179=0,,(AB179/$E$18)*'Customer Info'!$H$19),)","v":0},{"$f":"IF($F$17=\"other\",IF(AC179=0,,(AC179/$E$19)*'Customer Info'!$H$19),)","v":0},0,{"$f":"IF($F$18=\"breakfast\",IF(Z179=0,,(Z179/$E$16)*'Customer Info'!$H$20),)","v":0},{"$f":"IF($F$18=\"lunch\",IF(AA179=0,,(AA179/$E$17)*'Customer Info'!$H$20),)","v":0},{"$f":"IF($F$18=\"other\",IF(AC179=0,,(AC179/$E$19)*'Customer Info'!$H$20),)","v":0},0,{"$f":"IF($F$19=\"breakfast\",IF(Z179=0,,(Z179/$E$16)*'Customer Info'!$H$21),)","v":0},{"$f":"IF($F$19=\"lunch\",IF(AA179=0,,(AA179/$E$17)*'Customer Info'!$H$21),)","v":0},{"$f":"IF($F$19=\"dinner\",IF(AB179=0,,(AB179/$E$18)*'Customer Info'!$H$21),)","v":0},0,0,0,0,0,""]
[null,null,null,null,null,null,null,null,null,null,0,0,0,0,0,0,0,0,0,0,0,0,0,0,0,0,0,0,0,0,0,0,0,{"$f":"IF((OR($F$4=0,$F$4=\"none\")),IF(R180=0,,IF(OR($E$4='Customer Info'!$D$18,$E$4=0),R180,(R180/$E$4)*'Customer Info'!$D$18)),)","v":0},{"$f":"IF((OR($F$5=0,$F$5=\"none\")),IF(S180=0,,IF(OR($E$5='Customer Info'!$D$18,$E$5=0),S180,(S180/$E$5)*'Customer Info'!$D$19)),)","v":0},{"$f":"IF((OR($F$6=0,$F$6=\"none\")),IF(T180=0,,IF(OR($E$6='Customer Info'!$D$18,$E$6=0),T180,(T180/$E$6)*'Customer Info'!$D$20)),)","v":0},{"$f":"IF((OR($F$7=0,$F$7=\"none\")),IF(U180=0,,IF(OR($E$7='Customer Info'!$D$18,$E$7=0),U180,(U180/$E$7)*'Customer Info'!$D$21)),)","v":0},{"$f":"IF((OR($F$10=0,$F$10=\"none\")),IF(V180=0,,IF(OR($E$10='Customer Info'!$F$18,$E$10=0),V180,(V180/$E$10)*'Customer Info'!$F$18)),)","v":0},{"$f":"IF((OR($F$11=0,$F$11=\"none\")),IF(W180=0,,IF(OR($E$11='Customer Info'!$F$19,$E$11=0),W180,(W180/$E$11)*'Customer Info'!$F$19)),)","v":0},{"$f":"IF((OR($F$12=0,$F$12=\"none\")),IF(X180=0,,IF(OR($E$12='Customer Info'!$F$20,$E$12=0),X180,(X180/$E$12)*'Customer Info'!$F$20)),)","v":0},{"$f":"IF((OR($F$13=0,$F$13=\"none\")),IF(Y180=0,,IF(OR($E$13='Customer Info'!$F$21,$E$13=0),Y180,(Y180/$E$13)*'Customer Info'!$F$21)),)","v":0},{"$f":"IF((OR($F$16=0,$F$16=\"none\")),IF(Z180=0,,IF(OR($E$16='Customer Info'!$H$18,$E$16=0),Z180,(Z180/$E$16)*'Customer Info'!$H$18)),)","v":0},{"$f":"IF((OR($F$17=0,$F$17=\"none\")),IF(AA180=0,,IF(OR($E$17='Customer Info'!$H$19,$E$17=0),AA180,(AA180/$E$17)*'Customer Info'!$H$19)),)","v":0},{"$f":"IF((OR($F$18=0,$F$18=\"none\")),IF(AB180=0,,IF(OR($E$18='Customer Info'!$H$20,$E$18=0),AB180,(AB180/$E$18)*'Customer Info'!$H$20)),)","v":0},{"$f":"IF((OR($F$19=0,$F$19=\"none\")),IF(AC180=0,,IF(OR($E$19='Customer Info'!$H$21,$E$19=0),AC180,(AC180/$E$19)*'Customer Info'!$H$21)),)","v":0},{"$f":"IF((OR($F$4=0,$F$4=\"none\")),IF(AD180=0,,IF(OR($E$4='Customer Info'!$D$18,$E$4=0),AD180,(AD180/$E$4)*'Customer Info'!$D$18)),)","v":0},{"$f":"IF((OR($F$5=0,$F$5=\"none\")),IF(AE180=0,,IF(OR($E$5='Customer Info'!$D$19,$E$5=0),AE180,(AE180/$E$5)*'Customer Info'!$D$19)),)","v":0},{"$f":"IF((OR($F$6=0,$F$6=\"none\")),IF(AF180=0,,IF(OR($E$6='Customer Info'!$D$20,$E$6=0),AF180,(AF180/$E$6)*'Customer Info'!$D$20)),)","v":0},{"$f":"IF((OR($F$7=0,$F$7=\"none\")),IF(AG180=0,,IF(OR($E$7='Customer Info'!$D$21,$E$7=0),AG180,(AG180/$E$7)*'Customer Info'!$D$21)),)","v":0},0,0,{"$f":"IF(E180=\"plate waste\",,IF('Customer Info'!$M$18=0,'Log Sheet'!AY180,'Customer Info'!$M$18*'Log Sheet'!AY180))","v":0},{"$f":"IF(E180=\"plate waste\",IF(OR(C180=\"patient\",C180=\"patient beverages\"),IF('Customer Info'!$M$27=0,AY180*'Customer Info'!$M$18,AY180*'Customer Info'!$M$27),IF(C180=\"cafeteria\",IF('Customer Info'!$M$28=0,AY180*'Customer Info'!$M$18,AY180*'Customer Info'!$M$28),IF(C180=\"other1\",IF('Customer Info'!$M$29=0,AY180*'Customer Info'!$M$18,AY180*'Customer Info'!$M$29),))),)","v":0},0,{"$f":"IF($F$4=\"lunch\",IF(S180=0,,(S180/$E$5)*'Customer Info'!$D$18),)","v":0},{"$f":"IF($F$4=\"dinner\",IF(T180=0,,(T180/$E$6)*'Customer Info'!$D$18),)","v":0},{"$f":"IF($F$4=\"other\",IF(U180=0,,(U180/$E$7)*'Customer Info'!$D$18),)","v":0},0,{"$f":"IF($F$5=\"breakfast\",IF(R180=0,,(R180/$E$4)*'Customer Info'!$D$19),)","v":0},{"$f":"IF($F$5=\"dinner\",IF(T180=0,,(T180/$E$6)*'Customer Info'!$D$19),)","v":0},{"$f":"IF($F$5=\"other\",IF(U180=0,,(U180/$E$7)*'Customer Info'!$D$19),)","v":0},0,{"$f":"IF($F$6=\"breakfast\",IF(R180=0,,(R180/$E$4)*'Customer Info'!$D$20),)","v":0},{"$f":"IF($F$6=\"lunch\",IF(S180=0,,(S180/$E$5)*'Customer Info'!$D$20),)","v":0},{"$f":"IF($F$6=\"other\",IF(U180=0,,(U180/$E$7)*'Customer Info'!$D$20),)","v":0},0,{"$f":"IF($F$7=\"breakfast\",IF(R180=0,,(R180/$E$4)*'Customer Info'!$D$21),)","v":0},{"$f":"IF($F$7=\"lunch\",IF(S180=0,,(S180/$E$5)*'Customer Info'!$D$21),)","v":0},{"$f":"IF($F$7=\"dinner\",IF(T180=0,,(T180/$E$6)*'Customer Info'!$D$21),)","v":0},0,{"$f":"IF($F$10=\"lunch\",IF(W180=0,,(W180/$E$11)*'Customer Info'!$F$18),)","v":0},{"$f":"IF($F$10=\"dinner\",IF(X180=0,,(X180/$E$12)*'Customer Info'!$F$18),)","v":0},{"$f":"IF($F$10=\"other\",IF(Y180=0,,(Y180/$E$13)*'Customer Info'!$F$18),)","v":0},0,{"$f":"IF($F$11=\"breakfast\",IF(V180=0,,(V180/$E$10)*'Customer Info'!$F$19),)","v":0},{"$f":"IF($F$11=\"dinner\",IF(X180=0,,(X180/$E$12)*'Customer Info'!$F$19),)","v":0},{"$f":"IF($F$11=\"other\",IF(Y180=0,,(Y180/$E$13)*'Customer Info'!$F$19),)","v":0},0,{"$f":"IF($F$12=\"breakfast\",IF(V180=0,,(V180/$E$10)*'Customer Info'!$F$20),)","v":0},{"$f":"IF($F$12=\"lunch\",IF(W180=0,,(W180/$E$11)*'Customer Info'!$F$20),)","v":0},{"$f":"IF($F$12=\"other\",IF(Y180=0,,(Y180/$E$13)*'Customer Info'!$F$20),)","v":0},0,{"$f":"IF($F$13=\"breakfast\",IF(V180=0,,(V180/$E$10)*'Customer Info'!$F$21),)","v":0},{"$f":"IF($F$13=\"lunch\",IF(W180=0,,(W180/$E$11)*'Customer Info'!$F$21),)","v":0},{"$f":"IF($F$13=\"dinner\",IF(X180=0,,(X180/$E$12)*'Customer Info'!$F$21),)","v":0},0,{"$f":"IF($F$16=\"lunch\",IF(AA180=0,,(AA180/$E$17)*'Customer Info'!$H$18),)","v":0},{"$f":"IF($F$16=\"dinner\",IF(AB180=0,,(AB180/$E$18)*'Customer Info'!$H$18),)","v":0},{"$f":"IF($F$16=\"other\",IF(AC180=0,,(AC180/$E$19)*'Customer Info'!$H$18),)","v":0},0,{"$f":"IF($F$17=\"breakfast\",IF(Z180=0,,(Z180/$E$16)*'Customer Info'!$H$19),)","v":0},{"$f":"IF($F$17=\"dinner\",IF(AB180=0,,(AB180/$E$18)*'Customer Info'!$H$19),)","v":0},{"$f":"IF($F$17=\"other\",IF(AC180=0,,(AC180/$E$19)*'Customer Info'!$H$19),)","v":0},0,{"$f":"IF($F$18=\"breakfast\",IF(Z180=0,,(Z180/$E$16)*'Customer Info'!$H$20),)","v":0},{"$f":"IF($F$18=\"lunch\",IF(AA180=0,,(AA180/$E$17)*'Customer Info'!$H$20),)","v":0},{"$f":"IF($F$18=\"other\",IF(AC180=0,,(AC180/$E$19)*'Customer Info'!$H$20),)","v":0},0,{"$f":"IF($F$19=\"breakfast\",IF(Z180=0,,(Z180/$E$16)*'Customer Info'!$H$21),)","v":0},{"$f":"IF($F$19=\"lunch\",IF(AA180=0,,(AA180/$E$17)*'Customer Info'!$H$21),)","v":0},{"$f":"IF($F$19=\"dinner\",IF(AB180=0,,(AB180/$E$18)*'Customer Info'!$H$21),)","v":0},0,0,0,0,0,""]
[null,null,null,null,null,null,null,null,null,null,0,0,0,0,0,0,0,0,0,0,0,0,0,0,0,0,0,0,0,0,0,0,0,{"$f":"IF((OR($F$4=0,$F$4=\"none\")),IF(R181=0,,IF(OR($E$4='Customer Info'!$D$18,$E$4=0),R181,(R181/$E$4)*'Customer Info'!$D$18)),)","v":0},{"$f":"IF((OR($F$5=0,$F$5=\"none\")),IF(S181=0,,IF(OR($E$5='Customer Info'!$D$18,$E$5=0),S181,(S181/$E$5)*'Customer Info'!$D$19)),)","v":0},{"$f":"IF((OR($F$6=0,$F$6=\"none\")),IF(T181=0,,IF(OR($E$6='Customer Info'!$D$18,$E$6=0),T181,(T181/$E$6)*'Customer Info'!$D$20)),)","v":0},{"$f":"IF((OR($F$7=0,$F$7=\"none\")),IF(U181=0,,IF(OR($E$7='Customer Info'!$D$18,$E$7=0),U181,(U181/$E$7)*'Customer Info'!$D$21)),)","v":0},{"$f":"IF((OR($F$10=0,$F$10=\"none\")),IF(V181=0,,IF(OR($E$10='Customer Info'!$F$18,$E$10=0),V181,(V181/$E$10)*'Customer Info'!$F$18)),)","v":0},{"$f":"IF((OR($F$11=0,$F$11=\"none\")),IF(W181=0,,IF(OR($E$11='Customer Info'!$F$19,$E$11=0),W181,(W181/$E$11)*'Customer Info'!$F$19)),)","v":0},{"$f":"IF((OR($F$12=0,$F$12=\"none\")),IF(X181=0,,IF(OR($E$12='Customer Info'!$F$20,$E$12=0),X181,(X181/$E$12)*'Customer Info'!$F$20)),)","v":0},{"$f":"IF((OR($F$13=0,$F$13=\"none\")),IF(Y181=0,,IF(OR($E$13='Customer Info'!$F$21,$E$13=0),Y181,(Y181/$E$13)*'Customer Info'!$F$21)),)","v":0},{"$f":"IF((OR($F$16=0,$F$16=\"none\")),IF(Z181=0,,IF(OR($E$16='Customer Info'!$H$18,$E$16=0),Z181,(Z181/$E$16)*'Customer Info'!$H$18)),)","v":0},{"$f":"IF((OR($F$17=0,$F$17=\"none\")),IF(AA181=0,,IF(OR($E$17='Customer Info'!$H$19,$E$17=0),AA181,(AA181/$E$17)*'Customer Info'!$H$19)),)","v":0},{"$f":"IF((OR($F$18=0,$F$18=\"none\")),IF(AB181=0,,IF(OR($E$18='Customer Info'!$H$20,$E$18=0),AB181,(AB181/$E$18)*'Customer Info'!$H$20)),)","v":0},{"$f":"IF((OR($F$19=0,$F$19=\"none\")),IF(AC181=0,,IF(OR($E$19='Customer Info'!$H$21,$E$19=0),AC181,(AC181/$E$19)*'Customer Info'!$H$21)),)","v":0},{"$f":"IF((OR($F$4=0,$F$4=\"none\")),IF(AD181=0,,IF(OR($E$4='Customer Info'!$D$18,$E$4=0),AD181,(AD181/$E$4)*'Customer Info'!$D$18)),)","v":0},{"$f":"IF((OR($F$5=0,$F$5=\"none\")),IF(AE181=0,,IF(OR($E$5='Customer Info'!$D$19,$E$5=0),AE181,(AE181/$E$5)*'Customer Info'!$D$19)),)","v":0},{"$f":"IF((OR($F$6=0,$F$6=\"none\")),IF(AF181=0,,IF(OR($E$6='Customer Info'!$D$20,$E$6=0),AF181,(AF181/$E$6)*'Customer Info'!$D$20)),)","v":0},{"$f":"IF((OR($F$7=0,$F$7=\"none\")),IF(AG181=0,,IF(OR($E$7='Customer Info'!$D$21,$E$7=0),AG181,(AG181/$E$7)*'Customer Info'!$D$21)),)","v":0},0,0,{"$f":"IF(E181=\"plate waste\",,IF('Customer Info'!$M$18=0,'Log Sheet'!AY181,'Customer Info'!$M$18*'Log Sheet'!AY181))","v":0},{"$f":"IF(E181=\"plate waste\",IF(OR(C181=\"patient\",C181=\"patient beverages\"),IF('Customer Info'!$M$27=0,AY181*'Customer Info'!$M$18,AY181*'Customer Info'!$M$27),IF(C181=\"cafeteria\",IF('Customer Info'!$M$28=0,AY181*'Customer Info'!$M$18,AY181*'Customer Info'!$M$28),IF(C181=\"other1\",IF('Customer Info'!$M$29=0,AY181*'Customer Info'!$M$18,AY181*'Customer Info'!$M$29),))),)","v":0},0,{"$f":"IF($F$4=\"lunch\",IF(S181=0,,(S181/$E$5)*'Customer Info'!$D$18),)","v":0},{"$f":"IF($F$4=\"dinner\",IF(T181=0,,(T181/$E$6)*'Customer Info'!$D$18),)","v":0},{"$f":"IF($F$4=\"other\",IF(U181=0,,(U181/$E$7)*'Customer Info'!$D$18),)","v":0},0,{"$f":"IF($F$5=\"breakfast\",IF(R181=0,,(R181/$E$4)*'Customer Info'!$D$19),)","v":0},{"$f":"IF($F$5=\"dinner\",IF(T181=0,,(T181/$E$6)*'Customer Info'!$D$19),)","v":0},{"$f":"IF($F$5=\"other\",IF(U181=0,,(U181/$E$7)*'Customer Info'!$D$19),)","v":0},0,{"$f":"IF($F$6=\"breakfast\",IF(R181=0,,(R181/$E$4)*'Customer Info'!$D$20),)","v":0},{"$f":"IF($F$6=\"lunch\",IF(S181=0,,(S181/$E$5)*'Customer Info'!$D$20),)","v":0},{"$f":"IF($F$6=\"other\",IF(U181=0,,(U181/$E$7)*'Customer Info'!$D$20),)","v":0},0,{"$f":"IF($F$7=\"breakfast\",IF(R181=0,,(R181/$E$4)*'Customer Info'!$D$21),)","v":0},{"$f":"IF($F$7=\"lunch\",IF(S181=0,,(S181/$E$5)*'Customer Info'!$D$21),)","v":0},{"$f":"IF($F$7=\"dinner\",IF(T181=0,,(T181/$E$6)*'Customer Info'!$D$21),)","v":0},0,{"$f":"IF($F$10=\"lunch\",IF(W181=0,,(W181/$E$11)*'Customer Info'!$F$18),)","v":0},{"$f":"IF($F$10=\"dinner\",IF(X181=0,,(X181/$E$12)*'Customer Info'!$F$18),)","v":0},{"$f":"IF($F$10=\"other\",IF(Y181=0,,(Y181/$E$13)*'Customer Info'!$F$18),)","v":0},0,{"$f":"IF($F$11=\"breakfast\",IF(V181=0,,(V181/$E$10)*'Customer Info'!$F$19),)","v":0},{"$f":"IF($F$11=\"dinner\",IF(X181=0,,(X181/$E$12)*'Customer Info'!$F$19),)","v":0},{"$f":"IF($F$11=\"other\",IF(Y181=0,,(Y181/$E$13)*'Customer Info'!$F$19),)","v":0},0,{"$f":"IF($F$12=\"breakfast\",IF(V181=0,,(V181/$E$10)*'Customer Info'!$F$20),)","v":0},{"$f":"IF($F$12=\"lunch\",IF(W181=0,,(W181/$E$11)*'Customer Info'!$F$20),)","v":0},{"$f":"IF($F$12=\"other\",IF(Y181=0,,(Y181/$E$13)*'Customer Info'!$F$20),)","v":0},0,{"$f":"IF($F$13=\"breakfast\",IF(V181=0,,(V181/$E$10)*'Customer Info'!$F$21),)","v":0},{"$f":"IF($F$13=\"lunch\",IF(W181=0,,(W181/$E$11)*'Customer Info'!$F$21),)","v":0},{"$f":"IF($F$13=\"dinner\",IF(X181=0,,(X181/$E$12)*'Customer Info'!$F$21),)","v":0},0,{"$f":"IF($F$16=\"lunch\",IF(AA181=0,,(AA181/$E$17)*'Customer Info'!$H$18),)","v":0},{"$f":"IF($F$16=\"dinner\",IF(AB181=0,,(AB181/$E$18)*'Customer Info'!$H$18),)","v":0},{"$f":"IF($F$16=\"other\",IF(AC181=0,,(AC181/$E$19)*'Customer Info'!$H$18),)","v":0},0,{"$f":"IF($F$17=\"breakfast\",IF(Z181=0,,(Z181/$E$16)*'Customer Info'!$H$19),)","v":0},{"$f":"IF($F$17=\"dinner\",IF(AB181=0,,(AB181/$E$18)*'Customer Info'!$H$19),)","v":0},{"$f":"IF($F$17=\"other\",IF(AC181=0,,(AC181/$E$19)*'Customer Info'!$H$19),)","v":0},0,{"$f":"IF($F$18=\"breakfast\",IF(Z181=0,,(Z181/$E$16)*'Customer Info'!$H$20),)","v":0},{"$f":"IF($F$18=\"lunch\",IF(AA181=0,,(AA181/$E$17)*'Customer Info'!$H$20),)","v":0},{"$f":"IF($F$18=\"other\",IF(AC181=0,,(AC181/$E$19)*'Customer Info'!$H$20),)","v":0},0,{"$f":"IF($F$19=\"breakfast\",IF(Z181=0,,(Z181/$E$16)*'Customer Info'!$H$21),)","v":0},{"$f":"IF($F$19=\"lunch\",IF(AA181=0,,(AA181/$E$17)*'Customer Info'!$H$21),)","v":0},{"$f":"IF($F$19=\"dinner\",IF(AB181=0,,(AB181/$E$18)*'Customer Info'!$H$21),)","v":0},0,0,0,0,0,""]
[null,null,null,null,null,null,null,null,null,null,0,0,0,0,0,0,0,0,0,0,0,0,0,0,0,0,0,0,0,0,0,0,0,{"$f":"IF((OR($F$4=0,$F$4=\"none\")),IF(R182=0,,IF(OR($E$4='Customer Info'!$D$18,$E$4=0),R182,(R182/$E$4)*'Customer Info'!$D$18)),)","v":0},{"$f":"IF((OR($F$5=0,$F$5=\"none\")),IF(S182=0,,IF(OR($E$5='Customer Info'!$D$18,$E$5=0),S182,(S182/$E$5)*'Customer Info'!$D$19)),)","v":0},{"$f":"IF((OR($F$6=0,$F$6=\"none\")),IF(T182=0,,IF(OR($E$6='Customer Info'!$D$18,$E$6=0),T182,(T182/$E$6)*'Customer Info'!$D$20)),)","v":0},{"$f":"IF((OR($F$7=0,$F$7=\"none\")),IF(U182=0,,IF(OR($E$7='Customer Info'!$D$18,$E$7=0),U182,(U182/$E$7)*'Customer Info'!$D$21)),)","v":0},{"$f":"IF((OR($F$10=0,$F$10=\"none\")),IF(V182=0,,IF(OR($E$10='Customer Info'!$F$18,$E$10=0),V182,(V182/$E$10)*'Customer Info'!$F$18)),)","v":0},{"$f":"IF((OR($F$11=0,$F$11=\"none\")),IF(W182=0,,IF(OR($E$11='Customer Info'!$F$19,$E$11=0),W182,(W182/$E$11)*'Customer Info'!$F$19)),)","v":0},{"$f":"IF((OR($F$12=0,$F$12=\"none\")),IF(X182=0,,IF(OR($E$12='Customer Info'!$F$20,$E$12=0),X182,(X182/$E$12)*'Customer Info'!$F$20)),)","v":0},{"$f":"IF((OR($F$13=0,$F$13=\"none\")),IF(Y182=0,,IF(OR($E$13='Customer Info'!$F$21,$E$13=0),Y182,(Y182/$E$13)*'Customer Info'!$F$21)),)","v":0},{"$f":"IF((OR($F$16=0,$F$16=\"none\")),IF(Z182=0,,IF(OR($E$16='Customer Info'!$H$18,$E$16=0),Z182,(Z182/$E$16)*'Customer Info'!$H$18)),)","v":0},{"$f":"IF((OR($F$17=0,$F$17=\"none\")),IF(AA182=0,,IF(OR($E$17='Customer Info'!$H$19,$E$17=0),AA182,(AA182/$E$17)*'Customer Info'!$H$19)),)","v":0},{"$f":"IF((OR($F$18=0,$F$18=\"none\")),IF(AB182=0,,IF(OR($E$18='Customer Info'!$H$20,$E$18=0),AB182,(AB182/$E$18)*'Customer Info'!$H$20)),)","v":0},{"$f":"IF((OR($F$19=0,$F$19=\"none\")),IF(AC182=0,,IF(OR($E$19='Customer Info'!$H$21,$E$19=0),AC182,(AC182/$E$19)*'Customer Info'!$H$21)),)","v":0},{"$f":"IF((OR($F$4=0,$F$4=\"none\")),IF(AD182=0,,IF(OR($E$4='Customer Info'!$D$18,$E$4=0),AD182,(AD182/$E$4)*'Customer Info'!$D$18)),)","v":0},{"$f":"IF((OR($F$5=0,$F$5=\"none\")),IF(AE182=0,,IF(OR($E$5='Customer Info'!$D$19,$E$5=0),AE182,(AE182/$E$5)*'Customer Info'!$D$19)),)","v":0},{"$f":"IF((OR($F$6=0,$F$6=\"none\")),IF(AF182=0,,IF(OR($E$6='Customer Info'!$D$20,$E$6=0),AF182,(AF182/$E$6)*'Customer Info'!$D$20)),)","v":0},{"$f":"IF((OR($F$7=0,$F$7=\"none\")),IF(AG182=0,,IF(OR($E$7='Customer Info'!$D$21,$E$7=0),AG182,(AG182/$E$7)*'Customer Info'!$D$21)),)","v":0},0,0,{"$f":"IF(E182=\"plate waste\",,IF('Customer Info'!$M$18=0,'Log Sheet'!AY182,'Customer Info'!$M$18*'Log Sheet'!AY182))","v":0},{"$f":"IF(E182=\"plate waste\",IF(OR(C182=\"patient\",C182=\"patient beverages\"),IF('Customer Info'!$M$27=0,AY182*'Customer Info'!$M$18,AY182*'Customer Info'!$M$27),IF(C182=\"cafeteria\",IF('Customer Info'!$M$28=0,AY182*'Customer Info'!$M$18,AY182*'Customer Info'!$M$28),IF(C182=\"other1\",IF('Customer Info'!$M$29=0,AY182*'Customer Info'!$M$18,AY182*'Customer Info'!$M$29),))),)","v":0},0,{"$f":"IF($F$4=\"lunch\",IF(S182=0,,(S182/$E$5)*'Customer Info'!$D$18),)","v":0},{"$f":"IF($F$4=\"dinner\",IF(T182=0,,(T182/$E$6)*'Customer Info'!$D$18),)","v":0},{"$f":"IF($F$4=\"other\",IF(U182=0,,(U182/$E$7)*'Customer Info'!$D$18),)","v":0},0,{"$f":"IF($F$5=\"breakfast\",IF(R182=0,,(R182/$E$4)*'Customer Info'!$D$19),)","v":0},{"$f":"IF($F$5=\"dinner\",IF(T182=0,,(T182/$E$6)*'Customer Info'!$D$19),)","v":0},{"$f":"IF($F$5=\"other\",IF(U182=0,,(U182/$E$7)*'Customer Info'!$D$19),)","v":0},0,{"$f":"IF($F$6=\"breakfast\",IF(R182=0,,(R182/$E$4)*'Customer Info'!$D$20),)","v":0},{"$f":"IF($F$6=\"lunch\",IF(S182=0,,(S182/$E$5)*'Customer Info'!$D$20),)","v":0},{"$f":"IF($F$6=\"other\",IF(U182=0,,(U182/$E$7)*'Customer Info'!$D$20),)","v":0},0,{"$f":"IF($F$7=\"breakfast\",IF(R182=0,,(R182/$E$4)*'Customer Info'!$D$21),)","v":0},{"$f":"IF($F$7=\"lunch\",IF(S182=0,,(S182/$E$5)*'Customer Info'!$D$21),)","v":0},{"$f":"IF($F$7=\"dinner\",IF(T182=0,,(T182/$E$6)*'Customer Info'!$D$21),)","v":0},0,{"$f":"IF($F$10=\"lunch\",IF(W182=0,,(W182/$E$11)*'Customer Info'!$F$18),)","v":0},{"$f":"IF($F$10=\"dinner\",IF(X182=0,,(X182/$E$12)*'Customer Info'!$F$18),)","v":0},{"$f":"IF($F$10=\"other\",IF(Y182=0,,(Y182/$E$13)*'Customer Info'!$F$18),)","v":0},0,{"$f":"IF($F$11=\"breakfast\",IF(V182=0,,(V182/$E$10)*'Customer Info'!$F$19),)","v":0},{"$f":"IF($F$11=\"dinner\",IF(X182=0,,(X182/$E$12)*'Customer Info'!$F$19),)","v":0},{"$f":"IF($F$11=\"other\",IF(Y182=0,,(Y182/$E$13)*'Customer Info'!$F$19),)","v":0},0,{"$f":"IF($F$12=\"breakfast\",IF(V182=0,,(V182/$E$10)*'Customer Info'!$F$20),)","v":0},{"$f":"IF($F$12=\"lunch\",IF(W182=0,,(W182/$E$11)*'Customer Info'!$F$20),)","v":0},{"$f":"IF($F$12=\"other\",IF(Y182=0,,(Y182/$E$13)*'Customer Info'!$F$20),)","v":0},0,{"$f":"IF($F$13=\"breakfast\",IF(V182=0,,(V182/$E$10)*'Customer Info'!$F$21),)","v":0},{"$f":"IF($F$13=\"lunch\",IF(W182=0,,(W182/$E$11)*'Customer Info'!$F$21),)","v":0},{"$f":"IF($F$13=\"dinner\",IF(X182=0,,(X182/$E$12)*'Customer Info'!$F$21),)","v":0},0,{"$f":"IF($F$16=\"lunch\",IF(AA182=0,,(AA182/$E$17)*'Customer Info'!$H$18),)","v":0},{"$f":"IF($F$16=\"dinner\",IF(AB182=0,,(AB182/$E$18)*'Customer Info'!$H$18),)","v":0},{"$f":"IF($F$16=\"other\",IF(AC182=0,,(AC182/$E$19)*'Customer Info'!$H$18),)","v":0},0,{"$f":"IF($F$17=\"breakfast\",IF(Z182=0,,(Z182/$E$16)*'Customer Info'!$H$19),)","v":0},{"$f":"IF($F$17=\"dinner\",IF(AB182=0,,(AB182/$E$18)*'Customer Info'!$H$19),)","v":0},{"$f":"IF($F$17=\"other\",IF(AC182=0,,(AC182/$E$19)*'Customer Info'!$H$19),)","v":0},0,{"$f":"IF($F$18=\"breakfast\",IF(Z182=0,,(Z182/$E$16)*'Customer Info'!$H$20),)","v":0},{"$f":"IF($F$18=\"lunch\",IF(AA182=0,,(AA182/$E$17)*'Customer Info'!$H$20),)","v":0},{"$f":"IF($F$18=\"other\",IF(AC182=0,,(AC182/$E$19)*'Customer Info'!$H$20),)","v":0},0,{"$f":"IF($F$19=\"breakfast\",IF(Z182=0,,(Z182/$E$16)*'Customer Info'!$H$21),)","v":0},{"$f":"IF($F$19=\"lunch\",IF(AA182=0,,(AA182/$E$17)*'Customer Info'!$H$21),)","v":0},{"$f":"IF($F$19=\"dinner\",IF(AB182=0,,(AB182/$E$18)*'Customer Info'!$H$21),)","v":0},0,0,0,0,0,""]
[null,null,null,null,null,null,null,null,null,null,0,0,0,0,0,0,0,0,0,0,0,0,0,0,0,0,0,0,0,0,0,0,0,{"$f":"IF((OR($F$4=0,$F$4=\"none\")),IF(R183=0,,IF(OR($E$4='Customer Info'!$D$18,$E$4=0),R183,(R183/$E$4)*'Customer Info'!$D$18)),)","v":0},{"$f":"IF((OR($F$5=0,$F$5=\"none\")),IF(S183=0,,IF(OR($E$5='Customer Info'!$D$18,$E$5=0),S183,(S183/$E$5)*'Customer Info'!$D$19)),)","v":0},{"$f":"IF((OR($F$6=0,$F$6=\"none\")),IF(T183=0,,IF(OR($E$6='Customer Info'!$D$18,$E$6=0),T183,(T183/$E$6)*'Customer Info'!$D$20)),)","v":0},{"$f":"IF((OR($F$7=0,$F$7=\"none\")),IF(U183=0,,IF(OR($E$7='Customer Info'!$D$18,$E$7=0),U183,(U183/$E$7)*'Customer Info'!$D$21)),)","v":0},{"$f":"IF((OR($F$10=0,$F$10=\"none\")),IF(V183=0,,IF(OR($E$10='Customer Info'!$F$18,$E$10=0),V183,(V183/$E$10)*'Customer Info'!$F$18)),)","v":0},{"$f":"IF((OR($F$11=0,$F$11=\"none\")),IF(W183=0,,IF(OR($E$11='Customer Info'!$F$19,$E$11=0),W183,(W183/$E$11)*'Customer Info'!$F$19)),)","v":0},{"$f":"IF((OR($F$12=0,$F$12=\"none\")),IF(X183=0,,IF(OR($E$12='Customer Info'!$F$20,$E$12=0),X183,(X183/$E$12)*'Customer Info'!$F$20)),)","v":0},{"$f":"IF((OR($F$13=0,$F$13=\"none\")),IF(Y183=0,,IF(OR($E$13='Customer Info'!$F$21,$E$13=0),Y183,(Y183/$E$13)*'Customer Info'!$F$21)),)","v":0},{"$f":"IF((OR($F$16=0,$F$16=\"none\")),IF(Z183=0,,IF(OR($E$16='Customer Info'!$H$18,$E$16=0),Z183,(Z183/$E$16)*'Customer Info'!$H$18)),)","v":0},{"$f":"IF((OR($F$17=0,$F$17=\"none\")),IF(AA183=0,,IF(OR($E$17='Customer Info'!$H$19,$E$17=0),AA183,(AA183/$E$17)*'Customer Info'!$H$19)),)","v":0},{"$f":"IF((OR($F$18=0,$F$18=\"none\")),IF(AB183=0,,IF(OR($E$18='Customer Info'!$H$20,$E$18=0),AB183,(AB183/$E$18)*'Customer Info'!$H$20)),)","v":0},{"$f":"IF((OR($F$19=0,$F$19=\"none\")),IF(AC183=0,,IF(OR($E$19='Customer Info'!$H$21,$E$19=0),AC183,(AC183/$E$19)*'Customer Info'!$H$21)),)","v":0},{"$f":"IF((OR($F$4=0,$F$4=\"none\")),IF(AD183=0,,IF(OR($E$4='Customer Info'!$D$18,$E$4=0),AD183,(AD183/$E$4)*'Customer Info'!$D$18)),)","v":0},{"$f":"IF((OR($F$5=0,$F$5=\"none\")),IF(AE183=0,,IF(OR($E$5='Customer Info'!$D$19,$E$5=0),AE183,(AE183/$E$5)*'Customer Info'!$D$19)),)","v":0},{"$f":"IF((OR($F$6=0,$F$6=\"none\")),IF(AF183=0,,IF(OR($E$6='Customer Info'!$D$20,$E$6=0),AF183,(AF183/$E$6)*'Customer Info'!$D$20)),)","v":0},{"$f":"IF((OR($F$7=0,$F$7=\"none\")),IF(AG183=0,,IF(OR($E$7='Customer Info'!$D$21,$E$7=0),AG183,(AG183/$E$7)*'Customer Info'!$D$21)),)","v":0},0,0,{"$f":"IF(E183=\"plate waste\",,IF('Customer Info'!$M$18=0,'Log Sheet'!AY183,'Customer Info'!$M$18*'Log Sheet'!AY183))","v":0},{"$f":"IF(E183=\"plate waste\",IF(OR(C183=\"patient\",C183=\"patient beverages\"),IF('Customer Info'!$M$27=0,AY183*'Customer Info'!$M$18,AY183*'Customer Info'!$M$27),IF(C183=\"cafeteria\",IF('Customer Info'!$M$28=0,AY183*'Customer Info'!$M$18,AY183*'Customer Info'!$M$28),IF(C183=\"other1\",IF('Customer Info'!$M$29=0,AY183*'Customer Info'!$M$18,AY183*'Customer Info'!$M$29),))),)","v":0},0,{"$f":"IF($F$4=\"lunch\",IF(S183=0,,(S183/$E$5)*'Customer Info'!$D$18),)","v":0},{"$f":"IF($F$4=\"dinner\",IF(T183=0,,(T183/$E$6)*'Customer Info'!$D$18),)","v":0},{"$f":"IF($F$4=\"other\",IF(U183=0,,(U183/$E$7)*'Customer Info'!$D$18),)","v":0},0,{"$f":"IF($F$5=\"breakfast\",IF(R183=0,,(R183/$E$4)*'Customer Info'!$D$19),)","v":0},{"$f":"IF($F$5=\"dinner\",IF(T183=0,,(T183/$E$6)*'Customer Info'!$D$19),)","v":0},{"$f":"IF($F$5=\"other\",IF(U183=0,,(U183/$E$7)*'Customer Info'!$D$19),)","v":0},0,{"$f":"IF($F$6=\"breakfast\",IF(R183=0,,(R183/$E$4)*'Customer Info'!$D$20),)","v":0},{"$f":"IF($F$6=\"lunch\",IF(S183=0,,(S183/$E$5)*'Customer Info'!$D$20),)","v":0},{"$f":"IF($F$6=\"other\",IF(U183=0,,(U183/$E$7)*'Customer Info'!$D$20),)","v":0},0,{"$f":"IF($F$7=\"breakfast\",IF(R183=0,,(R183/$E$4)*'Customer Info'!$D$21),)","v":0},{"$f":"IF($F$7=\"lunch\",IF(S183=0,,(S183/$E$5)*'Customer Info'!$D$21),)","v":0},{"$f":"IF($F$7=\"dinner\",IF(T183=0,,(T183/$E$6)*'Customer Info'!$D$21),)","v":0},0,{"$f":"IF($F$10=\"lunch\",IF(W183=0,,(W183/$E$11)*'Customer Info'!$F$18),)","v":0},{"$f":"IF($F$10=\"dinner\",IF(X183=0,,(X183/$E$12)*'Customer Info'!$F$18),)","v":0},{"$f":"IF($F$10=\"other\",IF(Y183=0,,(Y183/$E$13)*'Customer Info'!$F$18),)","v":0},0,{"$f":"IF($F$11=\"breakfast\",IF(V183=0,,(V183/$E$10)*'Customer Info'!$F$19),)","v":0},{"$f":"IF($F$11=\"dinner\",IF(X183=0,,(X183/$E$12)*'Customer Info'!$F$19),)","v":0},{"$f":"IF($F$11=\"other\",IF(Y183=0,,(Y183/$E$13)*'Customer Info'!$F$19),)","v":0},0,{"$f":"IF($F$12=\"breakfast\",IF(V183=0,,(V183/$E$10)*'Customer Info'!$F$20),)","v":0},{"$f":"IF($F$12=\"lunch\",IF(W183=0,,(W183/$E$11)*'Customer Info'!$F$20),)","v":0},{"$f":"IF($F$12=\"other\",IF(Y183=0,,(Y183/$E$13)*'Customer Info'!$F$20),)","v":0},0,{"$f":"IF($F$13=\"breakfast\",IF(V183=0,,(V183/$E$10)*'Customer Info'!$F$21),)","v":0},{"$f":"IF($F$13=\"lunch\",IF(W183=0,,(W183/$E$11)*'Customer Info'!$F$21),)","v":0},{"$f":"IF($F$13=\"dinner\",IF(X183=0,,(X183/$E$12)*'Customer Info'!$F$21),)","v":0},0,{"$f":"IF($F$16=\"lunch\",IF(AA183=0,,(AA183/$E$17)*'Customer Info'!$H$18),)","v":0},{"$f":"IF($F$16=\"dinner\",IF(AB183=0,,(AB183/$E$18)*'Customer Info'!$H$18),)","v":0},{"$f":"IF($F$16=\"other\",IF(AC183=0,,(AC183/$E$19)*'Customer Info'!$H$18),)","v":0},0,{"$f":"IF($F$17=\"breakfast\",IF(Z183=0,,(Z183/$E$16)*'Customer Info'!$H$19),)","v":0},{"$f":"IF($F$17=\"dinner\",IF(AB183=0,,(AB183/$E$18)*'Customer Info'!$H$19),)","v":0},{"$f":"IF($F$17=\"other\",IF(AC183=0,,(AC183/$E$19)*'Customer Info'!$H$19),)","v":0},0,{"$f":"IF($F$18=\"breakfast\",IF(Z183=0,,(Z183/$E$16)*'Customer Info'!$H$20),)","v":0},{"$f":"IF($F$18=\"lunch\",IF(AA183=0,,(AA183/$E$17)*'Customer Info'!$H$20),)","v":0},{"$f":"IF($F$18=\"other\",IF(AC183=0,,(AC183/$E$19)*'Customer Info'!$H$20),)","v":0},0,{"$f":"IF($F$19=\"breakfast\",IF(Z183=0,,(Z183/$E$16)*'Customer Info'!$H$21),)","v":0},{"$f":"IF($F$19=\"lunch\",IF(AA183=0,,(AA183/$E$17)*'Customer Info'!$H$21),)","v":0},{"$f":"IF($F$19=\"dinner\",IF(AB183=0,,(AB183/$E$18)*'Customer Info'!$H$21),)","v":0},0,0,0,0,0,""]
[null,null,null,null,null,null,null,null,null,null,0,0,0,0,0,0,0,0,0,0,0,0,0,0,0,0,0,0,0,0,0,0,0,{"$f":"IF((OR($F$4=0,$F$4=\"none\")),IF(R184=0,,IF(OR($E$4='Customer Info'!$D$18,$E$4=0),R184,(R184/$E$4)*'Customer Info'!$D$18)),)","v":0},{"$f":"IF((OR($F$5=0,$F$5=\"none\")),IF(S184=0,,IF(OR($E$5='Customer Info'!$D$18,$E$5=0),S184,(S184/$E$5)*'Customer Info'!$D$19)),)","v":0},{"$f":"IF((OR($F$6=0,$F$6=\"none\")),IF(T184=0,,IF(OR($E$6='Customer Info'!$D$18,$E$6=0),T184,(T184/$E$6)*'Customer Info'!$D$20)),)","v":0},{"$f":"IF((OR($F$7=0,$F$7=\"none\")),IF(U184=0,,IF(OR($E$7='Customer Info'!$D$18,$E$7=0),U184,(U184/$E$7)*'Customer Info'!$D$21)),)","v":0},{"$f":"IF((OR($F$10=0,$F$10=\"none\")),IF(V184=0,,IF(OR($E$10='Customer Info'!$F$18,$E$10=0),V184,(V184/$E$10)*'Customer Info'!$F$18)),)","v":0},{"$f":"IF((OR($F$11=0,$F$11=\"none\")),IF(W184=0,,IF(OR($E$11='Customer Info'!$F$19,$E$11=0),W184,(W184/$E$11)*'Customer Info'!$F$19)),)","v":0},{"$f":"IF((OR($F$12=0,$F$12=\"none\")),IF(X184=0,,IF(OR($E$12='Customer Info'!$F$20,$E$12=0),X184,(X184/$E$12)*'Customer Info'!$F$20)),)","v":0},{"$f":"IF((OR($F$13=0,$F$13=\"none\")),IF(Y184=0,,IF(OR($E$13='Customer Info'!$F$21,$E$13=0),Y184,(Y184/$E$13)*'Customer Info'!$F$21)),)","v":0},{"$f":"IF((OR($F$16=0,$F$16=\"none\")),IF(Z184=0,,IF(OR($E$16='Customer Info'!$H$18,$E$16=0),Z184,(Z184/$E$16)*'Customer Info'!$H$18)),)","v":0},{"$f":"IF((OR($F$17=0,$F$17=\"none\")),IF(AA184=0,,IF(OR($E$17='Customer Info'!$H$19,$E$17=0),AA184,(AA184/$E$17)*'Customer Info'!$H$19)),)","v":0},{"$f":"IF((OR($F$18=0,$F$18=\"none\")),IF(AB184=0,,IF(OR($E$18='Customer Info'!$H$20,$E$18=0),AB184,(AB184/$E$18)*'Customer Info'!$H$20)),)","v":0},{"$f":"IF((OR($F$19=0,$F$19=\"none\")),IF(AC184=0,,IF(OR($E$19='Customer Info'!$H$21,$E$19=0),AC184,(AC184/$E$19)*'Customer Info'!$H$21)),)","v":0},{"$f":"IF((OR($F$4=0,$F$4=\"none\")),IF(AD184=0,,IF(OR($E$4='Customer Info'!$D$18,$E$4=0),AD184,(AD184/$E$4)*'Customer Info'!$D$18)),)","v":0},{"$f":"IF((OR($F$5=0,$F$5=\"none\")),IF(AE184=0,,IF(OR($E$5='Customer Info'!$D$19,$E$5=0),AE184,(AE184/$E$5)*'Customer Info'!$D$19)),)","v":0},{"$f":"IF((OR($F$6=0,$F$6=\"none\")),IF(AF184=0,,IF(OR($E$6='Customer Info'!$D$20,$E$6=0),AF184,(AF184/$E$6)*'Customer Info'!$D$20)),)","v":0},{"$f":"IF((OR($F$7=0,$F$7=\"none\")),IF(AG184=0,,IF(OR($E$7='Customer Info'!$D$21,$E$7=0),AG184,(AG184/$E$7)*'Customer Info'!$D$21)),)","v":0},0,0,{"$f":"IF(E184=\"plate waste\",,IF('Customer Info'!$M$18=0,'Log Sheet'!AY184,'Customer Info'!$M$18*'Log Sheet'!AY184))","v":0},{"$f":"IF(E184=\"plate waste\",IF(OR(C184=\"patient\",C184=\"patient beverages\"),IF('Customer Info'!$M$27=0,AY184*'Customer Info'!$M$18,AY184*'Customer Info'!$M$27),IF(C184=\"cafeteria\",IF('Customer Info'!$M$28=0,AY184*'Customer Info'!$M$18,AY184*'Customer Info'!$M$28),IF(C184=\"other1\",IF('Customer Info'!$M$29=0,AY184*'Customer Info'!$M$18,AY184*'Customer Info'!$M$29),))),)","v":0},0,{"$f":"IF($F$4=\"lunch\",IF(S184=0,,(S184/$E$5)*'Customer Info'!$D$18),)","v":0},{"$f":"IF($F$4=\"dinner\",IF(T184=0,,(T184/$E$6)*'Customer Info'!$D$18),)","v":0},{"$f":"IF($F$4=\"other\",IF(U184=0,,(U184/$E$7)*'Customer Info'!$D$18),)","v":0},0,{"$f":"IF($F$5=\"breakfast\",IF(R184=0,,(R184/$E$4)*'Customer Info'!$D$19),)","v":0},{"$f":"IF($F$5=\"dinner\",IF(T184=0,,(T184/$E$6)*'Customer Info'!$D$19),)","v":0},{"$f":"IF($F$5=\"other\",IF(U184=0,,(U184/$E$7)*'Customer Info'!$D$19),)","v":0},0,{"$f":"IF($F$6=\"breakfast\",IF(R184=0,,(R184/$E$4)*'Customer Info'!$D$20),)","v":0},{"$f":"IF($F$6=\"lunch\",IF(S184=0,,(S184/$E$5)*'Customer Info'!$D$20),)","v":0},{"$f":"IF($F$6=\"other\",IF(U184=0,,(U184/$E$7)*'Customer Info'!$D$20),)","v":0},0,{"$f":"IF($F$7=\"breakfast\",IF(R184=0,,(R184/$E$4)*'Customer Info'!$D$21),)","v":0},{"$f":"IF($F$7=\"lunch\",IF(S184=0,,(S184/$E$5)*'Customer Info'!$D$21),)","v":0},{"$f":"IF($F$7=\"dinner\",IF(T184=0,,(T184/$E$6)*'Customer Info'!$D$21),)","v":0},0,{"$f":"IF($F$10=\"lunch\",IF(W184=0,,(W184/$E$11)*'Customer Info'!$F$18),)","v":0},{"$f":"IF($F$10=\"dinner\",IF(X184=0,,(X184/$E$12)*'Customer Info'!$F$18),)","v":0},{"$f":"IF($F$10=\"other\",IF(Y184=0,,(Y184/$E$13)*'Customer Info'!$F$18),)","v":0},0,{"$f":"IF($F$11=\"breakfast\",IF(V184=0,,(V184/$E$10)*'Customer Info'!$F$19),)","v":0},{"$f":"IF($F$11=\"dinner\",IF(X184=0,,(X184/$E$12)*'Customer Info'!$F$19),)","v":0},{"$f":"IF($F$11=\"other\",IF(Y184=0,,(Y184/$E$13)*'Customer Info'!$F$19),)","v":0},0,{"$f":"IF($F$12=\"breakfast\",IF(V184=0,,(V184/$E$10)*'Customer Info'!$F$20),)","v":0},{"$f":"IF($F$12=\"lunch\",IF(W184=0,,(W184/$E$11)*'Customer Info'!$F$20),)","v":0},{"$f":"IF($F$12=\"other\",IF(Y184=0,,(Y184/$E$13)*'Customer Info'!$F$20),)","v":0},0,{"$f":"IF($F$13=\"breakfast\",IF(V184=0,,(V184/$E$10)*'Customer Info'!$F$21),)","v":0},{"$f":"IF($F$13=\"lunch\",IF(W184=0,,(W184/$E$11)*'Customer Info'!$F$21),)","v":0},{"$f":"IF($F$13=\"dinner\",IF(X184=0,,(X184/$E$12)*'Customer Info'!$F$21),)","v":0},0,{"$f":"IF($F$16=\"lunch\",IF(AA184=0,,(AA184/$E$17)*'Customer Info'!$H$18),)","v":0},{"$f":"IF($F$16=\"dinner\",IF(AB184=0,,(AB184/$E$18)*'Customer Info'!$H$18),)","v":0},{"$f":"IF($F$16=\"other\",IF(AC184=0,,(AC184/$E$19)*'Customer Info'!$H$18),)","v":0},0,{"$f":"IF($F$17=\"breakfast\",IF(Z184=0,,(Z184/$E$16)*'Customer Info'!$H$19),)","v":0},{"$f":"IF($F$17=\"dinner\",IF(AB184=0,,(AB184/$E$18)*'Customer Info'!$H$19),)","v":0},{"$f":"IF($F$17=\"other\",IF(AC184=0,,(AC184/$E$19)*'Customer Info'!$H$19),)","v":0},0,{"$f":"IF($F$18=\"breakfast\",IF(Z184=0,,(Z184/$E$16)*'Customer Info'!$H$20),)","v":0},{"$f":"IF($F$18=\"lunch\",IF(AA184=0,,(AA184/$E$17)*'Customer Info'!$H$20),)","v":0},{"$f":"IF($F$18=\"other\",IF(AC184=0,,(AC184/$E$19)*'Customer Info'!$H$20),)","v":0},0,{"$f":"IF($F$19=\"breakfast\",IF(Z184=0,,(Z184/$E$16)*'Customer Info'!$H$21),)","v":0},{"$f":"IF($F$19=\"lunch\",IF(AA184=0,,(AA184/$E$17)*'Customer Info'!$H$21),)","v":0},{"$f":"IF($F$19=\"dinner\",IF(AB184=0,,(AB184/$E$18)*'Customer Info'!$H$21),)","v":0},0,0,0,0,0,""]
[null,null,null,null,null,null,null,null,null,null,0,0,0,0,0,0,0,0,0,0,0,0,0,0,0,0,0,0,0,0,0,0,0,{"$f":"IF((OR($F$4=0,$F$4=\"none\")),IF(R185=0,,IF(OR($E$4='Customer Info'!$D$18,$E$4=0),R185,(R185/$E$4)*'Customer Info'!$D$18)),)","v":0},{"$f":"IF((OR($F$5=0,$F$5=\"none\")),IF(S185=0,,IF(OR($E$5='Customer Info'!$D$18,$E$5=0),S185,(S185/$E$5)*'Customer Info'!$D$19)),)","v":0},{"$f":"IF((OR($F$6=0,$F$6=\"none\")),IF(T185=0,,IF(OR($E$6='Customer Info'!$D$18,$E$6=0),T185,(T185/$E$6)*'Customer Info'!$D$20)),)","v":0},{"$f":"IF((OR($F$7=0,$F$7=\"none\")),IF(U185=0,,IF(OR($E$7='Customer Info'!$D$18,$E$7=0),U185,(U185/$E$7)*'Customer Info'!$D$21)),)","v":0},{"$f":"IF((OR($F$10=0,$F$10=\"none\")),IF(V185=0,,IF(OR($E$10='Customer Info'!$F$18,$E$10=0),V185,(V185/$E$10)*'Customer Info'!$F$18)),)","v":0},{"$f":"IF((OR($F$11=0,$F$11=\"none\")),IF(W185=0,,IF(OR($E$11='Customer Info'!$F$19,$E$11=0),W185,(W185/$E$11)*'Customer Info'!$F$19)),)","v":0},{"$f":"IF((OR($F$12=0,$F$12=\"none\")),IF(X185=0,,IF(OR($E$12='Customer Info'!$F$20,$E$12=0),X185,(X185/$E$12)*'Customer Info'!$F$20)),)","v":0},{"$f":"IF((OR($F$13=0,$F$13=\"none\")),IF(Y185=0,,IF(OR($E$13='Customer Info'!$F$21,$E$13=0),Y185,(Y185/$E$13)*'Customer Info'!$F$21)),)","v":0},{"$f":"IF((OR($F$16=0,$F$16=\"none\")),IF(Z185=0,,IF(OR($E$16='Customer Info'!$H$18,$E$16=0),Z185,(Z185/$E$16)*'Customer Info'!$H$18)),)","v":0},{"$f":"IF((OR($F$17=0,$F$17=\"none\")),IF(AA185=0,,IF(OR($E$17='Customer Info'!$H$19,$E$17=0),AA185,(AA185/$E$17)*'Customer Info'!$H$19)),)","v":0},{"$f":"IF((OR($F$18=0,$F$18=\"none\")),IF(AB185=0,,IF(OR($E$18='Customer Info'!$H$20,$E$18=0),AB185,(AB185/$E$18)*'Customer Info'!$H$20)),)","v":0},{"$f":"IF((OR($F$19=0,$F$19=\"none\")),IF(AC185=0,,IF(OR($E$19='Customer Info'!$H$21,$E$19=0),AC185,(AC185/$E$19)*'Customer Info'!$H$21)),)","v":0},{"$f":"IF((OR($F$4=0,$F$4=\"none\")),IF(AD185=0,,IF(OR($E$4='Customer Info'!$D$18,$E$4=0),AD185,(AD185/$E$4)*'Customer Info'!$D$18)),)","v":0},{"$f":"IF((OR($F$5=0,$F$5=\"none\")),IF(AE185=0,,IF(OR($E$5='Customer Info'!$D$19,$E$5=0),AE185,(AE185/$E$5)*'Customer Info'!$D$19)),)","v":0},{"$f":"IF((OR($F$6=0,$F$6=\"none\")),IF(AF185=0,,IF(OR($E$6='Customer Info'!$D$20,$E$6=0),AF185,(AF185/$E$6)*'Customer Info'!$D$20)),)","v":0},{"$f":"IF((OR($F$7=0,$F$7=\"none\")),IF(AG185=0,,IF(OR($E$7='Customer Info'!$D$21,$E$7=0),AG185,(AG185/$E$7)*'Customer Info'!$D$21)),)","v":0},0,0,{"$f":"IF(E185=\"plate waste\",,IF('Customer Info'!$M$18=0,'Log Sheet'!AY185,'Customer Info'!$M$18*'Log Sheet'!AY185))","v":0},{"$f":"IF(E185=\"plate waste\",IF(OR(C185=\"patient\",C185=\"patient beverages\"),IF('Customer Info'!$M$27=0,AY185*'Customer Info'!$M$18,AY185*'Customer Info'!$M$27),IF(C185=\"cafeteria\",IF('Customer Info'!$M$28=0,AY185*'Customer Info'!$M$18,AY185*'Customer Info'!$M$28),IF(C185=\"other1\",IF('Customer Info'!$M$29=0,AY185*'Customer Info'!$M$18,AY185*'Customer Info'!$M$29),))),)","v":0},0,{"$f":"IF($F$4=\"lunch\",IF(S185=0,,(S185/$E$5)*'Customer Info'!$D$18),)","v":0},{"$f":"IF($F$4=\"dinner\",IF(T185=0,,(T185/$E$6)*'Customer Info'!$D$18),)","v":0},{"$f":"IF($F$4=\"other\",IF(U185=0,,(U185/$E$7)*'Customer Info'!$D$18),)","v":0},0,{"$f":"IF($F$5=\"breakfast\",IF(R185=0,,(R185/$E$4)*'Customer Info'!$D$19),)","v":0},{"$f":"IF($F$5=\"dinner\",IF(T185=0,,(T185/$E$6)*'Customer Info'!$D$19),)","v":0},{"$f":"IF($F$5=\"other\",IF(U185=0,,(U185/$E$7)*'Customer Info'!$D$19),)","v":0},0,{"$f":"IF($F$6=\"breakfast\",IF(R185=0,,(R185/$E$4)*'Customer Info'!$D$20),)","v":0},{"$f":"IF($F$6=\"lunch\",IF(S185=0,,(S185/$E$5)*'Customer Info'!$D$20),)","v":0},{"$f":"IF($F$6=\"other\",IF(U185=0,,(U185/$E$7)*'Customer Info'!$D$20),)","v":0},0,{"$f":"IF($F$7=\"breakfast\",IF(R185=0,,(R185/$E$4)*'Customer Info'!$D$21),)","v":0},{"$f":"IF($F$7=\"lunch\",IF(S185=0,,(S185/$E$5)*'Customer Info'!$D$21),)","v":0},{"$f":"IF($F$7=\"dinner\",IF(T185=0,,(T185/$E$6)*'Customer Info'!$D$21),)","v":0},0,{"$f":"IF($F$10=\"lunch\",IF(W185=0,,(W185/$E$11)*'Customer Info'!$F$18),)","v":0},{"$f":"IF($F$10=\"dinner\",IF(X185=0,,(X185/$E$12)*'Customer Info'!$F$18),)","v":0},{"$f":"IF($F$10=\"other\",IF(Y185=0,,(Y185/$E$13)*'Customer Info'!$F$18),)","v":0},0,{"$f":"IF($F$11=\"breakfast\",IF(V185=0,,(V185/$E$10)*'Customer Info'!$F$19),)","v":0},{"$f":"IF($F$11=\"dinner\",IF(X185=0,,(X185/$E$12)*'Customer Info'!$F$19),)","v":0},{"$f":"IF($F$11=\"other\",IF(Y185=0,,(Y185/$E$13)*'Customer Info'!$F$19),)","v":0},0,{"$f":"IF($F$12=\"breakfast\",IF(V185=0,,(V185/$E$10)*'Customer Info'!$F$20),)","v":0},{"$f":"IF($F$12=\"lunch\",IF(W185=0,,(W185/$E$11)*'Customer Info'!$F$20),)","v":0},{"$f":"IF($F$12=\"other\",IF(Y185=0,,(Y185/$E$13)*'Customer Info'!$F$20),)","v":0},0,{"$f":"IF($F$13=\"breakfast\",IF(V185=0,,(V185/$E$10)*'Customer Info'!$F$21),)","v":0},{"$f":"IF($F$13=\"lunch\",IF(W185=0,,(W185/$E$11)*'Customer Info'!$F$21),)","v":0},{"$f":"IF($F$13=\"dinner\",IF(X185=0,,(X185/$E$12)*'Customer Info'!$F$21),)","v":0},0,{"$f":"IF($F$16=\"lunch\",IF(AA185=0,,(AA185/$E$17)*'Customer Info'!$H$18),)","v":0},{"$f":"IF($F$16=\"dinner\",IF(AB185=0,,(AB185/$E$18)*'Customer Info'!$H$18),)","v":0},{"$f":"IF($F$16=\"other\",IF(AC185=0,,(AC185/$E$19)*'Customer Info'!$H$18),)","v":0},0,{"$f":"IF($F$17=\"breakfast\",IF(Z185=0,,(Z185/$E$16)*'Customer Info'!$H$19),)","v":0},{"$f":"IF($F$17=\"dinner\",IF(AB185=0,,(AB185/$E$18)*'Customer Info'!$H$19),)","v":0},{"$f":"IF($F$17=\"other\",IF(AC185=0,,(AC185/$E$19)*'Customer Info'!$H$19),)","v":0},0,{"$f":"IF($F$18=\"breakfast\",IF(Z185=0,,(Z185/$E$16)*'Customer Info'!$H$20),)","v":0},{"$f":"IF($F$18=\"lunch\",IF(AA185=0,,(AA185/$E$17)*'Customer Info'!$H$20),)","v":0},{"$f":"IF($F$18=\"other\",IF(AC185=0,,(AC185/$E$19)*'Customer Info'!$H$20),)","v":0},0,{"$f":"IF($F$19=\"breakfast\",IF(Z185=0,,(Z185/$E$16)*'Customer Info'!$H$21),)","v":0},{"$f":"IF($F$19=\"lunch\",IF(AA185=0,,(AA185/$E$17)*'Customer Info'!$H$21),)","v":0},{"$f":"IF($F$19=\"dinner\",IF(AB185=0,,(AB185/$E$18)*'Customer Info'!$H$21),)","v":0},0,0,0,0,0,""]
[null,null,null,null,null,null,null,null,null,null,0,0,0,0,0,0,0,0,0,0,0,0,0,0,0,0,0,0,0,0,0,0,0,{"$f":"IF((OR($F$4=0,$F$4=\"none\")),IF(R186=0,,IF(OR($E$4='Customer Info'!$D$18,$E$4=0),R186,(R186/$E$4)*'Customer Info'!$D$18)),)","v":0},{"$f":"IF((OR($F$5=0,$F$5=\"none\")),IF(S186=0,,IF(OR($E$5='Customer Info'!$D$18,$E$5=0),S186,(S186/$E$5)*'Customer Info'!$D$19)),)","v":0},{"$f":"IF((OR($F$6=0,$F$6=\"none\")),IF(T186=0,,IF(OR($E$6='Customer Info'!$D$18,$E$6=0),T186,(T186/$E$6)*'Customer Info'!$D$20)),)","v":0},{"$f":"IF((OR($F$7=0,$F$7=\"none\")),IF(U186=0,,IF(OR($E$7='Customer Info'!$D$18,$E$7=0),U186,(U186/$E$7)*'Customer Info'!$D$21)),)","v":0},{"$f":"IF((OR($F$10=0,$F$10=\"none\")),IF(V186=0,,IF(OR($E$10='Customer Info'!$F$18,$E$10=0),V186,(V186/$E$10)*'Customer Info'!$F$18)),)","v":0},{"$f":"IF((OR($F$11=0,$F$11=\"none\")),IF(W186=0,,IF(OR($E$11='Customer Info'!$F$19,$E$11=0),W186,(W186/$E$11)*'Customer Info'!$F$19)),)","v":0},{"$f":"IF((OR($F$12=0,$F$12=\"none\")),IF(X186=0,,IF(OR($E$12='Customer Info'!$F$20,$E$12=0),X186,(X186/$E$12)*'Customer Info'!$F$20)),)","v":0},{"$f":"IF((OR($F$13=0,$F$13=\"none\")),IF(Y186=0,,IF(OR($E$13='Customer Info'!$F$21,$E$13=0),Y186,(Y186/$E$13)*'Customer Info'!$F$21)),)","v":0},{"$f":"IF((OR($F$16=0,$F$16=\"none\")),IF(Z186=0,,IF(OR($E$16='Customer Info'!$H$18,$E$16=0),Z186,(Z186/$E$16)*'Customer Info'!$H$18)),)","v":0},{"$f":"IF((OR($F$17=0,$F$17=\"none\")),IF(AA186=0,,IF(OR($E$17='Customer Info'!$H$19,$E$17=0),AA186,(AA186/$E$17)*'Customer Info'!$H$19)),)","v":0},{"$f":"IF((OR($F$18=0,$F$18=\"none\")),IF(AB186=0,,IF(OR($E$18='Customer Info'!$H$20,$E$18=0),AB186,(AB186/$E$18)*'Customer Info'!$H$20)),)","v":0},{"$f":"IF((OR($F$19=0,$F$19=\"none\")),IF(AC186=0,,IF(OR($E$19='Customer Info'!$H$21,$E$19=0),AC186,(AC186/$E$19)*'Customer Info'!$H$21)),)","v":0},{"$f":"IF((OR($F$4=0,$F$4=\"none\")),IF(AD186=0,,IF(OR($E$4='Customer Info'!$D$18,$E$4=0),AD186,(AD186/$E$4)*'Customer Info'!$D$18)),)","v":0},{"$f":"IF((OR($F$5=0,$F$5=\"none\")),IF(AE186=0,,IF(OR($E$5='Customer Info'!$D$19,$E$5=0),AE186,(AE186/$E$5)*'Customer Info'!$D$19)),)","v":0},{"$f":"IF((OR($F$6=0,$F$6=\"none\")),IF(AF186=0,,IF(OR($E$6='Customer Info'!$D$20,$E$6=0),AF186,(AF186/$E$6)*'Customer Info'!$D$20)),)","v":0},{"$f":"IF((OR($F$7=0,$F$7=\"none\")),IF(AG186=0,,IF(OR($E$7='Customer Info'!$D$21,$E$7=0),AG186,(AG186/$E$7)*'Customer Info'!$D$21)),)","v":0},0,0,{"$f":"IF(E186=\"plate waste\",,IF('Customer Info'!$M$18=0,'Log Sheet'!AY186,'Customer Info'!$M$18*'Log Sheet'!AY186))","v":0},{"$f":"IF(E186=\"plate waste\",IF(OR(C186=\"patient\",C186=\"patient beverages\"),IF('Customer Info'!$M$27=0,AY186*'Customer Info'!$M$18,AY186*'Customer Info'!$M$27),IF(C186=\"cafeteria\",IF('Customer Info'!$M$28=0,AY186*'Customer Info'!$M$18,AY186*'Customer Info'!$M$28),IF(C186=\"other1\",IF('Customer Info'!$M$29=0,AY186*'Customer Info'!$M$18,AY186*'Customer Info'!$M$29),))),)","v":0},0,{"$f":"IF($F$4=\"lunch\",IF(S186=0,,(S186/$E$5)*'Customer Info'!$D$18),)","v":0},{"$f":"IF($F$4=\"dinner\",IF(T186=0,,(T186/$E$6)*'Customer Info'!$D$18),)","v":0},{"$f":"IF($F$4=\"other\",IF(U186=0,,(U186/$E$7)*'Customer Info'!$D$18),)","v":0},0,{"$f":"IF($F$5=\"breakfast\",IF(R186=0,,(R186/$E$4)*'Customer Info'!$D$19),)","v":0},{"$f":"IF($F$5=\"dinner\",IF(T186=0,,(T186/$E$6)*'Customer Info'!$D$19),)","v":0},{"$f":"IF($F$5=\"other\",IF(U186=0,,(U186/$E$7)*'Customer Info'!$D$19),)","v":0},0,{"$f":"IF($F$6=\"breakfast\",IF(R186=0,,(R186/$E$4)*'Customer Info'!$D$20),)","v":0},{"$f":"IF($F$6=\"lunch\",IF(S186=0,,(S186/$E$5)*'Customer Info'!$D$20),)","v":0},{"$f":"IF($F$6=\"other\",IF(U186=0,,(U186/$E$7)*'Customer Info'!$D$20),)","v":0},0,{"$f":"IF($F$7=\"breakfast\",IF(R186=0,,(R186/$E$4)*'Customer Info'!$D$21),)","v":0},{"$f":"IF($F$7=\"lunch\",IF(S186=0,,(S186/$E$5)*'Customer Info'!$D$21),)","v":0},{"$f":"IF($F$7=\"dinner\",IF(T186=0,,(T186/$E$6)*'Customer Info'!$D$21),)","v":0},0,{"$f":"IF($F$10=\"lunch\",IF(W186=0,,(W186/$E$11)*'Customer Info'!$F$18),)","v":0},{"$f":"IF($F$10=\"dinner\",IF(X186=0,,(X186/$E$12)*'Customer Info'!$F$18),)","v":0},{"$f":"IF($F$10=\"other\",IF(Y186=0,,(Y186/$E$13)*'Customer Info'!$F$18),)","v":0},0,{"$f":"IF($F$11=\"breakfast\",IF(V186=0,,(V186/$E$10)*'Customer Info'!$F$19),)","v":0},{"$f":"IF($F$11=\"dinner\",IF(X186=0,,(X186/$E$12)*'Customer Info'!$F$19),)","v":0},{"$f":"IF($F$11=\"other\",IF(Y186=0,,(Y186/$E$13)*'Customer Info'!$F$19),)","v":0},0,{"$f":"IF($F$12=\"breakfast\",IF(V186=0,,(V186/$E$10)*'Customer Info'!$F$20),)","v":0},{"$f":"IF($F$12=\"lunch\",IF(W186=0,,(W186/$E$11)*'Customer Info'!$F$20),)","v":0},{"$f":"IF($F$12=\"other\",IF(Y186=0,,(Y186/$E$13)*'Customer Info'!$F$20),)","v":0},0,{"$f":"IF($F$13=\"breakfast\",IF(V186=0,,(V186/$E$10)*'Customer Info'!$F$21),)","v":0},{"$f":"IF($F$13=\"lunch\",IF(W186=0,,(W186/$E$11)*'Customer Info'!$F$21),)","v":0},{"$f":"IF($F$13=\"dinner\",IF(X186=0,,(X186/$E$12)*'Customer Info'!$F$21),)","v":0},0,{"$f":"IF($F$16=\"lunch\",IF(AA186=0,,(AA186/$E$17)*'Customer Info'!$H$18),)","v":0},{"$f":"IF($F$16=\"dinner\",IF(AB186=0,,(AB186/$E$18)*'Customer Info'!$H$18),)","v":0},{"$f":"IF($F$16=\"other\",IF(AC186=0,,(AC186/$E$19)*'Customer Info'!$H$18),)","v":0},0,{"$f":"IF($F$17=\"breakfast\",IF(Z186=0,,(Z186/$E$16)*'Customer Info'!$H$19),)","v":0},{"$f":"IF($F$17=\"dinner\",IF(AB186=0,,(AB186/$E$18)*'Customer Info'!$H$19),)","v":0},{"$f":"IF($F$17=\"other\",IF(AC186=0,,(AC186/$E$19)*'Customer Info'!$H$19),)","v":0},0,{"$f":"IF($F$18=\"breakfast\",IF(Z186=0,,(Z186/$E$16)*'Customer Info'!$H$20),)","v":0},{"$f":"IF($F$18=\"lunch\",IF(AA186=0,,(AA186/$E$17)*'Customer Info'!$H$20),)","v":0},{"$f":"IF($F$18=\"other\",IF(AC186=0,,(AC186/$E$19)*'Customer Info'!$H$20),)","v":0},0,{"$f":"IF($F$19=\"breakfast\",IF(Z186=0,,(Z186/$E$16)*'Customer Info'!$H$21),)","v":0},{"$f":"IF($F$19=\"lunch\",IF(AA186=0,,(AA186/$E$17)*'Customer Info'!$H$21),)","v":0},{"$f":"IF($F$19=\"dinner\",IF(AB186=0,,(AB186/$E$18)*'Customer Info'!$H$21),)","v":0},0,0,0,0,0,""]
[null,null,null,null,null,null,null,null,null,null,0,0,0,0,0,0,0,0,0,0,0,0,0,0,0,0,0,0,0,0,0,0,0,{"$f":"IF((OR($F$4=0,$F$4=\"none\")),IF(R187=0,,IF(OR($E$4='Customer Info'!$D$18,$E$4=0),R187,(R187/$E$4)*'Customer Info'!$D$18)),)","v":0},{"$f":"IF((OR($F$5=0,$F$5=\"none\")),IF(S187=0,,IF(OR($E$5='Customer Info'!$D$18,$E$5=0),S187,(S187/$E$5)*'Customer Info'!$D$19)),)","v":0},{"$f":"IF((OR($F$6=0,$F$6=\"none\")),IF(T187=0,,IF(OR($E$6='Customer Info'!$D$18,$E$6=0),T187,(T187/$E$6)*'Customer Info'!$D$20)),)","v":0},{"$f":"IF((OR($F$7=0,$F$7=\"none\")),IF(U187=0,,IF(OR($E$7='Customer Info'!$D$18,$E$7=0),U187,(U187/$E$7)*'Customer Info'!$D$21)),)","v":0},{"$f":"IF((OR($F$10=0,$F$10=\"none\")),IF(V187=0,,IF(OR($E$10='Customer Info'!$F$18,$E$10=0),V187,(V187/$E$10)*'Customer Info'!$F$18)),)","v":0},{"$f":"IF((OR($F$11=0,$F$11=\"none\")),IF(W187=0,,IF(OR($E$11='Customer Info'!$F$19,$E$11=0),W187,(W187/$E$11)*'Customer Info'!$F$19)),)","v":0},{"$f":"IF((OR($F$12=0,$F$12=\"none\")),IF(X187=0,,IF(OR($E$12='Customer Info'!$F$20,$E$12=0),X187,(X187/$E$12)*'Customer Info'!$F$20)),)","v":0},{"$f":"IF((OR($F$13=0,$F$13=\"none\")),IF(Y187=0,,IF(OR($E$13='Customer Info'!$F$21,$E$13=0),Y187,(Y187/$E$13)*'Customer Info'!$F$21)),)","v":0},{"$f":"IF((OR($F$16=0,$F$16=\"none\")),IF(Z187=0,,IF(OR($E$16='Customer Info'!$H$18,$E$16=0),Z187,(Z187/$E$16)*'Customer Info'!$H$18)),)","v":0},{"$f":"IF((OR($F$17=0,$F$17=\"none\")),IF(AA187=0,,IF(OR($E$17='Customer Info'!$H$19,$E$17=0),AA187,(AA187/$E$17)*'Customer Info'!$H$19)),)","v":0},{"$f":"IF((OR($F$18=0,$F$18=\"none\")),IF(AB187=0,,IF(OR($E$18='Customer Info'!$H$20,$E$18=0),AB187,(AB187/$E$18)*'Customer Info'!$H$20)),)","v":0},{"$f":"IF((OR($F$19=0,$F$19=\"none\")),IF(AC187=0,,IF(OR($E$19='Customer Info'!$H$21,$E$19=0),AC187,(AC187/$E$19)*'Customer Info'!$H$21)),)","v":0},{"$f":"IF((OR($F$4=0,$F$4=\"none\")),IF(AD187=0,,IF(OR($E$4='Customer Info'!$D$18,$E$4=0),AD187,(AD187/$E$4)*'Customer Info'!$D$18)),)","v":0},{"$f":"IF((OR($F$5=0,$F$5=\"none\")),IF(AE187=0,,IF(OR($E$5='Customer Info'!$D$19,$E$5=0),AE187,(AE187/$E$5)*'Customer Info'!$D$19)),)","v":0},{"$f":"IF((OR($F$6=0,$F$6=\"none\")),IF(AF187=0,,IF(OR($E$6='Customer Info'!$D$20,$E$6=0),AF187,(AF187/$E$6)*'Customer Info'!$D$20)),)","v":0},{"$f":"IF((OR($F$7=0,$F$7=\"none\")),IF(AG187=0,,IF(OR($E$7='Customer Info'!$D$21,$E$7=0),AG187,(AG187/$E$7)*'Customer Info'!$D$21)),)","v":0},0,0,{"$f":"IF(E187=\"plate waste\",,IF('Customer Info'!$M$18=0,'Log Sheet'!AY187,'Customer Info'!$M$18*'Log Sheet'!AY187))","v":0},{"$f":"IF(E187=\"plate waste\",IF(OR(C187=\"patient\",C187=\"patient beverages\"),IF('Customer Info'!$M$27=0,AY187*'Customer Info'!$M$18,AY187*'Customer Info'!$M$27),IF(C187=\"cafeteria\",IF('Customer Info'!$M$28=0,AY187*'Customer Info'!$M$18,AY187*'Customer Info'!$M$28),IF(C187=\"other1\",IF('Customer Info'!$M$29=0,AY187*'Customer Info'!$M$18,AY187*'Customer Info'!$M$29),))),)","v":0},0,{"$f":"IF($F$4=\"lunch\",IF(S187=0,,(S187/$E$5)*'Customer Info'!$D$18),)","v":0},{"$f":"IF($F$4=\"dinner\",IF(T187=0,,(T187/$E$6)*'Customer Info'!$D$18),)","v":0},{"$f":"IF($F$4=\"other\",IF(U187=0,,(U187/$E$7)*'Customer Info'!$D$18),)","v":0},0,{"$f":"IF($F$5=\"breakfast\",IF(R187=0,,(R187/$E$4)*'Customer Info'!$D$19),)","v":0},{"$f":"IF($F$5=\"dinner\",IF(T187=0,,(T187/$E$6)*'Customer Info'!$D$19),)","v":0},{"$f":"IF($F$5=\"other\",IF(U187=0,,(U187/$E$7)*'Customer Info'!$D$19),)","v":0},0,{"$f":"IF($F$6=\"breakfast\",IF(R187=0,,(R187/$E$4)*'Customer Info'!$D$20),)","v":0},{"$f":"IF($F$6=\"lunch\",IF(S187=0,,(S187/$E$5)*'Customer Info'!$D$20),)","v":0},{"$f":"IF($F$6=\"other\",IF(U187=0,,(U187/$E$7)*'Customer Info'!$D$20),)","v":0},0,{"$f":"IF($F$7=\"breakfast\",IF(R187=0,,(R187/$E$4)*'Customer Info'!$D$21),)","v":0},{"$f":"IF($F$7=\"lunch\",IF(S187=0,,(S187/$E$5)*'Customer Info'!$D$21),)","v":0},{"$f":"IF($F$7=\"dinner\",IF(T187=0,,(T187/$E$6)*'Customer Info'!$D$21),)","v":0},0,{"$f":"IF($F$10=\"lunch\",IF(W187=0,,(W187/$E$11)*'Customer Info'!$F$18),)","v":0},{"$f":"IF($F$10=\"dinner\",IF(X187=0,,(X187/$E$12)*'Customer Info'!$F$18),)","v":0},{"$f":"IF($F$10=\"other\",IF(Y187=0,,(Y187/$E$13)*'Customer Info'!$F$18),)","v":0},0,{"$f":"IF($F$11=\"breakfast\",IF(V187=0,,(V187/$E$10)*'Customer Info'!$F$19),)","v":0},{"$f":"IF($F$11=\"dinner\",IF(X187=0,,(X187/$E$12)*'Customer Info'!$F$19),)","v":0},{"$f":"IF($F$11=\"other\",IF(Y187=0,,(Y187/$E$13)*'Customer Info'!$F$19),)","v":0},0,{"$f":"IF($F$12=\"breakfast\",IF(V187=0,,(V187/$E$10)*'Customer Info'!$F$20),)","v":0},{"$f":"IF($F$12=\"lunch\",IF(W187=0,,(W187/$E$11)*'Customer Info'!$F$20),)","v":0},{"$f":"IF($F$12=\"other\",IF(Y187=0,,(Y187/$E$13)*'Customer Info'!$F$20),)","v":0},0,{"$f":"IF($F$13=\"breakfast\",IF(V187=0,,(V187/$E$10)*'Customer Info'!$F$21),)","v":0},{"$f":"IF($F$13=\"lunch\",IF(W187=0,,(W187/$E$11)*'Customer Info'!$F$21),)","v":0},{"$f":"IF($F$13=\"dinner\",IF(X187=0,,(X187/$E$12)*'Customer Info'!$F$21),)","v":0},0,{"$f":"IF($F$16=\"lunch\",IF(AA187=0,,(AA187/$E$17)*'Customer Info'!$H$18),)","v":0},{"$f":"IF($F$16=\"dinner\",IF(AB187=0,,(AB187/$E$18)*'Customer Info'!$H$18),)","v":0},{"$f":"IF($F$16=\"other\",IF(AC187=0,,(AC187/$E$19)*'Customer Info'!$H$18),)","v":0},0,{"$f":"IF($F$17=\"breakfast\",IF(Z187=0,,(Z187/$E$16)*'Customer Info'!$H$19),)","v":0},{"$f":"IF($F$17=\"dinner\",IF(AB187=0,,(AB187/$E$18)*'Customer Info'!$H$19),)","v":0},{"$f":"IF($F$17=\"other\",IF(AC187=0,,(AC187/$E$19)*'Customer Info'!$H$19),)","v":0},0,{"$f":"IF($F$18=\"breakfast\",IF(Z187=0,,(Z187/$E$16)*'Customer Info'!$H$20),)","v":0},{"$f":"IF($F$18=\"lunch\",IF(AA187=0,,(AA187/$E$17)*'Customer Info'!$H$20),)","v":0},{"$f":"IF($F$18=\"other\",IF(AC187=0,,(AC187/$E$19)*'Customer Info'!$H$20),)","v":0},0,{"$f":"IF($F$19=\"breakfast\",IF(Z187=0,,(Z187/$E$16)*'Customer Info'!$H$21),)","v":0},{"$f":"IF($F$19=\"lunch\",IF(AA187=0,,(AA187/$E$17)*'Customer Info'!$H$21),)","v":0},{"$f":"IF($F$19=\"dinner\",IF(AB187=0,,(AB187/$E$18)*'Customer Info'!$H$21),)","v":0},0,0,0,0,0,""]
[null,null,null,null,null,null,null,null,null,null,0,0,0,0,0,0,0,0,0,0,0,0,0,0,0,0,0,0,0,0,0,0,0,{"$f":"IF((OR($F$4=0,$F$4=\"none\")),IF(R188=0,,IF(OR($E$4='Customer Info'!$D$18,$E$4=0),R188,(R188/$E$4)*'Customer Info'!$D$18)),)","v":0},{"$f":"IF((OR($F$5=0,$F$5=\"none\")),IF(S188=0,,IF(OR($E$5='Customer Info'!$D$18,$E$5=0),S188,(S188/$E$5)*'Customer Info'!$D$19)),)","v":0},{"$f":"IF((OR($F$6=0,$F$6=\"none\")),IF(T188=0,,IF(OR($E$6='Customer Info'!$D$18,$E$6=0),T188,(T188/$E$6)*'Customer Info'!$D$20)),)","v":0},{"$f":"IF((OR($F$7=0,$F$7=\"none\")),IF(U188=0,,IF(OR($E$7='Customer Info'!$D$18,$E$7=0),U188,(U188/$E$7)*'Customer Info'!$D$21)),)","v":0},{"$f":"IF((OR($F$10=0,$F$10=\"none\")),IF(V188=0,,IF(OR($E$10='Customer Info'!$F$18,$E$10=0),V188,(V188/$E$10)*'Customer Info'!$F$18)),)","v":0},{"$f":"IF((OR($F$11=0,$F$11=\"none\")),IF(W188=0,,IF(OR($E$11='Customer Info'!$F$19,$E$11=0),W188,(W188/$E$11)*'Customer Info'!$F$19)),)","v":0},{"$f":"IF((OR($F$12=0,$F$12=\"none\")),IF(X188=0,,IF(OR($E$12='Customer Info'!$F$20,$E$12=0),X188,(X188/$E$12)*'Customer Info'!$F$20)),)","v":0},{"$f":"IF((OR($F$13=0,$F$13=\"none\")),IF(Y188=0,,IF(OR($E$13='Customer Info'!$F$21,$E$13=0),Y188,(Y188/$E$13)*'Customer Info'!$F$21)),)","v":0},{"$f":"IF((OR($F$16=0,$F$16=\"none\")),IF(Z188=0,,IF(OR($E$16='Customer Info'!$H$18,$E$16=0),Z188,(Z188/$E$16)*'Customer Info'!$H$18)),)","v":0},{"$f":"IF((OR($F$17=0,$F$17=\"none\")),IF(AA188=0,,IF(OR($E$17='Customer Info'!$H$19,$E$17=0),AA188,(AA188/$E$17)*'Customer Info'!$H$19)),)","v":0},{"$f":"IF((OR($F$18=0,$F$18=\"none\")),IF(AB188=0,,IF(OR($E$18='Customer Info'!$H$20,$E$18=0),AB188,(AB188/$E$18)*'Customer Info'!$H$20)),)","v":0},{"$f":"IF((OR($F$19=0,$F$19=\"none\")),IF(AC188=0,,IF(OR($E$19='Customer Info'!$H$21,$E$19=0),AC188,(AC188/$E$19)*'Customer Info'!$H$21)),)","v":0},{"$f":"IF((OR($F$4=0,$F$4=\"none\")),IF(AD188=0,,IF(OR($E$4='Customer Info'!$D$18,$E$4=0),AD188,(AD188/$E$4)*'Customer Info'!$D$18)),)","v":0},{"$f":"IF((OR($F$5=0,$F$5=\"none\")),IF(AE188=0,,IF(OR($E$5='Customer Info'!$D$19,$E$5=0),AE188,(AE188/$E$5)*'Customer Info'!$D$19)),)","v":0},{"$f":"IF((OR($F$6=0,$F$6=\"none\")),IF(AF188=0,,IF(OR($E$6='Customer Info'!$D$20,$E$6=0),AF188,(AF188/$E$6)*'Customer Info'!$D$20)),)","v":0},{"$f":"IF((OR($F$7=0,$F$7=\"none\")),IF(AG188=0,,IF(OR($E$7='Customer Info'!$D$21,$E$7=0),AG188,(AG188/$E$7)*'Customer Info'!$D$21)),)","v":0},0,0,{"$f":"IF(E188=\"plate waste\",,IF('Customer Info'!$M$18=0,'Log Sheet'!AY188,'Customer Info'!$M$18*'Log Sheet'!AY188))","v":0},{"$f":"IF(E188=\"plate waste\",IF(OR(C188=\"patient\",C188=\"patient beverages\"),IF('Customer Info'!$M$27=0,AY188*'Customer Info'!$M$18,AY188*'Customer Info'!$M$27),IF(C188=\"cafeteria\",IF('Customer Info'!$M$28=0,AY188*'Customer Info'!$M$18,AY188*'Customer Info'!$M$28),IF(C188=\"other1\",IF('Customer Info'!$M$29=0,AY188*'Customer Info'!$M$18,AY188*'Customer Info'!$M$29),))),)","v":0},0,{"$f":"IF($F$4=\"lunch\",IF(S188=0,,(S188/$E$5)*'Customer Info'!$D$18),)","v":0},{"$f":"IF($F$4=\"dinner\",IF(T188=0,,(T188/$E$6)*'Customer Info'!$D$18),)","v":0},{"$f":"IF($F$4=\"other\",IF(U188=0,,(U188/$E$7)*'Customer Info'!$D$18),)","v":0},0,{"$f":"IF($F$5=\"breakfast\",IF(R188=0,,(R188/$E$4)*'Customer Info'!$D$19),)","v":0},{"$f":"IF($F$5=\"dinner\",IF(T188=0,,(T188/$E$6)*'Customer Info'!$D$19),)","v":0},{"$f":"IF($F$5=\"other\",IF(U188=0,,(U188/$E$7)*'Customer Info'!$D$19),)","v":0},0,{"$f":"IF($F$6=\"breakfast\",IF(R188=0,,(R188/$E$4)*'Customer Info'!$D$20),)","v":0},{"$f":"IF($F$6=\"lunch\",IF(S188=0,,(S188/$E$5)*'Customer Info'!$D$20),)","v":0},{"$f":"IF($F$6=\"other\",IF(U188=0,,(U188/$E$7)*'Customer Info'!$D$20),)","v":0},0,{"$f":"IF($F$7=\"breakfast\",IF(R188=0,,(R188/$E$4)*'Customer Info'!$D$21),)","v":0},{"$f":"IF($F$7=\"lunch\",IF(S188=0,,(S188/$E$5)*'Customer Info'!$D$21),)","v":0},{"$f":"IF($F$7=\"dinner\",IF(T188=0,,(T188/$E$6)*'Customer Info'!$D$21),)","v":0},0,{"$f":"IF($F$10=\"lunch\",IF(W188=0,,(W188/$E$11)*'Customer Info'!$F$18),)","v":0},{"$f":"IF($F$10=\"dinner\",IF(X188=0,,(X188/$E$12)*'Customer Info'!$F$18),)","v":0},{"$f":"IF($F$10=\"other\",IF(Y188=0,,(Y188/$E$13)*'Customer Info'!$F$18),)","v":0},0,{"$f":"IF($F$11=\"breakfast\",IF(V188=0,,(V188/$E$10)*'Customer Info'!$F$19),)","v":0},{"$f":"IF($F$11=\"dinner\",IF(X188=0,,(X188/$E$12)*'Customer Info'!$F$19),)","v":0},{"$f":"IF($F$11=\"other\",IF(Y188=0,,(Y188/$E$13)*'Customer Info'!$F$19),)","v":0},0,{"$f":"IF($F$12=\"breakfast\",IF(V188=0,,(V188/$E$10)*'Customer Info'!$F$20),)","v":0},{"$f":"IF($F$12=\"lunch\",IF(W188=0,,(W188/$E$11)*'Customer Info'!$F$20),)","v":0},{"$f":"IF($F$12=\"other\",IF(Y188=0,,(Y188/$E$13)*'Customer Info'!$F$20),)","v":0},0,{"$f":"IF($F$13=\"breakfast\",IF(V188=0,,(V188/$E$10)*'Customer Info'!$F$21),)","v":0},{"$f":"IF($F$13=\"lunch\",IF(W188=0,,(W188/$E$11)*'Customer Info'!$F$21),)","v":0},{"$f":"IF($F$13=\"dinner\",IF(X188=0,,(X188/$E$12)*'Customer Info'!$F$21),)","v":0},0,{"$f":"IF($F$16=\"lunch\",IF(AA188=0,,(AA188/$E$17)*'Customer Info'!$H$18),)","v":0},{"$f":"IF($F$16=\"dinner\",IF(AB188=0,,(AB188/$E$18)*'Customer Info'!$H$18),)","v":0},{"$f":"IF($F$16=\"other\",IF(AC188=0,,(AC188/$E$19)*'Customer Info'!$H$18),)","v":0},0,{"$f":"IF($F$17=\"breakfast\",IF(Z188=0,,(Z188/$E$16)*'Customer Info'!$H$19),)","v":0},{"$f":"IF($F$17=\"dinner\",IF(AB188=0,,(AB188/$E$18)*'Customer Info'!$H$19),)","v":0},{"$f":"IF($F$17=\"other\",IF(AC188=0,,(AC188/$E$19)*'Customer Info'!$H$19),)","v":0},0,{"$f":"IF($F$18=\"breakfast\",IF(Z188=0,,(Z188/$E$16)*'Customer Info'!$H$20),)","v":0},{"$f":"IF($F$18=\"lunch\",IF(AA188=0,,(AA188/$E$17)*'Customer Info'!$H$20),)","v":0},{"$f":"IF($F$18=\"other\",IF(AC188=0,,(AC188/$E$19)*'Customer Info'!$H$20),)","v":0},0,{"$f":"IF($F$19=\"breakfast\",IF(Z188=0,,(Z188/$E$16)*'Customer Info'!$H$21),)","v":0},{"$f":"IF($F$19=\"lunch\",IF(AA188=0,,(AA188/$E$17)*'Customer Info'!$H$21),)","v":0},{"$f":"IF($F$19=\"dinner\",IF(AB188=0,,(AB188/$E$18)*'Customer Info'!$H$21),)","v":0},0,0,0,0,0,""]
[null,null,null,null,null,null,null,null,null,null,0,0,0,0,0,0,0,0,0,0,0,0,0,0,0,0,0,0,0,0,0,0,0,{"$f":"IF((OR($F$4=0,$F$4=\"none\")),IF(R189=0,,IF(OR($E$4='Customer Info'!$D$18,$E$4=0),R189,(R189/$E$4)*'Customer Info'!$D$18)),)","v":0},{"$f":"IF((OR($F$5=0,$F$5=\"none\")),IF(S189=0,,IF(OR($E$5='Customer Info'!$D$18,$E$5=0),S189,(S189/$E$5)*'Customer Info'!$D$19)),)","v":0},{"$f":"IF((OR($F$6=0,$F$6=\"none\")),IF(T189=0,,IF(OR($E$6='Customer Info'!$D$18,$E$6=0),T189,(T189/$E$6)*'Customer Info'!$D$20)),)","v":0},{"$f":"IF((OR($F$7=0,$F$7=\"none\")),IF(U189=0,,IF(OR($E$7='Customer Info'!$D$18,$E$7=0),U189,(U189/$E$7)*'Customer Info'!$D$21)),)","v":0},{"$f":"IF((OR($F$10=0,$F$10=\"none\")),IF(V189=0,,IF(OR($E$10='Customer Info'!$F$18,$E$10=0),V189,(V189/$E$10)*'Customer Info'!$F$18)),)","v":0},{"$f":"IF((OR($F$11=0,$F$11=\"none\")),IF(W189=0,,IF(OR($E$11='Customer Info'!$F$19,$E$11=0),W189,(W189/$E$11)*'Customer Info'!$F$19)),)","v":0},{"$f":"IF((OR($F$12=0,$F$12=\"none\")),IF(X189=0,,IF(OR($E$12='Customer Info'!$F$20,$E$12=0),X189,(X189/$E$12)*'Customer Info'!$F$20)),)","v":0},{"$f":"IF((OR($F$13=0,$F$13=\"none\")),IF(Y189=0,,IF(OR($E$13='Customer Info'!$F$21,$E$13=0),Y189,(Y189/$E$13)*'Customer Info'!$F$21)),)","v":0},{"$f":"IF((OR($F$16=0,$F$16=\"none\")),IF(Z189=0,,IF(OR($E$16='Customer Info'!$H$18,$E$16=0),Z189,(Z189/$E$16)*'Customer Info'!$H$18)),)","v":0},{"$f":"IF((OR($F$17=0,$F$17=\"none\")),IF(AA189=0,,IF(OR($E$17='Customer Info'!$H$19,$E$17=0),AA189,(AA189/$E$17)*'Customer Info'!$H$19)),)","v":0},{"$f":"IF((OR($F$18=0,$F$18=\"none\")),IF(AB189=0,,IF(OR($E$18='Customer Info'!$H$20,$E$18=0),AB189,(AB189/$E$18)*'Customer Info'!$H$20)),)","v":0},{"$f":"IF((OR($F$19=0,$F$19=\"none\")),IF(AC189=0,,IF(OR($E$19='Customer Info'!$H$21,$E$19=0),AC189,(AC189/$E$19)*'Customer Info'!$H$21)),)","v":0},{"$f":"IF((OR($F$4=0,$F$4=\"none\")),IF(AD189=0,,IF(OR($E$4='Customer Info'!$D$18,$E$4=0),AD189,(AD189/$E$4)*'Customer Info'!$D$18)),)","v":0},{"$f":"IF((OR($F$5=0,$F$5=\"none\")),IF(AE189=0,,IF(OR($E$5='Customer Info'!$D$19,$E$5=0),AE189,(AE189/$E$5)*'Customer Info'!$D$19)),)","v":0},{"$f":"IF((OR($F$6=0,$F$6=\"none\")),IF(AF189=0,,IF(OR($E$6='Customer Info'!$D$20,$E$6=0),AF189,(AF189/$E$6)*'Customer Info'!$D$20)),)","v":0},{"$f":"IF((OR($F$7=0,$F$7=\"none\")),IF(AG189=0,,IF(OR($E$7='Customer Info'!$D$21,$E$7=0),AG189,(AG189/$E$7)*'Customer Info'!$D$21)),)","v":0},0,0,{"$f":"IF(E189=\"plate waste\",,IF('Customer Info'!$M$18=0,'Log Sheet'!AY189,'Customer Info'!$M$18*'Log Sheet'!AY189))","v":0},{"$f":"IF(E189=\"plate waste\",IF(OR(C189=\"patient\",C189=\"patient beverages\"),IF('Customer Info'!$M$27=0,AY189*'Customer Info'!$M$18,AY189*'Customer Info'!$M$27),IF(C189=\"cafeteria\",IF('Customer Info'!$M$28=0,AY189*'Customer Info'!$M$18,AY189*'Customer Info'!$M$28),IF(C189=\"other1\",IF('Customer Info'!$M$29=0,AY189*'Customer Info'!$M$18,AY189*'Customer Info'!$M$29),))),)","v":0},0,{"$f":"IF($F$4=\"lunch\",IF(S189=0,,(S189/$E$5)*'Customer Info'!$D$18),)","v":0},{"$f":"IF($F$4=\"dinner\",IF(T189=0,,(T189/$E$6)*'Customer Info'!$D$18),)","v":0},{"$f":"IF($F$4=\"other\",IF(U189=0,,(U189/$E$7)*'Customer Info'!$D$18),)","v":0},0,{"$f":"IF($F$5=\"breakfast\",IF(R189=0,,(R189/$E$4)*'Customer Info'!$D$19),)","v":0},{"$f":"IF($F$5=\"dinner\",IF(T189=0,,(T189/$E$6)*'Customer Info'!$D$19),)","v":0},{"$f":"IF($F$5=\"other\",IF(U189=0,,(U189/$E$7)*'Customer Info'!$D$19),)","v":0},0,{"$f":"IF($F$6=\"breakfast\",IF(R189=0,,(R189/$E$4)*'Customer Info'!$D$20),)","v":0},{"$f":"IF($F$6=\"lunch\",IF(S189=0,,(S189/$E$5)*'Customer Info'!$D$20),)","v":0},{"$f":"IF($F$6=\"other\",IF(U189=0,,(U189/$E$7)*'Customer Info'!$D$20),)","v":0},0,{"$f":"IF($F$7=\"breakfast\",IF(R189=0,,(R189/$E$4)*'Customer Info'!$D$21),)","v":0},{"$f":"IF($F$7=\"lunch\",IF(S189=0,,(S189/$E$5)*'Customer Info'!$D$21),)","v":0},{"$f":"IF($F$7=\"dinner\",IF(T189=0,,(T189/$E$6)*'Customer Info'!$D$21),)","v":0},0,{"$f":"IF($F$10=\"lunch\",IF(W189=0,,(W189/$E$11)*'Customer Info'!$F$18),)","v":0},{"$f":"IF($F$10=\"dinner\",IF(X189=0,,(X189/$E$12)*'Customer Info'!$F$18),)","v":0},{"$f":"IF($F$10=\"other\",IF(Y189=0,,(Y189/$E$13)*'Customer Info'!$F$18),)","v":0},0,{"$f":"IF($F$11=\"breakfast\",IF(V189=0,,(V189/$E$10)*'Customer Info'!$F$19),)","v":0},{"$f":"IF($F$11=\"dinner\",IF(X189=0,,(X189/$E$12)*'Customer Info'!$F$19),)","v":0},{"$f":"IF($F$11=\"other\",IF(Y189=0,,(Y189/$E$13)*'Customer Info'!$F$19),)","v":0},0,{"$f":"IF($F$12=\"breakfast\",IF(V189=0,,(V189/$E$10)*'Customer Info'!$F$20),)","v":0},{"$f":"IF($F$12=\"lunch\",IF(W189=0,,(W189/$E$11)*'Customer Info'!$F$20),)","v":0},{"$f":"IF($F$12=\"other\",IF(Y189=0,,(Y189/$E$13)*'Customer Info'!$F$20),)","v":0},0,{"$f":"IF($F$13=\"breakfast\",IF(V189=0,,(V189/$E$10)*'Customer Info'!$F$21),)","v":0},{"$f":"IF($F$13=\"lunch\",IF(W189=0,,(W189/$E$11)*'Customer Info'!$F$21),)","v":0},{"$f":"IF($F$13=\"dinner\",IF(X189=0,,(X189/$E$12)*'Customer Info'!$F$21),)","v":0},0,{"$f":"IF($F$16=\"lunch\",IF(AA189=0,,(AA189/$E$17)*'Customer Info'!$H$18),)","v":0},{"$f":"IF($F$16=\"dinner\",IF(AB189=0,,(AB189/$E$18)*'Customer Info'!$H$18),)","v":0},{"$f":"IF($F$16=\"other\",IF(AC189=0,,(AC189/$E$19)*'Customer Info'!$H$18),)","v":0},0,{"$f":"IF($F$17=\"breakfast\",IF(Z189=0,,(Z189/$E$16)*'Customer Info'!$H$19),)","v":0},{"$f":"IF($F$17=\"dinner\",IF(AB189=0,,(AB189/$E$18)*'Customer Info'!$H$19),)","v":0},{"$f":"IF($F$17=\"other\",IF(AC189=0,,(AC189/$E$19)*'Customer Info'!$H$19),)","v":0},0,{"$f":"IF($F$18=\"breakfast\",IF(Z189=0,,(Z189/$E$16)*'Customer Info'!$H$20),)","v":0},{"$f":"IF($F$18=\"lunch\",IF(AA189=0,,(AA189/$E$17)*'Customer Info'!$H$20),)","v":0},{"$f":"IF($F$18=\"other\",IF(AC189=0,,(AC189/$E$19)*'Customer Info'!$H$20),)","v":0},0,{"$f":"IF($F$19=\"breakfast\",IF(Z189=0,,(Z189/$E$16)*'Customer Info'!$H$21),)","v":0},{"$f":"IF($F$19=\"lunch\",IF(AA189=0,,(AA189/$E$17)*'Customer Info'!$H$21),)","v":0},{"$f":"IF($F$19=\"dinner\",IF(AB189=0,,(AB189/$E$18)*'Customer Info'!$H$21),)","v":0},0,0,0,0,0,""]
[null,null,null,null,null,null,null,null,null,null,0,0,0,0,0,0,0,0,0,0,0,0,0,0,0,0,0,0,0,0,0,0,0,{"$f":"IF((OR($F$4=0,$F$4=\"none\")),IF(R190=0,,IF(OR($E$4='Customer Info'!$D$18,$E$4=0),R190,(R190/$E$4)*'Customer Info'!$D$18)),)","v":0},{"$f":"IF((OR($F$5=0,$F$5=\"none\")),IF(S190=0,,IF(OR($E$5='Customer Info'!$D$18,$E$5=0),S190,(S190/$E$5)*'Customer Info'!$D$19)),)","v":0},{"$f":"IF((OR($F$6=0,$F$6=\"none\")),IF(T190=0,,IF(OR($E$6='Customer Info'!$D$18,$E$6=0),T190,(T190/$E$6)*'Customer Info'!$D$20)),)","v":0},{"$f":"IF((OR($F$7=0,$F$7=\"none\")),IF(U190=0,,IF(OR($E$7='Customer Info'!$D$18,$E$7=0),U190,(U190/$E$7)*'Customer Info'!$D$21)),)","v":0},{"$f":"IF((OR($F$10=0,$F$10=\"none\")),IF(V190=0,,IF(OR($E$10='Customer Info'!$F$18,$E$10=0),V190,(V190/$E$10)*'Customer Info'!$F$18)),)","v":0},{"$f":"IF((OR($F$11=0,$F$11=\"none\")),IF(W190=0,,IF(OR($E$11='Customer Info'!$F$19,$E$11=0),W190,(W190/$E$11)*'Customer Info'!$F$19)),)","v":0},{"$f":"IF((OR($F$12=0,$F$12=\"none\")),IF(X190=0,,IF(OR($E$12='Customer Info'!$F$20,$E$12=0),X190,(X190/$E$12)*'Customer Info'!$F$20)),)","v":0},{"$f":"IF((OR($F$13=0,$F$13=\"none\")),IF(Y190=0,,IF(OR($E$13='Customer Info'!$F$21,$E$13=0),Y190,(Y190/$E$13)*'Customer Info'!$F$21)),)","v":0},{"$f":"IF((OR($F$16=0,$F$16=\"none\")),IF(Z190=0,,IF(OR($E$16='Customer Info'!$H$18,$E$16=0),Z190,(Z190/$E$16)*'Customer Info'!$H$18)),)","v":0},{"$f":"IF((OR($F$17=0,$F$17=\"none\")),IF(AA190=0,,IF(OR($E$17='Customer Info'!$H$19,$E$17=0),AA190,(AA190/$E$17)*'Customer Info'!$H$19)),)","v":0},{"$f":"IF((OR($F$18=0,$F$18=\"none\")),IF(AB190=0,,IF(OR($E$18='Customer Info'!$H$20,$E$18=0),AB190,(AB190/$E$18)*'Customer Info'!$H$20)),)","v":0},{"$f":"IF((OR($F$19=0,$F$19=\"none\")),IF(AC190=0,,IF(OR($E$19='Customer Info'!$H$21,$E$19=0),AC190,(AC190/$E$19)*'Customer Info'!$H$21)),)","v":0},{"$f":"IF((OR($F$4=0,$F$4=\"none\")),IF(AD190=0,,IF(OR($E$4='Customer Info'!$D$18,$E$4=0),AD190,(AD190/$E$4)*'Customer Info'!$D$18)),)","v":0},{"$f":"IF((OR($F$5=0,$F$5=\"none\")),IF(AE190=0,,IF(OR($E$5='Customer Info'!$D$19,$E$5=0),AE190,(AE190/$E$5)*'Customer Info'!$D$19)),)","v":0},{"$f":"IF((OR($F$6=0,$F$6=\"none\")),IF(AF190=0,,IF(OR($E$6='Customer Info'!$D$20,$E$6=0),AF190,(AF190/$E$6)*'Customer Info'!$D$20)),)","v":0},{"$f":"IF((OR($F$7=0,$F$7=\"none\")),IF(AG190=0,,IF(OR($E$7='Customer Info'!$D$21,$E$7=0),AG190,(AG190/$E$7)*'Customer Info'!$D$21)),)","v":0},0,0,{"$f":"IF(E190=\"plate waste\",,IF('Customer Info'!$M$18=0,'Log Sheet'!AY190,'Customer Info'!$M$18*'Log Sheet'!AY190))","v":0},{"$f":"IF(E190=\"plate waste\",IF(OR(C190=\"patient\",C190=\"patient beverages\"),IF('Customer Info'!$M$27=0,AY190*'Customer Info'!$M$18,AY190*'Customer Info'!$M$27),IF(C190=\"cafeteria\",IF('Customer Info'!$M$28=0,AY190*'Customer Info'!$M$18,AY190*'Customer Info'!$M$28),IF(C190=\"other1\",IF('Customer Info'!$M$29=0,AY190*'Customer Info'!$M$18,AY190*'Customer Info'!$M$29),))),)","v":0},0,{"$f":"IF($F$4=\"lunch\",IF(S190=0,,(S190/$E$5)*'Customer Info'!$D$18),)","v":0},{"$f":"IF($F$4=\"dinner\",IF(T190=0,,(T190/$E$6)*'Customer Info'!$D$18),)","v":0},{"$f":"IF($F$4=\"other\",IF(U190=0,,(U190/$E$7)*'Customer Info'!$D$18),)","v":0},0,{"$f":"IF($F$5=\"breakfast\",IF(R190=0,,(R190/$E$4)*'Customer Info'!$D$19),)","v":0},{"$f":"IF($F$5=\"dinner\",IF(T190=0,,(T190/$E$6)*'Customer Info'!$D$19),)","v":0},{"$f":"IF($F$5=\"other\",IF(U190=0,,(U190/$E$7)*'Customer Info'!$D$19),)","v":0},0,{"$f":"IF($F$6=\"breakfast\",IF(R190=0,,(R190/$E$4)*'Customer Info'!$D$20),)","v":0},{"$f":"IF($F$6=\"lunch\",IF(S190=0,,(S190/$E$5)*'Customer Info'!$D$20),)","v":0},{"$f":"IF($F$6=\"other\",IF(U190=0,,(U190/$E$7)*'Customer Info'!$D$20),)","v":0},0,{"$f":"IF($F$7=\"breakfast\",IF(R190=0,,(R190/$E$4)*'Customer Info'!$D$21),)","v":0},{"$f":"IF($F$7=\"lunch\",IF(S190=0,,(S190/$E$5)*'Customer Info'!$D$21),)","v":0},{"$f":"IF($F$7=\"dinner\",IF(T190=0,,(T190/$E$6)*'Customer Info'!$D$21),)","v":0},0,{"$f":"IF($F$10=\"lunch\",IF(W190=0,,(W190/$E$11)*'Customer Info'!$F$18),)","v":0},{"$f":"IF($F$10=\"dinner\",IF(X190=0,,(X190/$E$12)*'Customer Info'!$F$18),)","v":0},{"$f":"IF($F$10=\"other\",IF(Y190=0,,(Y190/$E$13)*'Customer Info'!$F$18),)","v":0},0,{"$f":"IF($F$11=\"breakfast\",IF(V190=0,,(V190/$E$10)*'Customer Info'!$F$19),)","v":0},{"$f":"IF($F$11=\"dinner\",IF(X190=0,,(X190/$E$12)*'Customer Info'!$F$19),)","v":0},{"$f":"IF($F$11=\"other\",IF(Y190=0,,(Y190/$E$13)*'Customer Info'!$F$19),)","v":0},0,{"$f":"IF($F$12=\"breakfast\",IF(V190=0,,(V190/$E$10)*'Customer Info'!$F$20),)","v":0},{"$f":"IF($F$12=\"lunch\",IF(W190=0,,(W190/$E$11)*'Customer Info'!$F$20),)","v":0},{"$f":"IF($F$12=\"other\",IF(Y190=0,,(Y190/$E$13)*'Customer Info'!$F$20),)","v":0},0,{"$f":"IF($F$13=\"breakfast\",IF(V190=0,,(V190/$E$10)*'Customer Info'!$F$21),)","v":0},{"$f":"IF($F$13=\"lunch\",IF(W190=0,,(W190/$E$11)*'Customer Info'!$F$21),)","v":0},{"$f":"IF($F$13=\"dinner\",IF(X190=0,,(X190/$E$12)*'Customer Info'!$F$21),)","v":0},0,{"$f":"IF($F$16=\"lunch\",IF(AA190=0,,(AA190/$E$17)*'Customer Info'!$H$18),)","v":0},{"$f":"IF($F$16=\"dinner\",IF(AB190=0,,(AB190/$E$18)*'Customer Info'!$H$18),)","v":0},{"$f":"IF($F$16=\"other\",IF(AC190=0,,(AC190/$E$19)*'Customer Info'!$H$18),)","v":0},0,{"$f":"IF($F$17=\"breakfast\",IF(Z190=0,,(Z190/$E$16)*'Customer Info'!$H$19),)","v":0},{"$f":"IF($F$17=\"dinner\",IF(AB190=0,,(AB190/$E$18)*'Customer Info'!$H$19),)","v":0},{"$f":"IF($F$17=\"other\",IF(AC190=0,,(AC190/$E$19)*'Customer Info'!$H$19),)","v":0},0,{"$f":"IF($F$18=\"breakfast\",IF(Z190=0,,(Z190/$E$16)*'Customer Info'!$H$20),)","v":0},{"$f":"IF($F$18=\"lunch\",IF(AA190=0,,(AA190/$E$17)*'Customer Info'!$H$20),)","v":0},{"$f":"IF($F$18=\"other\",IF(AC190=0,,(AC190/$E$19)*'Customer Info'!$H$20),)","v":0},0,{"$f":"IF($F$19=\"breakfast\",IF(Z190=0,,(Z190/$E$16)*'Customer Info'!$H$21),)","v":0},{"$f":"IF($F$19=\"lunch\",IF(AA190=0,,(AA190/$E$17)*'Customer Info'!$H$21),)","v":0},{"$f":"IF($F$19=\"dinner\",IF(AB190=0,,(AB190/$E$18)*'Customer Info'!$H$21),)","v":0},0,0,0,0,0,""]
[null,null,null,null,null,null,null,null,null,null,0,0,0,0,0,0,0,0,0,0,0,0,0,0,0,0,0,0,0,0,0,0,0,{"$f":"IF((OR($F$4=0,$F$4=\"none\")),IF(R191=0,,IF(OR($E$4='Customer Info'!$D$18,$E$4=0),R191,(R191/$E$4)*'Customer Info'!$D$18)),)","v":0},{"$f":"IF((OR($F$5=0,$F$5=\"none\")),IF(S191=0,,IF(OR($E$5='Customer Info'!$D$18,$E$5=0),S191,(S191/$E$5)*'Customer Info'!$D$19)),)","v":0},{"$f":"IF((OR($F$6=0,$F$6=\"none\")),IF(T191=0,,IF(OR($E$6='Customer Info'!$D$18,$E$6=0),T191,(T191/$E$6)*'Customer Info'!$D$20)),)","v":0},{"$f":"IF((OR($F$7=0,$F$7=\"none\")),IF(U191=0,,IF(OR($E$7='Customer Info'!$D$18,$E$7=0),U191,(U191/$E$7)*'Customer Info'!$D$21)),)","v":0},{"$f":"IF((OR($F$10=0,$F$10=\"none\")),IF(V191=0,,IF(OR($E$10='Customer Info'!$F$18,$E$10=0),V191,(V191/$E$10)*'Customer Info'!$F$18)),)","v":0},{"$f":"IF((OR($F$11=0,$F$11=\"none\")),IF(W191=0,,IF(OR($E$11='Customer Info'!$F$19,$E$11=0),W191,(W191/$E$11)*'Customer Info'!$F$19)),)","v":0},{"$f":"IF((OR($F$12=0,$F$12=\"none\")),IF(X191=0,,IF(OR($E$12='Customer Info'!$F$20,$E$12=0),X191,(X191/$E$12)*'Customer Info'!$F$20)),)","v":0},{"$f":"IF((OR($F$13=0,$F$13=\"none\")),IF(Y191=0,,IF(OR($E$13='Customer Info'!$F$21,$E$13=0),Y191,(Y191/$E$13)*'Customer Info'!$F$21)),)","v":0},{"$f":"IF((OR($F$16=0,$F$16=\"none\")),IF(Z191=0,,IF(OR($E$16='Customer Info'!$H$18,$E$16=0),Z191,(Z191/$E$16)*'Customer Info'!$H$18)),)","v":0},{"$f":"IF((OR($F$17=0,$F$17=\"none\")),IF(AA191=0,,IF(OR($E$17='Customer Info'!$H$19,$E$17=0),AA191,(AA191/$E$17)*'Customer Info'!$H$19)),)","v":0},{"$f":"IF((OR($F$18=0,$F$18=\"none\")),IF(AB191=0,,IF(OR($E$18='Customer Info'!$H$20,$E$18=0),AB191,(AB191/$E$18)*'Customer Info'!$H$20)),)","v":0},{"$f":"IF((OR($F$19=0,$F$19=\"none\")),IF(AC191=0,,IF(OR($E$19='Customer Info'!$H$21,$E$19=0),AC191,(AC191/$E$19)*'Customer Info'!$H$21)),)","v":0},{"$f":"IF((OR($F$4=0,$F$4=\"none\")),IF(AD191=0,,IF(OR($E$4='Customer Info'!$D$18,$E$4=0),AD191,(AD191/$E$4)*'Customer Info'!$D$18)),)","v":0},{"$f":"IF((OR($F$5=0,$F$5=\"none\")),IF(AE191=0,,IF(OR($E$5='Customer Info'!$D$19,$E$5=0),AE191,(AE191/$E$5)*'Customer Info'!$D$19)),)","v":0},{"$f":"IF((OR($F$6=0,$F$6=\"none\")),IF(AF191=0,,IF(OR($E$6='Customer Info'!$D$20,$E$6=0),AF191,(AF191/$E$6)*'Customer Info'!$D$20)),)","v":0},{"$f":"IF((OR($F$7=0,$F$7=\"none\")),IF(AG191=0,,IF(OR($E$7='Customer Info'!$D$21,$E$7=0),AG191,(AG191/$E$7)*'Customer Info'!$D$21)),)","v":0},0,0,{"$f":"IF(E191=\"plate waste\",,IF('Customer Info'!$M$18=0,'Log Sheet'!AY191,'Customer Info'!$M$18*'Log Sheet'!AY191))","v":0},{"$f":"IF(E191=\"plate waste\",IF(OR(C191=\"patient\",C191=\"patient beverages\"),IF('Customer Info'!$M$27=0,AY191*'Customer Info'!$M$18,AY191*'Customer Info'!$M$27),IF(C191=\"cafeteria\",IF('Customer Info'!$M$28=0,AY191*'Customer Info'!$M$18,AY191*'Customer Info'!$M$28),IF(C191=\"other1\",IF('Customer Info'!$M$29=0,AY191*'Customer Info'!$M$18,AY191*'Customer Info'!$M$29),))),)","v":0},0,{"$f":"IF($F$4=\"lunch\",IF(S191=0,,(S191/$E$5)*'Customer Info'!$D$18),)","v":0},{"$f":"IF($F$4=\"dinner\",IF(T191=0,,(T191/$E$6)*'Customer Info'!$D$18),)","v":0},{"$f":"IF($F$4=\"other\",IF(U191=0,,(U191/$E$7)*'Customer Info'!$D$18),)","v":0},0,{"$f":"IF($F$5=\"breakfast\",IF(R191=0,,(R191/$E$4)*'Customer Info'!$D$19),)","v":0},{"$f":"IF($F$5=\"dinner\",IF(T191=0,,(T191/$E$6)*'Customer Info'!$D$19),)","v":0},{"$f":"IF($F$5=\"other\",IF(U191=0,,(U191/$E$7)*'Customer Info'!$D$19),)","v":0},0,{"$f":"IF($F$6=\"breakfast\",IF(R191=0,,(R191/$E$4)*'Customer Info'!$D$20),)","v":0},{"$f":"IF($F$6=\"lunch\",IF(S191=0,,(S191/$E$5)*'Customer Info'!$D$20),)","v":0},{"$f":"IF($F$6=\"other\",IF(U191=0,,(U191/$E$7)*'Customer Info'!$D$20),)","v":0},0,{"$f":"IF($F$7=\"breakfast\",IF(R191=0,,(R191/$E$4)*'Customer Info'!$D$21),)","v":0},{"$f":"IF($F$7=\"lunch\",IF(S191=0,,(S191/$E$5)*'Customer Info'!$D$21),)","v":0},{"$f":"IF($F$7=\"dinner\",IF(T191=0,,(T191/$E$6)*'Customer Info'!$D$21),)","v":0},0,{"$f":"IF($F$10=\"lunch\",IF(W191=0,,(W191/$E$11)*'Customer Info'!$F$18),)","v":0},{"$f":"IF($F$10=\"dinner\",IF(X191=0,,(X191/$E$12)*'Customer Info'!$F$18),)","v":0},{"$f":"IF($F$10=\"other\",IF(Y191=0,,(Y191/$E$13)*'Customer Info'!$F$18),)","v":0},0,{"$f":"IF($F$11=\"breakfast\",IF(V191=0,,(V191/$E$10)*'Customer Info'!$F$19),)","v":0},{"$f":"IF($F$11=\"dinner\",IF(X191=0,,(X191/$E$12)*'Customer Info'!$F$19),)","v":0},{"$f":"IF($F$11=\"other\",IF(Y191=0,,(Y191/$E$13)*'Customer Info'!$F$19),)","v":0},0,{"$f":"IF($F$12=\"breakfast\",IF(V191=0,,(V191/$E$10)*'Customer Info'!$F$20),)","v":0},{"$f":"IF($F$12=\"lunch\",IF(W191=0,,(W191/$E$11)*'Customer Info'!$F$20),)","v":0},{"$f":"IF($F$12=\"other\",IF(Y191=0,,(Y191/$E$13)*'Customer Info'!$F$20),)","v":0},0,{"$f":"IF($F$13=\"breakfast\",IF(V191=0,,(V191/$E$10)*'Customer Info'!$F$21),)","v":0},{"$f":"IF($F$13=\"lunch\",IF(W191=0,,(W191/$E$11)*'Customer Info'!$F$21),)","v":0},{"$f":"IF($F$13=\"dinner\",IF(X191=0,,(X191/$E$12)*'Customer Info'!$F$21),)","v":0},0,{"$f":"IF($F$16=\"lunch\",IF(AA191=0,,(AA191/$E$17)*'Customer Info'!$H$18),)","v":0},{"$f":"IF($F$16=\"dinner\",IF(AB191=0,,(AB191/$E$18)*'Customer Info'!$H$18),)","v":0},{"$f":"IF($F$16=\"other\",IF(AC191=0,,(AC191/$E$19)*'Customer Info'!$H$18),)","v":0},0,{"$f":"IF($F$17=\"breakfast\",IF(Z191=0,,(Z191/$E$16)*'Customer Info'!$H$19),)","v":0},{"$f":"IF($F$17=\"dinner\",IF(AB191=0,,(AB191/$E$18)*'Customer Info'!$H$19),)","v":0},{"$f":"IF($F$17=\"other\",IF(AC191=0,,(AC191/$E$19)*'Customer Info'!$H$19),)","v":0},0,{"$f":"IF($F$18=\"breakfast\",IF(Z191=0,,(Z191/$E$16)*'Customer Info'!$H$20),)","v":0},{"$f":"IF($F$18=\"lunch\",IF(AA191=0,,(AA191/$E$17)*'Customer Info'!$H$20),)","v":0},{"$f":"IF($F$18=\"other\",IF(AC191=0,,(AC191/$E$19)*'Customer Info'!$H$20),)","v":0},0,{"$f":"IF($F$19=\"breakfast\",IF(Z191=0,,(Z191/$E$16)*'Customer Info'!$H$21),)","v":0},{"$f":"IF($F$19=\"lunch\",IF(AA191=0,,(AA191/$E$17)*'Customer Info'!$H$21),)","v":0},{"$f":"IF($F$19=\"dinner\",IF(AB191=0,,(AB191/$E$18)*'Customer Info'!$H$21),)","v":0},0,0,0,0,0,""]
[null,null,null,null,null,null,null,null,null,null,0,0,0,0,0,0,0,0,0,0,0,0,0,0,0,0,0,0,0,0,0,0,0,{"$f":"IF((OR($F$4=0,$F$4=\"none\")),IF(R192=0,,IF(OR($E$4='Customer Info'!$D$18,$E$4=0),R192,(R192/$E$4)*'Customer Info'!$D$18)),)","v":0},{"$f":"IF((OR($F$5=0,$F$5=\"none\")),IF(S192=0,,IF(OR($E$5='Customer Info'!$D$18,$E$5=0),S192,(S192/$E$5)*'Customer Info'!$D$19)),)","v":0},{"$f":"IF((OR($F$6=0,$F$6=\"none\")),IF(T192=0,,IF(OR($E$6='Customer Info'!$D$18,$E$6=0),T192,(T192/$E$6)*'Customer Info'!$D$20)),)","v":0},{"$f":"IF((OR($F$7=0,$F$7=\"none\")),IF(U192=0,,IF(OR($E$7='Customer Info'!$D$18,$E$7=0),U192,(U192/$E$7)*'Customer Info'!$D$21)),)","v":0},{"$f":"IF((OR($F$10=0,$F$10=\"none\")),IF(V192=0,,IF(OR($E$10='Customer Info'!$F$18,$E$10=0),V192,(V192/$E$10)*'Customer Info'!$F$18)),)","v":0},{"$f":"IF((OR($F$11=0,$F$11=\"none\")),IF(W192=0,,IF(OR($E$11='Customer Info'!$F$19,$E$11=0),W192,(W192/$E$11)*'Customer Info'!$F$19)),)","v":0},{"$f":"IF((OR($F$12=0,$F$12=\"none\")),IF(X192=0,,IF(OR($E$12='Customer Info'!$F$20,$E$12=0),X192,(X192/$E$12)*'Customer Info'!$F$20)),)","v":0},{"$f":"IF((OR($F$13=0,$F$13=\"none\")),IF(Y192=0,,IF(OR($E$13='Customer Info'!$F$21,$E$13=0),Y192,(Y192/$E$13)*'Customer Info'!$F$21)),)","v":0},{"$f":"IF((OR($F$16=0,$F$16=\"none\")),IF(Z192=0,,IF(OR($E$16='Customer Info'!$H$18,$E$16=0),Z192,(Z192/$E$16)*'Customer Info'!$H$18)),)","v":0},{"$f":"IF((OR($F$17=0,$F$17=\"none\")),IF(AA192=0,,IF(OR($E$17='Customer Info'!$H$19,$E$17=0),AA192,(AA192/$E$17)*'Customer Info'!$H$19)),)","v":0},{"$f":"IF((OR($F$18=0,$F$18=\"none\")),IF(AB192=0,,IF(OR($E$18='Customer Info'!$H$20,$E$18=0),AB192,(AB192/$E$18)*'Customer Info'!$H$20)),)","v":0},{"$f":"IF((OR($F$19=0,$F$19=\"none\")),IF(AC192=0,,IF(OR($E$19='Customer Info'!$H$21,$E$19=0),AC192,(AC192/$E$19)*'Customer Info'!$H$21)),)","v":0},{"$f":"IF((OR($F$4=0,$F$4=\"none\")),IF(AD192=0,,IF(OR($E$4='Customer Info'!$D$18,$E$4=0),AD192,(AD192/$E$4)*'Customer Info'!$D$18)),)","v":0},{"$f":"IF((OR($F$5=0,$F$5=\"none\")),IF(AE192=0,,IF(OR($E$5='Customer Info'!$D$19,$E$5=0),AE192,(AE192/$E$5)*'Customer Info'!$D$19)),)","v":0},{"$f":"IF((OR($F$6=0,$F$6=\"none\")),IF(AF192=0,,IF(OR($E$6='Customer Info'!$D$20,$E$6=0),AF192,(AF192/$E$6)*'Customer Info'!$D$20)),)","v":0},{"$f":"IF((OR($F$7=0,$F$7=\"none\")),IF(AG192=0,,IF(OR($E$7='Customer Info'!$D$21,$E$7=0),AG192,(AG192/$E$7)*'Customer Info'!$D$21)),)","v":0},0,0,{"$f":"IF(E192=\"plate waste\",,IF('Customer Info'!$M$18=0,'Log Sheet'!AY192,'Customer Info'!$M$18*'Log Sheet'!AY192))","v":0},{"$f":"IF(E192=\"plate waste\",IF(OR(C192=\"patient\",C192=\"patient beverages\"),IF('Customer Info'!$M$27=0,AY192*'Customer Info'!$M$18,AY192*'Customer Info'!$M$27),IF(C192=\"cafeteria\",IF('Customer Info'!$M$28=0,AY192*'Customer Info'!$M$18,AY192*'Customer Info'!$M$28),IF(C192=\"other1\",IF('Customer Info'!$M$29=0,AY192*'Customer Info'!$M$18,AY192*'Customer Info'!$M$29),))),)","v":0},0,{"$f":"IF($F$4=\"lunch\",IF(S192=0,,(S192/$E$5)*'Customer Info'!$D$18),)","v":0},{"$f":"IF($F$4=\"dinner\",IF(T192=0,,(T192/$E$6)*'Customer Info'!$D$18),)","v":0},{"$f":"IF($F$4=\"other\",IF(U192=0,,(U192/$E$7)*'Customer Info'!$D$18),)","v":0},0,{"$f":"IF($F$5=\"breakfast\",IF(R192=0,,(R192/$E$4)*'Customer Info'!$D$19),)","v":0},{"$f":"IF($F$5=\"dinner\",IF(T192=0,,(T192/$E$6)*'Customer Info'!$D$19),)","v":0},{"$f":"IF($F$5=\"other\",IF(U192=0,,(U192/$E$7)*'Customer Info'!$D$19),)","v":0},0,{"$f":"IF($F$6=\"breakfast\",IF(R192=0,,(R192/$E$4)*'Customer Info'!$D$20),)","v":0},{"$f":"IF($F$6=\"lunch\",IF(S192=0,,(S192/$E$5)*'Customer Info'!$D$20),)","v":0},{"$f":"IF($F$6=\"other\",IF(U192=0,,(U192/$E$7)*'Customer Info'!$D$20),)","v":0},0,{"$f":"IF($F$7=\"breakfast\",IF(R192=0,,(R192/$E$4)*'Customer Info'!$D$21),)","v":0},{"$f":"IF($F$7=\"lunch\",IF(S192=0,,(S192/$E$5)*'Customer Info'!$D$21),)","v":0},{"$f":"IF($F$7=\"dinner\",IF(T192=0,,(T192/$E$6)*'Customer Info'!$D$21),)","v":0},0,{"$f":"IF($F$10=\"lunch\",IF(W192=0,,(W192/$E$11)*'Customer Info'!$F$18),)","v":0},{"$f":"IF($F$10=\"dinner\",IF(X192=0,,(X192/$E$12)*'Customer Info'!$F$18),)","v":0},{"$f":"IF($F$10=\"other\",IF(Y192=0,,(Y192/$E$13)*'Customer Info'!$F$18),)","v":0},0,{"$f":"IF($F$11=\"breakfast\",IF(V192=0,,(V192/$E$10)*'Customer Info'!$F$19),)","v":0},{"$f":"IF($F$11=\"dinner\",IF(X192=0,,(X192/$E$12)*'Customer Info'!$F$19),)","v":0},{"$f":"IF($F$11=\"other\",IF(Y192=0,,(Y192/$E$13)*'Customer Info'!$F$19),)","v":0},0,{"$f":"IF($F$12=\"breakfast\",IF(V192=0,,(V192/$E$10)*'Customer Info'!$F$20),)","v":0},{"$f":"IF($F$12=\"lunch\",IF(W192=0,,(W192/$E$11)*'Customer Info'!$F$20),)","v":0},{"$f":"IF($F$12=\"other\",IF(Y192=0,,(Y192/$E$13)*'Customer Info'!$F$20),)","v":0},0,{"$f":"IF($F$13=\"breakfast\",IF(V192=0,,(V192/$E$10)*'Customer Info'!$F$21),)","v":0},{"$f":"IF($F$13=\"lunch\",IF(W192=0,,(W192/$E$11)*'Customer Info'!$F$21),)","v":0},{"$f":"IF($F$13=\"dinner\",IF(X192=0,,(X192/$E$12)*'Customer Info'!$F$21),)","v":0},0,{"$f":"IF($F$16=\"lunch\",IF(AA192=0,,(AA192/$E$17)*'Customer Info'!$H$18),)","v":0},{"$f":"IF($F$16=\"dinner\",IF(AB192=0,,(AB192/$E$18)*'Customer Info'!$H$18),)","v":0},{"$f":"IF($F$16=\"other\",IF(AC192=0,,(AC192/$E$19)*'Customer Info'!$H$18),)","v":0},0,{"$f":"IF($F$17=\"breakfast\",IF(Z192=0,,(Z192/$E$16)*'Customer Info'!$H$19),)","v":0},{"$f":"IF($F$17=\"dinner\",IF(AB192=0,,(AB192/$E$18)*'Customer Info'!$H$19),)","v":0},{"$f":"IF($F$17=\"other\",IF(AC192=0,,(AC192/$E$19)*'Customer Info'!$H$19),)","v":0},0,{"$f":"IF($F$18=\"breakfast\",IF(Z192=0,,(Z192/$E$16)*'Customer Info'!$H$20),)","v":0},{"$f":"IF($F$18=\"lunch\",IF(AA192=0,,(AA192/$E$17)*'Customer Info'!$H$20),)","v":0},{"$f":"IF($F$18=\"other\",IF(AC192=0,,(AC192/$E$19)*'Customer Info'!$H$20),)","v":0},0,{"$f":"IF($F$19=\"breakfast\",IF(Z192=0,,(Z192/$E$16)*'Customer Info'!$H$21),)","v":0},{"$f":"IF($F$19=\"lunch\",IF(AA192=0,,(AA192/$E$17)*'Customer Info'!$H$21),)","v":0},{"$f":"IF($F$19=\"dinner\",IF(AB192=0,,(AB192/$E$18)*'Customer Info'!$H$21),)","v":0},0,0,0,0,0,""]
[null,null,null,null,null,null,null,null,null,null,0,0,0,0,0,0,0,0,0,0,0,0,0,0,0,0,0,0,0,0,0,0,0,{"$f":"IF((OR($F$4=0,$F$4=\"none\")),IF(R193=0,,IF(OR($E$4='Customer Info'!$D$18,$E$4=0),R193,(R193/$E$4)*'Customer Info'!$D$18)),)","v":0},{"$f":"IF((OR($F$5=0,$F$5=\"none\")),IF(S193=0,,IF(OR($E$5='Customer Info'!$D$18,$E$5=0),S193,(S193/$E$5)*'Customer Info'!$D$19)),)","v":0},{"$f":"IF((OR($F$6=0,$F$6=\"none\")),IF(T193=0,,IF(OR($E$6='Customer Info'!$D$18,$E$6=0),T193,(T193/$E$6)*'Customer Info'!$D$20)),)","v":0},{"$f":"IF((OR($F$7=0,$F$7=\"none\")),IF(U193=0,,IF(OR($E$7='Customer Info'!$D$18,$E$7=0),U193,(U193/$E$7)*'Customer Info'!$D$21)),)","v":0},{"$f":"IF((OR($F$10=0,$F$10=\"none\")),IF(V193=0,,IF(OR($E$10='Customer Info'!$F$18,$E$10=0),V193,(V193/$E$10)*'Customer Info'!$F$18)),)","v":0},{"$f":"IF((OR($F$11=0,$F$11=\"none\")),IF(W193=0,,IF(OR($E$11='Customer Info'!$F$19,$E$11=0),W193,(W193/$E$11)*'Customer Info'!$F$19)),)","v":0},{"$f":"IF((OR($F$12=0,$F$12=\"none\")),IF(X193=0,,IF(OR($E$12='Customer Info'!$F$20,$E$12=0),X193,(X193/$E$12)*'Customer Info'!$F$20)),)","v":0},{"$f":"IF((OR($F$13=0,$F$13=\"none\")),IF(Y193=0,,IF(OR($E$13='Customer Info'!$F$21,$E$13=0),Y193,(Y193/$E$13)*'Customer Info'!$F$21)),)","v":0},{"$f":"IF((OR($F$16=0,$F$16=\"none\")),IF(Z193=0,,IF(OR($E$16='Customer Info'!$H$18,$E$16=0),Z193,(Z193/$E$16)*'Customer Info'!$H$18)),)","v":0},{"$f":"IF((OR($F$17=0,$F$17=\"none\")),IF(AA193=0,,IF(OR($E$17='Customer Info'!$H$19,$E$17=0),AA193,(AA193/$E$17)*'Customer Info'!$H$19)),)","v":0},{"$f":"IF((OR($F$18=0,$F$18=\"none\")),IF(AB193=0,,IF(OR($E$18='Customer Info'!$H$20,$E$18=0),AB193,(AB193/$E$18)*'Customer Info'!$H$20)),)","v":0},{"$f":"IF((OR($F$19=0,$F$19=\"none\")),IF(AC193=0,,IF(OR($E$19='Customer Info'!$H$21,$E$19=0),AC193,(AC193/$E$19)*'Customer Info'!$H$21)),)","v":0},{"$f":"IF((OR($F$4=0,$F$4=\"none\")),IF(AD193=0,,IF(OR($E$4='Customer Info'!$D$18,$E$4=0),AD193,(AD193/$E$4)*'Customer Info'!$D$18)),)","v":0},{"$f":"IF((OR($F$5=0,$F$5=\"none\")),IF(AE193=0,,IF(OR($E$5='Customer Info'!$D$19,$E$5=0),AE193,(AE193/$E$5)*'Customer Info'!$D$19)),)","v":0},{"$f":"IF((OR($F$6=0,$F$6=\"none\")),IF(AF193=0,,IF(OR($E$6='Customer Info'!$D$20,$E$6=0),AF193,(AF193/$E$6)*'Customer Info'!$D$20)),)","v":0},{"$f":"IF((OR($F$7=0,$F$7=\"none\")),IF(AG193=0,,IF(OR($E$7='Customer Info'!$D$21,$E$7=0),AG193,(AG193/$E$7)*'Customer Info'!$D$21)),)","v":0},0,0,{"$f":"IF(E193=\"plate waste\",,IF('Customer Info'!$M$18=0,'Log Sheet'!AY193,'Customer Info'!$M$18*'Log Sheet'!AY193))","v":0},{"$f":"IF(E193=\"plate waste\",IF(OR(C193=\"patient\",C193=\"patient beverages\"),IF('Customer Info'!$M$27=0,AY193*'Customer Info'!$M$18,AY193*'Customer Info'!$M$27),IF(C193=\"cafeteria\",IF('Customer Info'!$M$28=0,AY193*'Customer Info'!$M$18,AY193*'Customer Info'!$M$28),IF(C193=\"other1\",IF('Customer Info'!$M$29=0,AY193*'Customer Info'!$M$18,AY193*'Customer Info'!$M$29),))),)","v":0},0,{"$f":"IF($F$4=\"lunch\",IF(S193=0,,(S193/$E$5)*'Customer Info'!$D$18),)","v":0},{"$f":"IF($F$4=\"dinner\",IF(T193=0,,(T193/$E$6)*'Customer Info'!$D$18),)","v":0},{"$f":"IF($F$4=\"other\",IF(U193=0,,(U193/$E$7)*'Customer Info'!$D$18),)","v":0},0,{"$f":"IF($F$5=\"breakfast\",IF(R193=0,,(R193/$E$4)*'Customer Info'!$D$19),)","v":0},{"$f":"IF($F$5=\"dinner\",IF(T193=0,,(T193/$E$6)*'Customer Info'!$D$19),)","v":0},{"$f":"IF($F$5=\"other\",IF(U193=0,,(U193/$E$7)*'Customer Info'!$D$19),)","v":0},0,{"$f":"IF($F$6=\"breakfast\",IF(R193=0,,(R193/$E$4)*'Customer Info'!$D$20),)","v":0},{"$f":"IF($F$6=\"lunch\",IF(S193=0,,(S193/$E$5)*'Customer Info'!$D$20),)","v":0},{"$f":"IF($F$6=\"other\",IF(U193=0,,(U193/$E$7)*'Customer Info'!$D$20),)","v":0},0,{"$f":"IF($F$7=\"breakfast\",IF(R193=0,,(R193/$E$4)*'Customer Info'!$D$21),)","v":0},{"$f":"IF($F$7=\"lunch\",IF(S193=0,,(S193/$E$5)*'Customer Info'!$D$21),)","v":0},{"$f":"IF($F$7=\"dinner\",IF(T193=0,,(T193/$E$6)*'Customer Info'!$D$21),)","v":0},0,{"$f":"IF($F$10=\"lunch\",IF(W193=0,,(W193/$E$11)*'Customer Info'!$F$18),)","v":0},{"$f":"IF($F$10=\"dinner\",IF(X193=0,,(X193/$E$12)*'Customer Info'!$F$18),)","v":0},{"$f":"IF($F$10=\"other\",IF(Y193=0,,(Y193/$E$13)*'Customer Info'!$F$18),)","v":0},0,{"$f":"IF($F$11=\"breakfast\",IF(V193=0,,(V193/$E$10)*'Customer Info'!$F$19),)","v":0},{"$f":"IF($F$11=\"dinner\",IF(X193=0,,(X193/$E$12)*'Customer Info'!$F$19),)","v":0},{"$f":"IF($F$11=\"other\",IF(Y193=0,,(Y193/$E$13)*'Customer Info'!$F$19),)","v":0},0,{"$f":"IF($F$12=\"breakfast\",IF(V193=0,,(V193/$E$10)*'Customer Info'!$F$20),)","v":0},{"$f":"IF($F$12=\"lunch\",IF(W193=0,,(W193/$E$11)*'Customer Info'!$F$20),)","v":0},{"$f":"IF($F$12=\"other\",IF(Y193=0,,(Y193/$E$13)*'Customer Info'!$F$20),)","v":0},0,{"$f":"IF($F$13=\"breakfast\",IF(V193=0,,(V193/$E$10)*'Customer Info'!$F$21),)","v":0},{"$f":"IF($F$13=\"lunch\",IF(W193=0,,(W193/$E$11)*'Customer Info'!$F$21),)","v":0},{"$f":"IF($F$13=\"dinner\",IF(X193=0,,(X193/$E$12)*'Customer Info'!$F$21),)","v":0},0,{"$f":"IF($F$16=\"lunch\",IF(AA193=0,,(AA193/$E$17)*'Customer Info'!$H$18),)","v":0},{"$f":"IF($F$16=\"dinner\",IF(AB193=0,,(AB193/$E$18)*'Customer Info'!$H$18),)","v":0},{"$f":"IF($F$16=\"other\",IF(AC193=0,,(AC193/$E$19)*'Customer Info'!$H$18),)","v":0},0,{"$f":"IF($F$17=\"breakfast\",IF(Z193=0,,(Z193/$E$16)*'Customer Info'!$H$19),)","v":0},{"$f":"IF($F$17=\"dinner\",IF(AB193=0,,(AB193/$E$18)*'Customer Info'!$H$19),)","v":0},{"$f":"IF($F$17=\"other\",IF(AC193=0,,(AC193/$E$19)*'Customer Info'!$H$19),)","v":0},0,{"$f":"IF($F$18=\"breakfast\",IF(Z193=0,,(Z193/$E$16)*'Customer Info'!$H$20),)","v":0},{"$f":"IF($F$18=\"lunch\",IF(AA193=0,,(AA193/$E$17)*'Customer Info'!$H$20),)","v":0},{"$f":"IF($F$18=\"other\",IF(AC193=0,,(AC193/$E$19)*'Customer Info'!$H$20),)","v":0},0,{"$f":"IF($F$19=\"breakfast\",IF(Z193=0,,(Z193/$E$16)*'Customer Info'!$H$21),)","v":0},{"$f":"IF($F$19=\"lunch\",IF(AA193=0,,(AA193/$E$17)*'Customer Info'!$H$21),)","v":0},{"$f":"IF($F$19=\"dinner\",IF(AB193=0,,(AB193/$E$18)*'Customer Info'!$H$21),)","v":0},0,0,0,0,0,""]
[null,null,null,null,null,null,null,null,null,null,0,0,0,0,0,0,0,0,0,0,0,0,0,0,0,0,0,0,0,0,0,0,0,{"$f":"IF((OR($F$4=0,$F$4=\"none\")),IF(R194=0,,IF(OR($E$4='Customer Info'!$D$18,$E$4=0),R194,(R194/$E$4)*'Customer Info'!$D$18)),)","v":0},{"$f":"IF((OR($F$5=0,$F$5=\"none\")),IF(S194=0,,IF(OR($E$5='Customer Info'!$D$18,$E$5=0),S194,(S194/$E$5)*'Customer Info'!$D$19)),)","v":0},{"$f":"IF((OR($F$6=0,$F$6=\"none\")),IF(T194=0,,IF(OR($E$6='Customer Info'!$D$18,$E$6=0),T194,(T194/$E$6)*'Customer Info'!$D$20)),)","v":0},{"$f":"IF((OR($F$7=0,$F$7=\"none\")),IF(U194=0,,IF(OR($E$7='Customer Info'!$D$18,$E$7=0),U194,(U194/$E$7)*'Customer Info'!$D$21)),)","v":0},{"$f":"IF((OR($F$10=0,$F$10=\"none\")),IF(V194=0,,IF(OR($E$10='Customer Info'!$F$18,$E$10=0),V194,(V194/$E$10)*'Customer Info'!$F$18)),)","v":0},{"$f":"IF((OR($F$11=0,$F$11=\"none\")),IF(W194=0,,IF(OR($E$11='Customer Info'!$F$19,$E$11=0),W194,(W194/$E$11)*'Customer Info'!$F$19)),)","v":0},{"$f":"IF((OR($F$12=0,$F$12=\"none\")),IF(X194=0,,IF(OR($E$12='Customer Info'!$F$20,$E$12=0),X194,(X194/$E$12)*'Customer Info'!$F$20)),)","v":0},{"$f":"IF((OR($F$13=0,$F$13=\"none\")),IF(Y194=0,,IF(OR($E$13='Customer Info'!$F$21,$E$13=0),Y194,(Y194/$E$13)*'Customer Info'!$F$21)),)","v":0},{"$f":"IF((OR($F$16=0,$F$16=\"none\")),IF(Z194=0,,IF(OR($E$16='Customer Info'!$H$18,$E$16=0),Z194,(Z194/$E$16)*'Customer Info'!$H$18)),)","v":0},{"$f":"IF((OR($F$17=0,$F$17=\"none\")),IF(AA194=0,,IF(OR($E$17='Customer Info'!$H$19,$E$17=0),AA194,(AA194/$E$17)*'Customer Info'!$H$19)),)","v":0},{"$f":"IF((OR($F$18=0,$F$18=\"none\")),IF(AB194=0,,IF(OR($E$18='Customer Info'!$H$20,$E$18=0),AB194,(AB194/$E$18)*'Customer Info'!$H$20)),)","v":0},{"$f":"IF((OR($F$19=0,$F$19=\"none\")),IF(AC194=0,,IF(OR($E$19='Customer Info'!$H$21,$E$19=0),AC194,(AC194/$E$19)*'Customer Info'!$H$21)),)","v":0},{"$f":"IF((OR($F$4=0,$F$4=\"none\")),IF(AD194=0,,IF(OR($E$4='Customer Info'!$D$18,$E$4=0),AD194,(AD194/$E$4)*'Customer Info'!$D$18)),)","v":0},{"$f":"IF((OR($F$5=0,$F$5=\"none\")),IF(AE194=0,,IF(OR($E$5='Customer Info'!$D$19,$E$5=0),AE194,(AE194/$E$5)*'Customer Info'!$D$19)),)","v":0},{"$f":"IF((OR($F$6=0,$F$6=\"none\")),IF(AF194=0,,IF(OR($E$6='Customer Info'!$D$20,$E$6=0),AF194,(AF194/$E$6)*'Customer Info'!$D$20)),)","v":0},{"$f":"IF((OR($F$7=0,$F$7=\"none\")),IF(AG194=0,,IF(OR($E$7='Customer Info'!$D$21,$E$7=0),AG194,(AG194/$E$7)*'Customer Info'!$D$21)),)","v":0},0,0,{"$f":"IF(E194=\"plate waste\",,IF('Customer Info'!$M$18=0,'Log Sheet'!AY194,'Customer Info'!$M$18*'Log Sheet'!AY194))","v":0},{"$f":"IF(E194=\"plate waste\",IF(OR(C194=\"patient\",C194=\"patient beverages\"),IF('Customer Info'!$M$27=0,AY194*'Customer Info'!$M$18,AY194*'Customer Info'!$M$27),IF(C194=\"cafeteria\",IF('Customer Info'!$M$28=0,AY194*'Customer Info'!$M$18,AY194*'Customer Info'!$M$28),IF(C194=\"other1\",IF('Customer Info'!$M$29=0,AY194*'Customer Info'!$M$18,AY194*'Customer Info'!$M$29),))),)","v":0},0,{"$f":"IF($F$4=\"lunch\",IF(S194=0,,(S194/$E$5)*'Customer Info'!$D$18),)","v":0},{"$f":"IF($F$4=\"dinner\",IF(T194=0,,(T194/$E$6)*'Customer Info'!$D$18),)","v":0},{"$f":"IF($F$4=\"other\",IF(U194=0,,(U194/$E$7)*'Customer Info'!$D$18),)","v":0},0,{"$f":"IF($F$5=\"breakfast\",IF(R194=0,,(R194/$E$4)*'Customer Info'!$D$19),)","v":0},{"$f":"IF($F$5=\"dinner\",IF(T194=0,,(T194/$E$6)*'Customer Info'!$D$19),)","v":0},{"$f":"IF($F$5=\"other\",IF(U194=0,,(U194/$E$7)*'Customer Info'!$D$19),)","v":0},0,{"$f":"IF($F$6=\"breakfast\",IF(R194=0,,(R194/$E$4)*'Customer Info'!$D$20),)","v":0},{"$f":"IF($F$6=\"lunch\",IF(S194=0,,(S194/$E$5)*'Customer Info'!$D$20),)","v":0},{"$f":"IF($F$6=\"other\",IF(U194=0,,(U194/$E$7)*'Customer Info'!$D$20),)","v":0},0,{"$f":"IF($F$7=\"breakfast\",IF(R194=0,,(R194/$E$4)*'Customer Info'!$D$21),)","v":0},{"$f":"IF($F$7=\"lunch\",IF(S194=0,,(S194/$E$5)*'Customer Info'!$D$21),)","v":0},{"$f":"IF($F$7=\"dinner\",IF(T194=0,,(T194/$E$6)*'Customer Info'!$D$21),)","v":0},0,{"$f":"IF($F$10=\"lunch\",IF(W194=0,,(W194/$E$11)*'Customer Info'!$F$18),)","v":0},{"$f":"IF($F$10=\"dinner\",IF(X194=0,,(X194/$E$12)*'Customer Info'!$F$18),)","v":0},{"$f":"IF($F$10=\"other\",IF(Y194=0,,(Y194/$E$13)*'Customer Info'!$F$18),)","v":0},0,{"$f":"IF($F$11=\"breakfast\",IF(V194=0,,(V194/$E$10)*'Customer Info'!$F$19),)","v":0},{"$f":"IF($F$11=\"dinner\",IF(X194=0,,(X194/$E$12)*'Customer Info'!$F$19),)","v":0},{"$f":"IF($F$11=\"other\",IF(Y194=0,,(Y194/$E$13)*'Customer Info'!$F$19),)","v":0},0,{"$f":"IF($F$12=\"breakfast\",IF(V194=0,,(V194/$E$10)*'Customer Info'!$F$20),)","v":0},{"$f":"IF($F$12=\"lunch\",IF(W194=0,,(W194/$E$11)*'Customer Info'!$F$20),)","v":0},{"$f":"IF($F$12=\"other\",IF(Y194=0,,(Y194/$E$13)*'Customer Info'!$F$20),)","v":0},0,{"$f":"IF($F$13=\"breakfast\",IF(V194=0,,(V194/$E$10)*'Customer Info'!$F$21),)","v":0},{"$f":"IF($F$13=\"lunch\",IF(W194=0,,(W194/$E$11)*'Customer Info'!$F$21),)","v":0},{"$f":"IF($F$13=\"dinner\",IF(X194=0,,(X194/$E$12)*'Customer Info'!$F$21),)","v":0},0,{"$f":"IF($F$16=\"lunch\",IF(AA194=0,,(AA194/$E$17)*'Customer Info'!$H$18),)","v":0},{"$f":"IF($F$16=\"dinner\",IF(AB194=0,,(AB194/$E$18)*'Customer Info'!$H$18),)","v":0},{"$f":"IF($F$16=\"other\",IF(AC194=0,,(AC194/$E$19)*'Customer Info'!$H$18),)","v":0},0,{"$f":"IF($F$17=\"breakfast\",IF(Z194=0,,(Z194/$E$16)*'Customer Info'!$H$19),)","v":0},{"$f":"IF($F$17=\"dinner\",IF(AB194=0,,(AB194/$E$18)*'Customer Info'!$H$19),)","v":0},{"$f":"IF($F$17=\"other\",IF(AC194=0,,(AC194/$E$19)*'Customer Info'!$H$19),)","v":0},0,{"$f":"IF($F$18=\"breakfast\",IF(Z194=0,,(Z194/$E$16)*'Customer Info'!$H$20),)","v":0},{"$f":"IF($F$18=\"lunch\",IF(AA194=0,,(AA194/$E$17)*'Customer Info'!$H$20),)","v":0},{"$f":"IF($F$18=\"other\",IF(AC194=0,,(AC194/$E$19)*'Customer Info'!$H$20),)","v":0},0,{"$f":"IF($F$19=\"breakfast\",IF(Z194=0,,(Z194/$E$16)*'Customer Info'!$H$21),)","v":0},{"$f":"IF($F$19=\"lunch\",IF(AA194=0,,(AA194/$E$17)*'Customer Info'!$H$21),)","v":0},{"$f":"IF($F$19=\"dinner\",IF(AB194=0,,(AB194/$E$18)*'Customer Info'!$H$21),)","v":0},0,0,0,0,0,""]
[null,null,null,null,null,null,null,null,null,null,0,0,0,0,0,0,0,0,0,0,0,0,0,0,0,0,0,0,0,0,0,0,0,{"$f":"IF((OR($F$4=0,$F$4=\"none\")),IF(R195=0,,IF(OR($E$4='Customer Info'!$D$18,$E$4=0),R195,(R195/$E$4)*'Customer Info'!$D$18)),)","v":0},{"$f":"IF((OR($F$5=0,$F$5=\"none\")),IF(S195=0,,IF(OR($E$5='Customer Info'!$D$18,$E$5=0),S195,(S195/$E$5)*'Customer Info'!$D$19)),)","v":0},{"$f":"IF((OR($F$6=0,$F$6=\"none\")),IF(T195=0,,IF(OR($E$6='Customer Info'!$D$18,$E$6=0),T195,(T195/$E$6)*'Customer Info'!$D$20)),)","v":0},{"$f":"IF((OR($F$7=0,$F$7=\"none\")),IF(U195=0,,IF(OR($E$7='Customer Info'!$D$18,$E$7=0),U195,(U195/$E$7)*'Customer Info'!$D$21)),)","v":0},{"$f":"IF((OR($F$10=0,$F$10=\"none\")),IF(V195=0,,IF(OR($E$10='Customer Info'!$F$18,$E$10=0),V195,(V195/$E$10)*'Customer Info'!$F$18)),)","v":0},{"$f":"IF((OR($F$11=0,$F$11=\"none\")),IF(W195=0,,IF(OR($E$11='Customer Info'!$F$19,$E$11=0),W195,(W195/$E$11)*'Customer Info'!$F$19)),)","v":0},{"$f":"IF((OR($F$12=0,$F$12=\"none\")),IF(X195=0,,IF(OR($E$12='Customer Info'!$F$20,$E$12=0),X195,(X195/$E$12)*'Customer Info'!$F$20)),)","v":0},{"$f":"IF((OR($F$13=0,$F$13=\"none\")),IF(Y195=0,,IF(OR($E$13='Customer Info'!$F$21,$E$13=0),Y195,(Y195/$E$13)*'Customer Info'!$F$21)),)","v":0},{"$f":"IF((OR($F$16=0,$F$16=\"none\")),IF(Z195=0,,IF(OR($E$16='Customer Info'!$H$18,$E$16=0),Z195,(Z195/$E$16)*'Customer Info'!$H$18)),)","v":0},{"$f":"IF((OR($F$17=0,$F$17=\"none\")),IF(AA195=0,,IF(OR($E$17='Customer Info'!$H$19,$E$17=0),AA195,(AA195/$E$17)*'Customer Info'!$H$19)),)","v":0},{"$f":"IF((OR($F$18=0,$F$18=\"none\")),IF(AB195=0,,IF(OR($E$18='Customer Info'!$H$20,$E$18=0),AB195,(AB195/$E$18)*'Customer Info'!$H$20)),)","v":0},{"$f":"IF((OR($F$19=0,$F$19=\"none\")),IF(AC195=0,,IF(OR($E$19='Customer Info'!$H$21,$E$19=0),AC195,(AC195/$E$19)*'Customer Info'!$H$21)),)","v":0},{"$f":"IF((OR($F$4=0,$F$4=\"none\")),IF(AD195=0,,IF(OR($E$4='Customer Info'!$D$18,$E$4=0),AD195,(AD195/$E$4)*'Customer Info'!$D$18)),)","v":0},{"$f":"IF((OR($F$5=0,$F$5=\"none\")),IF(AE195=0,,IF(OR($E$5='Customer Info'!$D$19,$E$5=0),AE195,(AE195/$E$5)*'Customer Info'!$D$19)),)","v":0},{"$f":"IF((OR($F$6=0,$F$6=\"none\")),IF(AF195=0,,IF(OR($E$6='Customer Info'!$D$20,$E$6=0),AF195,(AF195/$E$6)*'Customer Info'!$D$20)),)","v":0},{"$f":"IF((OR($F$7=0,$F$7=\"none\")),IF(AG195=0,,IF(OR($E$7='Customer Info'!$D$21,$E$7=0),AG195,(AG195/$E$7)*'Customer Info'!$D$21)),)","v":0},0,0,{"$f":"IF(E195=\"plate waste\",,IF('Customer Info'!$M$18=0,'Log Sheet'!AY195,'Customer Info'!$M$18*'Log Sheet'!AY195))","v":0},{"$f":"IF(E195=\"plate waste\",IF(OR(C195=\"patient\",C195=\"patient beverages\"),IF('Customer Info'!$M$27=0,AY195*'Customer Info'!$M$18,AY195*'Customer Info'!$M$27),IF(C195=\"cafeteria\",IF('Customer Info'!$M$28=0,AY195*'Customer Info'!$M$18,AY195*'Customer Info'!$M$28),IF(C195=\"other1\",IF('Customer Info'!$M$29=0,AY195*'Customer Info'!$M$18,AY195*'Customer Info'!$M$29),))),)","v":0},0,{"$f":"IF($F$4=\"lunch\",IF(S195=0,,(S195/$E$5)*'Customer Info'!$D$18),)","v":0},{"$f":"IF($F$4=\"dinner\",IF(T195=0,,(T195/$E$6)*'Customer Info'!$D$18),)","v":0},{"$f":"IF($F$4=\"other\",IF(U195=0,,(U195/$E$7)*'Customer Info'!$D$18),)","v":0},0,{"$f":"IF($F$5=\"breakfast\",IF(R195=0,,(R195/$E$4)*'Customer Info'!$D$19),)","v":0},{"$f":"IF($F$5=\"dinner\",IF(T195=0,,(T195/$E$6)*'Customer Info'!$D$19),)","v":0},{"$f":"IF($F$5=\"other\",IF(U195=0,,(U195/$E$7)*'Customer Info'!$D$19),)","v":0},0,{"$f":"IF($F$6=\"breakfast\",IF(R195=0,,(R195/$E$4)*'Customer Info'!$D$20),)","v":0},{"$f":"IF($F$6=\"lunch\",IF(S195=0,,(S195/$E$5)*'Customer Info'!$D$20),)","v":0},{"$f":"IF($F$6=\"other\",IF(U195=0,,(U195/$E$7)*'Customer Info'!$D$20),)","v":0},0,{"$f":"IF($F$7=\"breakfast\",IF(R195=0,,(R195/$E$4)*'Customer Info'!$D$21),)","v":0},{"$f":"IF($F$7=\"lunch\",IF(S195=0,,(S195/$E$5)*'Customer Info'!$D$21),)","v":0},{"$f":"IF($F$7=\"dinner\",IF(T195=0,,(T195/$E$6)*'Customer Info'!$D$21),)","v":0},0,{"$f":"IF($F$10=\"lunch\",IF(W195=0,,(W195/$E$11)*'Customer Info'!$F$18),)","v":0},{"$f":"IF($F$10=\"dinner\",IF(X195=0,,(X195/$E$12)*'Customer Info'!$F$18),)","v":0},{"$f":"IF($F$10=\"other\",IF(Y195=0,,(Y195/$E$13)*'Customer Info'!$F$18),)","v":0},0,{"$f":"IF($F$11=\"breakfast\",IF(V195=0,,(V195/$E$10)*'Customer Info'!$F$19),)","v":0},{"$f":"IF($F$11=\"dinner\",IF(X195=0,,(X195/$E$12)*'Customer Info'!$F$19),)","v":0},{"$f":"IF($F$11=\"other\",IF(Y195=0,,(Y195/$E$13)*'Customer Info'!$F$19),)","v":0},0,{"$f":"IF($F$12=\"breakfast\",IF(V195=0,,(V195/$E$10)*'Customer Info'!$F$20),)","v":0},{"$f":"IF($F$12=\"lunch\",IF(W195=0,,(W195/$E$11)*'Customer Info'!$F$20),)","v":0},{"$f":"IF($F$12=\"other\",IF(Y195=0,,(Y195/$E$13)*'Customer Info'!$F$20),)","v":0},0,{"$f":"IF($F$13=\"breakfast\",IF(V195=0,,(V195/$E$10)*'Customer Info'!$F$21),)","v":0},{"$f":"IF($F$13=\"lunch\",IF(W195=0,,(W195/$E$11)*'Customer Info'!$F$21),)","v":0},{"$f":"IF($F$13=\"dinner\",IF(X195=0,,(X195/$E$12)*'Customer Info'!$F$21),)","v":0},0,{"$f":"IF($F$16=\"lunch\",IF(AA195=0,,(AA195/$E$17)*'Customer Info'!$H$18),)","v":0},{"$f":"IF($F$16=\"dinner\",IF(AB195=0,,(AB195/$E$18)*'Customer Info'!$H$18),)","v":0},{"$f":"IF($F$16=\"other\",IF(AC195=0,,(AC195/$E$19)*'Customer Info'!$H$18),)","v":0},0,{"$f":"IF($F$17=\"breakfast\",IF(Z195=0,,(Z195/$E$16)*'Customer Info'!$H$19),)","v":0},{"$f":"IF($F$17=\"dinner\",IF(AB195=0,,(AB195/$E$18)*'Customer Info'!$H$19),)","v":0},{"$f":"IF($F$17=\"other\",IF(AC195=0,,(AC195/$E$19)*'Customer Info'!$H$19),)","v":0},0,{"$f":"IF($F$18=\"breakfast\",IF(Z195=0,,(Z195/$E$16)*'Customer Info'!$H$20),)","v":0},{"$f":"IF($F$18=\"lunch\",IF(AA195=0,,(AA195/$E$17)*'Customer Info'!$H$20),)","v":0},{"$f":"IF($F$18=\"other\",IF(AC195=0,,(AC195/$E$19)*'Customer Info'!$H$20),)","v":0},0,{"$f":"IF($F$19=\"breakfast\",IF(Z195=0,,(Z195/$E$16)*'Customer Info'!$H$21),)","v":0},{"$f":"IF($F$19=\"lunch\",IF(AA195=0,,(AA195/$E$17)*'Customer Info'!$H$21),)","v":0},{"$f":"IF($F$19=\"dinner\",IF(AB195=0,,(AB195/$E$18)*'Customer Info'!$H$21),)","v":0},0,0,0,0,0,""]
[null,null,null,null,null,null,null,null,null,null,0,0,0,0,0,0,0,0,0,0,0,0,0,0,0,0,0,0,0,0,0,0,0,{"$f":"IF((OR($F$4=0,$F$4=\"none\")),IF(R196=0,,IF(OR($E$4='Customer Info'!$D$18,$E$4=0),R196,(R196/$E$4)*'Customer Info'!$D$18)),)","v":0},{"$f":"IF((OR($F$5=0,$F$5=\"none\")),IF(S196=0,,IF(OR($E$5='Customer Info'!$D$18,$E$5=0),S196,(S196/$E$5)*'Customer Info'!$D$19)),)","v":0},{"$f":"IF((OR($F$6=0,$F$6=\"none\")),IF(T196=0,,IF(OR($E$6='Customer Info'!$D$18,$E$6=0),T196,(T196/$E$6)*'Customer Info'!$D$20)),)","v":0},{"$f":"IF((OR($F$7=0,$F$7=\"none\")),IF(U196=0,,IF(OR($E$7='Customer Info'!$D$18,$E$7=0),U196,(U196/$E$7)*'Customer Info'!$D$21)),)","v":0},{"$f":"IF((OR($F$10=0,$F$10=\"none\")),IF(V196=0,,IF(OR($E$10='Customer Info'!$F$18,$E$10=0),V196,(V196/$E$10)*'Customer Info'!$F$18)),)","v":0},{"$f":"IF((OR($F$11=0,$F$11=\"none\")),IF(W196=0,,IF(OR($E$11='Customer Info'!$F$19,$E$11=0),W196,(W196/$E$11)*'Customer Info'!$F$19)),)","v":0},{"$f":"IF((OR($F$12=0,$F$12=\"none\")),IF(X196=0,,IF(OR($E$12='Customer Info'!$F$20,$E$12=0),X196,(X196/$E$12)*'Customer Info'!$F$20)),)","v":0},{"$f":"IF((OR($F$13=0,$F$13=\"none\")),IF(Y196=0,,IF(OR($E$13='Customer Info'!$F$21,$E$13=0),Y196,(Y196/$E$13)*'Customer Info'!$F$21)),)","v":0},{"$f":"IF((OR($F$16=0,$F$16=\"none\")),IF(Z196=0,,IF(OR($E$16='Customer Info'!$H$18,$E$16=0),Z196,(Z196/$E$16)*'Customer Info'!$H$18)),)","v":0},{"$f":"IF((OR($F$17=0,$F$17=\"none\")),IF(AA196=0,,IF(OR($E$17='Customer Info'!$H$19,$E$17=0),AA196,(AA196/$E$17)*'Customer Info'!$H$19)),)","v":0},{"$f":"IF((OR($F$18=0,$F$18=\"none\")),IF(AB196=0,,IF(OR($E$18='Customer Info'!$H$20,$E$18=0),AB196,(AB196/$E$18)*'Customer Info'!$H$20)),)","v":0},{"$f":"IF((OR($F$19=0,$F$19=\"none\")),IF(AC196=0,,IF(OR($E$19='Customer Info'!$H$21,$E$19=0),AC196,(AC196/$E$19)*'Customer Info'!$H$21)),)","v":0},{"$f":"IF((OR($F$4=0,$F$4=\"none\")),IF(AD196=0,,IF(OR($E$4='Customer Info'!$D$18,$E$4=0),AD196,(AD196/$E$4)*'Customer Info'!$D$18)),)","v":0},{"$f":"IF((OR($F$5=0,$F$5=\"none\")),IF(AE196=0,,IF(OR($E$5='Customer Info'!$D$19,$E$5=0),AE196,(AE196/$E$5)*'Customer Info'!$D$19)),)","v":0},{"$f":"IF((OR($F$6=0,$F$6=\"none\")),IF(AF196=0,,IF(OR($E$6='Customer Info'!$D$20,$E$6=0),AF196,(AF196/$E$6)*'Customer Info'!$D$20)),)","v":0},{"$f":"IF((OR($F$7=0,$F$7=\"none\")),IF(AG196=0,,IF(OR($E$7='Customer Info'!$D$21,$E$7=0),AG196,(AG196/$E$7)*'Customer Info'!$D$21)),)","v":0},0,0,{"$f":"IF(E196=\"plate waste\",,IF('Customer Info'!$M$18=0,'Log Sheet'!AY196,'Customer Info'!$M$18*'Log Sheet'!AY196))","v":0},{"$f":"IF(E196=\"plate waste\",IF(OR(C196=\"patient\",C196=\"patient beverages\"),IF('Customer Info'!$M$27=0,AY196*'Customer Info'!$M$18,AY196*'Customer Info'!$M$27),IF(C196=\"cafeteria\",IF('Customer Info'!$M$28=0,AY196*'Customer Info'!$M$18,AY196*'Customer Info'!$M$28),IF(C196=\"other1\",IF('Customer Info'!$M$29=0,AY196*'Customer Info'!$M$18,AY196*'Customer Info'!$M$29),))),)","v":0},0,{"$f":"IF($F$4=\"lunch\",IF(S196=0,,(S196/$E$5)*'Customer Info'!$D$18),)","v":0},{"$f":"IF($F$4=\"dinner\",IF(T196=0,,(T196/$E$6)*'Customer Info'!$D$18),)","v":0},{"$f":"IF($F$4=\"other\",IF(U196=0,,(U196/$E$7)*'Customer Info'!$D$18),)","v":0},0,{"$f":"IF($F$5=\"breakfast\",IF(R196=0,,(R196/$E$4)*'Customer Info'!$D$19),)","v":0},{"$f":"IF($F$5=\"dinner\",IF(T196=0,,(T196/$E$6)*'Customer Info'!$D$19),)","v":0},{"$f":"IF($F$5=\"other\",IF(U196=0,,(U196/$E$7)*'Customer Info'!$D$19),)","v":0},0,{"$f":"IF($F$6=\"breakfast\",IF(R196=0,,(R196/$E$4)*'Customer Info'!$D$20),)","v":0},{"$f":"IF($F$6=\"lunch\",IF(S196=0,,(S196/$E$5)*'Customer Info'!$D$20),)","v":0},{"$f":"IF($F$6=\"other\",IF(U196=0,,(U196/$E$7)*'Customer Info'!$D$20),)","v":0},0,{"$f":"IF($F$7=\"breakfast\",IF(R196=0,,(R196/$E$4)*'Customer Info'!$D$21),)","v":0},{"$f":"IF($F$7=\"lunch\",IF(S196=0,,(S196/$E$5)*'Customer Info'!$D$21),)","v":0},{"$f":"IF($F$7=\"dinner\",IF(T196=0,,(T196/$E$6)*'Customer Info'!$D$21),)","v":0},0,{"$f":"IF($F$10=\"lunch\",IF(W196=0,,(W196/$E$11)*'Customer Info'!$F$18),)","v":0},{"$f":"IF($F$10=\"dinner\",IF(X196=0,,(X196/$E$12)*'Customer Info'!$F$18),)","v":0},{"$f":"IF($F$10=\"other\",IF(Y196=0,,(Y196/$E$13)*'Customer Info'!$F$18),)","v":0},0,{"$f":"IF($F$11=\"breakfast\",IF(V196=0,,(V196/$E$10)*'Customer Info'!$F$19),)","v":0},{"$f":"IF($F$11=\"dinner\",IF(X196=0,,(X196/$E$12)*'Customer Info'!$F$19),)","v":0},{"$f":"IF($F$11=\"other\",IF(Y196=0,,(Y196/$E$13)*'Customer Info'!$F$19),)","v":0},0,{"$f":"IF($F$12=\"breakfast\",IF(V196=0,,(V196/$E$10)*'Customer Info'!$F$20),)","v":0},{"$f":"IF($F$12=\"lunch\",IF(W196=0,,(W196/$E$11)*'Customer Info'!$F$20),)","v":0},{"$f":"IF($F$12=\"other\",IF(Y196=0,,(Y196/$E$13)*'Customer Info'!$F$20),)","v":0},0,{"$f":"IF($F$13=\"breakfast\",IF(V196=0,,(V196/$E$10)*'Customer Info'!$F$21),)","v":0},{"$f":"IF($F$13=\"lunch\",IF(W196=0,,(W196/$E$11)*'Customer Info'!$F$21),)","v":0},{"$f":"IF($F$13=\"dinner\",IF(X196=0,,(X196/$E$12)*'Customer Info'!$F$21),)","v":0},0,{"$f":"IF($F$16=\"lunch\",IF(AA196=0,,(AA196/$E$17)*'Customer Info'!$H$18),)","v":0},{"$f":"IF($F$16=\"dinner\",IF(AB196=0,,(AB196/$E$18)*'Customer Info'!$H$18),)","v":0},{"$f":"IF($F$16=\"other\",IF(AC196=0,,(AC196/$E$19)*'Customer Info'!$H$18),)","v":0},0,{"$f":"IF($F$17=\"breakfast\",IF(Z196=0,,(Z196/$E$16)*'Customer Info'!$H$19),)","v":0},{"$f":"IF($F$17=\"dinner\",IF(AB196=0,,(AB196/$E$18)*'Customer Info'!$H$19),)","v":0},{"$f":"IF($F$17=\"other\",IF(AC196=0,,(AC196/$E$19)*'Customer Info'!$H$19),)","v":0},0,{"$f":"IF($F$18=\"breakfast\",IF(Z196=0,,(Z196/$E$16)*'Customer Info'!$H$20),)","v":0},{"$f":"IF($F$18=\"lunch\",IF(AA196=0,,(AA196/$E$17)*'Customer Info'!$H$20),)","v":0},{"$f":"IF($F$18=\"other\",IF(AC196=0,,(AC196/$E$19)*'Customer Info'!$H$20),)","v":0},0,{"$f":"IF($F$19=\"breakfast\",IF(Z196=0,,(Z196/$E$16)*'Customer Info'!$H$21),)","v":0},{"$f":"IF($F$19=\"lunch\",IF(AA196=0,,(AA196/$E$17)*'Customer Info'!$H$21),)","v":0},{"$f":"IF($F$19=\"dinner\",IF(AB196=0,,(AB196/$E$18)*'Customer Info'!$H$21),)","v":0},0,0,0,0,0,""]
[null,null,null,null,null,null,null,null,null,null,0,0,0,0,0,0,0,0,0,0,0,0,0,0,0,0,0,0,0,0,0,0,0,{"$f":"IF((OR($F$4=0,$F$4=\"none\")),IF(R197=0,,IF(OR($E$4='Customer Info'!$D$18,$E$4=0),R197,(R197/$E$4)*'Customer Info'!$D$18)),)","v":0},{"$f":"IF((OR($F$5=0,$F$5=\"none\")),IF(S197=0,,IF(OR($E$5='Customer Info'!$D$18,$E$5=0),S197,(S197/$E$5)*'Customer Info'!$D$19)),)","v":0},{"$f":"IF((OR($F$6=0,$F$6=\"none\")),IF(T197=0,,IF(OR($E$6='Customer Info'!$D$18,$E$6=0),T197,(T197/$E$6)*'Customer Info'!$D$20)),)","v":0},{"$f":"IF((OR($F$7=0,$F$7=\"none\")),IF(U197=0,,IF(OR($E$7='Customer Info'!$D$18,$E$7=0),U197,(U197/$E$7)*'Customer Info'!$D$21)),)","v":0},{"$f":"IF((OR($F$10=0,$F$10=\"none\")),IF(V197=0,,IF(OR($E$10='Customer Info'!$F$18,$E$10=0),V197,(V197/$E$10)*'Customer Info'!$F$18)),)","v":0},{"$f":"IF((OR($F$11=0,$F$11=\"none\")),IF(W197=0,,IF(OR($E$11='Customer Info'!$F$19,$E$11=0),W197,(W197/$E$11)*'Customer Info'!$F$19)),)","v":0},{"$f":"IF((OR($F$12=0,$F$12=\"none\")),IF(X197=0,,IF(OR($E$12='Customer Info'!$F$20,$E$12=0),X197,(X197/$E$12)*'Customer Info'!$F$20)),)","v":0},{"$f":"IF((OR($F$13=0,$F$13=\"none\")),IF(Y197=0,,IF(OR($E$13='Customer Info'!$F$21,$E$13=0),Y197,(Y197/$E$13)*'Customer Info'!$F$21)),)","v":0},{"$f":"IF((OR($F$16=0,$F$16=\"none\")),IF(Z197=0,,IF(OR($E$16='Customer Info'!$H$18,$E$16=0),Z197,(Z197/$E$16)*'Customer Info'!$H$18)),)","v":0},{"$f":"IF((OR($F$17=0,$F$17=\"none\")),IF(AA197=0,,IF(OR($E$17='Customer Info'!$H$19,$E$17=0),AA197,(AA197/$E$17)*'Customer Info'!$H$19)),)","v":0},{"$f":"IF((OR($F$18=0,$F$18=\"none\")),IF(AB197=0,,IF(OR($E$18='Customer Info'!$H$20,$E$18=0),AB197,(AB197/$E$18)*'Customer Info'!$H$20)),)","v":0},{"$f":"IF((OR($F$19=0,$F$19=\"none\")),IF(AC197=0,,IF(OR($E$19='Customer Info'!$H$21,$E$19=0),AC197,(AC197/$E$19)*'Customer Info'!$H$21)),)","v":0},{"$f":"IF((OR($F$4=0,$F$4=\"none\")),IF(AD197=0,,IF(OR($E$4='Customer Info'!$D$18,$E$4=0),AD197,(AD197/$E$4)*'Customer Info'!$D$18)),)","v":0},{"$f":"IF((OR($F$5=0,$F$5=\"none\")),IF(AE197=0,,IF(OR($E$5='Customer Info'!$D$19,$E$5=0),AE197,(AE197/$E$5)*'Customer Info'!$D$19)),)","v":0},{"$f":"IF((OR($F$6=0,$F$6=\"none\")),IF(AF197=0,,IF(OR($E$6='Customer Info'!$D$20,$E$6=0),AF197,(AF197/$E$6)*'Customer Info'!$D$20)),)","v":0},{"$f":"IF((OR($F$7=0,$F$7=\"none\")),IF(AG197=0,,IF(OR($E$7='Customer Info'!$D$21,$E$7=0),AG197,(AG197/$E$7)*'Customer Info'!$D$21)),)","v":0},0,0,{"$f":"IF(E197=\"plate waste\",,IF('Customer Info'!$M$18=0,'Log Sheet'!AY197,'Customer Info'!$M$18*'Log Sheet'!AY197))","v":0},{"$f":"IF(E197=\"plate waste\",IF(OR(C197=\"patient\",C197=\"patient beverages\"),IF('Customer Info'!$M$27=0,AY197*'Customer Info'!$M$18,AY197*'Customer Info'!$M$27),IF(C197=\"cafeteria\",IF('Customer Info'!$M$28=0,AY197*'Customer Info'!$M$18,AY197*'Customer Info'!$M$28),IF(C197=\"other1\",IF('Customer Info'!$M$29=0,AY197*'Customer Info'!$M$18,AY197*'Customer Info'!$M$29),))),)","v":0},0,{"$f":"IF($F$4=\"lunch\",IF(S197=0,,(S197/$E$5)*'Customer Info'!$D$18),)","v":0},{"$f":"IF($F$4=\"dinner\",IF(T197=0,,(T197/$E$6)*'Customer Info'!$D$18),)","v":0},{"$f":"IF($F$4=\"other\",IF(U197=0,,(U197/$E$7)*'Customer Info'!$D$18),)","v":0},0,{"$f":"IF($F$5=\"breakfast\",IF(R197=0,,(R197/$E$4)*'Customer Info'!$D$19),)","v":0},{"$f":"IF($F$5=\"dinner\",IF(T197=0,,(T197/$E$6)*'Customer Info'!$D$19),)","v":0},{"$f":"IF($F$5=\"other\",IF(U197=0,,(U197/$E$7)*'Customer Info'!$D$19),)","v":0},0,{"$f":"IF($F$6=\"breakfast\",IF(R197=0,,(R197/$E$4)*'Customer Info'!$D$20),)","v":0},{"$f":"IF($F$6=\"lunch\",IF(S197=0,,(S197/$E$5)*'Customer Info'!$D$20),)","v":0},{"$f":"IF($F$6=\"other\",IF(U197=0,,(U197/$E$7)*'Customer Info'!$D$20),)","v":0},0,{"$f":"IF($F$7=\"breakfast\",IF(R197=0,,(R197/$E$4)*'Customer Info'!$D$21),)","v":0},{"$f":"IF($F$7=\"lunch\",IF(S197=0,,(S197/$E$5)*'Customer Info'!$D$21),)","v":0},{"$f":"IF($F$7=\"dinner\",IF(T197=0,,(T197/$E$6)*'Customer Info'!$D$21),)","v":0},0,{"$f":"IF($F$10=\"lunch\",IF(W197=0,,(W197/$E$11)*'Customer Info'!$F$18),)","v":0},{"$f":"IF($F$10=\"dinner\",IF(X197=0,,(X197/$E$12)*'Customer Info'!$F$18),)","v":0},{"$f":"IF($F$10=\"other\",IF(Y197=0,,(Y197/$E$13)*'Customer Info'!$F$18),)","v":0},0,{"$f":"IF($F$11=\"breakfast\",IF(V197=0,,(V197/$E$10)*'Customer Info'!$F$19),)","v":0},{"$f":"IF($F$11=\"dinner\",IF(X197=0,,(X197/$E$12)*'Customer Info'!$F$19),)","v":0},{"$f":"IF($F$11=\"other\",IF(Y197=0,,(Y197/$E$13)*'Customer Info'!$F$19),)","v":0},0,{"$f":"IF($F$12=\"breakfast\",IF(V197=0,,(V197/$E$10)*'Customer Info'!$F$20),)","v":0},{"$f":"IF($F$12=\"lunch\",IF(W197=0,,(W197/$E$11)*'Customer Info'!$F$20),)","v":0},{"$f":"IF($F$12=\"other\",IF(Y197=0,,(Y197/$E$13)*'Customer Info'!$F$20),)","v":0},0,{"$f":"IF($F$13=\"breakfast\",IF(V197=0,,(V197/$E$10)*'Customer Info'!$F$21),)","v":0},{"$f":"IF($F$13=\"lunch\",IF(W197=0,,(W197/$E$11)*'Customer Info'!$F$21),)","v":0},{"$f":"IF($F$13=\"dinner\",IF(X197=0,,(X197/$E$12)*'Customer Info'!$F$21),)","v":0},0,{"$f":"IF($F$16=\"lunch\",IF(AA197=0,,(AA197/$E$17)*'Customer Info'!$H$18),)","v":0},{"$f":"IF($F$16=\"dinner\",IF(AB197=0,,(AB197/$E$18)*'Customer Info'!$H$18),)","v":0},{"$f":"IF($F$16=\"other\",IF(AC197=0,,(AC197/$E$19)*'Customer Info'!$H$18),)","v":0},0,{"$f":"IF($F$17=\"breakfast\",IF(Z197=0,,(Z197/$E$16)*'Customer Info'!$H$19),)","v":0},{"$f":"IF($F$17=\"dinner\",IF(AB197=0,,(AB197/$E$18)*'Customer Info'!$H$19),)","v":0},{"$f":"IF($F$17=\"other\",IF(AC197=0,,(AC197/$E$19)*'Customer Info'!$H$19),)","v":0},0,{"$f":"IF($F$18=\"breakfast\",IF(Z197=0,,(Z197/$E$16)*'Customer Info'!$H$20),)","v":0},{"$f":"IF($F$18=\"lunch\",IF(AA197=0,,(AA197/$E$17)*'Customer Info'!$H$20),)","v":0},{"$f":"IF($F$18=\"other\",IF(AC197=0,,(AC197/$E$19)*'Customer Info'!$H$20),)","v":0},0,{"$f":"IF($F$19=\"breakfast\",IF(Z197=0,,(Z197/$E$16)*'Customer Info'!$H$21),)","v":0},{"$f":"IF($F$19=\"lunch\",IF(AA197=0,,(AA197/$E$17)*'Customer Info'!$H$21),)","v":0},{"$f":"IF($F$19=\"dinner\",IF(AB197=0,,(AB197/$E$18)*'Customer Info'!$H$21),)","v":0},0,0,0,0,0,""]
[null,null,null,null,null,null,null,null,null,null,0,0,0,0,0,0,0,0,0,0,0,0,0,0,0,0,0,0,0,0,0,0,0,{"$f":"IF((OR($F$4=0,$F$4=\"none\")),IF(R198=0,,IF(OR($E$4='Customer Info'!$D$18,$E$4=0),R198,(R198/$E$4)*'Customer Info'!$D$18)),)","v":0},{"$f":"IF((OR($F$5=0,$F$5=\"none\")),IF(S198=0,,IF(OR($E$5='Customer Info'!$D$18,$E$5=0),S198,(S198/$E$5)*'Customer Info'!$D$19)),)","v":0},{"$f":"IF((OR($F$6=0,$F$6=\"none\")),IF(T198=0,,IF(OR($E$6='Customer Info'!$D$18,$E$6=0),T198,(T198/$E$6)*'Customer Info'!$D$20)),)","v":0},{"$f":"IF((OR($F$7=0,$F$7=\"none\")),IF(U198=0,,IF(OR($E$7='Customer Info'!$D$18,$E$7=0),U198,(U198/$E$7)*'Customer Info'!$D$21)),)","v":0},{"$f":"IF((OR($F$10=0,$F$10=\"none\")),IF(V198=0,,IF(OR($E$10='Customer Info'!$F$18,$E$10=0),V198,(V198/$E$10)*'Customer Info'!$F$18)),)","v":0},{"$f":"IF((OR($F$11=0,$F$11=\"none\")),IF(W198=0,,IF(OR($E$11='Customer Info'!$F$19,$E$11=0),W198,(W198/$E$11)*'Customer Info'!$F$19)),)","v":0},{"$f":"IF((OR($F$12=0,$F$12=\"none\")),IF(X198=0,,IF(OR($E$12='Customer Info'!$F$20,$E$12=0),X198,(X198/$E$12)*'Customer Info'!$F$20)),)","v":0},{"$f":"IF((OR($F$13=0,$F$13=\"none\")),IF(Y198=0,,IF(OR($E$13='Customer Info'!$F$21,$E$13=0),Y198,(Y198/$E$13)*'Customer Info'!$F$21)),)","v":0},{"$f":"IF((OR($F$16=0,$F$16=\"none\")),IF(Z198=0,,IF(OR($E$16='Customer Info'!$H$18,$E$16=0),Z198,(Z198/$E$16)*'Customer Info'!$H$18)),)","v":0},{"$f":"IF((OR($F$17=0,$F$17=\"none\")),IF(AA198=0,,IF(OR($E$17='Customer Info'!$H$19,$E$17=0),AA198,(AA198/$E$17)*'Customer Info'!$H$19)),)","v":0},{"$f":"IF((OR($F$18=0,$F$18=\"none\")),IF(AB198=0,,IF(OR($E$18='Customer Info'!$H$20,$E$18=0),AB198,(AB198/$E$18)*'Customer Info'!$H$20)),)","v":0},{"$f":"IF((OR($F$19=0,$F$19=\"none\")),IF(AC198=0,,IF(OR($E$19='Customer Info'!$H$21,$E$19=0),AC198,(AC198/$E$19)*'Customer Info'!$H$21)),)","v":0},{"$f":"IF((OR($F$4=0,$F$4=\"none\")),IF(AD198=0,,IF(OR($E$4='Customer Info'!$D$18,$E$4=0),AD198,(AD198/$E$4)*'Customer Info'!$D$18)),)","v":0},{"$f":"IF((OR($F$5=0,$F$5=\"none\")),IF(AE198=0,,IF(OR($E$5='Customer Info'!$D$19,$E$5=0),AE198,(AE198/$E$5)*'Customer Info'!$D$19)),)","v":0},{"$f":"IF((OR($F$6=0,$F$6=\"none\")),IF(AF198=0,,IF(OR($E$6='Customer Info'!$D$20,$E$6=0),AF198,(AF198/$E$6)*'Customer Info'!$D$20)),)","v":0},{"$f":"IF((OR($F$7=0,$F$7=\"none\")),IF(AG198=0,,IF(OR($E$7='Customer Info'!$D$21,$E$7=0),AG198,(AG198/$E$7)*'Customer Info'!$D$21)),)","v":0},0,0,{"$f":"IF(E198=\"plate waste\",,IF('Customer Info'!$M$18=0,'Log Sheet'!AY198,'Customer Info'!$M$18*'Log Sheet'!AY198))","v":0},{"$f":"IF(E198=\"plate waste\",IF(OR(C198=\"patient\",C198=\"patient beverages\"),IF('Customer Info'!$M$27=0,AY198*'Customer Info'!$M$18,AY198*'Customer Info'!$M$27),IF(C198=\"cafeteria\",IF('Customer Info'!$M$28=0,AY198*'Customer Info'!$M$18,AY198*'Customer Info'!$M$28),IF(C198=\"other1\",IF('Customer Info'!$M$29=0,AY198*'Customer Info'!$M$18,AY198*'Customer Info'!$M$29),))),)","v":0},0,{"$f":"IF($F$4=\"lunch\",IF(S198=0,,(S198/$E$5)*'Customer Info'!$D$18),)","v":0},{"$f":"IF($F$4=\"dinner\",IF(T198=0,,(T198/$E$6)*'Customer Info'!$D$18),)","v":0},{"$f":"IF($F$4=\"other\",IF(U198=0,,(U198/$E$7)*'Customer Info'!$D$18),)","v":0},0,{"$f":"IF($F$5=\"breakfast\",IF(R198=0,,(R198/$E$4)*'Customer Info'!$D$19),)","v":0},{"$f":"IF($F$5=\"dinner\",IF(T198=0,,(T198/$E$6)*'Customer Info'!$D$19),)","v":0},{"$f":"IF($F$5=\"other\",IF(U198=0,,(U198/$E$7)*'Customer Info'!$D$19),)","v":0},0,{"$f":"IF($F$6=\"breakfast\",IF(R198=0,,(R198/$E$4)*'Customer Info'!$D$20),)","v":0},{"$f":"IF($F$6=\"lunch\",IF(S198=0,,(S198/$E$5)*'Customer Info'!$D$20),)","v":0},{"$f":"IF($F$6=\"other\",IF(U198=0,,(U198/$E$7)*'Customer Info'!$D$20),)","v":0},0,{"$f":"IF($F$7=\"breakfast\",IF(R198=0,,(R198/$E$4)*'Customer Info'!$D$21),)","v":0},{"$f":"IF($F$7=\"lunch\",IF(S198=0,,(S198/$E$5)*'Customer Info'!$D$21),)","v":0},{"$f":"IF($F$7=\"dinner\",IF(T198=0,,(T198/$E$6)*'Customer Info'!$D$21),)","v":0},0,{"$f":"IF($F$10=\"lunch\",IF(W198=0,,(W198/$E$11)*'Customer Info'!$F$18),)","v":0},{"$f":"IF($F$10=\"dinner\",IF(X198=0,,(X198/$E$12)*'Customer Info'!$F$18),)","v":0},{"$f":"IF($F$10=\"other\",IF(Y198=0,,(Y198/$E$13)*'Customer Info'!$F$18),)","v":0},0,{"$f":"IF($F$11=\"breakfast\",IF(V198=0,,(V198/$E$10)*'Customer Info'!$F$19),)","v":0},{"$f":"IF($F$11=\"dinner\",IF(X198=0,,(X198/$E$12)*'Customer Info'!$F$19),)","v":0},{"$f":"IF($F$11=\"other\",IF(Y198=0,,(Y198/$E$13)*'Customer Info'!$F$19),)","v":0},0,{"$f":"IF($F$12=\"breakfast\",IF(V198=0,,(V198/$E$10)*'Customer Info'!$F$20),)","v":0},{"$f":"IF($F$12=\"lunch\",IF(W198=0,,(W198/$E$11)*'Customer Info'!$F$20),)","v":0},{"$f":"IF($F$12=\"other\",IF(Y198=0,,(Y198/$E$13)*'Customer Info'!$F$20),)","v":0},0,{"$f":"IF($F$13=\"breakfast\",IF(V198=0,,(V198/$E$10)*'Customer Info'!$F$21),)","v":0},{"$f":"IF($F$13=\"lunch\",IF(W198=0,,(W198/$E$11)*'Customer Info'!$F$21),)","v":0},{"$f":"IF($F$13=\"dinner\",IF(X198=0,,(X198/$E$12)*'Customer Info'!$F$21),)","v":0},0,{"$f":"IF($F$16=\"lunch\",IF(AA198=0,,(AA198/$E$17)*'Customer Info'!$H$18),)","v":0},{"$f":"IF($F$16=\"dinner\",IF(AB198=0,,(AB198/$E$18)*'Customer Info'!$H$18),)","v":0},{"$f":"IF($F$16=\"other\",IF(AC198=0,,(AC198/$E$19)*'Customer Info'!$H$18),)","v":0},0,{"$f":"IF($F$17=\"breakfast\",IF(Z198=0,,(Z198/$E$16)*'Customer Info'!$H$19),)","v":0},{"$f":"IF($F$17=\"dinner\",IF(AB198=0,,(AB198/$E$18)*'Customer Info'!$H$19),)","v":0},{"$f":"IF($F$17=\"other\",IF(AC198=0,,(AC198/$E$19)*'Customer Info'!$H$19),)","v":0},0,{"$f":"IF($F$18=\"breakfast\",IF(Z198=0,,(Z198/$E$16)*'Customer Info'!$H$20),)","v":0},{"$f":"IF($F$18=\"lunch\",IF(AA198=0,,(AA198/$E$17)*'Customer Info'!$H$20),)","v":0},{"$f":"IF($F$18=\"other\",IF(AC198=0,,(AC198/$E$19)*'Customer Info'!$H$20),)","v":0},0,{"$f":"IF($F$19=\"breakfast\",IF(Z198=0,,(Z198/$E$16)*'Customer Info'!$H$21),)","v":0},{"$f":"IF($F$19=\"lunch\",IF(AA198=0,,(AA198/$E$17)*'Customer Info'!$H$21),)","v":0},{"$f":"IF($F$19=\"dinner\",IF(AB198=0,,(AB198/$E$18)*'Customer Info'!$H$21),)","v":0},0,0,0,0,0,""]
[null,null,null,null,null,null,null,null,null,null,0,0,0,0,0,0,0,0,0,0,0,0,0,0,0,0,0,0,0,0,0,0,0,{"$f":"IF((OR($F$4=0,$F$4=\"none\")),IF(R199=0,,IF(OR($E$4='Customer Info'!$D$18,$E$4=0),R199,(R199/$E$4)*'Customer Info'!$D$18)),)","v":0},{"$f":"IF((OR($F$5=0,$F$5=\"none\")),IF(S199=0,,IF(OR($E$5='Customer Info'!$D$18,$E$5=0),S199,(S199/$E$5)*'Customer Info'!$D$19)),)","v":0},{"$f":"IF((OR($F$6=0,$F$6=\"none\")),IF(T199=0,,IF(OR($E$6='Customer Info'!$D$18,$E$6=0),T199,(T199/$E$6)*'Customer Info'!$D$20)),)","v":0},{"$f":"IF((OR($F$7=0,$F$7=\"none\")),IF(U199=0,,IF(OR($E$7='Customer Info'!$D$18,$E$7=0),U199,(U199/$E$7)*'Customer Info'!$D$21)),)","v":0},{"$f":"IF((OR($F$10=0,$F$10=\"none\")),IF(V199=0,,IF(OR($E$10='Customer Info'!$F$18,$E$10=0),V199,(V199/$E$10)*'Customer Info'!$F$18)),)","v":0},{"$f":"IF((OR($F$11=0,$F$11=\"none\")),IF(W199=0,,IF(OR($E$11='Customer Info'!$F$19,$E$11=0),W199,(W199/$E$11)*'Customer Info'!$F$19)),)","v":0},{"$f":"IF((OR($F$12=0,$F$12=\"none\")),IF(X199=0,,IF(OR($E$12='Customer Info'!$F$20,$E$12=0),X199,(X199/$E$12)*'Customer Info'!$F$20)),)","v":0},{"$f":"IF((OR($F$13=0,$F$13=\"none\")),IF(Y199=0,,IF(OR($E$13='Customer Info'!$F$21,$E$13=0),Y199,(Y199/$E$13)*'Customer Info'!$F$21)),)","v":0},{"$f":"IF((OR($F$16=0,$F$16=\"none\")),IF(Z199=0,,IF(OR($E$16='Customer Info'!$H$18,$E$16=0),Z199,(Z199/$E$16)*'Customer Info'!$H$18)),)","v":0},{"$f":"IF((OR($F$17=0,$F$17=\"none\")),IF(AA199=0,,IF(OR($E$17='Customer Info'!$H$19,$E$17=0),AA199,(AA199/$E$17)*'Customer Info'!$H$19)),)","v":0},{"$f":"IF((OR($F$18=0,$F$18=\"none\")),IF(AB199=0,,IF(OR($E$18='Customer Info'!$H$20,$E$18=0),AB199,(AB199/$E$18)*'Customer Info'!$H$20)),)","v":0},{"$f":"IF((OR($F$19=0,$F$19=\"none\")),IF(AC199=0,,IF(OR($E$19='Customer Info'!$H$21,$E$19=0),AC199,(AC199/$E$19)*'Customer Info'!$H$21)),)","v":0},{"$f":"IF((OR($F$4=0,$F$4=\"none\")),IF(AD199=0,,IF(OR($E$4='Customer Info'!$D$18,$E$4=0),AD199,(AD199/$E$4)*'Customer Info'!$D$18)),)","v":0},{"$f":"IF((OR($F$5=0,$F$5=\"none\")),IF(AE199=0,,IF(OR($E$5='Customer Info'!$D$19,$E$5=0),AE199,(AE199/$E$5)*'Customer Info'!$D$19)),)","v":0},{"$f":"IF((OR($F$6=0,$F$6=\"none\")),IF(AF199=0,,IF(OR($E$6='Customer Info'!$D$20,$E$6=0),AF199,(AF199/$E$6)*'Customer Info'!$D$20)),)","v":0},{"$f":"IF((OR($F$7=0,$F$7=\"none\")),IF(AG199=0,,IF(OR($E$7='Customer Info'!$D$21,$E$7=0),AG199,(AG199/$E$7)*'Customer Info'!$D$21)),)","v":0},0,0,{"$f":"IF(E199=\"plate waste\",,IF('Customer Info'!$M$18=0,'Log Sheet'!AY199,'Customer Info'!$M$18*'Log Sheet'!AY199))","v":0},{"$f":"IF(E199=\"plate waste\",IF(OR(C199=\"patient\",C199=\"patient beverages\"),IF('Customer Info'!$M$27=0,AY199*'Customer Info'!$M$18,AY199*'Customer Info'!$M$27),IF(C199=\"cafeteria\",IF('Customer Info'!$M$28=0,AY199*'Customer Info'!$M$18,AY199*'Customer Info'!$M$28),IF(C199=\"other1\",IF('Customer Info'!$M$29=0,AY199*'Customer Info'!$M$18,AY199*'Customer Info'!$M$29),))),)","v":0},0,{"$f":"IF($F$4=\"lunch\",IF(S199=0,,(S199/$E$5)*'Customer Info'!$D$18),)","v":0},{"$f":"IF($F$4=\"dinner\",IF(T199=0,,(T199/$E$6)*'Customer Info'!$D$18),)","v":0},{"$f":"IF($F$4=\"other\",IF(U199=0,,(U199/$E$7)*'Customer Info'!$D$18),)","v":0},0,{"$f":"IF($F$5=\"breakfast\",IF(R199=0,,(R199/$E$4)*'Customer Info'!$D$19),)","v":0},{"$f":"IF($F$5=\"dinner\",IF(T199=0,,(T199/$E$6)*'Customer Info'!$D$19),)","v":0},{"$f":"IF($F$5=\"other\",IF(U199=0,,(U199/$E$7)*'Customer Info'!$D$19),)","v":0},0,{"$f":"IF($F$6=\"breakfast\",IF(R199=0,,(R199/$E$4)*'Customer Info'!$D$20),)","v":0},{"$f":"IF($F$6=\"lunch\",IF(S199=0,,(S199/$E$5)*'Customer Info'!$D$20),)","v":0},{"$f":"IF($F$6=\"other\",IF(U199=0,,(U199/$E$7)*'Customer Info'!$D$20),)","v":0},0,{"$f":"IF($F$7=\"breakfast\",IF(R199=0,,(R199/$E$4)*'Customer Info'!$D$21),)","v":0},{"$f":"IF($F$7=\"lunch\",IF(S199=0,,(S199/$E$5)*'Customer Info'!$D$21),)","v":0},{"$f":"IF($F$7=\"dinner\",IF(T199=0,,(T199/$E$6)*'Customer Info'!$D$21),)","v":0},0,{"$f":"IF($F$10=\"lunch\",IF(W199=0,,(W199/$E$11)*'Customer Info'!$F$18),)","v":0},{"$f":"IF($F$10=\"dinner\",IF(X199=0,,(X199/$E$12)*'Customer Info'!$F$18),)","v":0},{"$f":"IF($F$10=\"other\",IF(Y199=0,,(Y199/$E$13)*'Customer Info'!$F$18),)","v":0},0,{"$f":"IF($F$11=\"breakfast\",IF(V199=0,,(V199/$E$10)*'Customer Info'!$F$19),)","v":0},{"$f":"IF($F$11=\"dinner\",IF(X199=0,,(X199/$E$12)*'Customer Info'!$F$19),)","v":0},{"$f":"IF($F$11=\"other\",IF(Y199=0,,(Y199/$E$13)*'Customer Info'!$F$19),)","v":0},0,{"$f":"IF($F$12=\"breakfast\",IF(V199=0,,(V199/$E$10)*'Customer Info'!$F$20),)","v":0},{"$f":"IF($F$12=\"lunch\",IF(W199=0,,(W199/$E$11)*'Customer Info'!$F$20),)","v":0},{"$f":"IF($F$12=\"other\",IF(Y199=0,,(Y199/$E$13)*'Customer Info'!$F$20),)","v":0},0,{"$f":"IF($F$13=\"breakfast\",IF(V199=0,,(V199/$E$10)*'Customer Info'!$F$21),)","v":0},{"$f":"IF($F$13=\"lunch\",IF(W199=0,,(W199/$E$11)*'Customer Info'!$F$21),)","v":0},{"$f":"IF($F$13=\"dinner\",IF(X199=0,,(X199/$E$12)*'Customer Info'!$F$21),)","v":0},0,{"$f":"IF($F$16=\"lunch\",IF(AA199=0,,(AA199/$E$17)*'Customer Info'!$H$18),)","v":0},{"$f":"IF($F$16=\"dinner\",IF(AB199=0,,(AB199/$E$18)*'Customer Info'!$H$18),)","v":0},{"$f":"IF($F$16=\"other\",IF(AC199=0,,(AC199/$E$19)*'Customer Info'!$H$18),)","v":0},0,{"$f":"IF($F$17=\"breakfast\",IF(Z199=0,,(Z199/$E$16)*'Customer Info'!$H$19),)","v":0},{"$f":"IF($F$17=\"dinner\",IF(AB199=0,,(AB199/$E$18)*'Customer Info'!$H$19),)","v":0},{"$f":"IF($F$17=\"other\",IF(AC199=0,,(AC199/$E$19)*'Customer Info'!$H$19),)","v":0},0,{"$f":"IF($F$18=\"breakfast\",IF(Z199=0,,(Z199/$E$16)*'Customer Info'!$H$20),)","v":0},{"$f":"IF($F$18=\"lunch\",IF(AA199=0,,(AA199/$E$17)*'Customer Info'!$H$20),)","v":0},{"$f":"IF($F$18=\"other\",IF(AC199=0,,(AC199/$E$19)*'Customer Info'!$H$20),)","v":0},0,{"$f":"IF($F$19=\"breakfast\",IF(Z199=0,,(Z199/$E$16)*'Customer Info'!$H$21),)","v":0},{"$f":"IF($F$19=\"lunch\",IF(AA199=0,,(AA199/$E$17)*'Customer Info'!$H$21),)","v":0},{"$f":"IF($F$19=\"dinner\",IF(AB199=0,,(AB199/$E$18)*'Customer Info'!$H$21),)","v":0},0,0,0,0,0,""]
[null,null,null,null,null,null,null,null,null,null,0,0,0,0,0,0,0,0,0,0,0,0,0,0,0,0,0,0,0,0,0,0,0,{"$f":"IF((OR($F$4=0,$F$4=\"none\")),IF(R200=0,,IF(OR($E$4='Customer Info'!$D$18,$E$4=0),R200,(R200/$E$4)*'Customer Info'!$D$18)),)","v":0},{"$f":"IF((OR($F$5=0,$F$5=\"none\")),IF(S200=0,,IF(OR($E$5='Customer Info'!$D$18,$E$5=0),S200,(S200/$E$5)*'Customer Info'!$D$19)),)","v":0},{"$f":"IF((OR($F$6=0,$F$6=\"none\")),IF(T200=0,,IF(OR($E$6='Customer Info'!$D$18,$E$6=0),T200,(T200/$E$6)*'Customer Info'!$D$20)),)","v":0},{"$f":"IF((OR($F$7=0,$F$7=\"none\")),IF(U200=0,,IF(OR($E$7='Customer Info'!$D$18,$E$7=0),U200,(U200/$E$7)*'Customer Info'!$D$21)),)","v":0},{"$f":"IF((OR($F$10=0,$F$10=\"none\")),IF(V200=0,,IF(OR($E$10='Customer Info'!$F$18,$E$10=0),V200,(V200/$E$10)*'Customer Info'!$F$18)),)","v":0},{"$f":"IF((OR($F$11=0,$F$11=\"none\")),IF(W200=0,,IF(OR($E$11='Customer Info'!$F$19,$E$11=0),W200,(W200/$E$11)*'Customer Info'!$F$19)),)","v":0},{"$f":"IF((OR($F$12=0,$F$12=\"none\")),IF(X200=0,,IF(OR($E$12='Customer Info'!$F$20,$E$12=0),X200,(X200/$E$12)*'Customer Info'!$F$20)),)","v":0},{"$f":"IF((OR($F$13=0,$F$13=\"none\")),IF(Y200=0,,IF(OR($E$13='Customer Info'!$F$21,$E$13=0),Y200,(Y200/$E$13)*'Customer Info'!$F$21)),)","v":0},{"$f":"IF((OR($F$16=0,$F$16=\"none\")),IF(Z200=0,,IF(OR($E$16='Customer Info'!$H$18,$E$16=0),Z200,(Z200/$E$16)*'Customer Info'!$H$18)),)","v":0},{"$f":"IF((OR($F$17=0,$F$17=\"none\")),IF(AA200=0,,IF(OR($E$17='Customer Info'!$H$19,$E$17=0),AA200,(AA200/$E$17)*'Customer Info'!$H$19)),)","v":0},{"$f":"IF((OR($F$18=0,$F$18=\"none\")),IF(AB200=0,,IF(OR($E$18='Customer Info'!$H$20,$E$18=0),AB200,(AB200/$E$18)*'Customer Info'!$H$20)),)","v":0},{"$f":"IF((OR($F$19=0,$F$19=\"none\")),IF(AC200=0,,IF(OR($E$19='Customer Info'!$H$21,$E$19=0),AC200,(AC200/$E$19)*'Customer Info'!$H$21)),)","v":0},{"$f":"IF((OR($F$4=0,$F$4=\"none\")),IF(AD200=0,,IF(OR($E$4='Customer Info'!$D$18,$E$4=0),AD200,(AD200/$E$4)*'Customer Info'!$D$18)),)","v":0},{"$f":"IF((OR($F$5=0,$F$5=\"none\")),IF(AE200=0,,IF(OR($E$5='Customer Info'!$D$19,$E$5=0),AE200,(AE200/$E$5)*'Customer Info'!$D$19)),)","v":0},{"$f":"IF((OR($F$6=0,$F$6=\"none\")),IF(AF200=0,,IF(OR($E$6='Customer Info'!$D$20,$E$6=0),AF200,(AF200/$E$6)*'Customer Info'!$D$20)),)","v":0},{"$f":"IF((OR($F$7=0,$F$7=\"none\")),IF(AG200=0,,IF(OR($E$7='Customer Info'!$D$21,$E$7=0),AG200,(AG200/$E$7)*'Customer Info'!$D$21)),)","v":0},0,0,{"$f":"IF(E200=\"plate waste\",,IF('Customer Info'!$M$18=0,'Log Sheet'!AY200,'Customer Info'!$M$18*'Log Sheet'!AY200))","v":0},{"$f":"IF(E200=\"plate waste\",IF(OR(C200=\"patient\",C200=\"patient beverages\"),IF('Customer Info'!$M$27=0,AY200*'Customer Info'!$M$18,AY200*'Customer Info'!$M$27),IF(C200=\"cafeteria\",IF('Customer Info'!$M$28=0,AY200*'Customer Info'!$M$18,AY200*'Customer Info'!$M$28),IF(C200=\"other1\",IF('Customer Info'!$M$29=0,AY200*'Customer Info'!$M$18,AY200*'Customer Info'!$M$29),))),)","v":0},0,{"$f":"IF($F$4=\"lunch\",IF(S200=0,,(S200/$E$5)*'Customer Info'!$D$18),)","v":0},{"$f":"IF($F$4=\"dinner\",IF(T200=0,,(T200/$E$6)*'Customer Info'!$D$18),)","v":0},{"$f":"IF($F$4=\"other\",IF(U200=0,,(U200/$E$7)*'Customer Info'!$D$18),)","v":0},0,{"$f":"IF($F$5=\"breakfast\",IF(R200=0,,(R200/$E$4)*'Customer Info'!$D$19),)","v":0},{"$f":"IF($F$5=\"dinner\",IF(T200=0,,(T200/$E$6)*'Customer Info'!$D$19),)","v":0},{"$f":"IF($F$5=\"other\",IF(U200=0,,(U200/$E$7)*'Customer Info'!$D$19),)","v":0},0,{"$f":"IF($F$6=\"breakfast\",IF(R200=0,,(R200/$E$4)*'Customer Info'!$D$20),)","v":0},{"$f":"IF($F$6=\"lunch\",IF(S200=0,,(S200/$E$5)*'Customer Info'!$D$20),)","v":0},{"$f":"IF($F$6=\"other\",IF(U200=0,,(U200/$E$7)*'Customer Info'!$D$20),)","v":0},0,{"$f":"IF($F$7=\"breakfast\",IF(R200=0,,(R200/$E$4)*'Customer Info'!$D$21),)","v":0},{"$f":"IF($F$7=\"lunch\",IF(S200=0,,(S200/$E$5)*'Customer Info'!$D$21),)","v":0},{"$f":"IF($F$7=\"dinner\",IF(T200=0,,(T200/$E$6)*'Customer Info'!$D$21),)","v":0},0,{"$f":"IF($F$10=\"lunch\",IF(W200=0,,(W200/$E$11)*'Customer Info'!$F$18),)","v":0},{"$f":"IF($F$10=\"dinner\",IF(X200=0,,(X200/$E$12)*'Customer Info'!$F$18),)","v":0},{"$f":"IF($F$10=\"other\",IF(Y200=0,,(Y200/$E$13)*'Customer Info'!$F$18),)","v":0},0,{"$f":"IF($F$11=\"breakfast\",IF(V200=0,,(V200/$E$10)*'Customer Info'!$F$19),)","v":0},{"$f":"IF($F$11=\"dinner\",IF(X200=0,,(X200/$E$12)*'Customer Info'!$F$19),)","v":0},{"$f":"IF($F$11=\"other\",IF(Y200=0,,(Y200/$E$13)*'Customer Info'!$F$19),)","v":0},0,{"$f":"IF($F$12=\"breakfast\",IF(V200=0,,(V200/$E$10)*'Customer Info'!$F$20),)","v":0},{"$f":"IF($F$12=\"lunch\",IF(W200=0,,(W200/$E$11)*'Customer Info'!$F$20),)","v":0},{"$f":"IF($F$12=\"other\",IF(Y200=0,,(Y200/$E$13)*'Customer Info'!$F$20),)","v":0},0,{"$f":"IF($F$13=\"breakfast\",IF(V200=0,,(V200/$E$10)*'Customer Info'!$F$21),)","v":0},{"$f":"IF($F$13=\"lunch\",IF(W200=0,,(W200/$E$11)*'Customer Info'!$F$21),)","v":0},{"$f":"IF($F$13=\"dinner\",IF(X200=0,,(X200/$E$12)*'Customer Info'!$F$21),)","v":0},0,{"$f":"IF($F$16=\"lunch\",IF(AA200=0,,(AA200/$E$17)*'Customer Info'!$H$18),)","v":0},{"$f":"IF($F$16=\"dinner\",IF(AB200=0,,(AB200/$E$18)*'Customer Info'!$H$18),)","v":0},{"$f":"IF($F$16=\"other\",IF(AC200=0,,(AC200/$E$19)*'Customer Info'!$H$18),)","v":0},0,{"$f":"IF($F$17=\"breakfast\",IF(Z200=0,,(Z200/$E$16)*'Customer Info'!$H$19),)","v":0},{"$f":"IF($F$17=\"dinner\",IF(AB200=0,,(AB200/$E$18)*'Customer Info'!$H$19),)","v":0},{"$f":"IF($F$17=\"other\",IF(AC200=0,,(AC200/$E$19)*'Customer Info'!$H$19),)","v":0},0,{"$f":"IF($F$18=\"breakfast\",IF(Z200=0,,(Z200/$E$16)*'Customer Info'!$H$20),)","v":0},{"$f":"IF($F$18=\"lunch\",IF(AA200=0,,(AA200/$E$17)*'Customer Info'!$H$20),)","v":0},{"$f":"IF($F$18=\"other\",IF(AC200=0,,(AC200/$E$19)*'Customer Info'!$H$20),)","v":0},0,{"$f":"IF($F$19=\"breakfast\",IF(Z200=0,,(Z200/$E$16)*'Customer Info'!$H$21),)","v":0},{"$f":"IF($F$19=\"lunch\",IF(AA200=0,,(AA200/$E$17)*'Customer Info'!$H$21),)","v":0},{"$f":"IF($F$19=\"dinner\",IF(AB200=0,,(AB200/$E$18)*'Customer Info'!$H$21),)","v":0},0,0,0,0,0,""]
[null,null,null,null,null,null,null,null,null,null,0,0,0,0,0,0,0,0,0,0,0,0,0,0,0,0,0,0,0,0,0,0,0,{"$f":"IF((OR($F$4=0,$F$4=\"none\")),IF(R201=0,,IF(OR($E$4='Customer Info'!$D$18,$E$4=0),R201,(R201/$E$4)*'Customer Info'!$D$18)),)","v":0},{"$f":"IF((OR($F$5=0,$F$5=\"none\")),IF(S201=0,,IF(OR($E$5='Customer Info'!$D$18,$E$5=0),S201,(S201/$E$5)*'Customer Info'!$D$19)),)","v":0},{"$f":"IF((OR($F$6=0,$F$6=\"none\")),IF(T201=0,,IF(OR($E$6='Customer Info'!$D$18,$E$6=0),T201,(T201/$E$6)*'Customer Info'!$D$20)),)","v":0},{"$f":"IF((OR($F$7=0,$F$7=\"none\")),IF(U201=0,,IF(OR($E$7='Customer Info'!$D$18,$E$7=0),U201,(U201/$E$7)*'Customer Info'!$D$21)),)","v":0},{"$f":"IF((OR($F$10=0,$F$10=\"none\")),IF(V201=0,,IF(OR($E$10='Customer Info'!$F$18,$E$10=0),V201,(V201/$E$10)*'Customer Info'!$F$18)),)","v":0},{"$f":"IF((OR($F$11=0,$F$11=\"none\")),IF(W201=0,,IF(OR($E$11='Customer Info'!$F$19,$E$11=0),W201,(W201/$E$11)*'Customer Info'!$F$19)),)","v":0},{"$f":"IF((OR($F$12=0,$F$12=\"none\")),IF(X201=0,,IF(OR($E$12='Customer Info'!$F$20,$E$12=0),X201,(X201/$E$12)*'Customer Info'!$F$20)),)","v":0},{"$f":"IF((OR($F$13=0,$F$13=\"none\")),IF(Y201=0,,IF(OR($E$13='Customer Info'!$F$21,$E$13=0),Y201,(Y201/$E$13)*'Customer Info'!$F$21)),)","v":0},{"$f":"IF((OR($F$16=0,$F$16=\"none\")),IF(Z201=0,,IF(OR($E$16='Customer Info'!$H$18,$E$16=0),Z201,(Z201/$E$16)*'Customer Info'!$H$18)),)","v":0},{"$f":"IF((OR($F$17=0,$F$17=\"none\")),IF(AA201=0,,IF(OR($E$17='Customer Info'!$H$19,$E$17=0),AA201,(AA201/$E$17)*'Customer Info'!$H$19)),)","v":0},{"$f":"IF((OR($F$18=0,$F$18=\"none\")),IF(AB201=0,,IF(OR($E$18='Customer Info'!$H$20,$E$18=0),AB201,(AB201/$E$18)*'Customer Info'!$H$20)),)","v":0},{"$f":"IF((OR($F$19=0,$F$19=\"none\")),IF(AC201=0,,IF(OR($E$19='Customer Info'!$H$21,$E$19=0),AC201,(AC201/$E$19)*'Customer Info'!$H$21)),)","v":0},{"$f":"IF((OR($F$4=0,$F$4=\"none\")),IF(AD201=0,,IF(OR($E$4='Customer Info'!$D$18,$E$4=0),AD201,(AD201/$E$4)*'Customer Info'!$D$18)),)","v":0},{"$f":"IF((OR($F$5=0,$F$5=\"none\")),IF(AE201=0,,IF(OR($E$5='Customer Info'!$D$19,$E$5=0),AE201,(AE201/$E$5)*'Customer Info'!$D$19)),)","v":0},{"$f":"IF((OR($F$6=0,$F$6=\"none\")),IF(AF201=0,,IF(OR($E$6='Customer Info'!$D$20,$E$6=0),AF201,(AF201/$E$6)*'Customer Info'!$D$20)),)","v":0},{"$f":"IF((OR($F$7=0,$F$7=\"none\")),IF(AG201=0,,IF(OR($E$7='Customer Info'!$D$21,$E$7=0),AG201,(AG201/$E$7)*'Customer Info'!$D$21)),)","v":0},0,0,{"$f":"IF(E201=\"plate waste\",,IF('Customer Info'!$M$18=0,'Log Sheet'!AY201,'Customer Info'!$M$18*'Log Sheet'!AY201))","v":0},{"$f":"IF(E201=\"plate waste\",IF(OR(C201=\"patient\",C201=\"patient beverages\"),IF('Customer Info'!$M$27=0,AY201*'Customer Info'!$M$18,AY201*'Customer Info'!$M$27),IF(C201=\"cafeteria\",IF('Customer Info'!$M$28=0,AY201*'Customer Info'!$M$18,AY201*'Customer Info'!$M$28),IF(C201=\"other1\",IF('Customer Info'!$M$29=0,AY201*'Customer Info'!$M$18,AY201*'Customer Info'!$M$29),))),)","v":0},0,{"$f":"IF($F$4=\"lunch\",IF(S201=0,,(S201/$E$5)*'Customer Info'!$D$18),)","v":0},{"$f":"IF($F$4=\"dinner\",IF(T201=0,,(T201/$E$6)*'Customer Info'!$D$18),)","v":0},{"$f":"IF($F$4=\"other\",IF(U201=0,,(U201/$E$7)*'Customer Info'!$D$18),)","v":0},0,{"$f":"IF($F$5=\"breakfast\",IF(R201=0,,(R201/$E$4)*'Customer Info'!$D$19),)","v":0},{"$f":"IF($F$5=\"dinner\",IF(T201=0,,(T201/$E$6)*'Customer Info'!$D$19),)","v":0},{"$f":"IF($F$5=\"other\",IF(U201=0,,(U201/$E$7)*'Customer Info'!$D$19),)","v":0},0,{"$f":"IF($F$6=\"breakfast\",IF(R201=0,,(R201/$E$4)*'Customer Info'!$D$20),)","v":0},{"$f":"IF($F$6=\"lunch\",IF(S201=0,,(S201/$E$5)*'Customer Info'!$D$20),)","v":0},{"$f":"IF($F$6=\"other\",IF(U201=0,,(U201/$E$7)*'Customer Info'!$D$20),)","v":0},0,{"$f":"IF($F$7=\"breakfast\",IF(R201=0,,(R201/$E$4)*'Customer Info'!$D$21),)","v":0},{"$f":"IF($F$7=\"lunch\",IF(S201=0,,(S201/$E$5)*'Customer Info'!$D$21),)","v":0},{"$f":"IF($F$7=\"dinner\",IF(T201=0,,(T201/$E$6)*'Customer Info'!$D$21),)","v":0},0,{"$f":"IF($F$10=\"lunch\",IF(W201=0,,(W201/$E$11)*'Customer Info'!$F$18),)","v":0},{"$f":"IF($F$10=\"dinner\",IF(X201=0,,(X201/$E$12)*'Customer Info'!$F$18),)","v":0},{"$f":"IF($F$10=\"other\",IF(Y201=0,,(Y201/$E$13)*'Customer Info'!$F$18),)","v":0},0,{"$f":"IF($F$11=\"breakfast\",IF(V201=0,,(V201/$E$10)*'Customer Info'!$F$19),)","v":0},{"$f":"IF($F$11=\"dinner\",IF(X201=0,,(X201/$E$12)*'Customer Info'!$F$19),)","v":0},{"$f":"IF($F$11=\"other\",IF(Y201=0,,(Y201/$E$13)*'Customer Info'!$F$19),)","v":0},0,{"$f":"IF($F$12=\"breakfast\",IF(V201=0,,(V201/$E$10)*'Customer Info'!$F$20),)","v":0},{"$f":"IF($F$12=\"lunch\",IF(W201=0,,(W201/$E$11)*'Customer Info'!$F$20),)","v":0},{"$f":"IF($F$12=\"other\",IF(Y201=0,,(Y201/$E$13)*'Customer Info'!$F$20),)","v":0},0,{"$f":"IF($F$13=\"breakfast\",IF(V201=0,,(V201/$E$10)*'Customer Info'!$F$21),)","v":0},{"$f":"IF($F$13=\"lunch\",IF(W201=0,,(W201/$E$11)*'Customer Info'!$F$21),)","v":0},{"$f":"IF($F$13=\"dinner\",IF(X201=0,,(X201/$E$12)*'Customer Info'!$F$21),)","v":0},0,{"$f":"IF($F$16=\"lunch\",IF(AA201=0,,(AA201/$E$17)*'Customer Info'!$H$18),)","v":0},{"$f":"IF($F$16=\"dinner\",IF(AB201=0,,(AB201/$E$18)*'Customer Info'!$H$18),)","v":0},{"$f":"IF($F$16=\"other\",IF(AC201=0,,(AC201/$E$19)*'Customer Info'!$H$18),)","v":0},0,{"$f":"IF($F$17=\"breakfast\",IF(Z201=0,,(Z201/$E$16)*'Customer Info'!$H$19),)","v":0},{"$f":"IF($F$17=\"dinner\",IF(AB201=0,,(AB201/$E$18)*'Customer Info'!$H$19),)","v":0},{"$f":"IF($F$17=\"other\",IF(AC201=0,,(AC201/$E$19)*'Customer Info'!$H$19),)","v":0},0,{"$f":"IF($F$18=\"breakfast\",IF(Z201=0,,(Z201/$E$16)*'Customer Info'!$H$20),)","v":0},{"$f":"IF($F$18=\"lunch\",IF(AA201=0,,(AA201/$E$17)*'Customer Info'!$H$20),)","v":0},{"$f":"IF($F$18=\"other\",IF(AC201=0,,(AC201/$E$19)*'Customer Info'!$H$20),)","v":0},0,{"$f":"IF($F$19=\"breakfast\",IF(Z201=0,,(Z201/$E$16)*'Customer Info'!$H$21),)","v":0},{"$f":"IF($F$19=\"lunch\",IF(AA201=0,,(AA201/$E$17)*'Customer Info'!$H$21),)","v":0},{"$f":"IF($F$19=\"dinner\",IF(AB201=0,,(AB201/$E$18)*'Customer Info'!$H$21),)","v":0},0,0,0,0,0,""]
[null,null,null,null,null,null,null,null,null,null,0,0,0,0,0,0,0,0,0,0,0,0,0,0,0,0,0,0,0,0,0,0,0,{"$f":"IF((OR($F$4=0,$F$4=\"none\")),IF(R202=0,,IF(OR($E$4='Customer Info'!$D$18,$E$4=0),R202,(R202/$E$4)*'Customer Info'!$D$18)),)","v":0},{"$f":"IF((OR($F$5=0,$F$5=\"none\")),IF(S202=0,,IF(OR($E$5='Customer Info'!$D$18,$E$5=0),S202,(S202/$E$5)*'Customer Info'!$D$19)),)","v":0},{"$f":"IF((OR($F$6=0,$F$6=\"none\")),IF(T202=0,,IF(OR($E$6='Customer Info'!$D$18,$E$6=0),T202,(T202/$E$6)*'Customer Info'!$D$20)),)","v":0},{"$f":"IF((OR($F$7=0,$F$7=\"none\")),IF(U202=0,,IF(OR($E$7='Customer Info'!$D$18,$E$7=0),U202,(U202/$E$7)*'Customer Info'!$D$21)),)","v":0},{"$f":"IF((OR($F$10=0,$F$10=\"none\")),IF(V202=0,,IF(OR($E$10='Customer Info'!$F$18,$E$10=0),V202,(V202/$E$10)*'Customer Info'!$F$18)),)","v":0},{"$f":"IF((OR($F$11=0,$F$11=\"none\")),IF(W202=0,,IF(OR($E$11='Customer Info'!$F$19,$E$11=0),W202,(W202/$E$11)*'Customer Info'!$F$19)),)","v":0},{"$f":"IF((OR($F$12=0,$F$12=\"none\")),IF(X202=0,,IF(OR($E$12='Customer Info'!$F$20,$E$12=0),X202,(X202/$E$12)*'Customer Info'!$F$20)),)","v":0},{"$f":"IF((OR($F$13=0,$F$13=\"none\")),IF(Y202=0,,IF(OR($E$13='Customer Info'!$F$21,$E$13=0),Y202,(Y202/$E$13)*'Customer Info'!$F$21)),)","v":0},{"$f":"IF((OR($F$16=0,$F$16=\"none\")),IF(Z202=0,,IF(OR($E$16='Customer Info'!$H$18,$E$16=0),Z202,(Z202/$E$16)*'Customer Info'!$H$18)),)","v":0},{"$f":"IF((OR($F$17=0,$F$17=\"none\")),IF(AA202=0,,IF(OR($E$17='Customer Info'!$H$19,$E$17=0),AA202,(AA202/$E$17)*'Customer Info'!$H$19)),)","v":0},{"$f":"IF((OR($F$18=0,$F$18=\"none\")),IF(AB202=0,,IF(OR($E$18='Customer Info'!$H$20,$E$18=0),AB202,(AB202/$E$18)*'Customer Info'!$H$20)),)","v":0},{"$f":"IF((OR($F$19=0,$F$19=\"none\")),IF(AC202=0,,IF(OR($E$19='Customer Info'!$H$21,$E$19=0),AC202,(AC202/$E$19)*'Customer Info'!$H$21)),)","v":0},{"$f":"IF((OR($F$4=0,$F$4=\"none\")),IF(AD202=0,,IF(OR($E$4='Customer Info'!$D$18,$E$4=0),AD202,(AD202/$E$4)*'Customer Info'!$D$18)),)","v":0},{"$f":"IF((OR($F$5=0,$F$5=\"none\")),IF(AE202=0,,IF(OR($E$5='Customer Info'!$D$19,$E$5=0),AE202,(AE202/$E$5)*'Customer Info'!$D$19)),)","v":0},{"$f":"IF((OR($F$6=0,$F$6=\"none\")),IF(AF202=0,,IF(OR($E$6='Customer Info'!$D$20,$E$6=0),AF202,(AF202/$E$6)*'Customer Info'!$D$20)),)","v":0},{"$f":"IF((OR($F$7=0,$F$7=\"none\")),IF(AG202=0,,IF(OR($E$7='Customer Info'!$D$21,$E$7=0),AG202,(AG202/$E$7)*'Customer Info'!$D$21)),)","v":0},0,0,{"$f":"IF(E202=\"plate waste\",,IF('Customer Info'!$M$18=0,'Log Sheet'!AY202,'Customer Info'!$M$18*'Log Sheet'!AY202))","v":0},{"$f":"IF(E202=\"plate waste\",IF(OR(C202=\"patient\",C202=\"patient beverages\"),IF('Customer Info'!$M$27=0,AY202*'Customer Info'!$M$18,AY202*'Customer Info'!$M$27),IF(C202=\"cafeteria\",IF('Customer Info'!$M$28=0,AY202*'Customer Info'!$M$18,AY202*'Customer Info'!$M$28),IF(C202=\"other1\",IF('Customer Info'!$M$29=0,AY202*'Customer Info'!$M$18,AY202*'Customer Info'!$M$29),))),)","v":0},0,{"$f":"IF($F$4=\"lunch\",IF(S202=0,,(S202/$E$5)*'Customer Info'!$D$18),)","v":0},{"$f":"IF($F$4=\"dinner\",IF(T202=0,,(T202/$E$6)*'Customer Info'!$D$18),)","v":0},{"$f":"IF($F$4=\"other\",IF(U202=0,,(U202/$E$7)*'Customer Info'!$D$18),)","v":0},0,{"$f":"IF($F$5=\"breakfast\",IF(R202=0,,(R202/$E$4)*'Customer Info'!$D$19),)","v":0},{"$f":"IF($F$5=\"dinner\",IF(T202=0,,(T202/$E$6)*'Customer Info'!$D$19),)","v":0},{"$f":"IF($F$5=\"other\",IF(U202=0,,(U202/$E$7)*'Customer Info'!$D$19),)","v":0},0,{"$f":"IF($F$6=\"breakfast\",IF(R202=0,,(R202/$E$4)*'Customer Info'!$D$20),)","v":0},{"$f":"IF($F$6=\"lunch\",IF(S202=0,,(S202/$E$5)*'Customer Info'!$D$20),)","v":0},{"$f":"IF($F$6=\"other\",IF(U202=0,,(U202/$E$7)*'Customer Info'!$D$20),)","v":0},0,{"$f":"IF($F$7=\"breakfast\",IF(R202=0,,(R202/$E$4)*'Customer Info'!$D$21),)","v":0},{"$f":"IF($F$7=\"lunch\",IF(S202=0,,(S202/$E$5)*'Customer Info'!$D$21),)","v":0},{"$f":"IF($F$7=\"dinner\",IF(T202=0,,(T202/$E$6)*'Customer Info'!$D$21),)","v":0},0,{"$f":"IF($F$10=\"lunch\",IF(W202=0,,(W202/$E$11)*'Customer Info'!$F$18),)","v":0},{"$f":"IF($F$10=\"dinner\",IF(X202=0,,(X202/$E$12)*'Customer Info'!$F$18),)","v":0},{"$f":"IF($F$10=\"other\",IF(Y202=0,,(Y202/$E$13)*'Customer Info'!$F$18),)","v":0},0,{"$f":"IF($F$11=\"breakfast\",IF(V202=0,,(V202/$E$10)*'Customer Info'!$F$19),)","v":0},{"$f":"IF($F$11=\"dinner\",IF(X202=0,,(X202/$E$12)*'Customer Info'!$F$19),)","v":0},{"$f":"IF($F$11=\"other\",IF(Y202=0,,(Y202/$E$13)*'Customer Info'!$F$19),)","v":0},0,{"$f":"IF($F$12=\"breakfast\",IF(V202=0,,(V202/$E$10)*'Customer Info'!$F$20),)","v":0},{"$f":"IF($F$12=\"lunch\",IF(W202=0,,(W202/$E$11)*'Customer Info'!$F$20),)","v":0},{"$f":"IF($F$12=\"other\",IF(Y202=0,,(Y202/$E$13)*'Customer Info'!$F$20),)","v":0},0,{"$f":"IF($F$13=\"breakfast\",IF(V202=0,,(V202/$E$10)*'Customer Info'!$F$21),)","v":0},{"$f":"IF($F$13=\"lunch\",IF(W202=0,,(W202/$E$11)*'Customer Info'!$F$21),)","v":0},{"$f":"IF($F$13=\"dinner\",IF(X202=0,,(X202/$E$12)*'Customer Info'!$F$21),)","v":0},0,{"$f":"IF($F$16=\"lunch\",IF(AA202=0,,(AA202/$E$17)*'Customer Info'!$H$18),)","v":0},{"$f":"IF($F$16=\"dinner\",IF(AB202=0,,(AB202/$E$18)*'Customer Info'!$H$18),)","v":0},{"$f":"IF($F$16=\"other\",IF(AC202=0,,(AC202/$E$19)*'Customer Info'!$H$18),)","v":0},0,{"$f":"IF($F$17=\"breakfast\",IF(Z202=0,,(Z202/$E$16)*'Customer Info'!$H$19),)","v":0},{"$f":"IF($F$17=\"dinner\",IF(AB202=0,,(AB202/$E$18)*'Customer Info'!$H$19),)","v":0},{"$f":"IF($F$17=\"other\",IF(AC202=0,,(AC202/$E$19)*'Customer Info'!$H$19),)","v":0},0,{"$f":"IF($F$18=\"breakfast\",IF(Z202=0,,(Z202/$E$16)*'Customer Info'!$H$20),)","v":0},{"$f":"IF($F$18=\"lunch\",IF(AA202=0,,(AA202/$E$17)*'Customer Info'!$H$20),)","v":0},{"$f":"IF($F$18=\"other\",IF(AC202=0,,(AC202/$E$19)*'Customer Info'!$H$20),)","v":0},0,{"$f":"IF($F$19=\"breakfast\",IF(Z202=0,,(Z202/$E$16)*'Customer Info'!$H$21),)","v":0},{"$f":"IF($F$19=\"lunch\",IF(AA202=0,,(AA202/$E$17)*'Customer Info'!$H$21),)","v":0},{"$f":"IF($F$19=\"dinner\",IF(AB202=0,,(AB202/$E$18)*'Customer Info'!$H$21),)","v":0},0,0,0,0,0,""]
[null,null,null,null,null,null,null,null,null,null,0,0,0,0,0,0,0,0,0,0,0,0,0,0,0,0,0,0,0,0,0,0,0,{"$f":"IF((OR($F$4=0,$F$4=\"none\")),IF(R203=0,,IF(OR($E$4='Customer Info'!$D$18,$E$4=0),R203,(R203/$E$4)*'Customer Info'!$D$18)),)","v":0},{"$f":"IF((OR($F$5=0,$F$5=\"none\")),IF(S203=0,,IF(OR($E$5='Customer Info'!$D$18,$E$5=0),S203,(S203/$E$5)*'Customer Info'!$D$19)),)","v":0},{"$f":"IF((OR($F$6=0,$F$6=\"none\")),IF(T203=0,,IF(OR($E$6='Customer Info'!$D$18,$E$6=0),T203,(T203/$E$6)*'Customer Info'!$D$20)),)","v":0},{"$f":"IF((OR($F$7=0,$F$7=\"none\")),IF(U203=0,,IF(OR($E$7='Customer Info'!$D$18,$E$7=0),U203,(U203/$E$7)*'Customer Info'!$D$21)),)","v":0},{"$f":"IF((OR($F$10=0,$F$10=\"none\")),IF(V203=0,,IF(OR($E$10='Customer Info'!$F$18,$E$10=0),V203,(V203/$E$10)*'Customer Info'!$F$18)),)","v":0},{"$f":"IF((OR($F$11=0,$F$11=\"none\")),IF(W203=0,,IF(OR($E$11='Customer Info'!$F$19,$E$11=0),W203,(W203/$E$11)*'Customer Info'!$F$19)),)","v":0},{"$f":"IF((OR($F$12=0,$F$12=\"none\")),IF(X203=0,,IF(OR($E$12='Customer Info'!$F$20,$E$12=0),X203,(X203/$E$12)*'Customer Info'!$F$20)),)","v":0},{"$f":"IF((OR($F$13=0,$F$13=\"none\")),IF(Y203=0,,IF(OR($E$13='Customer Info'!$F$21,$E$13=0),Y203,(Y203/$E$13)*'Customer Info'!$F$21)),)","v":0},{"$f":"IF((OR($F$16=0,$F$16=\"none\")),IF(Z203=0,,IF(OR($E$16='Customer Info'!$H$18,$E$16=0),Z203,(Z203/$E$16)*'Customer Info'!$H$18)),)","v":0},{"$f":"IF((OR($F$17=0,$F$17=\"none\")),IF(AA203=0,,IF(OR($E$17='Customer Info'!$H$19,$E$17=0),AA203,(AA203/$E$17)*'Customer Info'!$H$19)),)","v":0},{"$f":"IF((OR($F$18=0,$F$18=\"none\")),IF(AB203=0,,IF(OR($E$18='Customer Info'!$H$20,$E$18=0),AB203,(AB203/$E$18)*'Customer Info'!$H$20)),)","v":0},{"$f":"IF((OR($F$19=0,$F$19=\"none\")),IF(AC203=0,,IF(OR($E$19='Customer Info'!$H$21,$E$19=0),AC203,(AC203/$E$19)*'Customer Info'!$H$21)),)","v":0},{"$f":"IF((OR($F$4=0,$F$4=\"none\")),IF(AD203=0,,IF(OR($E$4='Customer Info'!$D$18,$E$4=0),AD203,(AD203/$E$4)*'Customer Info'!$D$18)),)","v":0},{"$f":"IF((OR($F$5=0,$F$5=\"none\")),IF(AE203=0,,IF(OR($E$5='Customer Info'!$D$19,$E$5=0),AE203,(AE203/$E$5)*'Customer Info'!$D$19)),)","v":0},{"$f":"IF((OR($F$6=0,$F$6=\"none\")),IF(AF203=0,,IF(OR($E$6='Customer Info'!$D$20,$E$6=0),AF203,(AF203/$E$6)*'Customer Info'!$D$20)),)","v":0},{"$f":"IF((OR($F$7=0,$F$7=\"none\")),IF(AG203=0,,IF(OR($E$7='Customer Info'!$D$21,$E$7=0),AG203,(AG203/$E$7)*'Customer Info'!$D$21)),)","v":0},0,0,{"$f":"IF(E203=\"plate waste\",,IF('Customer Info'!$M$18=0,'Log Sheet'!AY203,'Customer Info'!$M$18*'Log Sheet'!AY203))","v":0},{"$f":"IF(E203=\"plate waste\",IF(OR(C203=\"patient\",C203=\"patient beverages\"),IF('Customer Info'!$M$27=0,AY203*'Customer Info'!$M$18,AY203*'Customer Info'!$M$27),IF(C203=\"cafeteria\",IF('Customer Info'!$M$28=0,AY203*'Customer Info'!$M$18,AY203*'Customer Info'!$M$28),IF(C203=\"other1\",IF('Customer Info'!$M$29=0,AY203*'Customer Info'!$M$18,AY203*'Customer Info'!$M$29),))),)","v":0},0,{"$f":"IF($F$4=\"lunch\",IF(S203=0,,(S203/$E$5)*'Customer Info'!$D$18),)","v":0},{"$f":"IF($F$4=\"dinner\",IF(T203=0,,(T203/$E$6)*'Customer Info'!$D$18),)","v":0},{"$f":"IF($F$4=\"other\",IF(U203=0,,(U203/$E$7)*'Customer Info'!$D$18),)","v":0},0,{"$f":"IF($F$5=\"breakfast\",IF(R203=0,,(R203/$E$4)*'Customer Info'!$D$19),)","v":0},{"$f":"IF($F$5=\"dinner\",IF(T203=0,,(T203/$E$6)*'Customer Info'!$D$19),)","v":0},{"$f":"IF($F$5=\"other\",IF(U203=0,,(U203/$E$7)*'Customer Info'!$D$19),)","v":0},0,{"$f":"IF($F$6=\"breakfast\",IF(R203=0,,(R203/$E$4)*'Customer Info'!$D$20),)","v":0},{"$f":"IF($F$6=\"lunch\",IF(S203=0,,(S203/$E$5)*'Customer Info'!$D$20),)","v":0},{"$f":"IF($F$6=\"other\",IF(U203=0,,(U203/$E$7)*'Customer Info'!$D$20),)","v":0},0,{"$f":"IF($F$7=\"breakfast\",IF(R203=0,,(R203/$E$4)*'Customer Info'!$D$21),)","v":0},{"$f":"IF($F$7=\"lunch\",IF(S203=0,,(S203/$E$5)*'Customer Info'!$D$21),)","v":0},{"$f":"IF($F$7=\"dinner\",IF(T203=0,,(T203/$E$6)*'Customer Info'!$D$21),)","v":0},0,{"$f":"IF($F$10=\"lunch\",IF(W203=0,,(W203/$E$11)*'Customer Info'!$F$18),)","v":0},{"$f":"IF($F$10=\"dinner\",IF(X203=0,,(X203/$E$12)*'Customer Info'!$F$18),)","v":0},{"$f":"IF($F$10=\"other\",IF(Y203=0,,(Y203/$E$13)*'Customer Info'!$F$18),)","v":0},0,{"$f":"IF($F$11=\"breakfast\",IF(V203=0,,(V203/$E$10)*'Customer Info'!$F$19),)","v":0},{"$f":"IF($F$11=\"dinner\",IF(X203=0,,(X203/$E$12)*'Customer Info'!$F$19),)","v":0},{"$f":"IF($F$11=\"other\",IF(Y203=0,,(Y203/$E$13)*'Customer Info'!$F$19),)","v":0},0,{"$f":"IF($F$12=\"breakfast\",IF(V203=0,,(V203/$E$10)*'Customer Info'!$F$20),)","v":0},{"$f":"IF($F$12=\"lunch\",IF(W203=0,,(W203/$E$11)*'Customer Info'!$F$20),)","v":0},{"$f":"IF($F$12=\"other\",IF(Y203=0,,(Y203/$E$13)*'Customer Info'!$F$20),)","v":0},0,{"$f":"IF($F$13=\"breakfast\",IF(V203=0,,(V203/$E$10)*'Customer Info'!$F$21),)","v":0},{"$f":"IF($F$13=\"lunch\",IF(W203=0,,(W203/$E$11)*'Customer Info'!$F$21),)","v":0},{"$f":"IF($F$13=\"dinner\",IF(X203=0,,(X203/$E$12)*'Customer Info'!$F$21),)","v":0},0,{"$f":"IF($F$16=\"lunch\",IF(AA203=0,,(AA203/$E$17)*'Customer Info'!$H$18),)","v":0},{"$f":"IF($F$16=\"dinner\",IF(AB203=0,,(AB203/$E$18)*'Customer Info'!$H$18),)","v":0},{"$f":"IF($F$16=\"other\",IF(AC203=0,,(AC203/$E$19)*'Customer Info'!$H$18),)","v":0},0,{"$f":"IF($F$17=\"breakfast\",IF(Z203=0,,(Z203/$E$16)*'Customer Info'!$H$19),)","v":0},{"$f":"IF($F$17=\"dinner\",IF(AB203=0,,(AB203/$E$18)*'Customer Info'!$H$19),)","v":0},{"$f":"IF($F$17=\"other\",IF(AC203=0,,(AC203/$E$19)*'Customer Info'!$H$19),)","v":0},0,{"$f":"IF($F$18=\"breakfast\",IF(Z203=0,,(Z203/$E$16)*'Customer Info'!$H$20),)","v":0},{"$f":"IF($F$18=\"lunch\",IF(AA203=0,,(AA203/$E$17)*'Customer Info'!$H$20),)","v":0},{"$f":"IF($F$18=\"other\",IF(AC203=0,,(AC203/$E$19)*'Customer Info'!$H$20),)","v":0},0,{"$f":"IF($F$19=\"breakfast\",IF(Z203=0,,(Z203/$E$16)*'Customer Info'!$H$21),)","v":0},{"$f":"IF($F$19=\"lunch\",IF(AA203=0,,(AA203/$E$17)*'Customer Info'!$H$21),)","v":0},{"$f":"IF($F$19=\"dinner\",IF(AB203=0,,(AB203/$E$18)*'Customer Info'!$H$21),)","v":0},0,0,0,0,0,""]
[null,null,null,null,null,null,null,null,null,null,0,0,0,0,0,0,0,0,0,0,0,0,0,0,0,0,0,0,0,0,0,0,0,{"$f":"IF((OR($F$4=0,$F$4=\"none\")),IF(R204=0,,IF(OR($E$4='Customer Info'!$D$18,$E$4=0),R204,(R204/$E$4)*'Customer Info'!$D$18)),)","v":0},{"$f":"IF((OR($F$5=0,$F$5=\"none\")),IF(S204=0,,IF(OR($E$5='Customer Info'!$D$18,$E$5=0),S204,(S204/$E$5)*'Customer Info'!$D$19)),)","v":0},{"$f":"IF((OR($F$6=0,$F$6=\"none\")),IF(T204=0,,IF(OR($E$6='Customer Info'!$D$18,$E$6=0),T204,(T204/$E$6)*'Customer Info'!$D$20)),)","v":0},{"$f":"IF((OR($F$7=0,$F$7=\"none\")),IF(U204=0,,IF(OR($E$7='Customer Info'!$D$18,$E$7=0),U204,(U204/$E$7)*'Customer Info'!$D$21)),)","v":0},{"$f":"IF((OR($F$10=0,$F$10=\"none\")),IF(V204=0,,IF(OR($E$10='Customer Info'!$F$18,$E$10=0),V204,(V204/$E$10)*'Customer Info'!$F$18)),)","v":0},{"$f":"IF((OR($F$11=0,$F$11=\"none\")),IF(W204=0,,IF(OR($E$11='Customer Info'!$F$19,$E$11=0),W204,(W204/$E$11)*'Customer Info'!$F$19)),)","v":0},{"$f":"IF((OR($F$12=0,$F$12=\"none\")),IF(X204=0,,IF(OR($E$12='Customer Info'!$F$20,$E$12=0),X204,(X204/$E$12)*'Customer Info'!$F$20)),)","v":0},{"$f":"IF((OR($F$13=0,$F$13=\"none\")),IF(Y204=0,,IF(OR($E$13='Customer Info'!$F$21,$E$13=0),Y204,(Y204/$E$13)*'Customer Info'!$F$21)),)","v":0},{"$f":"IF((OR($F$16=0,$F$16=\"none\")),IF(Z204=0,,IF(OR($E$16='Customer Info'!$H$18,$E$16=0),Z204,(Z204/$E$16)*'Customer Info'!$H$18)),)","v":0},{"$f":"IF((OR($F$17=0,$F$17=\"none\")),IF(AA204=0,,IF(OR($E$17='Customer Info'!$H$19,$E$17=0),AA204,(AA204/$E$17)*'Customer Info'!$H$19)),)","v":0},{"$f":"IF((OR($F$18=0,$F$18=\"none\")),IF(AB204=0,,IF(OR($E$18='Customer Info'!$H$20,$E$18=0),AB204,(AB204/$E$18)*'Customer Info'!$H$20)),)","v":0},{"$f":"IF((OR($F$19=0,$F$19=\"none\")),IF(AC204=0,,IF(OR($E$19='Customer Info'!$H$21,$E$19=0),AC204,(AC204/$E$19)*'Customer Info'!$H$21)),)","v":0},{"$f":"IF((OR($F$4=0,$F$4=\"none\")),IF(AD204=0,,IF(OR($E$4='Customer Info'!$D$18,$E$4=0),AD204,(AD204/$E$4)*'Customer Info'!$D$18)),)","v":0},{"$f":"IF((OR($F$5=0,$F$5=\"none\")),IF(AE204=0,,IF(OR($E$5='Customer Info'!$D$19,$E$5=0),AE204,(AE204/$E$5)*'Customer Info'!$D$19)),)","v":0},{"$f":"IF((OR($F$6=0,$F$6=\"none\")),IF(AF204=0,,IF(OR($E$6='Customer Info'!$D$20,$E$6=0),AF204,(AF204/$E$6)*'Customer Info'!$D$20)),)","v":0},{"$f":"IF((OR($F$7=0,$F$7=\"none\")),IF(AG204=0,,IF(OR($E$7='Customer Info'!$D$21,$E$7=0),AG204,(AG204/$E$7)*'Customer Info'!$D$21)),)","v":0},0,0,{"$f":"IF(E204=\"plate waste\",,IF('Customer Info'!$M$18=0,'Log Sheet'!AY204,'Customer Info'!$M$18*'Log Sheet'!AY204))","v":0},{"$f":"IF(E204=\"plate waste\",IF(OR(C204=\"patient\",C204=\"patient beverages\"),IF('Customer Info'!$M$27=0,AY204*'Customer Info'!$M$18,AY204*'Customer Info'!$M$27),IF(C204=\"cafeteria\",IF('Customer Info'!$M$28=0,AY204*'Customer Info'!$M$18,AY204*'Customer Info'!$M$28),IF(C204=\"other1\",IF('Customer Info'!$M$29=0,AY204*'Customer Info'!$M$18,AY204*'Customer Info'!$M$29),))),)","v":0},0,{"$f":"IF($F$4=\"lunch\",IF(S204=0,,(S204/$E$5)*'Customer Info'!$D$18),)","v":0},{"$f":"IF($F$4=\"dinner\",IF(T204=0,,(T204/$E$6)*'Customer Info'!$D$18),)","v":0},{"$f":"IF($F$4=\"other\",IF(U204=0,,(U204/$E$7)*'Customer Info'!$D$18),)","v":0},0,{"$f":"IF($F$5=\"breakfast\",IF(R204=0,,(R204/$E$4)*'Customer Info'!$D$19),)","v":0},{"$f":"IF($F$5=\"dinner\",IF(T204=0,,(T204/$E$6)*'Customer Info'!$D$19),)","v":0},{"$f":"IF($F$5=\"other\",IF(U204=0,,(U204/$E$7)*'Customer Info'!$D$19),)","v":0},0,{"$f":"IF($F$6=\"breakfast\",IF(R204=0,,(R204/$E$4)*'Customer Info'!$D$20),)","v":0},{"$f":"IF($F$6=\"lunch\",IF(S204=0,,(S204/$E$5)*'Customer Info'!$D$20),)","v":0},{"$f":"IF($F$6=\"other\",IF(U204=0,,(U204/$E$7)*'Customer Info'!$D$20),)","v":0},0,{"$f":"IF($F$7=\"breakfast\",IF(R204=0,,(R204/$E$4)*'Customer Info'!$D$21),)","v":0},{"$f":"IF($F$7=\"lunch\",IF(S204=0,,(S204/$E$5)*'Customer Info'!$D$21),)","v":0},{"$f":"IF($F$7=\"dinner\",IF(T204=0,,(T204/$E$6)*'Customer Info'!$D$21),)","v":0},0,{"$f":"IF($F$10=\"lunch\",IF(W204=0,,(W204/$E$11)*'Customer Info'!$F$18),)","v":0},{"$f":"IF($F$10=\"dinner\",IF(X204=0,,(X204/$E$12)*'Customer Info'!$F$18),)","v":0},{"$f":"IF($F$10=\"other\",IF(Y204=0,,(Y204/$E$13)*'Customer Info'!$F$18),)","v":0},0,{"$f":"IF($F$11=\"breakfast\",IF(V204=0,,(V204/$E$10)*'Customer Info'!$F$19),)","v":0},{"$f":"IF($F$11=\"dinner\",IF(X204=0,,(X204/$E$12)*'Customer Info'!$F$19),)","v":0},{"$f":"IF($F$11=\"other\",IF(Y204=0,,(Y204/$E$13)*'Customer Info'!$F$19),)","v":0},0,{"$f":"IF($F$12=\"breakfast\",IF(V204=0,,(V204/$E$10)*'Customer Info'!$F$20),)","v":0},{"$f":"IF($F$12=\"lunch\",IF(W204=0,,(W204/$E$11)*'Customer Info'!$F$20),)","v":0},{"$f":"IF($F$12=\"other\",IF(Y204=0,,(Y204/$E$13)*'Customer Info'!$F$20),)","v":0},0,{"$f":"IF($F$13=\"breakfast\",IF(V204=0,,(V204/$E$10)*'Customer Info'!$F$21),)","v":0},{"$f":"IF($F$13=\"lunch\",IF(W204=0,,(W204/$E$11)*'Customer Info'!$F$21),)","v":0},{"$f":"IF($F$13=\"dinner\",IF(X204=0,,(X204/$E$12)*'Customer Info'!$F$21),)","v":0},0,{"$f":"IF($F$16=\"lunch\",IF(AA204=0,,(AA204/$E$17)*'Customer Info'!$H$18),)","v":0},{"$f":"IF($F$16=\"dinner\",IF(AB204=0,,(AB204/$E$18)*'Customer Info'!$H$18),)","v":0},{"$f":"IF($F$16=\"other\",IF(AC204=0,,(AC204/$E$19)*'Customer Info'!$H$18),)","v":0},0,{"$f":"IF($F$17=\"breakfast\",IF(Z204=0,,(Z204/$E$16)*'Customer Info'!$H$19),)","v":0},{"$f":"IF($F$17=\"dinner\",IF(AB204=0,,(AB204/$E$18)*'Customer Info'!$H$19),)","v":0},{"$f":"IF($F$17=\"other\",IF(AC204=0,,(AC204/$E$19)*'Customer Info'!$H$19),)","v":0},0,{"$f":"IF($F$18=\"breakfast\",IF(Z204=0,,(Z204/$E$16)*'Customer Info'!$H$20),)","v":0},{"$f":"IF($F$18=\"lunch\",IF(AA204=0,,(AA204/$E$17)*'Customer Info'!$H$20),)","v":0},{"$f":"IF($F$18=\"other\",IF(AC204=0,,(AC204/$E$19)*'Customer Info'!$H$20),)","v":0},0,{"$f":"IF($F$19=\"breakfast\",IF(Z204=0,,(Z204/$E$16)*'Customer Info'!$H$21),)","v":0},{"$f":"IF($F$19=\"lunch\",IF(AA204=0,,(AA204/$E$17)*'Customer Info'!$H$21),)","v":0},{"$f":"IF($F$19=\"dinner\",IF(AB204=0,,(AB204/$E$18)*'Customer Info'!$H$21),)","v":0},0,0,0,0,0,""]
[null,null,null,null,null,null,null,null,null,null,0,0,0,0,0,0,0,0,0,0,0,0,0,0,0,0,0,0,0,0,0,0,0,{"$f":"IF((OR($F$4=0,$F$4=\"none\")),IF(R205=0,,IF(OR($E$4='Customer Info'!$D$18,$E$4=0),R205,(R205/$E$4)*'Customer Info'!$D$18)),)","v":0},{"$f":"IF((OR($F$5=0,$F$5=\"none\")),IF(S205=0,,IF(OR($E$5='Customer Info'!$D$18,$E$5=0),S205,(S205/$E$5)*'Customer Info'!$D$19)),)","v":0},{"$f":"IF((OR($F$6=0,$F$6=\"none\")),IF(T205=0,,IF(OR($E$6='Customer Info'!$D$18,$E$6=0),T205,(T205/$E$6)*'Customer Info'!$D$20)),)","v":0},{"$f":"IF((OR($F$7=0,$F$7=\"none\")),IF(U205=0,,IF(OR($E$7='Customer Info'!$D$18,$E$7=0),U205,(U205/$E$7)*'Customer Info'!$D$21)),)","v":0},{"$f":"IF((OR($F$10=0,$F$10=\"none\")),IF(V205=0,,IF(OR($E$10='Customer Info'!$F$18,$E$10=0),V205,(V205/$E$10)*'Customer Info'!$F$18)),)","v":0},{"$f":"IF((OR($F$11=0,$F$11=\"none\")),IF(W205=0,,IF(OR($E$11='Customer Info'!$F$19,$E$11=0),W205,(W205/$E$11)*'Customer Info'!$F$19)),)","v":0},{"$f":"IF((OR($F$12=0,$F$12=\"none\")),IF(X205=0,,IF(OR($E$12='Customer Info'!$F$20,$E$12=0),X205,(X205/$E$12)*'Customer Info'!$F$20)),)","v":0},{"$f":"IF((OR($F$13=0,$F$13=\"none\")),IF(Y205=0,,IF(OR($E$13='Customer Info'!$F$21,$E$13=0),Y205,(Y205/$E$13)*'Customer Info'!$F$21)),)","v":0},{"$f":"IF((OR($F$16=0,$F$16=\"none\")),IF(Z205=0,,IF(OR($E$16='Customer Info'!$H$18,$E$16=0),Z205,(Z205/$E$16)*'Customer Info'!$H$18)),)","v":0},{"$f":"IF((OR($F$17=0,$F$17=\"none\")),IF(AA205=0,,IF(OR($E$17='Customer Info'!$H$19,$E$17=0),AA205,(AA205/$E$17)*'Customer Info'!$H$19)),)","v":0},{"$f":"IF((OR($F$18=0,$F$18=\"none\")),IF(AB205=0,,IF(OR($E$18='Customer Info'!$H$20,$E$18=0),AB205,(AB205/$E$18)*'Customer Info'!$H$20)),)","v":0},{"$f":"IF((OR($F$19=0,$F$19=\"none\")),IF(AC205=0,,IF(OR($E$19='Customer Info'!$H$21,$E$19=0),AC205,(AC205/$E$19)*'Customer Info'!$H$21)),)","v":0},{"$f":"IF((OR($F$4=0,$F$4=\"none\")),IF(AD205=0,,IF(OR($E$4='Customer Info'!$D$18,$E$4=0),AD205,(AD205/$E$4)*'Customer Info'!$D$18)),)","v":0},{"$f":"IF((OR($F$5=0,$F$5=\"none\")),IF(AE205=0,,IF(OR($E$5='Customer Info'!$D$19,$E$5=0),AE205,(AE205/$E$5)*'Customer Info'!$D$19)),)","v":0},{"$f":"IF((OR($F$6=0,$F$6=\"none\")),IF(AF205=0,,IF(OR($E$6='Customer Info'!$D$20,$E$6=0),AF205,(AF205/$E$6)*'Customer Info'!$D$20)),)","v":0},{"$f":"IF((OR($F$7=0,$F$7=\"none\")),IF(AG205=0,,IF(OR($E$7='Customer Info'!$D$21,$E$7=0),AG205,(AG205/$E$7)*'Customer Info'!$D$21)),)","v":0},0,0,{"$f":"IF(E205=\"plate waste\",,IF('Customer Info'!$M$18=0,'Log Sheet'!AY205,'Customer Info'!$M$18*'Log Sheet'!AY205))","v":0},{"$f":"IF(E205=\"plate waste\",IF(OR(C205=\"patient\",C205=\"patient beverages\"),IF('Customer Info'!$M$27=0,AY205*'Customer Info'!$M$18,AY205*'Customer Info'!$M$27),IF(C205=\"cafeteria\",IF('Customer Info'!$M$28=0,AY205*'Customer Info'!$M$18,AY205*'Customer Info'!$M$28),IF(C205=\"other1\",IF('Customer Info'!$M$29=0,AY205*'Customer Info'!$M$18,AY205*'Customer Info'!$M$29),))),)","v":0},0,{"$f":"IF($F$4=\"lunch\",IF(S205=0,,(S205/$E$5)*'Customer Info'!$D$18),)","v":0},{"$f":"IF($F$4=\"dinner\",IF(T205=0,,(T205/$E$6)*'Customer Info'!$D$18),)","v":0},{"$f":"IF($F$4=\"other\",IF(U205=0,,(U205/$E$7)*'Customer Info'!$D$18),)","v":0},0,{"$f":"IF($F$5=\"breakfast\",IF(R205=0,,(R205/$E$4)*'Customer Info'!$D$19),)","v":0},{"$f":"IF($F$5=\"dinner\",IF(T205=0,,(T205/$E$6)*'Customer Info'!$D$19),)","v":0},{"$f":"IF($F$5=\"other\",IF(U205=0,,(U205/$E$7)*'Customer Info'!$D$19),)","v":0},0,{"$f":"IF($F$6=\"breakfast\",IF(R205=0,,(R205/$E$4)*'Customer Info'!$D$20),)","v":0},{"$f":"IF($F$6=\"lunch\",IF(S205=0,,(S205/$E$5)*'Customer Info'!$D$20),)","v":0},{"$f":"IF($F$6=\"other\",IF(U205=0,,(U205/$E$7)*'Customer Info'!$D$20),)","v":0},0,{"$f":"IF($F$7=\"breakfast\",IF(R205=0,,(R205/$E$4)*'Customer Info'!$D$21),)","v":0},{"$f":"IF($F$7=\"lunch\",IF(S205=0,,(S205/$E$5)*'Customer Info'!$D$21),)","v":0},{"$f":"IF($F$7=\"dinner\",IF(T205=0,,(T205/$E$6)*'Customer Info'!$D$21),)","v":0},0,{"$f":"IF($F$10=\"lunch\",IF(W205=0,,(W205/$E$11)*'Customer Info'!$F$18),)","v":0},{"$f":"IF($F$10=\"dinner\",IF(X205=0,,(X205/$E$12)*'Customer Info'!$F$18),)","v":0},{"$f":"IF($F$10=\"other\",IF(Y205=0,,(Y205/$E$13)*'Customer Info'!$F$18),)","v":0},0,{"$f":"IF($F$11=\"breakfast\",IF(V205=0,,(V205/$E$10)*'Customer Info'!$F$19),)","v":0},{"$f":"IF($F$11=\"dinner\",IF(X205=0,,(X205/$E$12)*'Customer Info'!$F$19),)","v":0},{"$f":"IF($F$11=\"other\",IF(Y205=0,,(Y205/$E$13)*'Customer Info'!$F$19),)","v":0},0,{"$f":"IF($F$12=\"breakfast\",IF(V205=0,,(V205/$E$10)*'Customer Info'!$F$20),)","v":0},{"$f":"IF($F$12=\"lunch\",IF(W205=0,,(W205/$E$11)*'Customer Info'!$F$20),)","v":0},{"$f":"IF($F$12=\"other\",IF(Y205=0,,(Y205/$E$13)*'Customer Info'!$F$20),)","v":0},0,{"$f":"IF($F$13=\"breakfast\",IF(V205=0,,(V205/$E$10)*'Customer Info'!$F$21),)","v":0},{"$f":"IF($F$13=\"lunch\",IF(W205=0,,(W205/$E$11)*'Customer Info'!$F$21),)","v":0},{"$f":"IF($F$13=\"dinner\",IF(X205=0,,(X205/$E$12)*'Customer Info'!$F$21),)","v":0},0,{"$f":"IF($F$16=\"lunch\",IF(AA205=0,,(AA205/$E$17)*'Customer Info'!$H$18),)","v":0},{"$f":"IF($F$16=\"dinner\",IF(AB205=0,,(AB205/$E$18)*'Customer Info'!$H$18),)","v":0},{"$f":"IF($F$16=\"other\",IF(AC205=0,,(AC205/$E$19)*'Customer Info'!$H$18),)","v":0},0,{"$f":"IF($F$17=\"breakfast\",IF(Z205=0,,(Z205/$E$16)*'Customer Info'!$H$19),)","v":0},{"$f":"IF($F$17=\"dinner\",IF(AB205=0,,(AB205/$E$18)*'Customer Info'!$H$19),)","v":0},{"$f":"IF($F$17=\"other\",IF(AC205=0,,(AC205/$E$19)*'Customer Info'!$H$19),)","v":0},0,{"$f":"IF($F$18=\"breakfast\",IF(Z205=0,,(Z205/$E$16)*'Customer Info'!$H$20),)","v":0},{"$f":"IF($F$18=\"lunch\",IF(AA205=0,,(AA205/$E$17)*'Customer Info'!$H$20),)","v":0},{"$f":"IF($F$18=\"other\",IF(AC205=0,,(AC205/$E$19)*'Customer Info'!$H$20),)","v":0},0,{"$f":"IF($F$19=\"breakfast\",IF(Z205=0,,(Z205/$E$16)*'Customer Info'!$H$21),)","v":0},{"$f":"IF($F$19=\"lunch\",IF(AA205=0,,(AA205/$E$17)*'Customer Info'!$H$21),)","v":0},{"$f":"IF($F$19=\"dinner\",IF(AB205=0,,(AB205/$E$18)*'Customer Info'!$H$21),)","v":0},0,0,0,0,0,""]
[null,null,null,null,null,null,null,null,null,null,0,0,0,0,0,0,0,0,0,0,0,0,0,0,0,0,0,0,0,0,0,0,0,{"$f":"IF((OR($F$4=0,$F$4=\"none\")),IF(R206=0,,IF(OR($E$4='Customer Info'!$D$18,$E$4=0),R206,(R206/$E$4)*'Customer Info'!$D$18)),)","v":0},{"$f":"IF((OR($F$5=0,$F$5=\"none\")),IF(S206=0,,IF(OR($E$5='Customer Info'!$D$18,$E$5=0),S206,(S206/$E$5)*'Customer Info'!$D$19)),)","v":0},{"$f":"IF((OR($F$6=0,$F$6=\"none\")),IF(T206=0,,IF(OR($E$6='Customer Info'!$D$18,$E$6=0),T206,(T206/$E$6)*'Customer Info'!$D$20)),)","v":0},{"$f":"IF((OR($F$7=0,$F$7=\"none\")),IF(U206=0,,IF(OR($E$7='Customer Info'!$D$18,$E$7=0),U206,(U206/$E$7)*'Customer Info'!$D$21)),)","v":0},{"$f":"IF((OR($F$10=0,$F$10=\"none\")),IF(V206=0,,IF(OR($E$10='Customer Info'!$F$18,$E$10=0),V206,(V206/$E$10)*'Customer Info'!$F$18)),)","v":0},{"$f":"IF((OR($F$11=0,$F$11=\"none\")),IF(W206=0,,IF(OR($E$11='Customer Info'!$F$19,$E$11=0),W206,(W206/$E$11)*'Customer Info'!$F$19)),)","v":0},{"$f":"IF((OR($F$12=0,$F$12=\"none\")),IF(X206=0,,IF(OR($E$12='Customer Info'!$F$20,$E$12=0),X206,(X206/$E$12)*'Customer Info'!$F$20)),)","v":0},{"$f":"IF((OR($F$13=0,$F$13=\"none\")),IF(Y206=0,,IF(OR($E$13='Customer Info'!$F$21,$E$13=0),Y206,(Y206/$E$13)*'Customer Info'!$F$21)),)","v":0},{"$f":"IF((OR($F$16=0,$F$16=\"none\")),IF(Z206=0,,IF(OR($E$16='Customer Info'!$H$18,$E$16=0),Z206,(Z206/$E$16)*'Customer Info'!$H$18)),)","v":0},{"$f":"IF((OR($F$17=0,$F$17=\"none\")),IF(AA206=0,,IF(OR($E$17='Customer Info'!$H$19,$E$17=0),AA206,(AA206/$E$17)*'Customer Info'!$H$19)),)","v":0},{"$f":"IF((OR($F$18=0,$F$18=\"none\")),IF(AB206=0,,IF(OR($E$18='Customer Info'!$H$20,$E$18=0),AB206,(AB206/$E$18)*'Customer Info'!$H$20)),)","v":0},{"$f":"IF((OR($F$19=0,$F$19=\"none\")),IF(AC206=0,,IF(OR($E$19='Customer Info'!$H$21,$E$19=0),AC206,(AC206/$E$19)*'Customer Info'!$H$21)),)","v":0},{"$f":"IF((OR($F$4=0,$F$4=\"none\")),IF(AD206=0,,IF(OR($E$4='Customer Info'!$D$18,$E$4=0),AD206,(AD206/$E$4)*'Customer Info'!$D$18)),)","v":0},{"$f":"IF((OR($F$5=0,$F$5=\"none\")),IF(AE206=0,,IF(OR($E$5='Customer Info'!$D$19,$E$5=0),AE206,(AE206/$E$5)*'Customer Info'!$D$19)),)","v":0},{"$f":"IF((OR($F$6=0,$F$6=\"none\")),IF(AF206=0,,IF(OR($E$6='Customer Info'!$D$20,$E$6=0),AF206,(AF206/$E$6)*'Customer Info'!$D$20)),)","v":0},{"$f":"IF((OR($F$7=0,$F$7=\"none\")),IF(AG206=0,,IF(OR($E$7='Customer Info'!$D$21,$E$7=0),AG206,(AG206/$E$7)*'Customer Info'!$D$21)),)","v":0},0,0,{"$f":"IF(E206=\"plate waste\",,IF('Customer Info'!$M$18=0,'Log Sheet'!AY206,'Customer Info'!$M$18*'Log Sheet'!AY206))","v":0},{"$f":"IF(E206=\"plate waste\",IF(OR(C206=\"patient\",C206=\"patient beverages\"),IF('Customer Info'!$M$27=0,AY206*'Customer Info'!$M$18,AY206*'Customer Info'!$M$27),IF(C206=\"cafeteria\",IF('Customer Info'!$M$28=0,AY206*'Customer Info'!$M$18,AY206*'Customer Info'!$M$28),IF(C206=\"other1\",IF('Customer Info'!$M$29=0,AY206*'Customer Info'!$M$18,AY206*'Customer Info'!$M$29),))),)","v":0},0,{"$f":"IF($F$4=\"lunch\",IF(S206=0,,(S206/$E$5)*'Customer Info'!$D$18),)","v":0},{"$f":"IF($F$4=\"dinner\",IF(T206=0,,(T206/$E$6)*'Customer Info'!$D$18),)","v":0},{"$f":"IF($F$4=\"other\",IF(U206=0,,(U206/$E$7)*'Customer Info'!$D$18),)","v":0},0,{"$f":"IF($F$5=\"breakfast\",IF(R206=0,,(R206/$E$4)*'Customer Info'!$D$19),)","v":0},{"$f":"IF($F$5=\"dinner\",IF(T206=0,,(T206/$E$6)*'Customer Info'!$D$19),)","v":0},{"$f":"IF($F$5=\"other\",IF(U206=0,,(U206/$E$7)*'Customer Info'!$D$19),)","v":0},0,{"$f":"IF($F$6=\"breakfast\",IF(R206=0,,(R206/$E$4)*'Customer Info'!$D$20),)","v":0},{"$f":"IF($F$6=\"lunch\",IF(S206=0,,(S206/$E$5)*'Customer Info'!$D$20),)","v":0},{"$f":"IF($F$6=\"other\",IF(U206=0,,(U206/$E$7)*'Customer Info'!$D$20),)","v":0},0,{"$f":"IF($F$7=\"breakfast\",IF(R206=0,,(R206/$E$4)*'Customer Info'!$D$21),)","v":0},{"$f":"IF($F$7=\"lunch\",IF(S206=0,,(S206/$E$5)*'Customer Info'!$D$21),)","v":0},{"$f":"IF($F$7=\"dinner\",IF(T206=0,,(T206/$E$6)*'Customer Info'!$D$21),)","v":0},0,{"$f":"IF($F$10=\"lunch\",IF(W206=0,,(W206/$E$11)*'Customer Info'!$F$18),)","v":0},{"$f":"IF($F$10=\"dinner\",IF(X206=0,,(X206/$E$12)*'Customer Info'!$F$18),)","v":0},{"$f":"IF($F$10=\"other\",IF(Y206=0,,(Y206/$E$13)*'Customer Info'!$F$18),)","v":0},0,{"$f":"IF($F$11=\"breakfast\",IF(V206=0,,(V206/$E$10)*'Customer Info'!$F$19),)","v":0},{"$f":"IF($F$11=\"dinner\",IF(X206=0,,(X206/$E$12)*'Customer Info'!$F$19),)","v":0},{"$f":"IF($F$11=\"other\",IF(Y206=0,,(Y206/$E$13)*'Customer Info'!$F$19),)","v":0},0,{"$f":"IF($F$12=\"breakfast\",IF(V206=0,,(V206/$E$10)*'Customer Info'!$F$20),)","v":0},{"$f":"IF($F$12=\"lunch\",IF(W206=0,,(W206/$E$11)*'Customer Info'!$F$20),)","v":0},{"$f":"IF($F$12=\"other\",IF(Y206=0,,(Y206/$E$13)*'Customer Info'!$F$20),)","v":0},0,{"$f":"IF($F$13=\"breakfast\",IF(V206=0,,(V206/$E$10)*'Customer Info'!$F$21),)","v":0},{"$f":"IF($F$13=\"lunch\",IF(W206=0,,(W206/$E$11)*'Customer Info'!$F$21),)","v":0},{"$f":"IF($F$13=\"dinner\",IF(X206=0,,(X206/$E$12)*'Customer Info'!$F$21),)","v":0},0,{"$f":"IF($F$16=\"lunch\",IF(AA206=0,,(AA206/$E$17)*'Customer Info'!$H$18),)","v":0},{"$f":"IF($F$16=\"dinner\",IF(AB206=0,,(AB206/$E$18)*'Customer Info'!$H$18),)","v":0},{"$f":"IF($F$16=\"other\",IF(AC206=0,,(AC206/$E$19)*'Customer Info'!$H$18),)","v":0},0,{"$f":"IF($F$17=\"breakfast\",IF(Z206=0,,(Z206/$E$16)*'Customer Info'!$H$19),)","v":0},{"$f":"IF($F$17=\"dinner\",IF(AB206=0,,(AB206/$E$18)*'Customer Info'!$H$19),)","v":0},{"$f":"IF($F$17=\"other\",IF(AC206=0,,(AC206/$E$19)*'Customer Info'!$H$19),)","v":0},0,{"$f":"IF($F$18=\"breakfast\",IF(Z206=0,,(Z206/$E$16)*'Customer Info'!$H$20),)","v":0},{"$f":"IF($F$18=\"lunch\",IF(AA206=0,,(AA206/$E$17)*'Customer Info'!$H$20),)","v":0},{"$f":"IF($F$18=\"other\",IF(AC206=0,,(AC206/$E$19)*'Customer Info'!$H$20),)","v":0},0,{"$f":"IF($F$19=\"breakfast\",IF(Z206=0,,(Z206/$E$16)*'Customer Info'!$H$21),)","v":0},{"$f":"IF($F$19=\"lunch\",IF(AA206=0,,(AA206/$E$17)*'Customer Info'!$H$21),)","v":0},{"$f":"IF($F$19=\"dinner\",IF(AB206=0,,(AB206/$E$18)*'Customer Info'!$H$21),)","v":0},0,0,0,0,0,""]
[null,null,null,null,null,null,null,null,null,null,0,0,0,0,0,0,0,0,0,0,0,0,0,0,0,0,0,0,0,0,0,0,0,{"$f":"IF((OR($F$4=0,$F$4=\"none\")),IF(R207=0,,IF(OR($E$4='Customer Info'!$D$18,$E$4=0),R207,(R207/$E$4)*'Customer Info'!$D$18)),)","v":0},{"$f":"IF((OR($F$5=0,$F$5=\"none\")),IF(S207=0,,IF(OR($E$5='Customer Info'!$D$18,$E$5=0),S207,(S207/$E$5)*'Customer Info'!$D$19)),)","v":0},{"$f":"IF((OR($F$6=0,$F$6=\"none\")),IF(T207=0,,IF(OR($E$6='Customer Info'!$D$18,$E$6=0),T207,(T207/$E$6)*'Customer Info'!$D$20)),)","v":0},{"$f":"IF((OR($F$7=0,$F$7=\"none\")),IF(U207=0,,IF(OR($E$7='Customer Info'!$D$18,$E$7=0),U207,(U207/$E$7)*'Customer Info'!$D$21)),)","v":0},{"$f":"IF((OR($F$10=0,$F$10=\"none\")),IF(V207=0,,IF(OR($E$10='Customer Info'!$F$18,$E$10=0),V207,(V207/$E$10)*'Customer Info'!$F$18)),)","v":0},{"$f":"IF((OR($F$11=0,$F$11=\"none\")),IF(W207=0,,IF(OR($E$11='Customer Info'!$F$19,$E$11=0),W207,(W207/$E$11)*'Customer Info'!$F$19)),)","v":0},{"$f":"IF((OR($F$12=0,$F$12=\"none\")),IF(X207=0,,IF(OR($E$12='Customer Info'!$F$20,$E$12=0),X207,(X207/$E$12)*'Customer Info'!$F$20)),)","v":0},{"$f":"IF((OR($F$13=0,$F$13=\"none\")),IF(Y207=0,,IF(OR($E$13='Customer Info'!$F$21,$E$13=0),Y207,(Y207/$E$13)*'Customer Info'!$F$21)),)","v":0},{"$f":"IF((OR($F$16=0,$F$16=\"none\")),IF(Z207=0,,IF(OR($E$16='Customer Info'!$H$18,$E$16=0),Z207,(Z207/$E$16)*'Customer Info'!$H$18)),)","v":0},{"$f":"IF((OR($F$17=0,$F$17=\"none\")),IF(AA207=0,,IF(OR($E$17='Customer Info'!$H$19,$E$17=0),AA207,(AA207/$E$17)*'Customer Info'!$H$19)),)","v":0},{"$f":"IF((OR($F$18=0,$F$18=\"none\")),IF(AB207=0,,IF(OR($E$18='Customer Info'!$H$20,$E$18=0),AB207,(AB207/$E$18)*'Customer Info'!$H$20)),)","v":0},{"$f":"IF((OR($F$19=0,$F$19=\"none\")),IF(AC207=0,,IF(OR($E$19='Customer Info'!$H$21,$E$19=0),AC207,(AC207/$E$19)*'Customer Info'!$H$21)),)","v":0},{"$f":"IF((OR($F$4=0,$F$4=\"none\")),IF(AD207=0,,IF(OR($E$4='Customer Info'!$D$18,$E$4=0),AD207,(AD207/$E$4)*'Customer Info'!$D$18)),)","v":0},{"$f":"IF((OR($F$5=0,$F$5=\"none\")),IF(AE207=0,,IF(OR($E$5='Customer Info'!$D$19,$E$5=0),AE207,(AE207/$E$5)*'Customer Info'!$D$19)),)","v":0},{"$f":"IF((OR($F$6=0,$F$6=\"none\")),IF(AF207=0,,IF(OR($E$6='Customer Info'!$D$20,$E$6=0),AF207,(AF207/$E$6)*'Customer Info'!$D$20)),)","v":0},{"$f":"IF((OR($F$7=0,$F$7=\"none\")),IF(AG207=0,,IF(OR($E$7='Customer Info'!$D$21,$E$7=0),AG207,(AG207/$E$7)*'Customer Info'!$D$21)),)","v":0},0,0,{"$f":"IF(E207=\"plate waste\",,IF('Customer Info'!$M$18=0,'Log Sheet'!AY207,'Customer Info'!$M$18*'Log Sheet'!AY207))","v":0},{"$f":"IF(E207=\"plate waste\",IF(OR(C207=\"patient\",C207=\"patient beverages\"),IF('Customer Info'!$M$27=0,AY207*'Customer Info'!$M$18,AY207*'Customer Info'!$M$27),IF(C207=\"cafeteria\",IF('Customer Info'!$M$28=0,AY207*'Customer Info'!$M$18,AY207*'Customer Info'!$M$28),IF(C207=\"other1\",IF('Customer Info'!$M$29=0,AY207*'Customer Info'!$M$18,AY207*'Customer Info'!$M$29),))),)","v":0},0,{"$f":"IF($F$4=\"lunch\",IF(S207=0,,(S207/$E$5)*'Customer Info'!$D$18),)","v":0},{"$f":"IF($F$4=\"dinner\",IF(T207=0,,(T207/$E$6)*'Customer Info'!$D$18),)","v":0},{"$f":"IF($F$4=\"other\",IF(U207=0,,(U207/$E$7)*'Customer Info'!$D$18),)","v":0},0,{"$f":"IF($F$5=\"breakfast\",IF(R207=0,,(R207/$E$4)*'Customer Info'!$D$19),)","v":0},{"$f":"IF($F$5=\"dinner\",IF(T207=0,,(T207/$E$6)*'Customer Info'!$D$19),)","v":0},{"$f":"IF($F$5=\"other\",IF(U207=0,,(U207/$E$7)*'Customer Info'!$D$19),)","v":0},0,{"$f":"IF($F$6=\"breakfast\",IF(R207=0,,(R207/$E$4)*'Customer Info'!$D$20),)","v":0},{"$f":"IF($F$6=\"lunch\",IF(S207=0,,(S207/$E$5)*'Customer Info'!$D$20),)","v":0},{"$f":"IF($F$6=\"other\",IF(U207=0,,(U207/$E$7)*'Customer Info'!$D$20),)","v":0},0,{"$f":"IF($F$7=\"breakfast\",IF(R207=0,,(R207/$E$4)*'Customer Info'!$D$21),)","v":0},{"$f":"IF($F$7=\"lunch\",IF(S207=0,,(S207/$E$5)*'Customer Info'!$D$21),)","v":0},{"$f":"IF($F$7=\"dinner\",IF(T207=0,,(T207/$E$6)*'Customer Info'!$D$21),)","v":0},0,{"$f":"IF($F$10=\"lunch\",IF(W207=0,,(W207/$E$11)*'Customer Info'!$F$18),)","v":0},{"$f":"IF($F$10=\"dinner\",IF(X207=0,,(X207/$E$12)*'Customer Info'!$F$18),)","v":0},{"$f":"IF($F$10=\"other\",IF(Y207=0,,(Y207/$E$13)*'Customer Info'!$F$18),)","v":0},0,{"$f":"IF($F$11=\"breakfast\",IF(V207=0,,(V207/$E$10)*'Customer Info'!$F$19),)","v":0},{"$f":"IF($F$11=\"dinner\",IF(X207=0,,(X207/$E$12)*'Customer Info'!$F$19),)","v":0},{"$f":"IF($F$11=\"other\",IF(Y207=0,,(Y207/$E$13)*'Customer Info'!$F$19),)","v":0},0,{"$f":"IF($F$12=\"breakfast\",IF(V207=0,,(V207/$E$10)*'Customer Info'!$F$20),)","v":0},{"$f":"IF($F$12=\"lunch\",IF(W207=0,,(W207/$E$11)*'Customer Info'!$F$20),)","v":0},{"$f":"IF($F$12=\"other\",IF(Y207=0,,(Y207/$E$13)*'Customer Info'!$F$20),)","v":0},0,{"$f":"IF($F$13=\"breakfast\",IF(V207=0,,(V207/$E$10)*'Customer Info'!$F$21),)","v":0},{"$f":"IF($F$13=\"lunch\",IF(W207=0,,(W207/$E$11)*'Customer Info'!$F$21),)","v":0},{"$f":"IF($F$13=\"dinner\",IF(X207=0,,(X207/$E$12)*'Customer Info'!$F$21),)","v":0},0,{"$f":"IF($F$16=\"lunch\",IF(AA207=0,,(AA207/$E$17)*'Customer Info'!$H$18),)","v":0},{"$f":"IF($F$16=\"dinner\",IF(AB207=0,,(AB207/$E$18)*'Customer Info'!$H$18),)","v":0},{"$f":"IF($F$16=\"other\",IF(AC207=0,,(AC207/$E$19)*'Customer Info'!$H$18),)","v":0},0,{"$f":"IF($F$17=\"breakfast\",IF(Z207=0,,(Z207/$E$16)*'Customer Info'!$H$19),)","v":0},{"$f":"IF($F$17=\"dinner\",IF(AB207=0,,(AB207/$E$18)*'Customer Info'!$H$19),)","v":0},{"$f":"IF($F$17=\"other\",IF(AC207=0,,(AC207/$E$19)*'Customer Info'!$H$19),)","v":0},0,{"$f":"IF($F$18=\"breakfast\",IF(Z207=0,,(Z207/$E$16)*'Customer Info'!$H$20),)","v":0},{"$f":"IF($F$18=\"lunch\",IF(AA207=0,,(AA207/$E$17)*'Customer Info'!$H$20),)","v":0},{"$f":"IF($F$18=\"other\",IF(AC207=0,,(AC207/$E$19)*'Customer Info'!$H$20),)","v":0},0,{"$f":"IF($F$19=\"breakfast\",IF(Z207=0,,(Z207/$E$16)*'Customer Info'!$H$21),)","v":0},{"$f":"IF($F$19=\"lunch\",IF(AA207=0,,(AA207/$E$17)*'Customer Info'!$H$21),)","v":0},{"$f":"IF($F$19=\"dinner\",IF(AB207=0,,(AB207/$E$18)*'Customer Info'!$H$21),)","v":0},0,0,0,0,0,""]
[null,null,null,null,null,null,null,null,null,null,0,0,0,0,0,0,0,0,0,0,0,0,0,0,0,0,0,0,0,0,0,0,0,{"$f":"IF((OR($F$4=0,$F$4=\"none\")),IF(R208=0,,IF(OR($E$4='Customer Info'!$D$18,$E$4=0),R208,(R208/$E$4)*'Customer Info'!$D$18)),)","v":0},{"$f":"IF((OR($F$5=0,$F$5=\"none\")),IF(S208=0,,IF(OR($E$5='Customer Info'!$D$18,$E$5=0),S208,(S208/$E$5)*'Customer Info'!$D$19)),)","v":0},{"$f":"IF((OR($F$6=0,$F$6=\"none\")),IF(T208=0,,IF(OR($E$6='Customer Info'!$D$18,$E$6=0),T208,(T208/$E$6)*'Customer Info'!$D$20)),)","v":0},{"$f":"IF((OR($F$7=0,$F$7=\"none\")),IF(U208=0,,IF(OR($E$7='Customer Info'!$D$18,$E$7=0),U208,(U208/$E$7)*'Customer Info'!$D$21)),)","v":0},{"$f":"IF((OR($F$10=0,$F$10=\"none\")),IF(V208=0,,IF(OR($E$10='Customer Info'!$F$18,$E$10=0),V208,(V208/$E$10)*'Customer Info'!$F$18)),)","v":0},{"$f":"IF((OR($F$11=0,$F$11=\"none\")),IF(W208=0,,IF(OR($E$11='Customer Info'!$F$19,$E$11=0),W208,(W208/$E$11)*'Customer Info'!$F$19)),)","v":0},{"$f":"IF((OR($F$12=0,$F$12=\"none\")),IF(X208=0,,IF(OR($E$12='Customer Info'!$F$20,$E$12=0),X208,(X208/$E$12)*'Customer Info'!$F$20)),)","v":0},{"$f":"IF((OR($F$13=0,$F$13=\"none\")),IF(Y208=0,,IF(OR($E$13='Customer Info'!$F$21,$E$13=0),Y208,(Y208/$E$13)*'Customer Info'!$F$21)),)","v":0},{"$f":"IF((OR($F$16=0,$F$16=\"none\")),IF(Z208=0,,IF(OR($E$16='Customer Info'!$H$18,$E$16=0),Z208,(Z208/$E$16)*'Customer Info'!$H$18)),)","v":0},{"$f":"IF((OR($F$17=0,$F$17=\"none\")),IF(AA208=0,,IF(OR($E$17='Customer Info'!$H$19,$E$17=0),AA208,(AA208/$E$17)*'Customer Info'!$H$19)),)","v":0},{"$f":"IF((OR($F$18=0,$F$18=\"none\")),IF(AB208=0,,IF(OR($E$18='Customer Info'!$H$20,$E$18=0),AB208,(AB208/$E$18)*'Customer Info'!$H$20)),)","v":0},{"$f":"IF((OR($F$19=0,$F$19=\"none\")),IF(AC208=0,,IF(OR($E$19='Customer Info'!$H$21,$E$19=0),AC208,(AC208/$E$19)*'Customer Info'!$H$21)),)","v":0},{"$f":"IF((OR($F$4=0,$F$4=\"none\")),IF(AD208=0,,IF(OR($E$4='Customer Info'!$D$18,$E$4=0),AD208,(AD208/$E$4)*'Customer Info'!$D$18)),)","v":0},{"$f":"IF((OR($F$5=0,$F$5=\"none\")),IF(AE208=0,,IF(OR($E$5='Customer Info'!$D$19,$E$5=0),AE208,(AE208/$E$5)*'Customer Info'!$D$19)),)","v":0},{"$f":"IF((OR($F$6=0,$F$6=\"none\")),IF(AF208=0,,IF(OR($E$6='Customer Info'!$D$20,$E$6=0),AF208,(AF208/$E$6)*'Customer Info'!$D$20)),)","v":0},{"$f":"IF((OR($F$7=0,$F$7=\"none\")),IF(AG208=0,,IF(OR($E$7='Customer Info'!$D$21,$E$7=0),AG208,(AG208/$E$7)*'Customer Info'!$D$21)),)","v":0},0,0,{"$f":"IF(E208=\"plate waste\",,IF('Customer Info'!$M$18=0,'Log Sheet'!AY208,'Customer Info'!$M$18*'Log Sheet'!AY208))","v":0},{"$f":"IF(E208=\"plate waste\",IF(OR(C208=\"patient\",C208=\"patient beverages\"),IF('Customer Info'!$M$27=0,AY208*'Customer Info'!$M$18,AY208*'Customer Info'!$M$27),IF(C208=\"cafeteria\",IF('Customer Info'!$M$28=0,AY208*'Customer Info'!$M$18,AY208*'Customer Info'!$M$28),IF(C208=\"other1\",IF('Customer Info'!$M$29=0,AY208*'Customer Info'!$M$18,AY208*'Customer Info'!$M$29),))),)","v":0},0,{"$f":"IF($F$4=\"lunch\",IF(S208=0,,(S208/$E$5)*'Customer Info'!$D$18),)","v":0},{"$f":"IF($F$4=\"dinner\",IF(T208=0,,(T208/$E$6)*'Customer Info'!$D$18),)","v":0},{"$f":"IF($F$4=\"other\",IF(U208=0,,(U208/$E$7)*'Customer Info'!$D$18),)","v":0},0,{"$f":"IF($F$5=\"breakfast\",IF(R208=0,,(R208/$E$4)*'Customer Info'!$D$19),)","v":0},{"$f":"IF($F$5=\"dinner\",IF(T208=0,,(T208/$E$6)*'Customer Info'!$D$19),)","v":0},{"$f":"IF($F$5=\"other\",IF(U208=0,,(U208/$E$7)*'Customer Info'!$D$19),)","v":0},0,{"$f":"IF($F$6=\"breakfast\",IF(R208=0,,(R208/$E$4)*'Customer Info'!$D$20),)","v":0},{"$f":"IF($F$6=\"lunch\",IF(S208=0,,(S208/$E$5)*'Customer Info'!$D$20),)","v":0},{"$f":"IF($F$6=\"other\",IF(U208=0,,(U208/$E$7)*'Customer Info'!$D$20),)","v":0},0,{"$f":"IF($F$7=\"breakfast\",IF(R208=0,,(R208/$E$4)*'Customer Info'!$D$21),)","v":0},{"$f":"IF($F$7=\"lunch\",IF(S208=0,,(S208/$E$5)*'Customer Info'!$D$21),)","v":0},{"$f":"IF($F$7=\"dinner\",IF(T208=0,,(T208/$E$6)*'Customer Info'!$D$21),)","v":0},0,{"$f":"IF($F$10=\"lunch\",IF(W208=0,,(W208/$E$11)*'Customer Info'!$F$18),)","v":0},{"$f":"IF($F$10=\"dinner\",IF(X208=0,,(X208/$E$12)*'Customer Info'!$F$18),)","v":0},{"$f":"IF($F$10=\"other\",IF(Y208=0,,(Y208/$E$13)*'Customer Info'!$F$18),)","v":0},0,{"$f":"IF($F$11=\"breakfast\",IF(V208=0,,(V208/$E$10)*'Customer Info'!$F$19),)","v":0},{"$f":"IF($F$11=\"dinner\",IF(X208=0,,(X208/$E$12)*'Customer Info'!$F$19),)","v":0},{"$f":"IF($F$11=\"other\",IF(Y208=0,,(Y208/$E$13)*'Customer Info'!$F$19),)","v":0},0,{"$f":"IF($F$12=\"breakfast\",IF(V208=0,,(V208/$E$10)*'Customer Info'!$F$20),)","v":0},{"$f":"IF($F$12=\"lunch\",IF(W208=0,,(W208/$E$11)*'Customer Info'!$F$20),)","v":0},{"$f":"IF($F$12=\"other\",IF(Y208=0,,(Y208/$E$13)*'Customer Info'!$F$20),)","v":0},0,{"$f":"IF($F$13=\"breakfast\",IF(V208=0,,(V208/$E$10)*'Customer Info'!$F$21),)","v":0},{"$f":"IF($F$13=\"lunch\",IF(W208=0,,(W208/$E$11)*'Customer Info'!$F$21),)","v":0},{"$f":"IF($F$13=\"dinner\",IF(X208=0,,(X208/$E$12)*'Customer Info'!$F$21),)","v":0},0,{"$f":"IF($F$16=\"lunch\",IF(AA208=0,,(AA208/$E$17)*'Customer Info'!$H$18),)","v":0},{"$f":"IF($F$16=\"dinner\",IF(AB208=0,,(AB208/$E$18)*'Customer Info'!$H$18),)","v":0},{"$f":"IF($F$16=\"other\",IF(AC208=0,,(AC208/$E$19)*'Customer Info'!$H$18),)","v":0},0,{"$f":"IF($F$17=\"breakfast\",IF(Z208=0,,(Z208/$E$16)*'Customer Info'!$H$19),)","v":0},{"$f":"IF($F$17=\"dinner\",IF(AB208=0,,(AB208/$E$18)*'Customer Info'!$H$19),)","v":0},{"$f":"IF($F$17=\"other\",IF(AC208=0,,(AC208/$E$19)*'Customer Info'!$H$19),)","v":0},0,{"$f":"IF($F$18=\"breakfast\",IF(Z208=0,,(Z208/$E$16)*'Customer Info'!$H$20),)","v":0},{"$f":"IF($F$18=\"lunch\",IF(AA208=0,,(AA208/$E$17)*'Customer Info'!$H$20),)","v":0},{"$f":"IF($F$18=\"other\",IF(AC208=0,,(AC208/$E$19)*'Customer Info'!$H$20),)","v":0},0,{"$f":"IF($F$19=\"breakfast\",IF(Z208=0,,(Z208/$E$16)*'Customer Info'!$H$21),)","v":0},{"$f":"IF($F$19=\"lunch\",IF(AA208=0,,(AA208/$E$17)*'Customer Info'!$H$21),)","v":0},{"$f":"IF($F$19=\"dinner\",IF(AB208=0,,(AB208/$E$18)*'Customer Info'!$H$21),)","v":0},0,0,0,0,0,""]
[null,null,null,null,null,null,null,null,null,null,0,0,0,0,0,0,0,0,0,0,0,0,0,0,0,0,0,0,0,0,0,0,0,{"$f":"IF((OR($F$4=0,$F$4=\"none\")),IF(R209=0,,IF(OR($E$4='Customer Info'!$D$18,$E$4=0),R209,(R209/$E$4)*'Customer Info'!$D$18)),)","v":0},{"$f":"IF((OR($F$5=0,$F$5=\"none\")),IF(S209=0,,IF(OR($E$5='Customer Info'!$D$18,$E$5=0),S209,(S209/$E$5)*'Customer Info'!$D$19)),)","v":0},{"$f":"IF((OR($F$6=0,$F$6=\"none\")),IF(T209=0,,IF(OR($E$6='Customer Info'!$D$18,$E$6=0),T209,(T209/$E$6)*'Customer Info'!$D$20)),)","v":0},{"$f":"IF((OR($F$7=0,$F$7=\"none\")),IF(U209=0,,IF(OR($E$7='Customer Info'!$D$18,$E$7=0),U209,(U209/$E$7)*'Customer Info'!$D$21)),)","v":0},{"$f":"IF((OR($F$10=0,$F$10=\"none\")),IF(V209=0,,IF(OR($E$10='Customer Info'!$F$18,$E$10=0),V209,(V209/$E$10)*'Customer Info'!$F$18)),)","v":0},{"$f":"IF((OR($F$11=0,$F$11=\"none\")),IF(W209=0,,IF(OR($E$11='Customer Info'!$F$19,$E$11=0),W209,(W209/$E$11)*'Customer Info'!$F$19)),)","v":0},{"$f":"IF((OR($F$12=0,$F$12=\"none\")),IF(X209=0,,IF(OR($E$12='Customer Info'!$F$20,$E$12=0),X209,(X209/$E$12)*'Customer Info'!$F$20)),)","v":0},{"$f":"IF((OR($F$13=0,$F$13=\"none\")),IF(Y209=0,,IF(OR($E$13='Customer Info'!$F$21,$E$13=0),Y209,(Y209/$E$13)*'Customer Info'!$F$21)),)","v":0},{"$f":"IF((OR($F$16=0,$F$16=\"none\")),IF(Z209=0,,IF(OR($E$16='Customer Info'!$H$18,$E$16=0),Z209,(Z209/$E$16)*'Customer Info'!$H$18)),)","v":0},{"$f":"IF((OR($F$17=0,$F$17=\"none\")),IF(AA209=0,,IF(OR($E$17='Customer Info'!$H$19,$E$17=0),AA209,(AA209/$E$17)*'Customer Info'!$H$19)),)","v":0},{"$f":"IF((OR($F$18=0,$F$18=\"none\")),IF(AB209=0,,IF(OR($E$18='Customer Info'!$H$20,$E$18=0),AB209,(AB209/$E$18)*'Customer Info'!$H$20)),)","v":0},{"$f":"IF((OR($F$19=0,$F$19=\"none\")),IF(AC209=0,,IF(OR($E$19='Customer Info'!$H$21,$E$19=0),AC209,(AC209/$E$19)*'Customer Info'!$H$21)),)","v":0},{"$f":"IF((OR($F$4=0,$F$4=\"none\")),IF(AD209=0,,IF(OR($E$4='Customer Info'!$D$18,$E$4=0),AD209,(AD209/$E$4)*'Customer Info'!$D$18)),)","v":0},{"$f":"IF((OR($F$5=0,$F$5=\"none\")),IF(AE209=0,,IF(OR($E$5='Customer Info'!$D$19,$E$5=0),AE209,(AE209/$E$5)*'Customer Info'!$D$19)),)","v":0},{"$f":"IF((OR($F$6=0,$F$6=\"none\")),IF(AF209=0,,IF(OR($E$6='Customer Info'!$D$20,$E$6=0),AF209,(AF209/$E$6)*'Customer Info'!$D$20)),)","v":0},{"$f":"IF((OR($F$7=0,$F$7=\"none\")),IF(AG209=0,,IF(OR($E$7='Customer Info'!$D$21,$E$7=0),AG209,(AG209/$E$7)*'Customer Info'!$D$21)),)","v":0},0,0,{"$f":"IF(E209=\"plate waste\",,IF('Customer Info'!$M$18=0,'Log Sheet'!AY209,'Customer Info'!$M$18*'Log Sheet'!AY209))","v":0},{"$f":"IF(E209=\"plate waste\",IF(OR(C209=\"patient\",C209=\"patient beverages\"),IF('Customer Info'!$M$27=0,AY209*'Customer Info'!$M$18,AY209*'Customer Info'!$M$27),IF(C209=\"cafeteria\",IF('Customer Info'!$M$28=0,AY209*'Customer Info'!$M$18,AY209*'Customer Info'!$M$28),IF(C209=\"other1\",IF('Customer Info'!$M$29=0,AY209*'Customer Info'!$M$18,AY209*'Customer Info'!$M$29),))),)","v":0},0,{"$f":"IF($F$4=\"lunch\",IF(S209=0,,(S209/$E$5)*'Customer Info'!$D$18),)","v":0},{"$f":"IF($F$4=\"dinner\",IF(T209=0,,(T209/$E$6)*'Customer Info'!$D$18),)","v":0},{"$f":"IF($F$4=\"other\",IF(U209=0,,(U209/$E$7)*'Customer Info'!$D$18),)","v":0},0,{"$f":"IF($F$5=\"breakfast\",IF(R209=0,,(R209/$E$4)*'Customer Info'!$D$19),)","v":0},{"$f":"IF($F$5=\"dinner\",IF(T209=0,,(T209/$E$6)*'Customer Info'!$D$19),)","v":0},{"$f":"IF($F$5=\"other\",IF(U209=0,,(U209/$E$7)*'Customer Info'!$D$19),)","v":0},0,{"$f":"IF($F$6=\"breakfast\",IF(R209=0,,(R209/$E$4)*'Customer Info'!$D$20),)","v":0},{"$f":"IF($F$6=\"lunch\",IF(S209=0,,(S209/$E$5)*'Customer Info'!$D$20),)","v":0},{"$f":"IF($F$6=\"other\",IF(U209=0,,(U209/$E$7)*'Customer Info'!$D$20),)","v":0},0,{"$f":"IF($F$7=\"breakfast\",IF(R209=0,,(R209/$E$4)*'Customer Info'!$D$21),)","v":0},{"$f":"IF($F$7=\"lunch\",IF(S209=0,,(S209/$E$5)*'Customer Info'!$D$21),)","v":0},{"$f":"IF($F$7=\"dinner\",IF(T209=0,,(T209/$E$6)*'Customer Info'!$D$21),)","v":0},0,{"$f":"IF($F$10=\"lunch\",IF(W209=0,,(W209/$E$11)*'Customer Info'!$F$18),)","v":0},{"$f":"IF($F$10=\"dinner\",IF(X209=0,,(X209/$E$12)*'Customer Info'!$F$18),)","v":0},{"$f":"IF($F$10=\"other\",IF(Y209=0,,(Y209/$E$13)*'Customer Info'!$F$18),)","v":0},0,{"$f":"IF($F$11=\"breakfast\",IF(V209=0,,(V209/$E$10)*'Customer Info'!$F$19),)","v":0},{"$f":"IF($F$11=\"dinner\",IF(X209=0,,(X209/$E$12)*'Customer Info'!$F$19),)","v":0},{"$f":"IF($F$11=\"other\",IF(Y209=0,,(Y209/$E$13)*'Customer Info'!$F$19),)","v":0},0,{"$f":"IF($F$12=\"breakfast\",IF(V209=0,,(V209/$E$10)*'Customer Info'!$F$20),)","v":0},{"$f":"IF($F$12=\"lunch\",IF(W209=0,,(W209/$E$11)*'Customer Info'!$F$20),)","v":0},{"$f":"IF($F$12=\"other\",IF(Y209=0,,(Y209/$E$13)*'Customer Info'!$F$20),)","v":0},0,{"$f":"IF($F$13=\"breakfast\",IF(V209=0,,(V209/$E$10)*'Customer Info'!$F$21),)","v":0},{"$f":"IF($F$13=\"lunch\",IF(W209=0,,(W209/$E$11)*'Customer Info'!$F$21),)","v":0},{"$f":"IF($F$13=\"dinner\",IF(X209=0,,(X209/$E$12)*'Customer Info'!$F$21),)","v":0},0,{"$f":"IF($F$16=\"lunch\",IF(AA209=0,,(AA209/$E$17)*'Customer Info'!$H$18),)","v":0},{"$f":"IF($F$16=\"dinner\",IF(AB209=0,,(AB209/$E$18)*'Customer Info'!$H$18),)","v":0},{"$f":"IF($F$16=\"other\",IF(AC209=0,,(AC209/$E$19)*'Customer Info'!$H$18),)","v":0},0,{"$f":"IF($F$17=\"breakfast\",IF(Z209=0,,(Z209/$E$16)*'Customer Info'!$H$19),)","v":0},{"$f":"IF($F$17=\"dinner\",IF(AB209=0,,(AB209/$E$18)*'Customer Info'!$H$19),)","v":0},{"$f":"IF($F$17=\"other\",IF(AC209=0,,(AC209/$E$19)*'Customer Info'!$H$19),)","v":0},0,{"$f":"IF($F$18=\"breakfast\",IF(Z209=0,,(Z209/$E$16)*'Customer Info'!$H$20),)","v":0},{"$f":"IF($F$18=\"lunch\",IF(AA209=0,,(AA209/$E$17)*'Customer Info'!$H$20),)","v":0},{"$f":"IF($F$18=\"other\",IF(AC209=0,,(AC209/$E$19)*'Customer Info'!$H$20),)","v":0},0,{"$f":"IF($F$19=\"breakfast\",IF(Z209=0,,(Z209/$E$16)*'Customer Info'!$H$21),)","v":0},{"$f":"IF($F$19=\"lunch\",IF(AA209=0,,(AA209/$E$17)*'Customer Info'!$H$21),)","v":0},{"$f":"IF($F$19=\"dinner\",IF(AB209=0,,(AB209/$E$18)*'Customer Info'!$H$21),)","v":0},0,0,0,0,0,""]
[null,null,null,null,null,null,null,null,null,null,0,0,0,0,0,0,0,0,0,0,0,0,0,0,0,0,0,0,0,0,0,0,0,{"$f":"IF((OR($F$4=0,$F$4=\"none\")),IF(R210=0,,IF(OR($E$4='Customer Info'!$D$18,$E$4=0),R210,(R210/$E$4)*'Customer Info'!$D$18)),)","v":0},{"$f":"IF((OR($F$5=0,$F$5=\"none\")),IF(S210=0,,IF(OR($E$5='Customer Info'!$D$18,$E$5=0),S210,(S210/$E$5)*'Customer Info'!$D$19)),)","v":0},{"$f":"IF((OR($F$6=0,$F$6=\"none\")),IF(T210=0,,IF(OR($E$6='Customer Info'!$D$18,$E$6=0),T210,(T210/$E$6)*'Customer Info'!$D$20)),)","v":0},{"$f":"IF((OR($F$7=0,$F$7=\"none\")),IF(U210=0,,IF(OR($E$7='Customer Info'!$D$18,$E$7=0),U210,(U210/$E$7)*'Customer Info'!$D$21)),)","v":0},{"$f":"IF((OR($F$10=0,$F$10=\"none\")),IF(V210=0,,IF(OR($E$10='Customer Info'!$F$18,$E$10=0),V210,(V210/$E$10)*'Customer Info'!$F$18)),)","v":0},{"$f":"IF((OR($F$11=0,$F$11=\"none\")),IF(W210=0,,IF(OR($E$11='Customer Info'!$F$19,$E$11=0),W210,(W210/$E$11)*'Customer Info'!$F$19)),)","v":0},{"$f":"IF((OR($F$12=0,$F$12=\"none\")),IF(X210=0,,IF(OR($E$12='Customer Info'!$F$20,$E$12=0),X210,(X210/$E$12)*'Customer Info'!$F$20)),)","v":0},{"$f":"IF((OR($F$13=0,$F$13=\"none\")),IF(Y210=0,,IF(OR($E$13='Customer Info'!$F$21,$E$13=0),Y210,(Y210/$E$13)*'Customer Info'!$F$21)),)","v":0},{"$f":"IF((OR($F$16=0,$F$16=\"none\")),IF(Z210=0,,IF(OR($E$16='Customer Info'!$H$18,$E$16=0),Z210,(Z210/$E$16)*'Customer Info'!$H$18)),)","v":0},{"$f":"IF((OR($F$17=0,$F$17=\"none\")),IF(AA210=0,,IF(OR($E$17='Customer Info'!$H$19,$E$17=0),AA210,(AA210/$E$17)*'Customer Info'!$H$19)),)","v":0},{"$f":"IF((OR($F$18=0,$F$18=\"none\")),IF(AB210=0,,IF(OR($E$18='Customer Info'!$H$20,$E$18=0),AB210,(AB210/$E$18)*'Customer Info'!$H$20)),)","v":0},{"$f":"IF((OR($F$19=0,$F$19=\"none\")),IF(AC210=0,,IF(OR($E$19='Customer Info'!$H$21,$E$19=0),AC210,(AC210/$E$19)*'Customer Info'!$H$21)),)","v":0},{"$f":"IF((OR($F$4=0,$F$4=\"none\")),IF(AD210=0,,IF(OR($E$4='Customer Info'!$D$18,$E$4=0),AD210,(AD210/$E$4)*'Customer Info'!$D$18)),)","v":0},{"$f":"IF((OR($F$5=0,$F$5=\"none\")),IF(AE210=0,,IF(OR($E$5='Customer Info'!$D$19,$E$5=0),AE210,(AE210/$E$5)*'Customer Info'!$D$19)),)","v":0},{"$f":"IF((OR($F$6=0,$F$6=\"none\")),IF(AF210=0,,IF(OR($E$6='Customer Info'!$D$20,$E$6=0),AF210,(AF210/$E$6)*'Customer Info'!$D$20)),)","v":0},{"$f":"IF((OR($F$7=0,$F$7=\"none\")),IF(AG210=0,,IF(OR($E$7='Customer Info'!$D$21,$E$7=0),AG210,(AG210/$E$7)*'Customer Info'!$D$21)),)","v":0},0,0,{"$f":"IF(E210=\"plate waste\",,IF('Customer Info'!$M$18=0,'Log Sheet'!AY210,'Customer Info'!$M$18*'Log Sheet'!AY210))","v":0},{"$f":"IF(E210=\"plate waste\",IF(OR(C210=\"patient\",C210=\"patient beverages\"),IF('Customer Info'!$M$27=0,AY210*'Customer Info'!$M$18,AY210*'Customer Info'!$M$27),IF(C210=\"cafeteria\",IF('Customer Info'!$M$28=0,AY210*'Customer Info'!$M$18,AY210*'Customer Info'!$M$28),IF(C210=\"other1\",IF('Customer Info'!$M$29=0,AY210*'Customer Info'!$M$18,AY210*'Customer Info'!$M$29),))),)","v":0},0,{"$f":"IF($F$4=\"lunch\",IF(S210=0,,(S210/$E$5)*'Customer Info'!$D$18),)","v":0},{"$f":"IF($F$4=\"dinner\",IF(T210=0,,(T210/$E$6)*'Customer Info'!$D$18),)","v":0},{"$f":"IF($F$4=\"other\",IF(U210=0,,(U210/$E$7)*'Customer Info'!$D$18),)","v":0},0,{"$f":"IF($F$5=\"breakfast\",IF(R210=0,,(R210/$E$4)*'Customer Info'!$D$19),)","v":0},{"$f":"IF($F$5=\"dinner\",IF(T210=0,,(T210/$E$6)*'Customer Info'!$D$19),)","v":0},{"$f":"IF($F$5=\"other\",IF(U210=0,,(U210/$E$7)*'Customer Info'!$D$19),)","v":0},0,{"$f":"IF($F$6=\"breakfast\",IF(R210=0,,(R210/$E$4)*'Customer Info'!$D$20),)","v":0},{"$f":"IF($F$6=\"lunch\",IF(S210=0,,(S210/$E$5)*'Customer Info'!$D$20),)","v":0},{"$f":"IF($F$6=\"other\",IF(U210=0,,(U210/$E$7)*'Customer Info'!$D$20),)","v":0},0,{"$f":"IF($F$7=\"breakfast\",IF(R210=0,,(R210/$E$4)*'Customer Info'!$D$21),)","v":0},{"$f":"IF($F$7=\"lunch\",IF(S210=0,,(S210/$E$5)*'Customer Info'!$D$21),)","v":0},{"$f":"IF($F$7=\"dinner\",IF(T210=0,,(T210/$E$6)*'Customer Info'!$D$21),)","v":0},0,{"$f":"IF($F$10=\"lunch\",IF(W210=0,,(W210/$E$11)*'Customer Info'!$F$18),)","v":0},{"$f":"IF($F$10=\"dinner\",IF(X210=0,,(X210/$E$12)*'Customer Info'!$F$18),)","v":0},{"$f":"IF($F$10=\"other\",IF(Y210=0,,(Y210/$E$13)*'Customer Info'!$F$18),)","v":0},0,{"$f":"IF($F$11=\"breakfast\",IF(V210=0,,(V210/$E$10)*'Customer Info'!$F$19),)","v":0},{"$f":"IF($F$11=\"dinner\",IF(X210=0,,(X210/$E$12)*'Customer Info'!$F$19),)","v":0},{"$f":"IF($F$11=\"other\",IF(Y210=0,,(Y210/$E$13)*'Customer Info'!$F$19),)","v":0},0,{"$f":"IF($F$12=\"breakfast\",IF(V210=0,,(V210/$E$10)*'Customer Info'!$F$20),)","v":0},{"$f":"IF($F$12=\"lunch\",IF(W210=0,,(W210/$E$11)*'Customer Info'!$F$20),)","v":0},{"$f":"IF($F$12=\"other\",IF(Y210=0,,(Y210/$E$13)*'Customer Info'!$F$20),)","v":0},0,{"$f":"IF($F$13=\"breakfast\",IF(V210=0,,(V210/$E$10)*'Customer Info'!$F$21),)","v":0},{"$f":"IF($F$13=\"lunch\",IF(W210=0,,(W210/$E$11)*'Customer Info'!$F$21),)","v":0},{"$f":"IF($F$13=\"dinner\",IF(X210=0,,(X210/$E$12)*'Customer Info'!$F$21),)","v":0},0,{"$f":"IF($F$16=\"lunch\",IF(AA210=0,,(AA210/$E$17)*'Customer Info'!$H$18),)","v":0},{"$f":"IF($F$16=\"dinner\",IF(AB210=0,,(AB210/$E$18)*'Customer Info'!$H$18),)","v":0},{"$f":"IF($F$16=\"other\",IF(AC210=0,,(AC210/$E$19)*'Customer Info'!$H$18),)","v":0},0,{"$f":"IF($F$17=\"breakfast\",IF(Z210=0,,(Z210/$E$16)*'Customer Info'!$H$19),)","v":0},{"$f":"IF($F$17=\"dinner\",IF(AB210=0,,(AB210/$E$18)*'Customer Info'!$H$19),)","v":0},{"$f":"IF($F$17=\"other\",IF(AC210=0,,(AC210/$E$19)*'Customer Info'!$H$19),)","v":0},0,{"$f":"IF($F$18=\"breakfast\",IF(Z210=0,,(Z210/$E$16)*'Customer Info'!$H$20),)","v":0},{"$f":"IF($F$18=\"lunch\",IF(AA210=0,,(AA210/$E$17)*'Customer Info'!$H$20),)","v":0},{"$f":"IF($F$18=\"other\",IF(AC210=0,,(AC210/$E$19)*'Customer Info'!$H$20),)","v":0},0,{"$f":"IF($F$19=\"breakfast\",IF(Z210=0,,(Z210/$E$16)*'Customer Info'!$H$21),)","v":0},{"$f":"IF($F$19=\"lunch\",IF(AA210=0,,(AA210/$E$17)*'Customer Info'!$H$21),)","v":0},{"$f":"IF($F$19=\"dinner\",IF(AB210=0,,(AB210/$E$18)*'Customer Info'!$H$21),)","v":0},0,0,0,0,0,""]
[null,null,null,null,null,null,null,null,null,null,0,0,0,0,0,0,0,0,0,0,0,0,0,0,0,0,0,0,0,0,0,0,0,{"$f":"IF((OR($F$4=0,$F$4=\"none\")),IF(R211=0,,IF(OR($E$4='Customer Info'!$D$18,$E$4=0),R211,(R211/$E$4)*'Customer Info'!$D$18)),)","v":0},{"$f":"IF((OR($F$5=0,$F$5=\"none\")),IF(S211=0,,IF(OR($E$5='Customer Info'!$D$18,$E$5=0),S211,(S211/$E$5)*'Customer Info'!$D$19)),)","v":0},{"$f":"IF((OR($F$6=0,$F$6=\"none\")),IF(T211=0,,IF(OR($E$6='Customer Info'!$D$18,$E$6=0),T211,(T211/$E$6)*'Customer Info'!$D$20)),)","v":0},{"$f":"IF((OR($F$7=0,$F$7=\"none\")),IF(U211=0,,IF(OR($E$7='Customer Info'!$D$18,$E$7=0),U211,(U211/$E$7)*'Customer Info'!$D$21)),)","v":0},{"$f":"IF((OR($F$10=0,$F$10=\"none\")),IF(V211=0,,IF(OR($E$10='Customer Info'!$F$18,$E$10=0),V211,(V211/$E$10)*'Customer Info'!$F$18)),)","v":0},{"$f":"IF((OR($F$11=0,$F$11=\"none\")),IF(W211=0,,IF(OR($E$11='Customer Info'!$F$19,$E$11=0),W211,(W211/$E$11)*'Customer Info'!$F$19)),)","v":0},{"$f":"IF((OR($F$12=0,$F$12=\"none\")),IF(X211=0,,IF(OR($E$12='Customer Info'!$F$20,$E$12=0),X211,(X211/$E$12)*'Customer Info'!$F$20)),)","v":0},{"$f":"IF((OR($F$13=0,$F$13=\"none\")),IF(Y211=0,,IF(OR($E$13='Customer Info'!$F$21,$E$13=0),Y211,(Y211/$E$13)*'Customer Info'!$F$21)),)","v":0},{"$f":"IF((OR($F$16=0,$F$16=\"none\")),IF(Z211=0,,IF(OR($E$16='Customer Info'!$H$18,$E$16=0),Z211,(Z211/$E$16)*'Customer Info'!$H$18)),)","v":0},{"$f":"IF((OR($F$17=0,$F$17=\"none\")),IF(AA211=0,,IF(OR($E$17='Customer Info'!$H$19,$E$17=0),AA211,(AA211/$E$17)*'Customer Info'!$H$19)),)","v":0},{"$f":"IF((OR($F$18=0,$F$18=\"none\")),IF(AB211=0,,IF(OR($E$18='Customer Info'!$H$20,$E$18=0),AB211,(AB211/$E$18)*'Customer Info'!$H$20)),)","v":0},{"$f":"IF((OR($F$19=0,$F$19=\"none\")),IF(AC211=0,,IF(OR($E$19='Customer Info'!$H$21,$E$19=0),AC211,(AC211/$E$19)*'Customer Info'!$H$21)),)","v":0},{"$f":"IF((OR($F$4=0,$F$4=\"none\")),IF(AD211=0,,IF(OR($E$4='Customer Info'!$D$18,$E$4=0),AD211,(AD211/$E$4)*'Customer Info'!$D$18)),)","v":0},{"$f":"IF((OR($F$5=0,$F$5=\"none\")),IF(AE211=0,,IF(OR($E$5='Customer Info'!$D$19,$E$5=0),AE211,(AE211/$E$5)*'Customer Info'!$D$19)),)","v":0},{"$f":"IF((OR($F$6=0,$F$6=\"none\")),IF(AF211=0,,IF(OR($E$6='Customer Info'!$D$20,$E$6=0),AF211,(AF211/$E$6)*'Customer Info'!$D$20)),)","v":0},{"$f":"IF((OR($F$7=0,$F$7=\"none\")),IF(AG211=0,,IF(OR($E$7='Customer Info'!$D$21,$E$7=0),AG211,(AG211/$E$7)*'Customer Info'!$D$21)),)","v":0},0,0,{"$f":"IF(E211=\"plate waste\",,IF('Customer Info'!$M$18=0,'Log Sheet'!AY211,'Customer Info'!$M$18*'Log Sheet'!AY211))","v":0},{"$f":"IF(E211=\"plate waste\",IF(OR(C211=\"patient\",C211=\"patient beverages\"),IF('Customer Info'!$M$27=0,AY211*'Customer Info'!$M$18,AY211*'Customer Info'!$M$27),IF(C211=\"cafeteria\",IF('Customer Info'!$M$28=0,AY211*'Customer Info'!$M$18,AY211*'Customer Info'!$M$28),IF(C211=\"other1\",IF('Customer Info'!$M$29=0,AY211*'Customer Info'!$M$18,AY211*'Customer Info'!$M$29),))),)","v":0},0,{"$f":"IF($F$4=\"lunch\",IF(S211=0,,(S211/$E$5)*'Customer Info'!$D$18),)","v":0},{"$f":"IF($F$4=\"dinner\",IF(T211=0,,(T211/$E$6)*'Customer Info'!$D$18),)","v":0},{"$f":"IF($F$4=\"other\",IF(U211=0,,(U211/$E$7)*'Customer Info'!$D$18),)","v":0},0,{"$f":"IF($F$5=\"breakfast\",IF(R211=0,,(R211/$E$4)*'Customer Info'!$D$19),)","v":0},{"$f":"IF($F$5=\"dinner\",IF(T211=0,,(T211/$E$6)*'Customer Info'!$D$19),)","v":0},{"$f":"IF($F$5=\"other\",IF(U211=0,,(U211/$E$7)*'Customer Info'!$D$19),)","v":0},0,{"$f":"IF($F$6=\"breakfast\",IF(R211=0,,(R211/$E$4)*'Customer Info'!$D$20),)","v":0},{"$f":"IF($F$6=\"lunch\",IF(S211=0,,(S211/$E$5)*'Customer Info'!$D$20),)","v":0},{"$f":"IF($F$6=\"other\",IF(U211=0,,(U211/$E$7)*'Customer Info'!$D$20),)","v":0},0,{"$f":"IF($F$7=\"breakfast\",IF(R211=0,,(R211/$E$4)*'Customer Info'!$D$21),)","v":0},{"$f":"IF($F$7=\"lunch\",IF(S211=0,,(S211/$E$5)*'Customer Info'!$D$21),)","v":0},{"$f":"IF($F$7=\"dinner\",IF(T211=0,,(T211/$E$6)*'Customer Info'!$D$21),)","v":0},0,{"$f":"IF($F$10=\"lunch\",IF(W211=0,,(W211/$E$11)*'Customer Info'!$F$18),)","v":0},{"$f":"IF($F$10=\"dinner\",IF(X211=0,,(X211/$E$12)*'Customer Info'!$F$18),)","v":0},{"$f":"IF($F$10=\"other\",IF(Y211=0,,(Y211/$E$13)*'Customer Info'!$F$18),)","v":0},0,{"$f":"IF($F$11=\"breakfast\",IF(V211=0,,(V211/$E$10)*'Customer Info'!$F$19),)","v":0},{"$f":"IF($F$11=\"dinner\",IF(X211=0,,(X211/$E$12)*'Customer Info'!$F$19),)","v":0},{"$f":"IF($F$11=\"other\",IF(Y211=0,,(Y211/$E$13)*'Customer Info'!$F$19),)","v":0},0,{"$f":"IF($F$12=\"breakfast\",IF(V211=0,,(V211/$E$10)*'Customer Info'!$F$20),)","v":0},{"$f":"IF($F$12=\"lunch\",IF(W211=0,,(W211/$E$11)*'Customer Info'!$F$20),)","v":0},{"$f":"IF($F$12=\"other\",IF(Y211=0,,(Y211/$E$13)*'Customer Info'!$F$20),)","v":0},0,{"$f":"IF($F$13=\"breakfast\",IF(V211=0,,(V211/$E$10)*'Customer Info'!$F$21),)","v":0},{"$f":"IF($F$13=\"lunch\",IF(W211=0,,(W211/$E$11)*'Customer Info'!$F$21),)","v":0},{"$f":"IF($F$13=\"dinner\",IF(X211=0,,(X211/$E$12)*'Customer Info'!$F$21),)","v":0},0,{"$f":"IF($F$16=\"lunch\",IF(AA211=0,,(AA211/$E$17)*'Customer Info'!$H$18),)","v":0},{"$f":"IF($F$16=\"dinner\",IF(AB211=0,,(AB211/$E$18)*'Customer Info'!$H$18),)","v":0},{"$f":"IF($F$16=\"other\",IF(AC211=0,,(AC211/$E$19)*'Customer Info'!$H$18),)","v":0},0,{"$f":"IF($F$17=\"breakfast\",IF(Z211=0,,(Z211/$E$16)*'Customer Info'!$H$19),)","v":0},{"$f":"IF($F$17=\"dinner\",IF(AB211=0,,(AB211/$E$18)*'Customer Info'!$H$19),)","v":0},{"$f":"IF($F$17=\"other\",IF(AC211=0,,(AC211/$E$19)*'Customer Info'!$H$19),)","v":0},0,{"$f":"IF($F$18=\"breakfast\",IF(Z211=0,,(Z211/$E$16)*'Customer Info'!$H$20),)","v":0},{"$f":"IF($F$18=\"lunch\",IF(AA211=0,,(AA211/$E$17)*'Customer Info'!$H$20),)","v":0},{"$f":"IF($F$18=\"other\",IF(AC211=0,,(AC211/$E$19)*'Customer Info'!$H$20),)","v":0},0,{"$f":"IF($F$19=\"breakfast\",IF(Z211=0,,(Z211/$E$16)*'Customer Info'!$H$21),)","v":0},{"$f":"IF($F$19=\"lunch\",IF(AA211=0,,(AA211/$E$17)*'Customer Info'!$H$21),)","v":0},{"$f":"IF($F$19=\"dinner\",IF(AB211=0,,(AB211/$E$18)*'Customer Info'!$H$21),)","v":0},0,0,0,0,0,""]
[null,null,null,null,null,null,null,null,null,null,0,0,0,0,0,0,0,0,0,0,0,0,0,0,0,0,0,0,0,0,0,0,0,{"$f":"IF((OR($F$4=0,$F$4=\"none\")),IF(R212=0,,IF(OR($E$4='Customer Info'!$D$18,$E$4=0),R212,(R212/$E$4)*'Customer Info'!$D$18)),)","v":0},{"$f":"IF((OR($F$5=0,$F$5=\"none\")),IF(S212=0,,IF(OR($E$5='Customer Info'!$D$18,$E$5=0),S212,(S212/$E$5)*'Customer Info'!$D$19)),)","v":0},{"$f":"IF((OR($F$6=0,$F$6=\"none\")),IF(T212=0,,IF(OR($E$6='Customer Info'!$D$18,$E$6=0),T212,(T212/$E$6)*'Customer Info'!$D$20)),)","v":0},{"$f":"IF((OR($F$7=0,$F$7=\"none\")),IF(U212=0,,IF(OR($E$7='Customer Info'!$D$18,$E$7=0),U212,(U212/$E$7)*'Customer Info'!$D$21)),)","v":0},{"$f":"IF((OR($F$10=0,$F$10=\"none\")),IF(V212=0,,IF(OR($E$10='Customer Info'!$F$18,$E$10=0),V212,(V212/$E$10)*'Customer Info'!$F$18)),)","v":0},{"$f":"IF((OR($F$11=0,$F$11=\"none\")),IF(W212=0,,IF(OR($E$11='Customer Info'!$F$19,$E$11=0),W212,(W212/$E$11)*'Customer Info'!$F$19)),)","v":0},{"$f":"IF((OR($F$12=0,$F$12=\"none\")),IF(X212=0,,IF(OR($E$12='Customer Info'!$F$20,$E$12=0),X212,(X212/$E$12)*'Customer Info'!$F$20)),)","v":0},{"$f":"IF((OR($F$13=0,$F$13=\"none\")),IF(Y212=0,,IF(OR($E$13='Customer Info'!$F$21,$E$13=0),Y212,(Y212/$E$13)*'Customer Info'!$F$21)),)","v":0},{"$f":"IF((OR($F$16=0,$F$16=\"none\")),IF(Z212=0,,IF(OR($E$16='Customer Info'!$H$18,$E$16=0),Z212,(Z212/$E$16)*'Customer Info'!$H$18)),)","v":0},{"$f":"IF((OR($F$17=0,$F$17=\"none\")),IF(AA212=0,,IF(OR($E$17='Customer Info'!$H$19,$E$17=0),AA212,(AA212/$E$17)*'Customer Info'!$H$19)),)","v":0},{"$f":"IF((OR($F$18=0,$F$18=\"none\")),IF(AB212=0,,IF(OR($E$18='Customer Info'!$H$20,$E$18=0),AB212,(AB212/$E$18)*'Customer Info'!$H$20)),)","v":0},{"$f":"IF((OR($F$19=0,$F$19=\"none\")),IF(AC212=0,,IF(OR($E$19='Customer Info'!$H$21,$E$19=0),AC212,(AC212/$E$19)*'Customer Info'!$H$21)),)","v":0},{"$f":"IF((OR($F$4=0,$F$4=\"none\")),IF(AD212=0,,IF(OR($E$4='Customer Info'!$D$18,$E$4=0),AD212,(AD212/$E$4)*'Customer Info'!$D$18)),)","v":0},{"$f":"IF((OR($F$5=0,$F$5=\"none\")),IF(AE212=0,,IF(OR($E$5='Customer Info'!$D$19,$E$5=0),AE212,(AE212/$E$5)*'Customer Info'!$D$19)),)","v":0},{"$f":"IF((OR($F$6=0,$F$6=\"none\")),IF(AF212=0,,IF(OR($E$6='Customer Info'!$D$20,$E$6=0),AF212,(AF212/$E$6)*'Customer Info'!$D$20)),)","v":0},{"$f":"IF((OR($F$7=0,$F$7=\"none\")),IF(AG212=0,,IF(OR($E$7='Customer Info'!$D$21,$E$7=0),AG212,(AG212/$E$7)*'Customer Info'!$D$21)),)","v":0},0,0,{"$f":"IF(E212=\"plate waste\",,IF('Customer Info'!$M$18=0,'Log Sheet'!AY212,'Customer Info'!$M$18*'Log Sheet'!AY212))","v":0},{"$f":"IF(E212=\"plate waste\",IF(OR(C212=\"patient\",C212=\"patient beverages\"),IF('Customer Info'!$M$27=0,AY212*'Customer Info'!$M$18,AY212*'Customer Info'!$M$27),IF(C212=\"cafeteria\",IF('Customer Info'!$M$28=0,AY212*'Customer Info'!$M$18,AY212*'Customer Info'!$M$28),IF(C212=\"other1\",IF('Customer Info'!$M$29=0,AY212*'Customer Info'!$M$18,AY212*'Customer Info'!$M$29),))),)","v":0},0,{"$f":"IF($F$4=\"lunch\",IF(S212=0,,(S212/$E$5)*'Customer Info'!$D$18),)","v":0},{"$f":"IF($F$4=\"dinner\",IF(T212=0,,(T212/$E$6)*'Customer Info'!$D$18),)","v":0},{"$f":"IF($F$4=\"other\",IF(U212=0,,(U212/$E$7)*'Customer Info'!$D$18),)","v":0},0,{"$f":"IF($F$5=\"breakfast\",IF(R212=0,,(R212/$E$4)*'Customer Info'!$D$19),)","v":0},{"$f":"IF($F$5=\"dinner\",IF(T212=0,,(T212/$E$6)*'Customer Info'!$D$19),)","v":0},{"$f":"IF($F$5=\"other\",IF(U212=0,,(U212/$E$7)*'Customer Info'!$D$19),)","v":0},0,{"$f":"IF($F$6=\"breakfast\",IF(R212=0,,(R212/$E$4)*'Customer Info'!$D$20),)","v":0},{"$f":"IF($F$6=\"lunch\",IF(S212=0,,(S212/$E$5)*'Customer Info'!$D$20),)","v":0},{"$f":"IF($F$6=\"other\",IF(U212=0,,(U212/$E$7)*'Customer Info'!$D$20),)","v":0},0,{"$f":"IF($F$7=\"breakfast\",IF(R212=0,,(R212/$E$4)*'Customer Info'!$D$21),)","v":0},{"$f":"IF($F$7=\"lunch\",IF(S212=0,,(S212/$E$5)*'Customer Info'!$D$21),)","v":0},{"$f":"IF($F$7=\"dinner\",IF(T212=0,,(T212/$E$6)*'Customer Info'!$D$21),)","v":0},0,{"$f":"IF($F$10=\"lunch\",IF(W212=0,,(W212/$E$11)*'Customer Info'!$F$18),)","v":0},{"$f":"IF($F$10=\"dinner\",IF(X212=0,,(X212/$E$12)*'Customer Info'!$F$18),)","v":0},{"$f":"IF($F$10=\"other\",IF(Y212=0,,(Y212/$E$13)*'Customer Info'!$F$18),)","v":0},0,{"$f":"IF($F$11=\"breakfast\",IF(V212=0,,(V212/$E$10)*'Customer Info'!$F$19),)","v":0},{"$f":"IF($F$11=\"dinner\",IF(X212=0,,(X212/$E$12)*'Customer Info'!$F$19),)","v":0},{"$f":"IF($F$11=\"other\",IF(Y212=0,,(Y212/$E$13)*'Customer Info'!$F$19),)","v":0},0,{"$f":"IF($F$12=\"breakfast\",IF(V212=0,,(V212/$E$10)*'Customer Info'!$F$20),)","v":0},{"$f":"IF($F$12=\"lunch\",IF(W212=0,,(W212/$E$11)*'Customer Info'!$F$20),)","v":0},{"$f":"IF($F$12=\"other\",IF(Y212=0,,(Y212/$E$13)*'Customer Info'!$F$20),)","v":0},0,{"$f":"IF($F$13=\"breakfast\",IF(V212=0,,(V212/$E$10)*'Customer Info'!$F$21),)","v":0},{"$f":"IF($F$13=\"lunch\",IF(W212=0,,(W212/$E$11)*'Customer Info'!$F$21),)","v":0},{"$f":"IF($F$13=\"dinner\",IF(X212=0,,(X212/$E$12)*'Customer Info'!$F$21),)","v":0},0,{"$f":"IF($F$16=\"lunch\",IF(AA212=0,,(AA212/$E$17)*'Customer Info'!$H$18),)","v":0},{"$f":"IF($F$16=\"dinner\",IF(AB212=0,,(AB212/$E$18)*'Customer Info'!$H$18),)","v":0},{"$f":"IF($F$16=\"other\",IF(AC212=0,,(AC212/$E$19)*'Customer Info'!$H$18),)","v":0},0,{"$f":"IF($F$17=\"breakfast\",IF(Z212=0,,(Z212/$E$16)*'Customer Info'!$H$19),)","v":0},{"$f":"IF($F$17=\"dinner\",IF(AB212=0,,(AB212/$E$18)*'Customer Info'!$H$19),)","v":0},{"$f":"IF($F$17=\"other\",IF(AC212=0,,(AC212/$E$19)*'Customer Info'!$H$19),)","v":0},0,{"$f":"IF($F$18=\"breakfast\",IF(Z212=0,,(Z212/$E$16)*'Customer Info'!$H$20),)","v":0},{"$f":"IF($F$18=\"lunch\",IF(AA212=0,,(AA212/$E$17)*'Customer Info'!$H$20),)","v":0},{"$f":"IF($F$18=\"other\",IF(AC212=0,,(AC212/$E$19)*'Customer Info'!$H$20),)","v":0},0,{"$f":"IF($F$19=\"breakfast\",IF(Z212=0,,(Z212/$E$16)*'Customer Info'!$H$21),)","v":0},{"$f":"IF($F$19=\"lunch\",IF(AA212=0,,(AA212/$E$17)*'Customer Info'!$H$21),)","v":0},{"$f":"IF($F$19=\"dinner\",IF(AB212=0,,(AB212/$E$18)*'Customer Info'!$H$21),)","v":0},0,0,0,0,0,""]
[null,null,null,null,null,null,null,null,null,null,0,0,0,0,0,0,0,0,0,0,0,0,0,0,0,0,0,0,0,0,0,0,0,{"$f":"IF((OR($F$4=0,$F$4=\"none\")),IF(R213=0,,IF(OR($E$4='Customer Info'!$D$18,$E$4=0),R213,(R213/$E$4)*'Customer Info'!$D$18)),)","v":0},{"$f":"IF((OR($F$5=0,$F$5=\"none\")),IF(S213=0,,IF(OR($E$5='Customer Info'!$D$18,$E$5=0),S213,(S213/$E$5)*'Customer Info'!$D$19)),)","v":0},{"$f":"IF((OR($F$6=0,$F$6=\"none\")),IF(T213=0,,IF(OR($E$6='Customer Info'!$D$18,$E$6=0),T213,(T213/$E$6)*'Customer Info'!$D$20)),)","v":0},{"$f":"IF((OR($F$7=0,$F$7=\"none\")),IF(U213=0,,IF(OR($E$7='Customer Info'!$D$18,$E$7=0),U213,(U213/$E$7)*'Customer Info'!$D$21)),)","v":0},{"$f":"IF((OR($F$10=0,$F$10=\"none\")),IF(V213=0,,IF(OR($E$10='Customer Info'!$F$18,$E$10=0),V213,(V213/$E$10)*'Customer Info'!$F$18)),)","v":0},{"$f":"IF((OR($F$11=0,$F$11=\"none\")),IF(W213=0,,IF(OR($E$11='Customer Info'!$F$19,$E$11=0),W213,(W213/$E$11)*'Customer Info'!$F$19)),)","v":0},{"$f":"IF((OR($F$12=0,$F$12=\"none\")),IF(X213=0,,IF(OR($E$12='Customer Info'!$F$20,$E$12=0),X213,(X213/$E$12)*'Customer Info'!$F$20)),)","v":0},{"$f":"IF((OR($F$13=0,$F$13=\"none\")),IF(Y213=0,,IF(OR($E$13='Customer Info'!$F$21,$E$13=0),Y213,(Y213/$E$13)*'Customer Info'!$F$21)),)","v":0},{"$f":"IF((OR($F$16=0,$F$16=\"none\")),IF(Z213=0,,IF(OR($E$16='Customer Info'!$H$18,$E$16=0),Z213,(Z213/$E$16)*'Customer Info'!$H$18)),)","v":0},{"$f":"IF((OR($F$17=0,$F$17=\"none\")),IF(AA213=0,,IF(OR($E$17='Customer Info'!$H$19,$E$17=0),AA213,(AA213/$E$17)*'Customer Info'!$H$19)),)","v":0},{"$f":"IF((OR($F$18=0,$F$18=\"none\")),IF(AB213=0,,IF(OR($E$18='Customer Info'!$H$20,$E$18=0),AB213,(AB213/$E$18)*'Customer Info'!$H$20)),)","v":0},{"$f":"IF((OR($F$19=0,$F$19=\"none\")),IF(AC213=0,,IF(OR($E$19='Customer Info'!$H$21,$E$19=0),AC213,(AC213/$E$19)*'Customer Info'!$H$21)),)","v":0},{"$f":"IF((OR($F$4=0,$F$4=\"none\")),IF(AD213=0,,IF(OR($E$4='Customer Info'!$D$18,$E$4=0),AD213,(AD213/$E$4)*'Customer Info'!$D$18)),)","v":0},{"$f":"IF((OR($F$5=0,$F$5=\"none\")),IF(AE213=0,,IF(OR($E$5='Customer Info'!$D$19,$E$5=0),AE213,(AE213/$E$5)*'Customer Info'!$D$19)),)","v":0},{"$f":"IF((OR($F$6=0,$F$6=\"none\")),IF(AF213=0,,IF(OR($E$6='Customer Info'!$D$20,$E$6=0),AF213,(AF213/$E$6)*'Customer Info'!$D$20)),)","v":0},{"$f":"IF((OR($F$7=0,$F$7=\"none\")),IF(AG213=0,,IF(OR($E$7='Customer Info'!$D$21,$E$7=0),AG213,(AG213/$E$7)*'Customer Info'!$D$21)),)","v":0},0,0,{"$f":"IF(E213=\"plate waste\",,IF('Customer Info'!$M$18=0,'Log Sheet'!AY213,'Customer Info'!$M$18*'Log Sheet'!AY213))","v":0},{"$f":"IF(E213=\"plate waste\",IF(OR(C213=\"patient\",C213=\"patient beverages\"),IF('Customer Info'!$M$27=0,AY213*'Customer Info'!$M$18,AY213*'Customer Info'!$M$27),IF(C213=\"cafeteria\",IF('Customer Info'!$M$28=0,AY213*'Customer Info'!$M$18,AY213*'Customer Info'!$M$28),IF(C213=\"other1\",IF('Customer Info'!$M$29=0,AY213*'Customer Info'!$M$18,AY213*'Customer Info'!$M$29),))),)","v":0},0,{"$f":"IF($F$4=\"lunch\",IF(S213=0,,(S213/$E$5)*'Customer Info'!$D$18),)","v":0},{"$f":"IF($F$4=\"dinner\",IF(T213=0,,(T213/$E$6)*'Customer Info'!$D$18),)","v":0},{"$f":"IF($F$4=\"other\",IF(U213=0,,(U213/$E$7)*'Customer Info'!$D$18),)","v":0},0,{"$f":"IF($F$5=\"breakfast\",IF(R213=0,,(R213/$E$4)*'Customer Info'!$D$19),)","v":0},{"$f":"IF($F$5=\"dinner\",IF(T213=0,,(T213/$E$6)*'Customer Info'!$D$19),)","v":0},{"$f":"IF($F$5=\"other\",IF(U213=0,,(U213/$E$7)*'Customer Info'!$D$19),)","v":0},0,{"$f":"IF($F$6=\"breakfast\",IF(R213=0,,(R213/$E$4)*'Customer Info'!$D$20),)","v":0},{"$f":"IF($F$6=\"lunch\",IF(S213=0,,(S213/$E$5)*'Customer Info'!$D$20),)","v":0},{"$f":"IF($F$6=\"other\",IF(U213=0,,(U213/$E$7)*'Customer Info'!$D$20),)","v":0},0,{"$f":"IF($F$7=\"breakfast\",IF(R213=0,,(R213/$E$4)*'Customer Info'!$D$21),)","v":0},{"$f":"IF($F$7=\"lunch\",IF(S213=0,,(S213/$E$5)*'Customer Info'!$D$21),)","v":0},{"$f":"IF($F$7=\"dinner\",IF(T213=0,,(T213/$E$6)*'Customer Info'!$D$21),)","v":0},0,{"$f":"IF($F$10=\"lunch\",IF(W213=0,,(W213/$E$11)*'Customer Info'!$F$18),)","v":0},{"$f":"IF($F$10=\"dinner\",IF(X213=0,,(X213/$E$12)*'Customer Info'!$F$18),)","v":0},{"$f":"IF($F$10=\"other\",IF(Y213=0,,(Y213/$E$13)*'Customer Info'!$F$18),)","v":0},0,{"$f":"IF($F$11=\"breakfast\",IF(V213=0,,(V213/$E$10)*'Customer Info'!$F$19),)","v":0},{"$f":"IF($F$11=\"dinner\",IF(X213=0,,(X213/$E$12)*'Customer Info'!$F$19),)","v":0},{"$f":"IF($F$11=\"other\",IF(Y213=0,,(Y213/$E$13)*'Customer Info'!$F$19),)","v":0},0,{"$f":"IF($F$12=\"breakfast\",IF(V213=0,,(V213/$E$10)*'Customer Info'!$F$20),)","v":0},{"$f":"IF($F$12=\"lunch\",IF(W213=0,,(W213/$E$11)*'Customer Info'!$F$20),)","v":0},{"$f":"IF($F$12=\"other\",IF(Y213=0,,(Y213/$E$13)*'Customer Info'!$F$20),)","v":0},0,{"$f":"IF($F$13=\"breakfast\",IF(V213=0,,(V213/$E$10)*'Customer Info'!$F$21),)","v":0},{"$f":"IF($F$13=\"lunch\",IF(W213=0,,(W213/$E$11)*'Customer Info'!$F$21),)","v":0},{"$f":"IF($F$13=\"dinner\",IF(X213=0,,(X213/$E$12)*'Customer Info'!$F$21),)","v":0},0,{"$f":"IF($F$16=\"lunch\",IF(AA213=0,,(AA213/$E$17)*'Customer Info'!$H$18),)","v":0},{"$f":"IF($F$16=\"dinner\",IF(AB213=0,,(AB213/$E$18)*'Customer Info'!$H$18),)","v":0},{"$f":"IF($F$16=\"other\",IF(AC213=0,,(AC213/$E$19)*'Customer Info'!$H$18),)","v":0},0,{"$f":"IF($F$17=\"breakfast\",IF(Z213=0,,(Z213/$E$16)*'Customer Info'!$H$19),)","v":0},{"$f":"IF($F$17=\"dinner\",IF(AB213=0,,(AB213/$E$18)*'Customer Info'!$H$19),)","v":0},{"$f":"IF($F$17=\"other\",IF(AC213=0,,(AC213/$E$19)*'Customer Info'!$H$19),)","v":0},0,{"$f":"IF($F$18=\"breakfast\",IF(Z213=0,,(Z213/$E$16)*'Customer Info'!$H$20),)","v":0},{"$f":"IF($F$18=\"lunch\",IF(AA213=0,,(AA213/$E$17)*'Customer Info'!$H$20),)","v":0},{"$f":"IF($F$18=\"other\",IF(AC213=0,,(AC213/$E$19)*'Customer Info'!$H$20),)","v":0},0,{"$f":"IF($F$19=\"breakfast\",IF(Z213=0,,(Z213/$E$16)*'Customer Info'!$H$21),)","v":0},{"$f":"IF($F$19=\"lunch\",IF(AA213=0,,(AA213/$E$17)*'Customer Info'!$H$21),)","v":0},{"$f":"IF($F$19=\"dinner\",IF(AB213=0,,(AB213/$E$18)*'Customer Info'!$H$21),)","v":0},0,0,0,0,0,""]
[null,null,null,null,null,null,null,null,null,null,0,0,0,0,0,0,0,0,0,0,0,0,0,0,0,0,0,0,0,0,0,0,0,{"$f":"IF((OR($F$4=0,$F$4=\"none\")),IF(R214=0,,IF(OR($E$4='Customer Info'!$D$18,$E$4=0),R214,(R214/$E$4)*'Customer Info'!$D$18)),)","v":0},{"$f":"IF((OR($F$5=0,$F$5=\"none\")),IF(S214=0,,IF(OR($E$5='Customer Info'!$D$18,$E$5=0),S214,(S214/$E$5)*'Customer Info'!$D$19)),)","v":0},{"$f":"IF((OR($F$6=0,$F$6=\"none\")),IF(T214=0,,IF(OR($E$6='Customer Info'!$D$18,$E$6=0),T214,(T214/$E$6)*'Customer Info'!$D$20)),)","v":0},{"$f":"IF((OR($F$7=0,$F$7=\"none\")),IF(U214=0,,IF(OR($E$7='Customer Info'!$D$18,$E$7=0),U214,(U214/$E$7)*'Customer Info'!$D$21)),)","v":0},{"$f":"IF((OR($F$10=0,$F$10=\"none\")),IF(V214=0,,IF(OR($E$10='Customer Info'!$F$18,$E$10=0),V214,(V214/$E$10)*'Customer Info'!$F$18)),)","v":0},{"$f":"IF((OR($F$11=0,$F$11=\"none\")),IF(W214=0,,IF(OR($E$11='Customer Info'!$F$19,$E$11=0),W214,(W214/$E$11)*'Customer Info'!$F$19)),)","v":0},{"$f":"IF((OR($F$12=0,$F$12=\"none\")),IF(X214=0,,IF(OR($E$12='Customer Info'!$F$20,$E$12=0),X214,(X214/$E$12)*'Customer Info'!$F$20)),)","v":0},{"$f":"IF((OR($F$13=0,$F$13=\"none\")),IF(Y214=0,,IF(OR($E$13='Customer Info'!$F$21,$E$13=0),Y214,(Y214/$E$13)*'Customer Info'!$F$21)),)","v":0},{"$f":"IF((OR($F$16=0,$F$16=\"none\")),IF(Z214=0,,IF(OR($E$16='Customer Info'!$H$18,$E$16=0),Z214,(Z214/$E$16)*'Customer Info'!$H$18)),)","v":0},{"$f":"IF((OR($F$17=0,$F$17=\"none\")),IF(AA214=0,,IF(OR($E$17='Customer Info'!$H$19,$E$17=0),AA214,(AA214/$E$17)*'Customer Info'!$H$19)),)","v":0},{"$f":"IF((OR($F$18=0,$F$18=\"none\")),IF(AB214=0,,IF(OR($E$18='Customer Info'!$H$20,$E$18=0),AB214,(AB214/$E$18)*'Customer Info'!$H$20)),)","v":0},{"$f":"IF((OR($F$19=0,$F$19=\"none\")),IF(AC214=0,,IF(OR($E$19='Customer Info'!$H$21,$E$19=0),AC214,(AC214/$E$19)*'Customer Info'!$H$21)),)","v":0},{"$f":"IF((OR($F$4=0,$F$4=\"none\")),IF(AD214=0,,IF(OR($E$4='Customer Info'!$D$18,$E$4=0),AD214,(AD214/$E$4)*'Customer Info'!$D$18)),)","v":0},{"$f":"IF((OR($F$5=0,$F$5=\"none\")),IF(AE214=0,,IF(OR($E$5='Customer Info'!$D$19,$E$5=0),AE214,(AE214/$E$5)*'Customer Info'!$D$19)),)","v":0},{"$f":"IF((OR($F$6=0,$F$6=\"none\")),IF(AF214=0,,IF(OR($E$6='Customer Info'!$D$20,$E$6=0),AF214,(AF214/$E$6)*'Customer Info'!$D$20)),)","v":0},{"$f":"IF((OR($F$7=0,$F$7=\"none\")),IF(AG214=0,,IF(OR($E$7='Customer Info'!$D$21,$E$7=0),AG214,(AG214/$E$7)*'Customer Info'!$D$21)),)","v":0},0,0,{"$f":"IF(E214=\"plate waste\",,IF('Customer Info'!$M$18=0,'Log Sheet'!AY214,'Customer Info'!$M$18*'Log Sheet'!AY214))","v":0},{"$f":"IF(E214=\"plate waste\",IF(OR(C214=\"patient\",C214=\"patient beverages\"),IF('Customer Info'!$M$27=0,AY214*'Customer Info'!$M$18,AY214*'Customer Info'!$M$27),IF(C214=\"cafeteria\",IF('Customer Info'!$M$28=0,AY214*'Customer Info'!$M$18,AY214*'Customer Info'!$M$28),IF(C214=\"other1\",IF('Customer Info'!$M$29=0,AY214*'Customer Info'!$M$18,AY214*'Customer Info'!$M$29),))),)","v":0},0,{"$f":"IF($F$4=\"lunch\",IF(S214=0,,(S214/$E$5)*'Customer Info'!$D$18),)","v":0},{"$f":"IF($F$4=\"dinner\",IF(T214=0,,(T214/$E$6)*'Customer Info'!$D$18),)","v":0},{"$f":"IF($F$4=\"other\",IF(U214=0,,(U214/$E$7)*'Customer Info'!$D$18),)","v":0},0,{"$f":"IF($F$5=\"breakfast\",IF(R214=0,,(R214/$E$4)*'Customer Info'!$D$19),)","v":0},{"$f":"IF($F$5=\"dinner\",IF(T214=0,,(T214/$E$6)*'Customer Info'!$D$19),)","v":0},{"$f":"IF($F$5=\"other\",IF(U214=0,,(U214/$E$7)*'Customer Info'!$D$19),)","v":0},0,{"$f":"IF($F$6=\"breakfast\",IF(R214=0,,(R214/$E$4)*'Customer Info'!$D$20),)","v":0},{"$f":"IF($F$6=\"lunch\",IF(S214=0,,(S214/$E$5)*'Customer Info'!$D$20),)","v":0},{"$f":"IF($F$6=\"other\",IF(U214=0,,(U214/$E$7)*'Customer Info'!$D$20),)","v":0},0,{"$f":"IF($F$7=\"breakfast\",IF(R214=0,,(R214/$E$4)*'Customer Info'!$D$21),)","v":0},{"$f":"IF($F$7=\"lunch\",IF(S214=0,,(S214/$E$5)*'Customer Info'!$D$21),)","v":0},{"$f":"IF($F$7=\"dinner\",IF(T214=0,,(T214/$E$6)*'Customer Info'!$D$21),)","v":0},0,{"$f":"IF($F$10=\"lunch\",IF(W214=0,,(W214/$E$11)*'Customer Info'!$F$18),)","v":0},{"$f":"IF($F$10=\"dinner\",IF(X214=0,,(X214/$E$12)*'Customer Info'!$F$18),)","v":0},{"$f":"IF($F$10=\"other\",IF(Y214=0,,(Y214/$E$13)*'Customer Info'!$F$18),)","v":0},0,{"$f":"IF($F$11=\"breakfast\",IF(V214=0,,(V214/$E$10)*'Customer Info'!$F$19),)","v":0},{"$f":"IF($F$11=\"dinner\",IF(X214=0,,(X214/$E$12)*'Customer Info'!$F$19),)","v":0},{"$f":"IF($F$11=\"other\",IF(Y214=0,,(Y214/$E$13)*'Customer Info'!$F$19),)","v":0},0,{"$f":"IF($F$12=\"breakfast\",IF(V214=0,,(V214/$E$10)*'Customer Info'!$F$20),)","v":0},{"$f":"IF($F$12=\"lunch\",IF(W214=0,,(W214/$E$11)*'Customer Info'!$F$20),)","v":0},{"$f":"IF($F$12=\"other\",IF(Y214=0,,(Y214/$E$13)*'Customer Info'!$F$20),)","v":0},0,{"$f":"IF($F$13=\"breakfast\",IF(V214=0,,(V214/$E$10)*'Customer Info'!$F$21),)","v":0},{"$f":"IF($F$13=\"lunch\",IF(W214=0,,(W214/$E$11)*'Customer Info'!$F$21),)","v":0},{"$f":"IF($F$13=\"dinner\",IF(X214=0,,(X214/$E$12)*'Customer Info'!$F$21),)","v":0},0,{"$f":"IF($F$16=\"lunch\",IF(AA214=0,,(AA214/$E$17)*'Customer Info'!$H$18),)","v":0},{"$f":"IF($F$16=\"dinner\",IF(AB214=0,,(AB214/$E$18)*'Customer Info'!$H$18),)","v":0},{"$f":"IF($F$16=\"other\",IF(AC214=0,,(AC214/$E$19)*'Customer Info'!$H$18),)","v":0},0,{"$f":"IF($F$17=\"breakfast\",IF(Z214=0,,(Z214/$E$16)*'Customer Info'!$H$19),)","v":0},{"$f":"IF($F$17=\"dinner\",IF(AB214=0,,(AB214/$E$18)*'Customer Info'!$H$19),)","v":0},{"$f":"IF($F$17=\"other\",IF(AC214=0,,(AC214/$E$19)*'Customer Info'!$H$19),)","v":0},0,{"$f":"IF($F$18=\"breakfast\",IF(Z214=0,,(Z214/$E$16)*'Customer Info'!$H$20),)","v":0},{"$f":"IF($F$18=\"lunch\",IF(AA214=0,,(AA214/$E$17)*'Customer Info'!$H$20),)","v":0},{"$f":"IF($F$18=\"other\",IF(AC214=0,,(AC214/$E$19)*'Customer Info'!$H$20),)","v":0},0,{"$f":"IF($F$19=\"breakfast\",IF(Z214=0,,(Z214/$E$16)*'Customer Info'!$H$21),)","v":0},{"$f":"IF($F$19=\"lunch\",IF(AA214=0,,(AA214/$E$17)*'Customer Info'!$H$21),)","v":0},{"$f":"IF($F$19=\"dinner\",IF(AB214=0,,(AB214/$E$18)*'Customer Info'!$H$21),)","v":0},0,0,0,0,0,""]
[null,null,null,null,null,null,null,null,null,null,{"$f":"H215-G215","v":0},0,{"$f":"IF(E215=\"plate waste\",K215,)","v":0},{"$f":"IF(M215=0,,IF(C215=\"patient\",K215,))","v":0},0,{"$f":"IF(M215=0,,IF(C215=\"other1\",K215,))","v":0},{"$f":"IF(C215=\"patient beverages\",K215,0)","v":0},{"$f":"IF(N215=0,,IF(A215=\"breakfast\",K215,))","v":0},{"$f":"IF(N215=0,,IF(A215=\"lunch\",K215,))","v":0},{"$f":"IF(N215=0,,IF(A215=\"dinner\",K215,))","v":0},{"$f":"IF(N215=0,,IF(A215=\"other\",K215,))","v":0},{"$f":"IF(O215=0,,IF(A215=\"breakfast\",K215,))","v":0},{"$f":"IF(O215=0,,IF(A215=\"lunch\",K215,))","v":0},{"$f":"IF(O215=0,,IF(A215=\"dinner\",K215,))","v":0},{"$f":"IF(O215=0,,IF(A215=\"other\",K215,))","v":0},{"$f":"IF(P215=0,,IF(A215=\"breakfast\",K215,))","v":0},{"$f":"IF(P215=0,,IF(A215=\"lunch\",K215,))","v":0},{"$f":"IF(P215=0,,IF(A215=\"dinner\",K215,))","v":0},{"$f":"IF(P215=0,,IF(A215=\"other\",K215,))","v":0},{"$f":"IF(Q215=0,,IF(A215=\"breakfast\",Q215,))","v":0},{"$f":"IF(Q215=0,,IF(A215=\"lunch\",Q215,))","v":0},{"$f":"IF(Q215=0,,IF(A215=\"dinner\",Q215,))","v":0},{"$f":"IF(Q215=0,,IF(A215=\"other\",Q215,))","v":0},{"$f":"IF((OR($F$4=0,$F$4=\"none\")),IF(R215=0,,IF(OR($E$4='Customer Info'!$D$18,$E$4=0),R215,(R215/$E$4)*'Customer Info'!$D$18)),)","v":0},{"$f":"IF((OR($F$5=0,$F$5=\"none\")),IF(S215=0,,IF(OR($E$5='Customer Info'!$D$18,$E$5=0),S215,(S215/$E$5)*'Customer Info'!$D$19)),)","v":0},{"$f":"IF((OR($F$6=0,$F$6=\"none\")),IF(T215=0,,IF(OR($E$6='Customer Info'!$D$18,$E$6=0),T215,(T215/$E$6)*'Customer Info'!$D$20)),)","v":0},{"$f":"IF((OR($F$7=0,$F$7=\"none\")),IF(U215=0,,IF(OR($E$7='Customer Info'!$D$18,$E$7=0),U215,(U215/$E$7)*'Customer Info'!$D$21)),)","v":0},{"$f":"IF((OR($F$10=0,$F$10=\"none\")),IF(V215=0,,IF(OR($E$10='Customer Info'!$F$18,$E$10=0),V215,(V215/$E$10)*'Customer Info'!$F$18)),)","v":0},{"$f":"IF((OR($F$11=0,$F$11=\"none\")),IF(W215=0,,IF(OR($E$11='Customer Info'!$F$19,$E$11=0),W215,(W215/$E$11)*'Customer Info'!$F$19)),)","v":0},{"$f":"IF((OR($F$12=0,$F$12=\"none\")),IF(X215=0,,IF(OR($E$12='Customer Info'!$F$20,$E$12=0),X215,(X215/$E$12)*'Customer Info'!$F$20)),)","v":0},{"$f":"IF((OR($F$13=0,$F$13=\"none\")),IF(Y215=0,,IF(OR($E$13='Customer Info'!$F$21,$E$13=0),Y215,(Y215/$E$13)*'Customer Info'!$F$21)),)","v":0},{"$f":"IF((OR($F$16=0,$F$16=\"none\")),IF(Z215=0,,IF(OR($E$16='Customer Info'!$H$18,$E$16=0),Z215,(Z215/$E$16)*'Customer Info'!$H$18)),)","v":0},{"$f":"IF((OR($F$17=0,$F$17=\"none\")),IF(AA215=0,,IF(OR($E$17='Customer Info'!$H$19,$E$17=0),AA215,(AA215/$E$17)*'Customer Info'!$H$19)),)","v":0},{"$f":"IF((OR($F$18=0,$F$18=\"none\")),IF(AB215=0,,IF(OR($E$18='Customer Info'!$H$20,$E$18=0),AB215,(AB215/$E$18)*'Customer Info'!$H$20)),)","v":0},{"$f":"IF((OR($F$19=0,$F$19=\"none\")),IF(AC215=0,,IF(OR($E$19='Customer Info'!$H$21,$E$19=0),AC215,(AC215/$E$19)*'Customer Info'!$H$21)),)","v":0},{"$f":"IF((OR($F$4=0,$F$4=\"none\")),IF(AD215=0,,IF(OR($E$4='Customer Info'!$D$18,$E$4=0),AD215,(AD215/$E$4)*'Customer Info'!$D$18)),)","v":0},{"$f":"IF((OR($F$5=0,$F$5=\"none\")),IF(AE215=0,,IF(OR($E$5='Customer Info'!$D$19,$E$5=0),AE215,(AE215/$E$5)*'Customer Info'!$D$19)),)","v":0},{"$f":"IF((OR($F$6=0,$F$6=\"none\")),IF(AF215=0,,IF(OR($E$6='Customer Info'!$D$20,$E$6=0),AF215,(AF215/$E$6)*'Customer Info'!$D$20)),)","v":0},{"$f":"IF((OR($F$7=0,$F$7=\"none\")),IF(AG215=0,,IF(OR($E$7='Customer Info'!$D$21,$E$7=0),AG215,(AG215/$E$7)*'Customer Info'!$D$21)),)","v":0},0,{"$f":"IF(AX215=0,(IF(B215=0, K215,K215*24/B215)),(IF(B215=0, AX215,AX215*24/B215)))","v":0},{"$f":"IF(E215=\"plate waste\",,IF('Customer Info'!$M$18=0,'Log Sheet'!AY215,'Customer Info'!$M$18*'Log Sheet'!AY215))","v":0},{"$f":"IF(E215=\"plate waste\",IF(OR(C215=\"patient\",C215=\"patient beverages\"),IF('Customer Info'!$M$27=0,AY215*'Customer Info'!$M$18,AY215*'Customer Info'!$M$27),IF(C215=\"cafeteria\",IF('Customer Info'!$M$28=0,AY215*'Customer Info'!$M$18,AY215*'Customer Info'!$M$28),IF(C215=\"other1\",IF('Customer Info'!$M$29=0,AY215*'Customer Info'!$M$18,AY215*'Customer Info'!$M$29),))),)","v":0},0,{"$f":"IF($F$4=\"lunch\",IF(S215=0,,(S215/$E$5)*'Customer Info'!$D$18),)","v":0},{"$f":"IF($F$4=\"dinner\",IF(T215=0,,(T215/$E$6)*'Customer Info'!$D$18),)","v":0},{"$f":"IF($F$4=\"other\",IF(U215=0,,(U215/$E$7)*'Customer Info'!$D$18),)","v":0},0,{"$f":"IF($F$5=\"breakfast\",IF(R215=0,,(R215/$E$4)*'Customer Info'!$D$19),)","v":0},{"$f":"IF($F$5=\"dinner\",IF(T215=0,,(T215/$E$6)*'Customer Info'!$D$19),)","v":0},{"$f":"IF($F$5=\"other\",IF(U215=0,,(U215/$E$7)*'Customer Info'!$D$19),)","v":0},0,{"$f":"IF($F$6=\"breakfast\",IF(R215=0,,(R215/$E$4)*'Customer Info'!$D$20),)","v":0},{"$f":"IF($F$6=\"lunch\",IF(S215=0,,(S215/$E$5)*'Customer Info'!$D$20),)","v":0},{"$f":"IF($F$6=\"other\",IF(U215=0,,(U215/$E$7)*'Customer Info'!$D$20),)","v":0},0,{"$f":"IF($F$7=\"breakfast\",IF(R215=0,,(R215/$E$4)*'Customer Info'!$D$21),)","v":0},{"$f":"IF($F$7=\"lunch\",IF(S215=0,,(S215/$E$5)*'Customer Info'!$D$21),)","v":0},{"$f":"IF($F$7=\"dinner\",IF(T215=0,,(T215/$E$6)*'Customer Info'!$D$21),)","v":0},0,{"$f":"IF($F$10=\"lunch\",IF(W215=0,,(W215/$E$11)*'Customer Info'!$F$18),)","v":0},{"$f":"IF($F$10=\"dinner\",IF(X215=0,,(X215/$E$12)*'Customer Info'!$F$18),)","v":0},{"$f":"IF($F$10=\"other\",IF(Y215=0,,(Y215/$E$13)*'Customer Info'!$F$18),)","v":0},0,{"$f":"IF($F$11=\"breakfast\",IF(V215=0,,(V215/$E$10)*'Customer Info'!$F$19),)","v":0},{"$f":"IF($F$11=\"dinner\",IF(X215=0,,(X215/$E$12)*'Customer Info'!$F$19),)","v":0},{"$f":"IF($F$11=\"other\",IF(Y215=0,,(Y215/$E$13)*'Customer Info'!$F$19),)","v":0},0,{"$f":"IF($F$12=\"breakfast\",IF(V215=0,,(V215/$E$10)*'Customer Info'!$F$20),)","v":0},{"$f":"IF($F$12=\"lunch\",IF(W215=0,,(W215/$E$11)*'Customer Info'!$F$20),)","v":0},{"$f":"IF($F$12=\"other\",IF(Y215=0,,(Y215/$E$13)*'Customer Info'!$F$20),)","v":0},0,{"$f":"IF($F$13=\"breakfast\",IF(V215=0,,(V215/$E$10)*'Customer Info'!$F$21),)","v":0},{"$f":"IF($F$13=\"lunch\",IF(W215=0,,(W215/$E$11)*'Customer Info'!$F$21),)","v":0},{"$f":"IF($F$13=\"dinner\",IF(X215=0,,(X215/$E$12)*'Customer Info'!$F$21),)","v":0},0,{"$f":"IF($F$16=\"lunch\",IF(AA215=0,,(AA215/$E$17)*'Customer Info'!$H$18),)","v":0},{"$f":"IF($F$16=\"dinner\",IF(AB215=0,,(AB215/$E$18)*'Customer Info'!$H$18),)","v":0},{"$f":"IF($F$16=\"other\",IF(AC215=0,,(AC215/$E$19)*'Customer Info'!$H$18),)","v":0},0,{"$f":"IF($F$17=\"breakfast\",IF(Z215=0,,(Z215/$E$16)*'Customer Info'!$H$19),)","v":0},{"$f":"IF($F$17=\"dinner\",IF(AB215=0,,(AB215/$E$18)*'Customer Info'!$H$19),)","v":0},{"$f":"IF($F$17=\"other\",IF(AC215=0,,(AC215/$E$19)*'Customer Info'!$H$19),)","v":0},0,{"$f":"IF($F$18=\"breakfast\",IF(Z215=0,,(Z215/$E$16)*'Customer Info'!$H$20),)","v":0},{"$f":"IF($F$18=\"lunch\",IF(AA215=0,,(AA215/$E$17)*'Customer Info'!$H$20),)","v":0},{"$f":"IF($F$18=\"other\",IF(AC215=0,,(AC215/$E$19)*'Customer Info'!$H$20),)","v":0},0,{"$f":"IF($F$19=\"breakfast\",IF(Z215=0,,(Z215/$E$16)*'Customer Info'!$H$21),)","v":0},{"$f":"IF($F$19=\"lunch\",IF(AA215=0,,(AA215/$E$17)*'Customer Info'!$H$21),)","v":0},{"$f":"IF($F$19=\"dinner\",IF(AB215=0,,(AB215/$E$18)*'Customer Info'!$H$21),)","v":0},0,{"$f":"IF(E215=\"plate waste\",BB215,)","v":0},{"$f":"IF(E215=\"plate waste\",,BB215)","v":0},0,0,""]
[null,null,null,null,null,null,null,null,null,null,0,{"$f":"BB216","v":0},0,0,{"$f":"IF(M216=0,,IF(C216=\"cafeteria\",M216,))","v":0},0,0,0,0,0,0,0,0,0,0,0,0,0,0,0,0,0,0,{"$f":"IF((OR($F$4=0,$F$4=\"none\")),IF(R216=0,,IF(OR($E$4='Customer Info'!$D$18,$E$4=0),R216,(R216/$E$4)*'Customer Info'!$D$18)),)","v":0},{"$f":"IF((OR($F$5=0,$F$5=\"none\")),IF(S216=0,,IF(OR($E$5='Customer Info'!$D$18,$E$5=0),S216,(S216/$E$5)*'Customer Info'!$D$19)),)","v":0},{"$f":"IF((OR($F$6=0,$F$6=\"none\")),IF(T216=0,,IF(OR($E$6='Customer Info'!$D$18,$E$6=0),T216,(T216/$E$6)*'Customer Info'!$D$20)),)","v":0},{"$f":"IF((OR($F$7=0,$F$7=\"none\")),IF(U216=0,,IF(OR($E$7='Customer Info'!$D$18,$E$7=0),U216,(U216/$E$7)*'Customer Info'!$D$21)),)","v":0},{"$f":"IF((OR($F$10=0,$F$10=\"none\")),IF(V216=0,,IF(OR($E$10='Customer Info'!$F$18,$E$10=0),V216,(V216/$E$10)*'Customer Info'!$F$18)),)","v":0},{"$f":"IF((OR($F$11=0,$F$11=\"none\")),IF(W216=0,,IF(OR($E$11='Customer Info'!$F$19,$E$11=0),W216,(W216/$E$11)*'Customer Info'!$F$19)),)","v":0},{"$f":"IF((OR($F$12=0,$F$12=\"none\")),IF(X216=0,,IF(OR($E$12='Customer Info'!$F$20,$E$12=0),X216,(X216/$E$12)*'Customer Info'!$F$20)),)","v":0},{"$f":"IF((OR($F$13=0,$F$13=\"none\")),IF(Y216=0,,IF(OR($E$13='Customer Info'!$F$21,$E$13=0),Y216,(Y216/$E$13)*'Customer Info'!$F$21)),)","v":0},{"$f":"IF((OR($F$16=0,$F$16=\"none\")),IF(Z216=0,,IF(OR($E$16='Customer Info'!$H$18,$E$16=0),Z216,(Z216/$E$16)*'Customer Info'!$H$18)),)","v":0},{"$f":"IF((OR($F$17=0,$F$17=\"none\")),IF(AA216=0,,IF(OR($E$17='Customer Info'!$H$19,$E$17=0),AA216,(AA216/$E$17)*'Customer Info'!$H$19)),)","v":0},{"$f":"IF((OR($F$18=0,$F$18=\"none\")),IF(AB216=0,,IF(OR($E$18='Customer Info'!$H$20,$E$18=0),AB216,(AB216/$E$18)*'Customer Info'!$H$20)),)","v":0},{"$f":"IF((OR($F$19=0,$F$19=\"none\")),IF(AC216=0,,IF(OR($E$19='Customer Info'!$H$21,$E$19=0),AC216,(AC216/$E$19)*'Customer Info'!$H$21)),)","v":0},{"$f":"IF((OR($F$4=0,$F$4=\"none\")),IF(AD216=0,,IF(OR($E$4='Customer Info'!$D$18,$E$4=0),AD216,(AD216/$E$4)*'Customer Info'!$D$18)),)","v":0},{"$f":"IF((OR($F$5=0,$F$5=\"none\")),IF(AE216=0,,IF(OR($E$5='Customer Info'!$D$19,$E$5=0),AE216,(AE216/$E$5)*'Customer Info'!$D$19)),)","v":0},{"$f":"IF((OR($F$6=0,$F$6=\"none\")),IF(AF216=0,,IF(OR($E$6='Customer Info'!$D$20,$E$6=0),AF216,(AF216/$E$6)*'Customer Info'!$D$20)),)","v":0},{"$f":"IF((OR($F$7=0,$F$7=\"none\")),IF(AG216=0,,IF(OR($E$7='Customer Info'!$D$21,$E$7=0),AG216,(AG216/$E$7)*'Customer Info'!$D$21)),)","v":0},{"$f":"SUM(AH216:AW216)","v":0},0,{"$f":"IF(E216=\"plate waste\",,IF('Customer Info'!$M$18=0,'Log Sheet'!AY216,'Customer Info'!$M$18*'Log Sheet'!AY216))","v":0},{"$f":"IF(E216=\"plate waste\",IF(OR(C216=\"patient\",C216=\"patient beverages\"),IF('Customer Info'!$M$27=0,AY216*'Customer Info'!$M$18,AY216*'Customer Info'!$M$27),IF(C216=\"cafeteria\",IF('Customer Info'!$M$28=0,AY216*'Customer Info'!$M$18,AY216*'Customer Info'!$M$28),IF(C216=\"other1\",IF('Customer Info'!$M$29=0,AY216*'Customer Info'!$M$18,AY216*'Customer Info'!$M$29),))),)","v":0},{"$f":"SUM(AZ216:BA216)","v":0},{"$f":"IF($F$4=\"lunch\",IF(S216=0,,(S216/$E$5)*'Customer Info'!$D$18),)","v":0},{"$f":"IF($F$4=\"dinner\",IF(T216=0,,(T216/$E$6)*'Customer Info'!$D$18),)","v":0},{"$f":"IF($F$4=\"other\",IF(U216=0,,(U216/$E$7)*'Customer Info'!$D$18),)","v":0},{"$f":"SUM(BC216:BE216)","v":0},{"$f":"IF($F$5=\"breakfast\",IF(R216=0,,(R216/$E$4)*'Customer Info'!$D$19),)","v":0},{"$f":"IF($F$5=\"dinner\",IF(T216=0,,(T216/$E$6)*'Customer Info'!$D$19),)","v":0},{"$f":"IF($F$5=\"other\",IF(U216=0,,(U216/$E$7)*'Customer Info'!$D$19),)","v":0},{"$f":"SUM(BG216:BI216)","v":0},{"$f":"IF($F$6=\"breakfast\",IF(R216=0,,(R216/$E$4)*'Customer Info'!$D$20),)","v":0},{"$f":"IF($F$6=\"lunch\",IF(S216=0,,(S216/$E$5)*'Customer Info'!$D$20),)","v":0},{"$f":"IF($F$6=\"other\",IF(U216=0,,(U216/$E$7)*'Customer Info'!$D$20),)","v":0},{"$f":"SUM(BK216:BM216)","v":0},{"$f":"IF($F$7=\"breakfast\",IF(R216=0,,(R216/$E$4)*'Customer Info'!$D$21),)","v":0},{"$f":"IF($F$7=\"lunch\",IF(S216=0,,(S216/$E$5)*'Customer Info'!$D$21),)","v":0},{"$f":"IF($F$7=\"dinner\",IF(T216=0,,(T216/$E$6)*'Customer Info'!$D$21),)","v":0},{"$f":"SUM(BO216:BQ216)","v":0},{"$f":"IF($F$10=\"lunch\",IF(W216=0,,(W216/$E$11)*'Customer Info'!$F$18),)","v":0},{"$f":"IF($F$10=\"dinner\",IF(X216=0,,(X216/$E$12)*'Customer Info'!$F$18),)","v":0},{"$f":"IF($F$10=\"other\",IF(Y216=0,,(Y216/$E$13)*'Customer Info'!$F$18),)","v":0},{"$f":"SUM(BS216:BU216)","v":0},{"$f":"IF($F$11=\"breakfast\",IF(V216=0,,(V216/$E$10)*'Customer Info'!$F$19),)","v":0},{"$f":"IF($F$11=\"dinner\",IF(X216=0,,(X216/$E$12)*'Customer Info'!$F$19),)","v":0},{"$f":"IF($F$11=\"other\",IF(Y216=0,,(Y216/$E$13)*'Customer Info'!$F$19),)","v":0},{"$f":"SUM(BW216:BY216)","v":0},{"$f":"IF($F$12=\"breakfast\",IF(V216=0,,(V216/$E$10)*'Customer Info'!$F$20),)","v":0},{"$f":"IF($F$12=\"lunch\",IF(W216=0,,(W216/$E$11)*'Customer Info'!$F$20),)","v":0},{"$f":"IF($F$12=\"other\",IF(Y216=0,,(Y216/$E$13)*'Customer Info'!$F$20),)","v":0},{"$f":"SUM(CA216:CC216)","v":0},{"$f":"IF($F$13=\"breakfast\",IF(V216=0,,(V216/$E$10)*'Customer Info'!$F$21),)","v":0},{"$f":"IF($F$13=\"lunch\",IF(W216=0,,(W216/$E$11)*'Customer Info'!$F$21),)","v":0},{"$f":"IF($F$13=\"dinner\",IF(X216=0,,(X216/$E$12)*'Customer Info'!$F$21),)","v":0},{"$f":"SUM(CE216:CG216)","v":0},{"$f":"IF($F$16=\"lunch\",IF(AA216=0,,(AA216/$E$17)*'Customer Info'!$H$18),)","v":0},{"$f":"IF($F$16=\"dinner\",IF(AB216=0,,(AB216/$E$18)*'Customer Info'!$H$18),)","v":0},{"$f":"IF($F$16=\"other\",IF(AC216=0,,(AC216/$E$19)*'Customer Info'!$H$18),)","v":0},{"$f":"SUM(CI216:CK216)","v":0},{"$f":"IF($F$17=\"breakfast\",IF(Z216=0,,(Z216/$E$16)*'Customer Info'!$H$19),)","v":0},{"$f":"IF($F$17=\"dinner\",IF(AB216=0,,(AB216/$E$18)*'Customer Info'!$H$19),)","v":0},{"$f":"IF($F$17=\"other\",IF(AC216=0,,(AC216/$E$19)*'Customer Info'!$H$19),)","v":0},{"$f":"SUM(CM216:CO216)","v":0},{"$f":"IF($F$18=\"breakfast\",IF(Z216=0,,(Z216/$E$16)*'Customer Info'!$H$20),)","v":0},{"$f":"IF($F$18=\"lunch\",IF(AA216=0,,(AA216/$E$17)*'Customer Info'!$H$20),)","v":0},{"$f":"IF($F$18=\"other\",IF(AC216=0,,(AC216/$E$19)*'Customer Info'!$H$20),)","v":0},{"$f":"SUM(CQ216:CS216)","v":0},{"$f":"IF($F$19=\"breakfast\",IF(Z216=0,,(Z216/$E$16)*'Customer Info'!$H$21),)","v":0},{"$f":"IF($F$19=\"lunch\",IF(AA216=0,,(AA216/$E$17)*'Customer Info'!$H$21),)","v":0},{"$f":"IF($F$19=\"dinner\",IF(AB216=0,,(AB216/$E$18)*'Customer Info'!$H$21),)","v":0},{"$f":"SUM(CU216:CW216)","v":0},0,0,{"$f":"IF(Q216=0,,I216*(L216/K216))","v":0},{"$f":"IF(Q216=0,,L216)","v":0},{"$f":"IF(I216>0,A216,\"\")","v":""}]
[null,null,null,null,null,null,null,null,null,null,0,0,0,0,0,0,0,0,0,0,0,0,0,0,0,0,0,0,0,0,0,0,0,{"$f":"IF((OR($F$4=0,$F$4=\"none\")),IF(R217=0,,IF(OR($E$4='Customer Info'!$D$18,$E$4=0),R217,(R217/$E$4)*'Customer Info'!$D$18)),)","v":0},{"$f":"IF((OR($F$5=0,$F$5=\"none\")),IF(S217=0,,IF(OR($E$5='Customer Info'!$D$18,$E$5=0),S217,(S217/$E$5)*'Customer Info'!$D$19)),)","v":0},{"$f":"IF((OR($F$6=0,$F$6=\"none\")),IF(T217=0,,IF(OR($E$6='Customer Info'!$D$18,$E$6=0),T217,(T217/$E$6)*'Customer Info'!$D$20)),)","v":0},{"$f":"IF((OR($F$7=0,$F$7=\"none\")),IF(U217=0,,IF(OR($E$7='Customer Info'!$D$18,$E$7=0),U217,(U217/$E$7)*'Customer Info'!$D$21)),)","v":0},{"$f":"IF((OR($F$10=0,$F$10=\"none\")),IF(V217=0,,IF(OR($E$10='Customer Info'!$F$18,$E$10=0),V217,(V217/$E$10)*'Customer Info'!$F$18)),)","v":0},{"$f":"IF((OR($F$11=0,$F$11=\"none\")),IF(W217=0,,IF(OR($E$11='Customer Info'!$F$19,$E$11=0),W217,(W217/$E$11)*'Customer Info'!$F$19)),)","v":0},{"$f":"IF((OR($F$12=0,$F$12=\"none\")),IF(X217=0,,IF(OR($E$12='Customer Info'!$F$20,$E$12=0),X217,(X217/$E$12)*'Customer Info'!$F$20)),)","v":0},{"$f":"IF((OR($F$13=0,$F$13=\"none\")),IF(Y217=0,,IF(OR($E$13='Customer Info'!$F$21,$E$13=0),Y217,(Y217/$E$13)*'Customer Info'!$F$21)),)","v":0},{"$f":"IF((OR($F$16=0,$F$16=\"none\")),IF(Z217=0,,IF(OR($E$16='Customer Info'!$H$18,$E$16=0),Z217,(Z217/$E$16)*'Customer Info'!$H$18)),)","v":0},{"$f":"IF((OR($F$17=0,$F$17=\"none\")),IF(AA217=0,,IF(OR($E$17='Customer Info'!$H$19,$E$17=0),AA217,(AA217/$E$17)*'Customer Info'!$H$19)),)","v":0},{"$f":"IF((OR($F$18=0,$F$18=\"none\")),IF(AB217=0,,IF(OR($E$18='Customer Info'!$H$20,$E$18=0),AB217,(AB217/$E$18)*'Customer Info'!$H$20)),)","v":0},{"$f":"IF((OR($F$19=0,$F$19=\"none\")),IF(AC217=0,,IF(OR($E$19='Customer Info'!$H$21,$E$19=0),AC217,(AC217/$E$19)*'Customer Info'!$H$21)),)","v":0},{"$f":"IF((OR($F$4=0,$F$4=\"none\")),IF(AD217=0,,IF(OR($E$4='Customer Info'!$D$18,$E$4=0),AD217,(AD217/$E$4)*'Customer Info'!$D$18)),)","v":0},{"$f":"IF((OR($F$5=0,$F$5=\"none\")),IF(AE217=0,,IF(OR($E$5='Customer Info'!$D$19,$E$5=0),AE217,(AE217/$E$5)*'Customer Info'!$D$19)),)","v":0},{"$f":"IF((OR($F$6=0,$F$6=\"none\")),IF(AF217=0,,IF(OR($E$6='Customer Info'!$D$20,$E$6=0),AF217,(AF217/$E$6)*'Customer Info'!$D$20)),)","v":0},{"$f":"IF((OR($F$7=0,$F$7=\"none\")),IF(AG217=0,,IF(OR($E$7='Customer Info'!$D$21,$E$7=0),AG217,(AG217/$E$7)*'Customer Info'!$D$21)),)","v":0},0,0,{"$f":"IF(E217=\"plate waste\",,IF('Customer Info'!$M$18=0,'Log Sheet'!AY217,'Customer Info'!$M$18*'Log Sheet'!AY217))","v":0},{"$f":"IF(E217=\"plate waste\",IF(OR(C217=\"patient\",C217=\"patient beverages\"),IF('Customer Info'!$M$27=0,AY217*'Customer Info'!$M$18,AY217*'Customer Info'!$M$27),IF(C217=\"cafeteria\",IF('Customer Info'!$M$28=0,AY217*'Customer Info'!$M$18,AY217*'Customer Info'!$M$28),IF(C217=\"other1\",IF('Customer Info'!$M$29=0,AY217*'Customer Info'!$M$18,AY217*'Customer Info'!$M$29),))),)","v":0},0,{"$f":"IF($F$4=\"lunch\",IF(S217=0,,(S217/$E$5)*'Customer Info'!$D$18),)","v":0},{"$f":"IF($F$4=\"dinner\",IF(T217=0,,(T217/$E$6)*'Customer Info'!$D$18),)","v":0},{"$f":"IF($F$4=\"other\",IF(U217=0,,(U217/$E$7)*'Customer Info'!$D$18),)","v":0},0,{"$f":"IF($F$5=\"breakfast\",IF(R217=0,,(R217/$E$4)*'Customer Info'!$D$19),)","v":0},{"$f":"IF($F$5=\"dinner\",IF(T217=0,,(T217/$E$6)*'Customer Info'!$D$19),)","v":0},{"$f":"IF($F$5=\"other\",IF(U217=0,,(U217/$E$7)*'Customer Info'!$D$19),)","v":0},0,{"$f":"IF($F$6=\"breakfast\",IF(R217=0,,(R217/$E$4)*'Customer Info'!$D$20),)","v":0},{"$f":"IF($F$6=\"lunch\",IF(S217=0,,(S217/$E$5)*'Customer Info'!$D$20),)","v":0},{"$f":"IF($F$6=\"other\",IF(U217=0,,(U217/$E$7)*'Customer Info'!$D$20),)","v":0},0,{"$f":"IF($F$7=\"breakfast\",IF(R217=0,,(R217/$E$4)*'Customer Info'!$D$21),)","v":0},{"$f":"IF($F$7=\"lunch\",IF(S217=0,,(S217/$E$5)*'Customer Info'!$D$21),)","v":0},{"$f":"IF($F$7=\"dinner\",IF(T217=0,,(T217/$E$6)*'Customer Info'!$D$21),)","v":0},0,{"$f":"IF($F$10=\"lunch\",IF(W217=0,,(W217/$E$11)*'Customer Info'!$F$18),)","v":0},{"$f":"IF($F$10=\"dinner\",IF(X217=0,,(X217/$E$12)*'Customer Info'!$F$18),)","v":0},{"$f":"IF($F$10=\"other\",IF(Y217=0,,(Y217/$E$13)*'Customer Info'!$F$18),)","v":0},0,{"$f":"IF($F$11=\"breakfast\",IF(V217=0,,(V217/$E$10)*'Customer Info'!$F$19),)","v":0},{"$f":"IF($F$11=\"dinner\",IF(X217=0,,(X217/$E$12)*'Customer Info'!$F$19),)","v":0},{"$f":"IF($F$11=\"other\",IF(Y217=0,,(Y217/$E$13)*'Customer Info'!$F$19),)","v":0},0,{"$f":"IF($F$12=\"breakfast\",IF(V217=0,,(V217/$E$10)*'Customer Info'!$F$20),)","v":0},{"$f":"IF($F$12=\"lunch\",IF(W217=0,,(W217/$E$11)*'Customer Info'!$F$20),)","v":0},{"$f":"IF($F$12=\"other\",IF(Y217=0,,(Y217/$E$13)*'Customer Info'!$F$20),)","v":0},0,{"$f":"IF($F$13=\"breakfast\",IF(V217=0,,(V217/$E$10)*'Customer Info'!$F$21),)","v":0},{"$f":"IF($F$13=\"lunch\",IF(W217=0,,(W217/$E$11)*'Customer Info'!$F$21),)","v":0},{"$f":"IF($F$13=\"dinner\",IF(X217=0,,(X217/$E$12)*'Customer Info'!$F$21),)","v":0},0,{"$f":"IF($F$16=\"lunch\",IF(AA217=0,,(AA217/$E$17)*'Customer Info'!$H$18),)","v":0},{"$f":"IF($F$16=\"dinner\",IF(AB217=0,,(AB217/$E$18)*'Customer Info'!$H$18),)","v":0},{"$f":"IF($F$16=\"other\",IF(AC217=0,,(AC217/$E$19)*'Customer Info'!$H$18),)","v":0},0,{"$f":"IF($F$17=\"breakfast\",IF(Z217=0,,(Z217/$E$16)*'Customer Info'!$H$19),)","v":0},{"$f":"IF($F$17=\"dinner\",IF(AB217=0,,(AB217/$E$18)*'Customer Info'!$H$19),)","v":0},{"$f":"IF($F$17=\"other\",IF(AC217=0,,(AC217/$E$19)*'Customer Info'!$H$19),)","v":0},0,{"$f":"IF($F$18=\"breakfast\",IF(Z217=0,,(Z217/$E$16)*'Customer Info'!$H$20),)","v":0},{"$f":"IF($F$18=\"lunch\",IF(AA217=0,,(AA217/$E$17)*'Customer Info'!$H$20),)","v":0},{"$f":"IF($F$18=\"other\",IF(AC217=0,,(AC217/$E$19)*'Customer Info'!$H$20),)","v":0},0,{"$f":"IF($F$19=\"breakfast\",IF(Z217=0,,(Z217/$E$16)*'Customer Info'!$H$21),)","v":0},{"$f":"IF($F$19=\"lunch\",IF(AA217=0,,(AA217/$E$17)*'Customer Info'!$H$21),)","v":0},{"$f":"IF($F$19=\"dinner\",IF(AB217=0,,(AB217/$E$18)*'Customer Info'!$H$21),)","v":0},0,0,0,0,0,""]
[null,null,null,null,null,null,null,null,null,null,0,0,0,0,0,0,0,0,0,0,0,0,0,0,0,0,0,0,0,0,0,0,0,{"$f":"IF((OR($F$4=0,$F$4=\"none\")),IF(R218=0,,IF(OR($E$4='Customer Info'!$D$18,$E$4=0),R218,(R218/$E$4)*'Customer Info'!$D$18)),)","v":0},{"$f":"IF((OR($F$5=0,$F$5=\"none\")),IF(S218=0,,IF(OR($E$5='Customer Info'!$D$18,$E$5=0),S218,(S218/$E$5)*'Customer Info'!$D$19)),)","v":0},{"$f":"IF((OR($F$6=0,$F$6=\"none\")),IF(T218=0,,IF(OR($E$6='Customer Info'!$D$18,$E$6=0),T218,(T218/$E$6)*'Customer Info'!$D$20)),)","v":0},{"$f":"IF((OR($F$7=0,$F$7=\"none\")),IF(U218=0,,IF(OR($E$7='Customer Info'!$D$18,$E$7=0),U218,(U218/$E$7)*'Customer Info'!$D$21)),)","v":0},{"$f":"IF((OR($F$10=0,$F$10=\"none\")),IF(V218=0,,IF(OR($E$10='Customer Info'!$F$18,$E$10=0),V218,(V218/$E$10)*'Customer Info'!$F$18)),)","v":0},{"$f":"IF((OR($F$11=0,$F$11=\"none\")),IF(W218=0,,IF(OR($E$11='Customer Info'!$F$19,$E$11=0),W218,(W218/$E$11)*'Customer Info'!$F$19)),)","v":0},{"$f":"IF((OR($F$12=0,$F$12=\"none\")),IF(X218=0,,IF(OR($E$12='Customer Info'!$F$20,$E$12=0),X218,(X218/$E$12)*'Customer Info'!$F$20)),)","v":0},{"$f":"IF((OR($F$13=0,$F$13=\"none\")),IF(Y218=0,,IF(OR($E$13='Customer Info'!$F$21,$E$13=0),Y218,(Y218/$E$13)*'Customer Info'!$F$21)),)","v":0},{"$f":"IF((OR($F$16=0,$F$16=\"none\")),IF(Z218=0,,IF(OR($E$16='Customer Info'!$H$18,$E$16=0),Z218,(Z218/$E$16)*'Customer Info'!$H$18)),)","v":0},{"$f":"IF((OR($F$17=0,$F$17=\"none\")),IF(AA218=0,,IF(OR($E$17='Customer Info'!$H$19,$E$17=0),AA218,(AA218/$E$17)*'Customer Info'!$H$19)),)","v":0},{"$f":"IF((OR($F$18=0,$F$18=\"none\")),IF(AB218=0,,IF(OR($E$18='Customer Info'!$H$20,$E$18=0),AB218,(AB218/$E$18)*'Customer Info'!$H$20)),)","v":0},{"$f":"IF((OR($F$19=0,$F$19=\"none\")),IF(AC218=0,,IF(OR($E$19='Customer Info'!$H$21,$E$19=0),AC218,(AC218/$E$19)*'Customer Info'!$H$21)),)","v":0},{"$f":"IF((OR($F$4=0,$F$4=\"none\")),IF(AD218=0,,IF(OR($E$4='Customer Info'!$D$18,$E$4=0),AD218,(AD218/$E$4)*'Customer Info'!$D$18)),)","v":0},{"$f":"IF((OR($F$5=0,$F$5=\"none\")),IF(AE218=0,,IF(OR($E$5='Customer Info'!$D$19,$E$5=0),AE218,(AE218/$E$5)*'Customer Info'!$D$19)),)","v":0},{"$f":"IF((OR($F$6=0,$F$6=\"none\")),IF(AF218=0,,IF(OR($E$6='Customer Info'!$D$20,$E$6=0),AF218,(AF218/$E$6)*'Customer Info'!$D$20)),)","v":0},{"$f":"IF((OR($F$7=0,$F$7=\"none\")),IF(AG218=0,,IF(OR($E$7='Customer Info'!$D$21,$E$7=0),AG218,(AG218/$E$7)*'Customer Info'!$D$21)),)","v":0},0,0,{"$f":"IF(E218=\"plate waste\",,IF('Customer Info'!$M$18=0,'Log Sheet'!AY218,'Customer Info'!$M$18*'Log Sheet'!AY218))","v":0},{"$f":"IF(E218=\"plate waste\",IF(OR(C218=\"patient\",C218=\"patient beverages\"),IF('Customer Info'!$M$27=0,AY218*'Customer Info'!$M$18,AY218*'Customer Info'!$M$27),IF(C218=\"cafeteria\",IF('Customer Info'!$M$28=0,AY218*'Customer Info'!$M$18,AY218*'Customer Info'!$M$28),IF(C218=\"other1\",IF('Customer Info'!$M$29=0,AY218*'Customer Info'!$M$18,AY218*'Customer Info'!$M$29),))),)","v":0},0,{"$f":"IF($F$4=\"lunch\",IF(S218=0,,(S218/$E$5)*'Customer Info'!$D$18),)","v":0},{"$f":"IF($F$4=\"dinner\",IF(T218=0,,(T218/$E$6)*'Customer Info'!$D$18),)","v":0},{"$f":"IF($F$4=\"other\",IF(U218=0,,(U218/$E$7)*'Customer Info'!$D$18),)","v":0},0,{"$f":"IF($F$5=\"breakfast\",IF(R218=0,,(R218/$E$4)*'Customer Info'!$D$19),)","v":0},{"$f":"IF($F$5=\"dinner\",IF(T218=0,,(T218/$E$6)*'Customer Info'!$D$19),)","v":0},{"$f":"IF($F$5=\"other\",IF(U218=0,,(U218/$E$7)*'Customer Info'!$D$19),)","v":0},0,{"$f":"IF($F$6=\"breakfast\",IF(R218=0,,(R218/$E$4)*'Customer Info'!$D$20),)","v":0},{"$f":"IF($F$6=\"lunch\",IF(S218=0,,(S218/$E$5)*'Customer Info'!$D$20),)","v":0},{"$f":"IF($F$6=\"other\",IF(U218=0,,(U218/$E$7)*'Customer Info'!$D$20),)","v":0},0,{"$f":"IF($F$7=\"breakfast\",IF(R218=0,,(R218/$E$4)*'Customer Info'!$D$21),)","v":0},{"$f":"IF($F$7=\"lunch\",IF(S218=0,,(S218/$E$5)*'Customer Info'!$D$21),)","v":0},{"$f":"IF($F$7=\"dinner\",IF(T218=0,,(T218/$E$6)*'Customer Info'!$D$21),)","v":0},0,{"$f":"IF($F$10=\"lunch\",IF(W218=0,,(W218/$E$11)*'Customer Info'!$F$18),)","v":0},{"$f":"IF($F$10=\"dinner\",IF(X218=0,,(X218/$E$12)*'Customer Info'!$F$18),)","v":0},{"$f":"IF($F$10=\"other\",IF(Y218=0,,(Y218/$E$13)*'Customer Info'!$F$18),)","v":0},0,{"$f":"IF($F$11=\"breakfast\",IF(V218=0,,(V218/$E$10)*'Customer Info'!$F$19),)","v":0},{"$f":"IF($F$11=\"dinner\",IF(X218=0,,(X218/$E$12)*'Customer Info'!$F$19),)","v":0},{"$f":"IF($F$11=\"other\",IF(Y218=0,,(Y218/$E$13)*'Customer Info'!$F$19),)","v":0},0,{"$f":"IF($F$12=\"breakfast\",IF(V218=0,,(V218/$E$10)*'Customer Info'!$F$20),)","v":0},{"$f":"IF($F$12=\"lunch\",IF(W218=0,,(W218/$E$11)*'Customer Info'!$F$20),)","v":0},{"$f":"IF($F$12=\"other\",IF(Y218=0,,(Y218/$E$13)*'Customer Info'!$F$20),)","v":0},0,{"$f":"IF($F$13=\"breakfast\",IF(V218=0,,(V218/$E$10)*'Customer Info'!$F$21),)","v":0},{"$f":"IF($F$13=\"lunch\",IF(W218=0,,(W218/$E$11)*'Customer Info'!$F$21),)","v":0},{"$f":"IF($F$13=\"dinner\",IF(X218=0,,(X218/$E$12)*'Customer Info'!$F$21),)","v":0},0,{"$f":"IF($F$16=\"lunch\",IF(AA218=0,,(AA218/$E$17)*'Customer Info'!$H$18),)","v":0},{"$f":"IF($F$16=\"dinner\",IF(AB218=0,,(AB218/$E$18)*'Customer Info'!$H$18),)","v":0},{"$f":"IF($F$16=\"other\",IF(AC218=0,,(AC218/$E$19)*'Customer Info'!$H$18),)","v":0},0,{"$f":"IF($F$17=\"breakfast\",IF(Z218=0,,(Z218/$E$16)*'Customer Info'!$H$19),)","v":0},{"$f":"IF($F$17=\"dinner\",IF(AB218=0,,(AB218/$E$18)*'Customer Info'!$H$19),)","v":0},{"$f":"IF($F$17=\"other\",IF(AC218=0,,(AC218/$E$19)*'Customer Info'!$H$19),)","v":0},0,{"$f":"IF($F$18=\"breakfast\",IF(Z218=0,,(Z218/$E$16)*'Customer Info'!$H$20),)","v":0},{"$f":"IF($F$18=\"lunch\",IF(AA218=0,,(AA218/$E$17)*'Customer Info'!$H$20),)","v":0},{"$f":"IF($F$18=\"other\",IF(AC218=0,,(AC218/$E$19)*'Customer Info'!$H$20),)","v":0},0,{"$f":"IF($F$19=\"breakfast\",IF(Z218=0,,(Z218/$E$16)*'Customer Info'!$H$21),)","v":0},{"$f":"IF($F$19=\"lunch\",IF(AA218=0,,(AA218/$E$17)*'Customer Info'!$H$21),)","v":0},{"$f":"IF($F$19=\"dinner\",IF(AB218=0,,(AB218/$E$18)*'Customer Info'!$H$21),)","v":0},0,0,0,0,0,""]
[null,null,null,null,null,null,null,null,null,null,0,0,0,0,0,0,0,0,0,0,0,0,0,0,0,0,0,0,0,0,0,0,0,{"$f":"IF((OR($F$4=0,$F$4=\"none\")),IF(R219=0,,IF(OR($E$4='Customer Info'!$D$18,$E$4=0),R219,(R219/$E$4)*'Customer Info'!$D$18)),)","v":0},{"$f":"IF((OR($F$5=0,$F$5=\"none\")),IF(S219=0,,IF(OR($E$5='Customer Info'!$D$18,$E$5=0),S219,(S219/$E$5)*'Customer Info'!$D$19)),)","v":0},{"$f":"IF((OR($F$6=0,$F$6=\"none\")),IF(T219=0,,IF(OR($E$6='Customer Info'!$D$18,$E$6=0),T219,(T219/$E$6)*'Customer Info'!$D$20)),)","v":0},{"$f":"IF((OR($F$7=0,$F$7=\"none\")),IF(U219=0,,IF(OR($E$7='Customer Info'!$D$18,$E$7=0),U219,(U219/$E$7)*'Customer Info'!$D$21)),)","v":0},{"$f":"IF((OR($F$10=0,$F$10=\"none\")),IF(V219=0,,IF(OR($E$10='Customer Info'!$F$18,$E$10=0),V219,(V219/$E$10)*'Customer Info'!$F$18)),)","v":0},{"$f":"IF((OR($F$11=0,$F$11=\"none\")),IF(W219=0,,IF(OR($E$11='Customer Info'!$F$19,$E$11=0),W219,(W219/$E$11)*'Customer Info'!$F$19)),)","v":0},{"$f":"IF((OR($F$12=0,$F$12=\"none\")),IF(X219=0,,IF(OR($E$12='Customer Info'!$F$20,$E$12=0),X219,(X219/$E$12)*'Customer Info'!$F$20)),)","v":0},{"$f":"IF((OR($F$13=0,$F$13=\"none\")),IF(Y219=0,,IF(OR($E$13='Customer Info'!$F$21,$E$13=0),Y219,(Y219/$E$13)*'Customer Info'!$F$21)),)","v":0},{"$f":"IF((OR($F$16=0,$F$16=\"none\")),IF(Z219=0,,IF(OR($E$16='Customer Info'!$H$18,$E$16=0),Z219,(Z219/$E$16)*'Customer Info'!$H$18)),)","v":0},{"$f":"IF((OR($F$17=0,$F$17=\"none\")),IF(AA219=0,,IF(OR($E$17='Customer Info'!$H$19,$E$17=0),AA219,(AA219/$E$17)*'Customer Info'!$H$19)),)","v":0},{"$f":"IF((OR($F$18=0,$F$18=\"none\")),IF(AB219=0,,IF(OR($E$18='Customer Info'!$H$20,$E$18=0),AB219,(AB219/$E$18)*'Customer Info'!$H$20)),)","v":0},{"$f":"IF((OR($F$19=0,$F$19=\"none\")),IF(AC219=0,,IF(OR($E$19='Customer Info'!$H$21,$E$19=0),AC219,(AC219/$E$19)*'Customer Info'!$H$21)),)","v":0},{"$f":"IF((OR($F$4=0,$F$4=\"none\")),IF(AD219=0,,IF(OR($E$4='Customer Info'!$D$18,$E$4=0),AD219,(AD219/$E$4)*'Customer Info'!$D$18)),)","v":0},{"$f":"IF((OR($F$5=0,$F$5=\"none\")),IF(AE219=0,,IF(OR($E$5='Customer Info'!$D$19,$E$5=0),AE219,(AE219/$E$5)*'Customer Info'!$D$19)),)","v":0},{"$f":"IF((OR($F$6=0,$F$6=\"none\")),IF(AF219=0,,IF(OR($E$6='Customer Info'!$D$20,$E$6=0),AF219,(AF219/$E$6)*'Customer Info'!$D$20)),)","v":0},{"$f":"IF((OR($F$7=0,$F$7=\"none\")),IF(AG219=0,,IF(OR($E$7='Customer Info'!$D$21,$E$7=0),AG219,(AG219/$E$7)*'Customer Info'!$D$21)),)","v":0},0,0,{"$f":"IF(E219=\"plate waste\",,IF('Customer Info'!$M$18=0,'Log Sheet'!AY219,'Customer Info'!$M$18*'Log Sheet'!AY219))","v":0},{"$f":"IF(E219=\"plate waste\",IF(OR(C219=\"patient\",C219=\"patient beverages\"),IF('Customer Info'!$M$27=0,AY219*'Customer Info'!$M$18,AY219*'Customer Info'!$M$27),IF(C219=\"cafeteria\",IF('Customer Info'!$M$28=0,AY219*'Customer Info'!$M$18,AY219*'Customer Info'!$M$28),IF(C219=\"other1\",IF('Customer Info'!$M$29=0,AY219*'Customer Info'!$M$18,AY219*'Customer Info'!$M$29),))),)","v":0},0,{"$f":"IF($F$4=\"lunch\",IF(S219=0,,(S219/$E$5)*'Customer Info'!$D$18),)","v":0},{"$f":"IF($F$4=\"dinner\",IF(T219=0,,(T219/$E$6)*'Customer Info'!$D$18),)","v":0},{"$f":"IF($F$4=\"other\",IF(U219=0,,(U219/$E$7)*'Customer Info'!$D$18),)","v":0},0,{"$f":"IF($F$5=\"breakfast\",IF(R219=0,,(R219/$E$4)*'Customer Info'!$D$19),)","v":0},{"$f":"IF($F$5=\"dinner\",IF(T219=0,,(T219/$E$6)*'Customer Info'!$D$19),)","v":0},{"$f":"IF($F$5=\"other\",IF(U219=0,,(U219/$E$7)*'Customer Info'!$D$19),)","v":0},0,{"$f":"IF($F$6=\"breakfast\",IF(R219=0,,(R219/$E$4)*'Customer Info'!$D$20),)","v":0},{"$f":"IF($F$6=\"lunch\",IF(S219=0,,(S219/$E$5)*'Customer Info'!$D$20),)","v":0},{"$f":"IF($F$6=\"other\",IF(U219=0,,(U219/$E$7)*'Customer Info'!$D$20),)","v":0},0,{"$f":"IF($F$7=\"breakfast\",IF(R219=0,,(R219/$E$4)*'Customer Info'!$D$21),)","v":0},{"$f":"IF($F$7=\"lunch\",IF(S219=0,,(S219/$E$5)*'Customer Info'!$D$21),)","v":0},{"$f":"IF($F$7=\"dinner\",IF(T219=0,,(T219/$E$6)*'Customer Info'!$D$21),)","v":0},0,{"$f":"IF($F$10=\"lunch\",IF(W219=0,,(W219/$E$11)*'Customer Info'!$F$18),)","v":0},{"$f":"IF($F$10=\"dinner\",IF(X219=0,,(X219/$E$12)*'Customer Info'!$F$18),)","v":0},{"$f":"IF($F$10=\"other\",IF(Y219=0,,(Y219/$E$13)*'Customer Info'!$F$18),)","v":0},0,{"$f":"IF($F$11=\"breakfast\",IF(V219=0,,(V219/$E$10)*'Customer Info'!$F$19),)","v":0},{"$f":"IF($F$11=\"dinner\",IF(X219=0,,(X219/$E$12)*'Customer Info'!$F$19),)","v":0},{"$f":"IF($F$11=\"other\",IF(Y219=0,,(Y219/$E$13)*'Customer Info'!$F$19),)","v":0},0,{"$f":"IF($F$12=\"breakfast\",IF(V219=0,,(V219/$E$10)*'Customer Info'!$F$20),)","v":0},{"$f":"IF($F$12=\"lunch\",IF(W219=0,,(W219/$E$11)*'Customer Info'!$F$20),)","v":0},{"$f":"IF($F$12=\"other\",IF(Y219=0,,(Y219/$E$13)*'Customer Info'!$F$20),)","v":0},0,{"$f":"IF($F$13=\"breakfast\",IF(V219=0,,(V219/$E$10)*'Customer Info'!$F$21),)","v":0},{"$f":"IF($F$13=\"lunch\",IF(W219=0,,(W219/$E$11)*'Customer Info'!$F$21),)","v":0},{"$f":"IF($F$13=\"dinner\",IF(X219=0,,(X219/$E$12)*'Customer Info'!$F$21),)","v":0},0,{"$f":"IF($F$16=\"lunch\",IF(AA219=0,,(AA219/$E$17)*'Customer Info'!$H$18),)","v":0},{"$f":"IF($F$16=\"dinner\",IF(AB219=0,,(AB219/$E$18)*'Customer Info'!$H$18),)","v":0},{"$f":"IF($F$16=\"other\",IF(AC219=0,,(AC219/$E$19)*'Customer Info'!$H$18),)","v":0},0,{"$f":"IF($F$17=\"breakfast\",IF(Z219=0,,(Z219/$E$16)*'Customer Info'!$H$19),)","v":0},{"$f":"IF($F$17=\"dinner\",IF(AB219=0,,(AB219/$E$18)*'Customer Info'!$H$19),)","v":0},{"$f":"IF($F$17=\"other\",IF(AC219=0,,(AC219/$E$19)*'Customer Info'!$H$19),)","v":0},0,{"$f":"IF($F$18=\"breakfast\",IF(Z219=0,,(Z219/$E$16)*'Customer Info'!$H$20),)","v":0},{"$f":"IF($F$18=\"lunch\",IF(AA219=0,,(AA219/$E$17)*'Customer Info'!$H$20),)","v":0},{"$f":"IF($F$18=\"other\",IF(AC219=0,,(AC219/$E$19)*'Customer Info'!$H$20),)","v":0},0,{"$f":"IF($F$19=\"breakfast\",IF(Z219=0,,(Z219/$E$16)*'Customer Info'!$H$21),)","v":0},{"$f":"IF($F$19=\"lunch\",IF(AA219=0,,(AA219/$E$17)*'Customer Info'!$H$21),)","v":0},{"$f":"IF($F$19=\"dinner\",IF(AB219=0,,(AB219/$E$18)*'Customer Info'!$H$21),)","v":0},0,0,0,0,0,""]
[null,null,null,null,null,null,null,null,null,null,0,0,0,0,0,0,0,0,0,0,0,0,0,0,0,0,0,0,0,0,0,0,0,{"$f":"IF((OR($F$4=0,$F$4=\"none\")),IF(R220=0,,IF(OR($E$4='Customer Info'!$D$18,$E$4=0),R220,(R220/$E$4)*'Customer Info'!$D$18)),)","v":0},{"$f":"IF((OR($F$5=0,$F$5=\"none\")),IF(S220=0,,IF(OR($E$5='Customer Info'!$D$18,$E$5=0),S220,(S220/$E$5)*'Customer Info'!$D$19)),)","v":0},{"$f":"IF((OR($F$6=0,$F$6=\"none\")),IF(T220=0,,IF(OR($E$6='Customer Info'!$D$18,$E$6=0),T220,(T220/$E$6)*'Customer Info'!$D$20)),)","v":0},{"$f":"IF((OR($F$7=0,$F$7=\"none\")),IF(U220=0,,IF(OR($E$7='Customer Info'!$D$18,$E$7=0),U220,(U220/$E$7)*'Customer Info'!$D$21)),)","v":0},{"$f":"IF((OR($F$10=0,$F$10=\"none\")),IF(V220=0,,IF(OR($E$10='Customer Info'!$F$18,$E$10=0),V220,(V220/$E$10)*'Customer Info'!$F$18)),)","v":0},{"$f":"IF((OR($F$11=0,$F$11=\"none\")),IF(W220=0,,IF(OR($E$11='Customer Info'!$F$19,$E$11=0),W220,(W220/$E$11)*'Customer Info'!$F$19)),)","v":0},{"$f":"IF((OR($F$12=0,$F$12=\"none\")),IF(X220=0,,IF(OR($E$12='Customer Info'!$F$20,$E$12=0),X220,(X220/$E$12)*'Customer Info'!$F$20)),)","v":0},{"$f":"IF((OR($F$13=0,$F$13=\"none\")),IF(Y220=0,,IF(OR($E$13='Customer Info'!$F$21,$E$13=0),Y220,(Y220/$E$13)*'Customer Info'!$F$21)),)","v":0},{"$f":"IF((OR($F$16=0,$F$16=\"none\")),IF(Z220=0,,IF(OR($E$16='Customer Info'!$H$18,$E$16=0),Z220,(Z220/$E$16)*'Customer Info'!$H$18)),)","v":0},{"$f":"IF((OR($F$17=0,$F$17=\"none\")),IF(AA220=0,,IF(OR($E$17='Customer Info'!$H$19,$E$17=0),AA220,(AA220/$E$17)*'Customer Info'!$H$19)),)","v":0},{"$f":"IF((OR($F$18=0,$F$18=\"none\")),IF(AB220=0,,IF(OR($E$18='Customer Info'!$H$20,$E$18=0),AB220,(AB220/$E$18)*'Customer Info'!$H$20)),)","v":0},{"$f":"IF((OR($F$19=0,$F$19=\"none\")),IF(AC220=0,,IF(OR($E$19='Customer Info'!$H$21,$E$19=0),AC220,(AC220/$E$19)*'Customer Info'!$H$21)),)","v":0},{"$f":"IF((OR($F$4=0,$F$4=\"none\")),IF(AD220=0,,IF(OR($E$4='Customer Info'!$D$18,$E$4=0),AD220,(AD220/$E$4)*'Customer Info'!$D$18)),)","v":0},{"$f":"IF((OR($F$5=0,$F$5=\"none\")),IF(AE220=0,,IF(OR($E$5='Customer Info'!$D$19,$E$5=0),AE220,(AE220/$E$5)*'Customer Info'!$D$19)),)","v":0},{"$f":"IF((OR($F$6=0,$F$6=\"none\")),IF(AF220=0,,IF(OR($E$6='Customer Info'!$D$20,$E$6=0),AF220,(AF220/$E$6)*'Customer Info'!$D$20)),)","v":0},{"$f":"IF((OR($F$7=0,$F$7=\"none\")),IF(AG220=0,,IF(OR($E$7='Customer Info'!$D$21,$E$7=0),AG220,(AG220/$E$7)*'Customer Info'!$D$21)),)","v":0},0,0,{"$f":"IF(E220=\"plate waste\",,IF('Customer Info'!$M$18=0,'Log Sheet'!AY220,'Customer Info'!$M$18*'Log Sheet'!AY220))","v":0},{"$f":"IF(E220=\"plate waste\",IF(OR(C220=\"patient\",C220=\"patient beverages\"),IF('Customer Info'!$M$27=0,AY220*'Customer Info'!$M$18,AY220*'Customer Info'!$M$27),IF(C220=\"cafeteria\",IF('Customer Info'!$M$28=0,AY220*'Customer Info'!$M$18,AY220*'Customer Info'!$M$28),IF(C220=\"other1\",IF('Customer Info'!$M$29=0,AY220*'Customer Info'!$M$18,AY220*'Customer Info'!$M$29),))),)","v":0},0,{"$f":"IF($F$4=\"lunch\",IF(S220=0,,(S220/$E$5)*'Customer Info'!$D$18),)","v":0},{"$f":"IF($F$4=\"dinner\",IF(T220=0,,(T220/$E$6)*'Customer Info'!$D$18),)","v":0},{"$f":"IF($F$4=\"other\",IF(U220=0,,(U220/$E$7)*'Customer Info'!$D$18),)","v":0},0,{"$f":"IF($F$5=\"breakfast\",IF(R220=0,,(R220/$E$4)*'Customer Info'!$D$19),)","v":0},{"$f":"IF($F$5=\"dinner\",IF(T220=0,,(T220/$E$6)*'Customer Info'!$D$19),)","v":0},{"$f":"IF($F$5=\"other\",IF(U220=0,,(U220/$E$7)*'Customer Info'!$D$19),)","v":0},0,{"$f":"IF($F$6=\"breakfast\",IF(R220=0,,(R220/$E$4)*'Customer Info'!$D$20),)","v":0},{"$f":"IF($F$6=\"lunch\",IF(S220=0,,(S220/$E$5)*'Customer Info'!$D$20),)","v":0},{"$f":"IF($F$6=\"other\",IF(U220=0,,(U220/$E$7)*'Customer Info'!$D$20),)","v":0},0,{"$f":"IF($F$7=\"breakfast\",IF(R220=0,,(R220/$E$4)*'Customer Info'!$D$21),)","v":0},{"$f":"IF($F$7=\"lunch\",IF(S220=0,,(S220/$E$5)*'Customer Info'!$D$21),)","v":0},{"$f":"IF($F$7=\"dinner\",IF(T220=0,,(T220/$E$6)*'Customer Info'!$D$21),)","v":0},0,{"$f":"IF($F$10=\"lunch\",IF(W220=0,,(W220/$E$11)*'Customer Info'!$F$18),)","v":0},{"$f":"IF($F$10=\"dinner\",IF(X220=0,,(X220/$E$12)*'Customer Info'!$F$18),)","v":0},{"$f":"IF($F$10=\"other\",IF(Y220=0,,(Y220/$E$13)*'Customer Info'!$F$18),)","v":0},0,{"$f":"IF($F$11=\"breakfast\",IF(V220=0,,(V220/$E$10)*'Customer Info'!$F$19),)","v":0},{"$f":"IF($F$11=\"dinner\",IF(X220=0,,(X220/$E$12)*'Customer Info'!$F$19),)","v":0},{"$f":"IF($F$11=\"other\",IF(Y220=0,,(Y220/$E$13)*'Customer Info'!$F$19),)","v":0},0,{"$f":"IF($F$12=\"breakfast\",IF(V220=0,,(V220/$E$10)*'Customer Info'!$F$20),)","v":0},{"$f":"IF($F$12=\"lunch\",IF(W220=0,,(W220/$E$11)*'Customer Info'!$F$20),)","v":0},{"$f":"IF($F$12=\"other\",IF(Y220=0,,(Y220/$E$13)*'Customer Info'!$F$20),)","v":0},0,{"$f":"IF($F$13=\"breakfast\",IF(V220=0,,(V220/$E$10)*'Customer Info'!$F$21),)","v":0},{"$f":"IF($F$13=\"lunch\",IF(W220=0,,(W220/$E$11)*'Customer Info'!$F$21),)","v":0},{"$f":"IF($F$13=\"dinner\",IF(X220=0,,(X220/$E$12)*'Customer Info'!$F$21),)","v":0},0,{"$f":"IF($F$16=\"lunch\",IF(AA220=0,,(AA220/$E$17)*'Customer Info'!$H$18),)","v":0},{"$f":"IF($F$16=\"dinner\",IF(AB220=0,,(AB220/$E$18)*'Customer Info'!$H$18),)","v":0},{"$f":"IF($F$16=\"other\",IF(AC220=0,,(AC220/$E$19)*'Customer Info'!$H$18),)","v":0},0,{"$f":"IF($F$17=\"breakfast\",IF(Z220=0,,(Z220/$E$16)*'Customer Info'!$H$19),)","v":0},{"$f":"IF($F$17=\"dinner\",IF(AB220=0,,(AB220/$E$18)*'Customer Info'!$H$19),)","v":0},{"$f":"IF($F$17=\"other\",IF(AC220=0,,(AC220/$E$19)*'Customer Info'!$H$19),)","v":0},0,{"$f":"IF($F$18=\"breakfast\",IF(Z220=0,,(Z220/$E$16)*'Customer Info'!$H$20),)","v":0},{"$f":"IF($F$18=\"lunch\",IF(AA220=0,,(AA220/$E$17)*'Customer Info'!$H$20),)","v":0},{"$f":"IF($F$18=\"other\",IF(AC220=0,,(AC220/$E$19)*'Customer Info'!$H$20),)","v":0},0,{"$f":"IF($F$19=\"breakfast\",IF(Z220=0,,(Z220/$E$16)*'Customer Info'!$H$21),)","v":0},{"$f":"IF($F$19=\"lunch\",IF(AA220=0,,(AA220/$E$17)*'Customer Info'!$H$21),)","v":0},{"$f":"IF($F$19=\"dinner\",IF(AB220=0,,(AB220/$E$18)*'Customer Info'!$H$21),)","v":0},0,0,0,0,0,""]
[null,null,null,null,null,null,null,null,null,null,0,0,0,0,0,0,0,0,0,0,0,0,0,0,0,0,0,0,0,0,0,0,0,{"$f":"IF((OR($F$4=0,$F$4=\"none\")),IF(R221=0,,IF(OR($E$4='Customer Info'!$D$18,$E$4=0),R221,(R221/$E$4)*'Customer Info'!$D$18)),)","v":0},{"$f":"IF((OR($F$5=0,$F$5=\"none\")),IF(S221=0,,IF(OR($E$5='Customer Info'!$D$18,$E$5=0),S221,(S221/$E$5)*'Customer Info'!$D$19)),)","v":0},{"$f":"IF((OR($F$6=0,$F$6=\"none\")),IF(T221=0,,IF(OR($E$6='Customer Info'!$D$18,$E$6=0),T221,(T221/$E$6)*'Customer Info'!$D$20)),)","v":0},{"$f":"IF((OR($F$7=0,$F$7=\"none\")),IF(U221=0,,IF(OR($E$7='Customer Info'!$D$18,$E$7=0),U221,(U221/$E$7)*'Customer Info'!$D$21)),)","v":0},{"$f":"IF((OR($F$10=0,$F$10=\"none\")),IF(V221=0,,IF(OR($E$10='Customer Info'!$F$18,$E$10=0),V221,(V221/$E$10)*'Customer Info'!$F$18)),)","v":0},{"$f":"IF((OR($F$11=0,$F$11=\"none\")),IF(W221=0,,IF(OR($E$11='Customer Info'!$F$19,$E$11=0),W221,(W221/$E$11)*'Customer Info'!$F$19)),)","v":0},{"$f":"IF((OR($F$12=0,$F$12=\"none\")),IF(X221=0,,IF(OR($E$12='Customer Info'!$F$20,$E$12=0),X221,(X221/$E$12)*'Customer Info'!$F$20)),)","v":0},{"$f":"IF((OR($F$13=0,$F$13=\"none\")),IF(Y221=0,,IF(OR($E$13='Customer Info'!$F$21,$E$13=0),Y221,(Y221/$E$13)*'Customer Info'!$F$21)),)","v":0},{"$f":"IF((OR($F$16=0,$F$16=\"none\")),IF(Z221=0,,IF(OR($E$16='Customer Info'!$H$18,$E$16=0),Z221,(Z221/$E$16)*'Customer Info'!$H$18)),)","v":0},{"$f":"IF((OR($F$17=0,$F$17=\"none\")),IF(AA221=0,,IF(OR($E$17='Customer Info'!$H$19,$E$17=0),AA221,(AA221/$E$17)*'Customer Info'!$H$19)),)","v":0},{"$f":"IF((OR($F$18=0,$F$18=\"none\")),IF(AB221=0,,IF(OR($E$18='Customer Info'!$H$20,$E$18=0),AB221,(AB221/$E$18)*'Customer Info'!$H$20)),)","v":0},{"$f":"IF((OR($F$19=0,$F$19=\"none\")),IF(AC221=0,,IF(OR($E$19='Customer Info'!$H$21,$E$19=0),AC221,(AC221/$E$19)*'Customer Info'!$H$21)),)","v":0},{"$f":"IF((OR($F$4=0,$F$4=\"none\")),IF(AD221=0,,IF(OR($E$4='Customer Info'!$D$18,$E$4=0),AD221,(AD221/$E$4)*'Customer Info'!$D$18)),)","v":0},{"$f":"IF((OR($F$5=0,$F$5=\"none\")),IF(AE221=0,,IF(OR($E$5='Customer Info'!$D$19,$E$5=0),AE221,(AE221/$E$5)*'Customer Info'!$D$19)),)","v":0},{"$f":"IF((OR($F$6=0,$F$6=\"none\")),IF(AF221=0,,IF(OR($E$6='Customer Info'!$D$20,$E$6=0),AF221,(AF221/$E$6)*'Customer Info'!$D$20)),)","v":0},{"$f":"IF((OR($F$7=0,$F$7=\"none\")),IF(AG221=0,,IF(OR($E$7='Customer Info'!$D$21,$E$7=0),AG221,(AG221/$E$7)*'Customer Info'!$D$21)),)","v":0},0,0,{"$f":"IF(E221=\"plate waste\",,IF('Customer Info'!$M$18=0,'Log Sheet'!AY221,'Customer Info'!$M$18*'Log Sheet'!AY221))","v":0},{"$f":"IF(E221=\"plate waste\",IF(OR(C221=\"patient\",C221=\"patient beverages\"),IF('Customer Info'!$M$27=0,AY221*'Customer Info'!$M$18,AY221*'Customer Info'!$M$27),IF(C221=\"cafeteria\",IF('Customer Info'!$M$28=0,AY221*'Customer Info'!$M$18,AY221*'Customer Info'!$M$28),IF(C221=\"other1\",IF('Customer Info'!$M$29=0,AY221*'Customer Info'!$M$18,AY221*'Customer Info'!$M$29),))),)","v":0},0,{"$f":"IF($F$4=\"lunch\",IF(S221=0,,(S221/$E$5)*'Customer Info'!$D$18),)","v":0},{"$f":"IF($F$4=\"dinner\",IF(T221=0,,(T221/$E$6)*'Customer Info'!$D$18),)","v":0},{"$f":"IF($F$4=\"other\",IF(U221=0,,(U221/$E$7)*'Customer Info'!$D$18),)","v":0},0,{"$f":"IF($F$5=\"breakfast\",IF(R221=0,,(R221/$E$4)*'Customer Info'!$D$19),)","v":0},{"$f":"IF($F$5=\"dinner\",IF(T221=0,,(T221/$E$6)*'Customer Info'!$D$19),)","v":0},{"$f":"IF($F$5=\"other\",IF(U221=0,,(U221/$E$7)*'Customer Info'!$D$19),)","v":0},0,{"$f":"IF($F$6=\"breakfast\",IF(R221=0,,(R221/$E$4)*'Customer Info'!$D$20),)","v":0},{"$f":"IF($F$6=\"lunch\",IF(S221=0,,(S221/$E$5)*'Customer Info'!$D$20),)","v":0},{"$f":"IF($F$6=\"other\",IF(U221=0,,(U221/$E$7)*'Customer Info'!$D$20),)","v":0},0,{"$f":"IF($F$7=\"breakfast\",IF(R221=0,,(R221/$E$4)*'Customer Info'!$D$21),)","v":0},{"$f":"IF($F$7=\"lunch\",IF(S221=0,,(S221/$E$5)*'Customer Info'!$D$21),)","v":0},{"$f":"IF($F$7=\"dinner\",IF(T221=0,,(T221/$E$6)*'Customer Info'!$D$21),)","v":0},0,{"$f":"IF($F$10=\"lunch\",IF(W221=0,,(W221/$E$11)*'Customer Info'!$F$18),)","v":0},{"$f":"IF($F$10=\"dinner\",IF(X221=0,,(X221/$E$12)*'Customer Info'!$F$18),)","v":0},{"$f":"IF($F$10=\"other\",IF(Y221=0,,(Y221/$E$13)*'Customer Info'!$F$18),)","v":0},0,{"$f":"IF($F$11=\"breakfast\",IF(V221=0,,(V221/$E$10)*'Customer Info'!$F$19),)","v":0},{"$f":"IF($F$11=\"dinner\",IF(X221=0,,(X221/$E$12)*'Customer Info'!$F$19),)","v":0},{"$f":"IF($F$11=\"other\",IF(Y221=0,,(Y221/$E$13)*'Customer Info'!$F$19),)","v":0},0,{"$f":"IF($F$12=\"breakfast\",IF(V221=0,,(V221/$E$10)*'Customer Info'!$F$20),)","v":0},{"$f":"IF($F$12=\"lunch\",IF(W221=0,,(W221/$E$11)*'Customer Info'!$F$20),)","v":0},{"$f":"IF($F$12=\"other\",IF(Y221=0,,(Y221/$E$13)*'Customer Info'!$F$20),)","v":0},0,{"$f":"IF($F$13=\"breakfast\",IF(V221=0,,(V221/$E$10)*'Customer Info'!$F$21),)","v":0},{"$f":"IF($F$13=\"lunch\",IF(W221=0,,(W221/$E$11)*'Customer Info'!$F$21),)","v":0},{"$f":"IF($F$13=\"dinner\",IF(X221=0,,(X221/$E$12)*'Customer Info'!$F$21),)","v":0},0,{"$f":"IF($F$16=\"lunch\",IF(AA221=0,,(AA221/$E$17)*'Customer Info'!$H$18),)","v":0},{"$f":"IF($F$16=\"dinner\",IF(AB221=0,,(AB221/$E$18)*'Customer Info'!$H$18),)","v":0},{"$f":"IF($F$16=\"other\",IF(AC221=0,,(AC221/$E$19)*'Customer Info'!$H$18),)","v":0},0,{"$f":"IF($F$17=\"breakfast\",IF(Z221=0,,(Z221/$E$16)*'Customer Info'!$H$19),)","v":0},{"$f":"IF($F$17=\"dinner\",IF(AB221=0,,(AB221/$E$18)*'Customer Info'!$H$19),)","v":0},{"$f":"IF($F$17=\"other\",IF(AC221=0,,(AC221/$E$19)*'Customer Info'!$H$19),)","v":0},0,{"$f":"IF($F$18=\"breakfast\",IF(Z221=0,,(Z221/$E$16)*'Customer Info'!$H$20),)","v":0},{"$f":"IF($F$18=\"lunch\",IF(AA221=0,,(AA221/$E$17)*'Customer Info'!$H$20),)","v":0},{"$f":"IF($F$18=\"other\",IF(AC221=0,,(AC221/$E$19)*'Customer Info'!$H$20),)","v":0},0,{"$f":"IF($F$19=\"breakfast\",IF(Z221=0,,(Z221/$E$16)*'Customer Info'!$H$21),)","v":0},{"$f":"IF($F$19=\"lunch\",IF(AA221=0,,(AA221/$E$17)*'Customer Info'!$H$21),)","v":0},{"$f":"IF($F$19=\"dinner\",IF(AB221=0,,(AB221/$E$18)*'Customer Info'!$H$21),)","v":0},0,0,0,0,0,""]
[null,null,null,null,null,null,null,null,null,null,0,0,0,0,0,0,0,0,0,0,0,0,0,0,0,0,0,0,0,0,0,0,0,{"$f":"IF((OR($F$4=0,$F$4=\"none\")),IF(R222=0,,IF(OR($E$4='Customer Info'!$D$18,$E$4=0),R222,(R222/$E$4)*'Customer Info'!$D$18)),)","v":0},{"$f":"IF((OR($F$5=0,$F$5=\"none\")),IF(S222=0,,IF(OR($E$5='Customer Info'!$D$18,$E$5=0),S222,(S222/$E$5)*'Customer Info'!$D$19)),)","v":0},{"$f":"IF((OR($F$6=0,$F$6=\"none\")),IF(T222=0,,IF(OR($E$6='Customer Info'!$D$18,$E$6=0),T222,(T222/$E$6)*'Customer Info'!$D$20)),)","v":0},{"$f":"IF((OR($F$7=0,$F$7=\"none\")),IF(U222=0,,IF(OR($E$7='Customer Info'!$D$18,$E$7=0),U222,(U222/$E$7)*'Customer Info'!$D$21)),)","v":0},{"$f":"IF((OR($F$10=0,$F$10=\"none\")),IF(V222=0,,IF(OR($E$10='Customer Info'!$F$18,$E$10=0),V222,(V222/$E$10)*'Customer Info'!$F$18)),)","v":0},{"$f":"IF((OR($F$11=0,$F$11=\"none\")),IF(W222=0,,IF(OR($E$11='Customer Info'!$F$19,$E$11=0),W222,(W222/$E$11)*'Customer Info'!$F$19)),)","v":0},{"$f":"IF((OR($F$12=0,$F$12=\"none\")),IF(X222=0,,IF(OR($E$12='Customer Info'!$F$20,$E$12=0),X222,(X222/$E$12)*'Customer Info'!$F$20)),)","v":0},{"$f":"IF((OR($F$13=0,$F$13=\"none\")),IF(Y222=0,,IF(OR($E$13='Customer Info'!$F$21,$E$13=0),Y222,(Y222/$E$13)*'Customer Info'!$F$21)),)","v":0},{"$f":"IF((OR($F$16=0,$F$16=\"none\")),IF(Z222=0,,IF(OR($E$16='Customer Info'!$H$18,$E$16=0),Z222,(Z222/$E$16)*'Customer Info'!$H$18)),)","v":0},{"$f":"IF((OR($F$17=0,$F$17=\"none\")),IF(AA222=0,,IF(OR($E$17='Customer Info'!$H$19,$E$17=0),AA222,(AA222/$E$17)*'Customer Info'!$H$19)),)","v":0},{"$f":"IF((OR($F$18=0,$F$18=\"none\")),IF(AB222=0,,IF(OR($E$18='Customer Info'!$H$20,$E$18=0),AB222,(AB222/$E$18)*'Customer Info'!$H$20)),)","v":0},{"$f":"IF((OR($F$19=0,$F$19=\"none\")),IF(AC222=0,,IF(OR($E$19='Customer Info'!$H$21,$E$19=0),AC222,(AC222/$E$19)*'Customer Info'!$H$21)),)","v":0},{"$f":"IF((OR($F$4=0,$F$4=\"none\")),IF(AD222=0,,IF(OR($E$4='Customer Info'!$D$18,$E$4=0),AD222,(AD222/$E$4)*'Customer Info'!$D$18)),)","v":0},{"$f":"IF((OR($F$5=0,$F$5=\"none\")),IF(AE222=0,,IF(OR($E$5='Customer Info'!$D$19,$E$5=0),AE222,(AE222/$E$5)*'Customer Info'!$D$19)),)","v":0},{"$f":"IF((OR($F$6=0,$F$6=\"none\")),IF(AF222=0,,IF(OR($E$6='Customer Info'!$D$20,$E$6=0),AF222,(AF222/$E$6)*'Customer Info'!$D$20)),)","v":0},{"$f":"IF((OR($F$7=0,$F$7=\"none\")),IF(AG222=0,,IF(OR($E$7='Customer Info'!$D$21,$E$7=0),AG222,(AG222/$E$7)*'Customer Info'!$D$21)),)","v":0},0,0,{"$f":"IF(E222=\"plate waste\",,IF('Customer Info'!$M$18=0,'Log Sheet'!AY222,'Customer Info'!$M$18*'Log Sheet'!AY222))","v":0},{"$f":"IF(E222=\"plate waste\",IF(OR(C222=\"patient\",C222=\"patient beverages\"),IF('Customer Info'!$M$27=0,AY222*'Customer Info'!$M$18,AY222*'Customer Info'!$M$27),IF(C222=\"cafeteria\",IF('Customer Info'!$M$28=0,AY222*'Customer Info'!$M$18,AY222*'Customer Info'!$M$28),IF(C222=\"other1\",IF('Customer Info'!$M$29=0,AY222*'Customer Info'!$M$18,AY222*'Customer Info'!$M$29),))),)","v":0},0,{"$f":"IF($F$4=\"lunch\",IF(S222=0,,(S222/$E$5)*'Customer Info'!$D$18),)","v":0},{"$f":"IF($F$4=\"dinner\",IF(T222=0,,(T222/$E$6)*'Customer Info'!$D$18),)","v":0},{"$f":"IF($F$4=\"other\",IF(U222=0,,(U222/$E$7)*'Customer Info'!$D$18),)","v":0},0,{"$f":"IF($F$5=\"breakfast\",IF(R222=0,,(R222/$E$4)*'Customer Info'!$D$19),)","v":0},{"$f":"IF($F$5=\"dinner\",IF(T222=0,,(T222/$E$6)*'Customer Info'!$D$19),)","v":0},{"$f":"IF($F$5=\"other\",IF(U222=0,,(U222/$E$7)*'Customer Info'!$D$19),)","v":0},0,{"$f":"IF($F$6=\"breakfast\",IF(R222=0,,(R222/$E$4)*'Customer Info'!$D$20),)","v":0},{"$f":"IF($F$6=\"lunch\",IF(S222=0,,(S222/$E$5)*'Customer Info'!$D$20),)","v":0},{"$f":"IF($F$6=\"other\",IF(U222=0,,(U222/$E$7)*'Customer Info'!$D$20),)","v":0},0,{"$f":"IF($F$7=\"breakfast\",IF(R222=0,,(R222/$E$4)*'Customer Info'!$D$21),)","v":0},{"$f":"IF($F$7=\"lunch\",IF(S222=0,,(S222/$E$5)*'Customer Info'!$D$21),)","v":0},{"$f":"IF($F$7=\"dinner\",IF(T222=0,,(T222/$E$6)*'Customer Info'!$D$21),)","v":0},0,{"$f":"IF($F$10=\"lunch\",IF(W222=0,,(W222/$E$11)*'Customer Info'!$F$18),)","v":0},{"$f":"IF($F$10=\"dinner\",IF(X222=0,,(X222/$E$12)*'Customer Info'!$F$18),)","v":0},{"$f":"IF($F$10=\"other\",IF(Y222=0,,(Y222/$E$13)*'Customer Info'!$F$18),)","v":0},0,{"$f":"IF($F$11=\"breakfast\",IF(V222=0,,(V222/$E$10)*'Customer Info'!$F$19),)","v":0},{"$f":"IF($F$11=\"dinner\",IF(X222=0,,(X222/$E$12)*'Customer Info'!$F$19),)","v":0},{"$f":"IF($F$11=\"other\",IF(Y222=0,,(Y222/$E$13)*'Customer Info'!$F$19),)","v":0},0,{"$f":"IF($F$12=\"breakfast\",IF(V222=0,,(V222/$E$10)*'Customer Info'!$F$20),)","v":0},{"$f":"IF($F$12=\"lunch\",IF(W222=0,,(W222/$E$11)*'Customer Info'!$F$20),)","v":0},{"$f":"IF($F$12=\"other\",IF(Y222=0,,(Y222/$E$13)*'Customer Info'!$F$20),)","v":0},0,{"$f":"IF($F$13=\"breakfast\",IF(V222=0,,(V222/$E$10)*'Customer Info'!$F$21),)","v":0},{"$f":"IF($F$13=\"lunch\",IF(W222=0,,(W222/$E$11)*'Customer Info'!$F$21),)","v":0},{"$f":"IF($F$13=\"dinner\",IF(X222=0,,(X222/$E$12)*'Customer Info'!$F$21),)","v":0},0,{"$f":"IF($F$16=\"lunch\",IF(AA222=0,,(AA222/$E$17)*'Customer Info'!$H$18),)","v":0},{"$f":"IF($F$16=\"dinner\",IF(AB222=0,,(AB222/$E$18)*'Customer Info'!$H$18),)","v":0},{"$f":"IF($F$16=\"other\",IF(AC222=0,,(AC222/$E$19)*'Customer Info'!$H$18),)","v":0},0,{"$f":"IF($F$17=\"breakfast\",IF(Z222=0,,(Z222/$E$16)*'Customer Info'!$H$19),)","v":0},{"$f":"IF($F$17=\"dinner\",IF(AB222=0,,(AB222/$E$18)*'Customer Info'!$H$19),)","v":0},{"$f":"IF($F$17=\"other\",IF(AC222=0,,(AC222/$E$19)*'Customer Info'!$H$19),)","v":0},0,{"$f":"IF($F$18=\"breakfast\",IF(Z222=0,,(Z222/$E$16)*'Customer Info'!$H$20),)","v":0},{"$f":"IF($F$18=\"lunch\",IF(AA222=0,,(AA222/$E$17)*'Customer Info'!$H$20),)","v":0},{"$f":"IF($F$18=\"other\",IF(AC222=0,,(AC222/$E$19)*'Customer Info'!$H$20),)","v":0},0,{"$f":"IF($F$19=\"breakfast\",IF(Z222=0,,(Z222/$E$16)*'Customer Info'!$H$21),)","v":0},{"$f":"IF($F$19=\"lunch\",IF(AA222=0,,(AA222/$E$17)*'Customer Info'!$H$21),)","v":0},{"$f":"IF($F$19=\"dinner\",IF(AB222=0,,(AB222/$E$18)*'Customer Info'!$H$21),)","v":0},0,0,0,0,0,""]
[null,null,null,null,null,null,null,null,null,null,0,0,0,0,0,0,0,0,0,0,0,0,0,0,0,0,0,0,0,0,0,0,0,{"$f":"IF((OR($F$4=0,$F$4=\"none\")),IF(R223=0,,IF(OR($E$4='Customer Info'!$D$18,$E$4=0),R223,(R223/$E$4)*'Customer Info'!$D$18)),)","v":0},{"$f":"IF((OR($F$5=0,$F$5=\"none\")),IF(S223=0,,IF(OR($E$5='Customer Info'!$D$18,$E$5=0),S223,(S223/$E$5)*'Customer Info'!$D$19)),)","v":0},{"$f":"IF((OR($F$6=0,$F$6=\"none\")),IF(T223=0,,IF(OR($E$6='Customer Info'!$D$18,$E$6=0),T223,(T223/$E$6)*'Customer Info'!$D$20)),)","v":0},{"$f":"IF((OR($F$7=0,$F$7=\"none\")),IF(U223=0,,IF(OR($E$7='Customer Info'!$D$18,$E$7=0),U223,(U223/$E$7)*'Customer Info'!$D$21)),)","v":0},{"$f":"IF((OR($F$10=0,$F$10=\"none\")),IF(V223=0,,IF(OR($E$10='Customer Info'!$F$18,$E$10=0),V223,(V223/$E$10)*'Customer Info'!$F$18)),)","v":0},{"$f":"IF((OR($F$11=0,$F$11=\"none\")),IF(W223=0,,IF(OR($E$11='Customer Info'!$F$19,$E$11=0),W223,(W223/$E$11)*'Customer Info'!$F$19)),)","v":0},{"$f":"IF((OR($F$12=0,$F$12=\"none\")),IF(X223=0,,IF(OR($E$12='Customer Info'!$F$20,$E$12=0),X223,(X223/$E$12)*'Customer Info'!$F$20)),)","v":0},{"$f":"IF((OR($F$13=0,$F$13=\"none\")),IF(Y223=0,,IF(OR($E$13='Customer Info'!$F$21,$E$13=0),Y223,(Y223/$E$13)*'Customer Info'!$F$21)),)","v":0},{"$f":"IF((OR($F$16=0,$F$16=\"none\")),IF(Z223=0,,IF(OR($E$16='Customer Info'!$H$18,$E$16=0),Z223,(Z223/$E$16)*'Customer Info'!$H$18)),)","v":0},{"$f":"IF((OR($F$17=0,$F$17=\"none\")),IF(AA223=0,,IF(OR($E$17='Customer Info'!$H$19,$E$17=0),AA223,(AA223/$E$17)*'Customer Info'!$H$19)),)","v":0},{"$f":"IF((OR($F$18=0,$F$18=\"none\")),IF(AB223=0,,IF(OR($E$18='Customer Info'!$H$20,$E$18=0),AB223,(AB223/$E$18)*'Customer Info'!$H$20)),)","v":0},{"$f":"IF((OR($F$19=0,$F$19=\"none\")),IF(AC223=0,,IF(OR($E$19='Customer Info'!$H$21,$E$19=0),AC223,(AC223/$E$19)*'Customer Info'!$H$21)),)","v":0},{"$f":"IF((OR($F$4=0,$F$4=\"none\")),IF(AD223=0,,IF(OR($E$4='Customer Info'!$D$18,$E$4=0),AD223,(AD223/$E$4)*'Customer Info'!$D$18)),)","v":0},{"$f":"IF((OR($F$5=0,$F$5=\"none\")),IF(AE223=0,,IF(OR($E$5='Customer Info'!$D$19,$E$5=0),AE223,(AE223/$E$5)*'Customer Info'!$D$19)),)","v":0},{"$f":"IF((OR($F$6=0,$F$6=\"none\")),IF(AF223=0,,IF(OR($E$6='Customer Info'!$D$20,$E$6=0),AF223,(AF223/$E$6)*'Customer Info'!$D$20)),)","v":0},{"$f":"IF((OR($F$7=0,$F$7=\"none\")),IF(AG223=0,,IF(OR($E$7='Customer Info'!$D$21,$E$7=0),AG223,(AG223/$E$7)*'Customer Info'!$D$21)),)","v":0},0,0,{"$f":"IF(E223=\"plate waste\",,IF('Customer Info'!$M$18=0,'Log Sheet'!AY223,'Customer Info'!$M$18*'Log Sheet'!AY223))","v":0},{"$f":"IF(E223=\"plate waste\",IF(OR(C223=\"patient\",C223=\"patient beverages\"),IF('Customer Info'!$M$27=0,AY223*'Customer Info'!$M$18,AY223*'Customer Info'!$M$27),IF(C223=\"cafeteria\",IF('Customer Info'!$M$28=0,AY223*'Customer Info'!$M$18,AY223*'Customer Info'!$M$28),IF(C223=\"other1\",IF('Customer Info'!$M$29=0,AY223*'Customer Info'!$M$18,AY223*'Customer Info'!$M$29),))),)","v":0},0,{"$f":"IF($F$4=\"lunch\",IF(S223=0,,(S223/$E$5)*'Customer Info'!$D$18),)","v":0},{"$f":"IF($F$4=\"dinner\",IF(T223=0,,(T223/$E$6)*'Customer Info'!$D$18),)","v":0},{"$f":"IF($F$4=\"other\",IF(U223=0,,(U223/$E$7)*'Customer Info'!$D$18),)","v":0},0,{"$f":"IF($F$5=\"breakfast\",IF(R223=0,,(R223/$E$4)*'Customer Info'!$D$19),)","v":0},{"$f":"IF($F$5=\"dinner\",IF(T223=0,,(T223/$E$6)*'Customer Info'!$D$19),)","v":0},{"$f":"IF($F$5=\"other\",IF(U223=0,,(U223/$E$7)*'Customer Info'!$D$19),)","v":0},0,{"$f":"IF($F$6=\"breakfast\",IF(R223=0,,(R223/$E$4)*'Customer Info'!$D$20),)","v":0},{"$f":"IF($F$6=\"lunch\",IF(S223=0,,(S223/$E$5)*'Customer Info'!$D$20),)","v":0},{"$f":"IF($F$6=\"other\",IF(U223=0,,(U223/$E$7)*'Customer Info'!$D$20),)","v":0},0,{"$f":"IF($F$7=\"breakfast\",IF(R223=0,,(R223/$E$4)*'Customer Info'!$D$21),)","v":0},{"$f":"IF($F$7=\"lunch\",IF(S223=0,,(S223/$E$5)*'Customer Info'!$D$21),)","v":0},{"$f":"IF($F$7=\"dinner\",IF(T223=0,,(T223/$E$6)*'Customer Info'!$D$21),)","v":0},0,{"$f":"IF($F$10=\"lunch\",IF(W223=0,,(W223/$E$11)*'Customer Info'!$F$18),)","v":0},{"$f":"IF($F$10=\"dinner\",IF(X223=0,,(X223/$E$12)*'Customer Info'!$F$18),)","v":0},{"$f":"IF($F$10=\"other\",IF(Y223=0,,(Y223/$E$13)*'Customer Info'!$F$18),)","v":0},0,{"$f":"IF($F$11=\"breakfast\",IF(V223=0,,(V223/$E$10)*'Customer Info'!$F$19),)","v":0},{"$f":"IF($F$11=\"dinner\",IF(X223=0,,(X223/$E$12)*'Customer Info'!$F$19),)","v":0},{"$f":"IF($F$11=\"other\",IF(Y223=0,,(Y223/$E$13)*'Customer Info'!$F$19),)","v":0},0,{"$f":"IF($F$12=\"breakfast\",IF(V223=0,,(V223/$E$10)*'Customer Info'!$F$20),)","v":0},{"$f":"IF($F$12=\"lunch\",IF(W223=0,,(W223/$E$11)*'Customer Info'!$F$20),)","v":0},{"$f":"IF($F$12=\"other\",IF(Y223=0,,(Y223/$E$13)*'Customer Info'!$F$20),)","v":0},0,{"$f":"IF($F$13=\"breakfast\",IF(V223=0,,(V223/$E$10)*'Customer Info'!$F$21),)","v":0},{"$f":"IF($F$13=\"lunch\",IF(W223=0,,(W223/$E$11)*'Customer Info'!$F$21),)","v":0},{"$f":"IF($F$13=\"dinner\",IF(X223=0,,(X223/$E$12)*'Customer Info'!$F$21),)","v":0},0,{"$f":"IF($F$16=\"lunch\",IF(AA223=0,,(AA223/$E$17)*'Customer Info'!$H$18),)","v":0},{"$f":"IF($F$16=\"dinner\",IF(AB223=0,,(AB223/$E$18)*'Customer Info'!$H$18),)","v":0},{"$f":"IF($F$16=\"other\",IF(AC223=0,,(AC223/$E$19)*'Customer Info'!$H$18),)","v":0},0,{"$f":"IF($F$17=\"breakfast\",IF(Z223=0,,(Z223/$E$16)*'Customer Info'!$H$19),)","v":0},{"$f":"IF($F$17=\"dinner\",IF(AB223=0,,(AB223/$E$18)*'Customer Info'!$H$19),)","v":0},{"$f":"IF($F$17=\"other\",IF(AC223=0,,(AC223/$E$19)*'Customer Info'!$H$19),)","v":0},0,{"$f":"IF($F$18=\"breakfast\",IF(Z223=0,,(Z223/$E$16)*'Customer Info'!$H$20),)","v":0},{"$f":"IF($F$18=\"lunch\",IF(AA223=0,,(AA223/$E$17)*'Customer Info'!$H$20),)","v":0},{"$f":"IF($F$18=\"other\",IF(AC223=0,,(AC223/$E$19)*'Customer Info'!$H$20),)","v":0},0,{"$f":"IF($F$19=\"breakfast\",IF(Z223=0,,(Z223/$E$16)*'Customer Info'!$H$21),)","v":0},{"$f":"IF($F$19=\"lunch\",IF(AA223=0,,(AA223/$E$17)*'Customer Info'!$H$21),)","v":0},{"$f":"IF($F$19=\"dinner\",IF(AB223=0,,(AB223/$E$18)*'Customer Info'!$H$21),)","v":0},0,0,0,0,0,""]
[null,null,null,null,null,null,null,null,null,null,0,0,0,0,0,0,0,0,0,0,0,0,0,0,0,0,0,0,0,0,0,0,0,{"$f":"IF((OR($F$4=0,$F$4=\"none\")),IF(R224=0,,IF(OR($E$4='Customer Info'!$D$18,$E$4=0),R224,(R224/$E$4)*'Customer Info'!$D$18)),)","v":0},{"$f":"IF((OR($F$5=0,$F$5=\"none\")),IF(S224=0,,IF(OR($E$5='Customer Info'!$D$18,$E$5=0),S224,(S224/$E$5)*'Customer Info'!$D$19)),)","v":0},{"$f":"IF((OR($F$6=0,$F$6=\"none\")),IF(T224=0,,IF(OR($E$6='Customer Info'!$D$18,$E$6=0),T224,(T224/$E$6)*'Customer Info'!$D$20)),)","v":0},{"$f":"IF((OR($F$7=0,$F$7=\"none\")),IF(U224=0,,IF(OR($E$7='Customer Info'!$D$18,$E$7=0),U224,(U224/$E$7)*'Customer Info'!$D$21)),)","v":0},{"$f":"IF((OR($F$10=0,$F$10=\"none\")),IF(V224=0,,IF(OR($E$10='Customer Info'!$F$18,$E$10=0),V224,(V224/$E$10)*'Customer Info'!$F$18)),)","v":0},{"$f":"IF((OR($F$11=0,$F$11=\"none\")),IF(W224=0,,IF(OR($E$11='Customer Info'!$F$19,$E$11=0),W224,(W224/$E$11)*'Customer Info'!$F$19)),)","v":0},{"$f":"IF((OR($F$12=0,$F$12=\"none\")),IF(X224=0,,IF(OR($E$12='Customer Info'!$F$20,$E$12=0),X224,(X224/$E$12)*'Customer Info'!$F$20)),)","v":0},{"$f":"IF((OR($F$13=0,$F$13=\"none\")),IF(Y224=0,,IF(OR($E$13='Customer Info'!$F$21,$E$13=0),Y224,(Y224/$E$13)*'Customer Info'!$F$21)),)","v":0},{"$f":"IF((OR($F$16=0,$F$16=\"none\")),IF(Z224=0,,IF(OR($E$16='Customer Info'!$H$18,$E$16=0),Z224,(Z224/$E$16)*'Customer Info'!$H$18)),)","v":0},{"$f":"IF((OR($F$17=0,$F$17=\"none\")),IF(AA224=0,,IF(OR($E$17='Customer Info'!$H$19,$E$17=0),AA224,(AA224/$E$17)*'Customer Info'!$H$19)),)","v":0},{"$f":"IF((OR($F$18=0,$F$18=\"none\")),IF(AB224=0,,IF(OR($E$18='Customer Info'!$H$20,$E$18=0),AB224,(AB224/$E$18)*'Customer Info'!$H$20)),)","v":0},{"$f":"IF((OR($F$19=0,$F$19=\"none\")),IF(AC224=0,,IF(OR($E$19='Customer Info'!$H$21,$E$19=0),AC224,(AC224/$E$19)*'Customer Info'!$H$21)),)","v":0},{"$f":"IF((OR($F$4=0,$F$4=\"none\")),IF(AD224=0,,IF(OR($E$4='Customer Info'!$D$18,$E$4=0),AD224,(AD224/$E$4)*'Customer Info'!$D$18)),)","v":0},{"$f":"IF((OR($F$5=0,$F$5=\"none\")),IF(AE224=0,,IF(OR($E$5='Customer Info'!$D$19,$E$5=0),AE224,(AE224/$E$5)*'Customer Info'!$D$19)),)","v":0},{"$f":"IF((OR($F$6=0,$F$6=\"none\")),IF(AF224=0,,IF(OR($E$6='Customer Info'!$D$20,$E$6=0),AF224,(AF224/$E$6)*'Customer Info'!$D$20)),)","v":0},{"$f":"IF((OR($F$7=0,$F$7=\"none\")),IF(AG224=0,,IF(OR($E$7='Customer Info'!$D$21,$E$7=0),AG224,(AG224/$E$7)*'Customer Info'!$D$21)),)","v":0},0,0,{"$f":"IF(E224=\"plate waste\",,IF('Customer Info'!$M$18=0,'Log Sheet'!AY224,'Customer Info'!$M$18*'Log Sheet'!AY224))","v":0},{"$f":"IF(E224=\"plate waste\",IF(OR(C224=\"patient\",C224=\"patient beverages\"),IF('Customer Info'!$M$27=0,AY224*'Customer Info'!$M$18,AY224*'Customer Info'!$M$27),IF(C224=\"cafeteria\",IF('Customer Info'!$M$28=0,AY224*'Customer Info'!$M$18,AY224*'Customer Info'!$M$28),IF(C224=\"other1\",IF('Customer Info'!$M$29=0,AY224*'Customer Info'!$M$18,AY224*'Customer Info'!$M$29),))),)","v":0},0,{"$f":"IF($F$4=\"lunch\",IF(S224=0,,(S224/$E$5)*'Customer Info'!$D$18),)","v":0},{"$f":"IF($F$4=\"dinner\",IF(T224=0,,(T224/$E$6)*'Customer Info'!$D$18),)","v":0},{"$f":"IF($F$4=\"other\",IF(U224=0,,(U224/$E$7)*'Customer Info'!$D$18),)","v":0},0,{"$f":"IF($F$5=\"breakfast\",IF(R224=0,,(R224/$E$4)*'Customer Info'!$D$19),)","v":0},{"$f":"IF($F$5=\"dinner\",IF(T224=0,,(T224/$E$6)*'Customer Info'!$D$19),)","v":0},{"$f":"IF($F$5=\"other\",IF(U224=0,,(U224/$E$7)*'Customer Info'!$D$19),)","v":0},0,{"$f":"IF($F$6=\"breakfast\",IF(R224=0,,(R224/$E$4)*'Customer Info'!$D$20),)","v":0},{"$f":"IF($F$6=\"lunch\",IF(S224=0,,(S224/$E$5)*'Customer Info'!$D$20),)","v":0},{"$f":"IF($F$6=\"other\",IF(U224=0,,(U224/$E$7)*'Customer Info'!$D$20),)","v":0},0,{"$f":"IF($F$7=\"breakfast\",IF(R224=0,,(R224/$E$4)*'Customer Info'!$D$21),)","v":0},{"$f":"IF($F$7=\"lunch\",IF(S224=0,,(S224/$E$5)*'Customer Info'!$D$21),)","v":0},{"$f":"IF($F$7=\"dinner\",IF(T224=0,,(T224/$E$6)*'Customer Info'!$D$21),)","v":0},0,{"$f":"IF($F$10=\"lunch\",IF(W224=0,,(W224/$E$11)*'Customer Info'!$F$18),)","v":0},{"$f":"IF($F$10=\"dinner\",IF(X224=0,,(X224/$E$12)*'Customer Info'!$F$18),)","v":0},{"$f":"IF($F$10=\"other\",IF(Y224=0,,(Y224/$E$13)*'Customer Info'!$F$18),)","v":0},0,{"$f":"IF($F$11=\"breakfast\",IF(V224=0,,(V224/$E$10)*'Customer Info'!$F$19),)","v":0},{"$f":"IF($F$11=\"dinner\",IF(X224=0,,(X224/$E$12)*'Customer Info'!$F$19),)","v":0},{"$f":"IF($F$11=\"other\",IF(Y224=0,,(Y224/$E$13)*'Customer Info'!$F$19),)","v":0},0,{"$f":"IF($F$12=\"breakfast\",IF(V224=0,,(V224/$E$10)*'Customer Info'!$F$20),)","v":0},{"$f":"IF($F$12=\"lunch\",IF(W224=0,,(W224/$E$11)*'Customer Info'!$F$20),)","v":0},{"$f":"IF($F$12=\"other\",IF(Y224=0,,(Y224/$E$13)*'Customer Info'!$F$20),)","v":0},0,{"$f":"IF($F$13=\"breakfast\",IF(V224=0,,(V224/$E$10)*'Customer Info'!$F$21),)","v":0},{"$f":"IF($F$13=\"lunch\",IF(W224=0,,(W224/$E$11)*'Customer Info'!$F$21),)","v":0},{"$f":"IF($F$13=\"dinner\",IF(X224=0,,(X224/$E$12)*'Customer Info'!$F$21),)","v":0},0,{"$f":"IF($F$16=\"lunch\",IF(AA224=0,,(AA224/$E$17)*'Customer Info'!$H$18),)","v":0},{"$f":"IF($F$16=\"dinner\",IF(AB224=0,,(AB224/$E$18)*'Customer Info'!$H$18),)","v":0},{"$f":"IF($F$16=\"other\",IF(AC224=0,,(AC224/$E$19)*'Customer Info'!$H$18),)","v":0},0,{"$f":"IF($F$17=\"breakfast\",IF(Z224=0,,(Z224/$E$16)*'Customer Info'!$H$19),)","v":0},{"$f":"IF($F$17=\"dinner\",IF(AB224=0,,(AB224/$E$18)*'Customer Info'!$H$19),)","v":0},{"$f":"IF($F$17=\"other\",IF(AC224=0,,(AC224/$E$19)*'Customer Info'!$H$19),)","v":0},0,{"$f":"IF($F$18=\"breakfast\",IF(Z224=0,,(Z224/$E$16)*'Customer Info'!$H$20),)","v":0},{"$f":"IF($F$18=\"lunch\",IF(AA224=0,,(AA224/$E$17)*'Customer Info'!$H$20),)","v":0},{"$f":"IF($F$18=\"other\",IF(AC224=0,,(AC224/$E$19)*'Customer Info'!$H$20),)","v":0},0,{"$f":"IF($F$19=\"breakfast\",IF(Z224=0,,(Z224/$E$16)*'Customer Info'!$H$21),)","v":0},{"$f":"IF($F$19=\"lunch\",IF(AA224=0,,(AA224/$E$17)*'Customer Info'!$H$21),)","v":0},{"$f":"IF($F$19=\"dinner\",IF(AB224=0,,(AB224/$E$18)*'Customer Info'!$H$21),)","v":0},0,0,0,0,0,""]
[null,null,null,null,null,null,null,null,null,null,0,0,0,0,0,0,0,0,0,0,0,0,0,0,0,0,0,0,0,0,0,0,0,{"$f":"IF((OR($F$4=0,$F$4=\"none\")),IF(R225=0,,IF(OR($E$4='Customer Info'!$D$18,$E$4=0),R225,(R225/$E$4)*'Customer Info'!$D$18)),)","v":0},{"$f":"IF((OR($F$5=0,$F$5=\"none\")),IF(S225=0,,IF(OR($E$5='Customer Info'!$D$18,$E$5=0),S225,(S225/$E$5)*'Customer Info'!$D$19)),)","v":0},{"$f":"IF((OR($F$6=0,$F$6=\"none\")),IF(T225=0,,IF(OR($E$6='Customer Info'!$D$18,$E$6=0),T225,(T225/$E$6)*'Customer Info'!$D$20)),)","v":0},{"$f":"IF((OR($F$7=0,$F$7=\"none\")),IF(U225=0,,IF(OR($E$7='Customer Info'!$D$18,$E$7=0),U225,(U225/$E$7)*'Customer Info'!$D$21)),)","v":0},{"$f":"IF((OR($F$10=0,$F$10=\"none\")),IF(V225=0,,IF(OR($E$10='Customer Info'!$F$18,$E$10=0),V225,(V225/$E$10)*'Customer Info'!$F$18)),)","v":0},{"$f":"IF((OR($F$11=0,$F$11=\"none\")),IF(W225=0,,IF(OR($E$11='Customer Info'!$F$19,$E$11=0),W225,(W225/$E$11)*'Customer Info'!$F$19)),)","v":0},{"$f":"IF((OR($F$12=0,$F$12=\"none\")),IF(X225=0,,IF(OR($E$12='Customer Info'!$F$20,$E$12=0),X225,(X225/$E$12)*'Customer Info'!$F$20)),)","v":0},{"$f":"IF((OR($F$13=0,$F$13=\"none\")),IF(Y225=0,,IF(OR($E$13='Customer Info'!$F$21,$E$13=0),Y225,(Y225/$E$13)*'Customer Info'!$F$21)),)","v":0},{"$f":"IF((OR($F$16=0,$F$16=\"none\")),IF(Z225=0,,IF(OR($E$16='Customer Info'!$H$18,$E$16=0),Z225,(Z225/$E$16)*'Customer Info'!$H$18)),)","v":0},{"$f":"IF((OR($F$17=0,$F$17=\"none\")),IF(AA225=0,,IF(OR($E$17='Customer Info'!$H$19,$E$17=0),AA225,(AA225/$E$17)*'Customer Info'!$H$19)),)","v":0},{"$f":"IF((OR($F$18=0,$F$18=\"none\")),IF(AB225=0,,IF(OR($E$18='Customer Info'!$H$20,$E$18=0),AB225,(AB225/$E$18)*'Customer Info'!$H$20)),)","v":0},{"$f":"IF((OR($F$19=0,$F$19=\"none\")),IF(AC225=0,,IF(OR($E$19='Customer Info'!$H$21,$E$19=0),AC225,(AC225/$E$19)*'Customer Info'!$H$21)),)","v":0},{"$f":"IF((OR($F$4=0,$F$4=\"none\")),IF(AD225=0,,IF(OR($E$4='Customer Info'!$D$18,$E$4=0),AD225,(AD225/$E$4)*'Customer Info'!$D$18)),)","v":0},{"$f":"IF((OR($F$5=0,$F$5=\"none\")),IF(AE225=0,,IF(OR($E$5='Customer Info'!$D$19,$E$5=0),AE225,(AE225/$E$5)*'Customer Info'!$D$19)),)","v":0},{"$f":"IF((OR($F$6=0,$F$6=\"none\")),IF(AF225=0,,IF(OR($E$6='Customer Info'!$D$20,$E$6=0),AF225,(AF225/$E$6)*'Customer Info'!$D$20)),)","v":0},{"$f":"IF((OR($F$7=0,$F$7=\"none\")),IF(AG225=0,,IF(OR($E$7='Customer Info'!$D$21,$E$7=0),AG225,(AG225/$E$7)*'Customer Info'!$D$21)),)","v":0},0,0,{"$f":"IF(E225=\"plate waste\",,IF('Customer Info'!$M$18=0,'Log Sheet'!AY225,'Customer Info'!$M$18*'Log Sheet'!AY225))","v":0},{"$f":"IF(E225=\"plate waste\",IF(OR(C225=\"patient\",C225=\"patient beverages\"),IF('Customer Info'!$M$27=0,AY225*'Customer Info'!$M$18,AY225*'Customer Info'!$M$27),IF(C225=\"cafeteria\",IF('Customer Info'!$M$28=0,AY225*'Customer Info'!$M$18,AY225*'Customer Info'!$M$28),IF(C225=\"other1\",IF('Customer Info'!$M$29=0,AY225*'Customer Info'!$M$18,AY225*'Customer Info'!$M$29),))),)","v":0},0,{"$f":"IF($F$4=\"lunch\",IF(S225=0,,(S225/$E$5)*'Customer Info'!$D$18),)","v":0},{"$f":"IF($F$4=\"dinner\",IF(T225=0,,(T225/$E$6)*'Customer Info'!$D$18),)","v":0},{"$f":"IF($F$4=\"other\",IF(U225=0,,(U225/$E$7)*'Customer Info'!$D$18),)","v":0},0,{"$f":"IF($F$5=\"breakfast\",IF(R225=0,,(R225/$E$4)*'Customer Info'!$D$19),)","v":0},{"$f":"IF($F$5=\"dinner\",IF(T225=0,,(T225/$E$6)*'Customer Info'!$D$19),)","v":0},{"$f":"IF($F$5=\"other\",IF(U225=0,,(U225/$E$7)*'Customer Info'!$D$19),)","v":0},0,{"$f":"IF($F$6=\"breakfast\",IF(R225=0,,(R225/$E$4)*'Customer Info'!$D$20),)","v":0},{"$f":"IF($F$6=\"lunch\",IF(S225=0,,(S225/$E$5)*'Customer Info'!$D$20),)","v":0},{"$f":"IF($F$6=\"other\",IF(U225=0,,(U225/$E$7)*'Customer Info'!$D$20),)","v":0},0,{"$f":"IF($F$7=\"breakfast\",IF(R225=0,,(R225/$E$4)*'Customer Info'!$D$21),)","v":0},{"$f":"IF($F$7=\"lunch\",IF(S225=0,,(S225/$E$5)*'Customer Info'!$D$21),)","v":0},{"$f":"IF($F$7=\"dinner\",IF(T225=0,,(T225/$E$6)*'Customer Info'!$D$21),)","v":0},0,{"$f":"IF($F$10=\"lunch\",IF(W225=0,,(W225/$E$11)*'Customer Info'!$F$18),)","v":0},{"$f":"IF($F$10=\"dinner\",IF(X225=0,,(X225/$E$12)*'Customer Info'!$F$18),)","v":0},{"$f":"IF($F$10=\"other\",IF(Y225=0,,(Y225/$E$13)*'Customer Info'!$F$18),)","v":0},0,{"$f":"IF($F$11=\"breakfast\",IF(V225=0,,(V225/$E$10)*'Customer Info'!$F$19),)","v":0},{"$f":"IF($F$11=\"dinner\",IF(X225=0,,(X225/$E$12)*'Customer Info'!$F$19),)","v":0},{"$f":"IF($F$11=\"other\",IF(Y225=0,,(Y225/$E$13)*'Customer Info'!$F$19),)","v":0},0,{"$f":"IF($F$12=\"breakfast\",IF(V225=0,,(V225/$E$10)*'Customer Info'!$F$20),)","v":0},{"$f":"IF($F$12=\"lunch\",IF(W225=0,,(W225/$E$11)*'Customer Info'!$F$20),)","v":0},{"$f":"IF($F$12=\"other\",IF(Y225=0,,(Y225/$E$13)*'Customer Info'!$F$20),)","v":0},0,{"$f":"IF($F$13=\"breakfast\",IF(V225=0,,(V225/$E$10)*'Customer Info'!$F$21),)","v":0},{"$f":"IF($F$13=\"lunch\",IF(W225=0,,(W225/$E$11)*'Customer Info'!$F$21),)","v":0},{"$f":"IF($F$13=\"dinner\",IF(X225=0,,(X225/$E$12)*'Customer Info'!$F$21),)","v":0},0,{"$f":"IF($F$16=\"lunch\",IF(AA225=0,,(AA225/$E$17)*'Customer Info'!$H$18),)","v":0},{"$f":"IF($F$16=\"dinner\",IF(AB225=0,,(AB225/$E$18)*'Customer Info'!$H$18),)","v":0},{"$f":"IF($F$16=\"other\",IF(AC225=0,,(AC225/$E$19)*'Customer Info'!$H$18),)","v":0},0,{"$f":"IF($F$17=\"breakfast\",IF(Z225=0,,(Z225/$E$16)*'Customer Info'!$H$19),)","v":0},{"$f":"IF($F$17=\"dinner\",IF(AB225=0,,(AB225/$E$18)*'Customer Info'!$H$19),)","v":0},{"$f":"IF($F$17=\"other\",IF(AC225=0,,(AC225/$E$19)*'Customer Info'!$H$19),)","v":0},0,{"$f":"IF($F$18=\"breakfast\",IF(Z225=0,,(Z225/$E$16)*'Customer Info'!$H$20),)","v":0},{"$f":"IF($F$18=\"lunch\",IF(AA225=0,,(AA225/$E$17)*'Customer Info'!$H$20),)","v":0},{"$f":"IF($F$18=\"other\",IF(AC225=0,,(AC225/$E$19)*'Customer Info'!$H$20),)","v":0},0,{"$f":"IF($F$19=\"breakfast\",IF(Z225=0,,(Z225/$E$16)*'Customer Info'!$H$21),)","v":0},{"$f":"IF($F$19=\"lunch\",IF(AA225=0,,(AA225/$E$17)*'Customer Info'!$H$21),)","v":0},{"$f":"IF($F$19=\"dinner\",IF(AB225=0,,(AB225/$E$18)*'Customer Info'!$H$21),)","v":0},0,0,0,0,0,""]
[null,null,null,null,null,null,null,null,null,null,0,0,0,0,0,0,0,0,0,0,0,0,0,0,0,0,0,0,0,0,0,0,0,{"$f":"IF((OR($F$4=0,$F$4=\"none\")),IF(R226=0,,IF(OR($E$4='Customer Info'!$D$18,$E$4=0),R226,(R226/$E$4)*'Customer Info'!$D$18)),)","v":0},{"$f":"IF((OR($F$5=0,$F$5=\"none\")),IF(S226=0,,IF(OR($E$5='Customer Info'!$D$18,$E$5=0),S226,(S226/$E$5)*'Customer Info'!$D$19)),)","v":0},{"$f":"IF((OR($F$6=0,$F$6=\"none\")),IF(T226=0,,IF(OR($E$6='Customer Info'!$D$18,$E$6=0),T226,(T226/$E$6)*'Customer Info'!$D$20)),)","v":0},{"$f":"IF((OR($F$7=0,$F$7=\"none\")),IF(U226=0,,IF(OR($E$7='Customer Info'!$D$18,$E$7=0),U226,(U226/$E$7)*'Customer Info'!$D$21)),)","v":0},{"$f":"IF((OR($F$10=0,$F$10=\"none\")),IF(V226=0,,IF(OR($E$10='Customer Info'!$F$18,$E$10=0),V226,(V226/$E$10)*'Customer Info'!$F$18)),)","v":0},{"$f":"IF((OR($F$11=0,$F$11=\"none\")),IF(W226=0,,IF(OR($E$11='Customer Info'!$F$19,$E$11=0),W226,(W226/$E$11)*'Customer Info'!$F$19)),)","v":0},{"$f":"IF((OR($F$12=0,$F$12=\"none\")),IF(X226=0,,IF(OR($E$12='Customer Info'!$F$20,$E$12=0),X226,(X226/$E$12)*'Customer Info'!$F$20)),)","v":0},{"$f":"IF((OR($F$13=0,$F$13=\"none\")),IF(Y226=0,,IF(OR($E$13='Customer Info'!$F$21,$E$13=0),Y226,(Y226/$E$13)*'Customer Info'!$F$21)),)","v":0},{"$f":"IF((OR($F$16=0,$F$16=\"none\")),IF(Z226=0,,IF(OR($E$16='Customer Info'!$H$18,$E$16=0),Z226,(Z226/$E$16)*'Customer Info'!$H$18)),)","v":0},{"$f":"IF((OR($F$17=0,$F$17=\"none\")),IF(AA226=0,,IF(OR($E$17='Customer Info'!$H$19,$E$17=0),AA226,(AA226/$E$17)*'Customer Info'!$H$19)),)","v":0},{"$f":"IF((OR($F$18=0,$F$18=\"none\")),IF(AB226=0,,IF(OR($E$18='Customer Info'!$H$20,$E$18=0),AB226,(AB226/$E$18)*'Customer Info'!$H$20)),)","v":0},{"$f":"IF((OR($F$19=0,$F$19=\"none\")),IF(AC226=0,,IF(OR($E$19='Customer Info'!$H$21,$E$19=0),AC226,(AC226/$E$19)*'Customer Info'!$H$21)),)","v":0},{"$f":"IF((OR($F$4=0,$F$4=\"none\")),IF(AD226=0,,IF(OR($E$4='Customer Info'!$D$18,$E$4=0),AD226,(AD226/$E$4)*'Customer Info'!$D$18)),)","v":0},{"$f":"IF((OR($F$5=0,$F$5=\"none\")),IF(AE226=0,,IF(OR($E$5='Customer Info'!$D$19,$E$5=0),AE226,(AE226/$E$5)*'Customer Info'!$D$19)),)","v":0},{"$f":"IF((OR($F$6=0,$F$6=\"none\")),IF(AF226=0,,IF(OR($E$6='Customer Info'!$D$20,$E$6=0),AF226,(AF226/$E$6)*'Customer Info'!$D$20)),)","v":0},{"$f":"IF((OR($F$7=0,$F$7=\"none\")),IF(AG226=0,,IF(OR($E$7='Customer Info'!$D$21,$E$7=0),AG226,(AG226/$E$7)*'Customer Info'!$D$21)),)","v":0},0,0,{"$f":"IF(E226=\"plate waste\",,IF('Customer Info'!$M$18=0,'Log Sheet'!AY226,'Customer Info'!$M$18*'Log Sheet'!AY226))","v":0},{"$f":"IF(E226=\"plate waste\",IF(OR(C226=\"patient\",C226=\"patient beverages\"),IF('Customer Info'!$M$27=0,AY226*'Customer Info'!$M$18,AY226*'Customer Info'!$M$27),IF(C226=\"cafeteria\",IF('Customer Info'!$M$28=0,AY226*'Customer Info'!$M$18,AY226*'Customer Info'!$M$28),IF(C226=\"other1\",IF('Customer Info'!$M$29=0,AY226*'Customer Info'!$M$18,AY226*'Customer Info'!$M$29),))),)","v":0},0,{"$f":"IF($F$4=\"lunch\",IF(S226=0,,(S226/$E$5)*'Customer Info'!$D$18),)","v":0},{"$f":"IF($F$4=\"dinner\",IF(T226=0,,(T226/$E$6)*'Customer Info'!$D$18),)","v":0},{"$f":"IF($F$4=\"other\",IF(U226=0,,(U226/$E$7)*'Customer Info'!$D$18),)","v":0},0,{"$f":"IF($F$5=\"breakfast\",IF(R226=0,,(R226/$E$4)*'Customer Info'!$D$19),)","v":0},{"$f":"IF($F$5=\"dinner\",IF(T226=0,,(T226/$E$6)*'Customer Info'!$D$19),)","v":0},{"$f":"IF($F$5=\"other\",IF(U226=0,,(U226/$E$7)*'Customer Info'!$D$19),)","v":0},0,{"$f":"IF($F$6=\"breakfast\",IF(R226=0,,(R226/$E$4)*'Customer Info'!$D$20),)","v":0},{"$f":"IF($F$6=\"lunch\",IF(S226=0,,(S226/$E$5)*'Customer Info'!$D$20),)","v":0},{"$f":"IF($F$6=\"other\",IF(U226=0,,(U226/$E$7)*'Customer Info'!$D$20),)","v":0},0,{"$f":"IF($F$7=\"breakfast\",IF(R226=0,,(R226/$E$4)*'Customer Info'!$D$21),)","v":0},{"$f":"IF($F$7=\"lunch\",IF(S226=0,,(S226/$E$5)*'Customer Info'!$D$21),)","v":0},{"$f":"IF($F$7=\"dinner\",IF(T226=0,,(T226/$E$6)*'Customer Info'!$D$21),)","v":0},0,{"$f":"IF($F$10=\"lunch\",IF(W226=0,,(W226/$E$11)*'Customer Info'!$F$18),)","v":0},{"$f":"IF($F$10=\"dinner\",IF(X226=0,,(X226/$E$12)*'Customer Info'!$F$18),)","v":0},{"$f":"IF($F$10=\"other\",IF(Y226=0,,(Y226/$E$13)*'Customer Info'!$F$18),)","v":0},0,{"$f":"IF($F$11=\"breakfast\",IF(V226=0,,(V226/$E$10)*'Customer Info'!$F$19),)","v":0},{"$f":"IF($F$11=\"dinner\",IF(X226=0,,(X226/$E$12)*'Customer Info'!$F$19),)","v":0},{"$f":"IF($F$11=\"other\",IF(Y226=0,,(Y226/$E$13)*'Customer Info'!$F$19),)","v":0},0,{"$f":"IF($F$12=\"breakfast\",IF(V226=0,,(V226/$E$10)*'Customer Info'!$F$20),)","v":0},{"$f":"IF($F$12=\"lunch\",IF(W226=0,,(W226/$E$11)*'Customer Info'!$F$20),)","v":0},{"$f":"IF($F$12=\"other\",IF(Y226=0,,(Y226/$E$13)*'Customer Info'!$F$20),)","v":0},0,{"$f":"IF($F$13=\"breakfast\",IF(V226=0,,(V226/$E$10)*'Customer Info'!$F$21),)","v":0},{"$f":"IF($F$13=\"lunch\",IF(W226=0,,(W226/$E$11)*'Customer Info'!$F$21),)","v":0},{"$f":"IF($F$13=\"dinner\",IF(X226=0,,(X226/$E$12)*'Customer Info'!$F$21),)","v":0},0,{"$f":"IF($F$16=\"lunch\",IF(AA226=0,,(AA226/$E$17)*'Customer Info'!$H$18),)","v":0},{"$f":"IF($F$16=\"dinner\",IF(AB226=0,,(AB226/$E$18)*'Customer Info'!$H$18),)","v":0},{"$f":"IF($F$16=\"other\",IF(AC226=0,,(AC226/$E$19)*'Customer Info'!$H$18),)","v":0},0,{"$f":"IF($F$17=\"breakfast\",IF(Z226=0,,(Z226/$E$16)*'Customer Info'!$H$19),)","v":0},{"$f":"IF($F$17=\"dinner\",IF(AB226=0,,(AB226/$E$18)*'Customer Info'!$H$19),)","v":0},{"$f":"IF($F$17=\"other\",IF(AC226=0,,(AC226/$E$19)*'Customer Info'!$H$19),)","v":0},0,{"$f":"IF($F$18=\"breakfast\",IF(Z226=0,,(Z226/$E$16)*'Customer Info'!$H$20),)","v":0},{"$f":"IF($F$18=\"lunch\",IF(AA226=0,,(AA226/$E$17)*'Customer Info'!$H$20),)","v":0},{"$f":"IF($F$18=\"other\",IF(AC226=0,,(AC226/$E$19)*'Customer Info'!$H$20),)","v":0},0,{"$f":"IF($F$19=\"breakfast\",IF(Z226=0,,(Z226/$E$16)*'Customer Info'!$H$21),)","v":0},{"$f":"IF($F$19=\"lunch\",IF(AA226=0,,(AA226/$E$17)*'Customer Info'!$H$21),)","v":0},{"$f":"IF($F$19=\"dinner\",IF(AB226=0,,(AB226/$E$18)*'Customer Info'!$H$21),)","v":0},0,0,0,0,0,""]
[null,null,null,null,null,null,null,null,null,null,0,0,0,0,0,0,0,0,0,0,0,0,0,0,0,0,0,0,0,0,0,0,0,{"$f":"IF((OR($F$4=0,$F$4=\"none\")),IF(R227=0,,IF(OR($E$4='Customer Info'!$D$18,$E$4=0),R227,(R227/$E$4)*'Customer Info'!$D$18)),)","v":0},{"$f":"IF((OR($F$5=0,$F$5=\"none\")),IF(S227=0,,IF(OR($E$5='Customer Info'!$D$18,$E$5=0),S227,(S227/$E$5)*'Customer Info'!$D$19)),)","v":0},{"$f":"IF((OR($F$6=0,$F$6=\"none\")),IF(T227=0,,IF(OR($E$6='Customer Info'!$D$18,$E$6=0),T227,(T227/$E$6)*'Customer Info'!$D$20)),)","v":0},{"$f":"IF((OR($F$7=0,$F$7=\"none\")),IF(U227=0,,IF(OR($E$7='Customer Info'!$D$18,$E$7=0),U227,(U227/$E$7)*'Customer Info'!$D$21)),)","v":0},{"$f":"IF((OR($F$10=0,$F$10=\"none\")),IF(V227=0,,IF(OR($E$10='Customer Info'!$F$18,$E$10=0),V227,(V227/$E$10)*'Customer Info'!$F$18)),)","v":0},{"$f":"IF((OR($F$11=0,$F$11=\"none\")),IF(W227=0,,IF(OR($E$11='Customer Info'!$F$19,$E$11=0),W227,(W227/$E$11)*'Customer Info'!$F$19)),)","v":0},{"$f":"IF((OR($F$12=0,$F$12=\"none\")),IF(X227=0,,IF(OR($E$12='Customer Info'!$F$20,$E$12=0),X227,(X227/$E$12)*'Customer Info'!$F$20)),)","v":0},{"$f":"IF((OR($F$13=0,$F$13=\"none\")),IF(Y227=0,,IF(OR($E$13='Customer Info'!$F$21,$E$13=0),Y227,(Y227/$E$13)*'Customer Info'!$F$21)),)","v":0},{"$f":"IF((OR($F$16=0,$F$16=\"none\")),IF(Z227=0,,IF(OR($E$16='Customer Info'!$H$18,$E$16=0),Z227,(Z227/$E$16)*'Customer Info'!$H$18)),)","v":0},{"$f":"IF((OR($F$17=0,$F$17=\"none\")),IF(AA227=0,,IF(OR($E$17='Customer Info'!$H$19,$E$17=0),AA227,(AA227/$E$17)*'Customer Info'!$H$19)),)","v":0},{"$f":"IF((OR($F$18=0,$F$18=\"none\")),IF(AB227=0,,IF(OR($E$18='Customer Info'!$H$20,$E$18=0),AB227,(AB227/$E$18)*'Customer Info'!$H$20)),)","v":0},{"$f":"IF((OR($F$19=0,$F$19=\"none\")),IF(AC227=0,,IF(OR($E$19='Customer Info'!$H$21,$E$19=0),AC227,(AC227/$E$19)*'Customer Info'!$H$21)),)","v":0},{"$f":"IF((OR($F$4=0,$F$4=\"none\")),IF(AD227=0,,IF(OR($E$4='Customer Info'!$D$18,$E$4=0),AD227,(AD227/$E$4)*'Customer Info'!$D$18)),)","v":0},{"$f":"IF((OR($F$5=0,$F$5=\"none\")),IF(AE227=0,,IF(OR($E$5='Customer Info'!$D$19,$E$5=0),AE227,(AE227/$E$5)*'Customer Info'!$D$19)),)","v":0},{"$f":"IF((OR($F$6=0,$F$6=\"none\")),IF(AF227=0,,IF(OR($E$6='Customer Info'!$D$20,$E$6=0),AF227,(AF227/$E$6)*'Customer Info'!$D$20)),)","v":0},{"$f":"IF((OR($F$7=0,$F$7=\"none\")),IF(AG227=0,,IF(OR($E$7='Customer Info'!$D$21,$E$7=0),AG227,(AG227/$E$7)*'Customer Info'!$D$21)),)","v":0},0,0,{"$f":"IF(E227=\"plate waste\",,IF('Customer Info'!$M$18=0,'Log Sheet'!AY227,'Customer Info'!$M$18*'Log Sheet'!AY227))","v":0},{"$f":"IF(E227=\"plate waste\",IF(OR(C227=\"patient\",C227=\"patient beverages\"),IF('Customer Info'!$M$27=0,AY227*'Customer Info'!$M$18,AY227*'Customer Info'!$M$27),IF(C227=\"cafeteria\",IF('Customer Info'!$M$28=0,AY227*'Customer Info'!$M$18,AY227*'Customer Info'!$M$28),IF(C227=\"other1\",IF('Customer Info'!$M$29=0,AY227*'Customer Info'!$M$18,AY227*'Customer Info'!$M$29),))),)","v":0},0,{"$f":"IF($F$4=\"lunch\",IF(S227=0,,(S227/$E$5)*'Customer Info'!$D$18),)","v":0},{"$f":"IF($F$4=\"dinner\",IF(T227=0,,(T227/$E$6)*'Customer Info'!$D$18),)","v":0},{"$f":"IF($F$4=\"other\",IF(U227=0,,(U227/$E$7)*'Customer Info'!$D$18),)","v":0},0,{"$f":"IF($F$5=\"breakfast\",IF(R227=0,,(R227/$E$4)*'Customer Info'!$D$19),)","v":0},{"$f":"IF($F$5=\"dinner\",IF(T227=0,,(T227/$E$6)*'Customer Info'!$D$19),)","v":0},{"$f":"IF($F$5=\"other\",IF(U227=0,,(U227/$E$7)*'Customer Info'!$D$19),)","v":0},0,{"$f":"IF($F$6=\"breakfast\",IF(R227=0,,(R227/$E$4)*'Customer Info'!$D$20),)","v":0},{"$f":"IF($F$6=\"lunch\",IF(S227=0,,(S227/$E$5)*'Customer Info'!$D$20),)","v":0},{"$f":"IF($F$6=\"other\",IF(U227=0,,(U227/$E$7)*'Customer Info'!$D$20),)","v":0},0,{"$f":"IF($F$7=\"breakfast\",IF(R227=0,,(R227/$E$4)*'Customer Info'!$D$21),)","v":0},{"$f":"IF($F$7=\"lunch\",IF(S227=0,,(S227/$E$5)*'Customer Info'!$D$21),)","v":0},{"$f":"IF($F$7=\"dinner\",IF(T227=0,,(T227/$E$6)*'Customer Info'!$D$21),)","v":0},0,{"$f":"IF($F$10=\"lunch\",IF(W227=0,,(W227/$E$11)*'Customer Info'!$F$18),)","v":0},{"$f":"IF($F$10=\"dinner\",IF(X227=0,,(X227/$E$12)*'Customer Info'!$F$18),)","v":0},{"$f":"IF($F$10=\"other\",IF(Y227=0,,(Y227/$E$13)*'Customer Info'!$F$18),)","v":0},0,{"$f":"IF($F$11=\"breakfast\",IF(V227=0,,(V227/$E$10)*'Customer Info'!$F$19),)","v":0},{"$f":"IF($F$11=\"dinner\",IF(X227=0,,(X227/$E$12)*'Customer Info'!$F$19),)","v":0},{"$f":"IF($F$11=\"other\",IF(Y227=0,,(Y227/$E$13)*'Customer Info'!$F$19),)","v":0},0,{"$f":"IF($F$12=\"breakfast\",IF(V227=0,,(V227/$E$10)*'Customer Info'!$F$20),)","v":0},{"$f":"IF($F$12=\"lunch\",IF(W227=0,,(W227/$E$11)*'Customer Info'!$F$20),)","v":0},{"$f":"IF($F$12=\"other\",IF(Y227=0,,(Y227/$E$13)*'Customer Info'!$F$20),)","v":0},0,{"$f":"IF($F$13=\"breakfast\",IF(V227=0,,(V227/$E$10)*'Customer Info'!$F$21),)","v":0},{"$f":"IF($F$13=\"lunch\",IF(W227=0,,(W227/$E$11)*'Customer Info'!$F$21),)","v":0},{"$f":"IF($F$13=\"dinner\",IF(X227=0,,(X227/$E$12)*'Customer Info'!$F$21),)","v":0},0,{"$f":"IF($F$16=\"lunch\",IF(AA227=0,,(AA227/$E$17)*'Customer Info'!$H$18),)","v":0},{"$f":"IF($F$16=\"dinner\",IF(AB227=0,,(AB227/$E$18)*'Customer Info'!$H$18),)","v":0},{"$f":"IF($F$16=\"other\",IF(AC227=0,,(AC227/$E$19)*'Customer Info'!$H$18),)","v":0},0,{"$f":"IF($F$17=\"breakfast\",IF(Z227=0,,(Z227/$E$16)*'Customer Info'!$H$19),)","v":0},{"$f":"IF($F$17=\"dinner\",IF(AB227=0,,(AB227/$E$18)*'Customer Info'!$H$19),)","v":0},{"$f":"IF($F$17=\"other\",IF(AC227=0,,(AC227/$E$19)*'Customer Info'!$H$19),)","v":0},0,{"$f":"IF($F$18=\"breakfast\",IF(Z227=0,,(Z227/$E$16)*'Customer Info'!$H$20),)","v":0},{"$f":"IF($F$18=\"lunch\",IF(AA227=0,,(AA227/$E$17)*'Customer Info'!$H$20),)","v":0},{"$f":"IF($F$18=\"other\",IF(AC227=0,,(AC227/$E$19)*'Customer Info'!$H$20),)","v":0},0,{"$f":"IF($F$19=\"breakfast\",IF(Z227=0,,(Z227/$E$16)*'Customer Info'!$H$21),)","v":0},{"$f":"IF($F$19=\"lunch\",IF(AA227=0,,(AA227/$E$17)*'Customer Info'!$H$21),)","v":0},{"$f":"IF($F$19=\"dinner\",IF(AB227=0,,(AB227/$E$18)*'Customer Info'!$H$21),)","v":0},0,0,0,0,0,""]
[null,null,null,null,null,null,null,null,null,null,0,0,0,0,0,0,0,0,0,0,0,0,0,0,0,0,0,0,0,0,0,0,0,{"$f":"IF((OR($F$4=0,$F$4=\"none\")),IF(R228=0,,IF(OR($E$4='Customer Info'!$D$18,$E$4=0),R228,(R228/$E$4)*'Customer Info'!$D$18)),)","v":0},{"$f":"IF((OR($F$5=0,$F$5=\"none\")),IF(S228=0,,IF(OR($E$5='Customer Info'!$D$18,$E$5=0),S228,(S228/$E$5)*'Customer Info'!$D$19)),)","v":0},{"$f":"IF((OR($F$6=0,$F$6=\"none\")),IF(T228=0,,IF(OR($E$6='Customer Info'!$D$18,$E$6=0),T228,(T228/$E$6)*'Customer Info'!$D$20)),)","v":0},{"$f":"IF((OR($F$7=0,$F$7=\"none\")),IF(U228=0,,IF(OR($E$7='Customer Info'!$D$18,$E$7=0),U228,(U228/$E$7)*'Customer Info'!$D$21)),)","v":0},{"$f":"IF((OR($F$10=0,$F$10=\"none\")),IF(V228=0,,IF(OR($E$10='Customer Info'!$F$18,$E$10=0),V228,(V228/$E$10)*'Customer Info'!$F$18)),)","v":0},{"$f":"IF((OR($F$11=0,$F$11=\"none\")),IF(W228=0,,IF(OR($E$11='Customer Info'!$F$19,$E$11=0),W228,(W228/$E$11)*'Customer Info'!$F$19)),)","v":0},{"$f":"IF((OR($F$12=0,$F$12=\"none\")),IF(X228=0,,IF(OR($E$12='Customer Info'!$F$20,$E$12=0),X228,(X228/$E$12)*'Customer Info'!$F$20)),)","v":0},{"$f":"IF((OR($F$13=0,$F$13=\"none\")),IF(Y228=0,,IF(OR($E$13='Customer Info'!$F$21,$E$13=0),Y228,(Y228/$E$13)*'Customer Info'!$F$21)),)","v":0},{"$f":"IF((OR($F$16=0,$F$16=\"none\")),IF(Z228=0,,IF(OR($E$16='Customer Info'!$H$18,$E$16=0),Z228,(Z228/$E$16)*'Customer Info'!$H$18)),)","v":0},{"$f":"IF((OR($F$17=0,$F$17=\"none\")),IF(AA228=0,,IF(OR($E$17='Customer Info'!$H$19,$E$17=0),AA228,(AA228/$E$17)*'Customer Info'!$H$19)),)","v":0},{"$f":"IF((OR($F$18=0,$F$18=\"none\")),IF(AB228=0,,IF(OR($E$18='Customer Info'!$H$20,$E$18=0),AB228,(AB228/$E$18)*'Customer Info'!$H$20)),)","v":0},{"$f":"IF((OR($F$19=0,$F$19=\"none\")),IF(AC228=0,,IF(OR($E$19='Customer Info'!$H$21,$E$19=0),AC228,(AC228/$E$19)*'Customer Info'!$H$21)),)","v":0},{"$f":"IF((OR($F$4=0,$F$4=\"none\")),IF(AD228=0,,IF(OR($E$4='Customer Info'!$D$18,$E$4=0),AD228,(AD228/$E$4)*'Customer Info'!$D$18)),)","v":0},{"$f":"IF((OR($F$5=0,$F$5=\"none\")),IF(AE228=0,,IF(OR($E$5='Customer Info'!$D$19,$E$5=0),AE228,(AE228/$E$5)*'Customer Info'!$D$19)),)","v":0},{"$f":"IF((OR($F$6=0,$F$6=\"none\")),IF(AF228=0,,IF(OR($E$6='Customer Info'!$D$20,$E$6=0),AF228,(AF228/$E$6)*'Customer Info'!$D$20)),)","v":0},{"$f":"IF((OR($F$7=0,$F$7=\"none\")),IF(AG228=0,,IF(OR($E$7='Customer Info'!$D$21,$E$7=0),AG228,(AG228/$E$7)*'Customer Info'!$D$21)),)","v":0},0,0,{"$f":"IF(E228=\"plate waste\",,IF('Customer Info'!$M$18=0,'Log Sheet'!AY228,'Customer Info'!$M$18*'Log Sheet'!AY228))","v":0},{"$f":"IF(E228=\"plate waste\",IF(OR(C228=\"patient\",C228=\"patient beverages\"),IF('Customer Info'!$M$27=0,AY228*'Customer Info'!$M$18,AY228*'Customer Info'!$M$27),IF(C228=\"cafeteria\",IF('Customer Info'!$M$28=0,AY228*'Customer Info'!$M$18,AY228*'Customer Info'!$M$28),IF(C228=\"other1\",IF('Customer Info'!$M$29=0,AY228*'Customer Info'!$M$18,AY228*'Customer Info'!$M$29),))),)","v":0},0,{"$f":"IF($F$4=\"lunch\",IF(S228=0,,(S228/$E$5)*'Customer Info'!$D$18),)","v":0},{"$f":"IF($F$4=\"dinner\",IF(T228=0,,(T228/$E$6)*'Customer Info'!$D$18),)","v":0},{"$f":"IF($F$4=\"other\",IF(U228=0,,(U228/$E$7)*'Customer Info'!$D$18),)","v":0},0,{"$f":"IF($F$5=\"breakfast\",IF(R228=0,,(R228/$E$4)*'Customer Info'!$D$19),)","v":0},{"$f":"IF($F$5=\"dinner\",IF(T228=0,,(T228/$E$6)*'Customer Info'!$D$19),)","v":0},{"$f":"IF($F$5=\"other\",IF(U228=0,,(U228/$E$7)*'Customer Info'!$D$19),)","v":0},0,{"$f":"IF($F$6=\"breakfast\",IF(R228=0,,(R228/$E$4)*'Customer Info'!$D$20),)","v":0},{"$f":"IF($F$6=\"lunch\",IF(S228=0,,(S228/$E$5)*'Customer Info'!$D$20),)","v":0},{"$f":"IF($F$6=\"other\",IF(U228=0,,(U228/$E$7)*'Customer Info'!$D$20),)","v":0},0,{"$f":"IF($F$7=\"breakfast\",IF(R228=0,,(R228/$E$4)*'Customer Info'!$D$21),)","v":0},{"$f":"IF($F$7=\"lunch\",IF(S228=0,,(S228/$E$5)*'Customer Info'!$D$21),)","v":0},{"$f":"IF($F$7=\"dinner\",IF(T228=0,,(T228/$E$6)*'Customer Info'!$D$21),)","v":0},0,{"$f":"IF($F$10=\"lunch\",IF(W228=0,,(W228/$E$11)*'Customer Info'!$F$18),)","v":0},{"$f":"IF($F$10=\"dinner\",IF(X228=0,,(X228/$E$12)*'Customer Info'!$F$18),)","v":0},{"$f":"IF($F$10=\"other\",IF(Y228=0,,(Y228/$E$13)*'Customer Info'!$F$18),)","v":0},0,{"$f":"IF($F$11=\"breakfast\",IF(V228=0,,(V228/$E$10)*'Customer Info'!$F$19),)","v":0},{"$f":"IF($F$11=\"dinner\",IF(X228=0,,(X228/$E$12)*'Customer Info'!$F$19),)","v":0},{"$f":"IF($F$11=\"other\",IF(Y228=0,,(Y228/$E$13)*'Customer Info'!$F$19),)","v":0},0,{"$f":"IF($F$12=\"breakfast\",IF(V228=0,,(V228/$E$10)*'Customer Info'!$F$20),)","v":0},{"$f":"IF($F$12=\"lunch\",IF(W228=0,,(W228/$E$11)*'Customer Info'!$F$20),)","v":0},{"$f":"IF($F$12=\"other\",IF(Y228=0,,(Y228/$E$13)*'Customer Info'!$F$20),)","v":0},0,{"$f":"IF($F$13=\"breakfast\",IF(V228=0,,(V228/$E$10)*'Customer Info'!$F$21),)","v":0},{"$f":"IF($F$13=\"lunch\",IF(W228=0,,(W228/$E$11)*'Customer Info'!$F$21),)","v":0},{"$f":"IF($F$13=\"dinner\",IF(X228=0,,(X228/$E$12)*'Customer Info'!$F$21),)","v":0},0,{"$f":"IF($F$16=\"lunch\",IF(AA228=0,,(AA228/$E$17)*'Customer Info'!$H$18),)","v":0},{"$f":"IF($F$16=\"dinner\",IF(AB228=0,,(AB228/$E$18)*'Customer Info'!$H$18),)","v":0},{"$f":"IF($F$16=\"other\",IF(AC228=0,,(AC228/$E$19)*'Customer Info'!$H$18),)","v":0},0,{"$f":"IF($F$17=\"breakfast\",IF(Z228=0,,(Z228/$E$16)*'Customer Info'!$H$19),)","v":0},{"$f":"IF($F$17=\"dinner\",IF(AB228=0,,(AB228/$E$18)*'Customer Info'!$H$19),)","v":0},{"$f":"IF($F$17=\"other\",IF(AC228=0,,(AC228/$E$19)*'Customer Info'!$H$19),)","v":0},0,{"$f":"IF($F$18=\"breakfast\",IF(Z228=0,,(Z228/$E$16)*'Customer Info'!$H$20),)","v":0},{"$f":"IF($F$18=\"lunch\",IF(AA228=0,,(AA228/$E$17)*'Customer Info'!$H$20),)","v":0},{"$f":"IF($F$18=\"other\",IF(AC228=0,,(AC228/$E$19)*'Customer Info'!$H$20),)","v":0},0,{"$f":"IF($F$19=\"breakfast\",IF(Z228=0,,(Z228/$E$16)*'Customer Info'!$H$21),)","v":0},{"$f":"IF($F$19=\"lunch\",IF(AA228=0,,(AA228/$E$17)*'Customer Info'!$H$21),)","v":0},{"$f":"IF($F$19=\"dinner\",IF(AB228=0,,(AB228/$E$18)*'Customer Info'!$H$21),)","v":0},0,0,0,0,0,""]
[null,null,null,null,null,null,null,null,null,null,0,0,0,0,0,0,0,0,0,0,0,0,0,0,0,0,0,0,0,0,0,0,0,{"$f":"IF((OR($F$4=0,$F$4=\"none\")),IF(R229=0,,IF(OR($E$4='Customer Info'!$D$18,$E$4=0),R229,(R229/$E$4)*'Customer Info'!$D$18)),)","v":0},{"$f":"IF((OR($F$5=0,$F$5=\"none\")),IF(S229=0,,IF(OR($E$5='Customer Info'!$D$18,$E$5=0),S229,(S229/$E$5)*'Customer Info'!$D$19)),)","v":0},{"$f":"IF((OR($F$6=0,$F$6=\"none\")),IF(T229=0,,IF(OR($E$6='Customer Info'!$D$18,$E$6=0),T229,(T229/$E$6)*'Customer Info'!$D$20)),)","v":0},{"$f":"IF((OR($F$7=0,$F$7=\"none\")),IF(U229=0,,IF(OR($E$7='Customer Info'!$D$18,$E$7=0),U229,(U229/$E$7)*'Customer Info'!$D$21)),)","v":0},{"$f":"IF((OR($F$10=0,$F$10=\"none\")),IF(V229=0,,IF(OR($E$10='Customer Info'!$F$18,$E$10=0),V229,(V229/$E$10)*'Customer Info'!$F$18)),)","v":0},{"$f":"IF((OR($F$11=0,$F$11=\"none\")),IF(W229=0,,IF(OR($E$11='Customer Info'!$F$19,$E$11=0),W229,(W229/$E$11)*'Customer Info'!$F$19)),)","v":0},{"$f":"IF((OR($F$12=0,$F$12=\"none\")),IF(X229=0,,IF(OR($E$12='Customer Info'!$F$20,$E$12=0),X229,(X229/$E$12)*'Customer Info'!$F$20)),)","v":0},{"$f":"IF((OR($F$13=0,$F$13=\"none\")),IF(Y229=0,,IF(OR($E$13='Customer Info'!$F$21,$E$13=0),Y229,(Y229/$E$13)*'Customer Info'!$F$21)),)","v":0},{"$f":"IF((OR($F$16=0,$F$16=\"none\")),IF(Z229=0,,IF(OR($E$16='Customer Info'!$H$18,$E$16=0),Z229,(Z229/$E$16)*'Customer Info'!$H$18)),)","v":0},{"$f":"IF((OR($F$17=0,$F$17=\"none\")),IF(AA229=0,,IF(OR($E$17='Customer Info'!$H$19,$E$17=0),AA229,(AA229/$E$17)*'Customer Info'!$H$19)),)","v":0},{"$f":"IF((OR($F$18=0,$F$18=\"none\")),IF(AB229=0,,IF(OR($E$18='Customer Info'!$H$20,$E$18=0),AB229,(AB229/$E$18)*'Customer Info'!$H$20)),)","v":0},{"$f":"IF((OR($F$19=0,$F$19=\"none\")),IF(AC229=0,,IF(OR($E$19='Customer Info'!$H$21,$E$19=0),AC229,(AC229/$E$19)*'Customer Info'!$H$21)),)","v":0},{"$f":"IF((OR($F$4=0,$F$4=\"none\")),IF(AD229=0,,IF(OR($E$4='Customer Info'!$D$18,$E$4=0),AD229,(AD229/$E$4)*'Customer Info'!$D$18)),)","v":0},{"$f":"IF((OR($F$5=0,$F$5=\"none\")),IF(AE229=0,,IF(OR($E$5='Customer Info'!$D$19,$E$5=0),AE229,(AE229/$E$5)*'Customer Info'!$D$19)),)","v":0},{"$f":"IF((OR($F$6=0,$F$6=\"none\")),IF(AF229=0,,IF(OR($E$6='Customer Info'!$D$20,$E$6=0),AF229,(AF229/$E$6)*'Customer Info'!$D$20)),)","v":0},{"$f":"IF((OR($F$7=0,$F$7=\"none\")),IF(AG229=0,,IF(OR($E$7='Customer Info'!$D$21,$E$7=0),AG229,(AG229/$E$7)*'Customer Info'!$D$21)),)","v":0},0,0,{"$f":"IF(E229=\"plate waste\",,IF('Customer Info'!$M$18=0,'Log Sheet'!AY229,'Customer Info'!$M$18*'Log Sheet'!AY229))","v":0},{"$f":"IF(E229=\"plate waste\",IF(OR(C229=\"patient\",C229=\"patient beverages\"),IF('Customer Info'!$M$27=0,AY229*'Customer Info'!$M$18,AY229*'Customer Info'!$M$27),IF(C229=\"cafeteria\",IF('Customer Info'!$M$28=0,AY229*'Customer Info'!$M$18,AY229*'Customer Info'!$M$28),IF(C229=\"other1\",IF('Customer Info'!$M$29=0,AY229*'Customer Info'!$M$18,AY229*'Customer Info'!$M$29),))),)","v":0},0,{"$f":"IF($F$4=\"lunch\",IF(S229=0,,(S229/$E$5)*'Customer Info'!$D$18),)","v":0},{"$f":"IF($F$4=\"dinner\",IF(T229=0,,(T229/$E$6)*'Customer Info'!$D$18),)","v":0},{"$f":"IF($F$4=\"other\",IF(U229=0,,(U229/$E$7)*'Customer Info'!$D$18),)","v":0},0,{"$f":"IF($F$5=\"breakfast\",IF(R229=0,,(R229/$E$4)*'Customer Info'!$D$19),)","v":0},{"$f":"IF($F$5=\"dinner\",IF(T229=0,,(T229/$E$6)*'Customer Info'!$D$19),)","v":0},{"$f":"IF($F$5=\"other\",IF(U229=0,,(U229/$E$7)*'Customer Info'!$D$19),)","v":0},0,{"$f":"IF($F$6=\"breakfast\",IF(R229=0,,(R229/$E$4)*'Customer Info'!$D$20),)","v":0},{"$f":"IF($F$6=\"lunch\",IF(S229=0,,(S229/$E$5)*'Customer Info'!$D$20),)","v":0},{"$f":"IF($F$6=\"other\",IF(U229=0,,(U229/$E$7)*'Customer Info'!$D$20),)","v":0},0,{"$f":"IF($F$7=\"breakfast\",IF(R229=0,,(R229/$E$4)*'Customer Info'!$D$21),)","v":0},{"$f":"IF($F$7=\"lunch\",IF(S229=0,,(S229/$E$5)*'Customer Info'!$D$21),)","v":0},{"$f":"IF($F$7=\"dinner\",IF(T229=0,,(T229/$E$6)*'Customer Info'!$D$21),)","v":0},0,{"$f":"IF($F$10=\"lunch\",IF(W229=0,,(W229/$E$11)*'Customer Info'!$F$18),)","v":0},{"$f":"IF($F$10=\"dinner\",IF(X229=0,,(X229/$E$12)*'Customer Info'!$F$18),)","v":0},{"$f":"IF($F$10=\"other\",IF(Y229=0,,(Y229/$E$13)*'Customer Info'!$F$18),)","v":0},0,{"$f":"IF($F$11=\"breakfast\",IF(V229=0,,(V229/$E$10)*'Customer Info'!$F$19),)","v":0},{"$f":"IF($F$11=\"dinner\",IF(X229=0,,(X229/$E$12)*'Customer Info'!$F$19),)","v":0},{"$f":"IF($F$11=\"other\",IF(Y229=0,,(Y229/$E$13)*'Customer Info'!$F$19),)","v":0},0,{"$f":"IF($F$12=\"breakfast\",IF(V229=0,,(V229/$E$10)*'Customer Info'!$F$20),)","v":0},{"$f":"IF($F$12=\"lunch\",IF(W229=0,,(W229/$E$11)*'Customer Info'!$F$20),)","v":0},{"$f":"IF($F$12=\"other\",IF(Y229=0,,(Y229/$E$13)*'Customer Info'!$F$20),)","v":0},0,{"$f":"IF($F$13=\"breakfast\",IF(V229=0,,(V229/$E$10)*'Customer Info'!$F$21),)","v":0},{"$f":"IF($F$13=\"lunch\",IF(W229=0,,(W229/$E$11)*'Customer Info'!$F$21),)","v":0},{"$f":"IF($F$13=\"dinner\",IF(X229=0,,(X229/$E$12)*'Customer Info'!$F$21),)","v":0},0,{"$f":"IF($F$16=\"lunch\",IF(AA229=0,,(AA229/$E$17)*'Customer Info'!$H$18),)","v":0},{"$f":"IF($F$16=\"dinner\",IF(AB229=0,,(AB229/$E$18)*'Customer Info'!$H$18),)","v":0},{"$f":"IF($F$16=\"other\",IF(AC229=0,,(AC229/$E$19)*'Customer Info'!$H$18),)","v":0},0,{"$f":"IF($F$17=\"breakfast\",IF(Z229=0,,(Z229/$E$16)*'Customer Info'!$H$19),)","v":0},{"$f":"IF($F$17=\"dinner\",IF(AB229=0,,(AB229/$E$18)*'Customer Info'!$H$19),)","v":0},{"$f":"IF($F$17=\"other\",IF(AC229=0,,(AC229/$E$19)*'Customer Info'!$H$19),)","v":0},0,{"$f":"IF($F$18=\"breakfast\",IF(Z229=0,,(Z229/$E$16)*'Customer Info'!$H$20),)","v":0},{"$f":"IF($F$18=\"lunch\",IF(AA229=0,,(AA229/$E$17)*'Customer Info'!$H$20),)","v":0},{"$f":"IF($F$18=\"other\",IF(AC229=0,,(AC229/$E$19)*'Customer Info'!$H$20),)","v":0},0,{"$f":"IF($F$19=\"breakfast\",IF(Z229=0,,(Z229/$E$16)*'Customer Info'!$H$21),)","v":0},{"$f":"IF($F$19=\"lunch\",IF(AA229=0,,(AA229/$E$17)*'Customer Info'!$H$21),)","v":0},{"$f":"IF($F$19=\"dinner\",IF(AB229=0,,(AB229/$E$18)*'Customer Info'!$H$21),)","v":0},0,0,0,0,0,""]
[null,null,null,null,null,null,null,null,null,null,0,0,0,0,0,0,0,0,0,0,0,0,0,0,0,0,0,0,0,0,0,0,0,{"$f":"IF((OR($F$4=0,$F$4=\"none\")),IF(R230=0,,IF(OR($E$4='Customer Info'!$D$18,$E$4=0),R230,(R230/$E$4)*'Customer Info'!$D$18)),)","v":0},{"$f":"IF((OR($F$5=0,$F$5=\"none\")),IF(S230=0,,IF(OR($E$5='Customer Info'!$D$18,$E$5=0),S230,(S230/$E$5)*'Customer Info'!$D$19)),)","v":0},{"$f":"IF((OR($F$6=0,$F$6=\"none\")),IF(T230=0,,IF(OR($E$6='Customer Info'!$D$18,$E$6=0),T230,(T230/$E$6)*'Customer Info'!$D$20)),)","v":0},{"$f":"IF((OR($F$7=0,$F$7=\"none\")),IF(U230=0,,IF(OR($E$7='Customer Info'!$D$18,$E$7=0),U230,(U230/$E$7)*'Customer Info'!$D$21)),)","v":0},{"$f":"IF((OR($F$10=0,$F$10=\"none\")),IF(V230=0,,IF(OR($E$10='Customer Info'!$F$18,$E$10=0),V230,(V230/$E$10)*'Customer Info'!$F$18)),)","v":0},{"$f":"IF((OR($F$11=0,$F$11=\"none\")),IF(W230=0,,IF(OR($E$11='Customer Info'!$F$19,$E$11=0),W230,(W230/$E$11)*'Customer Info'!$F$19)),)","v":0},{"$f":"IF((OR($F$12=0,$F$12=\"none\")),IF(X230=0,,IF(OR($E$12='Customer Info'!$F$20,$E$12=0),X230,(X230/$E$12)*'Customer Info'!$F$20)),)","v":0},{"$f":"IF((OR($F$13=0,$F$13=\"none\")),IF(Y230=0,,IF(OR($E$13='Customer Info'!$F$21,$E$13=0),Y230,(Y230/$E$13)*'Customer Info'!$F$21)),)","v":0},{"$f":"IF((OR($F$16=0,$F$16=\"none\")),IF(Z230=0,,IF(OR($E$16='Customer Info'!$H$18,$E$16=0),Z230,(Z230/$E$16)*'Customer Info'!$H$18)),)","v":0},{"$f":"IF((OR($F$17=0,$F$17=\"none\")),IF(AA230=0,,IF(OR($E$17='Customer Info'!$H$19,$E$17=0),AA230,(AA230/$E$17)*'Customer Info'!$H$19)),)","v":0},{"$f":"IF((OR($F$18=0,$F$18=\"none\")),IF(AB230=0,,IF(OR($E$18='Customer Info'!$H$20,$E$18=0),AB230,(AB230/$E$18)*'Customer Info'!$H$20)),)","v":0},{"$f":"IF((OR($F$19=0,$F$19=\"none\")),IF(AC230=0,,IF(OR($E$19='Customer Info'!$H$21,$E$19=0),AC230,(AC230/$E$19)*'Customer Info'!$H$21)),)","v":0},{"$f":"IF((OR($F$4=0,$F$4=\"none\")),IF(AD230=0,,IF(OR($E$4='Customer Info'!$D$18,$E$4=0),AD230,(AD230/$E$4)*'Customer Info'!$D$18)),)","v":0},{"$f":"IF((OR($F$5=0,$F$5=\"none\")),IF(AE230=0,,IF(OR($E$5='Customer Info'!$D$19,$E$5=0),AE230,(AE230/$E$5)*'Customer Info'!$D$19)),)","v":0},{"$f":"IF((OR($F$6=0,$F$6=\"none\")),IF(AF230=0,,IF(OR($E$6='Customer Info'!$D$20,$E$6=0),AF230,(AF230/$E$6)*'Customer Info'!$D$20)),)","v":0},{"$f":"IF((OR($F$7=0,$F$7=\"none\")),IF(AG230=0,,IF(OR($E$7='Customer Info'!$D$21,$E$7=0),AG230,(AG230/$E$7)*'Customer Info'!$D$21)),)","v":0},0,0,{"$f":"IF(E230=\"plate waste\",,IF('Customer Info'!$M$18=0,'Log Sheet'!AY230,'Customer Info'!$M$18*'Log Sheet'!AY230))","v":0},{"$f":"IF(E230=\"plate waste\",IF(OR(C230=\"patient\",C230=\"patient beverages\"),IF('Customer Info'!$M$27=0,AY230*'Customer Info'!$M$18,AY230*'Customer Info'!$M$27),IF(C230=\"cafeteria\",IF('Customer Info'!$M$28=0,AY230*'Customer Info'!$M$18,AY230*'Customer Info'!$M$28),IF(C230=\"other1\",IF('Customer Info'!$M$29=0,AY230*'Customer Info'!$M$18,AY230*'Customer Info'!$M$29),))),)","v":0},0,{"$f":"IF($F$4=\"lunch\",IF(S230=0,,(S230/$E$5)*'Customer Info'!$D$18),)","v":0},{"$f":"IF($F$4=\"dinner\",IF(T230=0,,(T230/$E$6)*'Customer Info'!$D$18),)","v":0},{"$f":"IF($F$4=\"other\",IF(U230=0,,(U230/$E$7)*'Customer Info'!$D$18),)","v":0},0,{"$f":"IF($F$5=\"breakfast\",IF(R230=0,,(R230/$E$4)*'Customer Info'!$D$19),)","v":0},{"$f":"IF($F$5=\"dinner\",IF(T230=0,,(T230/$E$6)*'Customer Info'!$D$19),)","v":0},{"$f":"IF($F$5=\"other\",IF(U230=0,,(U230/$E$7)*'Customer Info'!$D$19),)","v":0},0,{"$f":"IF($F$6=\"breakfast\",IF(R230=0,,(R230/$E$4)*'Customer Info'!$D$20),)","v":0},{"$f":"IF($F$6=\"lunch\",IF(S230=0,,(S230/$E$5)*'Customer Info'!$D$20),)","v":0},{"$f":"IF($F$6=\"other\",IF(U230=0,,(U230/$E$7)*'Customer Info'!$D$20),)","v":0},0,{"$f":"IF($F$7=\"breakfast\",IF(R230=0,,(R230/$E$4)*'Customer Info'!$D$21),)","v":0},{"$f":"IF($F$7=\"lunch\",IF(S230=0,,(S230/$E$5)*'Customer Info'!$D$21),)","v":0},{"$f":"IF($F$7=\"dinner\",IF(T230=0,,(T230/$E$6)*'Customer Info'!$D$21),)","v":0},0,{"$f":"IF($F$10=\"lunch\",IF(W230=0,,(W230/$E$11)*'Customer Info'!$F$18),)","v":0},{"$f":"IF($F$10=\"dinner\",IF(X230=0,,(X230/$E$12)*'Customer Info'!$F$18),)","v":0},{"$f":"IF($F$10=\"other\",IF(Y230=0,,(Y230/$E$13)*'Customer Info'!$F$18),)","v":0},0,{"$f":"IF($F$11=\"breakfast\",IF(V230=0,,(V230/$E$10)*'Customer Info'!$F$19),)","v":0},{"$f":"IF($F$11=\"dinner\",IF(X230=0,,(X230/$E$12)*'Customer Info'!$F$19),)","v":0},{"$f":"IF($F$11=\"other\",IF(Y230=0,,(Y230/$E$13)*'Customer Info'!$F$19),)","v":0},0,{"$f":"IF($F$12=\"breakfast\",IF(V230=0,,(V230/$E$10)*'Customer Info'!$F$20),)","v":0},{"$f":"IF($F$12=\"lunch\",IF(W230=0,,(W230/$E$11)*'Customer Info'!$F$20),)","v":0},{"$f":"IF($F$12=\"other\",IF(Y230=0,,(Y230/$E$13)*'Customer Info'!$F$20),)","v":0},0,{"$f":"IF($F$13=\"breakfast\",IF(V230=0,,(V230/$E$10)*'Customer Info'!$F$21),)","v":0},{"$f":"IF($F$13=\"lunch\",IF(W230=0,,(W230/$E$11)*'Customer Info'!$F$21),)","v":0},{"$f":"IF($F$13=\"dinner\",IF(X230=0,,(X230/$E$12)*'Customer Info'!$F$21),)","v":0},0,{"$f":"IF($F$16=\"lunch\",IF(AA230=0,,(AA230/$E$17)*'Customer Info'!$H$18),)","v":0},{"$f":"IF($F$16=\"dinner\",IF(AB230=0,,(AB230/$E$18)*'Customer Info'!$H$18),)","v":0},{"$f":"IF($F$16=\"other\",IF(AC230=0,,(AC230/$E$19)*'Customer Info'!$H$18),)","v":0},0,{"$f":"IF($F$17=\"breakfast\",IF(Z230=0,,(Z230/$E$16)*'Customer Info'!$H$19),)","v":0},{"$f":"IF($F$17=\"dinner\",IF(AB230=0,,(AB230/$E$18)*'Customer Info'!$H$19),)","v":0},{"$f":"IF($F$17=\"other\",IF(AC230=0,,(AC230/$E$19)*'Customer Info'!$H$19),)","v":0},0,{"$f":"IF($F$18=\"breakfast\",IF(Z230=0,,(Z230/$E$16)*'Customer Info'!$H$20),)","v":0},{"$f":"IF($F$18=\"lunch\",IF(AA230=0,,(AA230/$E$17)*'Customer Info'!$H$20),)","v":0},{"$f":"IF($F$18=\"other\",IF(AC230=0,,(AC230/$E$19)*'Customer Info'!$H$20),)","v":0},0,{"$f":"IF($F$19=\"breakfast\",IF(Z230=0,,(Z230/$E$16)*'Customer Info'!$H$21),)","v":0},{"$f":"IF($F$19=\"lunch\",IF(AA230=0,,(AA230/$E$17)*'Customer Info'!$H$21),)","v":0},{"$f":"IF($F$19=\"dinner\",IF(AB230=0,,(AB230/$E$18)*'Customer Info'!$H$21),)","v":0},0,0,0,0,0,""]
[null,null,null,null,null,null,null,null,null,null,0,0,0,0,0,0,0,0,0,0,0,0,0,0,0,0,0,0,0,0,0,0,0,{"$f":"IF((OR($F$4=0,$F$4=\"none\")),IF(R231=0,,IF(OR($E$4='Customer Info'!$D$18,$E$4=0),R231,(R231/$E$4)*'Customer Info'!$D$18)),)","v":0},{"$f":"IF((OR($F$5=0,$F$5=\"none\")),IF(S231=0,,IF(OR($E$5='Customer Info'!$D$18,$E$5=0),S231,(S231/$E$5)*'Customer Info'!$D$19)),)","v":0},{"$f":"IF((OR($F$6=0,$F$6=\"none\")),IF(T231=0,,IF(OR($E$6='Customer Info'!$D$18,$E$6=0),T231,(T231/$E$6)*'Customer Info'!$D$20)),)","v":0},{"$f":"IF((OR($F$7=0,$F$7=\"none\")),IF(U231=0,,IF(OR($E$7='Customer Info'!$D$18,$E$7=0),U231,(U231/$E$7)*'Customer Info'!$D$21)),)","v":0},{"$f":"IF((OR($F$10=0,$F$10=\"none\")),IF(V231=0,,IF(OR($E$10='Customer Info'!$F$18,$E$10=0),V231,(V231/$E$10)*'Customer Info'!$F$18)),)","v":0},{"$f":"IF((OR($F$11=0,$F$11=\"none\")),IF(W231=0,,IF(OR($E$11='Customer Info'!$F$19,$E$11=0),W231,(W231/$E$11)*'Customer Info'!$F$19)),)","v":0},{"$f":"IF((OR($F$12=0,$F$12=\"none\")),IF(X231=0,,IF(OR($E$12='Customer Info'!$F$20,$E$12=0),X231,(X231/$E$12)*'Customer Info'!$F$20)),)","v":0},{"$f":"IF((OR($F$13=0,$F$13=\"none\")),IF(Y231=0,,IF(OR($E$13='Customer Info'!$F$21,$E$13=0),Y231,(Y231/$E$13)*'Customer Info'!$F$21)),)","v":0},{"$f":"IF((OR($F$16=0,$F$16=\"none\")),IF(Z231=0,,IF(OR($E$16='Customer Info'!$H$18,$E$16=0),Z231,(Z231/$E$16)*'Customer Info'!$H$18)),)","v":0},{"$f":"IF((OR($F$17=0,$F$17=\"none\")),IF(AA231=0,,IF(OR($E$17='Customer Info'!$H$19,$E$17=0),AA231,(AA231/$E$17)*'Customer Info'!$H$19)),)","v":0},{"$f":"IF((OR($F$18=0,$F$18=\"none\")),IF(AB231=0,,IF(OR($E$18='Customer Info'!$H$20,$E$18=0),AB231,(AB231/$E$18)*'Customer Info'!$H$20)),)","v":0},{"$f":"IF((OR($F$19=0,$F$19=\"none\")),IF(AC231=0,,IF(OR($E$19='Customer Info'!$H$21,$E$19=0),AC231,(AC231/$E$19)*'Customer Info'!$H$21)),)","v":0},{"$f":"IF((OR($F$4=0,$F$4=\"none\")),IF(AD231=0,,IF(OR($E$4='Customer Info'!$D$18,$E$4=0),AD231,(AD231/$E$4)*'Customer Info'!$D$18)),)","v":0},{"$f":"IF((OR($F$5=0,$F$5=\"none\")),IF(AE231=0,,IF(OR($E$5='Customer Info'!$D$19,$E$5=0),AE231,(AE231/$E$5)*'Customer Info'!$D$19)),)","v":0},{"$f":"IF((OR($F$6=0,$F$6=\"none\")),IF(AF231=0,,IF(OR($E$6='Customer Info'!$D$20,$E$6=0),AF231,(AF231/$E$6)*'Customer Info'!$D$20)),)","v":0},{"$f":"IF((OR($F$7=0,$F$7=\"none\")),IF(AG231=0,,IF(OR($E$7='Customer Info'!$D$21,$E$7=0),AG231,(AG231/$E$7)*'Customer Info'!$D$21)),)","v":0},0,0,{"$f":"IF(E231=\"plate waste\",,IF('Customer Info'!$M$18=0,'Log Sheet'!AY231,'Customer Info'!$M$18*'Log Sheet'!AY231))","v":0},{"$f":"IF(E231=\"plate waste\",IF(OR(C231=\"patient\",C231=\"patient beverages\"),IF('Customer Info'!$M$27=0,AY231*'Customer Info'!$M$18,AY231*'Customer Info'!$M$27),IF(C231=\"cafeteria\",IF('Customer Info'!$M$28=0,AY231*'Customer Info'!$M$18,AY231*'Customer Info'!$M$28),IF(C231=\"other1\",IF('Customer Info'!$M$29=0,AY231*'Customer Info'!$M$18,AY231*'Customer Info'!$M$29),))),)","v":0},0,{"$f":"IF($F$4=\"lunch\",IF(S231=0,,(S231/$E$5)*'Customer Info'!$D$18),)","v":0},{"$f":"IF($F$4=\"dinner\",IF(T231=0,,(T231/$E$6)*'Customer Info'!$D$18),)","v":0},{"$f":"IF($F$4=\"other\",IF(U231=0,,(U231/$E$7)*'Customer Info'!$D$18),)","v":0},0,{"$f":"IF($F$5=\"breakfast\",IF(R231=0,,(R231/$E$4)*'Customer Info'!$D$19),)","v":0},{"$f":"IF($F$5=\"dinner\",IF(T231=0,,(T231/$E$6)*'Customer Info'!$D$19),)","v":0},{"$f":"IF($F$5=\"other\",IF(U231=0,,(U231/$E$7)*'Customer Info'!$D$19),)","v":0},0,{"$f":"IF($F$6=\"breakfast\",IF(R231=0,,(R231/$E$4)*'Customer Info'!$D$20),)","v":0},{"$f":"IF($F$6=\"lunch\",IF(S231=0,,(S231/$E$5)*'Customer Info'!$D$20),)","v":0},{"$f":"IF($F$6=\"other\",IF(U231=0,,(U231/$E$7)*'Customer Info'!$D$20),)","v":0},0,{"$f":"IF($F$7=\"breakfast\",IF(R231=0,,(R231/$E$4)*'Customer Info'!$D$21),)","v":0},{"$f":"IF($F$7=\"lunch\",IF(S231=0,,(S231/$E$5)*'Customer Info'!$D$21),)","v":0},{"$f":"IF($F$7=\"dinner\",IF(T231=0,,(T231/$E$6)*'Customer Info'!$D$21),)","v":0},0,{"$f":"IF($F$10=\"lunch\",IF(W231=0,,(W231/$E$11)*'Customer Info'!$F$18),)","v":0},{"$f":"IF($F$10=\"dinner\",IF(X231=0,,(X231/$E$12)*'Customer Info'!$F$18),)","v":0},{"$f":"IF($F$10=\"other\",IF(Y231=0,,(Y231/$E$13)*'Customer Info'!$F$18),)","v":0},0,{"$f":"IF($F$11=\"breakfast\",IF(V231=0,,(V231/$E$10)*'Customer Info'!$F$19),)","v":0},{"$f":"IF($F$11=\"dinner\",IF(X231=0,,(X231/$E$12)*'Customer Info'!$F$19),)","v":0},{"$f":"IF($F$11=\"other\",IF(Y231=0,,(Y231/$E$13)*'Customer Info'!$F$19),)","v":0},0,{"$f":"IF($F$12=\"breakfast\",IF(V231=0,,(V231/$E$10)*'Customer Info'!$F$20),)","v":0},{"$f":"IF($F$12=\"lunch\",IF(W231=0,,(W231/$E$11)*'Customer Info'!$F$20),)","v":0},{"$f":"IF($F$12=\"other\",IF(Y231=0,,(Y231/$E$13)*'Customer Info'!$F$20),)","v":0},0,{"$f":"IF($F$13=\"breakfast\",IF(V231=0,,(V231/$E$10)*'Customer Info'!$F$21),)","v":0},{"$f":"IF($F$13=\"lunch\",IF(W231=0,,(W231/$E$11)*'Customer Info'!$F$21),)","v":0},{"$f":"IF($F$13=\"dinner\",IF(X231=0,,(X231/$E$12)*'Customer Info'!$F$21),)","v":0},0,{"$f":"IF($F$16=\"lunch\",IF(AA231=0,,(AA231/$E$17)*'Customer Info'!$H$18),)","v":0},{"$f":"IF($F$16=\"dinner\",IF(AB231=0,,(AB231/$E$18)*'Customer Info'!$H$18),)","v":0},{"$f":"IF($F$16=\"other\",IF(AC231=0,,(AC231/$E$19)*'Customer Info'!$H$18),)","v":0},0,{"$f":"IF($F$17=\"breakfast\",IF(Z231=0,,(Z231/$E$16)*'Customer Info'!$H$19),)","v":0},{"$f":"IF($F$17=\"dinner\",IF(AB231=0,,(AB231/$E$18)*'Customer Info'!$H$19),)","v":0},{"$f":"IF($F$17=\"other\",IF(AC231=0,,(AC231/$E$19)*'Customer Info'!$H$19),)","v":0},0,{"$f":"IF($F$18=\"breakfast\",IF(Z231=0,,(Z231/$E$16)*'Customer Info'!$H$20),)","v":0},{"$f":"IF($F$18=\"lunch\",IF(AA231=0,,(AA231/$E$17)*'Customer Info'!$H$20),)","v":0},{"$f":"IF($F$18=\"other\",IF(AC231=0,,(AC231/$E$19)*'Customer Info'!$H$20),)","v":0},0,{"$f":"IF($F$19=\"breakfast\",IF(Z231=0,,(Z231/$E$16)*'Customer Info'!$H$21),)","v":0},{"$f":"IF($F$19=\"lunch\",IF(AA231=0,,(AA231/$E$17)*'Customer Info'!$H$21),)","v":0},{"$f":"IF($F$19=\"dinner\",IF(AB231=0,,(AB231/$E$18)*'Customer Info'!$H$21),)","v":0},0,0,0,0,0,""]
[null,null,null,null,null,null,null,null,null,null,0,0,0,0,0,0,0,0,0,0,0,0,0,0,0,0,0,0,0,0,0,0,0,{"$f":"IF((OR($F$4=0,$F$4=\"none\")),IF(R232=0,,IF(OR($E$4='Customer Info'!$D$18,$E$4=0),R232,(R232/$E$4)*'Customer Info'!$D$18)),)","v":0},{"$f":"IF((OR($F$5=0,$F$5=\"none\")),IF(S232=0,,IF(OR($E$5='Customer Info'!$D$18,$E$5=0),S232,(S232/$E$5)*'Customer Info'!$D$19)),)","v":0},{"$f":"IF((OR($F$6=0,$F$6=\"none\")),IF(T232=0,,IF(OR($E$6='Customer Info'!$D$18,$E$6=0),T232,(T232/$E$6)*'Customer Info'!$D$20)),)","v":0},{"$f":"IF((OR($F$7=0,$F$7=\"none\")),IF(U232=0,,IF(OR($E$7='Customer Info'!$D$18,$E$7=0),U232,(U232/$E$7)*'Customer Info'!$D$21)),)","v":0},{"$f":"IF((OR($F$10=0,$F$10=\"none\")),IF(V232=0,,IF(OR($E$10='Customer Info'!$F$18,$E$10=0),V232,(V232/$E$10)*'Customer Info'!$F$18)),)","v":0},{"$f":"IF((OR($F$11=0,$F$11=\"none\")),IF(W232=0,,IF(OR($E$11='Customer Info'!$F$19,$E$11=0),W232,(W232/$E$11)*'Customer Info'!$F$19)),)","v":0},{"$f":"IF((OR($F$12=0,$F$12=\"none\")),IF(X232=0,,IF(OR($E$12='Customer Info'!$F$20,$E$12=0),X232,(X232/$E$12)*'Customer Info'!$F$20)),)","v":0},{"$f":"IF((OR($F$13=0,$F$13=\"none\")),IF(Y232=0,,IF(OR($E$13='Customer Info'!$F$21,$E$13=0),Y232,(Y232/$E$13)*'Customer Info'!$F$21)),)","v":0},{"$f":"IF((OR($F$16=0,$F$16=\"none\")),IF(Z232=0,,IF(OR($E$16='Customer Info'!$H$18,$E$16=0),Z232,(Z232/$E$16)*'Customer Info'!$H$18)),)","v":0},{"$f":"IF((OR($F$17=0,$F$17=\"none\")),IF(AA232=0,,IF(OR($E$17='Customer Info'!$H$19,$E$17=0),AA232,(AA232/$E$17)*'Customer Info'!$H$19)),)","v":0},{"$f":"IF((OR($F$18=0,$F$18=\"none\")),IF(AB232=0,,IF(OR($E$18='Customer Info'!$H$20,$E$18=0),AB232,(AB232/$E$18)*'Customer Info'!$H$20)),)","v":0},{"$f":"IF((OR($F$19=0,$F$19=\"none\")),IF(AC232=0,,IF(OR($E$19='Customer Info'!$H$21,$E$19=0),AC232,(AC232/$E$19)*'Customer Info'!$H$21)),)","v":0},{"$f":"IF((OR($F$4=0,$F$4=\"none\")),IF(AD232=0,,IF(OR($E$4='Customer Info'!$D$18,$E$4=0),AD232,(AD232/$E$4)*'Customer Info'!$D$18)),)","v":0},{"$f":"IF((OR($F$5=0,$F$5=\"none\")),IF(AE232=0,,IF(OR($E$5='Customer Info'!$D$19,$E$5=0),AE232,(AE232/$E$5)*'Customer Info'!$D$19)),)","v":0},{"$f":"IF((OR($F$6=0,$F$6=\"none\")),IF(AF232=0,,IF(OR($E$6='Customer Info'!$D$20,$E$6=0),AF232,(AF232/$E$6)*'Customer Info'!$D$20)),)","v":0},{"$f":"IF((OR($F$7=0,$F$7=\"none\")),IF(AG232=0,,IF(OR($E$7='Customer Info'!$D$21,$E$7=0),AG232,(AG232/$E$7)*'Customer Info'!$D$21)),)","v":0},0,0,{"$f":"IF(E232=\"plate waste\",,IF('Customer Info'!$M$18=0,'Log Sheet'!AY232,'Customer Info'!$M$18*'Log Sheet'!AY232))","v":0},{"$f":"IF(E232=\"plate waste\",IF(OR(C232=\"patient\",C232=\"patient beverages\"),IF('Customer Info'!$M$27=0,AY232*'Customer Info'!$M$18,AY232*'Customer Info'!$M$27),IF(C232=\"cafeteria\",IF('Customer Info'!$M$28=0,AY232*'Customer Info'!$M$18,AY232*'Customer Info'!$M$28),IF(C232=\"other1\",IF('Customer Info'!$M$29=0,AY232*'Customer Info'!$M$18,AY232*'Customer Info'!$M$29),))),)","v":0},0,{"$f":"IF($F$4=\"lunch\",IF(S232=0,,(S232/$E$5)*'Customer Info'!$D$18),)","v":0},{"$f":"IF($F$4=\"dinner\",IF(T232=0,,(T232/$E$6)*'Customer Info'!$D$18),)","v":0},{"$f":"IF($F$4=\"other\",IF(U232=0,,(U232/$E$7)*'Customer Info'!$D$18),)","v":0},0,{"$f":"IF($F$5=\"breakfast\",IF(R232=0,,(R232/$E$4)*'Customer Info'!$D$19),)","v":0},{"$f":"IF($F$5=\"dinner\",IF(T232=0,,(T232/$E$6)*'Customer Info'!$D$19),)","v":0},{"$f":"IF($F$5=\"other\",IF(U232=0,,(U232/$E$7)*'Customer Info'!$D$19),)","v":0},0,{"$f":"IF($F$6=\"breakfast\",IF(R232=0,,(R232/$E$4)*'Customer Info'!$D$20),)","v":0},{"$f":"IF($F$6=\"lunch\",IF(S232=0,,(S232/$E$5)*'Customer Info'!$D$20),)","v":0},{"$f":"IF($F$6=\"other\",IF(U232=0,,(U232/$E$7)*'Customer Info'!$D$20),)","v":0},0,{"$f":"IF($F$7=\"breakfast\",IF(R232=0,,(R232/$E$4)*'Customer Info'!$D$21),)","v":0},{"$f":"IF($F$7=\"lunch\",IF(S232=0,,(S232/$E$5)*'Customer Info'!$D$21),)","v":0},{"$f":"IF($F$7=\"dinner\",IF(T232=0,,(T232/$E$6)*'Customer Info'!$D$21),)","v":0},0,{"$f":"IF($F$10=\"lunch\",IF(W232=0,,(W232/$E$11)*'Customer Info'!$F$18),)","v":0},{"$f":"IF($F$10=\"dinner\",IF(X232=0,,(X232/$E$12)*'Customer Info'!$F$18),)","v":0},{"$f":"IF($F$10=\"other\",IF(Y232=0,,(Y232/$E$13)*'Customer Info'!$F$18),)","v":0},0,{"$f":"IF($F$11=\"breakfast\",IF(V232=0,,(V232/$E$10)*'Customer Info'!$F$19),)","v":0},{"$f":"IF($F$11=\"dinner\",IF(X232=0,,(X232/$E$12)*'Customer Info'!$F$19),)","v":0},{"$f":"IF($F$11=\"other\",IF(Y232=0,,(Y232/$E$13)*'Customer Info'!$F$19),)","v":0},0,{"$f":"IF($F$12=\"breakfast\",IF(V232=0,,(V232/$E$10)*'Customer Info'!$F$20),)","v":0},{"$f":"IF($F$12=\"lunch\",IF(W232=0,,(W232/$E$11)*'Customer Info'!$F$20),)","v":0},{"$f":"IF($F$12=\"other\",IF(Y232=0,,(Y232/$E$13)*'Customer Info'!$F$20),)","v":0},0,{"$f":"IF($F$13=\"breakfast\",IF(V232=0,,(V232/$E$10)*'Customer Info'!$F$21),)","v":0},{"$f":"IF($F$13=\"lunch\",IF(W232=0,,(W232/$E$11)*'Customer Info'!$F$21),)","v":0},{"$f":"IF($F$13=\"dinner\",IF(X232=0,,(X232/$E$12)*'Customer Info'!$F$21),)","v":0},0,{"$f":"IF($F$16=\"lunch\",IF(AA232=0,,(AA232/$E$17)*'Customer Info'!$H$18),)","v":0},{"$f":"IF($F$16=\"dinner\",IF(AB232=0,,(AB232/$E$18)*'Customer Info'!$H$18),)","v":0},{"$f":"IF($F$16=\"other\",IF(AC232=0,,(AC232/$E$19)*'Customer Info'!$H$18),)","v":0},0,{"$f":"IF($F$17=\"breakfast\",IF(Z232=0,,(Z232/$E$16)*'Customer Info'!$H$19),)","v":0},{"$f":"IF($F$17=\"dinner\",IF(AB232=0,,(AB232/$E$18)*'Customer Info'!$H$19),)","v":0},{"$f":"IF($F$17=\"other\",IF(AC232=0,,(AC232/$E$19)*'Customer Info'!$H$19),)","v":0},0,{"$f":"IF($F$18=\"breakfast\",IF(Z232=0,,(Z232/$E$16)*'Customer Info'!$H$20),)","v":0},{"$f":"IF($F$18=\"lunch\",IF(AA232=0,,(AA232/$E$17)*'Customer Info'!$H$20),)","v":0},{"$f":"IF($F$18=\"other\",IF(AC232=0,,(AC232/$E$19)*'Customer Info'!$H$20),)","v":0},0,{"$f":"IF($F$19=\"breakfast\",IF(Z232=0,,(Z232/$E$16)*'Customer Info'!$H$21),)","v":0},{"$f":"IF($F$19=\"lunch\",IF(AA232=0,,(AA232/$E$17)*'Customer Info'!$H$21),)","v":0},{"$f":"IF($F$19=\"dinner\",IF(AB232=0,,(AB232/$E$18)*'Customer Info'!$H$21),)","v":0},0,0,0,0,0,""]
[null,null,null,null,null,null,null,null,null,null,0,0,0,0,0,0,0,0,0,0,0,0,0,0,0,0,0,0,0,0,0,0,0,{"$f":"IF((OR($F$4=0,$F$4=\"none\")),IF(R233=0,,IF(OR($E$4='Customer Info'!$D$18,$E$4=0),R233,(R233/$E$4)*'Customer Info'!$D$18)),)","v":0},{"$f":"IF((OR($F$5=0,$F$5=\"none\")),IF(S233=0,,IF(OR($E$5='Customer Info'!$D$18,$E$5=0),S233,(S233/$E$5)*'Customer Info'!$D$19)),)","v":0},{"$f":"IF((OR($F$6=0,$F$6=\"none\")),IF(T233=0,,IF(OR($E$6='Customer Info'!$D$18,$E$6=0),T233,(T233/$E$6)*'Customer Info'!$D$20)),)","v":0},{"$f":"IF((OR($F$7=0,$F$7=\"none\")),IF(U233=0,,IF(OR($E$7='Customer Info'!$D$18,$E$7=0),U233,(U233/$E$7)*'Customer Info'!$D$21)),)","v":0},{"$f":"IF((OR($F$10=0,$F$10=\"none\")),IF(V233=0,,IF(OR($E$10='Customer Info'!$F$18,$E$10=0),V233,(V233/$E$10)*'Customer Info'!$F$18)),)","v":0},{"$f":"IF((OR($F$11=0,$F$11=\"none\")),IF(W233=0,,IF(OR($E$11='Customer Info'!$F$19,$E$11=0),W233,(W233/$E$11)*'Customer Info'!$F$19)),)","v":0},{"$f":"IF((OR($F$12=0,$F$12=\"none\")),IF(X233=0,,IF(OR($E$12='Customer Info'!$F$20,$E$12=0),X233,(X233/$E$12)*'Customer Info'!$F$20)),)","v":0},{"$f":"IF((OR($F$13=0,$F$13=\"none\")),IF(Y233=0,,IF(OR($E$13='Customer Info'!$F$21,$E$13=0),Y233,(Y233/$E$13)*'Customer Info'!$F$21)),)","v":0},{"$f":"IF((OR($F$16=0,$F$16=\"none\")),IF(Z233=0,,IF(OR($E$16='Customer Info'!$H$18,$E$16=0),Z233,(Z233/$E$16)*'Customer Info'!$H$18)),)","v":0},{"$f":"IF((OR($F$17=0,$F$17=\"none\")),IF(AA233=0,,IF(OR($E$17='Customer Info'!$H$19,$E$17=0),AA233,(AA233/$E$17)*'Customer Info'!$H$19)),)","v":0},{"$f":"IF((OR($F$18=0,$F$18=\"none\")),IF(AB233=0,,IF(OR($E$18='Customer Info'!$H$20,$E$18=0),AB233,(AB233/$E$18)*'Customer Info'!$H$20)),)","v":0},{"$f":"IF((OR($F$19=0,$F$19=\"none\")),IF(AC233=0,,IF(OR($E$19='Customer Info'!$H$21,$E$19=0),AC233,(AC233/$E$19)*'Customer Info'!$H$21)),)","v":0},{"$f":"IF((OR($F$4=0,$F$4=\"none\")),IF(AD233=0,,IF(OR($E$4='Customer Info'!$D$18,$E$4=0),AD233,(AD233/$E$4)*'Customer Info'!$D$18)),)","v":0},{"$f":"IF((OR($F$5=0,$F$5=\"none\")),IF(AE233=0,,IF(OR($E$5='Customer Info'!$D$19,$E$5=0),AE233,(AE233/$E$5)*'Customer Info'!$D$19)),)","v":0},{"$f":"IF((OR($F$6=0,$F$6=\"none\")),IF(AF233=0,,IF(OR($E$6='Customer Info'!$D$20,$E$6=0),AF233,(AF233/$E$6)*'Customer Info'!$D$20)),)","v":0},{"$f":"IF((OR($F$7=0,$F$7=\"none\")),IF(AG233=0,,IF(OR($E$7='Customer Info'!$D$21,$E$7=0),AG233,(AG233/$E$7)*'Customer Info'!$D$21)),)","v":0},0,0,{"$f":"IF(E233=\"plate waste\",,IF('Customer Info'!$M$18=0,'Log Sheet'!AY233,'Customer Info'!$M$18*'Log Sheet'!AY233))","v":0},{"$f":"IF(E233=\"plate waste\",IF(OR(C233=\"patient\",C233=\"patient beverages\"),IF('Customer Info'!$M$27=0,AY233*'Customer Info'!$M$18,AY233*'Customer Info'!$M$27),IF(C233=\"cafeteria\",IF('Customer Info'!$M$28=0,AY233*'Customer Info'!$M$18,AY233*'Customer Info'!$M$28),IF(C233=\"other1\",IF('Customer Info'!$M$29=0,AY233*'Customer Info'!$M$18,AY233*'Customer Info'!$M$29),))),)","v":0},0,{"$f":"IF($F$4=\"lunch\",IF(S233=0,,(S233/$E$5)*'Customer Info'!$D$18),)","v":0},{"$f":"IF($F$4=\"dinner\",IF(T233=0,,(T233/$E$6)*'Customer Info'!$D$18),)","v":0},{"$f":"IF($F$4=\"other\",IF(U233=0,,(U233/$E$7)*'Customer Info'!$D$18),)","v":0},0,{"$f":"IF($F$5=\"breakfast\",IF(R233=0,,(R233/$E$4)*'Customer Info'!$D$19),)","v":0},{"$f":"IF($F$5=\"dinner\",IF(T233=0,,(T233/$E$6)*'Customer Info'!$D$19),)","v":0},{"$f":"IF($F$5=\"other\",IF(U233=0,,(U233/$E$7)*'Customer Info'!$D$19),)","v":0},0,{"$f":"IF($F$6=\"breakfast\",IF(R233=0,,(R233/$E$4)*'Customer Info'!$D$20),)","v":0},{"$f":"IF($F$6=\"lunch\",IF(S233=0,,(S233/$E$5)*'Customer Info'!$D$20),)","v":0},{"$f":"IF($F$6=\"other\",IF(U233=0,,(U233/$E$7)*'Customer Info'!$D$20),)","v":0},0,{"$f":"IF($F$7=\"breakfast\",IF(R233=0,,(R233/$E$4)*'Customer Info'!$D$21),)","v":0},{"$f":"IF($F$7=\"lunch\",IF(S233=0,,(S233/$E$5)*'Customer Info'!$D$21),)","v":0},{"$f":"IF($F$7=\"dinner\",IF(T233=0,,(T233/$E$6)*'Customer Info'!$D$21),)","v":0},0,{"$f":"IF($F$10=\"lunch\",IF(W233=0,,(W233/$E$11)*'Customer Info'!$F$18),)","v":0},{"$f":"IF($F$10=\"dinner\",IF(X233=0,,(X233/$E$12)*'Customer Info'!$F$18),)","v":0},{"$f":"IF($F$10=\"other\",IF(Y233=0,,(Y233/$E$13)*'Customer Info'!$F$18),)","v":0},0,{"$f":"IF($F$11=\"breakfast\",IF(V233=0,,(V233/$E$10)*'Customer Info'!$F$19),)","v":0},{"$f":"IF($F$11=\"dinner\",IF(X233=0,,(X233/$E$12)*'Customer Info'!$F$19),)","v":0},{"$f":"IF($F$11=\"other\",IF(Y233=0,,(Y233/$E$13)*'Customer Info'!$F$19),)","v":0},0,{"$f":"IF($F$12=\"breakfast\",IF(V233=0,,(V233/$E$10)*'Customer Info'!$F$20),)","v":0},{"$f":"IF($F$12=\"lunch\",IF(W233=0,,(W233/$E$11)*'Customer Info'!$F$20),)","v":0},{"$f":"IF($F$12=\"other\",IF(Y233=0,,(Y233/$E$13)*'Customer Info'!$F$20),)","v":0},0,{"$f":"IF($F$13=\"breakfast\",IF(V233=0,,(V233/$E$10)*'Customer Info'!$F$21),)","v":0},{"$f":"IF($F$13=\"lunch\",IF(W233=0,,(W233/$E$11)*'Customer Info'!$F$21),)","v":0},{"$f":"IF($F$13=\"dinner\",IF(X233=0,,(X233/$E$12)*'Customer Info'!$F$21),)","v":0},0,{"$f":"IF($F$16=\"lunch\",IF(AA233=0,,(AA233/$E$17)*'Customer Info'!$H$18),)","v":0},{"$f":"IF($F$16=\"dinner\",IF(AB233=0,,(AB233/$E$18)*'Customer Info'!$H$18),)","v":0},{"$f":"IF($F$16=\"other\",IF(AC233=0,,(AC233/$E$19)*'Customer Info'!$H$18),)","v":0},0,{"$f":"IF($F$17=\"breakfast\",IF(Z233=0,,(Z233/$E$16)*'Customer Info'!$H$19),)","v":0},{"$f":"IF($F$17=\"dinner\",IF(AB233=0,,(AB233/$E$18)*'Customer Info'!$H$19),)","v":0},{"$f":"IF($F$17=\"other\",IF(AC233=0,,(AC233/$E$19)*'Customer Info'!$H$19),)","v":0},0,{"$f":"IF($F$18=\"breakfast\",IF(Z233=0,,(Z233/$E$16)*'Customer Info'!$H$20),)","v":0},{"$f":"IF($F$18=\"lunch\",IF(AA233=0,,(AA233/$E$17)*'Customer Info'!$H$20),)","v":0},{"$f":"IF($F$18=\"other\",IF(AC233=0,,(AC233/$E$19)*'Customer Info'!$H$20),)","v":0},0,{"$f":"IF($F$19=\"breakfast\",IF(Z233=0,,(Z233/$E$16)*'Customer Info'!$H$21),)","v":0},{"$f":"IF($F$19=\"lunch\",IF(AA233=0,,(AA233/$E$17)*'Customer Info'!$H$21),)","v":0},{"$f":"IF($F$19=\"dinner\",IF(AB233=0,,(AB233/$E$18)*'Customer Info'!$H$21),)","v":0},0,0,0,0,0,""]
[null,null,null,null,null,null,null,null,null,null,0,0,0,0,0,0,0,0,0,0,0,0,0,0,0,0,0,0,0,0,0,0,0,{"$f":"IF((OR($F$4=0,$F$4=\"none\")),IF(R234=0,,IF(OR($E$4='Customer Info'!$D$18,$E$4=0),R234,(R234/$E$4)*'Customer Info'!$D$18)),)","v":0},{"$f":"IF((OR($F$5=0,$F$5=\"none\")),IF(S234=0,,IF(OR($E$5='Customer Info'!$D$18,$E$5=0),S234,(S234/$E$5)*'Customer Info'!$D$19)),)","v":0},{"$f":"IF((OR($F$6=0,$F$6=\"none\")),IF(T234=0,,IF(OR($E$6='Customer Info'!$D$18,$E$6=0),T234,(T234/$E$6)*'Customer Info'!$D$20)),)","v":0},{"$f":"IF((OR($F$7=0,$F$7=\"none\")),IF(U234=0,,IF(OR($E$7='Customer Info'!$D$18,$E$7=0),U234,(U234/$E$7)*'Customer Info'!$D$21)),)","v":0},{"$f":"IF((OR($F$10=0,$F$10=\"none\")),IF(V234=0,,IF(OR($E$10='Customer Info'!$F$18,$E$10=0),V234,(V234/$E$10)*'Customer Info'!$F$18)),)","v":0},{"$f":"IF((OR($F$11=0,$F$11=\"none\")),IF(W234=0,,IF(OR($E$11='Customer Info'!$F$19,$E$11=0),W234,(W234/$E$11)*'Customer Info'!$F$19)),)","v":0},{"$f":"IF((OR($F$12=0,$F$12=\"none\")),IF(X234=0,,IF(OR($E$12='Customer Info'!$F$20,$E$12=0),X234,(X234/$E$12)*'Customer Info'!$F$20)),)","v":0},{"$f":"IF((OR($F$13=0,$F$13=\"none\")),IF(Y234=0,,IF(OR($E$13='Customer Info'!$F$21,$E$13=0),Y234,(Y234/$E$13)*'Customer Info'!$F$21)),)","v":0},{"$f":"IF((OR($F$16=0,$F$16=\"none\")),IF(Z234=0,,IF(OR($E$16='Customer Info'!$H$18,$E$16=0),Z234,(Z234/$E$16)*'Customer Info'!$H$18)),)","v":0},{"$f":"IF((OR($F$17=0,$F$17=\"none\")),IF(AA234=0,,IF(OR($E$17='Customer Info'!$H$19,$E$17=0),AA234,(AA234/$E$17)*'Customer Info'!$H$19)),)","v":0},{"$f":"IF((OR($F$18=0,$F$18=\"none\")),IF(AB234=0,,IF(OR($E$18='Customer Info'!$H$20,$E$18=0),AB234,(AB234/$E$18)*'Customer Info'!$H$20)),)","v":0},{"$f":"IF((OR($F$19=0,$F$19=\"none\")),IF(AC234=0,,IF(OR($E$19='Customer Info'!$H$21,$E$19=0),AC234,(AC234/$E$19)*'Customer Info'!$H$21)),)","v":0},{"$f":"IF((OR($F$4=0,$F$4=\"none\")),IF(AD234=0,,IF(OR($E$4='Customer Info'!$D$18,$E$4=0),AD234,(AD234/$E$4)*'Customer Info'!$D$18)),)","v":0},{"$f":"IF((OR($F$5=0,$F$5=\"none\")),IF(AE234=0,,IF(OR($E$5='Customer Info'!$D$19,$E$5=0),AE234,(AE234/$E$5)*'Customer Info'!$D$19)),)","v":0},{"$f":"IF((OR($F$6=0,$F$6=\"none\")),IF(AF234=0,,IF(OR($E$6='Customer Info'!$D$20,$E$6=0),AF234,(AF234/$E$6)*'Customer Info'!$D$20)),)","v":0},{"$f":"IF((OR($F$7=0,$F$7=\"none\")),IF(AG234=0,,IF(OR($E$7='Customer Info'!$D$21,$E$7=0),AG234,(AG234/$E$7)*'Customer Info'!$D$21)),)","v":0},0,0,{"$f":"IF(E234=\"plate waste\",,IF('Customer Info'!$M$18=0,'Log Sheet'!AY234,'Customer Info'!$M$18*'Log Sheet'!AY234))","v":0},{"$f":"IF(E234=\"plate waste\",IF(OR(C234=\"patient\",C234=\"patient beverages\"),IF('Customer Info'!$M$27=0,AY234*'Customer Info'!$M$18,AY234*'Customer Info'!$M$27),IF(C234=\"cafeteria\",IF('Customer Info'!$M$28=0,AY234*'Customer Info'!$M$18,AY234*'Customer Info'!$M$28),IF(C234=\"other1\",IF('Customer Info'!$M$29=0,AY234*'Customer Info'!$M$18,AY234*'Customer Info'!$M$29),))),)","v":0},0,{"$f":"IF($F$4=\"lunch\",IF(S234=0,,(S234/$E$5)*'Customer Info'!$D$18),)","v":0},{"$f":"IF($F$4=\"dinner\",IF(T234=0,,(T234/$E$6)*'Customer Info'!$D$18),)","v":0},{"$f":"IF($F$4=\"other\",IF(U234=0,,(U234/$E$7)*'Customer Info'!$D$18),)","v":0},0,{"$f":"IF($F$5=\"breakfast\",IF(R234=0,,(R234/$E$4)*'Customer Info'!$D$19),)","v":0},{"$f":"IF($F$5=\"dinner\",IF(T234=0,,(T234/$E$6)*'Customer Info'!$D$19),)","v":0},{"$f":"IF($F$5=\"other\",IF(U234=0,,(U234/$E$7)*'Customer Info'!$D$19),)","v":0},0,{"$f":"IF($F$6=\"breakfast\",IF(R234=0,,(R234/$E$4)*'Customer Info'!$D$20),)","v":0},{"$f":"IF($F$6=\"lunch\",IF(S234=0,,(S234/$E$5)*'Customer Info'!$D$20),)","v":0},{"$f":"IF($F$6=\"other\",IF(U234=0,,(U234/$E$7)*'Customer Info'!$D$20),)","v":0},0,{"$f":"IF($F$7=\"breakfast\",IF(R234=0,,(R234/$E$4)*'Customer Info'!$D$21),)","v":0},{"$f":"IF($F$7=\"lunch\",IF(S234=0,,(S234/$E$5)*'Customer Info'!$D$21),)","v":0},{"$f":"IF($F$7=\"dinner\",IF(T234=0,,(T234/$E$6)*'Customer Info'!$D$21),)","v":0},0,{"$f":"IF($F$10=\"lunch\",IF(W234=0,,(W234/$E$11)*'Customer Info'!$F$18),)","v":0},{"$f":"IF($F$10=\"dinner\",IF(X234=0,,(X234/$E$12)*'Customer Info'!$F$18),)","v":0},{"$f":"IF($F$10=\"other\",IF(Y234=0,,(Y234/$E$13)*'Customer Info'!$F$18),)","v":0},0,{"$f":"IF($F$11=\"breakfast\",IF(V234=0,,(V234/$E$10)*'Customer Info'!$F$19),)","v":0},{"$f":"IF($F$11=\"dinner\",IF(X234=0,,(X234/$E$12)*'Customer Info'!$F$19),)","v":0},{"$f":"IF($F$11=\"other\",IF(Y234=0,,(Y234/$E$13)*'Customer Info'!$F$19),)","v":0},0,{"$f":"IF($F$12=\"breakfast\",IF(V234=0,,(V234/$E$10)*'Customer Info'!$F$20),)","v":0},{"$f":"IF($F$12=\"lunch\",IF(W234=0,,(W234/$E$11)*'Customer Info'!$F$20),)","v":0},{"$f":"IF($F$12=\"other\",IF(Y234=0,,(Y234/$E$13)*'Customer Info'!$F$20),)","v":0},0,{"$f":"IF($F$13=\"breakfast\",IF(V234=0,,(V234/$E$10)*'Customer Info'!$F$21),)","v":0},{"$f":"IF($F$13=\"lunch\",IF(W234=0,,(W234/$E$11)*'Customer Info'!$F$21),)","v":0},{"$f":"IF($F$13=\"dinner\",IF(X234=0,,(X234/$E$12)*'Customer Info'!$F$21),)","v":0},0,{"$f":"IF($F$16=\"lunch\",IF(AA234=0,,(AA234/$E$17)*'Customer Info'!$H$18),)","v":0},{"$f":"IF($F$16=\"dinner\",IF(AB234=0,,(AB234/$E$18)*'Customer Info'!$H$18),)","v":0},{"$f":"IF($F$16=\"other\",IF(AC234=0,,(AC234/$E$19)*'Customer Info'!$H$18),)","v":0},0,{"$f":"IF($F$17=\"breakfast\",IF(Z234=0,,(Z234/$E$16)*'Customer Info'!$H$19),)","v":0},{"$f":"IF($F$17=\"dinner\",IF(AB234=0,,(AB234/$E$18)*'Customer Info'!$H$19),)","v":0},{"$f":"IF($F$17=\"other\",IF(AC234=0,,(AC234/$E$19)*'Customer Info'!$H$19),)","v":0},0,{"$f":"IF($F$18=\"breakfast\",IF(Z234=0,,(Z234/$E$16)*'Customer Info'!$H$20),)","v":0},{"$f":"IF($F$18=\"lunch\",IF(AA234=0,,(AA234/$E$17)*'Customer Info'!$H$20),)","v":0},{"$f":"IF($F$18=\"other\",IF(AC234=0,,(AC234/$E$19)*'Customer Info'!$H$20),)","v":0},0,{"$f":"IF($F$19=\"breakfast\",IF(Z234=0,,(Z234/$E$16)*'Customer Info'!$H$21),)","v":0},{"$f":"IF($F$19=\"lunch\",IF(AA234=0,,(AA234/$E$17)*'Customer Info'!$H$21),)","v":0},{"$f":"IF($F$19=\"dinner\",IF(AB234=0,,(AB234/$E$18)*'Customer Info'!$H$21),)","v":0},0,0,0,0,0,""]
[null,null,null,null,null,null,null,null,null,null,0,0,0,0,0,0,0,0,0,0,0,0,0,0,0,0,0,0,0,0,0,0,0,{"$f":"IF((OR($F$4=0,$F$4=\"none\")),IF(R235=0,,IF(OR($E$4='Customer Info'!$D$18,$E$4=0),R235,(R235/$E$4)*'Customer Info'!$D$18)),)","v":0},{"$f":"IF((OR($F$5=0,$F$5=\"none\")),IF(S235=0,,IF(OR($E$5='Customer Info'!$D$18,$E$5=0),S235,(S235/$E$5)*'Customer Info'!$D$19)),)","v":0},{"$f":"IF((OR($F$6=0,$F$6=\"none\")),IF(T235=0,,IF(OR($E$6='Customer Info'!$D$18,$E$6=0),T235,(T235/$E$6)*'Customer Info'!$D$20)),)","v":0},{"$f":"IF((OR($F$7=0,$F$7=\"none\")),IF(U235=0,,IF(OR($E$7='Customer Info'!$D$18,$E$7=0),U235,(U235/$E$7)*'Customer Info'!$D$21)),)","v":0},{"$f":"IF((OR($F$10=0,$F$10=\"none\")),IF(V235=0,,IF(OR($E$10='Customer Info'!$F$18,$E$10=0),V235,(V235/$E$10)*'Customer Info'!$F$18)),)","v":0},{"$f":"IF((OR($F$11=0,$F$11=\"none\")),IF(W235=0,,IF(OR($E$11='Customer Info'!$F$19,$E$11=0),W235,(W235/$E$11)*'Customer Info'!$F$19)),)","v":0},{"$f":"IF((OR($F$12=0,$F$12=\"none\")),IF(X235=0,,IF(OR($E$12='Customer Info'!$F$20,$E$12=0),X235,(X235/$E$12)*'Customer Info'!$F$20)),)","v":0},{"$f":"IF((OR($F$13=0,$F$13=\"none\")),IF(Y235=0,,IF(OR($E$13='Customer Info'!$F$21,$E$13=0),Y235,(Y235/$E$13)*'Customer Info'!$F$21)),)","v":0},{"$f":"IF((OR($F$16=0,$F$16=\"none\")),IF(Z235=0,,IF(OR($E$16='Customer Info'!$H$18,$E$16=0),Z235,(Z235/$E$16)*'Customer Info'!$H$18)),)","v":0},{"$f":"IF((OR($F$17=0,$F$17=\"none\")),IF(AA235=0,,IF(OR($E$17='Customer Info'!$H$19,$E$17=0),AA235,(AA235/$E$17)*'Customer Info'!$H$19)),)","v":0},{"$f":"IF((OR($F$18=0,$F$18=\"none\")),IF(AB235=0,,IF(OR($E$18='Customer Info'!$H$20,$E$18=0),AB235,(AB235/$E$18)*'Customer Info'!$H$20)),)","v":0},{"$f":"IF((OR($F$19=0,$F$19=\"none\")),IF(AC235=0,,IF(OR($E$19='Customer Info'!$H$21,$E$19=0),AC235,(AC235/$E$19)*'Customer Info'!$H$21)),)","v":0},{"$f":"IF((OR($F$4=0,$F$4=\"none\")),IF(AD235=0,,IF(OR($E$4='Customer Info'!$D$18,$E$4=0),AD235,(AD235/$E$4)*'Customer Info'!$D$18)),)","v":0},{"$f":"IF((OR($F$5=0,$F$5=\"none\")),IF(AE235=0,,IF(OR($E$5='Customer Info'!$D$19,$E$5=0),AE235,(AE235/$E$5)*'Customer Info'!$D$19)),)","v":0},{"$f":"IF((OR($F$6=0,$F$6=\"none\")),IF(AF235=0,,IF(OR($E$6='Customer Info'!$D$20,$E$6=0),AF235,(AF235/$E$6)*'Customer Info'!$D$20)),)","v":0},{"$f":"IF((OR($F$7=0,$F$7=\"none\")),IF(AG235=0,,IF(OR($E$7='Customer Info'!$D$21,$E$7=0),AG235,(AG235/$E$7)*'Customer Info'!$D$21)),)","v":0},0,0,{"$f":"IF(E235=\"plate waste\",,IF('Customer Info'!$M$18=0,'Log Sheet'!AY235,'Customer Info'!$M$18*'Log Sheet'!AY235))","v":0},{"$f":"IF(E235=\"plate waste\",IF(OR(C235=\"patient\",C235=\"patient beverages\"),IF('Customer Info'!$M$27=0,AY235*'Customer Info'!$M$18,AY235*'Customer Info'!$M$27),IF(C235=\"cafeteria\",IF('Customer Info'!$M$28=0,AY235*'Customer Info'!$M$18,AY235*'Customer Info'!$M$28),IF(C235=\"other1\",IF('Customer Info'!$M$29=0,AY235*'Customer Info'!$M$18,AY235*'Customer Info'!$M$29),))),)","v":0},0,{"$f":"IF($F$4=\"lunch\",IF(S235=0,,(S235/$E$5)*'Customer Info'!$D$18),)","v":0},{"$f":"IF($F$4=\"dinner\",IF(T235=0,,(T235/$E$6)*'Customer Info'!$D$18),)","v":0},{"$f":"IF($F$4=\"other\",IF(U235=0,,(U235/$E$7)*'Customer Info'!$D$18),)","v":0},0,{"$f":"IF($F$5=\"breakfast\",IF(R235=0,,(R235/$E$4)*'Customer Info'!$D$19),)","v":0},{"$f":"IF($F$5=\"dinner\",IF(T235=0,,(T235/$E$6)*'Customer Info'!$D$19),)","v":0},{"$f":"IF($F$5=\"other\",IF(U235=0,,(U235/$E$7)*'Customer Info'!$D$19),)","v":0},0,{"$f":"IF($F$6=\"breakfast\",IF(R235=0,,(R235/$E$4)*'Customer Info'!$D$20),)","v":0},{"$f":"IF($F$6=\"lunch\",IF(S235=0,,(S235/$E$5)*'Customer Info'!$D$20),)","v":0},{"$f":"IF($F$6=\"other\",IF(U235=0,,(U235/$E$7)*'Customer Info'!$D$20),)","v":0},0,{"$f":"IF($F$7=\"breakfast\",IF(R235=0,,(R235/$E$4)*'Customer Info'!$D$21),)","v":0},{"$f":"IF($F$7=\"lunch\",IF(S235=0,,(S235/$E$5)*'Customer Info'!$D$21),)","v":0},{"$f":"IF($F$7=\"dinner\",IF(T235=0,,(T235/$E$6)*'Customer Info'!$D$21),)","v":0},0,{"$f":"IF($F$10=\"lunch\",IF(W235=0,,(W235/$E$11)*'Customer Info'!$F$18),)","v":0},{"$f":"IF($F$10=\"dinner\",IF(X235=0,,(X235/$E$12)*'Customer Info'!$F$18),)","v":0},{"$f":"IF($F$10=\"other\",IF(Y235=0,,(Y235/$E$13)*'Customer Info'!$F$18),)","v":0},0,{"$f":"IF($F$11=\"breakfast\",IF(V235=0,,(V235/$E$10)*'Customer Info'!$F$19),)","v":0},{"$f":"IF($F$11=\"dinner\",IF(X235=0,,(X235/$E$12)*'Customer Info'!$F$19),)","v":0},{"$f":"IF($F$11=\"other\",IF(Y235=0,,(Y235/$E$13)*'Customer Info'!$F$19),)","v":0},0,{"$f":"IF($F$12=\"breakfast\",IF(V235=0,,(V235/$E$10)*'Customer Info'!$F$20),)","v":0},{"$f":"IF($F$12=\"lunch\",IF(W235=0,,(W235/$E$11)*'Customer Info'!$F$20),)","v":0},{"$f":"IF($F$12=\"other\",IF(Y235=0,,(Y235/$E$13)*'Customer Info'!$F$20),)","v":0},0,{"$f":"IF($F$13=\"breakfast\",IF(V235=0,,(V235/$E$10)*'Customer Info'!$F$21),)","v":0},{"$f":"IF($F$13=\"lunch\",IF(W235=0,,(W235/$E$11)*'Customer Info'!$F$21),)","v":0},{"$f":"IF($F$13=\"dinner\",IF(X235=0,,(X235/$E$12)*'Customer Info'!$F$21),)","v":0},0,{"$f":"IF($F$16=\"lunch\",IF(AA235=0,,(AA235/$E$17)*'Customer Info'!$H$18),)","v":0},{"$f":"IF($F$16=\"dinner\",IF(AB235=0,,(AB235/$E$18)*'Customer Info'!$H$18),)","v":0},{"$f":"IF($F$16=\"other\",IF(AC235=0,,(AC235/$E$19)*'Customer Info'!$H$18),)","v":0},0,{"$f":"IF($F$17=\"breakfast\",IF(Z235=0,,(Z235/$E$16)*'Customer Info'!$H$19),)","v":0},{"$f":"IF($F$17=\"dinner\",IF(AB235=0,,(AB235/$E$18)*'Customer Info'!$H$19),)","v":0},{"$f":"IF($F$17=\"other\",IF(AC235=0,,(AC235/$E$19)*'Customer Info'!$H$19),)","v":0},0,{"$f":"IF($F$18=\"breakfast\",IF(Z235=0,,(Z235/$E$16)*'Customer Info'!$H$20),)","v":0},{"$f":"IF($F$18=\"lunch\",IF(AA235=0,,(AA235/$E$17)*'Customer Info'!$H$20),)","v":0},{"$f":"IF($F$18=\"other\",IF(AC235=0,,(AC235/$E$19)*'Customer Info'!$H$20),)","v":0},0,{"$f":"IF($F$19=\"breakfast\",IF(Z235=0,,(Z235/$E$16)*'Customer Info'!$H$21),)","v":0},{"$f":"IF($F$19=\"lunch\",IF(AA235=0,,(AA235/$E$17)*'Customer Info'!$H$21),)","v":0},{"$f":"IF($F$19=\"dinner\",IF(AB235=0,,(AB235/$E$18)*'Customer Info'!$H$21),)","v":0},0,0,0,0,0,""]
[null,null,null,null,null,null,null,null,null,null,0,0,0,0,0,0,0,0,0,0,0,0,0,0,0,0,0,0,0,0,0,0,0,{"$f":"IF((OR($F$4=0,$F$4=\"none\")),IF(R236=0,,IF(OR($E$4='Customer Info'!$D$18,$E$4=0),R236,(R236/$E$4)*'Customer Info'!$D$18)),)","v":0},{"$f":"IF((OR($F$5=0,$F$5=\"none\")),IF(S236=0,,IF(OR($E$5='Customer Info'!$D$18,$E$5=0),S236,(S236/$E$5)*'Customer Info'!$D$19)),)","v":0},{"$f":"IF((OR($F$6=0,$F$6=\"none\")),IF(T236=0,,IF(OR($E$6='Customer Info'!$D$18,$E$6=0),T236,(T236/$E$6)*'Customer Info'!$D$20)),)","v":0},{"$f":"IF((OR($F$7=0,$F$7=\"none\")),IF(U236=0,,IF(OR($E$7='Customer Info'!$D$18,$E$7=0),U236,(U236/$E$7)*'Customer Info'!$D$21)),)","v":0},{"$f":"IF((OR($F$10=0,$F$10=\"none\")),IF(V236=0,,IF(OR($E$10='Customer Info'!$F$18,$E$10=0),V236,(V236/$E$10)*'Customer Info'!$F$18)),)","v":0},{"$f":"IF((OR($F$11=0,$F$11=\"none\")),IF(W236=0,,IF(OR($E$11='Customer Info'!$F$19,$E$11=0),W236,(W236/$E$11)*'Customer Info'!$F$19)),)","v":0},{"$f":"IF((OR($F$12=0,$F$12=\"none\")),IF(X236=0,,IF(OR($E$12='Customer Info'!$F$20,$E$12=0),X236,(X236/$E$12)*'Customer Info'!$F$20)),)","v":0},{"$f":"IF((OR($F$13=0,$F$13=\"none\")),IF(Y236=0,,IF(OR($E$13='Customer Info'!$F$21,$E$13=0),Y236,(Y236/$E$13)*'Customer Info'!$F$21)),)","v":0},{"$f":"IF((OR($F$16=0,$F$16=\"none\")),IF(Z236=0,,IF(OR($E$16='Customer Info'!$H$18,$E$16=0),Z236,(Z236/$E$16)*'Customer Info'!$H$18)),)","v":0},{"$f":"IF((OR($F$17=0,$F$17=\"none\")),IF(AA236=0,,IF(OR($E$17='Customer Info'!$H$19,$E$17=0),AA236,(AA236/$E$17)*'Customer Info'!$H$19)),)","v":0},{"$f":"IF((OR($F$18=0,$F$18=\"none\")),IF(AB236=0,,IF(OR($E$18='Customer Info'!$H$20,$E$18=0),AB236,(AB236/$E$18)*'Customer Info'!$H$20)),)","v":0},{"$f":"IF((OR($F$19=0,$F$19=\"none\")),IF(AC236=0,,IF(OR($E$19='Customer Info'!$H$21,$E$19=0),AC236,(AC236/$E$19)*'Customer Info'!$H$21)),)","v":0},{"$f":"IF((OR($F$4=0,$F$4=\"none\")),IF(AD236=0,,IF(OR($E$4='Customer Info'!$D$18,$E$4=0),AD236,(AD236/$E$4)*'Customer Info'!$D$18)),)","v":0},{"$f":"IF((OR($F$5=0,$F$5=\"none\")),IF(AE236=0,,IF(OR($E$5='Customer Info'!$D$19,$E$5=0),AE236,(AE236/$E$5)*'Customer Info'!$D$19)),)","v":0},{"$f":"IF((OR($F$6=0,$F$6=\"none\")),IF(AF236=0,,IF(OR($E$6='Customer Info'!$D$20,$E$6=0),AF236,(AF236/$E$6)*'Customer Info'!$D$20)),)","v":0},{"$f":"IF((OR($F$7=0,$F$7=\"none\")),IF(AG236=0,,IF(OR($E$7='Customer Info'!$D$21,$E$7=0),AG236,(AG236/$E$7)*'Customer Info'!$D$21)),)","v":0},0,0,{"$f":"IF(E236=\"plate waste\",,IF('Customer Info'!$M$18=0,'Log Sheet'!AY236,'Customer Info'!$M$18*'Log Sheet'!AY236))","v":0},{"$f":"IF(E236=\"plate waste\",IF(OR(C236=\"patient\",C236=\"patient beverages\"),IF('Customer Info'!$M$27=0,AY236*'Customer Info'!$M$18,AY236*'Customer Info'!$M$27),IF(C236=\"cafeteria\",IF('Customer Info'!$M$28=0,AY236*'Customer Info'!$M$18,AY236*'Customer Info'!$M$28),IF(C236=\"other1\",IF('Customer Info'!$M$29=0,AY236*'Customer Info'!$M$18,AY236*'Customer Info'!$M$29),))),)","v":0},0,{"$f":"IF($F$4=\"lunch\",IF(S236=0,,(S236/$E$5)*'Customer Info'!$D$18),)","v":0},{"$f":"IF($F$4=\"dinner\",IF(T236=0,,(T236/$E$6)*'Customer Info'!$D$18),)","v":0},{"$f":"IF($F$4=\"other\",IF(U236=0,,(U236/$E$7)*'Customer Info'!$D$18),)","v":0},0,{"$f":"IF($F$5=\"breakfast\",IF(R236=0,,(R236/$E$4)*'Customer Info'!$D$19),)","v":0},{"$f":"IF($F$5=\"dinner\",IF(T236=0,,(T236/$E$6)*'Customer Info'!$D$19),)","v":0},{"$f":"IF($F$5=\"other\",IF(U236=0,,(U236/$E$7)*'Customer Info'!$D$19),)","v":0},0,{"$f":"IF($F$6=\"breakfast\",IF(R236=0,,(R236/$E$4)*'Customer Info'!$D$20),)","v":0},{"$f":"IF($F$6=\"lunch\",IF(S236=0,,(S236/$E$5)*'Customer Info'!$D$20),)","v":0},{"$f":"IF($F$6=\"other\",IF(U236=0,,(U236/$E$7)*'Customer Info'!$D$20),)","v":0},0,{"$f":"IF($F$7=\"breakfast\",IF(R236=0,,(R236/$E$4)*'Customer Info'!$D$21),)","v":0},{"$f":"IF($F$7=\"lunch\",IF(S236=0,,(S236/$E$5)*'Customer Info'!$D$21),)","v":0},{"$f":"IF($F$7=\"dinner\",IF(T236=0,,(T236/$E$6)*'Customer Info'!$D$21),)","v":0},0,{"$f":"IF($F$10=\"lunch\",IF(W236=0,,(W236/$E$11)*'Customer Info'!$F$18),)","v":0},{"$f":"IF($F$10=\"dinner\",IF(X236=0,,(X236/$E$12)*'Customer Info'!$F$18),)","v":0},{"$f":"IF($F$10=\"other\",IF(Y236=0,,(Y236/$E$13)*'Customer Info'!$F$18),)","v":0},0,{"$f":"IF($F$11=\"breakfast\",IF(V236=0,,(V236/$E$10)*'Customer Info'!$F$19),)","v":0},{"$f":"IF($F$11=\"dinner\",IF(X236=0,,(X236/$E$12)*'Customer Info'!$F$19),)","v":0},{"$f":"IF($F$11=\"other\",IF(Y236=0,,(Y236/$E$13)*'Customer Info'!$F$19),)","v":0},0,{"$f":"IF($F$12=\"breakfast\",IF(V236=0,,(V236/$E$10)*'Customer Info'!$F$20),)","v":0},{"$f":"IF($F$12=\"lunch\",IF(W236=0,,(W236/$E$11)*'Customer Info'!$F$20),)","v":0},{"$f":"IF($F$12=\"other\",IF(Y236=0,,(Y236/$E$13)*'Customer Info'!$F$20),)","v":0},0,{"$f":"IF($F$13=\"breakfast\",IF(V236=0,,(V236/$E$10)*'Customer Info'!$F$21),)","v":0},{"$f":"IF($F$13=\"lunch\",IF(W236=0,,(W236/$E$11)*'Customer Info'!$F$21),)","v":0},{"$f":"IF($F$13=\"dinner\",IF(X236=0,,(X236/$E$12)*'Customer Info'!$F$21),)","v":0},0,{"$f":"IF($F$16=\"lunch\",IF(AA236=0,,(AA236/$E$17)*'Customer Info'!$H$18),)","v":0},{"$f":"IF($F$16=\"dinner\",IF(AB236=0,,(AB236/$E$18)*'Customer Info'!$H$18),)","v":0},{"$f":"IF($F$16=\"other\",IF(AC236=0,,(AC236/$E$19)*'Customer Info'!$H$18),)","v":0},0,{"$f":"IF($F$17=\"breakfast\",IF(Z236=0,,(Z236/$E$16)*'Customer Info'!$H$19),)","v":0},{"$f":"IF($F$17=\"dinner\",IF(AB236=0,,(AB236/$E$18)*'Customer Info'!$H$19),)","v":0},{"$f":"IF($F$17=\"other\",IF(AC236=0,,(AC236/$E$19)*'Customer Info'!$H$19),)","v":0},0,{"$f":"IF($F$18=\"breakfast\",IF(Z236=0,,(Z236/$E$16)*'Customer Info'!$H$20),)","v":0},{"$f":"IF($F$18=\"lunch\",IF(AA236=0,,(AA236/$E$17)*'Customer Info'!$H$20),)","v":0},{"$f":"IF($F$18=\"other\",IF(AC236=0,,(AC236/$E$19)*'Customer Info'!$H$20),)","v":0},0,{"$f":"IF($F$19=\"breakfast\",IF(Z236=0,,(Z236/$E$16)*'Customer Info'!$H$21),)","v":0},{"$f":"IF($F$19=\"lunch\",IF(AA236=0,,(AA236/$E$17)*'Customer Info'!$H$21),)","v":0},{"$f":"IF($F$19=\"dinner\",IF(AB236=0,,(AB236/$E$18)*'Customer Info'!$H$21),)","v":0},0,0,0,0,0,""]
[null,null,null,null,null,null,null,null,null,null,0,0,0,0,0,0,0,0,0,0,0,0,0,0,0,0,0,0,0,0,0,0,0,{"$f":"IF((OR($F$4=0,$F$4=\"none\")),IF(R237=0,,IF(OR($E$4='Customer Info'!$D$18,$E$4=0),R237,(R237/$E$4)*'Customer Info'!$D$18)),)","v":0},{"$f":"IF((OR($F$5=0,$F$5=\"none\")),IF(S237=0,,IF(OR($E$5='Customer Info'!$D$18,$E$5=0),S237,(S237/$E$5)*'Customer Info'!$D$19)),)","v":0},{"$f":"IF((OR($F$6=0,$F$6=\"none\")),IF(T237=0,,IF(OR($E$6='Customer Info'!$D$18,$E$6=0),T237,(T237/$E$6)*'Customer Info'!$D$20)),)","v":0},{"$f":"IF((OR($F$7=0,$F$7=\"none\")),IF(U237=0,,IF(OR($E$7='Customer Info'!$D$18,$E$7=0),U237,(U237/$E$7)*'Customer Info'!$D$21)),)","v":0},{"$f":"IF((OR($F$10=0,$F$10=\"none\")),IF(V237=0,,IF(OR($E$10='Customer Info'!$F$18,$E$10=0),V237,(V237/$E$10)*'Customer Info'!$F$18)),)","v":0},{"$f":"IF((OR($F$11=0,$F$11=\"none\")),IF(W237=0,,IF(OR($E$11='Customer Info'!$F$19,$E$11=0),W237,(W237/$E$11)*'Customer Info'!$F$19)),)","v":0},{"$f":"IF((OR($F$12=0,$F$12=\"none\")),IF(X237=0,,IF(OR($E$12='Customer Info'!$F$20,$E$12=0),X237,(X237/$E$12)*'Customer Info'!$F$20)),)","v":0},{"$f":"IF((OR($F$13=0,$F$13=\"none\")),IF(Y237=0,,IF(OR($E$13='Customer Info'!$F$21,$E$13=0),Y237,(Y237/$E$13)*'Customer Info'!$F$21)),)","v":0},{"$f":"IF((OR($F$16=0,$F$16=\"none\")),IF(Z237=0,,IF(OR($E$16='Customer Info'!$H$18,$E$16=0),Z237,(Z237/$E$16)*'Customer Info'!$H$18)),)","v":0},{"$f":"IF((OR($F$17=0,$F$17=\"none\")),IF(AA237=0,,IF(OR($E$17='Customer Info'!$H$19,$E$17=0),AA237,(AA237/$E$17)*'Customer Info'!$H$19)),)","v":0},{"$f":"IF((OR($F$18=0,$F$18=\"none\")),IF(AB237=0,,IF(OR($E$18='Customer Info'!$H$20,$E$18=0),AB237,(AB237/$E$18)*'Customer Info'!$H$20)),)","v":0},{"$f":"IF((OR($F$19=0,$F$19=\"none\")),IF(AC237=0,,IF(OR($E$19='Customer Info'!$H$21,$E$19=0),AC237,(AC237/$E$19)*'Customer Info'!$H$21)),)","v":0},{"$f":"IF((OR($F$4=0,$F$4=\"none\")),IF(AD237=0,,IF(OR($E$4='Customer Info'!$D$18,$E$4=0),AD237,(AD237/$E$4)*'Customer Info'!$D$18)),)","v":0},{"$f":"IF((OR($F$5=0,$F$5=\"none\")),IF(AE237=0,,IF(OR($E$5='Customer Info'!$D$19,$E$5=0),AE237,(AE237/$E$5)*'Customer Info'!$D$19)),)","v":0},{"$f":"IF((OR($F$6=0,$F$6=\"none\")),IF(AF237=0,,IF(OR($E$6='Customer Info'!$D$20,$E$6=0),AF237,(AF237/$E$6)*'Customer Info'!$D$20)),)","v":0},{"$f":"IF((OR($F$7=0,$F$7=\"none\")),IF(AG237=0,,IF(OR($E$7='Customer Info'!$D$21,$E$7=0),AG237,(AG237/$E$7)*'Customer Info'!$D$21)),)","v":0},0,0,{"$f":"IF(E237=\"plate waste\",,IF('Customer Info'!$M$18=0,'Log Sheet'!AY237,'Customer Info'!$M$18*'Log Sheet'!AY237))","v":0},{"$f":"IF(E237=\"plate waste\",IF(OR(C237=\"patient\",C237=\"patient beverages\"),IF('Customer Info'!$M$27=0,AY237*'Customer Info'!$M$18,AY237*'Customer Info'!$M$27),IF(C237=\"cafeteria\",IF('Customer Info'!$M$28=0,AY237*'Customer Info'!$M$18,AY237*'Customer Info'!$M$28),IF(C237=\"other1\",IF('Customer Info'!$M$29=0,AY237*'Customer Info'!$M$18,AY237*'Customer Info'!$M$29),))),)","v":0},0,{"$f":"IF($F$4=\"lunch\",IF(S237=0,,(S237/$E$5)*'Customer Info'!$D$18),)","v":0},{"$f":"IF($F$4=\"dinner\",IF(T237=0,,(T237/$E$6)*'Customer Info'!$D$18),)","v":0},{"$f":"IF($F$4=\"other\",IF(U237=0,,(U237/$E$7)*'Customer Info'!$D$18),)","v":0},0,{"$f":"IF($F$5=\"breakfast\",IF(R237=0,,(R237/$E$4)*'Customer Info'!$D$19),)","v":0},{"$f":"IF($F$5=\"dinner\",IF(T237=0,,(T237/$E$6)*'Customer Info'!$D$19),)","v":0},{"$f":"IF($F$5=\"other\",IF(U237=0,,(U237/$E$7)*'Customer Info'!$D$19),)","v":0},0,{"$f":"IF($F$6=\"breakfast\",IF(R237=0,,(R237/$E$4)*'Customer Info'!$D$20),)","v":0},{"$f":"IF($F$6=\"lunch\",IF(S237=0,,(S237/$E$5)*'Customer Info'!$D$20),)","v":0},{"$f":"IF($F$6=\"other\",IF(U237=0,,(U237/$E$7)*'Customer Info'!$D$20),)","v":0},0,{"$f":"IF($F$7=\"breakfast\",IF(R237=0,,(R237/$E$4)*'Customer Info'!$D$21),)","v":0},{"$f":"IF($F$7=\"lunch\",IF(S237=0,,(S237/$E$5)*'Customer Info'!$D$21),)","v":0},{"$f":"IF($F$7=\"dinner\",IF(T237=0,,(T237/$E$6)*'Customer Info'!$D$21),)","v":0},0,{"$f":"IF($F$10=\"lunch\",IF(W237=0,,(W237/$E$11)*'Customer Info'!$F$18),)","v":0},{"$f":"IF($F$10=\"dinner\",IF(X237=0,,(X237/$E$12)*'Customer Info'!$F$18),)","v":0},{"$f":"IF($F$10=\"other\",IF(Y237=0,,(Y237/$E$13)*'Customer Info'!$F$18),)","v":0},0,{"$f":"IF($F$11=\"breakfast\",IF(V237=0,,(V237/$E$10)*'Customer Info'!$F$19),)","v":0},{"$f":"IF($F$11=\"dinner\",IF(X237=0,,(X237/$E$12)*'Customer Info'!$F$19),)","v":0},{"$f":"IF($F$11=\"other\",IF(Y237=0,,(Y237/$E$13)*'Customer Info'!$F$19),)","v":0},0,{"$f":"IF($F$12=\"breakfast\",IF(V237=0,,(V237/$E$10)*'Customer Info'!$F$20),)","v":0},{"$f":"IF($F$12=\"lunch\",IF(W237=0,,(W237/$E$11)*'Customer Info'!$F$20),)","v":0},{"$f":"IF($F$12=\"other\",IF(Y237=0,,(Y237/$E$13)*'Customer Info'!$F$20),)","v":0},0,{"$f":"IF($F$13=\"breakfast\",IF(V237=0,,(V237/$E$10)*'Customer Info'!$F$21),)","v":0},{"$f":"IF($F$13=\"lunch\",IF(W237=0,,(W237/$E$11)*'Customer Info'!$F$21),)","v":0},{"$f":"IF($F$13=\"dinner\",IF(X237=0,,(X237/$E$12)*'Customer Info'!$F$21),)","v":0},0,{"$f":"IF($F$16=\"lunch\",IF(AA237=0,,(AA237/$E$17)*'Customer Info'!$H$18),)","v":0},{"$f":"IF($F$16=\"dinner\",IF(AB237=0,,(AB237/$E$18)*'Customer Info'!$H$18),)","v":0},{"$f":"IF($F$16=\"other\",IF(AC237=0,,(AC237/$E$19)*'Customer Info'!$H$18),)","v":0},0,{"$f":"IF($F$17=\"breakfast\",IF(Z237=0,,(Z237/$E$16)*'Customer Info'!$H$19),)","v":0},{"$f":"IF($F$17=\"dinner\",IF(AB237=0,,(AB237/$E$18)*'Customer Info'!$H$19),)","v":0},{"$f":"IF($F$17=\"other\",IF(AC237=0,,(AC237/$E$19)*'Customer Info'!$H$19),)","v":0},0,{"$f":"IF($F$18=\"breakfast\",IF(Z237=0,,(Z237/$E$16)*'Customer Info'!$H$20),)","v":0},{"$f":"IF($F$18=\"lunch\",IF(AA237=0,,(AA237/$E$17)*'Customer Info'!$H$20),)","v":0},{"$f":"IF($F$18=\"other\",IF(AC237=0,,(AC237/$E$19)*'Customer Info'!$H$20),)","v":0},0,{"$f":"IF($F$19=\"breakfast\",IF(Z237=0,,(Z237/$E$16)*'Customer Info'!$H$21),)","v":0},{"$f":"IF($F$19=\"lunch\",IF(AA237=0,,(AA237/$E$17)*'Customer Info'!$H$21),)","v":0},{"$f":"IF($F$19=\"dinner\",IF(AB237=0,,(AB237/$E$18)*'Customer Info'!$H$21),)","v":0},0,0,0,0,0,""]
[null,null,null,null,null,null,null,null,null,null,0,0,0,0,0,0,0,0,0,0,0,0,0,0,0,0,0,0,0,0,0,0,0,{"$f":"IF((OR($F$4=0,$F$4=\"none\")),IF(R238=0,,IF(OR($E$4='Customer Info'!$D$18,$E$4=0),R238,(R238/$E$4)*'Customer Info'!$D$18)),)","v":0},{"$f":"IF((OR($F$5=0,$F$5=\"none\")),IF(S238=0,,IF(OR($E$5='Customer Info'!$D$18,$E$5=0),S238,(S238/$E$5)*'Customer Info'!$D$19)),)","v":0},{"$f":"IF((OR($F$6=0,$F$6=\"none\")),IF(T238=0,,IF(OR($E$6='Customer Info'!$D$18,$E$6=0),T238,(T238/$E$6)*'Customer Info'!$D$20)),)","v":0},{"$f":"IF((OR($F$7=0,$F$7=\"none\")),IF(U238=0,,IF(OR($E$7='Customer Info'!$D$18,$E$7=0),U238,(U238/$E$7)*'Customer Info'!$D$21)),)","v":0},{"$f":"IF((OR($F$10=0,$F$10=\"none\")),IF(V238=0,,IF(OR($E$10='Customer Info'!$F$18,$E$10=0),V238,(V238/$E$10)*'Customer Info'!$F$18)),)","v":0},{"$f":"IF((OR($F$11=0,$F$11=\"none\")),IF(W238=0,,IF(OR($E$11='Customer Info'!$F$19,$E$11=0),W238,(W238/$E$11)*'Customer Info'!$F$19)),)","v":0},{"$f":"IF((OR($F$12=0,$F$12=\"none\")),IF(X238=0,,IF(OR($E$12='Customer Info'!$F$20,$E$12=0),X238,(X238/$E$12)*'Customer Info'!$F$20)),)","v":0},{"$f":"IF((OR($F$13=0,$F$13=\"none\")),IF(Y238=0,,IF(OR($E$13='Customer Info'!$F$21,$E$13=0),Y238,(Y238/$E$13)*'Customer Info'!$F$21)),)","v":0},{"$f":"IF((OR($F$16=0,$F$16=\"none\")),IF(Z238=0,,IF(OR($E$16='Customer Info'!$H$18,$E$16=0),Z238,(Z238/$E$16)*'Customer Info'!$H$18)),)","v":0},{"$f":"IF((OR($F$17=0,$F$17=\"none\")),IF(AA238=0,,IF(OR($E$17='Customer Info'!$H$19,$E$17=0),AA238,(AA238/$E$17)*'Customer Info'!$H$19)),)","v":0},{"$f":"IF((OR($F$18=0,$F$18=\"none\")),IF(AB238=0,,IF(OR($E$18='Customer Info'!$H$20,$E$18=0),AB238,(AB238/$E$18)*'Customer Info'!$H$20)),)","v":0},{"$f":"IF((OR($F$19=0,$F$19=\"none\")),IF(AC238=0,,IF(OR($E$19='Customer Info'!$H$21,$E$19=0),AC238,(AC238/$E$19)*'Customer Info'!$H$21)),)","v":0},{"$f":"IF((OR($F$4=0,$F$4=\"none\")),IF(AD238=0,,IF(OR($E$4='Customer Info'!$D$18,$E$4=0),AD238,(AD238/$E$4)*'Customer Info'!$D$18)),)","v":0},{"$f":"IF((OR($F$5=0,$F$5=\"none\")),IF(AE238=0,,IF(OR($E$5='Customer Info'!$D$19,$E$5=0),AE238,(AE238/$E$5)*'Customer Info'!$D$19)),)","v":0},{"$f":"IF((OR($F$6=0,$F$6=\"none\")),IF(AF238=0,,IF(OR($E$6='Customer Info'!$D$20,$E$6=0),AF238,(AF238/$E$6)*'Customer Info'!$D$20)),)","v":0},{"$f":"IF((OR($F$7=0,$F$7=\"none\")),IF(AG238=0,,IF(OR($E$7='Customer Info'!$D$21,$E$7=0),AG238,(AG238/$E$7)*'Customer Info'!$D$21)),)","v":0},0,0,{"$f":"IF(E238=\"plate waste\",,IF('Customer Info'!$M$18=0,'Log Sheet'!AY238,'Customer Info'!$M$18*'Log Sheet'!AY238))","v":0},{"$f":"IF(E238=\"plate waste\",IF(OR(C238=\"patient\",C238=\"patient beverages\"),IF('Customer Info'!$M$27=0,AY238*'Customer Info'!$M$18,AY238*'Customer Info'!$M$27),IF(C238=\"cafeteria\",IF('Customer Info'!$M$28=0,AY238*'Customer Info'!$M$18,AY238*'Customer Info'!$M$28),IF(C238=\"other1\",IF('Customer Info'!$M$29=0,AY238*'Customer Info'!$M$18,AY238*'Customer Info'!$M$29),))),)","v":0},0,{"$f":"IF($F$4=\"lunch\",IF(S238=0,,(S238/$E$5)*'Customer Info'!$D$18),)","v":0},{"$f":"IF($F$4=\"dinner\",IF(T238=0,,(T238/$E$6)*'Customer Info'!$D$18),)","v":0},{"$f":"IF($F$4=\"other\",IF(U238=0,,(U238/$E$7)*'Customer Info'!$D$18),)","v":0},0,{"$f":"IF($F$5=\"breakfast\",IF(R238=0,,(R238/$E$4)*'Customer Info'!$D$19),)","v":0},{"$f":"IF($F$5=\"dinner\",IF(T238=0,,(T238/$E$6)*'Customer Info'!$D$19),)","v":0},{"$f":"IF($F$5=\"other\",IF(U238=0,,(U238/$E$7)*'Customer Info'!$D$19),)","v":0},0,{"$f":"IF($F$6=\"breakfast\",IF(R238=0,,(R238/$E$4)*'Customer Info'!$D$20),)","v":0},{"$f":"IF($F$6=\"lunch\",IF(S238=0,,(S238/$E$5)*'Customer Info'!$D$20),)","v":0},{"$f":"IF($F$6=\"other\",IF(U238=0,,(U238/$E$7)*'Customer Info'!$D$20),)","v":0},0,{"$f":"IF($F$7=\"breakfast\",IF(R238=0,,(R238/$E$4)*'Customer Info'!$D$21),)","v":0},{"$f":"IF($F$7=\"lunch\",IF(S238=0,,(S238/$E$5)*'Customer Info'!$D$21),)","v":0},{"$f":"IF($F$7=\"dinner\",IF(T238=0,,(T238/$E$6)*'Customer Info'!$D$21),)","v":0},0,{"$f":"IF($F$10=\"lunch\",IF(W238=0,,(W238/$E$11)*'Customer Info'!$F$18),)","v":0},{"$f":"IF($F$10=\"dinner\",IF(X238=0,,(X238/$E$12)*'Customer Info'!$F$18),)","v":0},{"$f":"IF($F$10=\"other\",IF(Y238=0,,(Y238/$E$13)*'Customer Info'!$F$18),)","v":0},0,{"$f":"IF($F$11=\"breakfast\",IF(V238=0,,(V238/$E$10)*'Customer Info'!$F$19),)","v":0},{"$f":"IF($F$11=\"dinner\",IF(X238=0,,(X238/$E$12)*'Customer Info'!$F$19),)","v":0},{"$f":"IF($F$11=\"other\",IF(Y238=0,,(Y238/$E$13)*'Customer Info'!$F$19),)","v":0},0,{"$f":"IF($F$12=\"breakfast\",IF(V238=0,,(V238/$E$10)*'Customer Info'!$F$20),)","v":0},{"$f":"IF($F$12=\"lunch\",IF(W238=0,,(W238/$E$11)*'Customer Info'!$F$20),)","v":0},{"$f":"IF($F$12=\"other\",IF(Y238=0,,(Y238/$E$13)*'Customer Info'!$F$20),)","v":0},0,{"$f":"IF($F$13=\"breakfast\",IF(V238=0,,(V238/$E$10)*'Customer Info'!$F$21),)","v":0},{"$f":"IF($F$13=\"lunch\",IF(W238=0,,(W238/$E$11)*'Customer Info'!$F$21),)","v":0},{"$f":"IF($F$13=\"dinner\",IF(X238=0,,(X238/$E$12)*'Customer Info'!$F$21),)","v":0},0,{"$f":"IF($F$16=\"lunch\",IF(AA238=0,,(AA238/$E$17)*'Customer Info'!$H$18),)","v":0},{"$f":"IF($F$16=\"dinner\",IF(AB238=0,,(AB238/$E$18)*'Customer Info'!$H$18),)","v":0},{"$f":"IF($F$16=\"other\",IF(AC238=0,,(AC238/$E$19)*'Customer Info'!$H$18),)","v":0},0,{"$f":"IF($F$17=\"breakfast\",IF(Z238=0,,(Z238/$E$16)*'Customer Info'!$H$19),)","v":0},{"$f":"IF($F$17=\"dinner\",IF(AB238=0,,(AB238/$E$18)*'Customer Info'!$H$19),)","v":0},{"$f":"IF($F$17=\"other\",IF(AC238=0,,(AC238/$E$19)*'Customer Info'!$H$19),)","v":0},0,{"$f":"IF($F$18=\"breakfast\",IF(Z238=0,,(Z238/$E$16)*'Customer Info'!$H$20),)","v":0},{"$f":"IF($F$18=\"lunch\",IF(AA238=0,,(AA238/$E$17)*'Customer Info'!$H$20),)","v":0},{"$f":"IF($F$18=\"other\",IF(AC238=0,,(AC238/$E$19)*'Customer Info'!$H$20),)","v":0},0,{"$f":"IF($F$19=\"breakfast\",IF(Z238=0,,(Z238/$E$16)*'Customer Info'!$H$21),)","v":0},{"$f":"IF($F$19=\"lunch\",IF(AA238=0,,(AA238/$E$17)*'Customer Info'!$H$21),)","v":0},{"$f":"IF($F$19=\"dinner\",IF(AB238=0,,(AB238/$E$18)*'Customer Info'!$H$21),)","v":0},0,0,0,0,0,""]
[null,null,null,null,null,null,null,null,null,null,0,0,0,0,0,0,0,0,0,0,0,0,0,0,0,0,0,0,0,0,0,0,0,{"$f":"IF((OR($F$4=0,$F$4=\"none\")),IF(R239=0,,IF(OR($E$4='Customer Info'!$D$18,$E$4=0),R239,(R239/$E$4)*'Customer Info'!$D$18)),)","v":0},{"$f":"IF((OR($F$5=0,$F$5=\"none\")),IF(S239=0,,IF(OR($E$5='Customer Info'!$D$18,$E$5=0),S239,(S239/$E$5)*'Customer Info'!$D$19)),)","v":0},{"$f":"IF((OR($F$6=0,$F$6=\"none\")),IF(T239=0,,IF(OR($E$6='Customer Info'!$D$18,$E$6=0),T239,(T239/$E$6)*'Customer Info'!$D$20)),)","v":0},{"$f":"IF((OR($F$7=0,$F$7=\"none\")),IF(U239=0,,IF(OR($E$7='Customer Info'!$D$18,$E$7=0),U239,(U239/$E$7)*'Customer Info'!$D$21)),)","v":0},{"$f":"IF((OR($F$10=0,$F$10=\"none\")),IF(V239=0,,IF(OR($E$10='Customer Info'!$F$18,$E$10=0),V239,(V239/$E$10)*'Customer Info'!$F$18)),)","v":0},{"$f":"IF((OR($F$11=0,$F$11=\"none\")),IF(W239=0,,IF(OR($E$11='Customer Info'!$F$19,$E$11=0),W239,(W239/$E$11)*'Customer Info'!$F$19)),)","v":0},{"$f":"IF((OR($F$12=0,$F$12=\"none\")),IF(X239=0,,IF(OR($E$12='Customer Info'!$F$20,$E$12=0),X239,(X239/$E$12)*'Customer Info'!$F$20)),)","v":0},{"$f":"IF((OR($F$13=0,$F$13=\"none\")),IF(Y239=0,,IF(OR($E$13='Customer Info'!$F$21,$E$13=0),Y239,(Y239/$E$13)*'Customer Info'!$F$21)),)","v":0},{"$f":"IF((OR($F$16=0,$F$16=\"none\")),IF(Z239=0,,IF(OR($E$16='Customer Info'!$H$18,$E$16=0),Z239,(Z239/$E$16)*'Customer Info'!$H$18)),)","v":0},{"$f":"IF((OR($F$17=0,$F$17=\"none\")),IF(AA239=0,,IF(OR($E$17='Customer Info'!$H$19,$E$17=0),AA239,(AA239/$E$17)*'Customer Info'!$H$19)),)","v":0},{"$f":"IF((OR($F$18=0,$F$18=\"none\")),IF(AB239=0,,IF(OR($E$18='Customer Info'!$H$20,$E$18=0),AB239,(AB239/$E$18)*'Customer Info'!$H$20)),)","v":0},{"$f":"IF((OR($F$19=0,$F$19=\"none\")),IF(AC239=0,,IF(OR($E$19='Customer Info'!$H$21,$E$19=0),AC239,(AC239/$E$19)*'Customer Info'!$H$21)),)","v":0},{"$f":"IF((OR($F$4=0,$F$4=\"none\")),IF(AD239=0,,IF(OR($E$4='Customer Info'!$D$18,$E$4=0),AD239,(AD239/$E$4)*'Customer Info'!$D$18)),)","v":0},{"$f":"IF((OR($F$5=0,$F$5=\"none\")),IF(AE239=0,,IF(OR($E$5='Customer Info'!$D$19,$E$5=0),AE239,(AE239/$E$5)*'Customer Info'!$D$19)),)","v":0},{"$f":"IF((OR($F$6=0,$F$6=\"none\")),IF(AF239=0,,IF(OR($E$6='Customer Info'!$D$20,$E$6=0),AF239,(AF239/$E$6)*'Customer Info'!$D$20)),)","v":0},{"$f":"IF((OR($F$7=0,$F$7=\"none\")),IF(AG239=0,,IF(OR($E$7='Customer Info'!$D$21,$E$7=0),AG239,(AG239/$E$7)*'Customer Info'!$D$21)),)","v":0},0,0,{"$f":"IF(E239=\"plate waste\",,IF('Customer Info'!$M$18=0,'Log Sheet'!AY239,'Customer Info'!$M$18*'Log Sheet'!AY239))","v":0},{"$f":"IF(E239=\"plate waste\",IF(OR(C239=\"patient\",C239=\"patient beverages\"),IF('Customer Info'!$M$27=0,AY239*'Customer Info'!$M$18,AY239*'Customer Info'!$M$27),IF(C239=\"cafeteria\",IF('Customer Info'!$M$28=0,AY239*'Customer Info'!$M$18,AY239*'Customer Info'!$M$28),IF(C239=\"other1\",IF('Customer Info'!$M$29=0,AY239*'Customer Info'!$M$18,AY239*'Customer Info'!$M$29),))),)","v":0},0,{"$f":"IF($F$4=\"lunch\",IF(S239=0,,(S239/$E$5)*'Customer Info'!$D$18),)","v":0},{"$f":"IF($F$4=\"dinner\",IF(T239=0,,(T239/$E$6)*'Customer Info'!$D$18),)","v":0},{"$f":"IF($F$4=\"other\",IF(U239=0,,(U239/$E$7)*'Customer Info'!$D$18),)","v":0},0,{"$f":"IF($F$5=\"breakfast\",IF(R239=0,,(R239/$E$4)*'Customer Info'!$D$19),)","v":0},{"$f":"IF($F$5=\"dinner\",IF(T239=0,,(T239/$E$6)*'Customer Info'!$D$19),)","v":0},{"$f":"IF($F$5=\"other\",IF(U239=0,,(U239/$E$7)*'Customer Info'!$D$19),)","v":0},0,{"$f":"IF($F$6=\"breakfast\",IF(R239=0,,(R239/$E$4)*'Customer Info'!$D$20),)","v":0},{"$f":"IF($F$6=\"lunch\",IF(S239=0,,(S239/$E$5)*'Customer Info'!$D$20),)","v":0},{"$f":"IF($F$6=\"other\",IF(U239=0,,(U239/$E$7)*'Customer Info'!$D$20),)","v":0},0,{"$f":"IF($F$7=\"breakfast\",IF(R239=0,,(R239/$E$4)*'Customer Info'!$D$21),)","v":0},{"$f":"IF($F$7=\"lunch\",IF(S239=0,,(S239/$E$5)*'Customer Info'!$D$21),)","v":0},{"$f":"IF($F$7=\"dinner\",IF(T239=0,,(T239/$E$6)*'Customer Info'!$D$21),)","v":0},0,{"$f":"IF($F$10=\"lunch\",IF(W239=0,,(W239/$E$11)*'Customer Info'!$F$18),)","v":0},{"$f":"IF($F$10=\"dinner\",IF(X239=0,,(X239/$E$12)*'Customer Info'!$F$18),)","v":0},{"$f":"IF($F$10=\"other\",IF(Y239=0,,(Y239/$E$13)*'Customer Info'!$F$18),)","v":0},0,{"$f":"IF($F$11=\"breakfast\",IF(V239=0,,(V239/$E$10)*'Customer Info'!$F$19),)","v":0},{"$f":"IF($F$11=\"dinner\",IF(X239=0,,(X239/$E$12)*'Customer Info'!$F$19),)","v":0},{"$f":"IF($F$11=\"other\",IF(Y239=0,,(Y239/$E$13)*'Customer Info'!$F$19),)","v":0},0,{"$f":"IF($F$12=\"breakfast\",IF(V239=0,,(V239/$E$10)*'Customer Info'!$F$20),)","v":0},{"$f":"IF($F$12=\"lunch\",IF(W239=0,,(W239/$E$11)*'Customer Info'!$F$20),)","v":0},{"$f":"IF($F$12=\"other\",IF(Y239=0,,(Y239/$E$13)*'Customer Info'!$F$20),)","v":0},0,{"$f":"IF($F$13=\"breakfast\",IF(V239=0,,(V239/$E$10)*'Customer Info'!$F$21),)","v":0},{"$f":"IF($F$13=\"lunch\",IF(W239=0,,(W239/$E$11)*'Customer Info'!$F$21),)","v":0},{"$f":"IF($F$13=\"dinner\",IF(X239=0,,(X239/$E$12)*'Customer Info'!$F$21),)","v":0},0,{"$f":"IF($F$16=\"lunch\",IF(AA239=0,,(AA239/$E$17)*'Customer Info'!$H$18),)","v":0},{"$f":"IF($F$16=\"dinner\",IF(AB239=0,,(AB239/$E$18)*'Customer Info'!$H$18),)","v":0},{"$f":"IF($F$16=\"other\",IF(AC239=0,,(AC239/$E$19)*'Customer Info'!$H$18),)","v":0},0,{"$f":"IF($F$17=\"breakfast\",IF(Z239=0,,(Z239/$E$16)*'Customer Info'!$H$19),)","v":0},{"$f":"IF($F$17=\"dinner\",IF(AB239=0,,(AB239/$E$18)*'Customer Info'!$H$19),)","v":0},{"$f":"IF($F$17=\"other\",IF(AC239=0,,(AC239/$E$19)*'Customer Info'!$H$19),)","v":0},0,{"$f":"IF($F$18=\"breakfast\",IF(Z239=0,,(Z239/$E$16)*'Customer Info'!$H$20),)","v":0},{"$f":"IF($F$18=\"lunch\",IF(AA239=0,,(AA239/$E$17)*'Customer Info'!$H$20),)","v":0},{"$f":"IF($F$18=\"other\",IF(AC239=0,,(AC239/$E$19)*'Customer Info'!$H$20),)","v":0},0,{"$f":"IF($F$19=\"breakfast\",IF(Z239=0,,(Z239/$E$16)*'Customer Info'!$H$21),)","v":0},{"$f":"IF($F$19=\"lunch\",IF(AA239=0,,(AA239/$E$17)*'Customer Info'!$H$21),)","v":0},{"$f":"IF($F$19=\"dinner\",IF(AB239=0,,(AB239/$E$18)*'Customer Info'!$H$21),)","v":0},0,0,0,0,0,""]
[null,null,null,null,null,null,null,null,null,null,0,0,0,0,0,0,0,0,0,0,0,0,0,0,0,0,0,0,0,0,0,0,0,{"$f":"IF((OR($F$4=0,$F$4=\"none\")),IF(R240=0,,IF(OR($E$4='Customer Info'!$D$18,$E$4=0),R240,(R240/$E$4)*'Customer Info'!$D$18)),)","v":0},{"$f":"IF((OR($F$5=0,$F$5=\"none\")),IF(S240=0,,IF(OR($E$5='Customer Info'!$D$18,$E$5=0),S240,(S240/$E$5)*'Customer Info'!$D$19)),)","v":0},{"$f":"IF((OR($F$6=0,$F$6=\"none\")),IF(T240=0,,IF(OR($E$6='Customer Info'!$D$18,$E$6=0),T240,(T240/$E$6)*'Customer Info'!$D$20)),)","v":0},{"$f":"IF((OR($F$7=0,$F$7=\"none\")),IF(U240=0,,IF(OR($E$7='Customer Info'!$D$18,$E$7=0),U240,(U240/$E$7)*'Customer Info'!$D$21)),)","v":0},{"$f":"IF((OR($F$10=0,$F$10=\"none\")),IF(V240=0,,IF(OR($E$10='Customer Info'!$F$18,$E$10=0),V240,(V240/$E$10)*'Customer Info'!$F$18)),)","v":0},{"$f":"IF((OR($F$11=0,$F$11=\"none\")),IF(W240=0,,IF(OR($E$11='Customer Info'!$F$19,$E$11=0),W240,(W240/$E$11)*'Customer Info'!$F$19)),)","v":0},{"$f":"IF((OR($F$12=0,$F$12=\"none\")),IF(X240=0,,IF(OR($E$12='Customer Info'!$F$20,$E$12=0),X240,(X240/$E$12)*'Customer Info'!$F$20)),)","v":0},{"$f":"IF((OR($F$13=0,$F$13=\"none\")),IF(Y240=0,,IF(OR($E$13='Customer Info'!$F$21,$E$13=0),Y240,(Y240/$E$13)*'Customer Info'!$F$21)),)","v":0},{"$f":"IF((OR($F$16=0,$F$16=\"none\")),IF(Z240=0,,IF(OR($E$16='Customer Info'!$H$18,$E$16=0),Z240,(Z240/$E$16)*'Customer Info'!$H$18)),)","v":0},{"$f":"IF((OR($F$17=0,$F$17=\"none\")),IF(AA240=0,,IF(OR($E$17='Customer Info'!$H$19,$E$17=0),AA240,(AA240/$E$17)*'Customer Info'!$H$19)),)","v":0},{"$f":"IF((OR($F$18=0,$F$18=\"none\")),IF(AB240=0,,IF(OR($E$18='Customer Info'!$H$20,$E$18=0),AB240,(AB240/$E$18)*'Customer Info'!$H$20)),)","v":0},{"$f":"IF((OR($F$19=0,$F$19=\"none\")),IF(AC240=0,,IF(OR($E$19='Customer Info'!$H$21,$E$19=0),AC240,(AC240/$E$19)*'Customer Info'!$H$21)),)","v":0},{"$f":"IF((OR($F$4=0,$F$4=\"none\")),IF(AD240=0,,IF(OR($E$4='Customer Info'!$D$18,$E$4=0),AD240,(AD240/$E$4)*'Customer Info'!$D$18)),)","v":0},{"$f":"IF((OR($F$5=0,$F$5=\"none\")),IF(AE240=0,,IF(OR($E$5='Customer Info'!$D$19,$E$5=0),AE240,(AE240/$E$5)*'Customer Info'!$D$19)),)","v":0},{"$f":"IF((OR($F$6=0,$F$6=\"none\")),IF(AF240=0,,IF(OR($E$6='Customer Info'!$D$20,$E$6=0),AF240,(AF240/$E$6)*'Customer Info'!$D$20)),)","v":0},{"$f":"IF((OR($F$7=0,$F$7=\"none\")),IF(AG240=0,,IF(OR($E$7='Customer Info'!$D$21,$E$7=0),AG240,(AG240/$E$7)*'Customer Info'!$D$21)),)","v":0},0,0,{"$f":"IF(E240=\"plate waste\",,IF('Customer Info'!$M$18=0,'Log Sheet'!AY240,'Customer Info'!$M$18*'Log Sheet'!AY240))","v":0},{"$f":"IF(E240=\"plate waste\",IF(OR(C240=\"patient\",C240=\"patient beverages\"),IF('Customer Info'!$M$27=0,AY240*'Customer Info'!$M$18,AY240*'Customer Info'!$M$27),IF(C240=\"cafeteria\",IF('Customer Info'!$M$28=0,AY240*'Customer Info'!$M$18,AY240*'Customer Info'!$M$28),IF(C240=\"other1\",IF('Customer Info'!$M$29=0,AY240*'Customer Info'!$M$18,AY240*'Customer Info'!$M$29),))),)","v":0},0,{"$f":"IF($F$4=\"lunch\",IF(S240=0,,(S240/$E$5)*'Customer Info'!$D$18),)","v":0},{"$f":"IF($F$4=\"dinner\",IF(T240=0,,(T240/$E$6)*'Customer Info'!$D$18),)","v":0},{"$f":"IF($F$4=\"other\",IF(U240=0,,(U240/$E$7)*'Customer Info'!$D$18),)","v":0},0,{"$f":"IF($F$5=\"breakfast\",IF(R240=0,,(R240/$E$4)*'Customer Info'!$D$19),)","v":0},{"$f":"IF($F$5=\"dinner\",IF(T240=0,,(T240/$E$6)*'Customer Info'!$D$19),)","v":0},{"$f":"IF($F$5=\"other\",IF(U240=0,,(U240/$E$7)*'Customer Info'!$D$19),)","v":0},0,{"$f":"IF($F$6=\"breakfast\",IF(R240=0,,(R240/$E$4)*'Customer Info'!$D$20),)","v":0},{"$f":"IF($F$6=\"lunch\",IF(S240=0,,(S240/$E$5)*'Customer Info'!$D$20),)","v":0},{"$f":"IF($F$6=\"other\",IF(U240=0,,(U240/$E$7)*'Customer Info'!$D$20),)","v":0},0,{"$f":"IF($F$7=\"breakfast\",IF(R240=0,,(R240/$E$4)*'Customer Info'!$D$21),)","v":0},{"$f":"IF($F$7=\"lunch\",IF(S240=0,,(S240/$E$5)*'Customer Info'!$D$21),)","v":0},{"$f":"IF($F$7=\"dinner\",IF(T240=0,,(T240/$E$6)*'Customer Info'!$D$21),)","v":0},0,{"$f":"IF($F$10=\"lunch\",IF(W240=0,,(W240/$E$11)*'Customer Info'!$F$18),)","v":0},{"$f":"IF($F$10=\"dinner\",IF(X240=0,,(X240/$E$12)*'Customer Info'!$F$18),)","v":0},{"$f":"IF($F$10=\"other\",IF(Y240=0,,(Y240/$E$13)*'Customer Info'!$F$18),)","v":0},0,{"$f":"IF($F$11=\"breakfast\",IF(V240=0,,(V240/$E$10)*'Customer Info'!$F$19),)","v":0},{"$f":"IF($F$11=\"dinner\",IF(X240=0,,(X240/$E$12)*'Customer Info'!$F$19),)","v":0},{"$f":"IF($F$11=\"other\",IF(Y240=0,,(Y240/$E$13)*'Customer Info'!$F$19),)","v":0},0,{"$f":"IF($F$12=\"breakfast\",IF(V240=0,,(V240/$E$10)*'Customer Info'!$F$20),)","v":0},{"$f":"IF($F$12=\"lunch\",IF(W240=0,,(W240/$E$11)*'Customer Info'!$F$20),)","v":0},{"$f":"IF($F$12=\"other\",IF(Y240=0,,(Y240/$E$13)*'Customer Info'!$F$20),)","v":0},0,{"$f":"IF($F$13=\"breakfast\",IF(V240=0,,(V240/$E$10)*'Customer Info'!$F$21),)","v":0},{"$f":"IF($F$13=\"lunch\",IF(W240=0,,(W240/$E$11)*'Customer Info'!$F$21),)","v":0},{"$f":"IF($F$13=\"dinner\",IF(X240=0,,(X240/$E$12)*'Customer Info'!$F$21),)","v":0},0,{"$f":"IF($F$16=\"lunch\",IF(AA240=0,,(AA240/$E$17)*'Customer Info'!$H$18),)","v":0},{"$f":"IF($F$16=\"dinner\",IF(AB240=0,,(AB240/$E$18)*'Customer Info'!$H$18),)","v":0},{"$f":"IF($F$16=\"other\",IF(AC240=0,,(AC240/$E$19)*'Customer Info'!$H$18),)","v":0},0,{"$f":"IF($F$17=\"breakfast\",IF(Z240=0,,(Z240/$E$16)*'Customer Info'!$H$19),)","v":0},{"$f":"IF($F$17=\"dinner\",IF(AB240=0,,(AB240/$E$18)*'Customer Info'!$H$19),)","v":0},{"$f":"IF($F$17=\"other\",IF(AC240=0,,(AC240/$E$19)*'Customer Info'!$H$19),)","v":0},0,{"$f":"IF($F$18=\"breakfast\",IF(Z240=0,,(Z240/$E$16)*'Customer Info'!$H$20),)","v":0},{"$f":"IF($F$18=\"lunch\",IF(AA240=0,,(AA240/$E$17)*'Customer Info'!$H$20),)","v":0},{"$f":"IF($F$18=\"other\",IF(AC240=0,,(AC240/$E$19)*'Customer Info'!$H$20),)","v":0},0,{"$f":"IF($F$19=\"breakfast\",IF(Z240=0,,(Z240/$E$16)*'Customer Info'!$H$21),)","v":0},{"$f":"IF($F$19=\"lunch\",IF(AA240=0,,(AA240/$E$17)*'Customer Info'!$H$21),)","v":0},{"$f":"IF($F$19=\"dinner\",IF(AB240=0,,(AB240/$E$18)*'Customer Info'!$H$21),)","v":0},0,0,0,0,0,""]
[null,null,null,null,null,null,null,null,null,null,0,0,0,0,0,0,0,0,0,0,0,0,0,0,0,0,0,0,0,0,0,0,0,{"$f":"IF((OR($F$4=0,$F$4=\"none\")),IF(R241=0,,IF(OR($E$4='Customer Info'!$D$18,$E$4=0),R241,(R241/$E$4)*'Customer Info'!$D$18)),)","v":0},{"$f":"IF((OR($F$5=0,$F$5=\"none\")),IF(S241=0,,IF(OR($E$5='Customer Info'!$D$18,$E$5=0),S241,(S241/$E$5)*'Customer Info'!$D$19)),)","v":0},{"$f":"IF((OR($F$6=0,$F$6=\"none\")),IF(T241=0,,IF(OR($E$6='Customer Info'!$D$18,$E$6=0),T241,(T241/$E$6)*'Customer Info'!$D$20)),)","v":0},{"$f":"IF((OR($F$7=0,$F$7=\"none\")),IF(U241=0,,IF(OR($E$7='Customer Info'!$D$18,$E$7=0),U241,(U241/$E$7)*'Customer Info'!$D$21)),)","v":0},{"$f":"IF((OR($F$10=0,$F$10=\"none\")),IF(V241=0,,IF(OR($E$10='Customer Info'!$F$18,$E$10=0),V241,(V241/$E$10)*'Customer Info'!$F$18)),)","v":0},{"$f":"IF((OR($F$11=0,$F$11=\"none\")),IF(W241=0,,IF(OR($E$11='Customer Info'!$F$19,$E$11=0),W241,(W241/$E$11)*'Customer Info'!$F$19)),)","v":0},{"$f":"IF((OR($F$12=0,$F$12=\"none\")),IF(X241=0,,IF(OR($E$12='Customer Info'!$F$20,$E$12=0),X241,(X241/$E$12)*'Customer Info'!$F$20)),)","v":0},{"$f":"IF((OR($F$13=0,$F$13=\"none\")),IF(Y241=0,,IF(OR($E$13='Customer Info'!$F$21,$E$13=0),Y241,(Y241/$E$13)*'Customer Info'!$F$21)),)","v":0},{"$f":"IF((OR($F$16=0,$F$16=\"none\")),IF(Z241=0,,IF(OR($E$16='Customer Info'!$H$18,$E$16=0),Z241,(Z241/$E$16)*'Customer Info'!$H$18)),)","v":0},{"$f":"IF((OR($F$17=0,$F$17=\"none\")),IF(AA241=0,,IF(OR($E$17='Customer Info'!$H$19,$E$17=0),AA241,(AA241/$E$17)*'Customer Info'!$H$19)),)","v":0},{"$f":"IF((OR($F$18=0,$F$18=\"none\")),IF(AB241=0,,IF(OR($E$18='Customer Info'!$H$20,$E$18=0),AB241,(AB241/$E$18)*'Customer Info'!$H$20)),)","v":0},{"$f":"IF((OR($F$19=0,$F$19=\"none\")),IF(AC241=0,,IF(OR($E$19='Customer Info'!$H$21,$E$19=0),AC241,(AC241/$E$19)*'Customer Info'!$H$21)),)","v":0},{"$f":"IF((OR($F$4=0,$F$4=\"none\")),IF(AD241=0,,IF(OR($E$4='Customer Info'!$D$18,$E$4=0),AD241,(AD241/$E$4)*'Customer Info'!$D$18)),)","v":0},{"$f":"IF((OR($F$5=0,$F$5=\"none\")),IF(AE241=0,,IF(OR($E$5='Customer Info'!$D$19,$E$5=0),AE241,(AE241/$E$5)*'Customer Info'!$D$19)),)","v":0},{"$f":"IF((OR($F$6=0,$F$6=\"none\")),IF(AF241=0,,IF(OR($E$6='Customer Info'!$D$20,$E$6=0),AF241,(AF241/$E$6)*'Customer Info'!$D$20)),)","v":0},{"$f":"IF((OR($F$7=0,$F$7=\"none\")),IF(AG241=0,,IF(OR($E$7='Customer Info'!$D$21,$E$7=0),AG241,(AG241/$E$7)*'Customer Info'!$D$21)),)","v":0},0,0,{"$f":"IF(E241=\"plate waste\",,IF('Customer Info'!$M$18=0,'Log Sheet'!AY241,'Customer Info'!$M$18*'Log Sheet'!AY241))","v":0},{"$f":"IF(E241=\"plate waste\",IF(OR(C241=\"patient\",C241=\"patient beverages\"),IF('Customer Info'!$M$27=0,AY241*'Customer Info'!$M$18,AY241*'Customer Info'!$M$27),IF(C241=\"cafeteria\",IF('Customer Info'!$M$28=0,AY241*'Customer Info'!$M$18,AY241*'Customer Info'!$M$28),IF(C241=\"other1\",IF('Customer Info'!$M$29=0,AY241*'Customer Info'!$M$18,AY241*'Customer Info'!$M$29),))),)","v":0},0,{"$f":"IF($F$4=\"lunch\",IF(S241=0,,(S241/$E$5)*'Customer Info'!$D$18),)","v":0},{"$f":"IF($F$4=\"dinner\",IF(T241=0,,(T241/$E$6)*'Customer Info'!$D$18),)","v":0},{"$f":"IF($F$4=\"other\",IF(U241=0,,(U241/$E$7)*'Customer Info'!$D$18),)","v":0},0,{"$f":"IF($F$5=\"breakfast\",IF(R241=0,,(R241/$E$4)*'Customer Info'!$D$19),)","v":0},{"$f":"IF($F$5=\"dinner\",IF(T241=0,,(T241/$E$6)*'Customer Info'!$D$19),)","v":0},{"$f":"IF($F$5=\"other\",IF(U241=0,,(U241/$E$7)*'Customer Info'!$D$19),)","v":0},0,{"$f":"IF($F$6=\"breakfast\",IF(R241=0,,(R241/$E$4)*'Customer Info'!$D$20),)","v":0},{"$f":"IF($F$6=\"lunch\",IF(S241=0,,(S241/$E$5)*'Customer Info'!$D$20),)","v":0},{"$f":"IF($F$6=\"other\",IF(U241=0,,(U241/$E$7)*'Customer Info'!$D$20),)","v":0},0,{"$f":"IF($F$7=\"breakfast\",IF(R241=0,,(R241/$E$4)*'Customer Info'!$D$21),)","v":0},{"$f":"IF($F$7=\"lunch\",IF(S241=0,,(S241/$E$5)*'Customer Info'!$D$21),)","v":0},{"$f":"IF($F$7=\"dinner\",IF(T241=0,,(T241/$E$6)*'Customer Info'!$D$21),)","v":0},0,{"$f":"IF($F$10=\"lunch\",IF(W241=0,,(W241/$E$11)*'Customer Info'!$F$18),)","v":0},{"$f":"IF($F$10=\"dinner\",IF(X241=0,,(X241/$E$12)*'Customer Info'!$F$18),)","v":0},{"$f":"IF($F$10=\"other\",IF(Y241=0,,(Y241/$E$13)*'Customer Info'!$F$18),)","v":0},0,{"$f":"IF($F$11=\"breakfast\",IF(V241=0,,(V241/$E$10)*'Customer Info'!$F$19),)","v":0},{"$f":"IF($F$11=\"dinner\",IF(X241=0,,(X241/$E$12)*'Customer Info'!$F$19),)","v":0},{"$f":"IF($F$11=\"other\",IF(Y241=0,,(Y241/$E$13)*'Customer Info'!$F$19),)","v":0},0,{"$f":"IF($F$12=\"breakfast\",IF(V241=0,,(V241/$E$10)*'Customer Info'!$F$20),)","v":0},{"$f":"IF($F$12=\"lunch\",IF(W241=0,,(W241/$E$11)*'Customer Info'!$F$20),)","v":0},{"$f":"IF($F$12=\"other\",IF(Y241=0,,(Y241/$E$13)*'Customer Info'!$F$20),)","v":0},0,{"$f":"IF($F$13=\"breakfast\",IF(V241=0,,(V241/$E$10)*'Customer Info'!$F$21),)","v":0},{"$f":"IF($F$13=\"lunch\",IF(W241=0,,(W241/$E$11)*'Customer Info'!$F$21),)","v":0},{"$f":"IF($F$13=\"dinner\",IF(X241=0,,(X241/$E$12)*'Customer Info'!$F$21),)","v":0},0,{"$f":"IF($F$16=\"lunch\",IF(AA241=0,,(AA241/$E$17)*'Customer Info'!$H$18),)","v":0},{"$f":"IF($F$16=\"dinner\",IF(AB241=0,,(AB241/$E$18)*'Customer Info'!$H$18),)","v":0},{"$f":"IF($F$16=\"other\",IF(AC241=0,,(AC241/$E$19)*'Customer Info'!$H$18),)","v":0},0,{"$f":"IF($F$17=\"breakfast\",IF(Z241=0,,(Z241/$E$16)*'Customer Info'!$H$19),)","v":0},{"$f":"IF($F$17=\"dinner\",IF(AB241=0,,(AB241/$E$18)*'Customer Info'!$H$19),)","v":0},{"$f":"IF($F$17=\"other\",IF(AC241=0,,(AC241/$E$19)*'Customer Info'!$H$19),)","v":0},0,{"$f":"IF($F$18=\"breakfast\",IF(Z241=0,,(Z241/$E$16)*'Customer Info'!$H$20),)","v":0},{"$f":"IF($F$18=\"lunch\",IF(AA241=0,,(AA241/$E$17)*'Customer Info'!$H$20),)","v":0},{"$f":"IF($F$18=\"other\",IF(AC241=0,,(AC241/$E$19)*'Customer Info'!$H$20),)","v":0},0,{"$f":"IF($F$19=\"breakfast\",IF(Z241=0,,(Z241/$E$16)*'Customer Info'!$H$21),)","v":0},{"$f":"IF($F$19=\"lunch\",IF(AA241=0,,(AA241/$E$17)*'Customer Info'!$H$21),)","v":0},{"$f":"IF($F$19=\"dinner\",IF(AB241=0,,(AB241/$E$18)*'Customer Info'!$H$21),)","v":0},0,0,0,0,0,""]
[null,null,null,null,null,null,null,null,null,null,0,0,0,0,0,0,0,0,0,0,0,0,0,0,0,0,0,0,0,0,0,0,0,{"$f":"IF((OR($F$4=0,$F$4=\"none\")),IF(R242=0,,IF(OR($E$4='Customer Info'!$D$18,$E$4=0),R242,(R242/$E$4)*'Customer Info'!$D$18)),)","v":0},{"$f":"IF((OR($F$5=0,$F$5=\"none\")),IF(S242=0,,IF(OR($E$5='Customer Info'!$D$18,$E$5=0),S242,(S242/$E$5)*'Customer Info'!$D$19)),)","v":0},{"$f":"IF((OR($F$6=0,$F$6=\"none\")),IF(T242=0,,IF(OR($E$6='Customer Info'!$D$18,$E$6=0),T242,(T242/$E$6)*'Customer Info'!$D$20)),)","v":0},{"$f":"IF((OR($F$7=0,$F$7=\"none\")),IF(U242=0,,IF(OR($E$7='Customer Info'!$D$18,$E$7=0),U242,(U242/$E$7)*'Customer Info'!$D$21)),)","v":0},{"$f":"IF((OR($F$10=0,$F$10=\"none\")),IF(V242=0,,IF(OR($E$10='Customer Info'!$F$18,$E$10=0),V242,(V242/$E$10)*'Customer Info'!$F$18)),)","v":0},{"$f":"IF((OR($F$11=0,$F$11=\"none\")),IF(W242=0,,IF(OR($E$11='Customer Info'!$F$19,$E$11=0),W242,(W242/$E$11)*'Customer Info'!$F$19)),)","v":0},{"$f":"IF((OR($F$12=0,$F$12=\"none\")),IF(X242=0,,IF(OR($E$12='Customer Info'!$F$20,$E$12=0),X242,(X242/$E$12)*'Customer Info'!$F$20)),)","v":0},{"$f":"IF((OR($F$13=0,$F$13=\"none\")),IF(Y242=0,,IF(OR($E$13='Customer Info'!$F$21,$E$13=0),Y242,(Y242/$E$13)*'Customer Info'!$F$21)),)","v":0},{"$f":"IF((OR($F$16=0,$F$16=\"none\")),IF(Z242=0,,IF(OR($E$16='Customer Info'!$H$18,$E$16=0),Z242,(Z242/$E$16)*'Customer Info'!$H$18)),)","v":0},{"$f":"IF((OR($F$17=0,$F$17=\"none\")),IF(AA242=0,,IF(OR($E$17='Customer Info'!$H$19,$E$17=0),AA242,(AA242/$E$17)*'Customer Info'!$H$19)),)","v":0},{"$f":"IF((OR($F$18=0,$F$18=\"none\")),IF(AB242=0,,IF(OR($E$18='Customer Info'!$H$20,$E$18=0),AB242,(AB242/$E$18)*'Customer Info'!$H$20)),)","v":0},{"$f":"IF((OR($F$19=0,$F$19=\"none\")),IF(AC242=0,,IF(OR($E$19='Customer Info'!$H$21,$E$19=0),AC242,(AC242/$E$19)*'Customer Info'!$H$21)),)","v":0},{"$f":"IF((OR($F$4=0,$F$4=\"none\")),IF(AD242=0,,IF(OR($E$4='Customer Info'!$D$18,$E$4=0),AD242,(AD242/$E$4)*'Customer Info'!$D$18)),)","v":0},{"$f":"IF((OR($F$5=0,$F$5=\"none\")),IF(AE242=0,,IF(OR($E$5='Customer Info'!$D$19,$E$5=0),AE242,(AE242/$E$5)*'Customer Info'!$D$19)),)","v":0},{"$f":"IF((OR($F$6=0,$F$6=\"none\")),IF(AF242=0,,IF(OR($E$6='Customer Info'!$D$20,$E$6=0),AF242,(AF242/$E$6)*'Customer Info'!$D$20)),)","v":0},{"$f":"IF((OR($F$7=0,$F$7=\"none\")),IF(AG242=0,,IF(OR($E$7='Customer Info'!$D$21,$E$7=0),AG242,(AG242/$E$7)*'Customer Info'!$D$21)),)","v":0},0,0,{"$f":"IF(E242=\"plate waste\",,IF('Customer Info'!$M$18=0,'Log Sheet'!AY242,'Customer Info'!$M$18*'Log Sheet'!AY242))","v":0},{"$f":"IF(E242=\"plate waste\",IF(OR(C242=\"patient\",C242=\"patient beverages\"),IF('Customer Info'!$M$27=0,AY242*'Customer Info'!$M$18,AY242*'Customer Info'!$M$27),IF(C242=\"cafeteria\",IF('Customer Info'!$M$28=0,AY242*'Customer Info'!$M$18,AY242*'Customer Info'!$M$28),IF(C242=\"other1\",IF('Customer Info'!$M$29=0,AY242*'Customer Info'!$M$18,AY242*'Customer Info'!$M$29),))),)","v":0},0,{"$f":"IF($F$4=\"lunch\",IF(S242=0,,(S242/$E$5)*'Customer Info'!$D$18),)","v":0},{"$f":"IF($F$4=\"dinner\",IF(T242=0,,(T242/$E$6)*'Customer Info'!$D$18),)","v":0},{"$f":"IF($F$4=\"other\",IF(U242=0,,(U242/$E$7)*'Customer Info'!$D$18),)","v":0},0,{"$f":"IF($F$5=\"breakfast\",IF(R242=0,,(R242/$E$4)*'Customer Info'!$D$19),)","v":0},{"$f":"IF($F$5=\"dinner\",IF(T242=0,,(T242/$E$6)*'Customer Info'!$D$19),)","v":0},{"$f":"IF($F$5=\"other\",IF(U242=0,,(U242/$E$7)*'Customer Info'!$D$19),)","v":0},0,{"$f":"IF($F$6=\"breakfast\",IF(R242=0,,(R242/$E$4)*'Customer Info'!$D$20),)","v":0},{"$f":"IF($F$6=\"lunch\",IF(S242=0,,(S242/$E$5)*'Customer Info'!$D$20),)","v":0},{"$f":"IF($F$6=\"other\",IF(U242=0,,(U242/$E$7)*'Customer Info'!$D$20),)","v":0},0,{"$f":"IF($F$7=\"breakfast\",IF(R242=0,,(R242/$E$4)*'Customer Info'!$D$21),)","v":0},{"$f":"IF($F$7=\"lunch\",IF(S242=0,,(S242/$E$5)*'Customer Info'!$D$21),)","v":0},{"$f":"IF($F$7=\"dinner\",IF(T242=0,,(T242/$E$6)*'Customer Info'!$D$21),)","v":0},0,{"$f":"IF($F$10=\"lunch\",IF(W242=0,,(W242/$E$11)*'Customer Info'!$F$18),)","v":0},{"$f":"IF($F$10=\"dinner\",IF(X242=0,,(X242/$E$12)*'Customer Info'!$F$18),)","v":0},{"$f":"IF($F$10=\"other\",IF(Y242=0,,(Y242/$E$13)*'Customer Info'!$F$18),)","v":0},0,{"$f":"IF($F$11=\"breakfast\",IF(V242=0,,(V242/$E$10)*'Customer Info'!$F$19),)","v":0},{"$f":"IF($F$11=\"dinner\",IF(X242=0,,(X242/$E$12)*'Customer Info'!$F$19),)","v":0},{"$f":"IF($F$11=\"other\",IF(Y242=0,,(Y242/$E$13)*'Customer Info'!$F$19),)","v":0},0,{"$f":"IF($F$12=\"breakfast\",IF(V242=0,,(V242/$E$10)*'Customer Info'!$F$20),)","v":0},{"$f":"IF($F$12=\"lunch\",IF(W242=0,,(W242/$E$11)*'Customer Info'!$F$20),)","v":0},{"$f":"IF($F$12=\"other\",IF(Y242=0,,(Y242/$E$13)*'Customer Info'!$F$20),)","v":0},0,{"$f":"IF($F$13=\"breakfast\",IF(V242=0,,(V242/$E$10)*'Customer Info'!$F$21),)","v":0},{"$f":"IF($F$13=\"lunch\",IF(W242=0,,(W242/$E$11)*'Customer Info'!$F$21),)","v":0},{"$f":"IF($F$13=\"dinner\",IF(X242=0,,(X242/$E$12)*'Customer Info'!$F$21),)","v":0},0,{"$f":"IF($F$16=\"lunch\",IF(AA242=0,,(AA242/$E$17)*'Customer Info'!$H$18),)","v":0},{"$f":"IF($F$16=\"dinner\",IF(AB242=0,,(AB242/$E$18)*'Customer Info'!$H$18),)","v":0},{"$f":"IF($F$16=\"other\",IF(AC242=0,,(AC242/$E$19)*'Customer Info'!$H$18),)","v":0},0,{"$f":"IF($F$17=\"breakfast\",IF(Z242=0,,(Z242/$E$16)*'Customer Info'!$H$19),)","v":0},{"$f":"IF($F$17=\"dinner\",IF(AB242=0,,(AB242/$E$18)*'Customer Info'!$H$19),)","v":0},{"$f":"IF($F$17=\"other\",IF(AC242=0,,(AC242/$E$19)*'Customer Info'!$H$19),)","v":0},0,{"$f":"IF($F$18=\"breakfast\",IF(Z242=0,,(Z242/$E$16)*'Customer Info'!$H$20),)","v":0},{"$f":"IF($F$18=\"lunch\",IF(AA242=0,,(AA242/$E$17)*'Customer Info'!$H$20),)","v":0},{"$f":"IF($F$18=\"other\",IF(AC242=0,,(AC242/$E$19)*'Customer Info'!$H$20),)","v":0},0,{"$f":"IF($F$19=\"breakfast\",IF(Z242=0,,(Z242/$E$16)*'Customer Info'!$H$21),)","v":0},{"$f":"IF($F$19=\"lunch\",IF(AA242=0,,(AA242/$E$17)*'Customer Info'!$H$21),)","v":0},{"$f":"IF($F$19=\"dinner\",IF(AB242=0,,(AB242/$E$18)*'Customer Info'!$H$21),)","v":0},0,0,0,0,0,""]
[null,null,null,null,null,null,null,null,null,null,0,0,0,0,0,0,0,0,0,0,0,0,0,0,0,0,0,0,0,0,0,0,0,{"$f":"IF((OR($F$4=0,$F$4=\"none\")),IF(R243=0,,IF(OR($E$4='Customer Info'!$D$18,$E$4=0),R243,(R243/$E$4)*'Customer Info'!$D$18)),)","v":0},{"$f":"IF((OR($F$5=0,$F$5=\"none\")),IF(S243=0,,IF(OR($E$5='Customer Info'!$D$18,$E$5=0),S243,(S243/$E$5)*'Customer Info'!$D$19)),)","v":0},{"$f":"IF((OR($F$6=0,$F$6=\"none\")),IF(T243=0,,IF(OR($E$6='Customer Info'!$D$18,$E$6=0),T243,(T243/$E$6)*'Customer Info'!$D$20)),)","v":0},{"$f":"IF((OR($F$7=0,$F$7=\"none\")),IF(U243=0,,IF(OR($E$7='Customer Info'!$D$18,$E$7=0),U243,(U243/$E$7)*'Customer Info'!$D$21)),)","v":0},{"$f":"IF((OR($F$10=0,$F$10=\"none\")),IF(V243=0,,IF(OR($E$10='Customer Info'!$F$18,$E$10=0),V243,(V243/$E$10)*'Customer Info'!$F$18)),)","v":0},{"$f":"IF((OR($F$11=0,$F$11=\"none\")),IF(W243=0,,IF(OR($E$11='Customer Info'!$F$19,$E$11=0),W243,(W243/$E$11)*'Customer Info'!$F$19)),)","v":0},{"$f":"IF((OR($F$12=0,$F$12=\"none\")),IF(X243=0,,IF(OR($E$12='Customer Info'!$F$20,$E$12=0),X243,(X243/$E$12)*'Customer Info'!$F$20)),)","v":0},{"$f":"IF((OR($F$13=0,$F$13=\"none\")),IF(Y243=0,,IF(OR($E$13='Customer Info'!$F$21,$E$13=0),Y243,(Y243/$E$13)*'Customer Info'!$F$21)),)","v":0},{"$f":"IF((OR($F$16=0,$F$16=\"none\")),IF(Z243=0,,IF(OR($E$16='Customer Info'!$H$18,$E$16=0),Z243,(Z243/$E$16)*'Customer Info'!$H$18)),)","v":0},{"$f":"IF((OR($F$17=0,$F$17=\"none\")),IF(AA243=0,,IF(OR($E$17='Customer Info'!$H$19,$E$17=0),AA243,(AA243/$E$17)*'Customer Info'!$H$19)),)","v":0},{"$f":"IF((OR($F$18=0,$F$18=\"none\")),IF(AB243=0,,IF(OR($E$18='Customer Info'!$H$20,$E$18=0),AB243,(AB243/$E$18)*'Customer Info'!$H$20)),)","v":0},{"$f":"IF((OR($F$19=0,$F$19=\"none\")),IF(AC243=0,,IF(OR($E$19='Customer Info'!$H$21,$E$19=0),AC243,(AC243/$E$19)*'Customer Info'!$H$21)),)","v":0},{"$f":"IF((OR($F$4=0,$F$4=\"none\")),IF(AD243=0,,IF(OR($E$4='Customer Info'!$D$18,$E$4=0),AD243,(AD243/$E$4)*'Customer Info'!$D$18)),)","v":0},{"$f":"IF((OR($F$5=0,$F$5=\"none\")),IF(AE243=0,,IF(OR($E$5='Customer Info'!$D$19,$E$5=0),AE243,(AE243/$E$5)*'Customer Info'!$D$19)),)","v":0},{"$f":"IF((OR($F$6=0,$F$6=\"none\")),IF(AF243=0,,IF(OR($E$6='Customer Info'!$D$20,$E$6=0),AF243,(AF243/$E$6)*'Customer Info'!$D$20)),)","v":0},{"$f":"IF((OR($F$7=0,$F$7=\"none\")),IF(AG243=0,,IF(OR($E$7='Customer Info'!$D$21,$E$7=0),AG243,(AG243/$E$7)*'Customer Info'!$D$21)),)","v":0},0,0,{"$f":"IF(E243=\"plate waste\",,IF('Customer Info'!$M$18=0,'Log Sheet'!AY243,'Customer Info'!$M$18*'Log Sheet'!AY243))","v":0},{"$f":"IF(E243=\"plate waste\",IF(OR(C243=\"patient\",C243=\"patient beverages\"),IF('Customer Info'!$M$27=0,AY243*'Customer Info'!$M$18,AY243*'Customer Info'!$M$27),IF(C243=\"cafeteria\",IF('Customer Info'!$M$28=0,AY243*'Customer Info'!$M$18,AY243*'Customer Info'!$M$28),IF(C243=\"other1\",IF('Customer Info'!$M$29=0,AY243*'Customer Info'!$M$18,AY243*'Customer Info'!$M$29),))),)","v":0},0,{"$f":"IF($F$4=\"lunch\",IF(S243=0,,(S243/$E$5)*'Customer Info'!$D$18),)","v":0},{"$f":"IF($F$4=\"dinner\",IF(T243=0,,(T243/$E$6)*'Customer Info'!$D$18),)","v":0},{"$f":"IF($F$4=\"other\",IF(U243=0,,(U243/$E$7)*'Customer Info'!$D$18),)","v":0},0,{"$f":"IF($F$5=\"breakfast\",IF(R243=0,,(R243/$E$4)*'Customer Info'!$D$19),)","v":0},{"$f":"IF($F$5=\"dinner\",IF(T243=0,,(T243/$E$6)*'Customer Info'!$D$19),)","v":0},{"$f":"IF($F$5=\"other\",IF(U243=0,,(U243/$E$7)*'Customer Info'!$D$19),)","v":0},0,{"$f":"IF($F$6=\"breakfast\",IF(R243=0,,(R243/$E$4)*'Customer Info'!$D$20),)","v":0},{"$f":"IF($F$6=\"lunch\",IF(S243=0,,(S243/$E$5)*'Customer Info'!$D$20),)","v":0},{"$f":"IF($F$6=\"other\",IF(U243=0,,(U243/$E$7)*'Customer Info'!$D$20),)","v":0},0,{"$f":"IF($F$7=\"breakfast\",IF(R243=0,,(R243/$E$4)*'Customer Info'!$D$21),)","v":0},{"$f":"IF($F$7=\"lunch\",IF(S243=0,,(S243/$E$5)*'Customer Info'!$D$21),)","v":0},{"$f":"IF($F$7=\"dinner\",IF(T243=0,,(T243/$E$6)*'Customer Info'!$D$21),)","v":0},0,{"$f":"IF($F$10=\"lunch\",IF(W243=0,,(W243/$E$11)*'Customer Info'!$F$18),)","v":0},{"$f":"IF($F$10=\"dinner\",IF(X243=0,,(X243/$E$12)*'Customer Info'!$F$18),)","v":0},{"$f":"IF($F$10=\"other\",IF(Y243=0,,(Y243/$E$13)*'Customer Info'!$F$18),)","v":0},0,{"$f":"IF($F$11=\"breakfast\",IF(V243=0,,(V243/$E$10)*'Customer Info'!$F$19),)","v":0},{"$f":"IF($F$11=\"dinner\",IF(X243=0,,(X243/$E$12)*'Customer Info'!$F$19),)","v":0},{"$f":"IF($F$11=\"other\",IF(Y243=0,,(Y243/$E$13)*'Customer Info'!$F$19),)","v":0},0,{"$f":"IF($F$12=\"breakfast\",IF(V243=0,,(V243/$E$10)*'Customer Info'!$F$20),)","v":0},{"$f":"IF($F$12=\"lunch\",IF(W243=0,,(W243/$E$11)*'Customer Info'!$F$20),)","v":0},{"$f":"IF($F$12=\"other\",IF(Y243=0,,(Y243/$E$13)*'Customer Info'!$F$20),)","v":0},0,{"$f":"IF($F$13=\"breakfast\",IF(V243=0,,(V243/$E$10)*'Customer Info'!$F$21),)","v":0},{"$f":"IF($F$13=\"lunch\",IF(W243=0,,(W243/$E$11)*'Customer Info'!$F$21),)","v":0},{"$f":"IF($F$13=\"dinner\",IF(X243=0,,(X243/$E$12)*'Customer Info'!$F$21),)","v":0},0,{"$f":"IF($F$16=\"lunch\",IF(AA243=0,,(AA243/$E$17)*'Customer Info'!$H$18),)","v":0},{"$f":"IF($F$16=\"dinner\",IF(AB243=0,,(AB243/$E$18)*'Customer Info'!$H$18),)","v":0},{"$f":"IF($F$16=\"other\",IF(AC243=0,,(AC243/$E$19)*'Customer Info'!$H$18),)","v":0},0,{"$f":"IF($F$17=\"breakfast\",IF(Z243=0,,(Z243/$E$16)*'Customer Info'!$H$19),)","v":0},{"$f":"IF($F$17=\"dinner\",IF(AB243=0,,(AB243/$E$18)*'Customer Info'!$H$19),)","v":0},{"$f":"IF($F$17=\"other\",IF(AC243=0,,(AC243/$E$19)*'Customer Info'!$H$19),)","v":0},0,{"$f":"IF($F$18=\"breakfast\",IF(Z243=0,,(Z243/$E$16)*'Customer Info'!$H$20),)","v":0},{"$f":"IF($F$18=\"lunch\",IF(AA243=0,,(AA243/$E$17)*'Customer Info'!$H$20),)","v":0},{"$f":"IF($F$18=\"other\",IF(AC243=0,,(AC243/$E$19)*'Customer Info'!$H$20),)","v":0},0,{"$f":"IF($F$19=\"breakfast\",IF(Z243=0,,(Z243/$E$16)*'Customer Info'!$H$21),)","v":0},{"$f":"IF($F$19=\"lunch\",IF(AA243=0,,(AA243/$E$17)*'Customer Info'!$H$21),)","v":0},{"$f":"IF($F$19=\"dinner\",IF(AB243=0,,(AB243/$E$18)*'Customer Info'!$H$21),)","v":0},0,0,0,0,0,""]
[null,null,null,null,null,null,null,null,null,null,0,0,0,0,0,0,0,0,0,0,0,0,0,0,0,0,0,0,0,0,0,0,0,{"$f":"IF((OR($F$4=0,$F$4=\"none\")),IF(R244=0,,IF(OR($E$4='Customer Info'!$D$18,$E$4=0),R244,(R244/$E$4)*'Customer Info'!$D$18)),)","v":0},{"$f":"IF((OR($F$5=0,$F$5=\"none\")),IF(S244=0,,IF(OR($E$5='Customer Info'!$D$18,$E$5=0),S244,(S244/$E$5)*'Customer Info'!$D$19)),)","v":0},{"$f":"IF((OR($F$6=0,$F$6=\"none\")),IF(T244=0,,IF(OR($E$6='Customer Info'!$D$18,$E$6=0),T244,(T244/$E$6)*'Customer Info'!$D$20)),)","v":0},{"$f":"IF((OR($F$7=0,$F$7=\"none\")),IF(U244=0,,IF(OR($E$7='Customer Info'!$D$18,$E$7=0),U244,(U244/$E$7)*'Customer Info'!$D$21)),)","v":0},{"$f":"IF((OR($F$10=0,$F$10=\"none\")),IF(V244=0,,IF(OR($E$10='Customer Info'!$F$18,$E$10=0),V244,(V244/$E$10)*'Customer Info'!$F$18)),)","v":0},{"$f":"IF((OR($F$11=0,$F$11=\"none\")),IF(W244=0,,IF(OR($E$11='Customer Info'!$F$19,$E$11=0),W244,(W244/$E$11)*'Customer Info'!$F$19)),)","v":0},{"$f":"IF((OR($F$12=0,$F$12=\"none\")),IF(X244=0,,IF(OR($E$12='Customer Info'!$F$20,$E$12=0),X244,(X244/$E$12)*'Customer Info'!$F$20)),)","v":0},{"$f":"IF((OR($F$13=0,$F$13=\"none\")),IF(Y244=0,,IF(OR($E$13='Customer Info'!$F$21,$E$13=0),Y244,(Y244/$E$13)*'Customer Info'!$F$21)),)","v":0},{"$f":"IF((OR($F$16=0,$F$16=\"none\")),IF(Z244=0,,IF(OR($E$16='Customer Info'!$H$18,$E$16=0),Z244,(Z244/$E$16)*'Customer Info'!$H$18)),)","v":0},{"$f":"IF((OR($F$17=0,$F$17=\"none\")),IF(AA244=0,,IF(OR($E$17='Customer Info'!$H$19,$E$17=0),AA244,(AA244/$E$17)*'Customer Info'!$H$19)),)","v":0},{"$f":"IF((OR($F$18=0,$F$18=\"none\")),IF(AB244=0,,IF(OR($E$18='Customer Info'!$H$20,$E$18=0),AB244,(AB244/$E$18)*'Customer Info'!$H$20)),)","v":0},{"$f":"IF((OR($F$19=0,$F$19=\"none\")),IF(AC244=0,,IF(OR($E$19='Customer Info'!$H$21,$E$19=0),AC244,(AC244/$E$19)*'Customer Info'!$H$21)),)","v":0},{"$f":"IF((OR($F$4=0,$F$4=\"none\")),IF(AD244=0,,IF(OR($E$4='Customer Info'!$D$18,$E$4=0),AD244,(AD244/$E$4)*'Customer Info'!$D$18)),)","v":0},{"$f":"IF((OR($F$5=0,$F$5=\"none\")),IF(AE244=0,,IF(OR($E$5='Customer Info'!$D$19,$E$5=0),AE244,(AE244/$E$5)*'Customer Info'!$D$19)),)","v":0},{"$f":"IF((OR($F$6=0,$F$6=\"none\")),IF(AF244=0,,IF(OR($E$6='Customer Info'!$D$20,$E$6=0),AF244,(AF244/$E$6)*'Customer Info'!$D$20)),)","v":0},{"$f":"IF((OR($F$7=0,$F$7=\"none\")),IF(AG244=0,,IF(OR($E$7='Customer Info'!$D$21,$E$7=0),AG244,(AG244/$E$7)*'Customer Info'!$D$21)),)","v":0},0,0,{"$f":"IF(E244=\"plate waste\",,IF('Customer Info'!$M$18=0,'Log Sheet'!AY244,'Customer Info'!$M$18*'Log Sheet'!AY244))","v":0},{"$f":"IF(E244=\"plate waste\",IF(OR(C244=\"patient\",C244=\"patient beverages\"),IF('Customer Info'!$M$27=0,AY244*'Customer Info'!$M$18,AY244*'Customer Info'!$M$27),IF(C244=\"cafeteria\",IF('Customer Info'!$M$28=0,AY244*'Customer Info'!$M$18,AY244*'Customer Info'!$M$28),IF(C244=\"other1\",IF('Customer Info'!$M$29=0,AY244*'Customer Info'!$M$18,AY244*'Customer Info'!$M$29),))),)","v":0},0,{"$f":"IF($F$4=\"lunch\",IF(S244=0,,(S244/$E$5)*'Customer Info'!$D$18),)","v":0},{"$f":"IF($F$4=\"dinner\",IF(T244=0,,(T244/$E$6)*'Customer Info'!$D$18),)","v":0},{"$f":"IF($F$4=\"other\",IF(U244=0,,(U244/$E$7)*'Customer Info'!$D$18),)","v":0},0,{"$f":"IF($F$5=\"breakfast\",IF(R244=0,,(R244/$E$4)*'Customer Info'!$D$19),)","v":0},{"$f":"IF($F$5=\"dinner\",IF(T244=0,,(T244/$E$6)*'Customer Info'!$D$19),)","v":0},{"$f":"IF($F$5=\"other\",IF(U244=0,,(U244/$E$7)*'Customer Info'!$D$19),)","v":0},0,{"$f":"IF($F$6=\"breakfast\",IF(R244=0,,(R244/$E$4)*'Customer Info'!$D$20),)","v":0},{"$f":"IF($F$6=\"lunch\",IF(S244=0,,(S244/$E$5)*'Customer Info'!$D$20),)","v":0},{"$f":"IF($F$6=\"other\",IF(U244=0,,(U244/$E$7)*'Customer Info'!$D$20),)","v":0},0,{"$f":"IF($F$7=\"breakfast\",IF(R244=0,,(R244/$E$4)*'Customer Info'!$D$21),)","v":0},{"$f":"IF($F$7=\"lunch\",IF(S244=0,,(S244/$E$5)*'Customer Info'!$D$21),)","v":0},{"$f":"IF($F$7=\"dinner\",IF(T244=0,,(T244/$E$6)*'Customer Info'!$D$21),)","v":0},0,{"$f":"IF($F$10=\"lunch\",IF(W244=0,,(W244/$E$11)*'Customer Info'!$F$18),)","v":0},{"$f":"IF($F$10=\"dinner\",IF(X244=0,,(X244/$E$12)*'Customer Info'!$F$18),)","v":0},{"$f":"IF($F$10=\"other\",IF(Y244=0,,(Y244/$E$13)*'Customer Info'!$F$18),)","v":0},0,{"$f":"IF($F$11=\"breakfast\",IF(V244=0,,(V244/$E$10)*'Customer Info'!$F$19),)","v":0},{"$f":"IF($F$11=\"dinner\",IF(X244=0,,(X244/$E$12)*'Customer Info'!$F$19),)","v":0},{"$f":"IF($F$11=\"other\",IF(Y244=0,,(Y244/$E$13)*'Customer Info'!$F$19),)","v":0},0,{"$f":"IF($F$12=\"breakfast\",IF(V244=0,,(V244/$E$10)*'Customer Info'!$F$20),)","v":0},{"$f":"IF($F$12=\"lunch\",IF(W244=0,,(W244/$E$11)*'Customer Info'!$F$20),)","v":0},{"$f":"IF($F$12=\"other\",IF(Y244=0,,(Y244/$E$13)*'Customer Info'!$F$20),)","v":0},0,{"$f":"IF($F$13=\"breakfast\",IF(V244=0,,(V244/$E$10)*'Customer Info'!$F$21),)","v":0},{"$f":"IF($F$13=\"lunch\",IF(W244=0,,(W244/$E$11)*'Customer Info'!$F$21),)","v":0},{"$f":"IF($F$13=\"dinner\",IF(X244=0,,(X244/$E$12)*'Customer Info'!$F$21),)","v":0},0,{"$f":"IF($F$16=\"lunch\",IF(AA244=0,,(AA244/$E$17)*'Customer Info'!$H$18),)","v":0},{"$f":"IF($F$16=\"dinner\",IF(AB244=0,,(AB244/$E$18)*'Customer Info'!$H$18),)","v":0},{"$f":"IF($F$16=\"other\",IF(AC244=0,,(AC244/$E$19)*'Customer Info'!$H$18),)","v":0},0,{"$f":"IF($F$17=\"breakfast\",IF(Z244=0,,(Z244/$E$16)*'Customer Info'!$H$19),)","v":0},{"$f":"IF($F$17=\"dinner\",IF(AB244=0,,(AB244/$E$18)*'Customer Info'!$H$19),)","v":0},{"$f":"IF($F$17=\"other\",IF(AC244=0,,(AC244/$E$19)*'Customer Info'!$H$19),)","v":0},0,{"$f":"IF($F$18=\"breakfast\",IF(Z244=0,,(Z244/$E$16)*'Customer Info'!$H$20),)","v":0},{"$f":"IF($F$18=\"lunch\",IF(AA244=0,,(AA244/$E$17)*'Customer Info'!$H$20),)","v":0},{"$f":"IF($F$18=\"other\",IF(AC244=0,,(AC244/$E$19)*'Customer Info'!$H$20),)","v":0},0,{"$f":"IF($F$19=\"breakfast\",IF(Z244=0,,(Z244/$E$16)*'Customer Info'!$H$21),)","v":0},{"$f":"IF($F$19=\"lunch\",IF(AA244=0,,(AA244/$E$17)*'Customer Info'!$H$21),)","v":0},{"$f":"IF($F$19=\"dinner\",IF(AB244=0,,(AB244/$E$18)*'Customer Info'!$H$21),)","v":0},0,0,0,0,0,""]
[null,null,null,null,null,null,null,null,null,null,0,0,0,0,0,0,0,0,0,0,0,0,0,0,0,0,0,0,0,0,0,0,0,{"$f":"IF((OR($F$4=0,$F$4=\"none\")),IF(R245=0,,IF(OR($E$4='Customer Info'!$D$18,$E$4=0),R245,(R245/$E$4)*'Customer Info'!$D$18)),)","v":0},{"$f":"IF((OR($F$5=0,$F$5=\"none\")),IF(S245=0,,IF(OR($E$5='Customer Info'!$D$18,$E$5=0),S245,(S245/$E$5)*'Customer Info'!$D$19)),)","v":0},{"$f":"IF((OR($F$6=0,$F$6=\"none\")),IF(T245=0,,IF(OR($E$6='Customer Info'!$D$18,$E$6=0),T245,(T245/$E$6)*'Customer Info'!$D$20)),)","v":0},{"$f":"IF((OR($F$7=0,$F$7=\"none\")),IF(U245=0,,IF(OR($E$7='Customer Info'!$D$18,$E$7=0),U245,(U245/$E$7)*'Customer Info'!$D$21)),)","v":0},{"$f":"IF((OR($F$10=0,$F$10=\"none\")),IF(V245=0,,IF(OR($E$10='Customer Info'!$F$18,$E$10=0),V245,(V245/$E$10)*'Customer Info'!$F$18)),)","v":0},{"$f":"IF((OR($F$11=0,$F$11=\"none\")),IF(W245=0,,IF(OR($E$11='Customer Info'!$F$19,$E$11=0),W245,(W245/$E$11)*'Customer Info'!$F$19)),)","v":0},{"$f":"IF((OR($F$12=0,$F$12=\"none\")),IF(X245=0,,IF(OR($E$12='Customer Info'!$F$20,$E$12=0),X245,(X245/$E$12)*'Customer Info'!$F$20)),)","v":0},{"$f":"IF((OR($F$13=0,$F$13=\"none\")),IF(Y245=0,,IF(OR($E$13='Customer Info'!$F$21,$E$13=0),Y245,(Y245/$E$13)*'Customer Info'!$F$21)),)","v":0},{"$f":"IF((OR($F$16=0,$F$16=\"none\")),IF(Z245=0,,IF(OR($E$16='Customer Info'!$H$18,$E$16=0),Z245,(Z245/$E$16)*'Customer Info'!$H$18)),)","v":0},{"$f":"IF((OR($F$17=0,$F$17=\"none\")),IF(AA245=0,,IF(OR($E$17='Customer Info'!$H$19,$E$17=0),AA245,(AA245/$E$17)*'Customer Info'!$H$19)),)","v":0},{"$f":"IF((OR($F$18=0,$F$18=\"none\")),IF(AB245=0,,IF(OR($E$18='Customer Info'!$H$20,$E$18=0),AB245,(AB245/$E$18)*'Customer Info'!$H$20)),)","v":0},{"$f":"IF((OR($F$19=0,$F$19=\"none\")),IF(AC245=0,,IF(OR($E$19='Customer Info'!$H$21,$E$19=0),AC245,(AC245/$E$19)*'Customer Info'!$H$21)),)","v":0},{"$f":"IF((OR($F$4=0,$F$4=\"none\")),IF(AD245=0,,IF(OR($E$4='Customer Info'!$D$18,$E$4=0),AD245,(AD245/$E$4)*'Customer Info'!$D$18)),)","v":0},{"$f":"IF((OR($F$5=0,$F$5=\"none\")),IF(AE245=0,,IF(OR($E$5='Customer Info'!$D$19,$E$5=0),AE245,(AE245/$E$5)*'Customer Info'!$D$19)),)","v":0},{"$f":"IF((OR($F$6=0,$F$6=\"none\")),IF(AF245=0,,IF(OR($E$6='Customer Info'!$D$20,$E$6=0),AF245,(AF245/$E$6)*'Customer Info'!$D$20)),)","v":0},{"$f":"IF((OR($F$7=0,$F$7=\"none\")),IF(AG245=0,,IF(OR($E$7='Customer Info'!$D$21,$E$7=0),AG245,(AG245/$E$7)*'Customer Info'!$D$21)),)","v":0},0,0,{"$f":"IF(E245=\"plate waste\",,IF('Customer Info'!$M$18=0,'Log Sheet'!AY245,'Customer Info'!$M$18*'Log Sheet'!AY245))","v":0},{"$f":"IF(E245=\"plate waste\",IF(OR(C245=\"patient\",C245=\"patient beverages\"),IF('Customer Info'!$M$27=0,AY245*'Customer Info'!$M$18,AY245*'Customer Info'!$M$27),IF(C245=\"cafeteria\",IF('Customer Info'!$M$28=0,AY245*'Customer Info'!$M$18,AY245*'Customer Info'!$M$28),IF(C245=\"other1\",IF('Customer Info'!$M$29=0,AY245*'Customer Info'!$M$18,AY245*'Customer Info'!$M$29),))),)","v":0},0,{"$f":"IF($F$4=\"lunch\",IF(S245=0,,(S245/$E$5)*'Customer Info'!$D$18),)","v":0},{"$f":"IF($F$4=\"dinner\",IF(T245=0,,(T245/$E$6)*'Customer Info'!$D$18),)","v":0},{"$f":"IF($F$4=\"other\",IF(U245=0,,(U245/$E$7)*'Customer Info'!$D$18),)","v":0},0,{"$f":"IF($F$5=\"breakfast\",IF(R245=0,,(R245/$E$4)*'Customer Info'!$D$19),)","v":0},{"$f":"IF($F$5=\"dinner\",IF(T245=0,,(T245/$E$6)*'Customer Info'!$D$19),)","v":0},{"$f":"IF($F$5=\"other\",IF(U245=0,,(U245/$E$7)*'Customer Info'!$D$19),)","v":0},0,{"$f":"IF($F$6=\"breakfast\",IF(R245=0,,(R245/$E$4)*'Customer Info'!$D$20),)","v":0},{"$f":"IF($F$6=\"lunch\",IF(S245=0,,(S245/$E$5)*'Customer Info'!$D$20),)","v":0},{"$f":"IF($F$6=\"other\",IF(U245=0,,(U245/$E$7)*'Customer Info'!$D$20),)","v":0},0,{"$f":"IF($F$7=\"breakfast\",IF(R245=0,,(R245/$E$4)*'Customer Info'!$D$21),)","v":0},{"$f":"IF($F$7=\"lunch\",IF(S245=0,,(S245/$E$5)*'Customer Info'!$D$21),)","v":0},{"$f":"IF($F$7=\"dinner\",IF(T245=0,,(T245/$E$6)*'Customer Info'!$D$21),)","v":0},0,{"$f":"IF($F$10=\"lunch\",IF(W245=0,,(W245/$E$11)*'Customer Info'!$F$18),)","v":0},{"$f":"IF($F$10=\"dinner\",IF(X245=0,,(X245/$E$12)*'Customer Info'!$F$18),)","v":0},{"$f":"IF($F$10=\"other\",IF(Y245=0,,(Y245/$E$13)*'Customer Info'!$F$18),)","v":0},0,{"$f":"IF($F$11=\"breakfast\",IF(V245=0,,(V245/$E$10)*'Customer Info'!$F$19),)","v":0},{"$f":"IF($F$11=\"dinner\",IF(X245=0,,(X245/$E$12)*'Customer Info'!$F$19),)","v":0},{"$f":"IF($F$11=\"other\",IF(Y245=0,,(Y245/$E$13)*'Customer Info'!$F$19),)","v":0},0,{"$f":"IF($F$12=\"breakfast\",IF(V245=0,,(V245/$E$10)*'Customer Info'!$F$20),)","v":0},{"$f":"IF($F$12=\"lunch\",IF(W245=0,,(W245/$E$11)*'Customer Info'!$F$20),)","v":0},{"$f":"IF($F$12=\"other\",IF(Y245=0,,(Y245/$E$13)*'Customer Info'!$F$20),)","v":0},0,{"$f":"IF($F$13=\"breakfast\",IF(V245=0,,(V245/$E$10)*'Customer Info'!$F$21),)","v":0},{"$f":"IF($F$13=\"lunch\",IF(W245=0,,(W245/$E$11)*'Customer Info'!$F$21),)","v":0},{"$f":"IF($F$13=\"dinner\",IF(X245=0,,(X245/$E$12)*'Customer Info'!$F$21),)","v":0},0,{"$f":"IF($F$16=\"lunch\",IF(AA245=0,,(AA245/$E$17)*'Customer Info'!$H$18),)","v":0},{"$f":"IF($F$16=\"dinner\",IF(AB245=0,,(AB245/$E$18)*'Customer Info'!$H$18),)","v":0},{"$f":"IF($F$16=\"other\",IF(AC245=0,,(AC245/$E$19)*'Customer Info'!$H$18),)","v":0},0,{"$f":"IF($F$17=\"breakfast\",IF(Z245=0,,(Z245/$E$16)*'Customer Info'!$H$19),)","v":0},{"$f":"IF($F$17=\"dinner\",IF(AB245=0,,(AB245/$E$18)*'Customer Info'!$H$19),)","v":0},{"$f":"IF($F$17=\"other\",IF(AC245=0,,(AC245/$E$19)*'Customer Info'!$H$19),)","v":0},0,{"$f":"IF($F$18=\"breakfast\",IF(Z245=0,,(Z245/$E$16)*'Customer Info'!$H$20),)","v":0},{"$f":"IF($F$18=\"lunch\",IF(AA245=0,,(AA245/$E$17)*'Customer Info'!$H$20),)","v":0},{"$f":"IF($F$18=\"other\",IF(AC245=0,,(AC245/$E$19)*'Customer Info'!$H$20),)","v":0},0,{"$f":"IF($F$19=\"breakfast\",IF(Z245=0,,(Z245/$E$16)*'Customer Info'!$H$21),)","v":0},{"$f":"IF($F$19=\"lunch\",IF(AA245=0,,(AA245/$E$17)*'Customer Info'!$H$21),)","v":0},{"$f":"IF($F$19=\"dinner\",IF(AB245=0,,(AB245/$E$18)*'Customer Info'!$H$21),)","v":0},0,0,0,0,0,""]
[null,null,null,null,null,null,null,null,null,null,0,0,0,0,0,0,0,0,0,0,0,0,0,0,0,0,0,0,0,0,0,0,0,{"$f":"IF((OR($F$4=0,$F$4=\"none\")),IF(R246=0,,IF(OR($E$4='Customer Info'!$D$18,$E$4=0),R246,(R246/$E$4)*'Customer Info'!$D$18)),)","v":0},{"$f":"IF((OR($F$5=0,$F$5=\"none\")),IF(S246=0,,IF(OR($E$5='Customer Info'!$D$18,$E$5=0),S246,(S246/$E$5)*'Customer Info'!$D$19)),)","v":0},{"$f":"IF((OR($F$6=0,$F$6=\"none\")),IF(T246=0,,IF(OR($E$6='Customer Info'!$D$18,$E$6=0),T246,(T246/$E$6)*'Customer Info'!$D$20)),)","v":0},{"$f":"IF((OR($F$7=0,$F$7=\"none\")),IF(U246=0,,IF(OR($E$7='Customer Info'!$D$18,$E$7=0),U246,(U246/$E$7)*'Customer Info'!$D$21)),)","v":0},{"$f":"IF((OR($F$10=0,$F$10=\"none\")),IF(V246=0,,IF(OR($E$10='Customer Info'!$F$18,$E$10=0),V246,(V246/$E$10)*'Customer Info'!$F$18)),)","v":0},{"$f":"IF((OR($F$11=0,$F$11=\"none\")),IF(W246=0,,IF(OR($E$11='Customer Info'!$F$19,$E$11=0),W246,(W246/$E$11)*'Customer Info'!$F$19)),)","v":0},{"$f":"IF((OR($F$12=0,$F$12=\"none\")),IF(X246=0,,IF(OR($E$12='Customer Info'!$F$20,$E$12=0),X246,(X246/$E$12)*'Customer Info'!$F$20)),)","v":0},{"$f":"IF((OR($F$13=0,$F$13=\"none\")),IF(Y246=0,,IF(OR($E$13='Customer Info'!$F$21,$E$13=0),Y246,(Y246/$E$13)*'Customer Info'!$F$21)),)","v":0},{"$f":"IF((OR($F$16=0,$F$16=\"none\")),IF(Z246=0,,IF(OR($E$16='Customer Info'!$H$18,$E$16=0),Z246,(Z246/$E$16)*'Customer Info'!$H$18)),)","v":0},{"$f":"IF((OR($F$17=0,$F$17=\"none\")),IF(AA246=0,,IF(OR($E$17='Customer Info'!$H$19,$E$17=0),AA246,(AA246/$E$17)*'Customer Info'!$H$19)),)","v":0},{"$f":"IF((OR($F$18=0,$F$18=\"none\")),IF(AB246=0,,IF(OR($E$18='Customer Info'!$H$20,$E$18=0),AB246,(AB246/$E$18)*'Customer Info'!$H$20)),)","v":0},{"$f":"IF((OR($F$19=0,$F$19=\"none\")),IF(AC246=0,,IF(OR($E$19='Customer Info'!$H$21,$E$19=0),AC246,(AC246/$E$19)*'Customer Info'!$H$21)),)","v":0},{"$f":"IF((OR($F$4=0,$F$4=\"none\")),IF(AD246=0,,IF(OR($E$4='Customer Info'!$D$18,$E$4=0),AD246,(AD246/$E$4)*'Customer Info'!$D$18)),)","v":0},{"$f":"IF((OR($F$5=0,$F$5=\"none\")),IF(AE246=0,,IF(OR($E$5='Customer Info'!$D$19,$E$5=0),AE246,(AE246/$E$5)*'Customer Info'!$D$19)),)","v":0},{"$f":"IF((OR($F$6=0,$F$6=\"none\")),IF(AF246=0,,IF(OR($E$6='Customer Info'!$D$20,$E$6=0),AF246,(AF246/$E$6)*'Customer Info'!$D$20)),)","v":0},{"$f":"IF((OR($F$7=0,$F$7=\"none\")),IF(AG246=0,,IF(OR($E$7='Customer Info'!$D$21,$E$7=0),AG246,(AG246/$E$7)*'Customer Info'!$D$21)),)","v":0},0,0,{"$f":"IF(E246=\"plate waste\",,IF('Customer Info'!$M$18=0,'Log Sheet'!AY246,'Customer Info'!$M$18*'Log Sheet'!AY246))","v":0},{"$f":"IF(E246=\"plate waste\",IF(OR(C246=\"patient\",C246=\"patient beverages\"),IF('Customer Info'!$M$27=0,AY246*'Customer Info'!$M$18,AY246*'Customer Info'!$M$27),IF(C246=\"cafeteria\",IF('Customer Info'!$M$28=0,AY246*'Customer Info'!$M$18,AY246*'Customer Info'!$M$28),IF(C246=\"other1\",IF('Customer Info'!$M$29=0,AY246*'Customer Info'!$M$18,AY246*'Customer Info'!$M$29),))),)","v":0},0,{"$f":"IF($F$4=\"lunch\",IF(S246=0,,(S246/$E$5)*'Customer Info'!$D$18),)","v":0},{"$f":"IF($F$4=\"dinner\",IF(T246=0,,(T246/$E$6)*'Customer Info'!$D$18),)","v":0},{"$f":"IF($F$4=\"other\",IF(U246=0,,(U246/$E$7)*'Customer Info'!$D$18),)","v":0},0,{"$f":"IF($F$5=\"breakfast\",IF(R246=0,,(R246/$E$4)*'Customer Info'!$D$19),)","v":0},{"$f":"IF($F$5=\"dinner\",IF(T246=0,,(T246/$E$6)*'Customer Info'!$D$19),)","v":0},{"$f":"IF($F$5=\"other\",IF(U246=0,,(U246/$E$7)*'Customer Info'!$D$19),)","v":0},0,{"$f":"IF($F$6=\"breakfast\",IF(R246=0,,(R246/$E$4)*'Customer Info'!$D$20),)","v":0},{"$f":"IF($F$6=\"lunch\",IF(S246=0,,(S246/$E$5)*'Customer Info'!$D$20),)","v":0},{"$f":"IF($F$6=\"other\",IF(U246=0,,(U246/$E$7)*'Customer Info'!$D$20),)","v":0},0,{"$f":"IF($F$7=\"breakfast\",IF(R246=0,,(R246/$E$4)*'Customer Info'!$D$21),)","v":0},{"$f":"IF($F$7=\"lunch\",IF(S246=0,,(S246/$E$5)*'Customer Info'!$D$21),)","v":0},{"$f":"IF($F$7=\"dinner\",IF(T246=0,,(T246/$E$6)*'Customer Info'!$D$21),)","v":0},0,{"$f":"IF($F$10=\"lunch\",IF(W246=0,,(W246/$E$11)*'Customer Info'!$F$18),)","v":0},{"$f":"IF($F$10=\"dinner\",IF(X246=0,,(X246/$E$12)*'Customer Info'!$F$18),)","v":0},{"$f":"IF($F$10=\"other\",IF(Y246=0,,(Y246/$E$13)*'Customer Info'!$F$18),)","v":0},0,{"$f":"IF($F$11=\"breakfast\",IF(V246=0,,(V246/$E$10)*'Customer Info'!$F$19),)","v":0},{"$f":"IF($F$11=\"dinner\",IF(X246=0,,(X246/$E$12)*'Customer Info'!$F$19),)","v":0},{"$f":"IF($F$11=\"other\",IF(Y246=0,,(Y246/$E$13)*'Customer Info'!$F$19),)","v":0},0,{"$f":"IF($F$12=\"breakfast\",IF(V246=0,,(V246/$E$10)*'Customer Info'!$F$20),)","v":0},{"$f":"IF($F$12=\"lunch\",IF(W246=0,,(W246/$E$11)*'Customer Info'!$F$20),)","v":0},{"$f":"IF($F$12=\"other\",IF(Y246=0,,(Y246/$E$13)*'Customer Info'!$F$20),)","v":0},0,{"$f":"IF($F$13=\"breakfast\",IF(V246=0,,(V246/$E$10)*'Customer Info'!$F$21),)","v":0},{"$f":"IF($F$13=\"lunch\",IF(W246=0,,(W246/$E$11)*'Customer Info'!$F$21),)","v":0},{"$f":"IF($F$13=\"dinner\",IF(X246=0,,(X246/$E$12)*'Customer Info'!$F$21),)","v":0},0,{"$f":"IF($F$16=\"lunch\",IF(AA246=0,,(AA246/$E$17)*'Customer Info'!$H$18),)","v":0},{"$f":"IF($F$16=\"dinner\",IF(AB246=0,,(AB246/$E$18)*'Customer Info'!$H$18),)","v":0},{"$f":"IF($F$16=\"other\",IF(AC246=0,,(AC246/$E$19)*'Customer Info'!$H$18),)","v":0},0,{"$f":"IF($F$17=\"breakfast\",IF(Z246=0,,(Z246/$E$16)*'Customer Info'!$H$19),)","v":0},{"$f":"IF($F$17=\"dinner\",IF(AB246=0,,(AB246/$E$18)*'Customer Info'!$H$19),)","v":0},{"$f":"IF($F$17=\"other\",IF(AC246=0,,(AC246/$E$19)*'Customer Info'!$H$19),)","v":0},0,{"$f":"IF($F$18=\"breakfast\",IF(Z246=0,,(Z246/$E$16)*'Customer Info'!$H$20),)","v":0},{"$f":"IF($F$18=\"lunch\",IF(AA246=0,,(AA246/$E$17)*'Customer Info'!$H$20),)","v":0},{"$f":"IF($F$18=\"other\",IF(AC246=0,,(AC246/$E$19)*'Customer Info'!$H$20),)","v":0},0,{"$f":"IF($F$19=\"breakfast\",IF(Z246=0,,(Z246/$E$16)*'Customer Info'!$H$21),)","v":0},{"$f":"IF($F$19=\"lunch\",IF(AA246=0,,(AA246/$E$17)*'Customer Info'!$H$21),)","v":0},{"$f":"IF($F$19=\"dinner\",IF(AB246=0,,(AB246/$E$18)*'Customer Info'!$H$21),)","v":0},0,0,0,0,0,""]
[null,null,null,null,null,null,null,null,null,null,0,0,0,0,0,0,0,0,0,0,0,0,0,0,0,0,0,0,0,0,0,0,0,{"$f":"IF((OR($F$4=0,$F$4=\"none\")),IF(R247=0,,IF(OR($E$4='Customer Info'!$D$18,$E$4=0),R247,(R247/$E$4)*'Customer Info'!$D$18)),)","v":0},{"$f":"IF((OR($F$5=0,$F$5=\"none\")),IF(S247=0,,IF(OR($E$5='Customer Info'!$D$18,$E$5=0),S247,(S247/$E$5)*'Customer Info'!$D$19)),)","v":0},{"$f":"IF((OR($F$6=0,$F$6=\"none\")),IF(T247=0,,IF(OR($E$6='Customer Info'!$D$18,$E$6=0),T247,(T247/$E$6)*'Customer Info'!$D$20)),)","v":0},{"$f":"IF((OR($F$7=0,$F$7=\"none\")),IF(U247=0,,IF(OR($E$7='Customer Info'!$D$18,$E$7=0),U247,(U247/$E$7)*'Customer Info'!$D$21)),)","v":0},{"$f":"IF((OR($F$10=0,$F$10=\"none\")),IF(V247=0,,IF(OR($E$10='Customer Info'!$F$18,$E$10=0),V247,(V247/$E$10)*'Customer Info'!$F$18)),)","v":0},{"$f":"IF((OR($F$11=0,$F$11=\"none\")),IF(W247=0,,IF(OR($E$11='Customer Info'!$F$19,$E$11=0),W247,(W247/$E$11)*'Customer Info'!$F$19)),)","v":0},{"$f":"IF((OR($F$12=0,$F$12=\"none\")),IF(X247=0,,IF(OR($E$12='Customer Info'!$F$20,$E$12=0),X247,(X247/$E$12)*'Customer Info'!$F$20)),)","v":0},{"$f":"IF((OR($F$13=0,$F$13=\"none\")),IF(Y247=0,,IF(OR($E$13='Customer Info'!$F$21,$E$13=0),Y247,(Y247/$E$13)*'Customer Info'!$F$21)),)","v":0},{"$f":"IF((OR($F$16=0,$F$16=\"none\")),IF(Z247=0,,IF(OR($E$16='Customer Info'!$H$18,$E$16=0),Z247,(Z247/$E$16)*'Customer Info'!$H$18)),)","v":0},{"$f":"IF((OR($F$17=0,$F$17=\"none\")),IF(AA247=0,,IF(OR($E$17='Customer Info'!$H$19,$E$17=0),AA247,(AA247/$E$17)*'Customer Info'!$H$19)),)","v":0},{"$f":"IF((OR($F$18=0,$F$18=\"none\")),IF(AB247=0,,IF(OR($E$18='Customer Info'!$H$20,$E$18=0),AB247,(AB247/$E$18)*'Customer Info'!$H$20)),)","v":0},{"$f":"IF((OR($F$19=0,$F$19=\"none\")),IF(AC247=0,,IF(OR($E$19='Customer Info'!$H$21,$E$19=0),AC247,(AC247/$E$19)*'Customer Info'!$H$21)),)","v":0},{"$f":"IF((OR($F$4=0,$F$4=\"none\")),IF(AD247=0,,IF(OR($E$4='Customer Info'!$D$18,$E$4=0),AD247,(AD247/$E$4)*'Customer Info'!$D$18)),)","v":0},{"$f":"IF((OR($F$5=0,$F$5=\"none\")),IF(AE247=0,,IF(OR($E$5='Customer Info'!$D$19,$E$5=0),AE247,(AE247/$E$5)*'Customer Info'!$D$19)),)","v":0},{"$f":"IF((OR($F$6=0,$F$6=\"none\")),IF(AF247=0,,IF(OR($E$6='Customer Info'!$D$20,$E$6=0),AF247,(AF247/$E$6)*'Customer Info'!$D$20)),)","v":0},{"$f":"IF((OR($F$7=0,$F$7=\"none\")),IF(AG247=0,,IF(OR($E$7='Customer Info'!$D$21,$E$7=0),AG247,(AG247/$E$7)*'Customer Info'!$D$21)),)","v":0},0,0,{"$f":"IF(E247=\"plate waste\",,IF('Customer Info'!$M$18=0,'Log Sheet'!AY247,'Customer Info'!$M$18*'Log Sheet'!AY247))","v":0},{"$f":"IF(E247=\"plate waste\",IF(OR(C247=\"patient\",C247=\"patient beverages\"),IF('Customer Info'!$M$27=0,AY247*'Customer Info'!$M$18,AY247*'Customer Info'!$M$27),IF(C247=\"cafeteria\",IF('Customer Info'!$M$28=0,AY247*'Customer Info'!$M$18,AY247*'Customer Info'!$M$28),IF(C247=\"other1\",IF('Customer Info'!$M$29=0,AY247*'Customer Info'!$M$18,AY247*'Customer Info'!$M$29),))),)","v":0},0,{"$f":"IF($F$4=\"lunch\",IF(S247=0,,(S247/$E$5)*'Customer Info'!$D$18),)","v":0},{"$f":"IF($F$4=\"dinner\",IF(T247=0,,(T247/$E$6)*'Customer Info'!$D$18),)","v":0},{"$f":"IF($F$4=\"other\",IF(U247=0,,(U247/$E$7)*'Customer Info'!$D$18),)","v":0},0,{"$f":"IF($F$5=\"breakfast\",IF(R247=0,,(R247/$E$4)*'Customer Info'!$D$19),)","v":0},{"$f":"IF($F$5=\"dinner\",IF(T247=0,,(T247/$E$6)*'Customer Info'!$D$19),)","v":0},{"$f":"IF($F$5=\"other\",IF(U247=0,,(U247/$E$7)*'Customer Info'!$D$19),)","v":0},0,{"$f":"IF($F$6=\"breakfast\",IF(R247=0,,(R247/$E$4)*'Customer Info'!$D$20),)","v":0},{"$f":"IF($F$6=\"lunch\",IF(S247=0,,(S247/$E$5)*'Customer Info'!$D$20),)","v":0},{"$f":"IF($F$6=\"other\",IF(U247=0,,(U247/$E$7)*'Customer Info'!$D$20),)","v":0},0,{"$f":"IF($F$7=\"breakfast\",IF(R247=0,,(R247/$E$4)*'Customer Info'!$D$21),)","v":0},{"$f":"IF($F$7=\"lunch\",IF(S247=0,,(S247/$E$5)*'Customer Info'!$D$21),)","v":0},{"$f":"IF($F$7=\"dinner\",IF(T247=0,,(T247/$E$6)*'Customer Info'!$D$21),)","v":0},0,{"$f":"IF($F$10=\"lunch\",IF(W247=0,,(W247/$E$11)*'Customer Info'!$F$18),)","v":0},{"$f":"IF($F$10=\"dinner\",IF(X247=0,,(X247/$E$12)*'Customer Info'!$F$18),)","v":0},{"$f":"IF($F$10=\"other\",IF(Y247=0,,(Y247/$E$13)*'Customer Info'!$F$18),)","v":0},0,{"$f":"IF($F$11=\"breakfast\",IF(V247=0,,(V247/$E$10)*'Customer Info'!$F$19),)","v":0},{"$f":"IF($F$11=\"dinner\",IF(X247=0,,(X247/$E$12)*'Customer Info'!$F$19),)","v":0},{"$f":"IF($F$11=\"other\",IF(Y247=0,,(Y247/$E$13)*'Customer Info'!$F$19),)","v":0},0,{"$f":"IF($F$12=\"breakfast\",IF(V247=0,,(V247/$E$10)*'Customer Info'!$F$20),)","v":0},{"$f":"IF($F$12=\"lunch\",IF(W247=0,,(W247/$E$11)*'Customer Info'!$F$20),)","v":0},{"$f":"IF($F$12=\"other\",IF(Y247=0,,(Y247/$E$13)*'Customer Info'!$F$20),)","v":0},0,{"$f":"IF($F$13=\"breakfast\",IF(V247=0,,(V247/$E$10)*'Customer Info'!$F$21),)","v":0},{"$f":"IF($F$13=\"lunch\",IF(W247=0,,(W247/$E$11)*'Customer Info'!$F$21),)","v":0},{"$f":"IF($F$13=\"dinner\",IF(X247=0,,(X247/$E$12)*'Customer Info'!$F$21),)","v":0},0,{"$f":"IF($F$16=\"lunch\",IF(AA247=0,,(AA247/$E$17)*'Customer Info'!$H$18),)","v":0},{"$f":"IF($F$16=\"dinner\",IF(AB247=0,,(AB247/$E$18)*'Customer Info'!$H$18),)","v":0},{"$f":"IF($F$16=\"other\",IF(AC247=0,,(AC247/$E$19)*'Customer Info'!$H$18),)","v":0},0,{"$f":"IF($F$17=\"breakfast\",IF(Z247=0,,(Z247/$E$16)*'Customer Info'!$H$19),)","v":0},{"$f":"IF($F$17=\"dinner\",IF(AB247=0,,(AB247/$E$18)*'Customer Info'!$H$19),)","v":0},{"$f":"IF($F$17=\"other\",IF(AC247=0,,(AC247/$E$19)*'Customer Info'!$H$19),)","v":0},0,{"$f":"IF($F$18=\"breakfast\",IF(Z247=0,,(Z247/$E$16)*'Customer Info'!$H$20),)","v":0},{"$f":"IF($F$18=\"lunch\",IF(AA247=0,,(AA247/$E$17)*'Customer Info'!$H$20),)","v":0},{"$f":"IF($F$18=\"other\",IF(AC247=0,,(AC247/$E$19)*'Customer Info'!$H$20),)","v":0},0,{"$f":"IF($F$19=\"breakfast\",IF(Z247=0,,(Z247/$E$16)*'Customer Info'!$H$21),)","v":0},{"$f":"IF($F$19=\"lunch\",IF(AA247=0,,(AA247/$E$17)*'Customer Info'!$H$21),)","v":0},{"$f":"IF($F$19=\"dinner\",IF(AB247=0,,(AB247/$E$18)*'Customer Info'!$H$21),)","v":0},0,0,0,0,0,""]
[null,null,null,null,null,null,null,null,null,null,0,0,0,0,0,0,0,0,0,0,0,0,0,0,0,0,0,0,0,0,0,0,0,{"$f":"IF((OR($F$4=0,$F$4=\"none\")),IF(R248=0,,IF(OR($E$4='Customer Info'!$D$18,$E$4=0),R248,(R248/$E$4)*'Customer Info'!$D$18)),)","v":0},{"$f":"IF((OR($F$5=0,$F$5=\"none\")),IF(S248=0,,IF(OR($E$5='Customer Info'!$D$18,$E$5=0),S248,(S248/$E$5)*'Customer Info'!$D$19)),)","v":0},{"$f":"IF((OR($F$6=0,$F$6=\"none\")),IF(T248=0,,IF(OR($E$6='Customer Info'!$D$18,$E$6=0),T248,(T248/$E$6)*'Customer Info'!$D$20)),)","v":0},{"$f":"IF((OR($F$7=0,$F$7=\"none\")),IF(U248=0,,IF(OR($E$7='Customer Info'!$D$18,$E$7=0),U248,(U248/$E$7)*'Customer Info'!$D$21)),)","v":0},{"$f":"IF((OR($F$10=0,$F$10=\"none\")),IF(V248=0,,IF(OR($E$10='Customer Info'!$F$18,$E$10=0),V248,(V248/$E$10)*'Customer Info'!$F$18)),)","v":0},{"$f":"IF((OR($F$11=0,$F$11=\"none\")),IF(W248=0,,IF(OR($E$11='Customer Info'!$F$19,$E$11=0),W248,(W248/$E$11)*'Customer Info'!$F$19)),)","v":0},{"$f":"IF((OR($F$12=0,$F$12=\"none\")),IF(X248=0,,IF(OR($E$12='Customer Info'!$F$20,$E$12=0),X248,(X248/$E$12)*'Customer Info'!$F$20)),)","v":0},{"$f":"IF((OR($F$13=0,$F$13=\"none\")),IF(Y248=0,,IF(OR($E$13='Customer Info'!$F$21,$E$13=0),Y248,(Y248/$E$13)*'Customer Info'!$F$21)),)","v":0},{"$f":"IF((OR($F$16=0,$F$16=\"none\")),IF(Z248=0,,IF(OR($E$16='Customer Info'!$H$18,$E$16=0),Z248,(Z248/$E$16)*'Customer Info'!$H$18)),)","v":0},{"$f":"IF((OR($F$17=0,$F$17=\"none\")),IF(AA248=0,,IF(OR($E$17='Customer Info'!$H$19,$E$17=0),AA248,(AA248/$E$17)*'Customer Info'!$H$19)),)","v":0},{"$f":"IF((OR($F$18=0,$F$18=\"none\")),IF(AB248=0,,IF(OR($E$18='Customer Info'!$H$20,$E$18=0),AB248,(AB248/$E$18)*'Customer Info'!$H$20)),)","v":0},{"$f":"IF((OR($F$19=0,$F$19=\"none\")),IF(AC248=0,,IF(OR($E$19='Customer Info'!$H$21,$E$19=0),AC248,(AC248/$E$19)*'Customer Info'!$H$21)),)","v":0},{"$f":"IF((OR($F$4=0,$F$4=\"none\")),IF(AD248=0,,IF(OR($E$4='Customer Info'!$D$18,$E$4=0),AD248,(AD248/$E$4)*'Customer Info'!$D$18)),)","v":0},{"$f":"IF((OR($F$5=0,$F$5=\"none\")),IF(AE248=0,,IF(OR($E$5='Customer Info'!$D$19,$E$5=0),AE248,(AE248/$E$5)*'Customer Info'!$D$19)),)","v":0},{"$f":"IF((OR($F$6=0,$F$6=\"none\")),IF(AF248=0,,IF(OR($E$6='Customer Info'!$D$20,$E$6=0),AF248,(AF248/$E$6)*'Customer Info'!$D$20)),)","v":0},{"$f":"IF((OR($F$7=0,$F$7=\"none\")),IF(AG248=0,,IF(OR($E$7='Customer Info'!$D$21,$E$7=0),AG248,(AG248/$E$7)*'Customer Info'!$D$21)),)","v":0},0,0,{"$f":"IF(E248=\"plate waste\",,IF('Customer Info'!$M$18=0,'Log Sheet'!AY248,'Customer Info'!$M$18*'Log Sheet'!AY248))","v":0},{"$f":"IF(E248=\"plate waste\",IF(OR(C248=\"patient\",C248=\"patient beverages\"),IF('Customer Info'!$M$27=0,AY248*'Customer Info'!$M$18,AY248*'Customer Info'!$M$27),IF(C248=\"cafeteria\",IF('Customer Info'!$M$28=0,AY248*'Customer Info'!$M$18,AY248*'Customer Info'!$M$28),IF(C248=\"other1\",IF('Customer Info'!$M$29=0,AY248*'Customer Info'!$M$18,AY248*'Customer Info'!$M$29),))),)","v":0},0,{"$f":"IF($F$4=\"lunch\",IF(S248=0,,(S248/$E$5)*'Customer Info'!$D$18),)","v":0},{"$f":"IF($F$4=\"dinner\",IF(T248=0,,(T248/$E$6)*'Customer Info'!$D$18),)","v":0},{"$f":"IF($F$4=\"other\",IF(U248=0,,(U248/$E$7)*'Customer Info'!$D$18),)","v":0},0,{"$f":"IF($F$5=\"breakfast\",IF(R248=0,,(R248/$E$4)*'Customer Info'!$D$19),)","v":0},{"$f":"IF($F$5=\"dinner\",IF(T248=0,,(T248/$E$6)*'Customer Info'!$D$19),)","v":0},{"$f":"IF($F$5=\"other\",IF(U248=0,,(U248/$E$7)*'Customer Info'!$D$19),)","v":0},0,{"$f":"IF($F$6=\"breakfast\",IF(R248=0,,(R248/$E$4)*'Customer Info'!$D$20),)","v":0},{"$f":"IF($F$6=\"lunch\",IF(S248=0,,(S248/$E$5)*'Customer Info'!$D$20),)","v":0},{"$f":"IF($F$6=\"other\",IF(U248=0,,(U248/$E$7)*'Customer Info'!$D$20),)","v":0},0,{"$f":"IF($F$7=\"breakfast\",IF(R248=0,,(R248/$E$4)*'Customer Info'!$D$21),)","v":0},{"$f":"IF($F$7=\"lunch\",IF(S248=0,,(S248/$E$5)*'Customer Info'!$D$21),)","v":0},{"$f":"IF($F$7=\"dinner\",IF(T248=0,,(T248/$E$6)*'Customer Info'!$D$21),)","v":0},0,{"$f":"IF($F$10=\"lunch\",IF(W248=0,,(W248/$E$11)*'Customer Info'!$F$18),)","v":0},{"$f":"IF($F$10=\"dinner\",IF(X248=0,,(X248/$E$12)*'Customer Info'!$F$18),)","v":0},{"$f":"IF($F$10=\"other\",IF(Y248=0,,(Y248/$E$13)*'Customer Info'!$F$18),)","v":0},0,{"$f":"IF($F$11=\"breakfast\",IF(V248=0,,(V248/$E$10)*'Customer Info'!$F$19),)","v":0},{"$f":"IF($F$11=\"dinner\",IF(X248=0,,(X248/$E$12)*'Customer Info'!$F$19),)","v":0},{"$f":"IF($F$11=\"other\",IF(Y248=0,,(Y248/$E$13)*'Customer Info'!$F$19),)","v":0},0,{"$f":"IF($F$12=\"breakfast\",IF(V248=0,,(V248/$E$10)*'Customer Info'!$F$20),)","v":0},{"$f":"IF($F$12=\"lunch\",IF(W248=0,,(W248/$E$11)*'Customer Info'!$F$20),)","v":0},{"$f":"IF($F$12=\"other\",IF(Y248=0,,(Y248/$E$13)*'Customer Info'!$F$20),)","v":0},0,{"$f":"IF($F$13=\"breakfast\",IF(V248=0,,(V248/$E$10)*'Customer Info'!$F$21),)","v":0},{"$f":"IF($F$13=\"lunch\",IF(W248=0,,(W248/$E$11)*'Customer Info'!$F$21),)","v":0},{"$f":"IF($F$13=\"dinner\",IF(X248=0,,(X248/$E$12)*'Customer Info'!$F$21),)","v":0},0,{"$f":"IF($F$16=\"lunch\",IF(AA248=0,,(AA248/$E$17)*'Customer Info'!$H$18),)","v":0},{"$f":"IF($F$16=\"dinner\",IF(AB248=0,,(AB248/$E$18)*'Customer Info'!$H$18),)","v":0},{"$f":"IF($F$16=\"other\",IF(AC248=0,,(AC248/$E$19)*'Customer Info'!$H$18),)","v":0},0,{"$f":"IF($F$17=\"breakfast\",IF(Z248=0,,(Z248/$E$16)*'Customer Info'!$H$19),)","v":0},{"$f":"IF($F$17=\"dinner\",IF(AB248=0,,(AB248/$E$18)*'Customer Info'!$H$19),)","v":0},{"$f":"IF($F$17=\"other\",IF(AC248=0,,(AC248/$E$19)*'Customer Info'!$H$19),)","v":0},0,{"$f":"IF($F$18=\"breakfast\",IF(Z248=0,,(Z248/$E$16)*'Customer Info'!$H$20),)","v":0},{"$f":"IF($F$18=\"lunch\",IF(AA248=0,,(AA248/$E$17)*'Customer Info'!$H$20),)","v":0},{"$f":"IF($F$18=\"other\",IF(AC248=0,,(AC248/$E$19)*'Customer Info'!$H$20),)","v":0},0,{"$f":"IF($F$19=\"breakfast\",IF(Z248=0,,(Z248/$E$16)*'Customer Info'!$H$21),)","v":0},{"$f":"IF($F$19=\"lunch\",IF(AA248=0,,(AA248/$E$17)*'Customer Info'!$H$21),)","v":0},{"$f":"IF($F$19=\"dinner\",IF(AB248=0,,(AB248/$E$18)*'Customer Info'!$H$21),)","v":0},0,0,0,0,0,""]
[null,null,null,null,null,null,null,null,null,null,0,0,0,0,0,0,0,0,0,0,0,0,0,0,0,0,0,0,0,0,0,0,0,{"$f":"IF((OR($F$4=0,$F$4=\"none\")),IF(R249=0,,IF(OR($E$4='Customer Info'!$D$18,$E$4=0),R249,(R249/$E$4)*'Customer Info'!$D$18)),)","v":0},{"$f":"IF((OR($F$5=0,$F$5=\"none\")),IF(S249=0,,IF(OR($E$5='Customer Info'!$D$18,$E$5=0),S249,(S249/$E$5)*'Customer Info'!$D$19)),)","v":0},{"$f":"IF((OR($F$6=0,$F$6=\"none\")),IF(T249=0,,IF(OR($E$6='Customer Info'!$D$18,$E$6=0),T249,(T249/$E$6)*'Customer Info'!$D$20)),)","v":0},{"$f":"IF((OR($F$7=0,$F$7=\"none\")),IF(U249=0,,IF(OR($E$7='Customer Info'!$D$18,$E$7=0),U249,(U249/$E$7)*'Customer Info'!$D$21)),)","v":0},{"$f":"IF((OR($F$10=0,$F$10=\"none\")),IF(V249=0,,IF(OR($E$10='Customer Info'!$F$18,$E$10=0),V249,(V249/$E$10)*'Customer Info'!$F$18)),)","v":0},{"$f":"IF((OR($F$11=0,$F$11=\"none\")),IF(W249=0,,IF(OR($E$11='Customer Info'!$F$19,$E$11=0),W249,(W249/$E$11)*'Customer Info'!$F$19)),)","v":0},{"$f":"IF((OR($F$12=0,$F$12=\"none\")),IF(X249=0,,IF(OR($E$12='Customer Info'!$F$20,$E$12=0),X249,(X249/$E$12)*'Customer Info'!$F$20)),)","v":0},{"$f":"IF((OR($F$13=0,$F$13=\"none\")),IF(Y249=0,,IF(OR($E$13='Customer Info'!$F$21,$E$13=0),Y249,(Y249/$E$13)*'Customer Info'!$F$21)),)","v":0},{"$f":"IF((OR($F$16=0,$F$16=\"none\")),IF(Z249=0,,IF(OR($E$16='Customer Info'!$H$18,$E$16=0),Z249,(Z249/$E$16)*'Customer Info'!$H$18)),)","v":0},{"$f":"IF((OR($F$17=0,$F$17=\"none\")),IF(AA249=0,,IF(OR($E$17='Customer Info'!$H$19,$E$17=0),AA249,(AA249/$E$17)*'Customer Info'!$H$19)),)","v":0},{"$f":"IF((OR($F$18=0,$F$18=\"none\")),IF(AB249=0,,IF(OR($E$18='Customer Info'!$H$20,$E$18=0),AB249,(AB249/$E$18)*'Customer Info'!$H$20)),)","v":0},{"$f":"IF((OR($F$19=0,$F$19=\"none\")),IF(AC249=0,,IF(OR($E$19='Customer Info'!$H$21,$E$19=0),AC249,(AC249/$E$19)*'Customer Info'!$H$21)),)","v":0},{"$f":"IF((OR($F$4=0,$F$4=\"none\")),IF(AD249=0,,IF(OR($E$4='Customer Info'!$D$18,$E$4=0),AD249,(AD249/$E$4)*'Customer Info'!$D$18)),)","v":0},{"$f":"IF((OR($F$5=0,$F$5=\"none\")),IF(AE249=0,,IF(OR($E$5='Customer Info'!$D$19,$E$5=0),AE249,(AE249/$E$5)*'Customer Info'!$D$19)),)","v":0},{"$f":"IF((OR($F$6=0,$F$6=\"none\")),IF(AF249=0,,IF(OR($E$6='Customer Info'!$D$20,$E$6=0),AF249,(AF249/$E$6)*'Customer Info'!$D$20)),)","v":0},{"$f":"IF((OR($F$7=0,$F$7=\"none\")),IF(AG249=0,,IF(OR($E$7='Customer Info'!$D$21,$E$7=0),AG249,(AG249/$E$7)*'Customer Info'!$D$21)),)","v":0},0,0,{"$f":"IF(E249=\"plate waste\",,IF('Customer Info'!$M$18=0,'Log Sheet'!AY249,'Customer Info'!$M$18*'Log Sheet'!AY249))","v":0},{"$f":"IF(E249=\"plate waste\",IF(OR(C249=\"patient\",C249=\"patient beverages\"),IF('Customer Info'!$M$27=0,AY249*'Customer Info'!$M$18,AY249*'Customer Info'!$M$27),IF(C249=\"cafeteria\",IF('Customer Info'!$M$28=0,AY249*'Customer Info'!$M$18,AY249*'Customer Info'!$M$28),IF(C249=\"other1\",IF('Customer Info'!$M$29=0,AY249*'Customer Info'!$M$18,AY249*'Customer Info'!$M$29),))),)","v":0},0,{"$f":"IF($F$4=\"lunch\",IF(S249=0,,(S249/$E$5)*'Customer Info'!$D$18),)","v":0},{"$f":"IF($F$4=\"dinner\",IF(T249=0,,(T249/$E$6)*'Customer Info'!$D$18),)","v":0},{"$f":"IF($F$4=\"other\",IF(U249=0,,(U249/$E$7)*'Customer Info'!$D$18),)","v":0},0,{"$f":"IF($F$5=\"breakfast\",IF(R249=0,,(R249/$E$4)*'Customer Info'!$D$19),)","v":0},{"$f":"IF($F$5=\"dinner\",IF(T249=0,,(T249/$E$6)*'Customer Info'!$D$19),)","v":0},{"$f":"IF($F$5=\"other\",IF(U249=0,,(U249/$E$7)*'Customer Info'!$D$19),)","v":0},0,{"$f":"IF($F$6=\"breakfast\",IF(R249=0,,(R249/$E$4)*'Customer Info'!$D$20),)","v":0},{"$f":"IF($F$6=\"lunch\",IF(S249=0,,(S249/$E$5)*'Customer Info'!$D$20),)","v":0},{"$f":"IF($F$6=\"other\",IF(U249=0,,(U249/$E$7)*'Customer Info'!$D$20),)","v":0},0,{"$f":"IF($F$7=\"breakfast\",IF(R249=0,,(R249/$E$4)*'Customer Info'!$D$21),)","v":0},{"$f":"IF($F$7=\"lunch\",IF(S249=0,,(S249/$E$5)*'Customer Info'!$D$21),)","v":0},{"$f":"IF($F$7=\"dinner\",IF(T249=0,,(T249/$E$6)*'Customer Info'!$D$21),)","v":0},0,{"$f":"IF($F$10=\"lunch\",IF(W249=0,,(W249/$E$11)*'Customer Info'!$F$18),)","v":0},{"$f":"IF($F$10=\"dinner\",IF(X249=0,,(X249/$E$12)*'Customer Info'!$F$18),)","v":0},{"$f":"IF($F$10=\"other\",IF(Y249=0,,(Y249/$E$13)*'Customer Info'!$F$18),)","v":0},0,{"$f":"IF($F$11=\"breakfast\",IF(V249=0,,(V249/$E$10)*'Customer Info'!$F$19),)","v":0},{"$f":"IF($F$11=\"dinner\",IF(X249=0,,(X249/$E$12)*'Customer Info'!$F$19),)","v":0},{"$f":"IF($F$11=\"other\",IF(Y249=0,,(Y249/$E$13)*'Customer Info'!$F$19),)","v":0},0,{"$f":"IF($F$12=\"breakfast\",IF(V249=0,,(V249/$E$10)*'Customer Info'!$F$20),)","v":0},{"$f":"IF($F$12=\"lunch\",IF(W249=0,,(W249/$E$11)*'Customer Info'!$F$20),)","v":0},{"$f":"IF($F$12=\"other\",IF(Y249=0,,(Y249/$E$13)*'Customer Info'!$F$20),)","v":0},0,{"$f":"IF($F$13=\"breakfast\",IF(V249=0,,(V249/$E$10)*'Customer Info'!$F$21),)","v":0},{"$f":"IF($F$13=\"lunch\",IF(W249=0,,(W249/$E$11)*'Customer Info'!$F$21),)","v":0},{"$f":"IF($F$13=\"dinner\",IF(X249=0,,(X249/$E$12)*'Customer Info'!$F$21),)","v":0},0,{"$f":"IF($F$16=\"lunch\",IF(AA249=0,,(AA249/$E$17)*'Customer Info'!$H$18),)","v":0},{"$f":"IF($F$16=\"dinner\",IF(AB249=0,,(AB249/$E$18)*'Customer Info'!$H$18),)","v":0},{"$f":"IF($F$16=\"other\",IF(AC249=0,,(AC249/$E$19)*'Customer Info'!$H$18),)","v":0},0,{"$f":"IF($F$17=\"breakfast\",IF(Z249=0,,(Z249/$E$16)*'Customer Info'!$H$19),)","v":0},{"$f":"IF($F$17=\"dinner\",IF(AB249=0,,(AB249/$E$18)*'Customer Info'!$H$19),)","v":0},{"$f":"IF($F$17=\"other\",IF(AC249=0,,(AC249/$E$19)*'Customer Info'!$H$19),)","v":0},0,{"$f":"IF($F$18=\"breakfast\",IF(Z249=0,,(Z249/$E$16)*'Customer Info'!$H$20),)","v":0},{"$f":"IF($F$18=\"lunch\",IF(AA249=0,,(AA249/$E$17)*'Customer Info'!$H$20),)","v":0},{"$f":"IF($F$18=\"other\",IF(AC249=0,,(AC249/$E$19)*'Customer Info'!$H$20),)","v":0},0,{"$f":"IF($F$19=\"breakfast\",IF(Z249=0,,(Z249/$E$16)*'Customer Info'!$H$21),)","v":0},{"$f":"IF($F$19=\"lunch\",IF(AA249=0,,(AA249/$E$17)*'Customer Info'!$H$21),)","v":0},{"$f":"IF($F$19=\"dinner\",IF(AB249=0,,(AB249/$E$18)*'Customer Info'!$H$21),)","v":0},0,0,0,0,0,""]
[null,null,null,null,null,null,null,null,null,null,0,0,0,0,0,0,0,0,0,0,0,0,0,0,0,0,0,0,0,0,0,0,0,{"$f":"IF((OR($F$4=0,$F$4=\"none\")),IF(R250=0,,IF(OR($E$4='Customer Info'!$D$18,$E$4=0),R250,(R250/$E$4)*'Customer Info'!$D$18)),)","v":0},{"$f":"IF((OR($F$5=0,$F$5=\"none\")),IF(S250=0,,IF(OR($E$5='Customer Info'!$D$18,$E$5=0),S250,(S250/$E$5)*'Customer Info'!$D$19)),)","v":0},{"$f":"IF((OR($F$6=0,$F$6=\"none\")),IF(T250=0,,IF(OR($E$6='Customer Info'!$D$18,$E$6=0),T250,(T250/$E$6)*'Customer Info'!$D$20)),)","v":0},{"$f":"IF((OR($F$7=0,$F$7=\"none\")),IF(U250=0,,IF(OR($E$7='Customer Info'!$D$18,$E$7=0),U250,(U250/$E$7)*'Customer Info'!$D$21)),)","v":0},{"$f":"IF((OR($F$10=0,$F$10=\"none\")),IF(V250=0,,IF(OR($E$10='Customer Info'!$F$18,$E$10=0),V250,(V250/$E$10)*'Customer Info'!$F$18)),)","v":0},{"$f":"IF((OR($F$11=0,$F$11=\"none\")),IF(W250=0,,IF(OR($E$11='Customer Info'!$F$19,$E$11=0),W250,(W250/$E$11)*'Customer Info'!$F$19)),)","v":0},{"$f":"IF((OR($F$12=0,$F$12=\"none\")),IF(X250=0,,IF(OR($E$12='Customer Info'!$F$20,$E$12=0),X250,(X250/$E$12)*'Customer Info'!$F$20)),)","v":0},{"$f":"IF((OR($F$13=0,$F$13=\"none\")),IF(Y250=0,,IF(OR($E$13='Customer Info'!$F$21,$E$13=0),Y250,(Y250/$E$13)*'Customer Info'!$F$21)),)","v":0},{"$f":"IF((OR($F$16=0,$F$16=\"none\")),IF(Z250=0,,IF(OR($E$16='Customer Info'!$H$18,$E$16=0),Z250,(Z250/$E$16)*'Customer Info'!$H$18)),)","v":0},{"$f":"IF((OR($F$17=0,$F$17=\"none\")),IF(AA250=0,,IF(OR($E$17='Customer Info'!$H$19,$E$17=0),AA250,(AA250/$E$17)*'Customer Info'!$H$19)),)","v":0},{"$f":"IF((OR($F$18=0,$F$18=\"none\")),IF(AB250=0,,IF(OR($E$18='Customer Info'!$H$20,$E$18=0),AB250,(AB250/$E$18)*'Customer Info'!$H$20)),)","v":0},{"$f":"IF((OR($F$19=0,$F$19=\"none\")),IF(AC250=0,,IF(OR($E$19='Customer Info'!$H$21,$E$19=0),AC250,(AC250/$E$19)*'Customer Info'!$H$21)),)","v":0},{"$f":"IF((OR($F$4=0,$F$4=\"none\")),IF(AD250=0,,IF(OR($E$4='Customer Info'!$D$18,$E$4=0),AD250,(AD250/$E$4)*'Customer Info'!$D$18)),)","v":0},{"$f":"IF((OR($F$5=0,$F$5=\"none\")),IF(AE250=0,,IF(OR($E$5='Customer Info'!$D$19,$E$5=0),AE250,(AE250/$E$5)*'Customer Info'!$D$19)),)","v":0},{"$f":"IF((OR($F$6=0,$F$6=\"none\")),IF(AF250=0,,IF(OR($E$6='Customer Info'!$D$20,$E$6=0),AF250,(AF250/$E$6)*'Customer Info'!$D$20)),)","v":0},{"$f":"IF((OR($F$7=0,$F$7=\"none\")),IF(AG250=0,,IF(OR($E$7='Customer Info'!$D$21,$E$7=0),AG250,(AG250/$E$7)*'Customer Info'!$D$21)),)","v":0},0,0,{"$f":"IF(E250=\"plate waste\",,IF('Customer Info'!$M$18=0,'Log Sheet'!AY250,'Customer Info'!$M$18*'Log Sheet'!AY250))","v":0},{"$f":"IF(E250=\"plate waste\",IF(OR(C250=\"patient\",C250=\"patient beverages\"),IF('Customer Info'!$M$27=0,AY250*'Customer Info'!$M$18,AY250*'Customer Info'!$M$27),IF(C250=\"cafeteria\",IF('Customer Info'!$M$28=0,AY250*'Customer Info'!$M$18,AY250*'Customer Info'!$M$28),IF(C250=\"other1\",IF('Customer Info'!$M$29=0,AY250*'Customer Info'!$M$18,AY250*'Customer Info'!$M$29),))),)","v":0},0,{"$f":"IF($F$4=\"lunch\",IF(S250=0,,(S250/$E$5)*'Customer Info'!$D$18),)","v":0},{"$f":"IF($F$4=\"dinner\",IF(T250=0,,(T250/$E$6)*'Customer Info'!$D$18),)","v":0},{"$f":"IF($F$4=\"other\",IF(U250=0,,(U250/$E$7)*'Customer Info'!$D$18),)","v":0},0,{"$f":"IF($F$5=\"breakfast\",IF(R250=0,,(R250/$E$4)*'Customer Info'!$D$19),)","v":0},{"$f":"IF($F$5=\"dinner\",IF(T250=0,,(T250/$E$6)*'Customer Info'!$D$19),)","v":0},{"$f":"IF($F$5=\"other\",IF(U250=0,,(U250/$E$7)*'Customer Info'!$D$19),)","v":0},0,{"$f":"IF($F$6=\"breakfast\",IF(R250=0,,(R250/$E$4)*'Customer Info'!$D$20),)","v":0},{"$f":"IF($F$6=\"lunch\",IF(S250=0,,(S250/$E$5)*'Customer Info'!$D$20),)","v":0},{"$f":"IF($F$6=\"other\",IF(U250=0,,(U250/$E$7)*'Customer Info'!$D$20),)","v":0},0,{"$f":"IF($F$7=\"breakfast\",IF(R250=0,,(R250/$E$4)*'Customer Info'!$D$21),)","v":0},{"$f":"IF($F$7=\"lunch\",IF(S250=0,,(S250/$E$5)*'Customer Info'!$D$21),)","v":0},{"$f":"IF($F$7=\"dinner\",IF(T250=0,,(T250/$E$6)*'Customer Info'!$D$21),)","v":0},0,{"$f":"IF($F$10=\"lunch\",IF(W250=0,,(W250/$E$11)*'Customer Info'!$F$18),)","v":0},{"$f":"IF($F$10=\"dinner\",IF(X250=0,,(X250/$E$12)*'Customer Info'!$F$18),)","v":0},{"$f":"IF($F$10=\"other\",IF(Y250=0,,(Y250/$E$13)*'Customer Info'!$F$18),)","v":0},0,{"$f":"IF($F$11=\"breakfast\",IF(V250=0,,(V250/$E$10)*'Customer Info'!$F$19),)","v":0},{"$f":"IF($F$11=\"dinner\",IF(X250=0,,(X250/$E$12)*'Customer Info'!$F$19),)","v":0},{"$f":"IF($F$11=\"other\",IF(Y250=0,,(Y250/$E$13)*'Customer Info'!$F$19),)","v":0},0,{"$f":"IF($F$12=\"breakfast\",IF(V250=0,,(V250/$E$10)*'Customer Info'!$F$20),)","v":0},{"$f":"IF($F$12=\"lunch\",IF(W250=0,,(W250/$E$11)*'Customer Info'!$F$20),)","v":0},{"$f":"IF($F$12=\"other\",IF(Y250=0,,(Y250/$E$13)*'Customer Info'!$F$20),)","v":0},0,{"$f":"IF($F$13=\"breakfast\",IF(V250=0,,(V250/$E$10)*'Customer Info'!$F$21),)","v":0},{"$f":"IF($F$13=\"lunch\",IF(W250=0,,(W250/$E$11)*'Customer Info'!$F$21),)","v":0},{"$f":"IF($F$13=\"dinner\",IF(X250=0,,(X250/$E$12)*'Customer Info'!$F$21),)","v":0},0,{"$f":"IF($F$16=\"lunch\",IF(AA250=0,,(AA250/$E$17)*'Customer Info'!$H$18),)","v":0},{"$f":"IF($F$16=\"dinner\",IF(AB250=0,,(AB250/$E$18)*'Customer Info'!$H$18),)","v":0},{"$f":"IF($F$16=\"other\",IF(AC250=0,,(AC250/$E$19)*'Customer Info'!$H$18),)","v":0},0,{"$f":"IF($F$17=\"breakfast\",IF(Z250=0,,(Z250/$E$16)*'Customer Info'!$H$19),)","v":0},{"$f":"IF($F$17=\"dinner\",IF(AB250=0,,(AB250/$E$18)*'Customer Info'!$H$19),)","v":0},{"$f":"IF($F$17=\"other\",IF(AC250=0,,(AC250/$E$19)*'Customer Info'!$H$19),)","v":0},0,{"$f":"IF($F$18=\"breakfast\",IF(Z250=0,,(Z250/$E$16)*'Customer Info'!$H$20),)","v":0},{"$f":"IF($F$18=\"lunch\",IF(AA250=0,,(AA250/$E$17)*'Customer Info'!$H$20),)","v":0},{"$f":"IF($F$18=\"other\",IF(AC250=0,,(AC250/$E$19)*'Customer Info'!$H$20),)","v":0},0,{"$f":"IF($F$19=\"breakfast\",IF(Z250=0,,(Z250/$E$16)*'Customer Info'!$H$21),)","v":0},{"$f":"IF($F$19=\"lunch\",IF(AA250=0,,(AA250/$E$17)*'Customer Info'!$H$21),)","v":0},{"$f":"IF($F$19=\"dinner\",IF(AB250=0,,(AB250/$E$18)*'Customer Info'!$H$21),)","v":0},0,0,0,0,0,""]
[null,null,null,null,null,null,null,null,null,null,0,0,0,0,0,0,0,0,0,0,0,0,0,0,0,0,0,0,0,0,0,0,0,{"$f":"IF((OR($F$4=0,$F$4=\"none\")),IF(R251=0,,IF(OR($E$4='Customer Info'!$D$18,$E$4=0),R251,(R251/$E$4)*'Customer Info'!$D$18)),)","v":0},{"$f":"IF((OR($F$5=0,$F$5=\"none\")),IF(S251=0,,IF(OR($E$5='Customer Info'!$D$18,$E$5=0),S251,(S251/$E$5)*'Customer Info'!$D$19)),)","v":0},{"$f":"IF((OR($F$6=0,$F$6=\"none\")),IF(T251=0,,IF(OR($E$6='Customer Info'!$D$18,$E$6=0),T251,(T251/$E$6)*'Customer Info'!$D$20)),)","v":0},{"$f":"IF((OR($F$7=0,$F$7=\"none\")),IF(U251=0,,IF(OR($E$7='Customer Info'!$D$18,$E$7=0),U251,(U251/$E$7)*'Customer Info'!$D$21)),)","v":0},{"$f":"IF((OR($F$10=0,$F$10=\"none\")),IF(V251=0,,IF(OR($E$10='Customer Info'!$F$18,$E$10=0),V251,(V251/$E$10)*'Customer Info'!$F$18)),)","v":0},{"$f":"IF((OR($F$11=0,$F$11=\"none\")),IF(W251=0,,IF(OR($E$11='Customer Info'!$F$19,$E$11=0),W251,(W251/$E$11)*'Customer Info'!$F$19)),)","v":0},{"$f":"IF((OR($F$12=0,$F$12=\"none\")),IF(X251=0,,IF(OR($E$12='Customer Info'!$F$20,$E$12=0),X251,(X251/$E$12)*'Customer Info'!$F$20)),)","v":0},{"$f":"IF((OR($F$13=0,$F$13=\"none\")),IF(Y251=0,,IF(OR($E$13='Customer Info'!$F$21,$E$13=0),Y251,(Y251/$E$13)*'Customer Info'!$F$21)),)","v":0},{"$f":"IF((OR($F$16=0,$F$16=\"none\")),IF(Z251=0,,IF(OR($E$16='Customer Info'!$H$18,$E$16=0),Z251,(Z251/$E$16)*'Customer Info'!$H$18)),)","v":0},{"$f":"IF((OR($F$17=0,$F$17=\"none\")),IF(AA251=0,,IF(OR($E$17='Customer Info'!$H$19,$E$17=0),AA251,(AA251/$E$17)*'Customer Info'!$H$19)),)","v":0},{"$f":"IF((OR($F$18=0,$F$18=\"none\")),IF(AB251=0,,IF(OR($E$18='Customer Info'!$H$20,$E$18=0),AB251,(AB251/$E$18)*'Customer Info'!$H$20)),)","v":0},{"$f":"IF((OR($F$19=0,$F$19=\"none\")),IF(AC251=0,,IF(OR($E$19='Customer Info'!$H$21,$E$19=0),AC251,(AC251/$E$19)*'Customer Info'!$H$21)),)","v":0},{"$f":"IF((OR($F$4=0,$F$4=\"none\")),IF(AD251=0,,IF(OR($E$4='Customer Info'!$D$18,$E$4=0),AD251,(AD251/$E$4)*'Customer Info'!$D$18)),)","v":0},{"$f":"IF((OR($F$5=0,$F$5=\"none\")),IF(AE251=0,,IF(OR($E$5='Customer Info'!$D$19,$E$5=0),AE251,(AE251/$E$5)*'Customer Info'!$D$19)),)","v":0},{"$f":"IF((OR($F$6=0,$F$6=\"none\")),IF(AF251=0,,IF(OR($E$6='Customer Info'!$D$20,$E$6=0),AF251,(AF251/$E$6)*'Customer Info'!$D$20)),)","v":0},{"$f":"IF((OR($F$7=0,$F$7=\"none\")),IF(AG251=0,,IF(OR($E$7='Customer Info'!$D$21,$E$7=0),AG251,(AG251/$E$7)*'Customer Info'!$D$21)),)","v":0},0,0,{"$f":"IF(E251=\"plate waste\",,IF('Customer Info'!$M$18=0,'Log Sheet'!AY251,'Customer Info'!$M$18*'Log Sheet'!AY251))","v":0},{"$f":"IF(E251=\"plate waste\",IF(OR(C251=\"patient\",C251=\"patient beverages\"),IF('Customer Info'!$M$27=0,AY251*'Customer Info'!$M$18,AY251*'Customer Info'!$M$27),IF(C251=\"cafeteria\",IF('Customer Info'!$M$28=0,AY251*'Customer Info'!$M$18,AY251*'Customer Info'!$M$28),IF(C251=\"other1\",IF('Customer Info'!$M$29=0,AY251*'Customer Info'!$M$18,AY251*'Customer Info'!$M$29),))),)","v":0},0,{"$f":"IF($F$4=\"lunch\",IF(S251=0,,(S251/$E$5)*'Customer Info'!$D$18),)","v":0},{"$f":"IF($F$4=\"dinner\",IF(T251=0,,(T251/$E$6)*'Customer Info'!$D$18),)","v":0},{"$f":"IF($F$4=\"other\",IF(U251=0,,(U251/$E$7)*'Customer Info'!$D$18),)","v":0},0,{"$f":"IF($F$5=\"breakfast\",IF(R251=0,,(R251/$E$4)*'Customer Info'!$D$19),)","v":0},{"$f":"IF($F$5=\"dinner\",IF(T251=0,,(T251/$E$6)*'Customer Info'!$D$19),)","v":0},{"$f":"IF($F$5=\"other\",IF(U251=0,,(U251/$E$7)*'Customer Info'!$D$19),)","v":0},0,{"$f":"IF($F$6=\"breakfast\",IF(R251=0,,(R251/$E$4)*'Customer Info'!$D$20),)","v":0},{"$f":"IF($F$6=\"lunch\",IF(S251=0,,(S251/$E$5)*'Customer Info'!$D$20),)","v":0},{"$f":"IF($F$6=\"other\",IF(U251=0,,(U251/$E$7)*'Customer Info'!$D$20),)","v":0},0,{"$f":"IF($F$7=\"breakfast\",IF(R251=0,,(R251/$E$4)*'Customer Info'!$D$21),)","v":0},{"$f":"IF($F$7=\"lunch\",IF(S251=0,,(S251/$E$5)*'Customer Info'!$D$21),)","v":0},{"$f":"IF($F$7=\"dinner\",IF(T251=0,,(T251/$E$6)*'Customer Info'!$D$21),)","v":0},0,{"$f":"IF($F$10=\"lunch\",IF(W251=0,,(W251/$E$11)*'Customer Info'!$F$18),)","v":0},{"$f":"IF($F$10=\"dinner\",IF(X251=0,,(X251/$E$12)*'Customer Info'!$F$18),)","v":0},{"$f":"IF($F$10=\"other\",IF(Y251=0,,(Y251/$E$13)*'Customer Info'!$F$18),)","v":0},0,{"$f":"IF($F$11=\"breakfast\",IF(V251=0,,(V251/$E$10)*'Customer Info'!$F$19),)","v":0},{"$f":"IF($F$11=\"dinner\",IF(X251=0,,(X251/$E$12)*'Customer Info'!$F$19),)","v":0},{"$f":"IF($F$11=\"other\",IF(Y251=0,,(Y251/$E$13)*'Customer Info'!$F$19),)","v":0},0,{"$f":"IF($F$12=\"breakfast\",IF(V251=0,,(V251/$E$10)*'Customer Info'!$F$20),)","v":0},{"$f":"IF($F$12=\"lunch\",IF(W251=0,,(W251/$E$11)*'Customer Info'!$F$20),)","v":0},{"$f":"IF($F$12=\"other\",IF(Y251=0,,(Y251/$E$13)*'Customer Info'!$F$20),)","v":0},0,{"$f":"IF($F$13=\"breakfast\",IF(V251=0,,(V251/$E$10)*'Customer Info'!$F$21),)","v":0},{"$f":"IF($F$13=\"lunch\",IF(W251=0,,(W251/$E$11)*'Customer Info'!$F$21),)","v":0},{"$f":"IF($F$13=\"dinner\",IF(X251=0,,(X251/$E$12)*'Customer Info'!$F$21),)","v":0},0,{"$f":"IF($F$16=\"lunch\",IF(AA251=0,,(AA251/$E$17)*'Customer Info'!$H$18),)","v":0},{"$f":"IF($F$16=\"dinner\",IF(AB251=0,,(AB251/$E$18)*'Customer Info'!$H$18),)","v":0},{"$f":"IF($F$16=\"other\",IF(AC251=0,,(AC251/$E$19)*'Customer Info'!$H$18),)","v":0},0,{"$f":"IF($F$17=\"breakfast\",IF(Z251=0,,(Z251/$E$16)*'Customer Info'!$H$19),)","v":0},{"$f":"IF($F$17=\"dinner\",IF(AB251=0,,(AB251/$E$18)*'Customer Info'!$H$19),)","v":0},{"$f":"IF($F$17=\"other\",IF(AC251=0,,(AC251/$E$19)*'Customer Info'!$H$19),)","v":0},0,{"$f":"IF($F$18=\"breakfast\",IF(Z251=0,,(Z251/$E$16)*'Customer Info'!$H$20),)","v":0},{"$f":"IF($F$18=\"lunch\",IF(AA251=0,,(AA251/$E$17)*'Customer Info'!$H$20),)","v":0},{"$f":"IF($F$18=\"other\",IF(AC251=0,,(AC251/$E$19)*'Customer Info'!$H$20),)","v":0},0,{"$f":"IF($F$19=\"breakfast\",IF(Z251=0,,(Z251/$E$16)*'Customer Info'!$H$21),)","v":0},{"$f":"IF($F$19=\"lunch\",IF(AA251=0,,(AA251/$E$17)*'Customer Info'!$H$21),)","v":0},{"$f":"IF($F$19=\"dinner\",IF(AB251=0,,(AB251/$E$18)*'Customer Info'!$H$21),)","v":0},0,0,0,0,0,""]
[null,null,null,null,null,null,null,null,null,null,0,0,0,0,0,0,0,0,0,0,0,0,0,0,0,0,0,0,0,0,0,0,0,{"$f":"IF((OR($F$4=0,$F$4=\"none\")),IF(R276=0,,IF(OR($E$4='Customer Info'!$D$18,$E$4=0),R276,(R276/$E$4)*'Customer Info'!$D$18)),)","v":0},{"$f":"IF((OR($F$5=0,$F$5=\"none\")),IF(S276=0,,IF(OR($E$5='Customer Info'!$D$18,$E$5=0),S276,(S276/$E$5)*'Customer Info'!$D$19)),)","v":0},{"$f":"IF((OR($F$6=0,$F$6=\"none\")),IF(T276=0,,IF(OR($E$6='Customer Info'!$D$18,$E$6=0),T276,(T276/$E$6)*'Customer Info'!$D$20)),)","v":0},{"$f":"IF((OR($F$7=0,$F$7=\"none\")),IF(U276=0,,IF(OR($E$7='Customer Info'!$D$18,$E$7=0),U276,(U276/$E$7)*'Customer Info'!$D$21)),)","v":0},{"$f":"IF((OR($F$10=0,$F$10=\"none\")),IF(V276=0,,IF(OR($E$10='Customer Info'!$F$18,$E$10=0),V276,(V276/$E$10)*'Customer Info'!$F$18)),)","v":0},{"$f":"IF((OR($F$11=0,$F$11=\"none\")),IF(W276=0,,IF(OR($E$11='Customer Info'!$F$19,$E$11=0),W276,(W276/$E$11)*'Customer Info'!$F$19)),)","v":0},{"$f":"IF((OR($F$12=0,$F$12=\"none\")),IF(X276=0,,IF(OR($E$12='Customer Info'!$F$20,$E$12=0),X276,(X276/$E$12)*'Customer Info'!$F$20)),)","v":0},{"$f":"IF((OR($F$13=0,$F$13=\"none\")),IF(Y276=0,,IF(OR($E$13='Customer Info'!$F$21,$E$13=0),Y276,(Y276/$E$13)*'Customer Info'!$F$21)),)","v":0},{"$f":"IF((OR($F$16=0,$F$16=\"none\")),IF(Z276=0,,IF(OR($E$16='Customer Info'!$H$18,$E$16=0),Z276,(Z276/$E$16)*'Customer Info'!$H$18)),)","v":0},{"$f":"IF((OR($F$17=0,$F$17=\"none\")),IF(AA276=0,,IF(OR($E$17='Customer Info'!$H$19,$E$17=0),AA276,(AA276/$E$17)*'Customer Info'!$H$19)),)","v":0},{"$f":"IF((OR($F$18=0,$F$18=\"none\")),IF(AB276=0,,IF(OR($E$18='Customer Info'!$H$20,$E$18=0),AB276,(AB276/$E$18)*'Customer Info'!$H$20)),)","v":0},{"$f":"IF((OR($F$19=0,$F$19=\"none\")),IF(AC276=0,,IF(OR($E$19='Customer Info'!$H$21,$E$19=0),AC276,(AC276/$E$19)*'Customer Info'!$H$21)),)","v":0},{"$f":"IF((OR($F$4=0,$F$4=\"none\")),IF(AD276=0,,IF(OR($E$4='Customer Info'!$D$18,$E$4=0),AD276,(AD276/$E$4)*'Customer Info'!$D$18)),)","v":0},{"$f":"IF((OR($F$5=0,$F$5=\"none\")),IF(AE276=0,,IF(OR($E$5='Customer Info'!$D$19,$E$5=0),AE276,(AE276/$E$5)*'Customer Info'!$D$19)),)","v":0},{"$f":"IF((OR($F$6=0,$F$6=\"none\")),IF(AF276=0,,IF(OR($E$6='Customer Info'!$D$20,$E$6=0),AF276,(AF276/$E$6)*'Customer Info'!$D$20)),)","v":0},{"$f":"IF((OR($F$7=0,$F$7=\"none\")),IF(AG276=0,,IF(OR($E$7='Customer Info'!$D$21,$E$7=0),AG276,(AG276/$E$7)*'Customer Info'!$D$21)),)","v":0},0,0,{"$f":"IF(E276=\"plate waste\",,IF('Customer Info'!$M$18=0,'Log Sheet'!AY276,'Customer Info'!$M$18*'Log Sheet'!AY276))","v":0},{"$f":"IF(E276=\"plate waste\",IF(OR(C276=\"patient\",C276=\"patient beverages\"),IF('Customer Info'!$M$27=0,AY276*'Customer Info'!$M$18,AY276*'Customer Info'!$M$27),IF(C276=\"cafeteria\",IF('Customer Info'!$M$28=0,AY276*'Customer Info'!$M$18,AY276*'Customer Info'!$M$28),IF(C276=\"other1\",IF('Customer Info'!$M$29=0,AY276*'Customer Info'!$M$18,AY276*'Customer Info'!$M$29),))),)","v":0},0,{"$f":"IF($F$4=\"lunch\",IF(S276=0,,(S276/$E$5)*'Customer Info'!$D$18),)","v":0},{"$f":"IF($F$4=\"dinner\",IF(T276=0,,(T276/$E$6)*'Customer Info'!$D$18),)","v":0},{"$f":"IF($F$4=\"other\",IF(U276=0,,(U276/$E$7)*'Customer Info'!$D$18),)","v":0},0,{"$f":"IF($F$5=\"breakfast\",IF(R276=0,,(R276/$E$4)*'Customer Info'!$D$19),)","v":0},{"$f":"IF($F$5=\"dinner\",IF(T276=0,,(T276/$E$6)*'Customer Info'!$D$19),)","v":0},{"$f":"IF($F$5=\"other\",IF(U276=0,,(U276/$E$7)*'Customer Info'!$D$19),)","v":0},0,{"$f":"IF($F$6=\"breakfast\",IF(R276=0,,(R276/$E$4)*'Customer Info'!$D$20),)","v":0},{"$f":"IF($F$6=\"lunch\",IF(S276=0,,(S276/$E$5)*'Customer Info'!$D$20),)","v":0},{"$f":"IF($F$6=\"other\",IF(U276=0,,(U276/$E$7)*'Customer Info'!$D$20),)","v":0},0,{"$f":"IF($F$7=\"breakfast\",IF(R276=0,,(R276/$E$4)*'Customer Info'!$D$21),)","v":0},{"$f":"IF($F$7=\"lunch\",IF(S276=0,,(S276/$E$5)*'Customer Info'!$D$21),)","v":0},{"$f":"IF($F$7=\"dinner\",IF(T276=0,,(T276/$E$6)*'Customer Info'!$D$21),)","v":0},0,{"$f":"IF($F$10=\"lunch\",IF(W276=0,,(W276/$E$11)*'Customer Info'!$F$18),)","v":0},{"$f":"IF($F$10=\"dinner\",IF(X276=0,,(X276/$E$12)*'Customer Info'!$F$18),)","v":0},{"$f":"IF($F$10=\"other\",IF(Y276=0,,(Y276/$E$13)*'Customer Info'!$F$18),)","v":0},0,{"$f":"IF($F$11=\"breakfast\",IF(V276=0,,(V276/$E$10)*'Customer Info'!$F$19),)","v":0},{"$f":"IF($F$11=\"dinner\",IF(X276=0,,(X276/$E$12)*'Customer Info'!$F$19),)","v":0},{"$f":"IF($F$11=\"other\",IF(Y276=0,,(Y276/$E$13)*'Customer Info'!$F$19),)","v":0},0,{"$f":"IF($F$12=\"breakfast\",IF(V276=0,,(V276/$E$10)*'Customer Info'!$F$20),)","v":0},{"$f":"IF($F$12=\"lunch\",IF(W276=0,,(W276/$E$11)*'Customer Info'!$F$20),)","v":0},{"$f":"IF($F$12=\"other\",IF(Y276=0,,(Y276/$E$13)*'Customer Info'!$F$20),)","v":0},0,{"$f":"IF($F$13=\"breakfast\",IF(V276=0,,(V276/$E$10)*'Customer Info'!$F$21),)","v":0},{"$f":"IF($F$13=\"lunch\",IF(W276=0,,(W276/$E$11)*'Customer Info'!$F$21),)","v":0},{"$f":"IF($F$13=\"dinner\",IF(X276=0,,(X276/$E$12)*'Customer Info'!$F$21),)","v":0},0,{"$f":"IF($F$16=\"lunch\",IF(AA276=0,,(AA276/$E$17)*'Customer Info'!$H$18),)","v":0},{"$f":"IF($F$16=\"dinner\",IF(AB276=0,,(AB276/$E$18)*'Customer Info'!$H$18),)","v":0},{"$f":"IF($F$16=\"other\",IF(AC276=0,,(AC276/$E$19)*'Customer Info'!$H$18),)","v":0},0,{"$f":"IF($F$17=\"breakfast\",IF(Z276=0,,(Z276/$E$16)*'Customer Info'!$H$19),)","v":0},{"$f":"IF($F$17=\"dinner\",IF(AB276=0,,(AB276/$E$18)*'Customer Info'!$H$19),)","v":0},{"$f":"IF($F$17=\"other\",IF(AC276=0,,(AC276/$E$19)*'Customer Info'!$H$19),)","v":0},0,{"$f":"IF($F$18=\"breakfast\",IF(Z276=0,,(Z276/$E$16)*'Customer Info'!$H$20),)","v":0},{"$f":"IF($F$18=\"lunch\",IF(AA276=0,,(AA276/$E$17)*'Customer Info'!$H$20),)","v":0},{"$f":"IF($F$18=\"other\",IF(AC276=0,,(AC276/$E$19)*'Customer Info'!$H$20),)","v":0},0,{"$f":"IF($F$19=\"breakfast\",IF(Z276=0,,(Z276/$E$16)*'Customer Info'!$H$21),)","v":0},{"$f":"IF($F$19=\"lunch\",IF(AA276=0,,(AA276/$E$17)*'Customer Info'!$H$21),)","v":0},{"$f":"IF($F$19=\"dinner\",IF(AB276=0,,(AB276/$E$18)*'Customer Info'!$H$21),)","v":0},0,0,0,0,0,""]
[null,null,null,null,null,null,null,null,null,null,0,0,0,0,0,0,0,0,0,0,0,0,0,0,0,0,0,0,0,0,0,0,0,{"$f":"IF((OR($F$4=0,$F$4=\"none\")),IF(R293=0,,IF(OR($E$4='Customer Info'!$D$18,$E$4=0),R293,(R293/$E$4)*'Customer Info'!$D$18)),)","v":0},{"$f":"IF((OR($F$5=0,$F$5=\"none\")),IF(S293=0,,IF(OR($E$5='Customer Info'!$D$18,$E$5=0),S293,(S293/$E$5)*'Customer Info'!$D$19)),)","v":0},{"$f":"IF((OR($F$6=0,$F$6=\"none\")),IF(T293=0,,IF(OR($E$6='Customer Info'!$D$18,$E$6=0),T293,(T293/$E$6)*'Customer Info'!$D$20)),)","v":0},{"$f":"IF((OR($F$7=0,$F$7=\"none\")),IF(U293=0,,IF(OR($E$7='Customer Info'!$D$18,$E$7=0),U293,(U293/$E$7)*'Customer Info'!$D$21)),)","v":0},{"$f":"IF((OR($F$10=0,$F$10=\"none\")),IF(V293=0,,IF(OR($E$10='Customer Info'!$F$18,$E$10=0),V293,(V293/$E$10)*'Customer Info'!$F$18)),)","v":0},{"$f":"IF((OR($F$11=0,$F$11=\"none\")),IF(W293=0,,IF(OR($E$11='Customer Info'!$F$19,$E$11=0),W293,(W293/$E$11)*'Customer Info'!$F$19)),)","v":0},{"$f":"IF((OR($F$12=0,$F$12=\"none\")),IF(X293=0,,IF(OR($E$12='Customer Info'!$F$20,$E$12=0),X293,(X293/$E$12)*'Customer Info'!$F$20)),)","v":0},{"$f":"IF((OR($F$13=0,$F$13=\"none\")),IF(Y293=0,,IF(OR($E$13='Customer Info'!$F$21,$E$13=0),Y293,(Y293/$E$13)*'Customer Info'!$F$21)),)","v":0},{"$f":"IF((OR($F$16=0,$F$16=\"none\")),IF(Z293=0,,IF(OR($E$16='Customer Info'!$H$18,$E$16=0),Z293,(Z293/$E$16)*'Customer Info'!$H$18)),)","v":0},{"$f":"IF((OR($F$17=0,$F$17=\"none\")),IF(AA293=0,,IF(OR($E$17='Customer Info'!$H$19,$E$17=0),AA293,(AA293/$E$17)*'Customer Info'!$H$19)),)","v":0},{"$f":"IF((OR($F$18=0,$F$18=\"none\")),IF(AB293=0,,IF(OR($E$18='Customer Info'!$H$20,$E$18=0),AB293,(AB293/$E$18)*'Customer Info'!$H$20)),)","v":0},{"$f":"IF((OR($F$19=0,$F$19=\"none\")),IF(AC293=0,,IF(OR($E$19='Customer Info'!$H$21,$E$19=0),AC293,(AC293/$E$19)*'Customer Info'!$H$21)),)","v":0},{"$f":"IF((OR($F$4=0,$F$4=\"none\")),IF(AD293=0,,IF(OR($E$4='Customer Info'!$D$18,$E$4=0),AD293,(AD293/$E$4)*'Customer Info'!$D$18)),)","v":0},{"$f":"IF((OR($F$5=0,$F$5=\"none\")),IF(AE293=0,,IF(OR($E$5='Customer Info'!$D$19,$E$5=0),AE293,(AE293/$E$5)*'Customer Info'!$D$19)),)","v":0},{"$f":"IF((OR($F$6=0,$F$6=\"none\")),IF(AF293=0,,IF(OR($E$6='Customer Info'!$D$20,$E$6=0),AF293,(AF293/$E$6)*'Customer Info'!$D$20)),)","v":0},{"$f":"IF((OR($F$7=0,$F$7=\"none\")),IF(AG293=0,,IF(OR($E$7='Customer Info'!$D$21,$E$7=0),AG293,(AG293/$E$7)*'Customer Info'!$D$21)),)","v":0},0,0,{"$f":"IF(E293=\"plate waste\",,IF('Customer Info'!$M$18=0,'Log Sheet'!AY293,'Customer Info'!$M$18*'Log Sheet'!AY293))","v":0},{"$f":"IF(E293=\"plate waste\",IF(OR(C293=\"patient\",C293=\"patient beverages\"),IF('Customer Info'!$M$27=0,AY293*'Customer Info'!$M$18,AY293*'Customer Info'!$M$27),IF(C293=\"cafeteria\",IF('Customer Info'!$M$28=0,AY293*'Customer Info'!$M$18,AY293*'Customer Info'!$M$28),IF(C293=\"other1\",IF('Customer Info'!$M$29=0,AY293*'Customer Info'!$M$18,AY293*'Customer Info'!$M$29),))),)","v":0},0,{"$f":"IF($F$4=\"lunch\",IF(S293=0,,(S293/$E$5)*'Customer Info'!$D$18),)","v":0},{"$f":"IF($F$4=\"dinner\",IF(T293=0,,(T293/$E$6)*'Customer Info'!$D$18),)","v":0},{"$f":"IF($F$4=\"other\",IF(U293=0,,(U293/$E$7)*'Customer Info'!$D$18),)","v":0},0,{"$f":"IF($F$5=\"breakfast\",IF(R293=0,,(R293/$E$4)*'Customer Info'!$D$19),)","v":0},{"$f":"IF($F$5=\"dinner\",IF(T293=0,,(T293/$E$6)*'Customer Info'!$D$19),)","v":0},{"$f":"IF($F$5=\"other\",IF(U293=0,,(U293/$E$7)*'Customer Info'!$D$19),)","v":0},0,{"$f":"IF($F$6=\"breakfast\",IF(R293=0,,(R293/$E$4)*'Customer Info'!$D$20),)","v":0},{"$f":"IF($F$6=\"lunch\",IF(S293=0,,(S293/$E$5)*'Customer Info'!$D$20),)","v":0},{"$f":"IF($F$6=\"other\",IF(U293=0,,(U293/$E$7)*'Customer Info'!$D$20),)","v":0},0,{"$f":"IF($F$7=\"breakfast\",IF(R293=0,,(R293/$E$4)*'Customer Info'!$D$21),)","v":0},{"$f":"IF($F$7=\"lunch\",IF(S293=0,,(S293/$E$5)*'Customer Info'!$D$21),)","v":0},{"$f":"IF($F$7=\"dinner\",IF(T293=0,,(T293/$E$6)*'Customer Info'!$D$21),)","v":0},0,{"$f":"IF($F$10=\"lunch\",IF(W293=0,,(W293/$E$11)*'Customer Info'!$F$18),)","v":0},{"$f":"IF($F$10=\"dinner\",IF(X293=0,,(X293/$E$12)*'Customer Info'!$F$18),)","v":0},{"$f":"IF($F$10=\"other\",IF(Y293=0,,(Y293/$E$13)*'Customer Info'!$F$18),)","v":0},0,{"$f":"IF($F$11=\"breakfast\",IF(V293=0,,(V293/$E$10)*'Customer Info'!$F$19),)","v":0},{"$f":"IF($F$11=\"dinner\",IF(X293=0,,(X293/$E$12)*'Customer Info'!$F$19),)","v":0},{"$f":"IF($F$11=\"other\",IF(Y293=0,,(Y293/$E$13)*'Customer Info'!$F$19),)","v":0},0,{"$f":"IF($F$12=\"breakfast\",IF(V293=0,,(V293/$E$10)*'Customer Info'!$F$20),)","v":0},{"$f":"IF($F$12=\"lunch\",IF(W293=0,,(W293/$E$11)*'Customer Info'!$F$20),)","v":0},{"$f":"IF($F$12=\"other\",IF(Y293=0,,(Y293/$E$13)*'Customer Info'!$F$20),)","v":0},0,{"$f":"IF($F$13=\"breakfast\",IF(V293=0,,(V293/$E$10)*'Customer Info'!$F$21),)","v":0},{"$f":"IF($F$13=\"lunch\",IF(W293=0,,(W293/$E$11)*'Customer Info'!$F$21),)","v":0},{"$f":"IF($F$13=\"dinner\",IF(X293=0,,(X293/$E$12)*'Customer Info'!$F$21),)","v":0},0,{"$f":"IF($F$16=\"lunch\",IF(AA293=0,,(AA293/$E$17)*'Customer Info'!$H$18),)","v":0},{"$f":"IF($F$16=\"dinner\",IF(AB293=0,,(AB293/$E$18)*'Customer Info'!$H$18),)","v":0},{"$f":"IF($F$16=\"other\",IF(AC293=0,,(AC293/$E$19)*'Customer Info'!$H$18),)","v":0},0,{"$f":"IF($F$17=\"breakfast\",IF(Z293=0,,(Z293/$E$16)*'Customer Info'!$H$19),)","v":0},{"$f":"IF($F$17=\"dinner\",IF(AB293=0,,(AB293/$E$18)*'Customer Info'!$H$19),)","v":0},{"$f":"IF($F$17=\"other\",IF(AC293=0,,(AC293/$E$19)*'Customer Info'!$H$19),)","v":0},0,{"$f":"IF($F$18=\"breakfast\",IF(Z293=0,,(Z293/$E$16)*'Customer Info'!$H$20),)","v":0},{"$f":"IF($F$18=\"lunch\",IF(AA293=0,,(AA293/$E$17)*'Customer Info'!$H$20),)","v":0},{"$f":"IF($F$18=\"other\",IF(AC293=0,,(AC293/$E$19)*'Customer Info'!$H$20),)","v":0},0,{"$f":"IF($F$19=\"breakfast\",IF(Z293=0,,(Z293/$E$16)*'Customer Info'!$H$21),)","v":0},{"$f":"IF($F$19=\"lunch\",IF(AA293=0,,(AA293/$E$17)*'Customer Info'!$H$21),)","v":0},{"$f":"IF($F$19=\"dinner\",IF(AB293=0,,(AB293/$E$18)*'Customer Info'!$H$21),)","v":0},0,0,0,0,0,""]
[null,null,null,null,null,null,null,null,null,null,0,0,0,0,0,0,0,0,0,0,0,0,0,0,0,0,0,0,0,0,0,0,0,{"$f":"IF((OR($F$4=0,$F$4=\"none\")),IF(R300=0,,IF(OR($E$4='Customer Info'!$D$18,$E$4=0),R300,(R300/$E$4)*'Customer Info'!$D$18)),)","v":0},{"$f":"IF((OR($F$5=0,$F$5=\"none\")),IF(S300=0,,IF(OR($E$5='Customer Info'!$D$18,$E$5=0),S300,(S300/$E$5)*'Customer Info'!$D$19)),)","v":0},{"$f":"IF((OR($F$6=0,$F$6=\"none\")),IF(T300=0,,IF(OR($E$6='Customer Info'!$D$18,$E$6=0),T300,(T300/$E$6)*'Customer Info'!$D$20)),)","v":0},{"$f":"IF((OR($F$7=0,$F$7=\"none\")),IF(U300=0,,IF(OR($E$7='Customer Info'!$D$18,$E$7=0),U300,(U300/$E$7)*'Customer Info'!$D$21)),)","v":0},{"$f":"IF((OR($F$10=0,$F$10=\"none\")),IF(V300=0,,IF(OR($E$10='Customer Info'!$F$18,$E$10=0),V300,(V300/$E$10)*'Customer Info'!$F$18)),)","v":0},{"$f":"IF((OR($F$11=0,$F$11=\"none\")),IF(W300=0,,IF(OR($E$11='Customer Info'!$F$19,$E$11=0),W300,(W300/$E$11)*'Customer Info'!$F$19)),)","v":0},{"$f":"IF((OR($F$12=0,$F$12=\"none\")),IF(X300=0,,IF(OR($E$12='Customer Info'!$F$20,$E$12=0),X300,(X300/$E$12)*'Customer Info'!$F$20)),)","v":0},{"$f":"IF((OR($F$13=0,$F$13=\"none\")),IF(Y300=0,,IF(OR($E$13='Customer Info'!$F$21,$E$13=0),Y300,(Y300/$E$13)*'Customer Info'!$F$21)),)","v":0},{"$f":"IF((OR($F$16=0,$F$16=\"none\")),IF(Z300=0,,IF(OR($E$16='Customer Info'!$H$18,$E$16=0),Z300,(Z300/$E$16)*'Customer Info'!$H$18)),)","v":0},{"$f":"IF((OR($F$17=0,$F$17=\"none\")),IF(AA300=0,,IF(OR($E$17='Customer Info'!$H$19,$E$17=0),AA300,(AA300/$E$17)*'Customer Info'!$H$19)),)","v":0},{"$f":"IF((OR($F$18=0,$F$18=\"none\")),IF(AB300=0,,IF(OR($E$18='Customer Info'!$H$20,$E$18=0),AB300,(AB300/$E$18)*'Customer Info'!$H$20)),)","v":0},{"$f":"IF((OR($F$19=0,$F$19=\"none\")),IF(AC300=0,,IF(OR($E$19='Customer Info'!$H$21,$E$19=0),AC300,(AC300/$E$19)*'Customer Info'!$H$21)),)","v":0},{"$f":"IF((OR($F$4=0,$F$4=\"none\")),IF(AD300=0,,IF(OR($E$4='Customer Info'!$D$18,$E$4=0),AD300,(AD300/$E$4)*'Customer Info'!$D$18)),)","v":0},{"$f":"IF((OR($F$5=0,$F$5=\"none\")),IF(AE300=0,,IF(OR($E$5='Customer Info'!$D$19,$E$5=0),AE300,(AE300/$E$5)*'Customer Info'!$D$19)),)","v":0},{"$f":"IF((OR($F$6=0,$F$6=\"none\")),IF(AF300=0,,IF(OR($E$6='Customer Info'!$D$20,$E$6=0),AF300,(AF300/$E$6)*'Customer Info'!$D$20)),)","v":0},{"$f":"IF((OR($F$7=0,$F$7=\"none\")),IF(AG300=0,,IF(OR($E$7='Customer Info'!$D$21,$E$7=0),AG300,(AG300/$E$7)*'Customer Info'!$D$21)),)","v":0},0,0,{"$f":"IF(E300=\"plate waste\",,IF('Customer Info'!$M$18=0,'Log Sheet'!AY300,'Customer Info'!$M$18*'Log Sheet'!AY300))","v":0},{"$f":"IF(E300=\"plate waste\",IF(OR(C300=\"patient\",C300=\"patient beverages\"),IF('Customer Info'!$M$27=0,AY300*'Customer Info'!$M$18,AY300*'Customer Info'!$M$27),IF(C300=\"cafeteria\",IF('Customer Info'!$M$28=0,AY300*'Customer Info'!$M$18,AY300*'Customer Info'!$M$28),IF(C300=\"other1\",IF('Customer Info'!$M$29=0,AY300*'Customer Info'!$M$18,AY300*'Customer Info'!$M$29),))),)","v":0},0,{"$f":"IF($F$4=\"lunch\",IF(S300=0,,(S300/$E$5)*'Customer Info'!$D$18),)","v":0},{"$f":"IF($F$4=\"dinner\",IF(T300=0,,(T300/$E$6)*'Customer Info'!$D$18),)","v":0},{"$f":"IF($F$4=\"other\",IF(U300=0,,(U300/$E$7)*'Customer Info'!$D$18),)","v":0},0,{"$f":"IF($F$5=\"breakfast\",IF(R300=0,,(R300/$E$4)*'Customer Info'!$D$19),)","v":0},{"$f":"IF($F$5=\"dinner\",IF(T300=0,,(T300/$E$6)*'Customer Info'!$D$19),)","v":0},{"$f":"IF($F$5=\"other\",IF(U300=0,,(U300/$E$7)*'Customer Info'!$D$19),)","v":0},0,{"$f":"IF($F$6=\"breakfast\",IF(R300=0,,(R300/$E$4)*'Customer Info'!$D$20),)","v":0},{"$f":"IF($F$6=\"lunch\",IF(S300=0,,(S300/$E$5)*'Customer Info'!$D$20),)","v":0},{"$f":"IF($F$6=\"other\",IF(U300=0,,(U300/$E$7)*'Customer Info'!$D$20),)","v":0},0,{"$f":"IF($F$7=\"breakfast\",IF(R300=0,,(R300/$E$4)*'Customer Info'!$D$21),)","v":0},{"$f":"IF($F$7=\"lunch\",IF(S300=0,,(S300/$E$5)*'Customer Info'!$D$21),)","v":0},{"$f":"IF($F$7=\"dinner\",IF(T300=0,,(T300/$E$6)*'Customer Info'!$D$21),)","v":0},0,{"$f":"IF($F$10=\"lunch\",IF(W300=0,,(W300/$E$11)*'Customer Info'!$F$18),)","v":0},{"$f":"IF($F$10=\"dinner\",IF(X300=0,,(X300/$E$12)*'Customer Info'!$F$18),)","v":0},{"$f":"IF($F$10=\"other\",IF(Y300=0,,(Y300/$E$13)*'Customer Info'!$F$18),)","v":0},0,{"$f":"IF($F$11=\"breakfast\",IF(V300=0,,(V300/$E$10)*'Customer Info'!$F$19),)","v":0},{"$f":"IF($F$11=\"dinner\",IF(X300=0,,(X300/$E$12)*'Customer Info'!$F$19),)","v":0},{"$f":"IF($F$11=\"other\",IF(Y300=0,,(Y300/$E$13)*'Customer Info'!$F$19),)","v":0},0,{"$f":"IF($F$12=\"breakfast\",IF(V300=0,,(V300/$E$10)*'Customer Info'!$F$20),)","v":0},{"$f":"IF($F$12=\"lunch\",IF(W300=0,,(W300/$E$11)*'Customer Info'!$F$20),)","v":0},{"$f":"IF($F$12=\"other\",IF(Y300=0,,(Y300/$E$13)*'Customer Info'!$F$20),)","v":0},0,{"$f":"IF($F$13=\"breakfast\",IF(V300=0,,(V300/$E$10)*'Customer Info'!$F$21),)","v":0},{"$f":"IF($F$13=\"lunch\",IF(W300=0,,(W300/$E$11)*'Customer Info'!$F$21),)","v":0},{"$f":"IF($F$13=\"dinner\",IF(X300=0,,(X300/$E$12)*'Customer Info'!$F$21),)","v":0},0,{"$f":"IF($F$16=\"lunch\",IF(AA300=0,,(AA300/$E$17)*'Customer Info'!$H$18),)","v":0},{"$f":"IF($F$16=\"dinner\",IF(AB300=0,,(AB300/$E$18)*'Customer Info'!$H$18),)","v":0},{"$f":"IF($F$16=\"other\",IF(AC300=0,,(AC300/$E$19)*'Customer Info'!$H$18),)","v":0},0,{"$f":"IF($F$17=\"breakfast\",IF(Z300=0,,(Z300/$E$16)*'Customer Info'!$H$19),)","v":0},{"$f":"IF($F$17=\"dinner\",IF(AB300=0,,(AB300/$E$18)*'Customer Info'!$H$19),)","v":0},{"$f":"IF($F$17=\"other\",IF(AC300=0,,(AC300/$E$19)*'Customer Info'!$H$19),)","v":0},0,{"$f":"IF($F$18=\"breakfast\",IF(Z300=0,,(Z300/$E$16)*'Customer Info'!$H$20),)","v":0},{"$f":"IF($F$18=\"lunch\",IF(AA300=0,,(AA300/$E$17)*'Customer Info'!$H$20),)","v":0},{"$f":"IF($F$18=\"other\",IF(AC300=0,,(AC300/$E$19)*'Customer Info'!$H$20),)","v":0},0,{"$f":"IF($F$19=\"breakfast\",IF(Z300=0,,(Z300/$E$16)*'Customer Info'!$H$21),)","v":0},{"$f":"IF($F$19=\"lunch\",IF(AA300=0,,(AA300/$E$17)*'Customer Info'!$H$21),)","v":0},{"$f":"IF($F$19=\"dinner\",IF(AB300=0,,(AB300/$E$18)*'Customer Info'!$H$21),)","v":0},0,0,0,0,0,""]
["other",null,"kitchen","landfill","surplus",null,0,0,null,null,0,0,null,null,null,null,null,null,null,null,null,null,null,null,null,null,null,null,null,null,null,null,null,null,null,null,null,null,null,null,null,null,null,null,null,null,null,null,null,null,null,null,{"$f":"IF(E326=\"plate waste\",IF(OR(C326=\"patient\",C326=\"patient beverages\"),IF('Customer Info'!$M$27=0,AY326*'Customer Info'!$M$18,AY326*'Customer Info'!$M$27),IF(C326=\"cafeteria\",IF('Customer Info'!$M$28=0,AY326*'Customer Info'!$M$18,AY326*'Customer Info'!$M$28),IF(C326=\"other1\",IF('Customer Info'!$M$29=0,AY326*'Customer Info'!$M$18,AY326*'Customer Info'!$M$29),))),)","v":0}]
["lunch",null,"kitchen","animal feed","plate waste",null,0,0,null,null,0,0,null,null,null,null,null,null,null,null,null,null,null,null,null,null,null,null,null,null,null,null,null,null,null,null,null,null,null,null,null,null,null,null,null,null,null,null,null,null,null,null,{"$f":"IF(E343=\"plate waste\",IF(OR(C343=\"patient\",C343=\"patient beverages\"),IF('Customer Info'!$M$27=0,AY343*'Customer Info'!$M$18,AY343*'Customer Info'!$M$27),IF(C343=\"cafeteria\",IF('Customer Info'!$M$28=0,AY343*'Customer Info'!$M$18,AY343*'Customer Info'!$M$28),IF(C343=\"other1\",IF('Customer Info'!$M$29=0,AY343*'Customer Info'!$M$18,AY343*'Customer Info'!$M$29),))),)","v":0}]
["lunch",null,"kitchen","rendering","expired",null,0,0,null,null,0,0,null,null,null,null,null,null,null,null,null,null,null,null,null,null,null,null,null,null,null,null,null,null,null,null,null,null,null,null,null,null,null,null,null,null,null,null,null,null,null,null,{"$f":"IF(E348=\"plate waste\",IF(OR(C348=\"patient\",C348=\"patient beverages\"),IF('Customer Info'!$M$27=0,AY348*'Customer Info'!$M$18,AY348*'Customer Info'!$M$27),IF(C348=\"cafeteria\",IF('Customer Info'!$M$28=0,AY348*'Customer Info'!$M$18,AY348*'Customer Info'!$M$28),IF(C348=\"other1\",IF('Customer Info'!$M$29=0,AY348*'Customer Info'!$M$18,AY348*'Customer Info'!$M$29),))),)","v":0}]
["lunch",null,"kitchen","other","expired",null,0,0,null,null,0,0,null,null,null,null,null,null,null,null,null,null,null,null,null,null,null,null,null,null,null,null,null,null,null,null,null,null,null,null,null,null,null,null,null,null,null,null,null,null,null,null,{"$f":"IF(E360=\"plate waste\",IF(OR(C360=\"patient\",C360=\"patient beverages\"),IF('Customer Info'!$M$27=0,AY360*'Customer Info'!$M$18,AY360*'Customer Info'!$M$27),IF(C360=\"cafeteria\",IF('Customer Info'!$M$28=0,AY360*'Customer Info'!$M$18,AY360*'Customer Info'!$M$28),IF(C360=\"other1\",IF('Customer Info'!$M$29=0,AY360*'Customer Info'!$M$18,AY360*'Customer Info'!$M$29),))),)","v":0}]
["other",null,"cafeteria","donation","prep waste",null,0,0,null,null,0,0,null,null,null,null,null,null,null,null,null,null,null,null,null,null,null,null,null,null,null,null,null,null,null,null,null,null,null,null,null,null,null,null,null,null,null,null,null,null,null,null,{"$f":"IF(E377=\"plate waste\",IF(OR(C377=\"patient\",C377=\"patient beverages\"),IF('Customer Info'!$M$27=0,AY377*'Customer Info'!$M$18,AY377*'Customer Info'!$M$27),IF(C377=\"cafeteria\",IF('Customer Info'!$M$28=0,AY377*'Customer Info'!$M$18,AY377*'Customer Info'!$M$28),IF(C377=\"other1\",IF('Customer Info'!$M$29=0,AY377*'Customer Info'!$M$18,AY377*'Customer Info'!$M$29),))),)","v":0}]
["lunch",null,"cafeteria","anaerobic digestion","expired",null,0,0,null,null,{"$f":"H396-G396","v":0},0,null,null,null,null,null,null,null,null,null,null,null,null,null,null,null,null,null,null,null,null,null,null,null,null,null,null,null,null,null,null,null,null,null,null,null,null,null,null,null,null,{"$f":"IF(E396=\"plate waste\",IF(OR(C396=\"patient\",C396=\"patient beverages\"),IF('Customer Info'!$M$27=0,AY396*'Customer Info'!$M$18,AY396*'Customer Info'!$M$27),IF(C396=\"cafeteria\",IF('Customer Info'!$M$28=0,AY396*'Customer Info'!$M$18,AY396*'Customer Info'!$M$28),IF(C396=\"other1\",IF('Customer Info'!$M$29=0,AY396*'Customer Info'!$M$18,AY396*'Customer Info'!$M$29),))),)","v":0}]
["lunch",null,"patient","landfill","surplus",null,0,0,null,null,0,0,null,null,null,null,null,null,null,null,null,null,null,null,null,null,null,null,null,null,null,null,null,null,null,null,null,null,null,null,null,null,null,null,null,null,null,null,null,null,null,null,{"$f":"IF(E410=\"plate waste\",IF(OR(C410=\"patient\",C410=\"patient beverages\"),IF('Customer Info'!$M$27=0,AY410*'Customer Info'!$M$18,AY410*'Customer Info'!$M$27),IF(C410=\"cafeteria\",IF('Customer Info'!$M$28=0,AY410*'Customer Info'!$M$18,AY410*'Customer Info'!$M$28),IF(C410=\"other1\",IF('Customer Info'!$M$29=0,AY410*'Customer Info'!$M$18,AY410*'Customer Info'!$M$29),))),)","v":0}]
["lunch",null,"patient","animal feed","plate waste",null,0,0,null,null,0,0,null,null,null,null,null,null,null,null,null,null,null,null,null,null,null,null,null,null,null,null,null,null,null,null,null,null,null,null,null,null,null,null,null,null,null,null,null,null,null,null,{"$f":"IF(E427=\"plate waste\",IF(OR(C427=\"patient\",C427=\"patient beverages\"),IF('Customer Info'!$M$27=0,AY427*'Customer Info'!$M$18,AY427*'Customer Info'!$M$27),IF(C427=\"cafeteria\",IF('Customer Info'!$M$28=0,AY427*'Customer Info'!$M$18,AY427*'Customer Info'!$M$28),IF(C427=\"other1\",IF('Customer Info'!$M$29=0,AY427*'Customer Info'!$M$18,AY427*'Customer Info'!$M$29),))),)","v":0}]
["other",null,"patient","other","expired",null,0,0,null,null,0,0,null,null,null,null,null,null,null,null,null,null,null,null,null,null,null,null,null,null,null,null,null,null,null,null,null,null,null,null,null,null,null,null,null,null,null,null,null,null,null,null,{"$f":"IF(E444=\"plate waste\",IF(OR(C444=\"patient\",C444=\"patient beverages\"),IF('Customer Info'!$M$27=0,AY444*'Customer Info'!$M$18,AY444*'Customer Info'!$M$27),IF(C444=\"cafeteria\",IF('Customer Info'!$M$28=0,AY444*'Customer Info'!$M$18,AY444*'Customer Info'!$M$28),IF(C444=\"other1\",IF('Customer Info'!$M$29=0,AY444*'Customer Info'!$M$18,AY444*'Customer Info'!$M$29),))),)","v":0}]
["other",null,"patient beverages","compost","other",null,0,0,null,null,{"$f":"H460-G460","v":0},0,null,null,null,null,null,null,null,null,null,null,null,null,null,null,null,null,null,null,null,null,null,null,null,null,null,null,null,null,null,null,null,null,null,null,null,null,null,null,null,null,{"$f":"IF(E460=\"plate waste\",IF(OR(C460=\"patient\",C460=\"patient beverages\"),IF('Customer Info'!$M$27=0,AY460*'Customer Info'!$M$18,AY460*'Customer Info'!$M$27),IF(C460=\"cafeteria\",IF('Customer Info'!$M$28=0,AY460*'Customer Info'!$M$18,AY460*'Customer Info'!$M$28),IF(C460=\"other1\",IF('Customer Info'!$M$29=0,AY460*'Customer Info'!$M$18,AY460*'Customer Info'!$M$29),))),)","v":0}]
["other",null,"patient beverages","rendering","quality",null,0,0,null,null,0,0,null,null,null,null,null,null,null,null,null,null,null,null,null,null,null,null,null,null,null,null,null,null,null,null,null,null,null,null,null,null,null,null,null,null,null,null,null,null,null,null,{"$f":"IF(E477=\"plate waste\",IF(OR(C477=\"patient\",C477=\"patient beverages\"),IF('Customer Info'!$M$27=0,AY477*'Customer Info'!$M$18,AY477*'Customer Info'!$M$27),IF(C477=\"cafeteria\",IF('Customer Info'!$M$28=0,AY477*'Customer Info'!$M$18,AY477*'Customer Info'!$M$28),IF(C477=\"other1\",IF('Customer Info'!$M$29=0,AY477*'Customer Info'!$M$18,AY477*'Customer Info'!$M$29),))),)","v":0}]
["other",null,"coffee bar","landfill","expired",null,0,0,null,null,0,0,null,null,null,null,null,null,null,null,null,null,null,null,null,null,null,null,null,null,null,null,null,null,null,null,null,null,null,null,null,null,null,null,null,null,null,null,null,null,null,null,{"$f":"IF(E492=\"plate waste\",IF(OR(C492=\"patient\",C492=\"patient beverages\"),IF('Customer Info'!$M$27=0,AY492*'Customer Info'!$M$18,AY492*'Customer Info'!$M$27),IF(C492=\"cafeteria\",IF('Customer Info'!$M$28=0,AY492*'Customer Info'!$M$18,AY492*'Customer Info'!$M$28),IF(C492=\"other1\",IF('Customer Info'!$M$29=0,AY492*'Customer Info'!$M$18,AY492*'Customer Info'!$M$29),))),)","v":0}]
["dinner",null,"coffee bar","animal feed","expired",null,0,0,null,null,0,0,null,null,null,null,null,null,null,null,null,null,null,null,null,null,null,null,null,null,null,null,null,null,null,null,null,null,null,null,null,null,null,null,null,null,null,null,null,null,null,null,{"$f":"IF(E510=\"plate waste\",IF(OR(C510=\"patient\",C510=\"patient beverages\"),IF('Customer Info'!$M$27=0,AY510*'Customer Info'!$M$18,AY510*'Customer Info'!$M$27),IF(C510=\"cafeteria\",IF('Customer Info'!$M$28=0,AY510*'Customer Info'!$M$18,AY510*'Customer Info'!$M$28),IF(C510=\"other1\",IF('Customer Info'!$M$29=0,AY510*'Customer Info'!$M$18,AY510*'Customer Info'!$M$29),))),)","v":0}]
["dinner",null,"coffee bar","other","prep waste",null,0,0,null,null,0,0,null,null,null,null,null,null,null,null,null,null,null,null,null,null,null,null,null,null,null,null,null,null,null,null,null,null,null,null,null,null,null,null,null,null,null,null,null,null,null,null,{"$f":"IF(E527=\"plate waste\",IF(OR(C527=\"patient\",C527=\"patient beverages\"),IF('Customer Info'!$M$27=0,AY527*'Customer Info'!$M$18,AY527*'Customer Info'!$M$27),IF(C527=\"cafeteria\",IF('Customer Info'!$M$28=0,AY527*'Customer Info'!$M$18,AY527*'Customer Info'!$M$28),IF(C527=\"other1\",IF('Customer Info'!$M$29=0,AY527*'Customer Info'!$M$18,AY527*'Customer Info'!$M$29),))),)","v":0}]
["lunch",null,"other1","compost","expired",null,0,0,null,null,0,0,null,null,null,null,null,null,null,null,null,null,null,null,null,null,null,null,null,null,null,null,null,null,null,null,null,null,null,null,null,null,null,null,null,null,null,null,null,null,null,null,{"$f":"IF(E540=\"plate waste\",IF(OR(C540=\"patient\",C540=\"patient beverages\"),IF('Customer Info'!$M$27=0,AY540*'Customer Info'!$M$18,AY540*'Customer Info'!$M$27),IF(C540=\"cafeteria\",IF('Customer Info'!$M$28=0,AY540*'Customer Info'!$M$18,AY540*'Customer Info'!$M$28),IF(C540=\"other1\",IF('Customer Info'!$M$29=0,AY540*'Customer Info'!$M$18,AY540*'Customer Info'!$M$29),))),)","v":0}]
["breakfast",null,"other1","rendering","surplus",null,0,0,null,null,0,0,null,null,null,null,null,null,null,null,null,null,null,null,null,null,null,null,null,null,null,null,null,null,null,null,null,null,null,null,null,null,null,null,null,null,null,null,null,null,null,null,{"$f":"IF(E560=\"plate waste\",IF(OR(C560=\"patient\",C560=\"patient beverages\"),IF('Customer Info'!$M$27=0,AY560*'Customer Info'!$M$18,AY560*'Customer Info'!$M$27),IF(C560=\"cafeteria\",IF('Customer Info'!$M$28=0,AY560*'Customer Info'!$M$18,AY560*'Customer Info'!$M$28),IF(C560=\"other1\",IF('Customer Info'!$M$29=0,AY560*'Customer Info'!$M$18,AY560*'Customer Info'!$M$29),))),)","v":0}]
["dinner",null,"other2","landfill","plate waste",null,0,0,null,null,0,0,null,null,null,null,null,null,null,null,null,null,null,null,null,null,null,null,null,null,null,null,null,null,null,null,null,null,null,null,null,null,null,null,null,null,null,null,null,null,null,null,{"$f":"IF(E577=\"plate waste\",IF(OR(C577=\"patient\",C577=\"patient beverages\"),IF('Customer Info'!$M$27=0,AY577*'Customer Info'!$M$18,AY577*'Customer Info'!$M$27),IF(C577=\"cafeteria\",IF('Customer Info'!$M$28=0,AY577*'Customer Info'!$M$18,AY577*'Customer Info'!$M$28),IF(C577=\"other1\",IF('Customer Info'!$M$29=0,AY577*'Customer Info'!$M$18,AY577*'Customer Info'!$M$29),))),)","v":0}]
["lunch",null,"other2","donation","plate waste",null,0,0,null,null,0,0,null,null,null,null,null,null,null,null,null,null,null,null,null,null,null,null,null,null,null,null,null,null,null,null,null,null,null,null,null,null,null,null,null,null,null,null,null,null,null,null,{"$f":"IF(E589=\"plate waste\",IF(OR(C589=\"patient\",C589=\"patient beverages\"),IF('Customer Info'!$M$27=0,AY589*'Customer Info'!$M$18,AY589*'Customer Info'!$M$27),IF(C589=\"cafeteria\",IF('Customer Info'!$M$28=0,AY589*'Customer Info'!$M$18,AY589*'Customer Info'!$M$28),IF(C589=\"other1\",IF('Customer Info'!$M$29=0,AY589*'Customer Info'!$M$18,AY589*'Customer Info'!$M$29),))),)","v":0}]
["lunch",null,"other2","anaerobic digestion","other",null,0,0,null,null,0,0,null,null,null,null,null,null,null,null,null,null,null,null,null,null,null,null,null,null,null,null,null,null,null,null,null,null,null,null,null,null,null,null,null,null,null,null,null,null,null,null,{"$f":"IF(E610=\"plate waste\",IF(OR(C610=\"patient\",C610=\"patient beverages\"),IF('Customer Info'!$M$27=0,AY610*'Customer Info'!$M$18,AY610*'Customer Info'!$M$27),IF(C610=\"cafeteria\",IF('Customer Info'!$M$28=0,AY610*'Customer Info'!$M$18,AY610*'Customer Info'!$M$28),IF(C610=\"other1\",IF('Customer Info'!$M$29=0,AY610*'Customer Info'!$M$18,AY610*'Customer Info'!$M$29),))),)","v":0}]
["breakfast",null,"other2","other","prep waste",null,0,0,null,null,0,0,null,null,null,null,null,null,null,null,null,null,null,null,null,null,null,null,null,null,null,null,null,null,null,null,null,null,null,null,null,null,null,null,null,null,null,null,null,null,null,null,{"$f":"IF(E611=\"plate waste\",IF(OR(C611=\"patient\",C611=\"patient beverages\"),IF('Customer Info'!$M$27=0,AY611*'Customer Info'!$M$18,AY611*'Customer Info'!$M$27),IF(C611=\"cafeteria\",IF('Customer Info'!$M$28=0,AY611*'Customer Info'!$M$18,AY611*'Customer Info'!$M$28),IF(C611=\"other1\",IF('Customer Info'!$M$29=0,AY611*'Customer Info'!$M$18,AY611*'Customer Info'!$M$29),))),)","v":0}]
[0,0,0,0,0,0,0,0,0,null,{"$f":"0","v":0},0,null,null,null,null,null,null,null,null,null,null,null,null,null,null,null,null,null,null,null,null,null,null,null,null,null,null,null,null,null,null,null,null,null,null,null,null,null,null,0,0,{"$f":"IF(E628=\"plate waste\",IF(OR(C628=\"patient\",C628=\"patient beverages\"),IF('Customer Info'!$M$27=0,AY628*'Customer Info'!$M$18,AY628*'Customer Info'!$M$27),IF(C628=\"cafeteria\",IF('Customer Info'!$M$28=0,AY628*'Customer Info'!$M$18,AY628*'Customer Info'!$M$28),IF(C628=\"other1\",IF('Customer Info'!$M$29=0,AY628*'Customer Info'!$M$18,AY628*'Customer Info'!$M$29),))),)","v":0},0,null,null,null,null,null,null,null,null,null,null,null,null,null,null,null,null,null,null,null,null,null,null,null,null,null,null,null,null,null,null,null,null,null,null,null,null,null,null,null,null,null,null,null,null,null,null,null,null,null,null,null,0]
[0,0,0,0,0,0,0,0,0,null,{"$f":"0","v":0},0,null,null,null,null,null,null,null,null,null,null,null,null,null,null,null,null,null,null,null,null,null,null,null,null,null,null,null,null,null,null,null,null,null,null,null,null,null,null,0,0,{"$f":"IF(E653=\"plate waste\",IF(OR(C653=\"patient\",C653=\"patient beverages\"),IF('Customer Info'!$M$27=0,AY653*'Customer Info'!$M$18,AY653*'Customer Info'!$M$27),IF(C653=\"cafeteria\",IF('Customer Info'!$M$28=0,AY653*'Customer Info'!$M$18,AY653*'Customer Info'!$M$28),IF(C653=\"other1\",IF('Customer Info'!$M$29=0,AY653*'Customer Info'!$M$18,AY653*'Customer Info'!$M$29),))),)","v":0},0,null,null,null,null,null,null,null,null,null,null,null,null,null,null,null,null,null,null,null,null,null,null,null,null,null,null,null,null,null,null,null,null,null,null,null,null,null,null,null,null,null,null,null,null,null,null,null,null,null,null,null,0]
[0,0,0,0,0,0,0,0,0,null,{"$f":"0","v":0},0,null,null,null,null,null,null,null,null,null,null,null,null,null,null,null,null,null,null,null,null,null,null,null,null,null,null,null,null,null,null,null,null,null,null,null,null,null,null,0,0,{"$f":"IF(E661=\"plate waste\",IF(OR(C661=\"patient\",C661=\"patient beverages\"),IF('Customer Info'!$M$27=0,AY661*'Customer Info'!$M$18,AY661*'Customer Info'!$M$27),IF(C661=\"cafeteria\",IF('Customer Info'!$M$28=0,AY661*'Customer Info'!$M$18,AY661*'Customer Info'!$M$28),IF(C661=\"other1\",IF('Customer Info'!$M$29=0,AY661*'Customer Info'!$M$18,AY661*'Customer Info'!$M$29),))),)","v":0},0,null,null,null,null,null,null,null,null,null,null,null,null,null,null,null,null,null,null,null,null,null,null,null,null,null,null,null,null,null,null,null,null,null,null,null,null,null,null,null,null,null,null,null,null,null,null,null,null,null,null,null,0]
[0,0,0,0,0,0,0,0,0,null,{"$f":"0","v":0},0,null,null,null,null,null,null,null,null,null,null,null,null,null,null,null,null,null,null,null,null,null,null,null,null,null,null,null,null,null,null,null,null,null,null,null,null,null,null,0,0,{"$f":"IF(E678=\"plate waste\",IF(OR(C678=\"patient\",C678=\"patient beverages\"),IF('Customer Info'!$M$27=0,AY678*'Customer Info'!$M$18,AY678*'Customer Info'!$M$27),IF(C678=\"cafeteria\",IF('Customer Info'!$M$28=0,AY678*'Customer Info'!$M$18,AY678*'Customer Info'!$M$28),IF(C678=\"other1\",IF('Customer Info'!$M$29=0,AY678*'Customer Info'!$M$18,AY678*'Customer Info'!$M$29),))),)","v":0},0,null,null,null,null,null,null,null,null,null,null,null,null,null,null,null,null,null,null,null,null,null,null,null,null,null,null,null,null,null,null,null,null,null,null,null,null,null,null,null,null,null,null,null,null,null,null,null,null,null,null,null,0]
[0,0,0,0,0,0,0,0,0,null,{"$f":"0","v":0},0,null,null,null,null,null,null,null,null,null,null,null,null,null,null,null,null,null,null,null,null,null,null,null,null,null,null,null,null,null,null,null,null,null,null,null,null,null,null,0,0,{"$f":"IF(E701=\"plate waste\",IF(OR(C701=\"patient\",C701=\"patient beverages\"),IF('Customer Info'!$M$27=0,AY701*'Customer Info'!$M$18,AY701*'Customer Info'!$M$27),IF(C701=\"cafeteria\",IF('Customer Info'!$M$28=0,AY701*'Customer Info'!$M$18,AY701*'Customer Info'!$M$28),IF(C701=\"other1\",IF('Customer Info'!$M$29=0,AY701*'Customer Info'!$M$18,AY701*'Customer Info'!$M$29),))),)","v":0},0,null,null,null,null,null,null,null,null,null,null,null,null,null,null,null,null,null,null,null,null,null,null,null,null,null,null,null,null,null,null,null,null,null,null,null,null,null,null,null,null,null,null,null,null,null,null,null,null,null,null,null,0]
[0,0,0,0,0,0,0,0,0,null,{"$f":"0","v":0},0,null,null,null,null,null,null,null,null,null,null,null,null,null,null,null,null,null,null,null,null,null,null,null,null,null,null,null,null,null,null,null,null,null,null,null,null,null,null,0,0,{"$f":"IF(E711=\"plate waste\",IF(OR(C711=\"patient\",C711=\"patient beverages\"),IF('Customer Info'!$M$27=0,AY711*'Customer Info'!$M$18,AY711*'Customer Info'!$M$27),IF(C711=\"cafeteria\",IF('Customer Info'!$M$28=0,AY711*'Customer Info'!$M$18,AY711*'Customer Info'!$M$28),IF(C711=\"other1\",IF('Customer Info'!$M$29=0,AY711*'Customer Info'!$M$18,AY711*'Customer Info'!$M$29),))),)","v":0},0,null,null,null,null,null,null,null,null,null,null,null,null,null,null,null,null,null,null,null,null,null,null,null,null,null,null,null,null,null,null,null,null,null,null,null,null,null,null,null,null,null,null,null,null,null,null,null,null,null,null,null,0]
[0,0,0,0,0,0,0,0,0,null,{"$f":"0","v":0},0,null,null,null,null,null,null,null,null,null,null,null,null,null,null,null,null,null,null,null,null,null,null,null,null,null,null,null,null,null,null,null,null,null,null,null,null,null,null,0,0,{"$f":"IF(E728=\"plate waste\",IF(OR(C728=\"patient\",C728=\"patient beverages\"),IF('Customer Info'!$M$27=0,AY728*'Customer Info'!$M$18,AY728*'Customer Info'!$M$27),IF(C728=\"cafeteria\",IF('Customer Info'!$M$28=0,AY728*'Customer Info'!$M$18,AY728*'Customer Info'!$M$28),IF(C728=\"other1\",IF('Customer Info'!$M$29=0,AY728*'Customer Info'!$M$18,AY728*'Customer Info'!$M$29),))),)","v":0},0,null,null,null,null,null,null,null,null,null,null,null,null,null,null,null,null,null,null,null,null,null,null,null,null,null,null,null,null,null,null,null,null,null,null,null,null,null,null,null,null,null,null,null,null,null,null,null,null,null,null,null,0]
[0,0,0,0,0,0,0,0,0,null,{"$f":"0","v":0},0,null,null,null,null,null,null,null,null,null,null,null,null,null,null,null,null,null,null,null,null,null,null,null,null,null,null,null,null,null,null,null,null,null,null,null,null,null,null,0,0,{"$f":"IF(E749=\"plate waste\",IF(OR(C749=\"patient\",C749=\"patient beverages\"),IF('Customer Info'!$M$27=0,AY749*'Customer Info'!$M$18,AY749*'Customer Info'!$M$27),IF(C749=\"cafeteria\",IF('Customer Info'!$M$28=0,AY749*'Customer Info'!$M$18,AY749*'Customer Info'!$M$28),IF(C749=\"other1\",IF('Customer Info'!$M$29=0,AY749*'Customer Info'!$M$18,AY749*'Customer Info'!$M$29),))),)","v":0},0,null,null,null,null,null,null,null,null,null,null,null,null,null,null,null,null,null,null,null,null,null,null,null,null,null,null,null,null,null,null,null,null,null,null,null,null,null,null,null,null,null,null,null,null,null,null,null,null,null,null,null,0]
[0,0,0,0,0,0,0,0,0,null,{"$f":"0","v":0},0,null,null,null,null,null,null,null,null,null,null,null,null,null,null,null,null,null,null,null,null,null,null,null,null,null,null,null,null,null,null,null,null,null,null,null,null,null,null,0,0,{"$f":"IF(E761=\"plate waste\",IF(OR(C761=\"patient\",C761=\"patient beverages\"),IF('Customer Info'!$M$27=0,AY761*'Customer Info'!$M$18,AY761*'Customer Info'!$M$27),IF(C761=\"cafeteria\",IF('Customer Info'!$M$28=0,AY761*'Customer Info'!$M$18,AY761*'Customer Info'!$M$28),IF(C761=\"other1\",IF('Customer Info'!$M$29=0,AY761*'Customer Info'!$M$18,AY761*'Customer Info'!$M$29),))),)","v":0},0,null,null,null,null,null,null,null,null,null,null,null,null,null,null,null,null,null,null,null,null,null,null,null,null,null,null,null,null,null,null,null,null,null,null,null,null,null,null,null,null,null,null,null,null,null,null,null,null,null,null,null,0]
[0,0,0,0,0,0,0,0,0,null,{"$f":"0","v":0},0,null,null,null,null,null,null,null,null,null,null,null,null,null,null,null,null,null,null,null,null,null,null,null,null,null,null,null,null,null,null,null,null,null,null,null,null,null,null,0,0,{"$f":"IF(E778=\"plate waste\",IF(OR(C778=\"patient\",C778=\"patient beverages\"),IF('Customer Info'!$M$27=0,AY778*'Customer Info'!$M$18,AY778*'Customer Info'!$M$27),IF(C778=\"cafeteria\",IF('Customer Info'!$M$28=0,AY778*'Customer Info'!$M$18,AY778*'Customer Info'!$M$28),IF(C778=\"other1\",IF('Customer Info'!$M$29=0,AY778*'Customer Info'!$M$18,AY778*'Customer Info'!$M$29),))),)","v":0},0,null,null,null,null,null,null,null,null,null,null,null,null,null,null,null,null,null,null,null,null,null,null,null,null,null,null,null,null,null,null,null,null,null,null,null,null,null,null,null,null,null,null,null,null,null,null,null,null,null,null,null,0]
[0,0,0,0,0,0,0,0,0,null,{"$f":"0","v":0},0,null,null,null,null,null,null,null,null,null,null,null,null,null,null,null,null,null,null,null,null,null,null,null,null,null,null,null,null,null,null,null,null,null,null,null,null,null,null,0,0,{"$f":"IF(E797=\"plate waste\",IF(OR(C797=\"patient\",C797=\"patient beverages\"),IF('Customer Info'!$M$27=0,AY797*'Customer Info'!$M$18,AY797*'Customer Info'!$M$27),IF(C797=\"cafeteria\",IF('Customer Info'!$M$28=0,AY797*'Customer Info'!$M$18,AY797*'Customer Info'!$M$28),IF(C797=\"other1\",IF('Customer Info'!$M$29=0,AY797*'Customer Info'!$M$18,AY797*'Customer Info'!$M$29),))),)","v":0},0,null,null,null,null,null,null,null,null,null,null,null,null,null,null,null,null,null,null,null,null,null,null,null,null,null,null,null,null,null,null,null,null,null,null,null,null,null,null,null,null,null,null,null,null,null,null,null,null,null,null,null,0]
[0,0,0,0,0,0,0,0,0,null,{"$f":"0","v":0},0,null,null,null,null,null,null,null,null,null,null,null,null,null,null,null,null,null,null,null,null,null,null,null,null,null,null,null,null,null,null,null,null,null,null,null,null,null,null,0,0,{"$f":"IF(E811=\"plate waste\",IF(OR(C811=\"patient\",C811=\"patient beverages\"),IF('Customer Info'!$M$27=0,AY811*'Customer Info'!$M$18,AY811*'Customer Info'!$M$27),IF(C811=\"cafeteria\",IF('Customer Info'!$M$28=0,AY811*'Customer Info'!$M$18,AY811*'Customer Info'!$M$28),IF(C811=\"other1\",IF('Customer Info'!$M$29=0,AY811*'Customer Info'!$M$18,AY811*'Customer Info'!$M$29),))),)","v":0},0,null,null,null,null,null,null,null,null,null,null,null,null,null,null,null,null,null,null,null,null,null,null,null,null,null,null,null,null,null,null,null,null,null,null,null,null,null,null,null,null,null,null,null,null,null,null,null,null,null,null,null,0]
[0,0,0,0,0,0,0,0,0,null,{"$f":"0","v":0},0,null,null,null,null,null,null,null,null,null,null,null,null,null,null,null,null,null,null,null,null,null,null,null,null,null,null,null,null,null,null,null,null,null,null,null,null,null,null,0,0,{"$f":"IF(E828=\"plate waste\",IF(OR(C828=\"patient\",C828=\"patient beverages\"),IF('Customer Info'!$M$27=0,AY828*'Customer Info'!$M$18,AY828*'Customer Info'!$M$27),IF(C828=\"cafeteria\",IF('Customer Info'!$M$28=0,AY828*'Customer Info'!$M$18,AY828*'Customer Info'!$M$28),IF(C828=\"other1\",IF('Customer Info'!$M$29=0,AY828*'Customer Info'!$M$18,AY828*'Customer Info'!$M$29),))),)","v":0},0,null,null,null,null,null,null,null,null,null,null,null,null,null,null,null,null,null,null,null,null,null,null,null,null,null,null,null,null,null,null,null,null,null,null,null,null,null,null,null,null,null,null,null,null,null,null,null,null,null,null,null,0]
[0,0,0,0,0,0,0,0,0,null,{"$f":"0","v":0},0,null,null,null,null,null,null,null,null,null,null,null,null,null,null,null,null,null,null,null,null,null,null,null,null,null,null,null,null,null,null,null,null,null,null,null,null,null,null,0,0,{"$f":"IF(E831=\"plate waste\",IF(OR(C831=\"patient\",C831=\"patient beverages\"),IF('Customer Info'!$M$27=0,AY831*'Customer Info'!$M$18,AY831*'Customer Info'!$M$27),IF(C831=\"cafeteria\",IF('Customer Info'!$M$28=0,AY831*'Customer Info'!$M$18,AY831*'Customer Info'!$M$28),IF(C831=\"other1\",IF('Customer Info'!$M$29=0,AY831*'Customer Info'!$M$18,AY831*'Customer Info'!$M$29),))),)","v":0},0,null,null,null,null,null,null,null,null,null,null,null,null,null,null,null,null,null,null,null,null,null,null,null,null,null,null,null,null,null,null,null,null,null,null,null,null,null,null,null,null,null,null,null,null,null,null,null,null,null,null,null,0]
[0,0,0,0,0,0,0,0,0,null,{"$f":"0","v":0},0,null,null,null,null,null,null,null,null,null,null,null,null,null,null,null,null,null,null,null,null,null,null,null,null,null,null,null,null,null,null,null,null,null,null,null,null,null,null,0,0,{"$f":"IF(E861=\"plate waste\",IF(OR(C861=\"patient\",C861=\"patient beverages\"),IF('Customer Info'!$M$27=0,AY861*'Customer Info'!$M$18,AY861*'Customer Info'!$M$27),IF(C861=\"cafeteria\",IF('Customer Info'!$M$28=0,AY861*'Customer Info'!$M$18,AY861*'Customer Info'!$M$28),IF(C861=\"other1\",IF('Customer Info'!$M$29=0,AY861*'Customer Info'!$M$18,AY861*'Customer Info'!$M$29),))),)","v":0},0,null,null,null,null,null,null,null,null,null,null,null,null,null,null,null,null,null,null,null,null,null,null,null,null,null,null,null,null,null,null,null,null,null,null,null,null,null,null,null,null,null,null,null,null,null,null,null,null,null,null,null,0]
[0,0,0,0,0,0,0,0,0,null,{"$f":"0","v":0},0,null,null,null,null,null,null,null,null,null,null,null,null,null,null,null,null,null,null,null,null,null,null,null,null,null,null,null,null,null,null,null,null,null,null,null,null,null,null,0,0,{"$f":"IF(E862=\"plate waste\",IF(OR(C862=\"patient\",C862=\"patient beverages\"),IF('Customer Info'!$M$27=0,AY862*'Customer Info'!$M$18,AY862*'Customer Info'!$M$27),IF(C862=\"cafeteria\",IF('Customer Info'!$M$28=0,AY862*'Customer Info'!$M$18,AY862*'Customer Info'!$M$28),IF(C862=\"other1\",IF('Customer Info'!$M$29=0,AY862*'Customer Info'!$M$18,AY862*'Customer Info'!$M$29),))),)","v":0},0,null,null,null,null,null,null,null,null,null,null,null,null,null,null,null,null,null,null,null,null,null,null,null,null,null,null,null,null,null,null,null,null,null,null,null,null,null,null,null,null,null,null,null,null,null,null,null,null,null,null,null,0]
[0,0,0,0,0,{"$f":"IF(AY879=0,,\"assumed plate waste-breakfast\")","v":0},0,0,0,null,{"$f":"0","v":0},{"$f":"BB879","v":0},null,null,null,null,null,null,null,null,null,null,null,null,null,null,null,null,null,null,null,null,null,null,null,null,null,null,null,null,null,null,null,null,null,null,null,null,null,null,0,0,{"$f":"IF(E879=\"plate waste\",IF(OR(C879=\"patient\",C879=\"patient beverages\"),IF('Customer Info'!$M$27=0,AY879*'Customer Info'!$M$18,AY879*'Customer Info'!$M$27),IF(C879=\"cafeteria\",IF('Customer Info'!$M$28=0,AY879*'Customer Info'!$M$18,AY879*'Customer Info'!$M$28),IF(C879=\"other1\",IF('Customer Info'!$M$29=0,AY879*'Customer Info'!$M$18,AY879*'Customer Info'!$M$29),))),)","v":0},{"$f":"BA879","v":0},null,null,null,null,null,null,null,null,null,null,null,null,null,null,null,null,null,null,null,null,null,null,null,null,null,null,null,null,null,null,null,null,null,null,null,null,null,null,null,null,null,null,null,null,null,null,null,null,null,null,null,{"$f":"IF(C879=\"patient beverages\",L879,)","v":0}]
[0,0,0,0,0,0,0,0,0,null,{"$f":"0","v":0},0,null,null,null,null,null,null,null,null,null,null,null,null,null,null,null,null,null,null,null,null,null,null,null,null,null,null,null,null,null,null,null,null,null,null,null,null,null,null,0,0,{"$f":"IF(E895=\"plate waste\",IF(OR(C895=\"patient\",C895=\"patient beverages\"),IF('Customer Info'!$M$27=0,AY895*'Customer Info'!$M$18,AY895*'Customer Info'!$M$27),IF(C895=\"cafeteria\",IF('Customer Info'!$M$28=0,AY895*'Customer Info'!$M$18,AY895*'Customer Info'!$M$28),IF(C895=\"other1\",IF('Customer Info'!$M$29=0,AY895*'Customer Info'!$M$18,AY895*'Customer Info'!$M$29),))),)","v":0},0,null,null,null,null,null,null,null,null,null,null,null,null,null,null,null,null,null,null,null,null,null,null,null,null,null,null,null,null,null,null,null,null,null,null,null,null,null,null,null,null,null,null,null,null,null,null,null,null,null,null,null,0]
[0,0,0,0,0,0,0,0,0,null,{"$f":"0","v":0},0,null,null,null,null,null,null,null,null,null,null,null,null,null,null,null,null,null,null,null,null,null,null,null,null,null,null,null,null,null,null,null,null,null,null,null,null,null,null,0,0,{"$f":"IF(E912=\"plate waste\",IF(OR(C912=\"patient\",C912=\"patient beverages\"),IF('Customer Info'!$M$27=0,AY912*'Customer Info'!$M$18,AY912*'Customer Info'!$M$27),IF(C912=\"cafeteria\",IF('Customer Info'!$M$28=0,AY912*'Customer Info'!$M$18,AY912*'Customer Info'!$M$28),IF(C912=\"other1\",IF('Customer Info'!$M$29=0,AY912*'Customer Info'!$M$18,AY912*'Customer Info'!$M$29),))),)","v":0},0,null,null,null,null,null,null,null,null,null,null,null,null,null,null,null,null,null,null,null,null,null,null,null,null,null,null,null,null,null,null,null,null,null,null,null,null,null,null,null,null,null,null,null,null,null,null,null,null,null,null,null,0]
[0,0,0,0,0,0,0,0,0,null,{"$f":"0","v":0},0,null,null,null,null,null,null,null,null,null,null,null,null,null,null,null,null,null,null,null,null,null,null,null,null,null,null,null,null,null,null,null,null,null,null,null,null,null,null,0,0,{"$f":"IF(E927=\"plate waste\",IF(OR(C927=\"patient\",C927=\"patient beverages\"),IF('Customer Info'!$M$27=0,AY927*'Customer Info'!$M$18,AY927*'Customer Info'!$M$27),IF(C927=\"cafeteria\",IF('Customer Info'!$M$28=0,AY927*'Customer Info'!$M$18,AY927*'Customer Info'!$M$28),IF(C927=\"other1\",IF('Customer Info'!$M$29=0,AY927*'Customer Info'!$M$18,AY927*'Customer Info'!$M$29),))),)","v":0},0,null,null,null,null,null,null,null,null,null,null,null,null,null,null,null,null,null,null,null,null,null,null,null,null,null,null,null,null,null,null,null,null,null,null,null,null,null,null,null,null,null,null,null,null,null,null,null,null,null,null,null,0]
[0,0,0,0,0,0,0,0,0,null,{"$f":"0","v":0},0,null,null,null,null,null,null,null,null,null,null,null,null,null,null,null,null,null,null,null,null,null,null,null,null,null,null,null,null,null,null,null,null,null,null,null,null,null,null,0,0,{"$f":"IF(E945=\"plate waste\",IF(OR(C945=\"patient\",C945=\"patient beverages\"),IF('Customer Info'!$M$27=0,AY945*'Customer Info'!$M$18,AY945*'Customer Info'!$M$27),IF(C945=\"cafeteria\",IF('Customer Info'!$M$28=0,AY945*'Customer Info'!$M$18,AY945*'Customer Info'!$M$28),IF(C945=\"other1\",IF('Customer Info'!$M$29=0,AY945*'Customer Info'!$M$18,AY945*'Customer Info'!$M$29),))),)","v":0},0,null,null,null,null,null,null,null,null,null,null,null,null,null,null,null,null,null,null,null,null,null,null,null,null,null,null,null,null,null,null,null,null,null,null,null,null,null,null,null,null,null,null,null,null,null,null,null,null,null,null,null,0]
[0,0,0,0,0,0,0,0,0,null,{"$f":"0","v":0},0,null,null,null,null,null,null,null,null,null,null,null,null,null,null,null,null,null,null,null,null,null,null,null,null,null,null,null,null,null,null,null,null,null,null,null,null,null,null,0,0,{"$f":"IF(E962=\"plate waste\",IF(OR(C962=\"patient\",C962=\"patient beverages\"),IF('Customer Info'!$M$27=0,AY962*'Customer Info'!$M$18,AY962*'Customer Info'!$M$27),IF(C962=\"cafeteria\",IF('Customer Info'!$M$28=0,AY962*'Customer Info'!$M$18,AY962*'Customer Info'!$M$28),IF(C962=\"other1\",IF('Customer Info'!$M$29=0,AY962*'Customer Info'!$M$18,AY962*'Customer Info'!$M$29),))),)","v":0},0,null,null,null,null,null,null,null,null,null,null,null,null,null,null,null,null,null,null,null,null,null,null,null,null,null,null,null,null,null,null,null,null,null,null,null,null,null,null,null,null,null,null,null,null,null,null,null,null,null,null,null,0]
[0,0,0,0,0,0,0,0,0,null,{"$f":"0","v":0},0,null,null,null,null,null,null,null,null,null,null,null,null,null,null,null,null,null,null,null,null,null,null,null,null,null,null,null,null,null,null,null,null,null,null,null,null,null,null,0,0,{"$f":"IF(E975=\"plate waste\",IF(OR(C975=\"patient\",C975=\"patient beverages\"),IF('Customer Info'!$M$27=0,AY975*'Customer Info'!$M$18,AY975*'Customer Info'!$M$27),IF(C975=\"cafeteria\",IF('Customer Info'!$M$28=0,AY975*'Customer Info'!$M$18,AY975*'Customer Info'!$M$28),IF(C975=\"other1\",IF('Customer Info'!$M$29=0,AY975*'Customer Info'!$M$18,AY975*'Customer Info'!$M$29),))),)","v":0},0,null,null,null,null,null,null,null,null,null,null,null,null,null,null,null,null,null,null,null,null,null,null,null,null,null,null,null,null,null,null,null,null,null,null,null,null,null,null,null,null,null,null,null,null,null,null,null,null,null,null,null,0]
[0,0,0,0,0,0,0,0,0,null,{"$f":"0","v":0},0,null,null,null,null,null,null,null,null,null,null,null,null,null,null,null,null,null,null,null,null,null,null,null,null,null,null,null,null,null,null,null,null,null,null,null,null,null,null,0,0,{"$f":"IF(E995=\"plate waste\",IF(OR(C995=\"patient\",C995=\"patient beverages\"),IF('Customer Info'!$M$27=0,AY995*'Customer Info'!$M$18,AY995*'Customer Info'!$M$27),IF(C995=\"cafeteria\",IF('Customer Info'!$M$28=0,AY995*'Customer Info'!$M$18,AY995*'Customer Info'!$M$28),IF(C995=\"other1\",IF('Customer Info'!$M$29=0,AY995*'Customer Info'!$M$18,AY995*'Customer Info'!$M$29),))),)","v":0},0,null,null,null,null,null,null,null,null,null,null,null,null,null,null,null,null,null,null,null,null,null,null,null,null,null,null,null,null,null,null,null,null,null,null,null,null,null,null,null,null,null,null,null,null,null,null,null,null,null,null,null,0]
[0,0,0,0,0,0,0,0,0,null,{"$f":"0","v":0},0,null,null,null,null,null,null,null,null,null,null,null,null,null,null,null,null,null,null,null,null,null,null,null,null,null,null,null,null,null,null,null,null,null,null,null,null,null,null,0,0,{"$f":"IF(E1012=\"plate waste\",IF(OR(C1012=\"patient\",C1012=\"patient beverages\"),IF('Customer Info'!$M$27=0,AY1012*'Customer Info'!$M$18,AY1012*'Customer Info'!$M$27),IF(C1012=\"cafeteria\",IF('Customer Info'!$M$28=0,AY1012*'Customer Info'!$M$18,AY1012*'Customer Info'!$M$28),IF(C1012=\"other1\",IF('Customer Info'!$M$29=0,AY1012*'Customer Info'!$M$18,AY1012*'Customer Info'!$M$29),))),)","v":0},0,null,null,null,null,null,null,null,null,null,null,null,null,null,null,null,null,null,null,null,null,null,null,null,null,null,null,null,null,null,null,null,null,null,null,null,null,null,null,null,null,null,null,null,null,null,null,null,null,null,null,null,0]
[0,0,0,0,0,0,0,0,0,null,{"$f":"0","v":0},0,null,null,null,null,null,null,null,null,null,null,null,null,null,null,null,null,null,null,null,null,null,null,null,null,null,null,null,null,null,null,null,null,null,null,null,null,null,null,0,0,{"$f":"IF(E1029=\"plate waste\",IF(OR(C1029=\"patient\",C1029=\"patient beverages\"),IF('Customer Info'!$M$27=0,AY1029*'Customer Info'!$M$18,AY1029*'Customer Info'!$M$27),IF(C1029=\"cafeteria\",IF('Customer Info'!$M$28=0,AY1029*'Customer Info'!$M$18,AY1029*'Customer Info'!$M$28),IF(C1029=\"other1\",IF('Customer Info'!$M$29=0,AY1029*'Customer Info'!$M$18,AY1029*'Customer Info'!$M$29),))),)","v":0},0,null,null,null,null,null,null,null,null,null,null,null,null,null,null,null,null,null,null,null,null,null,null,null,null,null,null,null,null,null,null,null,null,null,null,null,null,null,null,null,null,null,null,null,null,null,null,null,null,null,null,null,0]
[0,0,0,0,0,0,0,0,0,null,{"$f":"0","v":0},0,null,null,null,null,null,null,null,null,null,null,null,null,null,null,null,null,null,null,null,null,null,null,null,null,null,null,null,null,null,null,null,null,null,null,null,null,null,null,0,0,{"$f":"IF(E1040=\"plate waste\",IF(OR(C1040=\"patient\",C1040=\"patient beverages\"),IF('Customer Info'!$M$27=0,AY1040*'Customer Info'!$M$18,AY1040*'Customer Info'!$M$27),IF(C1040=\"cafeteria\",IF('Customer Info'!$M$28=0,AY1040*'Customer Info'!$M$18,AY1040*'Customer Info'!$M$28),IF(C1040=\"other1\",IF('Customer Info'!$M$29=0,AY1040*'Customer Info'!$M$18,AY1040*'Customer Info'!$M$29),))),)","v":0},0,null,null,null,null,null,null,null,null,null,null,null,null,null,null,null,null,null,null,null,null,null,null,null,null,null,null,null,null,null,null,null,null,null,null,null,null,null,null,null,null,null,null,null,null,null,null,null,null,null,null,null,0]
[0,0,0,0,0,0,0,0,0,null,{"$f":"0","v":0},0,null,null,null,null,null,null,null,null,null,null,null,null,null,null,null,null,null,null,null,null,null,null,null,null,null,null,null,null,null,null,null,null,null,null,null,null,null,null,0,0,{"$f":"IF(E1062=\"plate waste\",IF(OR(C1062=\"patient\",C1062=\"patient beverages\"),IF('Customer Info'!$M$27=0,AY1062*'Customer Info'!$M$18,AY1062*'Customer Info'!$M$27),IF(C1062=\"cafeteria\",IF('Customer Info'!$M$28=0,AY1062*'Customer Info'!$M$18,AY1062*'Customer Info'!$M$28),IF(C1062=\"other1\",IF('Customer Info'!$M$29=0,AY1062*'Customer Info'!$M$18,AY1062*'Customer Info'!$M$29),))),)","v":0},0,null,null,null,null,null,null,null,null,null,null,null,null,null,null,null,null,null,null,null,null,null,null,null,null,null,null,null,null,null,null,null,null,null,null,null,null,null,null,null,null,null,null,null,null,null,null,null,null,null,null,null,0]
[0,0,0,0,0,0,0,0,0,null,{"$f":"0","v":0},0,null,null,null,null,null,null,null,null,null,null,null,null,null,null,null,null,null,null,null,null,null,null,null,null,null,null,null,null,null,null,null,null,null,null,null,null,null,null,0,0,{"$f":"IF(E1079=\"plate waste\",IF(OR(C1079=\"patient\",C1079=\"patient beverages\"),IF('Customer Info'!$M$27=0,AY1079*'Customer Info'!$M$18,AY1079*'Customer Info'!$M$27),IF(C1079=\"cafeteria\",IF('Customer Info'!$M$28=0,AY1079*'Customer Info'!$M$18,AY1079*'Customer Info'!$M$28),IF(C1079=\"other1\",IF('Customer Info'!$M$29=0,AY1079*'Customer Info'!$M$18,AY1079*'Customer Info'!$M$29),))),)","v":0},0,null,null,null,null,null,null,null,null,null,null,null,null,null,null,null,null,null,null,null,null,null,null,null,null,null,null,null,null,null,null,null,null,null,null,null,null,null,null,null,null,null,null,null,null,null,null,null,null,null,null,null,0]
[0,0,0,0,0,0,0,0,0,null,{"$f":"0","v":0},0,null,null,null,null,null,null,null,null,null,null,null,null,null,null,null,null,null,null,null,null,null,null,null,null,null,null,null,null,null,null,null,null,null,null,null,null,null,null,0,0,{"$f":"IF(E1088=\"plate waste\",IF(OR(C1088=\"patient\",C1088=\"patient beverages\"),IF('Customer Info'!$M$27=0,AY1088*'Customer Info'!$M$18,AY1088*'Customer Info'!$M$27),IF(C1088=\"cafeteria\",IF('Customer Info'!$M$28=0,AY1088*'Customer Info'!$M$18,AY1088*'Customer Info'!$M$28),IF(C1088=\"other1\",IF('Customer Info'!$M$29=0,AY1088*'Customer Info'!$M$18,AY1088*'Customer Info'!$M$29),))),)","v":0},0,null,null,null,null,null,null,null,null,null,null,null,null,null,null,null,null,null,null,null,null,null,null,null,null,null,null,null,null,null,null,null,null,null,null,null,null,null,null,null,null,null,null,null,null,null,null,null,null,null,null,null,0]
[0,0,0,0,0,0,0,0,0,null,{"$f":"0","v":0},0,null,null,null,null,null,null,null,null,null,null,null,null,null,null,null,null,null,null,null,null,null,null,null,null,null,null,null,null,null,null,null,null,null,null,null,null,null,null,0,0,{"$f":"IF(E1112=\"plate waste\",IF(OR(C1112=\"patient\",C1112=\"patient beverages\"),IF('Customer Info'!$M$27=0,AY1112*'Customer Info'!$M$18,AY1112*'Customer Info'!$M$27),IF(C1112=\"cafeteria\",IF('Customer Info'!$M$28=0,AY1112*'Customer Info'!$M$18,AY1112*'Customer Info'!$M$28),IF(C1112=\"other1\",IF('Customer Info'!$M$29=0,AY1112*'Customer Info'!$M$18,AY1112*'Customer Info'!$M$29),))),)","v":0},0,null,null,null,null,null,null,null,null,null,null,null,null,null,null,null,null,null,null,null,null,null,null,null,null,null,null,null,null,null,null,null,null,null,null,null,null,null,null,null,null,null,null,null,null,null,null,null,null,null,null,null,0]
[0,0,0,0,0,0,0,0,0,null,{"$f":"0","v":0},0,null,null,null,null,null,null,null,null,null,null,null,null,null,null,null,null,null,null,null,null,null,null,null,null,null,null,null,null,null,null,null,null,null,null,null,null,null,null,0,0,{"$f":"IF(E1113=\"plate waste\",IF(OR(C1113=\"patient\",C1113=\"patient beverages\"),IF('Customer Info'!$M$27=0,AY1113*'Customer Info'!$M$18,AY1113*'Customer Info'!$M$27),IF(C1113=\"cafeteria\",IF('Customer Info'!$M$28=0,AY1113*'Customer Info'!$M$18,AY1113*'Customer Info'!$M$28),IF(C1113=\"other1\",IF('Customer Info'!$M$29=0,AY1113*'Customer Info'!$M$18,AY1113*'Customer Info'!$M$29),))),)","v":0},0,null,null,null,null,null,null,null,null,null,null,null,null,null,null,null,null,null,null,null,null,null,null,null,null,null,null,null,null,null,null,null,null,null,null,null,null,null,null,null,null,null,null,null,null,null,null,null,null,null,null,null,0]
[0,0,0,0,0,0,0,0,0,null,{"$f":"0","v":0},0,null,null,null,null,null,null,null,null,null,null,null,null,null,null,null,null,null,null,null,null,null,null,null,null,null,null,null,null,null,null,null,null,null,null,null,null,null,null,0,0,{"$f":"IF(E1136=\"plate waste\",IF(OR(C1136=\"patient\",C1136=\"patient beverages\"),IF('Customer Info'!$M$27=0,AY1136*'Customer Info'!$M$18,AY1136*'Customer Info'!$M$27),IF(C1136=\"cafeteria\",IF('Customer Info'!$M$28=0,AY1136*'Customer Info'!$M$18,AY1136*'Customer Info'!$M$28),IF(C1136=\"other1\",IF('Customer Info'!$M$29=0,AY1136*'Customer Info'!$M$18,AY1136*'Customer Info'!$M$29),))),)","v":0},0,null,null,null,null,null,null,null,null,null,null,null,null,null,null,null,null,null,null,null,null,null,null,null,null,null,null,null,null,null,null,null,null,null,null,null,null,null,null,null,null,null,null,null,null,null,null,null,null,null,null,null,0]
[0,0,0,0,0,0,0,0,0,null,{"$f":"0","v":0},0,null,null,null,null,null,null,null,null,null,null,null,null,null,null,null,null,null,null,null,null,null,null,null,null,null,null,null,null,null,null,null,null,null,null,null,null,null,null,0,0,{"$f":"IF(E1146=\"plate waste\",IF(OR(C1146=\"patient\",C1146=\"patient beverages\"),IF('Customer Info'!$M$27=0,AY1146*'Customer Info'!$M$18,AY1146*'Customer Info'!$M$27),IF(C1146=\"cafeteria\",IF('Customer Info'!$M$28=0,AY1146*'Customer Info'!$M$18,AY1146*'Customer Info'!$M$28),IF(C1146=\"other1\",IF('Customer Info'!$M$29=0,AY1146*'Customer Info'!$M$18,AY1146*'Customer Info'!$M$29),))),)","v":0},0,null,null,null,null,null,null,null,null,null,null,null,null,null,null,null,null,null,null,null,null,null,null,null,null,null,null,null,null,null,null,null,null,null,null,null,null,null,null,null,null,null,null,null,null,null,null,null,null,null,null,null,0]
[0,0,0,0,0,0,0,0,0,null,{"$f":"0","v":0},0,null,null,null,null,null,null,null,null,null,null,null,null,null,null,null,null,null,null,null,null,null,null,null,null,null,null,null,null,null,null,null,null,null,null,null,null,null,null,0,0,{"$f":"IF(E1163=\"plate waste\",IF(OR(C1163=\"patient\",C1163=\"patient beverages\"),IF('Customer Info'!$M$27=0,AY1163*'Customer Info'!$M$18,AY1163*'Customer Info'!$M$27),IF(C1163=\"cafeteria\",IF('Customer Info'!$M$28=0,AY1163*'Customer Info'!$M$18,AY1163*'Customer Info'!$M$28),IF(C1163=\"other1\",IF('Customer Info'!$M$29=0,AY1163*'Customer Info'!$M$18,AY1163*'Customer Info'!$M$29),))),)","v":0},0,null,null,null,null,null,null,null,null,null,null,null,null,null,null,null,null,null,null,null,null,null,null,null,null,null,null,null,null,null,null,null,null,null,null,null,null,null,null,null,null,null,null,null,null,null,null,null,null,null,null,null,0]
[0,0,0,0,0,0,0,0,0,null,{"$f":"0","v":0},0,null,null,null,null,null,null,null,null,null,null,null,null,null,null,null,null,null,null,null,null,null,null,null,null,null,null,null,null,null,null,null,null,null,null,null,null,null,null,0,0,{"$f":"IF(E1184=\"plate waste\",IF(OR(C1184=\"patient\",C1184=\"patient beverages\"),IF('Customer Info'!$M$27=0,AY1184*'Customer Info'!$M$18,AY1184*'Customer Info'!$M$27),IF(C1184=\"cafeteria\",IF('Customer Info'!$M$28=0,AY1184*'Customer Info'!$M$18,AY1184*'Customer Info'!$M$28),IF(C1184=\"other1\",IF('Customer Info'!$M$29=0,AY1184*'Customer Info'!$M$18,AY1184*'Customer Info'!$M$29),))),)","v":0},0,null,null,null,null,null,null,null,null,null,null,null,null,null,null,null,null,null,null,null,null,null,null,null,null,null,null,null,null,null,null,null,null,null,null,null,null,null,null,null,null,null,null,null,null,null,null,null,null,null,null,null,0]
[0,0,0,0,0,0,0,0,0,null,{"$f":"0","v":0},0,null,null,null,null,null,null,null,null,null,null,null,null,null,null,null,null,null,null,null,null,null,null,null,null,null,null,null,null,null,null,null,null,null,null,null,null,null,null,0,0,{"$f":"IF(E1196=\"plate waste\",IF(OR(C1196=\"patient\",C1196=\"patient beverages\"),IF('Customer Info'!$M$27=0,AY1196*'Customer Info'!$M$18,AY1196*'Customer Info'!$M$27),IF(C1196=\"cafeteria\",IF('Customer Info'!$M$28=0,AY1196*'Customer Info'!$M$18,AY1196*'Customer Info'!$M$28),IF(C1196=\"other1\",IF('Customer Info'!$M$29=0,AY1196*'Customer Info'!$M$18,AY1196*'Customer Info'!$M$29),))),)","v":0},0,null,null,null,null,null,null,null,null,null,null,null,null,null,null,null,null,null,null,null,null,null,null,null,null,null,null,null,null,null,null,null,null,null,null,null,null,null,null,null,null,null,null,null,null,null,null,null,null,null,null,null,0]
[0,0,0,0,0,0,0,0,0,null,{"$f":"0","v":0},0,null,null,null,null,null,null,null,null,null,null,null,null,null,null,null,null,null,null,null,null,null,null,null,null,null,null,null,null,null,null,null,null,null,null,null,null,null,null,0,0,{"$f":"IF(E1213=\"plate waste\",IF(OR(C1213=\"patient\",C1213=\"patient beverages\"),IF('Customer Info'!$M$27=0,AY1213*'Customer Info'!$M$18,AY1213*'Customer Info'!$M$27),IF(C1213=\"cafeteria\",IF('Customer Info'!$M$28=0,AY1213*'Customer Info'!$M$18,AY1213*'Customer Info'!$M$28),IF(C1213=\"other1\",IF('Customer Info'!$M$29=0,AY1213*'Customer Info'!$M$18,AY1213*'Customer Info'!$M$29),))),)","v":0},0,null,null,null,null,null,null,null,null,null,null,null,null,null,null,null,null,null,null,null,null,null,null,null,null,null,null,null,null,null,null,null,null,null,null,null,null,null,null,null,null,null,null,null,null,null,null,null,null,null,null,null,0]
[0,0,0,0,0,0,0,0,0,null,{"$f":"0","v":0},0,null,null,null,null,null,null,null,null,null,null,null,null,null,null,null,null,null,null,null,null,null,null,null,null,null,null,null,null,null,null,null,null,null,null,null,null,null,null,0,0,{"$f":"IF(E1232=\"plate waste\",IF(OR(C1232=\"patient\",C1232=\"patient beverages\"),IF('Customer Info'!$M$27=0,AY1232*'Customer Info'!$M$18,AY1232*'Customer Info'!$M$27),IF(C1232=\"cafeteria\",IF('Customer Info'!$M$28=0,AY1232*'Customer Info'!$M$18,AY1232*'Customer Info'!$M$28),IF(C1232=\"other1\",IF('Customer Info'!$M$29=0,AY1232*'Customer Info'!$M$18,AY1232*'Customer Info'!$M$29),))),)","v":0},0,null,null,null,null,null,null,null,null,null,null,null,null,null,null,null,null,null,null,null,null,null,null,null,null,null,null,null,null,null,null,null,null,null,null,null,null,null,null,null,null,null,null,null,null,null,null,null,null,null,null,null,0]
[0,0,0,0,0,0,0,0,0,null,{"$f":"0","v":0},0,null,null,null,null,null,null,null,null,null,null,null,null,null,null,null,null,null,null,null,null,null,null,null,null,null,null,null,null,null,null,null,null,null,null,null,null,null,null,0,0,{"$f":"IF(E1246=\"plate waste\",IF(OR(C1246=\"patient\",C1246=\"patient beverages\"),IF('Customer Info'!$M$27=0,AY1246*'Customer Info'!$M$18,AY1246*'Customer Info'!$M$27),IF(C1246=\"cafeteria\",IF('Customer Info'!$M$28=0,AY1246*'Customer Info'!$M$18,AY1246*'Customer Info'!$M$28),IF(C1246=\"other1\",IF('Customer Info'!$M$29=0,AY1246*'Customer Info'!$M$18,AY1246*'Customer Info'!$M$29),))),)","v":0},0,null,null,null,null,null,null,null,null,null,null,null,null,null,null,null,null,null,null,null,null,null,null,null,null,null,null,null,null,null,null,null,null,null,null,null,null,null,null,null,null,null,null,null,null,null,null,null,null,null,null,null,0]
[0,0,0,0,0,0,0,0,0,null,{"$f":"0","v":0},0,null,null,null,null,null,null,null,null,null,null,null,null,null,null,null,null,null,null,null,null,null,null,null,null,null,null,null,null,null,null,null,null,null,null,null,null,null,null,0,0,{"$f":"IF(E1263=\"plate waste\",IF(OR(C1263=\"patient\",C1263=\"patient beverages\"),IF('Customer Info'!$M$27=0,AY1263*'Customer Info'!$M$18,AY1263*'Customer Info'!$M$27),IF(C1263=\"cafeteria\",IF('Customer Info'!$M$28=0,AY1263*'Customer Info'!$M$18,AY1263*'Customer Info'!$M$28),IF(C1263=\"other1\",IF('Customer Info'!$M$29=0,AY1263*'Customer Info'!$M$18,AY1263*'Customer Info'!$M$29),))),)","v":0},{"$f":"BA1263","v":0},null,null,null,null,null,null,null,null,null,null,null,null,null,null,null,null,null,null,null,null,null,null,null,null,null,null,null,null,null,null,null,null,null,null,null,null,null,null,null,null,null,null,null,null,null,null,null,null,null,null,null,{"$f":"IF(C1263=\"patient beverages\",L1263,)","v":0}]
[0,0,0,0,0,0,0,0,0,null,{"$f":"0","v":0},0,null,null,null,null,null,null,null,null,null,null,null,null,null,null,null,null,null,null,null,null,null,null,null,null,null,null,null,null,null,null,null,null,null,null,null,null,null,null,0,0,{"$f":"IF(E1280=\"plate waste\",IF(OR(C1280=\"patient\",C1280=\"patient beverages\"),IF('Customer Info'!$M$27=0,AY1280*'Customer Info'!$M$18,AY1280*'Customer Info'!$M$27),IF(C1280=\"cafeteria\",IF('Customer Info'!$M$28=0,AY1280*'Customer Info'!$M$18,AY1280*'Customer Info'!$M$28),IF(C1280=\"other1\",IF('Customer Info'!$M$29=0,AY1280*'Customer Info'!$M$18,AY1280*'Customer Info'!$M$29),))),)","v":0},0,null,null,null,null,null,null,null,null,null,null,null,null,null,null,null,null,null,null,null,null,null,null,null,null,null,null,null,null,null,null,null,null,null,null,null,null,null,null,null,null,null,null,null,null,null,null,null,null,null,null,null,0]
[0,0,0,0,0,0,0,0,0,null,{"$f":"0","v":0},0,null,null,null,null,null,null,null,null,null,null,null,null,null,null,null,null,null,null,null,null,null,null,null,null,null,null,null,null,null,null,null,null,null,null,null,null,null,null,0,0,{"$f":"IF(E1296=\"plate waste\",IF(OR(C1296=\"patient\",C1296=\"patient beverages\"),IF('Customer Info'!$M$27=0,AY1296*'Customer Info'!$M$18,AY1296*'Customer Info'!$M$27),IF(C1296=\"cafeteria\",IF('Customer Info'!$M$28=0,AY1296*'Customer Info'!$M$18,AY1296*'Customer Info'!$M$28),IF(C1296=\"other1\",IF('Customer Info'!$M$29=0,AY1296*'Customer Info'!$M$18,AY1296*'Customer Info'!$M$29),))),)","v":0},0,null,null,null,null,null,null,null,null,null,null,null,null,null,null,null,null,null,null,null,null,null,null,null,null,null,null,null,null,null,null,null,null,null,null,null,null,null,null,null,null,null,null,null,null,null,null,null,null,null,null,null,0]
[0,0,0,0,0,0,0,0,0,null,{"$f":"0","v":0},0,null,null,null,null,null,null,null,null,null,null,null,null,null,null,null,null,null,null,null,null,null,null,null,null,null,null,null,null,null,null,null,null,null,null,null,null,null,null,0,0,{"$f":"IF(E1313=\"plate waste\",IF(OR(C1313=\"patient\",C1313=\"patient beverages\"),IF('Customer Info'!$M$27=0,AY1313*'Customer Info'!$M$18,AY1313*'Customer Info'!$M$27),IF(C1313=\"cafeteria\",IF('Customer Info'!$M$28=0,AY1313*'Customer Info'!$M$18,AY1313*'Customer Info'!$M$28),IF(C1313=\"other1\",IF('Customer Info'!$M$29=0,AY1313*'Customer Info'!$M$18,AY1313*'Customer Info'!$M$29),))),)","v":0},0,null,null,null,null,null,null,null,null,null,null,null,null,null,null,null,null,null,null,null,null,null,null,null,null,null,null,null,null,null,null,null,null,null,null,null,null,null,null,null,null,null,null,null,null,null,null,null,null,null,null,null,0]
[0,0,0,0,0,0,0,0,0,null,{"$f":"0","v":0},0,null,null,null,null,null,null,null,null,null,null,null,null,null,null,null,null,null,null,null,null,null,null,null,null,null,null,null,null,null,null,null,null,null,null,null,null,null,null,0,0,{"$f":"IF(E1328=\"plate waste\",IF(OR(C1328=\"patient\",C1328=\"patient beverages\"),IF('Customer Info'!$M$27=0,AY1328*'Customer Info'!$M$18,AY1328*'Customer Info'!$M$27),IF(C1328=\"cafeteria\",IF('Customer Info'!$M$28=0,AY1328*'Customer Info'!$M$18,AY1328*'Customer Info'!$M$28),IF(C1328=\"other1\",IF('Customer Info'!$M$29=0,AY1328*'Customer Info'!$M$18,AY1328*'Customer Info'!$M$29),))),)","v":0},0,null,null,null,null,null,null,null,null,null,null,null,null,null,null,null,null,null,null,null,null,null,null,null,null,null,null,null,null,null,null,null,null,null,null,null,null,null,null,null,null,null,null,null,null,null,null,null,null,null,null,null,0]
[0,0,0,0,0,0,0,0,0,null,{"$f":"0","v":0},0,null,null,null,null,null,null,null,null,null,null,null,null,null,null,null,null,null,null,null,null,null,null,null,null,null,null,null,null,null,null,null,null,null,null,null,null,null,null,0,0,{"$f":"IF(E1346=\"plate waste\",IF(OR(C1346=\"patient\",C1346=\"patient beverages\"),IF('Customer Info'!$M$27=0,AY1346*'Customer Info'!$M$18,AY1346*'Customer Info'!$M$27),IF(C1346=\"cafeteria\",IF('Customer Info'!$M$28=0,AY1346*'Customer Info'!$M$18,AY1346*'Customer Info'!$M$28),IF(C1346=\"other1\",IF('Customer Info'!$M$29=0,AY1346*'Customer Info'!$M$18,AY1346*'Customer Info'!$M$29),))),)","v":0},0,null,null,null,null,null,null,null,null,null,null,null,null,null,null,null,null,null,null,null,null,null,null,null,null,null,null,null,null,null,null,null,null,null,null,null,null,null,null,null,null,null,null,null,null,null,null,null,null,null,null,null,0]
[0,0,0,0,0,0,0,0,0,null,{"$f":"0","v":0},0,null,null,null,null,null,null,null,null,null,null,null,null,null,null,null,null,null,null,null,null,null,null,null,null,null,null,null,null,null,null,null,null,null,null,null,null,null,null,0,0,{"$f":"IF(E1363=\"plate waste\",IF(OR(C1363=\"patient\",C1363=\"patient beverages\"),IF('Customer Info'!$M$27=0,AY1363*'Customer Info'!$M$18,AY1363*'Customer Info'!$M$27),IF(C1363=\"cafeteria\",IF('Customer Info'!$M$28=0,AY1363*'Customer Info'!$M$18,AY1363*'Customer Info'!$M$28),IF(C1363=\"other1\",IF('Customer Info'!$M$29=0,AY1363*'Customer Info'!$M$18,AY1363*'Customer Info'!$M$29),))),)","v":0},0,null,null,null,null,null,null,null,null,null,null,null,null,null,null,null,null,null,null,null,null,null,null,null,null,null,null,null,null,null,null,null,null,null,null,null,null,null,null,null,null,null,null,null,null,null,null,null,null,null,null,null,0]
[0,0,0,0,0,0,0,0,0,null,{"$f":"0","v":0},0,null,null,null,null,null,null,null,null,null,null,null,null,null,null,null,null,null,null,null,null,null,null,null,null,null,null,null,null,null,null,null,null,null,null,null,null,null,null,0,0,{"$f":"IF(E1377=\"plate waste\",IF(OR(C1377=\"patient\",C1377=\"patient beverages\"),IF('Customer Info'!$M$27=0,AY1377*'Customer Info'!$M$18,AY1377*'Customer Info'!$M$27),IF(C1377=\"cafeteria\",IF('Customer Info'!$M$28=0,AY1377*'Customer Info'!$M$18,AY1377*'Customer Info'!$M$28),IF(C1377=\"other1\",IF('Customer Info'!$M$29=0,AY1377*'Customer Info'!$M$18,AY1377*'Customer Info'!$M$29),))),)","v":0},0,null,null,null,null,null,null,null,null,null,null,null,null,null,null,null,null,null,null,null,null,null,null,null,null,null,null,null,null,null,null,null,null,null,null,null,null,null,null,null,null,null,null,null,null,null,null,null,null,null,null,null,0]
[0,0,0,0,0,0,0,0,0,null,{"$f":"0","v":0},0,null,null,null,null,null,null,null,null,null,null,null,null,null,null,null,null,null,null,null,null,null,null,null,null,null,null,null,null,null,null,null,null,null,null,null,null,null,null,0,0,{"$f":"IF(E1380=\"plate waste\",IF(OR(C1380=\"patient\",C1380=\"patient beverages\"),IF('Customer Info'!$M$27=0,AY1380*'Customer Info'!$M$18,AY1380*'Customer Info'!$M$27),IF(C1380=\"cafeteria\",IF('Customer Info'!$M$28=0,AY1380*'Customer Info'!$M$18,AY1380*'Customer Info'!$M$28),IF(C1380=\"other1\",IF('Customer Info'!$M$29=0,AY1380*'Customer Info'!$M$18,AY1380*'Customer Info'!$M$29),))),)","v":0},0,null,null,null,null,null,null,null,null,null,null,null,null,null,null,null,null,null,null,null,null,null,null,null,null,null,null,null,null,null,null,null,null,null,null,null,null,null,null,null,null,null,null,null,null,null,null,null,null,null,null,null,0]
[0,0,0,0,0,0,0,0,0,null,{"$f":"0","v":0},0,null,null,null,null,null,null,null,null,null,null,null,null,null,null,null,null,null,null,null,null,null,null,null,null,null,null,null,null,null,null,null,null,null,null,null,null,null,null,0,0,{"$f":"IF(E1397=\"plate waste\",IF(OR(C1397=\"patient\",C1397=\"patient beverages\"),IF('Customer Info'!$M$27=0,AY1397*'Customer Info'!$M$18,AY1397*'Customer Info'!$M$27),IF(C1397=\"cafeteria\",IF('Customer Info'!$M$28=0,AY1397*'Customer Info'!$M$18,AY1397*'Customer Info'!$M$28),IF(C1397=\"other1\",IF('Customer Info'!$M$29=0,AY1397*'Customer Info'!$M$18,AY1397*'Customer Info'!$M$29),))),)","v":0},0,null,null,null,null,null,null,null,null,null,null,null,null,null,null,null,null,null,null,null,null,null,null,null,null,null,null,null,null,null,null,null,null,null,null,null,null,null,null,null,null,null,null,null,null,null,null,null,null,null,null,null,0]
[0,0,0,0,0,0,0,0,0,null,{"$f":"0","v":0},0,null,null,null,null,null,null,null,null,null,null,null,null,null,null,null,null,null,null,null,null,null,null,null,null,null,null,null,null,null,null,null,null,null,null,null,null,null,null,0,0,{"$f":"IF(E1414=\"plate waste\",IF(OR(C1414=\"patient\",C1414=\"patient beverages\"),IF('Customer Info'!$M$27=0,AY1414*'Customer Info'!$M$18,AY1414*'Customer Info'!$M$27),IF(C1414=\"cafeteria\",IF('Customer Info'!$M$28=0,AY1414*'Customer Info'!$M$18,AY1414*'Customer Info'!$M$28),IF(C1414=\"other1\",IF('Customer Info'!$M$29=0,AY1414*'Customer Info'!$M$18,AY1414*'Customer Info'!$M$29),))),)","v":0},0,null,null,null,null,null,null,null,null,null,null,null,null,null,null,null,null,null,null,null,null,null,null,null,null,null,null,null,null,null,null,null,null,null,null,null,null,null,null,null,null,null,null,null,null,null,null,null,null,null,null,null,0]
[0,0,0,0,0,0,0,0,0,null,{"$f":"0","v":0},0,null,null,null,null,null,null,null,null,null,null,null,null,null,null,null,null,null,null,null,null,null,null,null,null,null,null,null,null,null,null,null,null,null,null,null,null,null,null,0,0,{"$f":"IF(E1441=\"plate waste\",IF(OR(C1441=\"patient\",C1441=\"patient beverages\"),IF('Customer Info'!$M$27=0,AY1441*'Customer Info'!$M$18,AY1441*'Customer Info'!$M$27),IF(C1441=\"cafeteria\",IF('Customer Info'!$M$28=0,AY1441*'Customer Info'!$M$18,AY1441*'Customer Info'!$M$28),IF(C1441=\"other1\",IF('Customer Info'!$M$29=0,AY1441*'Customer Info'!$M$18,AY1441*'Customer Info'!$M$29),))),)","v":0},0,null,null,null,null,null,null,null,null,null,null,null,null,null,null,null,null,null,null,null,null,null,null,null,null,null,null,null,null,null,null,null,null,null,null,null,null,null,null,null,null,null,null,null,null,null,null,null,null,null,null,null,0]
[0,0,0,0,0,0,0,0,0,null,{"$f":"0","v":0},0,null,null,null,null,null,null,null,null,null,null,null,null,null,null,null,null,null,null,null,null,null,null,null,null,null,null,null,null,null,null,null,null,null,null,null,null,null,null,0,0,{"$f":"IF(E1447=\"plate waste\",IF(OR(C1447=\"patient\",C1447=\"patient beverages\"),IF('Customer Info'!$M$27=0,AY1447*'Customer Info'!$M$18,AY1447*'Customer Info'!$M$27),IF(C1447=\"cafeteria\",IF('Customer Info'!$M$28=0,AY1447*'Customer Info'!$M$18,AY1447*'Customer Info'!$M$28),IF(C1447=\"other1\",IF('Customer Info'!$M$29=0,AY1447*'Customer Info'!$M$18,AY1447*'Customer Info'!$M$29),))),)","v":0},0,null,null,null,null,null,null,null,null,null,null,null,null,null,null,null,null,null,null,null,null,null,null,null,null,null,null,null,null,null,null,null,null,null,null,null,null,null,null,null,null,null,null,null,null,null,null,null,null,null,null,null,0]
[0,0,0,0,0,0,0,0,0,null,{"$f":"0","v":0},0,null,null,null,null,null,null,null,null,null,null,null,null,null,null,null,null,null,null,null,null,null,null,null,null,null,null,null,null,null,null,null,null,null,null,null,null,null,null,0,0,{"$f":"IF(E1464=\"plate waste\",IF(OR(C1464=\"patient\",C1464=\"patient beverages\"),IF('Customer Info'!$M$27=0,AY1464*'Customer Info'!$M$18,AY1464*'Customer Info'!$M$27),IF(C1464=\"cafeteria\",IF('Customer Info'!$M$28=0,AY1464*'Customer Info'!$M$18,AY1464*'Customer Info'!$M$28),IF(C1464=\"other1\",IF('Customer Info'!$M$29=0,AY1464*'Customer Info'!$M$18,AY1464*'Customer Info'!$M$29),))),)","v":0},0,null,null,null,null,null,null,null,null,null,null,null,null,null,null,null,null,null,null,null,null,null,null,null,null,null,null,null,null,null,null,null,null,null,null,null,null,null,null,null,null,null,null,null,null,null,null,null,null,null,null,null,0]
[0,0,0,0,0,0,0,0,0,null,{"$f":"0","v":0},0,null,null,null,null,null,null,null,null,null,null,null,null,null,null,null,null,null,null,null,null,null,null,null,null,null,null,null,null,null,null,null,null,null,null,null,null,null,null,0,0,{"$f":"IF(E1474=\"plate waste\",IF(OR(C1474=\"patient\",C1474=\"patient beverages\"),IF('Customer Info'!$M$27=0,AY1474*'Customer Info'!$M$18,AY1474*'Customer Info'!$M$27),IF(C1474=\"cafeteria\",IF('Customer Info'!$M$28=0,AY1474*'Customer Info'!$M$18,AY1474*'Customer Info'!$M$28),IF(C1474=\"other1\",IF('Customer Info'!$M$29=0,AY1474*'Customer Info'!$M$18,AY1474*'Customer Info'!$M$29),))),)","v":0},0,null,null,null,null,null,null,null,null,null,null,null,null,null,null,null,null,null,null,null,null,null,null,null,null,null,null,null,null,null,null,null,null,null,null,null,null,null,null,null,null,null,null,null,null,null,null,null,null,null,null,null,0]
[0,0,0,0,0,0,0,0,0,null,{"$f":"0","v":0},0,null,null,null,null,null,null,null,null,null,null,null,null,null,null,null,null,null,null,null,null,null,null,null,null,null,null,null,null,null,null,null,null,null,null,null,null,null,null,0,0,{"$f":"IF(E1497=\"plate waste\",IF(OR(C1497=\"patient\",C1497=\"patient beverages\"),IF('Customer Info'!$M$27=0,AY1497*'Customer Info'!$M$18,AY1497*'Customer Info'!$M$27),IF(C1497=\"cafeteria\",IF('Customer Info'!$M$28=0,AY1497*'Customer Info'!$M$18,AY1497*'Customer Info'!$M$28),IF(C1497=\"other1\",IF('Customer Info'!$M$29=0,AY1497*'Customer Info'!$M$18,AY1497*'Customer Info'!$M$29),))),)","v":0},0,null,null,null,null,null,null,null,null,null,null,null,null,null,null,null,null,null,null,null,null,null,null,null,null,null,null,null,null,null,null,null,null,null,null,null,null,null,null,null,null,null,null,null,null,null,null,null,null,null,null,null,0]
[0,0,0,0,0,0,0,0,0,null,{"$f":"0","v":0},0,null,null,null,null,null,null,null,null,null,null,null,null,null,null,null,null,null,null,null,null,null,null,null,null,null,null,null,null,null,null,null,null,null,null,null,null,null,null,0,0,{"$f":"IF(E1514=\"plate waste\",IF(OR(C1514=\"patient\",C1514=\"patient beverages\"),IF('Customer Info'!$M$27=0,AY1514*'Customer Info'!$M$18,AY1514*'Customer Info'!$M$27),IF(C1514=\"cafeteria\",IF('Customer Info'!$M$28=0,AY1514*'Customer Info'!$M$18,AY1514*'Customer Info'!$M$28),IF(C1514=\"other1\",IF('Customer Info'!$M$29=0,AY1514*'Customer Info'!$M$18,AY1514*'Customer Info'!$M$29),))),)","v":0},0,null,null,null,null,null,null,null,null,null,null,null,null,null,null,null,null,null,null,null,null,null,null,null,null,null,null,null,null,null,null,null,null,null,null,null,null,null,null,null,null,null,null,null,null,null,null,null,null,null,null,null,0]
[0,0,0,0,0,0,0,0,0,null,{"$f":"0","v":0},0,null,null,null,null,null,null,null,null,null,null,null,null,null,null,null,null,null,null,null,null,null,null,null,null,null,null,null,null,null,null,null,null,null,null,null,null,null,null,0,0,{"$f":"IF(E1522=\"plate waste\",IF(OR(C1522=\"patient\",C1522=\"patient beverages\"),IF('Customer Info'!$M$27=0,AY1522*'Customer Info'!$M$18,AY1522*'Customer Info'!$M$27),IF(C1522=\"cafeteria\",IF('Customer Info'!$M$28=0,AY1522*'Customer Info'!$M$18,AY1522*'Customer Info'!$M$28),IF(C1522=\"other1\",IF('Customer Info'!$M$29=0,AY1522*'Customer Info'!$M$18,AY1522*'Customer Info'!$M$29),))),)","v":0},0,null,null,null,null,null,null,null,null,null,null,null,null,null,null,null,null,null,null,null,null,null,null,null,null,null,null,null,null,null,null,null,null,null,null,null,null,null,null,null,null,null,null,null,null,null,null,null,null,null,null,null,0]
[0,0,0,0,0,0,0,0,0,null,{"$f":"0","v":0},0,null,null,null,null,null,null,null,null,null,null,null,null,null,null,null,null,null,null,null,null,null,null,null,null,null,null,null,null,null,null,null,null,null,null,null,null,null,null,0,0,{"$f":"IF(E1547=\"plate waste\",IF(OR(C1547=\"patient\",C1547=\"patient beverages\"),IF('Customer Info'!$M$27=0,AY1547*'Customer Info'!$M$18,AY1547*'Customer Info'!$M$27),IF(C1547=\"cafeteria\",IF('Customer Info'!$M$28=0,AY1547*'Customer Info'!$M$18,AY1547*'Customer Info'!$M$28),IF(C1547=\"other1\",IF('Customer Info'!$M$29=0,AY1547*'Customer Info'!$M$18,AY1547*'Customer Info'!$M$29),))),)","v":0},0,null,null,null,null,null,null,null,null,null,null,null,null,null,null,null,null,null,null,null,null,null,null,null,null,null,null,null,null,null,null,null,null,null,null,null,null,null,null,null,null,null,null,null,null,null,null,null,null,null,null,null,0]
[0,0,0,0,0,0,0,0,0,null,{"$f":"0","v":0},0,null,null,null,null,null,null,null,null,null,null,null,null,null,null,null,null,null,null,null,null,null,null,null,null,null,null,null,null,null,null,null,null,null,null,null,null,null,null,0,0,{"$f":"IF(E1564=\"plate waste\",IF(OR(C1564=\"patient\",C1564=\"patient beverages\"),IF('Customer Info'!$M$27=0,AY1564*'Customer Info'!$M$18,AY1564*'Customer Info'!$M$27),IF(C1564=\"cafeteria\",IF('Customer Info'!$M$28=0,AY1564*'Customer Info'!$M$18,AY1564*'Customer Info'!$M$28),IF(C1564=\"other1\",IF('Customer Info'!$M$29=0,AY1564*'Customer Info'!$M$18,AY1564*'Customer Info'!$M$29),))),)","v":0},0,null,null,null,null,null,null,null,null,null,null,null,null,null,null,null,null,null,null,null,null,null,null,null,null,null,null,null,null,null,null,null,null,null,null,null,null,null,null,null,null,null,null,null,null,null,null,null,null,null,null,null,0]
[0,0,0,0,0,0,0,0,0,null,{"$f":"0","v":0},0,null,null,null,null,null,null,null,null,null,null,null,null,null,null,null,null,null,null,null,null,null,null,null,null,null,null,null,null,null,null,null,null,null,null,null,null,null,null,0,0,{"$f":"IF(E1571=\"plate waste\",IF(OR(C1571=\"patient\",C1571=\"patient beverages\"),IF('Customer Info'!$M$27=0,AY1571*'Customer Info'!$M$18,AY1571*'Customer Info'!$M$27),IF(C1571=\"cafeteria\",IF('Customer Info'!$M$28=0,AY1571*'Customer Info'!$M$18,AY1571*'Customer Info'!$M$28),IF(C1571=\"other1\",IF('Customer Info'!$M$29=0,AY1571*'Customer Info'!$M$18,AY1571*'Customer Info'!$M$29),))),)","v":0},0,null,null,null,null,null,null,null,null,null,null,null,null,null,null,null,null,null,null,null,null,null,null,null,null,null,null,null,null,null,null,null,null,null,null,null,null,null,null,null,null,null,null,null,null,null,null,null,null,null,null,null,0]
[0,0,0,0,0,0,0,0,0,null,{"$f":"0","v":0},0,null,null,null,null,null,null,null,null,null,null,null,null,null,null,null,null,null,null,null,null,null,null,null,null,null,null,null,null,null,null,null,null,null,null,null,null,null,null,0,0,{"$f":"IF(E1597=\"plate waste\",IF(OR(C1597=\"patient\",C1597=\"patient beverages\"),IF('Customer Info'!$M$27=0,AY1597*'Customer Info'!$M$18,AY1597*'Customer Info'!$M$27),IF(C1597=\"cafeteria\",IF('Customer Info'!$M$28=0,AY1597*'Customer Info'!$M$18,AY1597*'Customer Info'!$M$28),IF(C1597=\"other1\",IF('Customer Info'!$M$29=0,AY1597*'Customer Info'!$M$18,AY1597*'Customer Info'!$M$29),))),)","v":0},0,null,null,null,null,null,null,null,null,null,null,null,null,null,null,null,null,null,null,null,null,null,null,null,null,null,null,null,null,null,null,null,null,null,null,null,null,null,null,null,null,null,null,null,null,null,null,null,null,null,null,null,0]
[0,0,0,0,0,0,0,0,0,null,{"$f":"0","v":0},0,null,null,null,null,null,null,null,null,null,null,null,null,null,null,null,null,null,null,null,null,null,null,null,null,null,null,null,null,null,null,null,null,null,null,null,null,null,null,0,0,{"$f":"IF(E1614=\"plate waste\",IF(OR(C1614=\"patient\",C1614=\"patient beverages\"),IF('Customer Info'!$M$27=0,AY1614*'Customer Info'!$M$18,AY1614*'Customer Info'!$M$27),IF(C1614=\"cafeteria\",IF('Customer Info'!$M$28=0,AY1614*'Customer Info'!$M$18,AY1614*'Customer Info'!$M$28),IF(C1614=\"other1\",IF('Customer Info'!$M$29=0,AY1614*'Customer Info'!$M$18,AY1614*'Customer Info'!$M$29),))),)","v":0},0,null,null,null,null,null,null,null,null,null,null,null,null,null,null,null,null,null,null,null,null,null,null,null,null,null,null,null,null,null,null,null,null,null,null,null,null,null,null,null,null,null,null,null,null,null,null,null,null,null,null,null,0]
[0,0,0,0,0,0,0,0,0,null,{"$f":"0","v":0},0,null,null,null,null,null,null,null,null,null,null,null,null,null,null,null,null,null,null,null,null,null,null,null,null,null,null,null,null,null,null,null,null,null,null,null,null,null,null,0,0,{"$f":"IF(E1619=\"plate waste\",IF(OR(C1619=\"patient\",C1619=\"patient beverages\"),IF('Customer Info'!$M$27=0,AY1619*'Customer Info'!$M$18,AY1619*'Customer Info'!$M$27),IF(C1619=\"cafeteria\",IF('Customer Info'!$M$28=0,AY1619*'Customer Info'!$M$18,AY1619*'Customer Info'!$M$28),IF(C1619=\"other1\",IF('Customer Info'!$M$29=0,AY1619*'Customer Info'!$M$18,AY1619*'Customer Info'!$M$29),))),)","v":0},0,null,null,null,null,null,null,null,null,null,null,null,null,null,null,null,null,null,null,null,null,null,null,null,null,null,null,null,null,null,null,null,null,null,null,null,null,null,null,null,null,null,null,null,null,null,null,null,null,null,null,null,0]
[0,0,0,0,0,0,0,0,0,null,{"$f":"0","v":0},0,null,null,null,null,null,null,null,null,null,null,null,null,null,null,null,null,null,null,null,null,null,null,null,null,null,null,null,null,null,null,null,null,null,null,null,null,null,null,0,0,{"$f":"IF(E1631=\"plate waste\",IF(OR(C1631=\"patient\",C1631=\"patient beverages\"),IF('Customer Info'!$M$27=0,AY1631*'Customer Info'!$M$18,AY1631*'Customer Info'!$M$27),IF(C1631=\"cafeteria\",IF('Customer Info'!$M$28=0,AY1631*'Customer Info'!$M$18,AY1631*'Customer Info'!$M$28),IF(C1631=\"other1\",IF('Customer Info'!$M$29=0,AY1631*'Customer Info'!$M$18,AY1631*'Customer Info'!$M$29),))),)","v":0},0,null,null,null,null,null,null,null,null,null,null,null,null,null,null,null,null,null,null,null,null,null,null,null,null,null,null,null,null,null,null,null,null,null,null,null,null,null,null,null,null,null,null,null,null,null,null,null,null,null,null,null,0]
[0,0,0,0,0,0,0,0,0,null,{"$f":"0","v":0},0,null,null,null,null,null,null,null,null,null,null,null,null,null,null,null,null,null,null,null,null,null,null,null,null,null,null,null,null,null,null,null,null,null,null,null,null,null,null,0,0,{"$f":"IF(E1648=\"plate waste\",IF(OR(C1648=\"patient\",C1648=\"patient beverages\"),IF('Customer Info'!$M$27=0,AY1648*'Customer Info'!$M$18,AY1648*'Customer Info'!$M$27),IF(C1648=\"cafeteria\",IF('Customer Info'!$M$28=0,AY1648*'Customer Info'!$M$18,AY1648*'Customer Info'!$M$28),IF(C1648=\"other1\",IF('Customer Info'!$M$29=0,AY1648*'Customer Info'!$M$18,AY1648*'Customer Info'!$M$29),))),)","v":0},0,null,null,null,null,null,null,null,null,null,null,null,null,null,null,null,null,null,null,null,null,null,null,null,null,null,null,null,null,null,null,null,null,null,null,null,null,null,null,null,null,null,null,null,null,null,null,null,null,null,null,null,0]
[0,0,0,0,0,0,0,0,0,null,{"$f":"0","v":0},0,null,null,null,null,null,null,null,null,null,null,null,null,null,null,null,null,null,null,null,null,null,null,null,null,null,null,null,null,null,null,null,null,null,null,null,null,null,null,0,0,{"$f":"IF(E1667=\"plate waste\",IF(OR(C1667=\"patient\",C1667=\"patient beverages\"),IF('Customer Info'!$M$27=0,AY1667*'Customer Info'!$M$18,AY1667*'Customer Info'!$M$27),IF(C1667=\"cafeteria\",IF('Customer Info'!$M$28=0,AY1667*'Customer Info'!$M$18,AY1667*'Customer Info'!$M$28),IF(C1667=\"other1\",IF('Customer Info'!$M$29=0,AY1667*'Customer Info'!$M$18,AY1667*'Customer Info'!$M$29),))),)","v":0},0,null,null,null,null,null,null,null,null,null,null,null,null,null,null,null,null,null,null,null,null,null,null,null,null,null,null,null,null,null,null,null,null,null,null,null,null,null,null,null,null,null,null,null,null,null,null,null,null,null,null,null,0]
[0,0,0,0,0,0,0,0,0,null,{"$f":"0","v":0},0,null,null,null,null,null,null,null,null,null,null,null,null,null,null,null,null,null,null,null,null,null,null,null,null,null,null,null,null,null,null,null,null,null,null,null,null,null,null,0,0,{"$f":"IF(E1681=\"plate waste\",IF(OR(C1681=\"patient\",C1681=\"patient beverages\"),IF('Customer Info'!$M$27=0,AY1681*'Customer Info'!$M$18,AY1681*'Customer Info'!$M$27),IF(C1681=\"cafeteria\",IF('Customer Info'!$M$28=0,AY1681*'Customer Info'!$M$18,AY1681*'Customer Info'!$M$28),IF(C1681=\"other1\",IF('Customer Info'!$M$29=0,AY1681*'Customer Info'!$M$18,AY1681*'Customer Info'!$M$29),))),)","v":0},0,null,null,null,null,null,null,null,null,null,null,null,null,null,null,null,null,null,null,null,null,null,null,null,null,null,null,null,null,null,null,null,null,null,null,null,null,null,null,null,null,null,null,null,null,null,null,null,null,null,null,null,0]
[0,0,0,0,0,0,0,0,0,null,{"$f":"0","v":0},0,null,null,null,null,null,null,null,null,null,null,null,null,null,null,null,null,null,null,null,null,null,null,null,null,null,null,null,null,null,null,null,null,null,null,null,null,null,null,0,0,{"$f":"IF(E1698=\"plate waste\",IF(OR(C1698=\"patient\",C1698=\"patient beverages\"),IF('Customer Info'!$M$27=0,AY1698*'Customer Info'!$M$18,AY1698*'Customer Info'!$M$27),IF(C1698=\"cafeteria\",IF('Customer Info'!$M$28=0,AY1698*'Customer Info'!$M$18,AY1698*'Customer Info'!$M$28),IF(C1698=\"other1\",IF('Customer Info'!$M$29=0,AY1698*'Customer Info'!$M$18,AY1698*'Customer Info'!$M$29),))),)","v":0},0,null,null,null,null,null,null,null,null,null,null,null,null,null,null,null,null,null,null,null,null,null,null,null,null,null,null,null,null,null,null,null,null,null,null,null,null,null,null,null,null,null,null,null,null,null,null,null,null,null,null,null,0]
[0,0,0,0,0,0,0,0,0,null,{"$f":"0","v":0},0,null,null,null,null,null,null,null,null,null,null,null,null,null,null,null,null,null,null,null,null,null,null,null,null,null,null,null,null,null,null,null,null,null,null,null,null,null,null,0,0,{"$f":"IF(E1715=\"plate waste\",IF(OR(C1715=\"patient\",C1715=\"patient beverages\"),IF('Customer Info'!$M$27=0,AY1715*'Customer Info'!$M$18,AY1715*'Customer Info'!$M$27),IF(C1715=\"cafeteria\",IF('Customer Info'!$M$28=0,AY1715*'Customer Info'!$M$18,AY1715*'Customer Info'!$M$28),IF(C1715=\"other1\",IF('Customer Info'!$M$29=0,AY1715*'Customer Info'!$M$18,AY1715*'Customer Info'!$M$29),))),)","v":0},0,null,null,null,null,null,null,null,null,null,null,null,null,null,null,null,null,null,null,null,null,null,null,null,null,null,null,null,null,null,null,null,null,null,null,null,null,null,null,null,null,null,null,null,null,null,null,null,null,null,null,null,0]
[0,0,0,0,0,0,0,0,0,null,{"$f":"0","v":0},0,null,null,null,null,null,null,null,null,null,null,null,null,null,null,null,null,null,null,null,null,null,null,null,null,null,null,null,null,null,null,null,null,null,null,null,null,null,null,0,0,{"$f":"IF(E1731=\"plate waste\",IF(OR(C1731=\"patient\",C1731=\"patient beverages\"),IF('Customer Info'!$M$27=0,AY1731*'Customer Info'!$M$18,AY1731*'Customer Info'!$M$27),IF(C1731=\"cafeteria\",IF('Customer Info'!$M$28=0,AY1731*'Customer Info'!$M$18,AY1731*'Customer Info'!$M$28),IF(C1731=\"other1\",IF('Customer Info'!$M$29=0,AY1731*'Customer Info'!$M$18,AY1731*'Customer Info'!$M$29),))),)","v":0},0,null,null,null,null,null,null,null,null,null,null,null,null,null,null,null,null,null,null,null,null,null,null,null,null,null,null,null,null,null,null,null,null,null,null,null,null,null,null,null,null,null,null,null,null,null,null,null,null,null,null,null,0]
[0,0,0,0,0,0,0,0,0,null,{"$f":"0","v":0},0,null,null,null,null,null,null,null,null,null,null,null,null,null,null,null,null,null,null,null,null,null,null,null,null,null,null,null,null,null,null,null,null,null,null,null,null,null,null,0,0,{"$f":"IF(E1748=\"plate waste\",IF(OR(C1748=\"patient\",C1748=\"patient beverages\"),IF('Customer Info'!$M$27=0,AY1748*'Customer Info'!$M$18,AY1748*'Customer Info'!$M$27),IF(C1748=\"cafeteria\",IF('Customer Info'!$M$28=0,AY1748*'Customer Info'!$M$18,AY1748*'Customer Info'!$M$28),IF(C1748=\"other1\",IF('Customer Info'!$M$29=0,AY1748*'Customer Info'!$M$18,AY1748*'Customer Info'!$M$29),))),)","v":0},0,null,null,null,null,null,null,null,null,null,null,null,null,null,null,null,null,null,null,null,null,null,null,null,null,null,null,null,null,null,null,null,null,null,null,null,null,null,null,null,null,null,null,null,null,null,null,null,null,null,null,null,0]
[0,0,0,0,0,0,0,0,0,null,{"$f":"0","v":0},0,null,null,null,null,null,null,null,null,null,null,null,null,null,null,null,null,null,null,null,null,null,null,null,null,null,null,null,null,null,null,null,null,null,null,null,null,null,null,0,0,{"$f":"IF(E1763=\"plate waste\",IF(OR(C1763=\"patient\",C1763=\"patient beverages\"),IF('Customer Info'!$M$27=0,AY1763*'Customer Info'!$M$18,AY1763*'Customer Info'!$M$27),IF(C1763=\"cafeteria\",IF('Customer Info'!$M$28=0,AY1763*'Customer Info'!$M$18,AY1763*'Customer Info'!$M$28),IF(C1763=\"other1\",IF('Customer Info'!$M$29=0,AY1763*'Customer Info'!$M$18,AY1763*'Customer Info'!$M$29),))),)","v":0},0,null,null,null,null,null,null,null,null,null,null,null,null,null,null,null,null,null,null,null,null,null,null,null,null,null,null,null,null,null,null,null,null,null,null,null,null,null,null,null,null,null,null,null,null,null,null,null,null,null,null,null,0]
[{"$f":"IF(AY1781=0,,\"other\")","v":0},{"$f":"IF(AY1781=0,,B279)","v":0},{"$f":"IF(AY1781=0,,C279)","v":0},{"$f":"IF(AY1781=0,,D279)","v":0},{"$f":"IF(AY1781=0,,E279)","v":0},{"$f":"IF(AY1781=0,,\"assumed plate waste-other meal\")","v":0},{"$f":"IF(AY1781=0,,G279)","v":0},{"$f":"IF(AY1781=0,,H279)","v":0},{"$f":"IF(AY1781=0,,I279*(BB1781/K279))","v":0},null,{"$f":"0","v":0},0,null,null,null,null,null,null,null,null,null,null,null,null,null,null,null,null,null,null,null,null,null,null,null,null,null,null,null,null,null,null,null,null,null,null,null,null,null,null,{"$f":"BR279","v":0},{"$f":"IF(B1781=0,AY1781,AY1781*24/B1781)","v":0},{"$f":"IF(E1781=\"plate waste\",IF(OR(C1781=\"patient\",C1781=\"patient beverages\"),IF('Customer Info'!$M$27=0,AY1781*'Customer Info'!$M$18,AY1781*'Customer Info'!$M$27),IF(C1781=\"cafeteria\",IF('Customer Info'!$M$28=0,AY1781*'Customer Info'!$M$18,AY1781*'Customer Info'!$M$28),IF(C1781=\"other1\",IF('Customer Info'!$M$29=0,AY1781*'Customer Info'!$M$18,AY1781*'Customer Info'!$M$29),))),)","v":0},0,null,null,null,null,null,null,null,null,null,null,null,null,null,null,null,null,null,null,null,null,null,null,null,null,null,null,null,null,null,null,null,null,null,null,null,null,null,null,null,null,null,null,null,null,null,null,null,null,null,null,null,0]
[0,0,0,0,0,0,0,0,0,null,{"$f":"0","v":0},0,null,null,null,null,null,null,null,null,null,null,null,null,null,null,null,null,null,null,null,null,null,null,null,null,null,null,null,null,null,null,null,null,null,null,null,null,null,null,0,0,{"$f":"IF(E1798=\"plate waste\",IF(OR(C1798=\"patient\",C1798=\"patient beverages\"),IF('Customer Info'!$M$27=0,AY1798*'Customer Info'!$M$18,AY1798*'Customer Info'!$M$27),IF(C1798=\"cafeteria\",IF('Customer Info'!$M$28=0,AY1798*'Customer Info'!$M$18,AY1798*'Customer Info'!$M$28),IF(C1798=\"other1\",IF('Customer Info'!$M$29=0,AY1798*'Customer Info'!$M$18,AY1798*'Customer Info'!$M$29),))),)","v":0},0,null,null,null,null,null,null,null,null,null,null,null,null,null,null,null,null,null,null,null,null,null,null,null,null,null,null,null,null,null,null,null,null,null,null,null,null,null,null,null,null,null,null,null,null,null,null,null,null,null,null,null,0]
[0,0,0,0,0,0,0,0,0,null,{"$f":"0","v":0},0,null,null,null,null,null,null,null,null,null,null,null,null,null,null,null,null,null,null,null,null,null,null,null,null,null,null,null,null,null,null,null,null,null,null,null,null,null,null,0,0,{"$f":"IF(E1815=\"plate waste\",IF(OR(C1815=\"patient\",C1815=\"patient beverages\"),IF('Customer Info'!$M$27=0,AY1815*'Customer Info'!$M$18,AY1815*'Customer Info'!$M$27),IF(C1815=\"cafeteria\",IF('Customer Info'!$M$28=0,AY1815*'Customer Info'!$M$18,AY1815*'Customer Info'!$M$28),IF(C1815=\"other1\",IF('Customer Info'!$M$29=0,AY1815*'Customer Info'!$M$18,AY1815*'Customer Info'!$M$29),))),)","v":0},0,null,null,null,null,null,null,null,null,null,null,null,null,null,null,null,null,null,null,null,null,null,null,null,null,null,null,null,null,null,null,null,null,null,null,null,null,null,null,null,null,null,null,null,null,null,null,null,null,null,null,null,0]
[0,0,0,0,0,0,0,0,0,null,{"$f":"0","v":0},0,null,null,null,null,null,null,null,null,null,null,null,null,null,null,null,null,null,null,null,null,null,null,null,null,null,null,null,null,null,null,null,null,null,null,null,null,null,null,0,0,{"$f":"IF(E1828=\"plate waste\",IF(OR(C1828=\"patient\",C1828=\"patient beverages\"),IF('Customer Info'!$M$27=0,AY1828*'Customer Info'!$M$18,AY1828*'Customer Info'!$M$27),IF(C1828=\"cafeteria\",IF('Customer Info'!$M$28=0,AY1828*'Customer Info'!$M$18,AY1828*'Customer Info'!$M$28),IF(C1828=\"other1\",IF('Customer Info'!$M$29=0,AY1828*'Customer Info'!$M$18,AY1828*'Customer Info'!$M$29),))),)","v":0},0,null,null,null,null,null,null,null,null,null,null,null,null,null,null,null,null,null,null,null,null,null,null,null,null,null,null,null,null,null,null,null,null,null,null,null,null,null,null,null,null,null,null,null,null,null,null,null,null,null,null,null,0]
[0,0,0,0,0,0,0,0,0,null,{"$f":"0","v":0},0,null,null,null,null,null,null,null,null,null,null,null,null,null,null,null,null,null,null,null,null,null,null,null,null,null,null,null,null,null,null,null,null,null,null,null,null,null,null,0,0,{"$f":"IF(E1848=\"plate waste\",IF(OR(C1848=\"patient\",C1848=\"patient beverages\"),IF('Customer Info'!$M$27=0,AY1848*'Customer Info'!$M$18,AY1848*'Customer Info'!$M$27),IF(C1848=\"cafeteria\",IF('Customer Info'!$M$28=0,AY1848*'Customer Info'!$M$18,AY1848*'Customer Info'!$M$28),IF(C1848=\"other1\",IF('Customer Info'!$M$29=0,AY1848*'Customer Info'!$M$18,AY1848*'Customer Info'!$M$29),))),)","v":0},0,null,null,null,null,null,null,null,null,null,null,null,null,null,null,null,null,null,null,null,null,null,null,null,null,null,null,null,null,null,null,null,null,null,null,null,null,null,null,null,null,null,null,null,null,null,null,null,null,null,null,null,0]
[0,0,0,0,0,0,0,0,0,null,{"$f":"0","v":0},0,null,null,null,null,null,null,null,null,null,null,null,null,null,null,null,null,null,null,null,null,null,null,null,null,null,null,null,null,null,null,null,null,null,null,null,null,null,null,0,0,{"$f":"IF(E1865=\"plate waste\",IF(OR(C1865=\"patient\",C1865=\"patient beverages\"),IF('Customer Info'!$M$27=0,AY1865*'Customer Info'!$M$18,AY1865*'Customer Info'!$M$27),IF(C1865=\"cafeteria\",IF('Customer Info'!$M$28=0,AY1865*'Customer Info'!$M$18,AY1865*'Customer Info'!$M$28),IF(C1865=\"other1\",IF('Customer Info'!$M$29=0,AY1865*'Customer Info'!$M$18,AY1865*'Customer Info'!$M$29),))),)","v":0},0,null,null,null,null,null,null,null,null,null,null,null,null,null,null,null,null,null,null,null,null,null,null,null,null,null,null,null,null,null,null,null,null,null,null,null,null,null,null,null,null,null,null,null,null,null,null,null,null,null,null,null,0]
[0,0,0,0,0,0,0,0,0,null,{"$f":"0","v":0},0,null,null,null,null,null,null,null,null,null,null,null,null,null,null,null,null,null,null,null,null,null,null,null,null,null,null,null,null,null,null,null,null,null,null,null,null,null,null,0,0,{"$f":"IF(E1876=\"plate waste\",IF(OR(C1876=\"patient\",C1876=\"patient beverages\"),IF('Customer Info'!$M$27=0,AY1876*'Customer Info'!$M$18,AY1876*'Customer Info'!$M$27),IF(C1876=\"cafeteria\",IF('Customer Info'!$M$28=0,AY1876*'Customer Info'!$M$18,AY1876*'Customer Info'!$M$28),IF(C1876=\"other1\",IF('Customer Info'!$M$29=0,AY1876*'Customer Info'!$M$18,AY1876*'Customer Info'!$M$29),))),)","v":0},0,null,null,null,null,null,null,null,null,null,null,null,null,null,null,null,null,null,null,null,null,null,null,null,null,null,null,null,null,null,null,null,null,null,null,null,null,null,null,null,null,null,null,null,null,null,null,null,null,null,null,null,0]
[0,0,0,0,0,0,0,0,0,null,{"$f":"0","v":0},0,null,null,null,null,null,null,null,null,null,null,null,null,null,null,null,null,null,null,null,null,null,null,null,null,null,null,null,null,null,null,null,null,null,null,null,null,null,null,0,0,{"$f":"IF(E1882=\"plate waste\",IF(OR(C1882=\"patient\",C1882=\"patient beverages\"),IF('Customer Info'!$M$27=0,AY1882*'Customer Info'!$M$18,AY1882*'Customer Info'!$M$27),IF(C1882=\"cafeteria\",IF('Customer Info'!$M$28=0,AY1882*'Customer Info'!$M$18,AY1882*'Customer Info'!$M$28),IF(C1882=\"other1\",IF('Customer Info'!$M$29=0,AY1882*'Customer Info'!$M$18,AY1882*'Customer Info'!$M$29),))),)","v":0},0,null,null,null,null,null,null,null,null,null,null,null,null,null,null,null,null,null,null,null,null,null,null,null,null,null,null,null,null,null,null,null,null,null,null,null,null,null,null,null,null,null,null,null,null,null,null,null,null,null,null,null,0]
[0,0,0,0,0,0,0,0,0,null,{"$f":"0","v":0},0,null,null,null,null,null,null,null,null,null,null,null,null,null,null,null,null,null,null,null,null,null,null,null,null,null,null,null,null,null,null,null,null,null,null,null,null,null,null,0,0,{"$f":"IF(E1899=\"plate waste\",IF(OR(C1899=\"patient\",C1899=\"patient beverages\"),IF('Customer Info'!$M$27=0,AY1899*'Customer Info'!$M$18,AY1899*'Customer Info'!$M$27),IF(C1899=\"cafeteria\",IF('Customer Info'!$M$28=0,AY1899*'Customer Info'!$M$18,AY1899*'Customer Info'!$M$28),IF(C1899=\"other1\",IF('Customer Info'!$M$29=0,AY1899*'Customer Info'!$M$18,AY1899*'Customer Info'!$M$29),))),)","v":0},0,null,null,null,null,null,null,null,null,null,null,null,null,null,null,null,null,null,null,null,null,null,null,null,null,null,null,null,null,null,null,null,null,null,null,null,null,null,null,null,null,null,null,null,null,null,null,null,null,null,null,null,0]
[0,0,0,0,0,0,0,0,0,null,{"$f":"0","v":0},0,null,null,null,null,null,null,null,null,null,null,null,null,null,null,null,null,null,null,null,null,null,null,null,null,null,null,null,null,null,null,null,null,null,null,null,null,null,null,0,0,{"$f":"IF(E1924=\"plate waste\",IF(OR(C1924=\"patient\",C1924=\"patient beverages\"),IF('Customer Info'!$M$27=0,AY1924*'Customer Info'!$M$18,AY1924*'Customer Info'!$M$27),IF(C1924=\"cafeteria\",IF('Customer Info'!$M$28=0,AY1924*'Customer Info'!$M$18,AY1924*'Customer Info'!$M$28),IF(C1924=\"other1\",IF('Customer Info'!$M$29=0,AY1924*'Customer Info'!$M$18,AY1924*'Customer Info'!$M$29),))),)","v":0},0,null,null,null,null,null,null,null,null,null,null,null,null,null,null,null,null,null,null,null,null,null,null,null,null,null,null,null,null,null,null,null,null,null,null,null,null,null,null,null,null,null,null,null,null,null,null,null,null,null,null,null,0]
[0,0,0,0,0,0,0,0,0,null,{"$f":"0","v":0},0,null,null,null,null,null,null,null,null,null,null,null,null,null,null,null,null,null,null,null,null,null,null,null,null,null,null,null,null,null,null,null,null,null,null,null,null,null,null,0,0,{"$f":"IF(E1932=\"plate waste\",IF(OR(C1932=\"patient\",C1932=\"patient beverages\"),IF('Customer Info'!$M$27=0,AY1932*'Customer Info'!$M$18,AY1932*'Customer Info'!$M$27),IF(C1932=\"cafeteria\",IF('Customer Info'!$M$28=0,AY1932*'Customer Info'!$M$18,AY1932*'Customer Info'!$M$28),IF(C1932=\"other1\",IF('Customer Info'!$M$29=0,AY1932*'Customer Info'!$M$18,AY1932*'Customer Info'!$M$29),))),)","v":0},0,null,null,null,null,null,null,null,null,null,null,null,null,null,null,null,null,null,null,null,null,null,null,null,null,null,null,null,null,null,null,null,null,null,null,null,null,null,null,null,null,null,null,null,null,null,null,null,null,null,null,null,0]
[0,0,0,0,0,0,0,0,0,null,{"$f":"0","v":0},0,null,null,null,null,null,null,null,null,null,null,null,null,null,null,null,null,null,null,null,null,null,null,null,null,null,null,null,null,null,null,null,null,null,null,null,null,null,null,0,0,{"$f":"IF(E1949=\"plate waste\",IF(OR(C1949=\"patient\",C1949=\"patient beverages\"),IF('Customer Info'!$M$27=0,AY1949*'Customer Info'!$M$18,AY1949*'Customer Info'!$M$27),IF(C1949=\"cafeteria\",IF('Customer Info'!$M$28=0,AY1949*'Customer Info'!$M$18,AY1949*'Customer Info'!$M$28),IF(C1949=\"other1\",IF('Customer Info'!$M$29=0,AY1949*'Customer Info'!$M$18,AY1949*'Customer Info'!$M$29),))),)","v":0},0,null,null,null,null,null,null,null,null,null,null,null,null,null,null,null,null,null,null,null,null,null,null,null,null,null,null,null,null,null,null,null,null,null,null,null,null,null,null,null,null,null,null,null,null,null,null,null,null,null,null,null,0]
[0,0,0,0,0,0,0,0,0,null,{"$f":"0","v":0},0,null,null,null,null,null,null,null,null,null,null,null,null,null,null,null,null,null,null,null,null,null,null,null,null,null,null,null,null,null,null,null,null,null,null,null,null,null,null,0,0,{"$f":"IF(E1972=\"plate waste\",IF(OR(C1972=\"patient\",C1972=\"patient beverages\"),IF('Customer Info'!$M$27=0,AY1972*'Customer Info'!$M$18,AY1972*'Customer Info'!$M$27),IF(C1972=\"cafeteria\",IF('Customer Info'!$M$28=0,AY1972*'Customer Info'!$M$18,AY1972*'Customer Info'!$M$28),IF(C1972=\"other1\",IF('Customer Info'!$M$29=0,AY1972*'Customer Info'!$M$18,AY1972*'Customer Info'!$M$29),))),)","v":0},0,null,null,null,null,null,null,null,null,null,null,null,null,null,null,null,null,null,null,null,null,null,null,null,null,null,null,null,null,null,null,null,null,null,null,null,null,null,null,null,null,null,null,null,null,null,null,null,null,null,null,null,0]
[0,0,0,0,0,0,0,0,0,null,{"$f":"0","v":0},0,null,null,null,null,null,null,null,null,null,null,null,null,null,null,null,null,null,null,null,null,null,null,null,null,null,null,null,null,null,null,null,null,null,null,null,null,null,null,0,0,{"$f":"IF(E1982=\"plate waste\",IF(OR(C1982=\"patient\",C1982=\"patient beverages\"),IF('Customer Info'!$M$27=0,AY1982*'Customer Info'!$M$18,AY1982*'Customer Info'!$M$27),IF(C1982=\"cafeteria\",IF('Customer Info'!$M$28=0,AY1982*'Customer Info'!$M$18,AY1982*'Customer Info'!$M$28),IF(C1982=\"other1\",IF('Customer Info'!$M$29=0,AY1982*'Customer Info'!$M$18,AY1982*'Customer Info'!$M$29),))),)","v":0},0,null,null,null,null,null,null,null,null,null,null,null,null,null,null,null,null,null,null,null,null,null,null,null,null,null,null,null,null,null,null,null,null,null,null,null,null,null,null,null,null,null,null,null,null,null,null,null,null,null,null,null,0]
[0,0,0,0,0,0,0,0,0,null,{"$f":"0","v":0},0,null,null,null,null,null,null,null,null,null,null,null,null,null,null,null,null,null,null,null,null,null,null,null,null,null,null,null,null,null,null,null,null,null,null,null,null,null,null,0,0,{"$f":"IF(E1999=\"plate waste\",IF(OR(C1999=\"patient\",C1999=\"patient beverages\"),IF('Customer Info'!$M$27=0,AY1999*'Customer Info'!$M$18,AY1999*'Customer Info'!$M$27),IF(C1999=\"cafeteria\",IF('Customer Info'!$M$28=0,AY1999*'Customer Info'!$M$18,AY1999*'Customer Info'!$M$28),IF(C1999=\"other1\",IF('Customer Info'!$M$29=0,AY1999*'Customer Info'!$M$18,AY1999*'Customer Info'!$M$29),))),)","v":0},0,null,null,null,null,null,null,null,null,null,null,null,null,null,null,null,null,null,null,null,null,null,null,null,null,null,null,null,null,null,null,null,null,null,null,null,null,null,null,null,null,null,null,null,null,null,null,null,null,null,null,null,0]
[0,0,0,0,0,0,0,0,0,null,{"$f":"0","v":0},0,null,null,null,null,null,null,null,null,null,null,null,null,null,null,null,null,null,null,null,null,null,null,null,null,null,null,null,null,null,null,null,null,null,null,null,null,null,null,0,0,{"$f":"IF(E2020=\"plate waste\",IF(OR(C2020=\"patient\",C2020=\"patient beverages\"),IF('Customer Info'!$M$27=0,AY2020*'Customer Info'!$M$18,AY2020*'Customer Info'!$M$27),IF(C2020=\"cafeteria\",IF('Customer Info'!$M$28=0,AY2020*'Customer Info'!$M$18,AY2020*'Customer Info'!$M$28),IF(C2020=\"other1\",IF('Customer Info'!$M$29=0,AY2020*'Customer Info'!$M$18,AY2020*'Customer Info'!$M$29),))),)","v":0},0,null,null,null,null,null,null,null,null,null,null,null,null,null,null,null,null,null,null,null,null,null,null,null,null,null,null,null,null,null,null,null,null,null,null,null,null,null,null,null,null,null,null,null,null,null,null,null,null,null,null,null,0]
[0,0,0,0,0,0,0,0,0,null,{"$f":"0","v":0},0,null,null,null,null,null,null,null,null,null,null,null,null,null,null,null,null,null,null,null,null,null,null,null,null,null,null,null,null,null,null,null,null,null,null,null,null,null,null,0,0,{"$f":"IF(E2032=\"plate waste\",IF(OR(C2032=\"patient\",C2032=\"patient beverages\"),IF('Customer Info'!$M$27=0,AY2032*'Customer Info'!$M$18,AY2032*'Customer Info'!$M$27),IF(C2032=\"cafeteria\",IF('Customer Info'!$M$28=0,AY2032*'Customer Info'!$M$18,AY2032*'Customer Info'!$M$28),IF(C2032=\"other1\",IF('Customer Info'!$M$29=0,AY2032*'Customer Info'!$M$18,AY2032*'Customer Info'!$M$29),))),)","v":0},0,null,null,null,null,null,null,null,null,null,null,null,null,null,null,null,null,null,null,null,null,null,null,null,null,null,null,null,null,null,null,null,null,null,null,null,null,null,null,null,null,null,null,null,null,null,null,null,null,null,null,null,0]
[0,0,0,0,0,{"$f":"IF(AY2049=0,,\"assumed plate waste - breakfast\")","v":0},0,0,0,null,{"$f":"0","v":0},0,null,null,null,null,null,null,null,null,null,null,null,null,null,null,null,null,null,null,null,null,null,null,null,null,null,null,null,null,null,null,null,null,null,null,null,null,null,null,0,0,{"$f":"IF(E2049=\"plate waste\",IF(OR(C2049=\"patient\",C2049=\"patient beverages\"),IF('Customer Info'!$M$27=0,AY2049*'Customer Info'!$M$18,AY2049*'Customer Info'!$M$27),IF(C2049=\"cafeteria\",IF('Customer Info'!$M$28=0,AY2049*'Customer Info'!$M$18,AY2049*'Customer Info'!$M$28),IF(C2049=\"other1\",IF('Customer Info'!$M$29=0,AY2049*'Customer Info'!$M$18,AY2049*'Customer Info'!$M$29),))),)","v":0},0,null,null,null,null,null,null,null,null,null,null,null,null,null,null,null,null,null,null,null,null,null,null,null,null,null,null,null,null,null,null,null,null,null,null,null,null,null,null,null,null,null,null,null,null,null,null,null,null,null,null,null,0]
[0,0,0,0,0,0,0,0,0,null,{"$f":"0","v":0},0,null,null,null,null,null,null,null,null,null,null,null,null,null,null,null,null,null,null,null,null,null,null,null,null,null,null,null,null,null,null,null,null,null,null,null,null,null,null,0,0,{"$f":"IF(E2068=\"plate waste\",IF(OR(C2068=\"patient\",C2068=\"patient beverages\"),IF('Customer Info'!$M$27=0,AY2068*'Customer Info'!$M$18,AY2068*'Customer Info'!$M$27),IF(C2068=\"cafeteria\",IF('Customer Info'!$M$28=0,AY2068*'Customer Info'!$M$18,AY2068*'Customer Info'!$M$28),IF(C2068=\"other1\",IF('Customer Info'!$M$29=0,AY2068*'Customer Info'!$M$18,AY2068*'Customer Info'!$M$29),))),)","v":0},0,null,null,null,null,null,null,null,null,null,null,null,null,null,null,null,null,null,null,null,null,null,null,null,null,null,null,null,null,null,null,null,null,null,null,null,null,null,null,null,null,null,null,null,null,null,null,null,null,null,null,null,0]
[{"$f":"IF(AY2082=0,,\"breakfast\")","v":0},{"$f":"IF(AY2082=0,,B279)","v":0},{"$f":"IF(AY2082=0,,C279)","v":0},{"$f":"IF(AY2082=0,,D279)","v":0},{"$f":"IF(AY2082=0,,E279)","v":0},0,{"$f":"IF(AY2082=0,,G279)","v":0},{"$f":"IF(AY2082=0,,H279)","v":0},{"$f":"IF(AY2082=0,,I279*(BB2082/K279))","v":0},null,{"$f":"0","v":0},0,null,null,null,null,null,null,null,null,null,null,null,null,null,null,null,null,null,null,null,null,null,null,null,null,null,null,null,null,null,null,null,null,null,null,null,null,null,null,{"$f":"BV279","v":0},{"$f":"IF(B2082=0,AY2082,AY2082*24/B2082)","v":0},{"$f":"IF(E2082=\"plate waste\",IF(OR(C2082=\"patient\",C2082=\"patient beverages\"),IF('Customer Info'!$M$27=0,AY2082*'Customer Info'!$M$18,AY2082*'Customer Info'!$M$27),IF(C2082=\"cafeteria\",IF('Customer Info'!$M$28=0,AY2082*'Customer Info'!$M$18,AY2082*'Customer Info'!$M$28),IF(C2082=\"other1\",IF('Customer Info'!$M$29=0,AY2082*'Customer Info'!$M$18,AY2082*'Customer Info'!$M$29),))),)","v":0},0,null,null,null,null,null,null,null,null,null,null,null,null,null,null,null,null,null,null,null,null,null,null,null,null,null,null,null,null,null,null,null,null,null,null,null,null,null,null,null,null,null,null,null,null,null,null,null,null,null,null,null,0]
[0,0,0,0,0,0,0,0,0,null,{"$f":"0","v":0},0,null,null,null,null,null,null,null,null,null,null,null,null,null,null,null,null,null,null,null,null,null,null,null,null,null,null,null,null,null,null,null,null,null,null,null,null,null,null,0,0,{"$f":"IF(E2099=\"plate waste\",IF(OR(C2099=\"patient\",C2099=\"patient beverages\"),IF('Customer Info'!$M$27=0,AY2099*'Customer Info'!$M$18,AY2099*'Customer Info'!$M$27),IF(C2099=\"cafeteria\",IF('Customer Info'!$M$28=0,AY2099*'Customer Info'!$M$18,AY2099*'Customer Info'!$M$28),IF(C2099=\"other1\",IF('Customer Info'!$M$29=0,AY2099*'Customer Info'!$M$18,AY2099*'Customer Info'!$M$29),))),)","v":0},0,null,null,null,null,null,null,null,null,null,null,null,null,null,null,null,null,null,null,null,null,null,null,null,null,null,null,null,null,null,null,null,null,null,null,null,null,null,null,null,null,null,null,null,null,null,null,null,null,null,null,null,0]
[0,0,0,0,0,0,0,0,0,null,{"$f":"0","v":0},0,null,null,null,null,null,null,null,null,null,null,null,null,null,null,null,null,null,null,null,null,null,null,null,null,null,null,null,null,null,null,null,null,null,null,null,null,null,null,0,0,{"$f":"IF(E2102=\"plate waste\",IF(OR(C2102=\"patient\",C2102=\"patient beverages\"),IF('Customer Info'!$M$27=0,AY2102*'Customer Info'!$M$18,AY2102*'Customer Info'!$M$27),IF(C2102=\"cafeteria\",IF('Customer Info'!$M$28=0,AY2102*'Customer Info'!$M$18,AY2102*'Customer Info'!$M$28),IF(C2102=\"other1\",IF('Customer Info'!$M$29=0,AY2102*'Customer Info'!$M$18,AY2102*'Customer Info'!$M$29),))),)","v":0},0,null,null,null,null,null,null,null,null,null,null,null,null,null,null,null,null,null,null,null,null,null,null,null,null,null,null,null,null,null,null,null,null,null,null,null,null,null,null,null,null,null,null,null,null,null,null,null,null,null,null,null,0]
[0,0,0,0,0,0,0,0,0,null,{"$f":"0","v":0},0,null,null,null,null,null,null,null,null,null,null,null,null,null,null,null,null,null,null,null,null,null,null,null,null,null,null,null,null,null,null,null,null,null,null,null,null,null,null,0,0,{"$f":"IF(E2116=\"plate waste\",IF(OR(C2116=\"patient\",C2116=\"patient beverages\"),IF('Customer Info'!$M$27=0,AY2116*'Customer Info'!$M$18,AY2116*'Customer Info'!$M$27),IF(C2116=\"cafeteria\",IF('Customer Info'!$M$28=0,AY2116*'Customer Info'!$M$18,AY2116*'Customer Info'!$M$28),IF(C2116=\"other1\",IF('Customer Info'!$M$29=0,AY2116*'Customer Info'!$M$18,AY2116*'Customer Info'!$M$29),))),)","v":0},0,null,null,null,null,null,null,null,null,null,null,null,null,null,null,null,null,null,null,null,null,null,null,null,null,null,null,null,null,null,null,null,null,null,null,null,null,null,null,null,null,null,null,null,null,null,null,null,null,null,null,null,0]
[0,0,0,0,0,0,0,0,0,null,{"$f":"0","v":0},0,null,null,null,null,null,null,null,null,null,null,null,null,null,null,null,null,null,null,null,null,null,null,null,null,null,null,null,null,null,null,null,null,null,null,null,null,null,null,0,0,{"$f":"IF(E2133=\"plate waste\",IF(OR(C2133=\"patient\",C2133=\"patient beverages\"),IF('Customer Info'!$M$27=0,AY2133*'Customer Info'!$M$18,AY2133*'Customer Info'!$M$27),IF(C2133=\"cafeteria\",IF('Customer Info'!$M$28=0,AY2133*'Customer Info'!$M$18,AY2133*'Customer Info'!$M$28),IF(C2133=\"other1\",IF('Customer Info'!$M$29=0,AY2133*'Customer Info'!$M$18,AY2133*'Customer Info'!$M$29),))),)","v":0},0,null,null,null,null,null,null,null,null,null,null,null,null,null,null,null,null,null,null,null,null,null,null,null,null,null,null,null,null,null,null,null,null,null,null,null,null,null,null,null,null,null,null,null,null,null,null,null,null,null,null,null,0]
[0,0,0,0,0,0,0,0,0,null,{"$f":"0","v":0},0,null,null,null,null,null,null,null,null,null,null,null,null,null,null,null,null,null,null,null,null,null,null,null,null,null,null,null,null,null,null,null,null,null,null,null,null,null,null,0,0,{"$f":"IF(E2150=\"plate waste\",IF(OR(C2150=\"patient\",C2150=\"patient beverages\"),IF('Customer Info'!$M$27=0,AY2150*'Customer Info'!$M$18,AY2150*'Customer Info'!$M$27),IF(C2150=\"cafeteria\",IF('Customer Info'!$M$28=0,AY2150*'Customer Info'!$M$18,AY2150*'Customer Info'!$M$28),IF(C2150=\"other1\",IF('Customer Info'!$M$29=0,AY2150*'Customer Info'!$M$18,AY2150*'Customer Info'!$M$29),))),)","v":0},0,null,null,null,null,null,null,null,null,null,null,null,null,null,null,null,null,null,null,null,null,null,null,null,null,null,null,null,null,null,null,null,null,null,null,null,null,null,null,null,null,null,null,null,null,null,null,null,null,null,null,null,0]
[0,0,0,0,0,0,0,0,0,null,{"$f":"0","v":0},0,null,null,null,null,null,null,null,null,null,null,null,null,null,null,null,null,null,null,null,null,null,null,null,null,null,null,null,null,null,null,null,null,null,null,null,null,null,null,0,0,{"$f":"IF(E2166=\"plate waste\",IF(OR(C2166=\"patient\",C2166=\"patient beverages\"),IF('Customer Info'!$M$27=0,AY2166*'Customer Info'!$M$18,AY2166*'Customer Info'!$M$27),IF(C2166=\"cafeteria\",IF('Customer Info'!$M$28=0,AY2166*'Customer Info'!$M$18,AY2166*'Customer Info'!$M$28),IF(C2166=\"other1\",IF('Customer Info'!$M$29=0,AY2166*'Customer Info'!$M$18,AY2166*'Customer Info'!$M$29),))),)","v":0},0,null,null,null,null,null,null,null,null,null,null,null,null,null,null,null,null,null,null,null,null,null,null,null,null,null,null,null,null,null,null,null,null,null,null,null,null,null,null,null,null,null,null,null,null,null,null,null,null,null,null,null,0]
[0,0,0,0,0,0,0,0,0,null,{"$f":"0","v":0},0,null,null,null,null,null,null,null,null,null,null,null,null,null,null,null,null,null,null,null,null,null,null,null,null,null,null,null,null,null,null,null,null,null,null,null,null,null,null,0,0,{"$f":"IF(E2183=\"plate waste\",IF(OR(C2183=\"patient\",C2183=\"patient beverages\"),IF('Customer Info'!$M$27=0,AY2183*'Customer Info'!$M$18,AY2183*'Customer Info'!$M$27),IF(C2183=\"cafeteria\",IF('Customer Info'!$M$28=0,AY2183*'Customer Info'!$M$18,AY2183*'Customer Info'!$M$28),IF(C2183=\"other1\",IF('Customer Info'!$M$29=0,AY2183*'Customer Info'!$M$18,AY2183*'Customer Info'!$M$29),))),)","v":0},0,null,null,null,null,null,null,null,null,null,null,null,null,null,null,null,null,null,null,null,null,null,null,null,null,null,null,null,null,null,null,null,null,null,null,null,null,null,null,null,null,null,null,null,null,null,null,null,null,null,null,null,0]
[0,0,0,0,0,0,0,0,0,null,{"$f":"0","v":0},0,null,null,null,null,null,null,null,null,null,null,null,null,null,null,null,null,null,null,null,null,null,null,null,null,null,null,null,null,null,null,null,null,null,null,null,null,null,null,0,0,{"$f":"IF(E2200=\"plate waste\",IF(OR(C2200=\"patient\",C2200=\"patient beverages\"),IF('Customer Info'!$M$27=0,AY2200*'Customer Info'!$M$18,AY2200*'Customer Info'!$M$27),IF(C2200=\"cafeteria\",IF('Customer Info'!$M$28=0,AY2200*'Customer Info'!$M$18,AY2200*'Customer Info'!$M$28),IF(C2200=\"other1\",IF('Customer Info'!$M$29=0,AY2200*'Customer Info'!$M$18,AY2200*'Customer Info'!$M$29),))),)","v":0},0,null,null,null,null,null,null,null,null,null,null,null,null,null,null,null,null,null,null,null,null,null,null,null,null,null,null,null,null,null,null,null,null,null,null,null,null,null,null,null,null,null,null,null,null,null,null,null,null,null,null,null,0]
[0,0,0,0,0,0,0,0,0,null,{"$f":"0","v":0},0,null,null,null,null,null,null,null,null,null,null,null,null,null,null,null,null,null,null,null,null,null,null,null,null,null,null,null,null,null,null,null,null,null,null,null,null,null,null,0,0,{"$f":"IF(E2214=\"plate waste\",IF(OR(C2214=\"patient\",C2214=\"patient beverages\"),IF('Customer Info'!$M$27=0,AY2214*'Customer Info'!$M$18,AY2214*'Customer Info'!$M$27),IF(C2214=\"cafeteria\",IF('Customer Info'!$M$28=0,AY2214*'Customer Info'!$M$18,AY2214*'Customer Info'!$M$28),IF(C2214=\"other1\",IF('Customer Info'!$M$29=0,AY2214*'Customer Info'!$M$18,AY2214*'Customer Info'!$M$29),))),)","v":0},0,null,null,null,null,null,null,null,null,null,null,null,null,null,null,null,null,null,null,null,null,null,null,null,null,null,null,null,null,null,null,null,null,null,null,null,null,null,null,null,null,null,null,null,null,null,null,null,null,null,null,null,0]
[0,0,0,0,0,0,0,0,0,null,{"$f":"0","v":0},0,null,null,null,null,null,null,null,null,null,null,null,null,null,null,null,null,null,null,null,null,null,null,null,null,null,null,null,null,null,null,null,null,null,null,null,null,null,null,0,0,{"$f":"IF(E2233=\"plate waste\",IF(OR(C2233=\"patient\",C2233=\"patient beverages\"),IF('Customer Info'!$M$27=0,AY2233*'Customer Info'!$M$18,AY2233*'Customer Info'!$M$27),IF(C2233=\"cafeteria\",IF('Customer Info'!$M$28=0,AY2233*'Customer Info'!$M$18,AY2233*'Customer Info'!$M$28),IF(C2233=\"other1\",IF('Customer Info'!$M$29=0,AY2233*'Customer Info'!$M$18,AY2233*'Customer Info'!$M$29),))),)","v":0},0,null,null,null,null,null,null,null,null,null,null,null,null,null,null,null,null,null,null,null,null,null,null,null,null,null,null,null,null,null,null,null,null,null,null,null,null,null,null,null,null,null,null,null,null,null,null,null,null,null,null,null,0]
[0,0,0,0,0,0,0,0,0,null,{"$f":"0","v":0},0,null,null,null,null,null,null,null,null,null,null,null,null,null,null,null,null,null,null,null,null,null,null,null,null,null,null,null,null,null,null,null,null,null,null,null,null,null,null,0,0,{"$f":"IF(E2250=\"plate waste\",IF(OR(C2250=\"patient\",C2250=\"patient beverages\"),IF('Customer Info'!$M$27=0,AY2250*'Customer Info'!$M$18,AY2250*'Customer Info'!$M$27),IF(C2250=\"cafeteria\",IF('Customer Info'!$M$28=0,AY2250*'Customer Info'!$M$18,AY2250*'Customer Info'!$M$28),IF(C2250=\"other1\",IF('Customer Info'!$M$29=0,AY2250*'Customer Info'!$M$18,AY2250*'Customer Info'!$M$29),))),)","v":0},0,null,null,null,null,null,null,null,null,null,null,null,null,null,null,null,null,null,null,null,null,null,null,null,null,null,null,null,null,null,null,null,null,null,null,null,null,null,null,null,null,null,null,null,null,null,null,null,null,null,null,null,0]
[0,0,0,0,0,0,0,0,0,null,{"$f":"0","v":0},0,null,null,null,null,null,null,null,null,null,null,null,null,null,null,null,null,null,null,null,null,null,null,null,null,null,null,null,null,null,null,null,null,null,null,null,null,null,null,0,0,{"$f":"IF(E2262=\"plate waste\",IF(OR(C2262=\"patient\",C2262=\"patient beverages\"),IF('Customer Info'!$M$27=0,AY2262*'Customer Info'!$M$18,AY2262*'Customer Info'!$M$27),IF(C2262=\"cafeteria\",IF('Customer Info'!$M$28=0,AY2262*'Customer Info'!$M$18,AY2262*'Customer Info'!$M$28),IF(C2262=\"other1\",IF('Customer Info'!$M$29=0,AY2262*'Customer Info'!$M$18,AY2262*'Customer Info'!$M$29),))),)","v":0},0,null,null,null,null,null,null,null,null,null,null,null,null,null,null,null,null,null,null,null,null,null,null,null,null,null,null,null,null,null,null,null,null,null,null,null,null,null,null,null,null,null,null,null,null,null,null,null,null,null,null,null,0]
[0,0,0,0,0,0,0,0,0,null,{"$f":"0","v":0},0,null,null,null,null,null,null,null,null,null,null,null,null,null,null,null,null,null,null,null,null,null,null,null,null,null,null,null,null,null,null,null,null,null,null,null,null,null,null,0,0,{"$f":"IF(E2283=\"plate waste\",IF(OR(C2283=\"patient\",C2283=\"patient beverages\"),IF('Customer Info'!$M$27=0,AY2283*'Customer Info'!$M$18,AY2283*'Customer Info'!$M$27),IF(C2283=\"cafeteria\",IF('Customer Info'!$M$28=0,AY2283*'Customer Info'!$M$18,AY2283*'Customer Info'!$M$28),IF(C2283=\"other1\",IF('Customer Info'!$M$29=0,AY2283*'Customer Info'!$M$18,AY2283*'Customer Info'!$M$29),))),)","v":0},0,null,null,null,null,null,null,null,null,null,null,null,null,null,null,null,null,null,null,null,null,null,null,null,null,null,null,null,null,null,null,null,null,null,null,null,null,null,null,null,null,null,null,null,null,null,null,null,null,null,null,null,0]
[0,0,0,0,0,0,0,0,0,null,{"$f":"0","v":0},0,null,null,null,null,null,null,null,null,null,null,null,null,null,null,null,null,null,null,null,null,null,null,null,null,null,null,null,null,null,null,null,null,null,null,null,null,null,null,0,0,{"$f":"IF(E2300=\"plate waste\",IF(OR(C2300=\"patient\",C2300=\"patient beverages\"),IF('Customer Info'!$M$27=0,AY2300*'Customer Info'!$M$18,AY2300*'Customer Info'!$M$27),IF(C2300=\"cafeteria\",IF('Customer Info'!$M$28=0,AY2300*'Customer Info'!$M$18,AY2300*'Customer Info'!$M$28),IF(C2300=\"other1\",IF('Customer Info'!$M$29=0,AY2300*'Customer Info'!$M$18,AY2300*'Customer Info'!$M$29),))),)","v":0},0,null,null,null,null,null,null,null,null,null,null,null,null,null,null,null,null,null,null,null,null,null,null,null,null,null,null,null,null,null,null,null,null,null,null,null,null,null,null,null,null,null,null,null,null,null,null,null,null,null,null,null,0]
[0,0,0,0,0,0,0,0,0,null,{"$f":"0","v":0},0,null,null,null,null,null,null,null,null,null,null,null,null,null,null,null,null,null,null,null,null,null,null,null,null,null,null,null,null,null,null,null,null,null,null,null,null,null,null,0,0,{"$f":"IF(E2311=\"plate waste\",IF(OR(C2311=\"patient\",C2311=\"patient beverages\"),IF('Customer Info'!$M$27=0,AY2311*'Customer Info'!$M$18,AY2311*'Customer Info'!$M$27),IF(C2311=\"cafeteria\",IF('Customer Info'!$M$28=0,AY2311*'Customer Info'!$M$18,AY2311*'Customer Info'!$M$28),IF(C2311=\"other1\",IF('Customer Info'!$M$29=0,AY2311*'Customer Info'!$M$18,AY2311*'Customer Info'!$M$29),))),)","v":0},0,null,null,null,null,null,null,null,null,null,null,null,null,null,null,null,null,null,null,null,null,null,null,null,null,null,null,null,null,null,null,null,null,null,null,null,null,null,null,null,null,null,null,null,null,null,null,null,null,null,null,null,0]
[0,0,0,0,0,0,0,0,0,null,{"$f":"0","v":0},0,null,null,null,null,null,null,null,null,null,null,null,null,null,null,null,null,null,null,null,null,null,null,null,null,null,null,null,null,null,null,null,null,null,null,null,null,null,null,0,0,{"$f":"IF(E2333=\"plate waste\",IF(OR(C2333=\"patient\",C2333=\"patient beverages\"),IF('Customer Info'!$M$27=0,AY2333*'Customer Info'!$M$18,AY2333*'Customer Info'!$M$27),IF(C2333=\"cafeteria\",IF('Customer Info'!$M$28=0,AY2333*'Customer Info'!$M$18,AY2333*'Customer Info'!$M$28),IF(C2333=\"other1\",IF('Customer Info'!$M$29=0,AY2333*'Customer Info'!$M$18,AY2333*'Customer Info'!$M$29),))),)","v":0},0,null,null,null,null,null,null,null,null,null,null,null,null,null,null,null,null,null,null,null,null,null,null,null,null,null,null,null,null,null,null,null,null,null,null,null,null,null,null,null,null,null,null,null,null,null,null,null,null,null,null,null,0]
[0,0,0,0,0,0,0,0,0,null,{"$f":"0","v":0},0,null,null,null,null,null,null,null,null,null,null,null,null,null,null,null,null,null,null,null,null,null,null,null,null,null,null,null,null,null,null,null,null,null,null,null,null,null,null,0,0,{"$f":"IF(E2350=\"plate waste\",IF(OR(C2350=\"patient\",C2350=\"patient beverages\"),IF('Customer Info'!$M$27=0,AY2350*'Customer Info'!$M$18,AY2350*'Customer Info'!$M$27),IF(C2350=\"cafeteria\",IF('Customer Info'!$M$28=0,AY2350*'Customer Info'!$M$18,AY2350*'Customer Info'!$M$28),IF(C2350=\"other1\",IF('Customer Info'!$M$29=0,AY2350*'Customer Info'!$M$18,AY2350*'Customer Info'!$M$29),))),)","v":0},0,null,null,null,null,null,null,null,null,null,null,null,null,null,null,null,null,null,null,null,null,null,null,null,null,null,null,null,null,null,null,null,null,null,null,null,null,null,null,null,null,null,null,null,null,null,null,null,null,null,null,null,0]
[0,0,0,0,0,0,0,0,0,null,{"$f":"0","v":0},0,null,null,null,null,null,null,null,null,null,null,null,null,null,null,null,null,null,null,null,null,null,null,null,null,null,null,null,null,null,null,null,null,null,null,null,null,null,null,0,0,{"$f":"IF(E2359=\"plate waste\",IF(OR(C2359=\"patient\",C2359=\"patient beverages\"),IF('Customer Info'!$M$27=0,AY2359*'Customer Info'!$M$18,AY2359*'Customer Info'!$M$27),IF(C2359=\"cafeteria\",IF('Customer Info'!$M$28=0,AY2359*'Customer Info'!$M$18,AY2359*'Customer Info'!$M$28),IF(C2359=\"other1\",IF('Customer Info'!$M$29=0,AY2359*'Customer Info'!$M$18,AY2359*'Customer Info'!$M$29),))),)","v":0},0,null,null,null,null,null,null,null,null,null,null,null,null,null,null,null,null,null,null,null,null,null,null,null,null,null,null,null,null,null,null,null,null,null,null,null,null,null,null,null,null,null,null,null,null,null,null,null,null,null,null,null,0]
[0,0,0,0,0,0,0,0,0,null,{"$f":"0","v":0},0,null,null,null,null,null,null,null,null,null,null,null,null,null,null,null,null,null,null,null,null,null,null,null,null,null,null,null,null,null,null,null,null,null,null,null,null,null,null,0,0,{"$f":"IF(E2367=\"plate waste\",IF(OR(C2367=\"patient\",C2367=\"patient beverages\"),IF('Customer Info'!$M$27=0,AY2367*'Customer Info'!$M$18,AY2367*'Customer Info'!$M$27),IF(C2367=\"cafeteria\",IF('Customer Info'!$M$28=0,AY2367*'Customer Info'!$M$18,AY2367*'Customer Info'!$M$28),IF(C2367=\"other1\",IF('Customer Info'!$M$29=0,AY2367*'Customer Info'!$M$18,AY2367*'Customer Info'!$M$29),))),)","v":0},0,null,null,null,null,null,null,null,null,null,null,null,null,null,null,null,null,null,null,null,null,null,null,null,null,null,null,null,null,null,null,null,null,null,null,null,null,null,null,null,null,null,null,null,null,null,null,null,null,null,null,null,0]
[0,0,0,0,0,{"$f":"IF(AY2384=0,,\"assumed plate waste-lunch\")","v":0},0,0,0,null,{"$f":"0","v":0},0,null,null,null,null,null,null,null,null,null,null,null,null,null,null,null,null,null,null,null,null,null,null,null,null,null,null,null,null,null,null,null,null,null,null,null,null,null,null,0,0,{"$f":"IF(E2384=\"plate waste\",IF(OR(C2384=\"patient\",C2384=\"patient beverages\"),IF('Customer Info'!$M$27=0,AY2384*'Customer Info'!$M$18,AY2384*'Customer Info'!$M$27),IF(C2384=\"cafeteria\",IF('Customer Info'!$M$28=0,AY2384*'Customer Info'!$M$18,AY2384*'Customer Info'!$M$28),IF(C2384=\"other1\",IF('Customer Info'!$M$29=0,AY2384*'Customer Info'!$M$18,AY2384*'Customer Info'!$M$29),))),)","v":0},0,null,null,null,null,null,null,null,null,null,null,null,null,null,null,null,null,null,null,null,null,null,null,null,null,null,null,null,null,null,null,null,null,null,null,null,null,null,null,null,null,null,null,null,null,null,null,null,null,null,null,null,0]
[0,0,0,0,0,0,0,0,0,null,{"$f":"0","v":0},0,null,null,null,null,null,null,null,null,null,null,null,null,null,null,null,null,null,null,null,null,null,null,null,null,null,null,null,null,null,null,null,null,null,null,null,null,null,null,0,0,{"$f":"IF(E2407=\"plate waste\",IF(OR(C2407=\"patient\",C2407=\"patient beverages\"),IF('Customer Info'!$M$27=0,AY2407*'Customer Info'!$M$18,AY2407*'Customer Info'!$M$27),IF(C2407=\"cafeteria\",IF('Customer Info'!$M$28=0,AY2407*'Customer Info'!$M$18,AY2407*'Customer Info'!$M$28),IF(C2407=\"other1\",IF('Customer Info'!$M$29=0,AY2407*'Customer Info'!$M$18,AY2407*'Customer Info'!$M$29),))),)","v":0},0,null,null,null,null,null,null,null,null,null,null,null,null,null,null,null,null,null,null,null,null,null,null,null,null,null,null,null,null,null,null,null,null,null,null,null,null,null,null,null,null,null,null,null,null,null,null,null,null,null,null,null,0]
[0,0,0,0,0,0,0,0,0,null,{"$f":"0","v":0},0,null,null,null,null,null,null,null,null,null,null,null,null,null,null,null,null,null,null,null,null,null,null,null,null,null,null,null,null,null,null,null,null,null,null,null,null,null,null,0,0,{"$f":"IF(E2417=\"plate waste\",IF(OR(C2417=\"patient\",C2417=\"patient beverages\"),IF('Customer Info'!$M$27=0,AY2417*'Customer Info'!$M$18,AY2417*'Customer Info'!$M$27),IF(C2417=\"cafeteria\",IF('Customer Info'!$M$28=0,AY2417*'Customer Info'!$M$18,AY2417*'Customer Info'!$M$28),IF(C2417=\"other1\",IF('Customer Info'!$M$29=0,AY2417*'Customer Info'!$M$18,AY2417*'Customer Info'!$M$29),))),)","v":0},0,null,null,null,null,null,null,null,null,null,null,null,null,null,null,null,null,null,null,null,null,null,null,null,null,null,null,null,null,null,null,null,null,null,null,null,null,null,null,null,null,null,null,null,null,null,null,null,null,null,null,null,0]
[0,0,0,0,0,0,0,0,0,null,{"$f":"0","v":0},0,null,null,null,null,null,null,null,null,null,null,null,null,null,null,null,null,null,null,null,null,null,null,null,null,null,null,null,null,null,null,null,null,null,null,null,null,null,null,0,0,{"$f":"IF(E2434=\"plate waste\",IF(OR(C2434=\"patient\",C2434=\"patient beverages\"),IF('Customer Info'!$M$27=0,AY2434*'Customer Info'!$M$18,AY2434*'Customer Info'!$M$27),IF(C2434=\"cafeteria\",IF('Customer Info'!$M$28=0,AY2434*'Customer Info'!$M$18,AY2434*'Customer Info'!$M$28),IF(C2434=\"other1\",IF('Customer Info'!$M$29=0,AY2434*'Customer Info'!$M$18,AY2434*'Customer Info'!$M$29),))),)","v":0},0,null,null,null,null,null,null,null,null,null,null,null,null,null,null,null,null,null,null,null,null,null,null,null,null,null,null,null,null,null,null,null,null,null,null,null,null,null,null,null,null,null,null,null,null,null,null,null,null,null,null,null,0]
[0,0,0,0,0,0,0,0,0,null,{"$f":"0","v":0},0,null,null,null,null,null,null,null,null,null,null,null,null,null,null,null,null,null,null,null,null,null,null,null,null,null,null,null,null,null,null,null,null,null,null,null,null,null,null,0,0,{"$f":"IF(E2455=\"plate waste\",IF(OR(C2455=\"patient\",C2455=\"patient beverages\"),IF('Customer Info'!$M$27=0,AY2455*'Customer Info'!$M$18,AY2455*'Customer Info'!$M$27),IF(C2455=\"cafeteria\",IF('Customer Info'!$M$28=0,AY2455*'Customer Info'!$M$18,AY2455*'Customer Info'!$M$28),IF(C2455=\"other1\",IF('Customer Info'!$M$29=0,AY2455*'Customer Info'!$M$18,AY2455*'Customer Info'!$M$29),))),)","v":0},0,null,null,null,null,null,null,null,null,null,null,null,null,null,null,null,null,null,null,null,null,null,null,null,null,null,null,null,null,null,null,null,null,null,null,null,null,null,null,null,null,null,null,null,null,null,null,null,null,null,null,null,0]
[0,0,0,0,0,0,0,0,0,null,{"$f":"0","v":0},0,null,null,null,null,null,null,null,null,null,null,null,null,null,null,null,null,null,null,null,null,null,null,null,null,null,null,null,null,null,null,null,null,null,null,null,null,null,null,0,0,{"$f":"IF(E2467=\"plate waste\",IF(OR(C2467=\"patient\",C2467=\"patient beverages\"),IF('Customer Info'!$M$27=0,AY2467*'Customer Info'!$M$18,AY2467*'Customer Info'!$M$27),IF(C2467=\"cafeteria\",IF('Customer Info'!$M$28=0,AY2467*'Customer Info'!$M$18,AY2467*'Customer Info'!$M$28),IF(C2467=\"other1\",IF('Customer Info'!$M$29=0,AY2467*'Customer Info'!$M$18,AY2467*'Customer Info'!$M$29),))),)","v":0},0,null,null,null,null,null,null,null,null,null,null,null,null,null,null,null,null,null,null,null,null,null,null,null,null,null,null,null,null,null,null,null,null,null,null,null,null,null,null,null,null,null,null,null,null,null,null,null,null,null,null,null,0]
[0,0,0,0,0,0,0,0,0,null,{"$f":"0","v":0},0,null,null,null,null,null,null,null,null,null,null,null,null,null,null,null,null,null,null,null,null,null,null,null,null,null,null,null,null,null,null,null,null,null,null,null,null,null,null,0,0,{"$f":"IF(E2484=\"plate waste\",IF(OR(C2484=\"patient\",C2484=\"patient beverages\"),IF('Customer Info'!$M$27=0,AY2484*'Customer Info'!$M$18,AY2484*'Customer Info'!$M$27),IF(C2484=\"cafeteria\",IF('Customer Info'!$M$28=0,AY2484*'Customer Info'!$M$18,AY2484*'Customer Info'!$M$28),IF(C2484=\"other1\",IF('Customer Info'!$M$29=0,AY2484*'Customer Info'!$M$18,AY2484*'Customer Info'!$M$29),))),)","v":0},0,null,null,null,null,null,null,null,null,null,null,null,null,null,null,null,null,null,null,null,null,null,null,null,null,null,null,null,null,null,null,null,null,null,null,null,null,null,null,null,null,null,null,null,null,null,null,null,null,null,null,null,0]
[0,0,0,0,0,0,0,0,0,null,{"$f":"0","v":0},0,null,null,null,null,null,null,null,null,null,null,null,null,null,null,null,null,null,null,null,null,null,null,null,null,null,null,null,null,null,null,null,null,null,null,null,null,null,null,0,0,{"$f":"IF(E2503=\"plate waste\",IF(OR(C2503=\"patient\",C2503=\"patient beverages\"),IF('Customer Info'!$M$27=0,AY2503*'Customer Info'!$M$18,AY2503*'Customer Info'!$M$27),IF(C2503=\"cafeteria\",IF('Customer Info'!$M$28=0,AY2503*'Customer Info'!$M$18,AY2503*'Customer Info'!$M$28),IF(C2503=\"other1\",IF('Customer Info'!$M$29=0,AY2503*'Customer Info'!$M$18,AY2503*'Customer Info'!$M$29),))),)","v":0},0,null,null,null,null,null,null,null,null,null,null,null,null,null,null,null,null,null,null,null,null,null,null,null,null,null,null,null,null,null,null,null,null,null,null,null,null,null,null,null,null,null,null,null,null,null,null,null,null,null,null,null,0]
[0,0,0,0,0,0,0,0,0,null,{"$f":"0","v":0},0,null,null,null,null,null,null,null,null,null,null,null,null,null,null,null,null,null,null,null,null,null,null,null,null,null,null,null,null,null,null,null,null,null,null,null,null,null,null,0,0,{"$f":"IF(E2517=\"plate waste\",IF(OR(C2517=\"patient\",C2517=\"patient beverages\"),IF('Customer Info'!$M$27=0,AY2517*'Customer Info'!$M$18,AY2517*'Customer Info'!$M$27),IF(C2517=\"cafeteria\",IF('Customer Info'!$M$28=0,AY2517*'Customer Info'!$M$18,AY2517*'Customer Info'!$M$28),IF(C2517=\"other1\",IF('Customer Info'!$M$29=0,AY2517*'Customer Info'!$M$18,AY2517*'Customer Info'!$M$29),))),)","v":0},0,null,null,null,null,null,null,null,null,null,null,null,null,null,null,null,null,null,null,null,null,null,null,null,null,null,null,null,null,null,null,null,null,null,null,null,null,null,null,null,null,null,null,null,null,null,null,null,null,null,null,null,0]
[0,0,0,0,0,0,0,0,0,null,{"$f":"0","v":0},0,null,null,null,null,null,null,null,null,null,null,null,null,null,null,null,null,null,null,null,null,null,null,null,null,null,null,null,null,null,null,null,null,null,null,null,null,null,null,0,0,{"$f":"IF(E2534=\"plate waste\",IF(OR(C2534=\"patient\",C2534=\"patient beverages\"),IF('Customer Info'!$M$27=0,AY2534*'Customer Info'!$M$18,AY2534*'Customer Info'!$M$27),IF(C2534=\"cafeteria\",IF('Customer Info'!$M$28=0,AY2534*'Customer Info'!$M$18,AY2534*'Customer Info'!$M$28),IF(C2534=\"other1\",IF('Customer Info'!$M$29=0,AY2534*'Customer Info'!$M$18,AY2534*'Customer Info'!$M$29),))),)","v":0},0,null,null,null,null,null,null,null,null,null,null,null,null,null,null,null,null,null,null,null,null,null,null,null,null,null,null,null,null,null,null,null,null,null,null,null,null,null,null,null,null,null,null,null,null,null,null,null,null,null,null,null,0]
[0,0,0,0,0,0,0,0,0,null,{"$f":"0","v":0},0,null,null,null,null,null,null,null,null,null,null,null,null,null,null,null,null,null,null,null,null,null,null,null,null,null,null,null,null,null,null,null,null,null,null,null,null,null,null,0,0,{"$f":"IF(E2551=\"plate waste\",IF(OR(C2551=\"patient\",C2551=\"patient beverages\"),IF('Customer Info'!$M$27=0,AY2551*'Customer Info'!$M$18,AY2551*'Customer Info'!$M$27),IF(C2551=\"cafeteria\",IF('Customer Info'!$M$28=0,AY2551*'Customer Info'!$M$18,AY2551*'Customer Info'!$M$28),IF(C2551=\"other1\",IF('Customer Info'!$M$29=0,AY2551*'Customer Info'!$M$18,AY2551*'Customer Info'!$M$29),))),)","v":0},0,null,null,null,null,null,null,null,null,null,null,null,null,null,null,null,null,null,null,null,null,null,null,null,null,null,null,null,null,null,null,null,null,null,null,null,null,null,null,null,null,null,null,null,null,null,null,null,null,null,null,null,0]
[0,0,0,0,0,0,0,0,0,null,{"$f":"0","v":0},0,null,null,null,null,null,null,null,null,null,null,null,null,null,null,null,null,null,null,null,null,null,null,null,null,null,null,null,null,null,null,null,null,null,null,null,null,null,null,0,0,{"$f":"IF(E2567=\"plate waste\",IF(OR(C2567=\"patient\",C2567=\"patient beverages\"),IF('Customer Info'!$M$27=0,AY2567*'Customer Info'!$M$18,AY2567*'Customer Info'!$M$27),IF(C2567=\"cafeteria\",IF('Customer Info'!$M$28=0,AY2567*'Customer Info'!$M$18,AY2567*'Customer Info'!$M$28),IF(C2567=\"other1\",IF('Customer Info'!$M$29=0,AY2567*'Customer Info'!$M$18,AY2567*'Customer Info'!$M$29),))),)","v":0},0,null,null,null,null,null,null,null,null,null,null,null,null,null,null,null,null,null,null,null,null,null,null,null,null,null,null,null,null,null,null,null,null,null,null,null,null,null,null,null,null,null,null,null,null,null,null,null,null,null,null,null,0]
[0,0,0,0,0,0,0,0,0,null,{"$f":"0","v":0},0,null,null,null,null,null,null,null,null,null,null,null,null,null,null,null,null,null,null,null,null,null,null,null,null,null,null,null,null,null,null,null,null,null,null,null,null,null,null,0,0,{"$f":"IF(E2584=\"plate waste\",IF(OR(C2584=\"patient\",C2584=\"patient beverages\"),IF('Customer Info'!$M$27=0,AY2584*'Customer Info'!$M$18,AY2584*'Customer Info'!$M$27),IF(C2584=\"cafeteria\",IF('Customer Info'!$M$28=0,AY2584*'Customer Info'!$M$18,AY2584*'Customer Info'!$M$28),IF(C2584=\"other1\",IF('Customer Info'!$M$29=0,AY2584*'Customer Info'!$M$18,AY2584*'Customer Info'!$M$29),))),)","v":0},0,null,null,null,null,null,null,null,null,null,null,null,null,null,null,null,null,null,null,null,null,null,null,null,null,null,null,null,null,null,null,null,null,null,null,null,null,null,null,null,null,null,null,null,null,null,null,null,null,null,null,null,0]
[0,0,0,0,0,0,0,0,0,null,{"$f":"0","v":0},0,null,null,null,null,null,null,null,null,null,null,null,null,null,null,null,null,null,null,null,null,null,null,null,null,null,null,null,null,null,null,null,null,null,null,null,null,null,null,0,0,{"$f":"IF(E2601=\"plate waste\",IF(OR(C2601=\"patient\",C2601=\"patient beverages\"),IF('Customer Info'!$M$27=0,AY2601*'Customer Info'!$M$18,AY2601*'Customer Info'!$M$27),IF(C2601=\"cafeteria\",IF('Customer Info'!$M$28=0,AY2601*'Customer Info'!$M$18,AY2601*'Customer Info'!$M$28),IF(C2601=\"other1\",IF('Customer Info'!$M$29=0,AY2601*'Customer Info'!$M$18,AY2601*'Customer Info'!$M$29),))),)","v":0},0,null,null,null,null,null,null,null,null,null,null,null,null,null,null,null,null,null,null,null,null,null,null,null,null,null,null,null,null,null,null,null,null,null,null,null,null,null,null,null,null,null,null,null,null,null,null,null,null,null,null,null,0]
[0,0,0,0,0,0,0,0,0,null,{"$f":"0","v":0},0,null,null,null,null,null,null,null,null,null,null,null,null,null,null,null,null,null,null,null,null,null,null,null,null,null,null,null,null,null,null,null,null,null,null,null,null,null,null,0,0,{"$f":"IF(E2616=\"plate waste\",IF(OR(C2616=\"patient\",C2616=\"patient beverages\"),IF('Customer Info'!$M$27=0,AY2616*'Customer Info'!$M$18,AY2616*'Customer Info'!$M$27),IF(C2616=\"cafeteria\",IF('Customer Info'!$M$28=0,AY2616*'Customer Info'!$M$18,AY2616*'Customer Info'!$M$28),IF(C2616=\"other1\",IF('Customer Info'!$M$29=0,AY2616*'Customer Info'!$M$18,AY2616*'Customer Info'!$M$29),))),)","v":0},0,null,null,null,null,null,null,null,null,null,null,null,null,null,null,null,null,null,null,null,null,null,null,null,null,null,null,null,null,null,null,null,null,null,null,null,null,null,null,null,null,null,null,null,null,null,null,null,null,null,null,null,0]
[0,0,0,0,0,0,0,0,0,null,{"$f":"0","v":0},0,null,null,null,null,null,null,null,null,null,null,null,null,null,null,null,null,null,null,null,null,null,null,null,null,null,null,null,null,null,null,null,null,null,null,null,null,null,null,0,0,{"$f":"IF(E2618=\"plate waste\",IF(OR(C2618=\"patient\",C2618=\"patient beverages\"),IF('Customer Info'!$M$27=0,AY2618*'Customer Info'!$M$18,AY2618*'Customer Info'!$M$27),IF(C2618=\"cafeteria\",IF('Customer Info'!$M$28=0,AY2618*'Customer Info'!$M$18,AY2618*'Customer Info'!$M$28),IF(C2618=\"other1\",IF('Customer Info'!$M$29=0,AY2618*'Customer Info'!$M$18,AY2618*'Customer Info'!$M$29),))),)","v":0},0,null,null,null,null,null,null,null,null,null,null,null,null,null,null,null,null,null,null,null,null,null,null,null,null,null,null,null,null,null,null,null,null,null,null,null,null,null,null,null,null,null,null,null,null,null,null,null,null,null,null,null,0]
[0,0,0,0,0,0,0,0,0,null,{"$f":"0","v":0},0,null,null,null,null,null,null,null,null,null,null,null,null,null,null,null,null,null,null,null,null,null,null,null,null,null,null,null,null,null,null,null,null,null,null,null,null,null,null,0,0,{"$f":"IF(E2635=\"plate waste\",IF(OR(C2635=\"patient\",C2635=\"patient beverages\"),IF('Customer Info'!$M$27=0,AY2635*'Customer Info'!$M$18,AY2635*'Customer Info'!$M$27),IF(C2635=\"cafeteria\",IF('Customer Info'!$M$28=0,AY2635*'Customer Info'!$M$18,AY2635*'Customer Info'!$M$28),IF(C2635=\"other1\",IF('Customer Info'!$M$29=0,AY2635*'Customer Info'!$M$18,AY2635*'Customer Info'!$M$29),))),)","v":0},0,null,null,null,null,null,null,null,null,null,null,null,null,null,null,null,null,null,null,null,null,null,null,null,null,null,null,null,null,null,null,null,null,null,null,null,null,null,null,null,null,null,null,null,null,null,null,null,null,null,null,null,0]
[0,0,0,0,0,0,0,0,0,null,{"$f":"0","v":0},0,null,null,null,null,null,null,null,null,null,null,null,null,null,null,null,null,null,null,null,null,null,null,null,null,null,null,null,null,null,null,null,null,null,null,null,null,null,null,0,0,{"$f":"IF(E2664=\"plate waste\",IF(OR(C2664=\"patient\",C2664=\"patient beverages\"),IF('Customer Info'!$M$27=0,AY2664*'Customer Info'!$M$18,AY2664*'Customer Info'!$M$27),IF(C2664=\"cafeteria\",IF('Customer Info'!$M$28=0,AY2664*'Customer Info'!$M$18,AY2664*'Customer Info'!$M$28),IF(C2664=\"other1\",IF('Customer Info'!$M$29=0,AY2664*'Customer Info'!$M$18,AY2664*'Customer Info'!$M$29),))),)","v":0},0,null,null,null,null,null,null,null,null,null,null,null,null,null,null,null,null,null,null,null,null,null,null,null,null,null,null,null,null,null,null,null,null,null,null,null,null,null,null,null,null,null,null,null,null,null,null,null,null,null,null,null,0]
[0,0,0,0,0,0,0,0,0,null,{"$f":"0","v":0},0,null,null,null,null,null,null,null,null,null,null,null,null,null,null,null,null,null,null,null,null,null,null,null,null,null,null,null,null,null,null,null,null,null,null,null,null,null,null,0,0,{"$f":"IF(E2668=\"plate waste\",IF(OR(C2668=\"patient\",C2668=\"patient beverages\"),IF('Customer Info'!$M$27=0,AY2668*'Customer Info'!$M$18,AY2668*'Customer Info'!$M$27),IF(C2668=\"cafeteria\",IF('Customer Info'!$M$28=0,AY2668*'Customer Info'!$M$18,AY2668*'Customer Info'!$M$28),IF(C2668=\"other1\",IF('Customer Info'!$M$29=0,AY2668*'Customer Info'!$M$18,AY2668*'Customer Info'!$M$29),))),)","v":0},0,null,null,null,null,null,null,null,null,null,null,null,null,null,null,null,null,null,null,null,null,null,null,null,null,null,null,null,null,null,null,null,null,null,null,null,null,null,null,null,null,null,null,null,null,null,null,null,null,null,null,null,0]
[0,0,0,0,0,{"$f":"IF(AY2685=0,,\"assumed plate waste-dinner\")","v":0},0,0,0,null,{"$f":"0","v":0},{"$f":"BB2685","v":0},null,null,null,null,null,null,null,null,null,null,null,null,null,null,null,null,null,null,null,null,null,null,null,null,null,null,null,null,null,null,null,null,null,null,null,null,null,null,0,0,{"$f":"IF(E2685=\"plate waste\",IF(OR(C2685=\"patient\",C2685=\"patient beverages\"),IF('Customer Info'!$M$27=0,AY2685*'Customer Info'!$M$18,AY2685*'Customer Info'!$M$27),IF(C2685=\"cafeteria\",IF('Customer Info'!$M$28=0,AY2685*'Customer Info'!$M$18,AY2685*'Customer Info'!$M$28),IF(C2685=\"other1\",IF('Customer Info'!$M$29=0,AY2685*'Customer Info'!$M$18,AY2685*'Customer Info'!$M$29),))),)","v":0},0,null,null,null,null,null,null,null,null,null,null,null,null,null,null,null,null,null,null,null,null,null,null,null,null,null,null,null,null,null,null,null,null,null,null,null,null,null,null,null,null,null,null,null,null,null,null,null,null,null,null,null,0]
[0,0,0,0,0,0,0,0,0,null,{"$f":"0","v":0},0,null,null,null,null,null,null,null,null,null,null,null,null,null,null,null,null,null,null,null,null,null,null,null,null,null,null,null,null,null,null,null,null,null,null,null,null,null,null,0,0,{"$f":"IF(E2697=\"plate waste\",IF(OR(C2697=\"patient\",C2697=\"patient beverages\"),IF('Customer Info'!$M$27=0,AY2697*'Customer Info'!$M$18,AY2697*'Customer Info'!$M$27),IF(C2697=\"cafeteria\",IF('Customer Info'!$M$28=0,AY2697*'Customer Info'!$M$18,AY2697*'Customer Info'!$M$28),IF(C2697=\"other1\",IF('Customer Info'!$M$29=0,AY2697*'Customer Info'!$M$18,AY2697*'Customer Info'!$M$29),))),)","v":0},0,null,null,null,null,null,null,null,null,null,null,null,null,null,null,null,null,null,null,null,null,null,null,null,null,null,null,null,null,null,null,null,null,null,null,null,null,null,null,null,null,null,null,null,null,null,null,null,null,null,null,null,0]
[0,0,0,0,0,0,0,0,0,null,{"$f":"0","v":0},0,null,null,null,null,null,null,null,null,null,null,null,null,null,null,null,null,null,null,null,null,null,null,null,null,null,null,null,null,null,null,null,null,null,null,null,null,null,null,0,0,{"$f":"IF(E2718=\"plate waste\",IF(OR(C2718=\"patient\",C2718=\"patient beverages\"),IF('Customer Info'!$M$27=0,AY2718*'Customer Info'!$M$18,AY2718*'Customer Info'!$M$27),IF(C2718=\"cafeteria\",IF('Customer Info'!$M$28=0,AY2718*'Customer Info'!$M$18,AY2718*'Customer Info'!$M$28),IF(C2718=\"other1\",IF('Customer Info'!$M$29=0,AY2718*'Customer Info'!$M$18,AY2718*'Customer Info'!$M$29),))),)","v":0},0,null,null,null,null,null,null,null,null,null,null,null,null,null,null,null,null,null,null,null,null,null,null,null,null,null,null,null,null,null,null,null,null,null,null,null,null,null,null,null,null,null,null,null,null,null,null,null,null,null,null,null,0]
[0,0,0,0,0,0,0,0,0,null,{"$f":"0","v":0},0,null,null,null,null,null,null,null,null,null,null,null,null,null,null,null,null,null,null,null,null,null,null,null,null,null,null,null,null,null,null,null,null,null,null,null,null,null,null,0,0,{"$f":"IF(E2735=\"plate waste\",IF(OR(C2735=\"patient\",C2735=\"patient beverages\"),IF('Customer Info'!$M$27=0,AY2735*'Customer Info'!$M$18,AY2735*'Customer Info'!$M$27),IF(C2735=\"cafeteria\",IF('Customer Info'!$M$28=0,AY2735*'Customer Info'!$M$18,AY2735*'Customer Info'!$M$28),IF(C2735=\"other1\",IF('Customer Info'!$M$29=0,AY2735*'Customer Info'!$M$18,AY2735*'Customer Info'!$M$29),))),)","v":0},{"$f":"BA2735","v":0},null,null,null,null,null,null,null,null,null,null,null,null,null,null,null,null,null,null,null,null,null,null,null,null,null,null,null,null,null,null,null,null,null,null,null,null,null,null,null,null,null,null,null,null,null,null,null,null,null,null,null,{"$f":"IF(C2735=\"patient beverages\",L2735,)","v":0}]
[0,0,0,0,0,0,0,0,0,null,{"$f":"0","v":0},0,null,null,null,null,null,null,null,null,null,null,null,null,null,null,null,null,null,null,null,null,null,null,null,null,null,null,null,null,null,null,null,null,null,null,null,null,null,null,0,0,{"$f":"IF(E2745=\"plate waste\",IF(OR(C2745=\"patient\",C2745=\"patient beverages\"),IF('Customer Info'!$M$27=0,AY2745*'Customer Info'!$M$18,AY2745*'Customer Info'!$M$27),IF(C2745=\"cafeteria\",IF('Customer Info'!$M$28=0,AY2745*'Customer Info'!$M$18,AY2745*'Customer Info'!$M$28),IF(C2745=\"other1\",IF('Customer Info'!$M$29=0,AY2745*'Customer Info'!$M$18,AY2745*'Customer Info'!$M$29),))),)","v":0},0,null,null,null,null,null,null,null,null,null,null,null,null,null,null,null,null,null,null,null,null,null,null,null,null,null,null,null,null,null,null,null,null,null,null,null,null,null,null,null,null,null,null,null,null,null,null,null,null,null,null,null,0]
[0,0,0,0,0,0,0,0,0,null,{"$f":"0","v":0},0,null,null,null,null,null,null,null,null,null,null,null,null,null,null,null,null,null,null,null,null,null,null,null,null,null,null,null,null,null,null,null,null,null,null,null,null,null,null,0,0,{"$f":"IF(E2768=\"plate waste\",IF(OR(C2768=\"patient\",C2768=\"patient beverages\"),IF('Customer Info'!$M$27=0,AY2768*'Customer Info'!$M$18,AY2768*'Customer Info'!$M$27),IF(C2768=\"cafeteria\",IF('Customer Info'!$M$28=0,AY2768*'Customer Info'!$M$18,AY2768*'Customer Info'!$M$28),IF(C2768=\"other1\",IF('Customer Info'!$M$29=0,AY2768*'Customer Info'!$M$18,AY2768*'Customer Info'!$M$29),))),)","v":0},0,null,null,null,null,null,null,null,null,null,null,null,null,null,null,null,null,null,null,null,null,null,null,null,null,null,null,null,null,null,null,null,null,null,null,null,null,null,null,null,null,null,null,null,null,null,null,null,null,null,null,null,0]
[0,0,0,0,0,0,0,0,0,null,{"$f":"0","v":0},0,null,null,null,null,null,null,null,null,null,null,null,null,null,null,null,null,null,null,null,null,null,null,null,null,null,null,null,null,null,null,null,null,null,null,null,null,null,null,0,0,{"$f":"IF(E2785=\"plate waste\",IF(OR(C2785=\"patient\",C2785=\"patient beverages\"),IF('Customer Info'!$M$27=0,AY2785*'Customer Info'!$M$18,AY2785*'Customer Info'!$M$27),IF(C2785=\"cafeteria\",IF('Customer Info'!$M$28=0,AY2785*'Customer Info'!$M$18,AY2785*'Customer Info'!$M$28),IF(C2785=\"other1\",IF('Customer Info'!$M$29=0,AY2785*'Customer Info'!$M$18,AY2785*'Customer Info'!$M$29),))),)","v":0},0,null,null,null,null,null,null,null,null,null,null,null,null,null,null,null,null,null,null,null,null,null,null,null,null,null,null,null,null,null,null,null,null,null,null,null,null,null,null,null,null,null,null,null,null,null,null,null,null,null,null,null,0]
[{"$f":"IF(AY2793=0,,\"other\")","v":0},{"$f":"IF(AY2793=0,,B87)","v":0},{"$f":"IF(AY2793=0,,C87)","v":0},{"$f":"IF(AY2793=0,,D87)","v":0},{"$f":"IF(AY2793=0,,E87)","v":0},0,{"$f":"IF(AY2793=0,,G87)","v":0},{"$f":"IF(AY2793=0,,H87)","v":0},{"$f":"IF(AY2793=0,,I87*(BB2793/K87))","v":0},null,{"$f":"0","v":0},0,null,null,null,null,null,null,null,null,null,null,null,null,null,null,null,null,null,null,null,null,null,null,null,null,null,null,null,null,null,null,null,null,null,null,null,null,null,null,{"$f":"CH87","v":0},{"$f":"IF(B2793=0,AY2793,AY2793*24/B2793)","v":0},{"$f":"IF(E2793=\"plate waste\",IF(OR(C2793=\"patient\",C2793=\"patient beverages\"),IF('Customer Info'!$M$27=0,AY2793*'Customer Info'!$M$18,AY2793*'Customer Info'!$M$27),IF(C2793=\"cafeteria\",IF('Customer Info'!$M$28=0,AY2793*'Customer Info'!$M$18,AY2793*'Customer Info'!$M$28),IF(C2793=\"other1\",IF('Customer Info'!$M$29=0,AY2793*'Customer Info'!$M$18,AY2793*'Customer Info'!$M$29),))),)","v":0},0,null,null,null,null,null,null,null,null,null,null,null,null,null,null,null,null,null,null,null,null,null,null,null,null,null,null,null,null,null,null,null,null,null,null,null,null,null,null,null,null,null,null,null,null,null,null,null,null,null,null,null,0]
[0,0,0,0,0,0,0,0,0,null,{"$f":"0","v":0},0,null,null,null,null,null,null,null,null,null,null,null,null,null,null,null,null,null,null,null,null,null,null,null,null,null,null,null,null,null,null,null,null,null,null,null,null,null,null,0,0,{"$f":"IF(E2818=\"plate waste\",IF(OR(C2818=\"patient\",C2818=\"patient beverages\"),IF('Customer Info'!$M$27=0,AY2818*'Customer Info'!$M$18,AY2818*'Customer Info'!$M$27),IF(C2818=\"cafeteria\",IF('Customer Info'!$M$28=0,AY2818*'Customer Info'!$M$18,AY2818*'Customer Info'!$M$28),IF(C2818=\"other1\",IF('Customer Info'!$M$29=0,AY2818*'Customer Info'!$M$18,AY2818*'Customer Info'!$M$29),))),)","v":0},0,null,null,null,null,null,null,null,null,null,null,null,null,null,null,null,null,null,null,null,null,null,null,null,null,null,null,null,null,null,null,null,null,null,null,null,null,null,null,null,null,null,null,null,null,null,null,null,null,null,null,null,0]
[0,0,0,0,0,0,0,0,0,null,{"$f":"0","v":0},0,null,null,null,null,null,null,null,null,null,null,null,null,null,null,null,null,null,null,null,null,null,null,null,null,null,null,null,null,null,null,null,null,null,null,null,null,null,null,0,0,{"$f":"IF(E2835=\"plate waste\",IF(OR(C2835=\"patient\",C2835=\"patient beverages\"),IF('Customer Info'!$M$27=0,AY2835*'Customer Info'!$M$18,AY2835*'Customer Info'!$M$27),IF(C2835=\"cafeteria\",IF('Customer Info'!$M$28=0,AY2835*'Customer Info'!$M$18,AY2835*'Customer Info'!$M$28),IF(C2835=\"other1\",IF('Customer Info'!$M$29=0,AY2835*'Customer Info'!$M$18,AY2835*'Customer Info'!$M$29),))),)","v":0},0,null,null,null,null,null,null,null,null,null,null,null,null,null,null,null,null,null,null,null,null,null,null,null,null,null,null,null,null,null,null,null,null,null,null,null,null,null,null,null,null,null,null,null,null,null,null,null,null,null,null,null,0]
[0,0,0,0,0,0,0,0,0,null,{"$f":"0","v":0},0,null,null,null,null,null,null,null,null,null,null,null,null,null,null,null,null,null,null,null,null,null,null,null,null,null,null,null,null,null,null,null,null,null,null,null,null,null,null,0,0,{"$f":"IF(E2842=\"plate waste\",IF(OR(C2842=\"patient\",C2842=\"patient beverages\"),IF('Customer Info'!$M$27=0,AY2842*'Customer Info'!$M$18,AY2842*'Customer Info'!$M$27),IF(C2842=\"cafeteria\",IF('Customer Info'!$M$28=0,AY2842*'Customer Info'!$M$18,AY2842*'Customer Info'!$M$28),IF(C2842=\"other1\",IF('Customer Info'!$M$29=0,AY2842*'Customer Info'!$M$18,AY2842*'Customer Info'!$M$29),))),)","v":0},0,null,null,null,null,null,null,null,null,null,null,null,null,null,null,null,null,null,null,null,null,null,null,null,null,null,null,null,null,null,null,null,null,null,null,null,null,null,null,null,null,null,null,null,null,null,null,null,null,null,null,null,0]
[0,0,0,0,0,0,0,0,0,null,{"$f":"0","v":0},0,null,null,null,null,null,null,null,null,null,null,null,null,null,null,null,null,null,null,null,null,null,null,null,null,null,null,null,null,null,null,null,null,null,null,null,null,null,null,0,0,{"$f":"IF(E2868=\"plate waste\",IF(OR(C2868=\"patient\",C2868=\"patient beverages\"),IF('Customer Info'!$M$27=0,AY2868*'Customer Info'!$M$18,AY2868*'Customer Info'!$M$27),IF(C2868=\"cafeteria\",IF('Customer Info'!$M$28=0,AY2868*'Customer Info'!$M$18,AY2868*'Customer Info'!$M$28),IF(C2868=\"other1\",IF('Customer Info'!$M$29=0,AY2868*'Customer Info'!$M$18,AY2868*'Customer Info'!$M$29),))),)","v":0},0,null,null,null,null,null,null,null,null,null,null,null,null,null,null,null,null,null,null,null,null,null,null,null,null,null,null,null,null,null,null,null,null,null,null,null,null,null,null,null,null,null,null,null,null,null,null,null,null,null,null,null,0]
[0,0,0,0,0,0,0,0,0,null,{"$f":"0","v":0},0,null,null,null,null,null,null,null,null,null,null,null,null,null,null,null,null,null,null,null,null,null,null,null,null,null,null,null,null,null,null,null,null,null,null,null,null,null,null,0,0,{"$f":"IF(E2869=\"plate waste\",IF(OR(C2869=\"patient\",C2869=\"patient beverages\"),IF('Customer Info'!$M$27=0,AY2869*'Customer Info'!$M$18,AY2869*'Customer Info'!$M$27),IF(C2869=\"cafeteria\",IF('Customer Info'!$M$28=0,AY2869*'Customer Info'!$M$18,AY2869*'Customer Info'!$M$28),IF(C2869=\"other1\",IF('Customer Info'!$M$29=0,AY2869*'Customer Info'!$M$18,AY2869*'Customer Info'!$M$29),))),)","v":0},0,null,null,null,null,null,null,null,null,null,null,null,null,null,null,null,null,null,null,null,null,null,null,null,null,null,null,null,null,null,null,null,null,null,null,null,null,null,null,null,null,null,null,null,null,null,null,null,null,null,null,null,0]
[0,0,0,0,0,0,0,0,0,null,{"$f":"0","v":0},0,null,null,null,null,null,null,null,null,null,null,null,null,null,null,null,null,null,null,null,null,null,null,null,null,null,null,null,null,null,null,null,null,null,null,null,null,null,null,0,0,{"$f":"IF(E2890=\"plate waste\",IF(OR(C2890=\"patient\",C2890=\"patient beverages\"),IF('Customer Info'!$M$27=0,AY2890*'Customer Info'!$M$18,AY2890*'Customer Info'!$M$27),IF(C2890=\"cafeteria\",IF('Customer Info'!$M$28=0,AY2890*'Customer Info'!$M$18,AY2890*'Customer Info'!$M$28),IF(C2890=\"other1\",IF('Customer Info'!$M$29=0,AY2890*'Customer Info'!$M$18,AY2890*'Customer Info'!$M$29),))),)","v":0},0,null,null,null,null,null,null,null,null,null,null,null,null,null,null,null,null,null,null,null,null,null,null,null,null,null,null,null,null,null,null,null,null,null,null,null,null,null,null,null,null,null,null,null,null,null,null,null,null,null,null,null,0]
[0,0,0,0,0,0,0,0,0,null,{"$f":"0","v":0},0,null,null,null,null,null,null,null,null,null,null,null,null,null,null,null,null,null,null,null,null,null,null,null,null,null,null,null,null,null,null,null,null,null,null,null,null,null,null,0,0,{"$f":"IF(E2902=\"plate waste\",IF(OR(C2902=\"patient\",C2902=\"patient beverages\"),IF('Customer Info'!$M$27=0,AY2902*'Customer Info'!$M$18,AY2902*'Customer Info'!$M$27),IF(C2902=\"cafeteria\",IF('Customer Info'!$M$28=0,AY2902*'Customer Info'!$M$18,AY2902*'Customer Info'!$M$28),IF(C2902=\"other1\",IF('Customer Info'!$M$29=0,AY2902*'Customer Info'!$M$18,AY2902*'Customer Info'!$M$29),))),)","v":0},0,null,null,null,null,null,null,null,null,null,null,null,null,null,null,null,null,null,null,null,null,null,null,null,null,null,null,null,null,null,null,null,null,null,null,null,null,null,null,null,null,null,null,null,null,null,null,null,null,null,null,null,0]
[0,0,0,0,0,0,0,0,0,null,{"$f":"0","v":0},0,null,null,null,null,null,null,null,null,null,null,null,null,null,null,null,null,null,null,null,null,null,null,null,null,null,null,null,null,null,null,null,null,null,null,null,null,null,null,0,0,{"$f":"IF(E2919=\"plate waste\",IF(OR(C2919=\"patient\",C2919=\"patient beverages\"),IF('Customer Info'!$M$27=0,AY2919*'Customer Info'!$M$18,AY2919*'Customer Info'!$M$27),IF(C2919=\"cafeteria\",IF('Customer Info'!$M$28=0,AY2919*'Customer Info'!$M$18,AY2919*'Customer Info'!$M$28),IF(C2919=\"other1\",IF('Customer Info'!$M$29=0,AY2919*'Customer Info'!$M$18,AY2919*'Customer Info'!$M$29),))),)","v":0},0,null,null,null,null,null,null,null,null,null,null,null,null,null,null,null,null,null,null,null,null,null,null,null,null,null,null,null,null,null,null,null,null,null,null,null,null,null,null,null,null,null,null,null,null,null,null,null,null,null,null,null,0]
[0,0,0,0,0,0,0,0,0,null,{"$f":"0","v":0},0,null,null,null,null,null,null,null,null,null,null,null,null,null,null,null,null,null,null,null,null,null,null,null,null,null,null,null,null,null,null,null,null,null,null,null,null,null,null,0,0,{"$f":"IF(E2938=\"plate waste\",IF(OR(C2938=\"patient\",C2938=\"patient beverages\"),IF('Customer Info'!$M$27=0,AY2938*'Customer Info'!$M$18,AY2938*'Customer Info'!$M$27),IF(C2938=\"cafeteria\",IF('Customer Info'!$M$28=0,AY2938*'Customer Info'!$M$18,AY2938*'Customer Info'!$M$28),IF(C2938=\"other1\",IF('Customer Info'!$M$29=0,AY2938*'Customer Info'!$M$18,AY2938*'Customer Info'!$M$29),))),)","v":0},0,null,null,null,null,null,null,null,null,null,null,null,null,null,null,null,null,null,null,null,null,null,null,null,null,null,null,null,null,null,null,null,null,null,null,null,null,null,null,null,null,null,null,null,null,null,null,null,null,null,null,null,0]
[0,0,0,0,0,0,0,0,0,null,{"$f":"0","v":0},0,null,null,null,null,null,null,null,null,null,null,null,null,null,null,null,null,null,null,null,null,null,null,null,null,null,null,null,null,null,null,null,null,null,null,null,null,null,null,0,0,{"$f":"IF(E2952=\"plate waste\",IF(OR(C2952=\"patient\",C2952=\"patient beverages\"),IF('Customer Info'!$M$27=0,AY2952*'Customer Info'!$M$18,AY2952*'Customer Info'!$M$27),IF(C2952=\"cafeteria\",IF('Customer Info'!$M$28=0,AY2952*'Customer Info'!$M$18,AY2952*'Customer Info'!$M$28),IF(C2952=\"other1\",IF('Customer Info'!$M$29=0,AY2952*'Customer Info'!$M$18,AY2952*'Customer Info'!$M$29),))),)","v":0},0,null,null,null,null,null,null,null,null,null,null,null,null,null,null,null,null,null,null,null,null,null,null,null,null,null,null,null,null,null,null,null,null,null,null,null,null,null,null,null,null,null,null,null,null,null,null,null,null,null,null,null,0]
[0,0,0,0,0,0,0,0,0,null,{"$f":"0","v":0},0,null,null,null,null,null,null,null,null,null,null,null,null,null,null,null,null,null,null,null,null,null,null,null,null,null,null,null,null,null,null,null,null,null,null,null,null,null,null,0,0,{"$f":"IF(E2969=\"plate waste\",IF(OR(C2969=\"patient\",C2969=\"patient beverages\"),IF('Customer Info'!$M$27=0,AY2969*'Customer Info'!$M$18,AY2969*'Customer Info'!$M$27),IF(C2969=\"cafeteria\",IF('Customer Info'!$M$28=0,AY2969*'Customer Info'!$M$18,AY2969*'Customer Info'!$M$28),IF(C2969=\"other1\",IF('Customer Info'!$M$29=0,AY2969*'Customer Info'!$M$18,AY2969*'Customer Info'!$M$29),))),)","v":0},0,null,null,null,null,null,null,null,null,null,null,null,null,null,null,null,null,null,null,null,null,null,null,null,null,null,null,null,null,null,null,null,null,null,null,null,null,null,null,null,null,null,null,null,null,null,null,null,null,null,null,null,0]
[0,0,0,0,0,{"$f":"IF(AY2986=0,,\"assumed plate waste-other meal\")","v":0},0,0,0,null,{"$f":"0","v":0},0,null,null,null,null,null,null,null,null,null,null,null,null,null,null,null,null,null,null,null,null,null,null,null,null,null,null,null,null,null,null,null,null,null,null,null,null,null,null,0,0,{"$f":"IF(E2986=\"plate waste\",IF(OR(C2986=\"patient\",C2986=\"patient beverages\"),IF('Customer Info'!$M$27=0,AY2986*'Customer Info'!$M$18,AY2986*'Customer Info'!$M$27),IF(C2986=\"cafeteria\",IF('Customer Info'!$M$28=0,AY2986*'Customer Info'!$M$18,AY2986*'Customer Info'!$M$28),IF(C2986=\"other1\",IF('Customer Info'!$M$29=0,AY2986*'Customer Info'!$M$18,AY2986*'Customer Info'!$M$29),))),)","v":0},0,null,null,null,null,null,null,null,null,null,null,null,null,null,null,null,null,null,null,null,null,null,null,null,null,null,null,null,null,null,null,null,null,null,null,null,null,null,null,null,null,null,null,null,null,null,null,null,null,null,null,null,0]
[0,0,0,0,0,0,0,0,0,null,{"$f":"0","v":0},0,null,null,null,null,null,null,null,null,null,null,null,null,null,null,null,null,null,null,null,null,null,null,null,null,null,null,null,null,null,null,null,null,null,null,null,null,null,null,0,0,{"$f":"IF(E3002=\"plate waste\",IF(OR(C3002=\"patient\",C3002=\"patient beverages\"),IF('Customer Info'!$M$27=0,AY3002*'Customer Info'!$M$18,AY3002*'Customer Info'!$M$27),IF(C3002=\"cafeteria\",IF('Customer Info'!$M$28=0,AY3002*'Customer Info'!$M$18,AY3002*'Customer Info'!$M$28),IF(C3002=\"other1\",IF('Customer Info'!$M$29=0,AY3002*'Customer Info'!$M$18,AY3002*'Customer Info'!$M$29),))),)","v":0},0,null,null,null,null,null,null,null,null,null,null,null,null,null,null,null,null,null,null,null,null,null,null,null,null,null,null,null,null,null,null,null,null,null,null,null,null,null,null,null,null,null,null,null,null,null,null,null,null,null,null,null,0]
[0,0,0,0,0,0,0,0,0,null,{"$f":"0","v":0},0,null,null,null,null,null,null,null,null,null,null,null,null,null,null,null,null,null,null,null,null,null,null,null,null,null,null,null,null,null,null,null,null,null,null,null,null,null,null,0,0,{"$f":"IF(E3019=\"plate waste\",IF(OR(C3019=\"patient\",C3019=\"patient beverages\"),IF('Customer Info'!$M$27=0,AY3019*'Customer Info'!$M$18,AY3019*'Customer Info'!$M$27),IF(C3019=\"cafeteria\",IF('Customer Info'!$M$28=0,AY3019*'Customer Info'!$M$18,AY3019*'Customer Info'!$M$28),IF(C3019=\"other1\",IF('Customer Info'!$M$29=0,AY3019*'Customer Info'!$M$18,AY3019*'Customer Info'!$M$29),))),)","v":0},0,null,null,null,null,null,null,null,null,null,null,null,null,null,null,null,null,null,null,null,null,null,null,null,null,null,null,null,null,null,null,null,null,null,null,null,null,null,null,null,null,null,null,null,null,null,null,null,null,null,null,null,0]
[0,0,0,0,0,0,0,0,0,null,{"$f":"0","v":0},0,null,null,null,null,null,null,null,null,null,null,null,null,null,null,null,null,null,null,null,null,null,null,null,null,null,null,null,null,null,null,null,null,null,null,null,null,null,null,0,0,{"$f":"IF(E3036=\"plate waste\",IF(OR(C3036=\"patient\",C3036=\"patient beverages\"),IF('Customer Info'!$M$27=0,AY3036*'Customer Info'!$M$18,AY3036*'Customer Info'!$M$27),IF(C3036=\"cafeteria\",IF('Customer Info'!$M$28=0,AY3036*'Customer Info'!$M$18,AY3036*'Customer Info'!$M$28),IF(C3036=\"other1\",IF('Customer Info'!$M$29=0,AY3036*'Customer Info'!$M$18,AY3036*'Customer Info'!$M$29),))),)","v":0},0,null,null,null,null,null,null,null,null,null,null,null,null,null,null,null,null,null,null,null,null,null,null,null,null,null,null,null,null,null,null,null,null,null,null,null,null,null,null,null,null,null,null,null,null,null,null,null,null,null,null,null,0]
[0,0,0,0,0,0,0,0,0,null,{"$f":"0","v":0},0,null,null,null,null,null,null,null,null,null,null,null,null,null,null,null,null,null,null,null,null,null,null,null,null,null,null,null,null,null,null,null,null,null,null,null,null,null,null,0,0,{"$f":"IF(E3050=\"plate waste\",IF(OR(C3050=\"patient\",C3050=\"patient beverages\"),IF('Customer Info'!$M$27=0,AY3050*'Customer Info'!$M$18,AY3050*'Customer Info'!$M$27),IF(C3050=\"cafeteria\",IF('Customer Info'!$M$28=0,AY3050*'Customer Info'!$M$18,AY3050*'Customer Info'!$M$28),IF(C3050=\"other1\",IF('Customer Info'!$M$29=0,AY3050*'Customer Info'!$M$18,AY3050*'Customer Info'!$M$29),))),)","v":0},0,null,null,null,null,null,null,null,null,null,null,null,null,null,null,null,null,null,null,null,null,null,null,null,null,null,null,null,null,null,null,null,null,null,null,null,null,null,null,null,null,null,null,null,null,null,null,null,null,null,null,null,0]
[0,0,0,0,0,0,0,0,0,null,{"$f":"0","v":0},{"$f":"BB3069","v":0},null,null,null,null,null,null,null,null,null,null,null,null,null,null,null,null,null,null,null,null,null,null,null,null,null,null,null,null,null,null,null,null,null,null,null,null,null,null,0,0,{"$f":"IF(E3069=\"plate waste\",IF(OR(C3069=\"patient\",C3069=\"patient beverages\"),IF('Customer Info'!$M$27=0,AY3069*'Customer Info'!$M$18,AY3069*'Customer Info'!$M$27),IF(C3069=\"cafeteria\",IF('Customer Info'!$M$28=0,AY3069*'Customer Info'!$M$18,AY3069*'Customer Info'!$M$28),IF(C3069=\"other1\",IF('Customer Info'!$M$29=0,AY3069*'Customer Info'!$M$18,AY3069*'Customer Info'!$M$29),))),)","v":0},0,null,null,null,null,null,null,null,null,null,null,null,null,null,null,null,null,null,null,null,null,null,null,null,null,null,null,null,null,null,null,null,null,null,null,null,null,null,null,null,null,null,null,null,null,null,null,null,null,null,null,null,0]
[0,0,0,0,0,0,0,0,0,null,{"$f":"0","v":0},0,null,null,null,null,null,null,null,null,null,null,null,null,null,null,null,null,null,null,null,null,null,null,null,null,null,null,null,null,null,null,null,null,null,null,null,null,null,null,0,0,{"$f":"IF(E3086=\"plate waste\",IF(OR(C3086=\"patient\",C3086=\"patient beverages\"),IF('Customer Info'!$M$27=0,AY3086*'Customer Info'!$M$18,AY3086*'Customer Info'!$M$27),IF(C3086=\"cafeteria\",IF('Customer Info'!$M$28=0,AY3086*'Customer Info'!$M$18,AY3086*'Customer Info'!$M$28),IF(C3086=\"other1\",IF('Customer Info'!$M$29=0,AY3086*'Customer Info'!$M$18,AY3086*'Customer Info'!$M$29),))),)","v":0},0,null,null,null,null,null,null,null,null,null,null,null,null,null,null,null,null,null,null,null,null,null,null,null,null,null,null,null,null,null,null,null,null,null,null,null,null,null,null,null,null,null,null,null,null,null,null,null,null,null,null,null,0]
[0,0,0,0,0,0,0,0,0,null,{"$f":"0","v":0},0,null,null,null,null,null,null,null,null,null,null,null,null,null,null,null,null,null,null,null,null,null,null,null,null,null,null,null,null,null,null,null,null,null,null,null,null,null,null,0,0,{"$f":"IF(E3099=\"plate waste\",IF(OR(C3099=\"patient\",C3099=\"patient beverages\"),IF('Customer Info'!$M$27=0,AY3099*'Customer Info'!$M$18,AY3099*'Customer Info'!$M$27),IF(C3099=\"cafeteria\",IF('Customer Info'!$M$28=0,AY3099*'Customer Info'!$M$18,AY3099*'Customer Info'!$M$28),IF(C3099=\"other1\",IF('Customer Info'!$M$29=0,AY3099*'Customer Info'!$M$18,AY3099*'Customer Info'!$M$29),))),)","v":0},0,null,null,null,null,null,null,null,null,null,null,null,null,null,null,null,null,null,null,null,null,null,null,null,null,null,null,null,null,null,null,null,null,null,null,null,null,null,null,null,null,null,null,null,null,null,null,null,null,null,null,null,0]
[0,0,0,0,0,0,0,0,0,null,{"$f":"0","v":0},0,null,null,null,null,null,null,null,null,null,null,null,null,null,null,null,null,null,null,null,null,null,null,null,null,null,null,null,null,null,null,null,null,null,null,null,null,null,null,0,0,{"$f":"IF(E3119=\"plate waste\",IF(OR(C3119=\"patient\",C3119=\"patient beverages\"),IF('Customer Info'!$M$27=0,AY3119*'Customer Info'!$M$18,AY3119*'Customer Info'!$M$27),IF(C3119=\"cafeteria\",IF('Customer Info'!$M$28=0,AY3119*'Customer Info'!$M$18,AY3119*'Customer Info'!$M$28),IF(C3119=\"other1\",IF('Customer Info'!$M$29=0,AY3119*'Customer Info'!$M$18,AY3119*'Customer Info'!$M$29),))),)","v":0},{"$f":"BA3119","v":0},null,null,null,null,null,null,null,null,null,null,null,null,null,null,null,null,null,null,null,null,null,null,null,null,null,null,null,null,null,null,null,null,null,null,null,null,null,null,null,null,null,null,null,null,null,null,null,null,null,null,null,{"$f":"IF(C3119=\"patient beverages\",L3119,)","v":0}]
[0,0,0,0,0,0,0,0,0,null,{"$f":"0","v":0},0,null,null,null,null,null,null,null,null,null,null,null,null,null,null,null,null,null,null,null,null,null,null,null,null,null,null,null,null,null,null,null,null,null,null,null,null,null,null,0,0,{"$f":"IF(E3120=\"plate waste\",IF(OR(C3120=\"patient\",C3120=\"patient beverages\"),IF('Customer Info'!$M$27=0,AY3120*'Customer Info'!$M$18,AY3120*'Customer Info'!$M$27),IF(C3120=\"cafeteria\",IF('Customer Info'!$M$28=0,AY3120*'Customer Info'!$M$18,AY3120*'Customer Info'!$M$28),IF(C3120=\"other1\",IF('Customer Info'!$M$29=0,AY3120*'Customer Info'!$M$18,AY3120*'Customer Info'!$M$29),))),)","v":0},0,null,null,null,null,null,null,null,null,null,null,null,null,null,null,null,null,null,null,null,null,null,null,null,null,null,null,null,null,null,null,null,null,null,null,null,null,null,null,null,null,null,null,null,null,null,null,null,null,null,null,null,0]
[0,0,0,0,0,0,0,0,0,null,{"$f":"0","v":0},0,null,null,null,null,null,null,null,null,null,null,null,null,null,null,null,null,null,null,null,null,null,null,null,null,null,null,null,null,null,null,null,null,null,null,null,null,null,null,0,0,{"$f":"IF(E3147=\"plate waste\",IF(OR(C3147=\"patient\",C3147=\"patient beverages\"),IF('Customer Info'!$M$27=0,AY3147*'Customer Info'!$M$18,AY3147*'Customer Info'!$M$27),IF(C3147=\"cafeteria\",IF('Customer Info'!$M$28=0,AY3147*'Customer Info'!$M$18,AY3147*'Customer Info'!$M$28),IF(C3147=\"other1\",IF('Customer Info'!$M$29=0,AY3147*'Customer Info'!$M$18,AY3147*'Customer Info'!$M$29),))),)","v":0},0,null,null,null,null,null,null,null,null,null,null,null,null,null,null,null,null,null,null,null,null,null,null,null,null,null,null,null,null,null,null,null,null,null,null,null,null,null,null,null,null,null,null,null,null,null,null,null,null,null,null,null,0]
[0,0,0,0,0,0,0,0,0,null,{"$f":"0","v":0},0,null,null,null,null,null,null,null,null,null,null,null,null,null,null,null,null,null,null,null,null,null,null,null,null,null,null,null,null,null,null,null,null,null,null,null,null,null,null,0,0,{"$f":"IF(E3153=\"plate waste\",IF(OR(C3153=\"patient\",C3153=\"patient beverages\"),IF('Customer Info'!$M$27=0,AY3153*'Customer Info'!$M$18,AY3153*'Customer Info'!$M$27),IF(C3153=\"cafeteria\",IF('Customer Info'!$M$28=0,AY3153*'Customer Info'!$M$18,AY3153*'Customer Info'!$M$28),IF(C3153=\"other1\",IF('Customer Info'!$M$29=0,AY3153*'Customer Info'!$M$18,AY3153*'Customer Info'!$M$29),))),)","v":0},0,null,null,null,null,null,null,null,null,null,null,null,null,null,null,null,null,null,null,null,null,null,null,null,null,null,null,null,null,null,null,null,null,null,null,null,null,null,null,null,null,null,null,null,null,null,null,null,null,null,null,null,0]
[0,0,0,0,0,0,0,0,0,null,{"$f":"0","v":0},0,null,null,null,null,null,null,null,null,null,null,null,null,null,null,null,null,null,null,null,null,null,null,null,null,null,null,null,null,null,null,null,null,null,null,null,null,null,null,0,0,{"$f":"IF(E3170=\"plate waste\",IF(OR(C3170=\"patient\",C3170=\"patient beverages\"),IF('Customer Info'!$M$27=0,AY3170*'Customer Info'!$M$18,AY3170*'Customer Info'!$M$27),IF(C3170=\"cafeteria\",IF('Customer Info'!$M$28=0,AY3170*'Customer Info'!$M$18,AY3170*'Customer Info'!$M$28),IF(C3170=\"other1\",IF('Customer Info'!$M$29=0,AY3170*'Customer Info'!$M$18,AY3170*'Customer Info'!$M$29),))),)","v":0},0,null,null,null,null,null,null,null,null,null,null,null,null,null,null,null,null,null,null,null,null,null,null,null,null,null,null,null,null,null,null,null,null,null,null,null,null,null,null,null,null,null,null,null,null,null,null,null,null,null,null,null,0]
[0,0,0,0,0,0,0,0,0,null,{"$f":"0","v":0},0,null,null,null,null,null,null,null,null,null,null,null,null,null,null,null,null,null,null,null,null,null,null,null,null,null,null,null,null,null,null,null,null,null,null,null,null,null,null,0,0,{"$f":"IF(E3195=\"plate waste\",IF(OR(C3195=\"patient\",C3195=\"patient beverages\"),IF('Customer Info'!$M$27=0,AY3195*'Customer Info'!$M$18,AY3195*'Customer Info'!$M$27),IF(C3195=\"cafeteria\",IF('Customer Info'!$M$28=0,AY3195*'Customer Info'!$M$18,AY3195*'Customer Info'!$M$28),IF(C3195=\"other1\",IF('Customer Info'!$M$29=0,AY3195*'Customer Info'!$M$18,AY3195*'Customer Info'!$M$29),))),)","v":0},0,null,null,null,null,null,null,null,null,null,null,null,null,null,null,null,null,null,null,null,null,null,null,null,null,null,null,null,null,null,null,null,null,null,null,null,null,null,null,null,null,null,null,null,null,null,null,null,null,null,null,null,0]
[0,0,0,0,0,0,0,0,0,null,{"$f":"0","v":0},0,null,null,null,null,null,null,null,null,null,null,null,null,null,null,null,null,null,null,null,null,null,null,null,null,null,null,null,null,null,null,null,null,null,null,null,null,null,null,0,0,{"$f":"IF(E3203=\"plate waste\",IF(OR(C3203=\"patient\",C3203=\"patient beverages\"),IF('Customer Info'!$M$27=0,AY3203*'Customer Info'!$M$18,AY3203*'Customer Info'!$M$27),IF(C3203=\"cafeteria\",IF('Customer Info'!$M$28=0,AY3203*'Customer Info'!$M$18,AY3203*'Customer Info'!$M$28),IF(C3203=\"other1\",IF('Customer Info'!$M$29=0,AY3203*'Customer Info'!$M$18,AY3203*'Customer Info'!$M$29),))),)","v":0},0,null,null,null,null,null,null,null,null,null,null,null,null,null,null,null,null,null,null,null,null,null,null,null,null,null,null,null,null,null,null,null,null,null,null,null,null,null,null,null,null,null,null,null,null,null,null,null,null,null,null,null,0]
[0,0,0,0,0,0,0,0,0,null,{"$f":"0","v":0},0,null,null,null,null,null,null,null,null,null,null,null,null,null,null,null,null,null,null,null,null,null,null,null,null,null,null,null,null,null,null,null,null,null,null,null,null,null,null,0,0,{"$f":"IF(E3220=\"plate waste\",IF(OR(C3220=\"patient\",C3220=\"patient beverages\"),IF('Customer Info'!$M$27=0,AY3220*'Customer Info'!$M$18,AY3220*'Customer Info'!$M$27),IF(C3220=\"cafeteria\",IF('Customer Info'!$M$28=0,AY3220*'Customer Info'!$M$18,AY3220*'Customer Info'!$M$28),IF(C3220=\"other1\",IF('Customer Info'!$M$29=0,AY3220*'Customer Info'!$M$18,AY3220*'Customer Info'!$M$29),))),)","v":0},0,null,null,null,null,null,null,null,null,null,null,null,null,null,null,null,null,null,null,null,null,null,null,null,null,null,null,null,null,null,null,null,null,null,null,null,null,null,null,null,null,null,null,null,null,null,null,null,null,null,null,null,0]
[0,0,0,0,0,0,0,0,0,null,{"$f":"0","v":0},0,null,null,null,null,null,null,null,null,null,null,null,null,null,null,null,null,null,null,null,null,null,null,null,null,null,null,null,null,null,null,null,null,null,null,null,null,null,null,0,0,{"$f":"IF(E3243=\"plate waste\",IF(OR(C3243=\"patient\",C3243=\"patient beverages\"),IF('Customer Info'!$M$27=0,AY3243*'Customer Info'!$M$18,AY3243*'Customer Info'!$M$27),IF(C3243=\"cafeteria\",IF('Customer Info'!$M$28=0,AY3243*'Customer Info'!$M$18,AY3243*'Customer Info'!$M$28),IF(C3243=\"other1\",IF('Customer Info'!$M$29=0,AY3243*'Customer Info'!$M$18,AY3243*'Customer Info'!$M$29),))),)","v":0},0,null,null,null,null,null,null,null,null,null,null,null,null,null,null,null,null,null,null,null,null,null,null,null,null,null,null,null,null,null,null,null,null,null,null,null,null,null,null,null,null,null,null,null,null,null,null,null,null,null,null,null,0]
[0,0,0,0,0,0,0,0,0,null,{"$f":"0","v":0},0,null,null,null,null,null,null,null,null,null,null,null,null,null,null,null,null,null,null,null,null,null,null,null,null,null,null,null,null,null,null,null,null,null,null,null,null,null,null,0,0,{"$f":"IF(E3253=\"plate waste\",IF(OR(C3253=\"patient\",C3253=\"patient beverages\"),IF('Customer Info'!$M$27=0,AY3253*'Customer Info'!$M$18,AY3253*'Customer Info'!$M$27),IF(C3253=\"cafeteria\",IF('Customer Info'!$M$28=0,AY3253*'Customer Info'!$M$18,AY3253*'Customer Info'!$M$28),IF(C3253=\"other1\",IF('Customer Info'!$M$29=0,AY3253*'Customer Info'!$M$18,AY3253*'Customer Info'!$M$29),))),)","v":0},0,null,null,null,null,null,null,null,null,null,null,null,null,null,null,null,null,null,null,null,null,null,null,null,null,null,null,null,null,null,null,null,null,null,null,null,null,null,null,null,null,null,null,null,null,null,null,null,null,null,null,null,0]
[0,0,0,0,0,0,0,0,0,null,{"$f":"0","v":0},0,null,null,null,null,null,null,null,null,null,null,null,null,null,null,null,null,null,null,null,null,null,null,null,null,null,null,null,null,null,null,null,null,null,null,null,null,null,null,0,0,{"$f":"IF(E3270=\"plate waste\",IF(OR(C3270=\"patient\",C3270=\"patient beverages\"),IF('Customer Info'!$M$27=0,AY3270*'Customer Info'!$M$18,AY3270*'Customer Info'!$M$27),IF(C3270=\"cafeteria\",IF('Customer Info'!$M$28=0,AY3270*'Customer Info'!$M$18,AY3270*'Customer Info'!$M$28),IF(C3270=\"other1\",IF('Customer Info'!$M$29=0,AY3270*'Customer Info'!$M$18,AY3270*'Customer Info'!$M$29),))),)","v":0},0,null,null,null,null,null,null,null,null,null,null,null,null,null,null,null,null,null,null,null,null,null,null,null,null,null,null,null,null,null,null,null,null,null,null,null,null,null,null,null,null,null,null,null,null,null,null,null,null,null,null,null,0]
[0,0,0,0,0,0,0,0,0,null,{"$f":"0","v":0},0,null,null,null,null,null,null,null,null,null,null,null,null,null,null,null,null,null,null,null,null,null,null,null,null,null,null,null,null,null,null,null,null,null,null,null,null,null,null,0,0,{"$f":"IF(E3291=\"plate waste\",IF(OR(C3291=\"patient\",C3291=\"patient beverages\"),IF('Customer Info'!$M$27=0,AY3291*'Customer Info'!$M$18,AY3291*'Customer Info'!$M$27),IF(C3291=\"cafeteria\",IF('Customer Info'!$M$28=0,AY3291*'Customer Info'!$M$18,AY3291*'Customer Info'!$M$28),IF(C3291=\"other1\",IF('Customer Info'!$M$29=0,AY3291*'Customer Info'!$M$18,AY3291*'Customer Info'!$M$29),))),)","v":0},0,null,null,null,null,null,null,null,null,null,null,null,null,null,null,null,null,null,null,null,null,null,null,null,null,null,null,null,null,null,null,null,null,null,null,null,null,null,null,null,null,null,null,null,null,null,null,null,null,null,null,null,0]
[0,0,0,0,0,0,0,0,0,null,{"$f":"0","v":0},0,null,null,null,null,null,null,null,null,null,null,null,null,null,null,null,null,null,null,null,null,null,null,null,null,null,null,null,null,null,null,null,null,null,null,null,null,null,null,0,0,{"$f":"IF(E3303=\"plate waste\",IF(OR(C3303=\"patient\",C3303=\"patient beverages\"),IF('Customer Info'!$M$27=0,AY3303*'Customer Info'!$M$18,AY3303*'Customer Info'!$M$27),IF(C3303=\"cafeteria\",IF('Customer Info'!$M$28=0,AY3303*'Customer Info'!$M$18,AY3303*'Customer Info'!$M$28),IF(C3303=\"other1\",IF('Customer Info'!$M$29=0,AY3303*'Customer Info'!$M$18,AY3303*'Customer Info'!$M$29),))),)","v":0},0,null,null,null,null,null,null,null,null,null,null,null,null,null,null,null,null,null,null,null,null,null,null,null,null,null,null,null,null,null,null,null,null,null,null,null,null,null,null,null,null,null,null,null,null,null,null,null,null,null,null,null,0]
[0,0,0,0,0,0,0,0,0,null,{"$f":"0","v":0},0,null,null,null,null,null,null,null,null,null,null,null,null,null,null,null,null,null,null,null,null,null,null,null,null,null,null,null,null,null,null,null,null,null,null,null,null,null,null,0,0,{"$f":"IF(E3320=\"plate waste\",IF(OR(C3320=\"patient\",C3320=\"patient beverages\"),IF('Customer Info'!$M$27=0,AY3320*'Customer Info'!$M$18,AY3320*'Customer Info'!$M$27),IF(C3320=\"cafeteria\",IF('Customer Info'!$M$28=0,AY3320*'Customer Info'!$M$18,AY3320*'Customer Info'!$M$28),IF(C3320=\"other1\",IF('Customer Info'!$M$29=0,AY3320*'Customer Info'!$M$18,AY3320*'Customer Info'!$M$29),))),)","v":0},0,null,null,null,null,null,null,null,null,null,null,null,null,null,null,null,null,null,null,null,null,null,null,null,null,null,null,null,null,null,null,null,null,null,null,null,null,null,null,null,null,null,null,null,null,null,null,null,null,null,null,null,0]
[0,0,0,0,0,0,0,0,0,null,{"$f":"0","v":0},0,null,null,null,null,null,null,null,null,null,null,null,null,null,null,null,null,null,null,null,null,null,null,null,null,null,null,null,null,null,null,null,null,null,null,null,null,null,null,0,0,{"$f":"IF(E3324=\"plate waste\",IF(OR(C3324=\"patient\",C3324=\"patient beverages\"),IF('Customer Info'!$M$27=0,AY3324*'Customer Info'!$M$18,AY3324*'Customer Info'!$M$27),IF(C3324=\"cafeteria\",IF('Customer Info'!$M$28=0,AY3324*'Customer Info'!$M$18,AY3324*'Customer Info'!$M$28),IF(C3324=\"other1\",IF('Customer Info'!$M$29=0,AY3324*'Customer Info'!$M$18,AY3324*'Customer Info'!$M$29),))),)","v":0},0,null,null,null,null,null,null,null,null,null,null,null,null,null,null,null,null,null,null,null,null,null,null,null,null,null,null,null,null,null,null,null,null,null,null,null,null,null,null,null,null,null,null,null,null,null,null,null,null,null,null,null,0]
[0,0,0,0,0,0,0,0,0,null,{"$f":"0","v":0},0,null,null,null,null,null,null,null,null,null,null,null,null,null,null,null,null,null,null,null,null,null,null,null,null,null,null,null,null,null,null,null,null,null,null,null,null,null,null,0,0,{"$f":"IF(E3353=\"plate waste\",IF(OR(C3353=\"patient\",C3353=\"patient beverages\"),IF('Customer Info'!$M$27=0,AY3353*'Customer Info'!$M$18,AY3353*'Customer Info'!$M$27),IF(C3353=\"cafeteria\",IF('Customer Info'!$M$28=0,AY3353*'Customer Info'!$M$18,AY3353*'Customer Info'!$M$28),IF(C3353=\"other1\",IF('Customer Info'!$M$29=0,AY3353*'Customer Info'!$M$18,AY3353*'Customer Info'!$M$29),))),)","v":0},0,null,null,null,null,null,null,null,null,null,null,null,null,null,null,null,null,null,null,null,null,null,null,null,null,null,null,null,null,null,null,null,null,null,null,null,null,null,null,null,null,null,null,null,null,null,null,null,null,null,null,null,0]
[0,0,0,0,0,0,0,0,0,null,{"$f":"0","v":0},0,null,null,null,null,null,null,null,null,null,null,null,null,null,null,null,null,null,null,null,null,null,null,null,null,null,null,null,null,null,null,null,null,null,null,null,null,null,null,0,0,{"$f":"IF(E3370=\"plate waste\",IF(OR(C3370=\"patient\",C3370=\"patient beverages\"),IF('Customer Info'!$M$27=0,AY3370*'Customer Info'!$M$18,AY3370*'Customer Info'!$M$27),IF(C3370=\"cafeteria\",IF('Customer Info'!$M$28=0,AY3370*'Customer Info'!$M$18,AY3370*'Customer Info'!$M$28),IF(C3370=\"other1\",IF('Customer Info'!$M$29=0,AY3370*'Customer Info'!$M$18,AY3370*'Customer Info'!$M$29),))),)","v":0},0,null,null,null,null,null,null,null,null,null,null,null,null,null,null,null,null,null,null,null,null,null,null,null,null,null,null,null,null,null,null,null,null,null,null,null,null,null,null,null,null,null,null,null,null,null,null,null,null,null,null,null,0]
[0,0,0,0,0,0,0,0,0,null,{"$f":"0","v":0},0,null,null,null,null,null,null,null,null,null,null,null,null,null,null,null,null,null,null,null,null,null,null,null,null,null,null,null,null,null,null,null,null,null,null,null,null,null,null,0,0,{"$f":"IF(E3371=\"plate waste\",IF(OR(C3371=\"patient\",C3371=\"patient beverages\"),IF('Customer Info'!$M$27=0,AY3371*'Customer Info'!$M$18,AY3371*'Customer Info'!$M$27),IF(C3371=\"cafeteria\",IF('Customer Info'!$M$28=0,AY3371*'Customer Info'!$M$18,AY3371*'Customer Info'!$M$28),IF(C3371=\"other1\",IF('Customer Info'!$M$29=0,AY3371*'Customer Info'!$M$18,AY3371*'Customer Info'!$M$29),))),)","v":0},0,null,null,null,null,null,null,null,null,null,null,null,null,null,null,null,null,null,null,null,null,null,null,null,null,null,null,null,null,null,null,null,null,null,null,null,null,null,null,null,null,null,null,null,null,null,null,null,null,null,null,null,0]
[0,0,0,0,0,0,0,0,0,null,{"$f":"0","v":0},{"$f":"BB3389","v":0},null,null,null,null,null,null,null,null,null,null,null,null,null,null,null,null,null,null,null,null,null,null,null,null,null,null,null,null,null,null,null,null,null,null,null,null,null,null,0,0,{"$f":"IF(E3389=\"plate waste\",IF(OR(C3389=\"patient\",C3389=\"patient beverages\"),IF('Customer Info'!$M$27=0,AY3389*'Customer Info'!$M$18,AY3389*'Customer Info'!$M$27),IF(C3389=\"cafeteria\",IF('Customer Info'!$M$28=0,AY3389*'Customer Info'!$M$18,AY3389*'Customer Info'!$M$28),IF(C3389=\"other1\",IF('Customer Info'!$M$29=0,AY3389*'Customer Info'!$M$18,AY3389*'Customer Info'!$M$29),))),)","v":0},0,null,null,null,null,null,null,null,null,null,null,null,null,null,null,null,null,null,null,null,null,null,null,null,null,null,null,null,null,null,null,null,null,null,null,null,null,null,null,null,null,null,null,null,null,null,null,null,null,null,null,null,0]
[0,0,0,0,0,0,0,0,0,null,{"$f":"0","v":0},0,null,null,null,null,null,null,null,null,null,null,null,null,null,null,null,null,null,null,null,null,null,null,null,null,null,null,null,null,null,null,null,null,null,null,null,null,null,null,0,0,{"$f":"IF(E3404=\"plate waste\",IF(OR(C3404=\"patient\",C3404=\"patient beverages\"),IF('Customer Info'!$M$27=0,AY3404*'Customer Info'!$M$18,AY3404*'Customer Info'!$M$27),IF(C3404=\"cafeteria\",IF('Customer Info'!$M$28=0,AY3404*'Customer Info'!$M$18,AY3404*'Customer Info'!$M$28),IF(C3404=\"other1\",IF('Customer Info'!$M$29=0,AY3404*'Customer Info'!$M$18,AY3404*'Customer Info'!$M$29),))),)","v":0},0,null,null,null,null,null,null,null,null,null,null,null,null,null,null,null,null,null,null,null,null,null,null,null,null,null,null,null,null,null,null,null,null,null,null,null,null,null,null,null,null,null,null,null,null,null,null,null,null,null,null,null,0]
[0,0,0,0,0,0,0,0,0,null,{"$f":"0","v":0},0,null,null,null,null,null,null,null,null,null,null,null,null,null,null,null,null,null,null,null,null,null,null,null,null,null,null,null,null,null,null,null,null,null,null,null,null,null,null,0,0,{"$f":"IF(E3421=\"plate waste\",IF(OR(C3421=\"patient\",C3421=\"patient beverages\"),IF('Customer Info'!$M$27=0,AY3421*'Customer Info'!$M$18,AY3421*'Customer Info'!$M$27),IF(C3421=\"cafeteria\",IF('Customer Info'!$M$28=0,AY3421*'Customer Info'!$M$18,AY3421*'Customer Info'!$M$28),IF(C3421=\"other1\",IF('Customer Info'!$M$29=0,AY3421*'Customer Info'!$M$18,AY3421*'Customer Info'!$M$29),))),)","v":0},0,null,null,null,null,null,null,null,null,null,null,null,null,null,null,null,null,null,null,null,null,null,null,null,null,null,null,null,null,null,null,null,null,null,null,null,null,null,null,null,null,null,null,null,null,null,null,null,null,null,null,null,0]
[0,0,0,0,0,0,0,0,0,null,{"$f":"0","v":0},0,null,null,null,null,null,null,null,null,null,null,null,null,null,null,null,null,null,null,null,null,null,null,null,null,null,null,null,null,null,null,null,null,null,null,null,null,null,null,0,0,{"$f":"IF(E3437=\"plate waste\",IF(OR(C3437=\"patient\",C3437=\"patient beverages\"),IF('Customer Info'!$M$27=0,AY3437*'Customer Info'!$M$18,AY3437*'Customer Info'!$M$27),IF(C3437=\"cafeteria\",IF('Customer Info'!$M$28=0,AY3437*'Customer Info'!$M$18,AY3437*'Customer Info'!$M$28),IF(C3437=\"other1\",IF('Customer Info'!$M$29=0,AY3437*'Customer Info'!$M$18,AY3437*'Customer Info'!$M$29),))),)","v":0},0,null,null,null,null,null,null,null,null,null,null,null,null,null,null,null,null,null,null,null,null,null,null,null,null,null,null,null,null,null,null,null,null,null,null,null,null,null,null,null,null,null,null,null,null,null,null,null,null,null,null,null,0]
[0,0,0,0,0,0,0,0,0,null,{"$f":"0","v":0},0,null,null,null,null,null,null,null,null,null,null,null,null,null,null,null,null,null,null,null,null,null,null,null,null,null,null,null,null,null,null,null,null,null,null,null,null,null,null,0,0,{"$f":"IF(E3454=\"plate waste\",IF(OR(C3454=\"patient\",C3454=\"patient beverages\"),IF('Customer Info'!$M$27=0,AY3454*'Customer Info'!$M$18,AY3454*'Customer Info'!$M$27),IF(C3454=\"cafeteria\",IF('Customer Info'!$M$28=0,AY3454*'Customer Info'!$M$18,AY3454*'Customer Info'!$M$28),IF(C3454=\"other1\",IF('Customer Info'!$M$29=0,AY3454*'Customer Info'!$M$18,AY3454*'Customer Info'!$M$29),))),)","v":0},0,null,null,null,null,null,null,null,null,null,null,null,null,null,null,null,null,null,null,null,null,null,null,null,null,null,null,null,null,null,null,null,null,null,null,null,null,null,null,null,null,null,null,null,null,null,null,null,null,null,null,null,0]
[0,0,0,0,0,0,0,0,0,null,{"$f":"0","v":0},0,null,null,null,null,null,null,null,null,null,null,null,null,null,null,null,null,null,null,null,null,null,null,null,null,null,null,null,null,null,null,null,null,null,null,null,null,null,null,0,0,{"$f":"IF(E3471=\"plate waste\",IF(OR(C3471=\"patient\",C3471=\"patient beverages\"),IF('Customer Info'!$M$27=0,AY3471*'Customer Info'!$M$18,AY3471*'Customer Info'!$M$27),IF(C3471=\"cafeteria\",IF('Customer Info'!$M$28=0,AY3471*'Customer Info'!$M$18,AY3471*'Customer Info'!$M$28),IF(C3471=\"other1\",IF('Customer Info'!$M$29=0,AY3471*'Customer Info'!$M$18,AY3471*'Customer Info'!$M$29),))),)","v":0},0,null,null,null,null,null,null,null,null,null,null,null,null,null,null,null,null,null,null,null,null,null,null,null,null,null,null,null,null,null,null,null,null,null,null,null,null,null,null,null,null,null,null,null,null,null,null,null,null,null,null,null,0]
[0,0,0,0,0,0,0,0,0,null,{"$f":"0","v":0},0,null,null,null,null,null,null,null,null,null,null,null,null,null,null,null,null,null,null,null,null,null,null,null,null,null,null,null,null,null,null,null,null,null,null,null,null,null,null,0,0,{"$f":"IF(E3485=\"plate waste\",IF(OR(C3485=\"patient\",C3485=\"patient beverages\"),IF('Customer Info'!$M$27=0,AY3485*'Customer Info'!$M$18,AY3485*'Customer Info'!$M$27),IF(C3485=\"cafeteria\",IF('Customer Info'!$M$28=0,AY3485*'Customer Info'!$M$18,AY3485*'Customer Info'!$M$28),IF(C3485=\"other1\",IF('Customer Info'!$M$29=0,AY3485*'Customer Info'!$M$18,AY3485*'Customer Info'!$M$29),))),)","v":0},0,null,null,null,null,null,null,null,null,null,null,null,null,null,null,null,null,null,null,null,null,null,null,null,null,null,null,null,null,null,null,null,null,null,null,null,null,null,null,null,null,null,null,null,null,null,null,null,null,null,null,null,0]
[0,0,0,0,0,0,0,0,0,null,{"$f":"0","v":0},0,null,null,null,null,null,null,null,null,null,null,null,null,null,null,null,null,null,null,null,null,null,null,null,null,null,null,null,null,null,null,null,null,null,null,null,null,null,null,0,0,{"$f":"IF(E3504=\"plate waste\",IF(OR(C3504=\"patient\",C3504=\"patient beverages\"),IF('Customer Info'!$M$27=0,AY3504*'Customer Info'!$M$18,AY3504*'Customer Info'!$M$27),IF(C3504=\"cafeteria\",IF('Customer Info'!$M$28=0,AY3504*'Customer Info'!$M$18,AY3504*'Customer Info'!$M$28),IF(C3504=\"other1\",IF('Customer Info'!$M$29=0,AY3504*'Customer Info'!$M$18,AY3504*'Customer Info'!$M$29),))),)","v":0},0,null,null,null,null,null,null,null,null,null,null,null,null,null,null,null,null,null,null,null,null,null,null,null,null,null,null,null,null,null,null,null,null,null,null,null,null,null,null,null,null,null,null,null,null,null,null,null,null,null,null,null,0]
[0,0,0,0,0,0,0,0,0,null,{"$f":"0","v":0},0,null,null,null,null,null,null,null,null,null,null,null,null,null,null,null,null,null,null,null,null,null,null,null,null,null,null,null,null,null,null,null,null,null,null,null,null,null,null,0,0,{"$f":"IF(E3521=\"plate waste\",IF(OR(C3521=\"patient\",C3521=\"patient beverages\"),IF('Customer Info'!$M$27=0,AY3521*'Customer Info'!$M$18,AY3521*'Customer Info'!$M$27),IF(C3521=\"cafeteria\",IF('Customer Info'!$M$28=0,AY3521*'Customer Info'!$M$18,AY3521*'Customer Info'!$M$28),IF(C3521=\"other1\",IF('Customer Info'!$M$29=0,AY3521*'Customer Info'!$M$18,AY3521*'Customer Info'!$M$29),))),)","v":0},0,null,null,null,null,null,null,null,null,null,null,null,null,null,null,null,null,null,null,null,null,null,null,null,null,null,null,null,null,null,null,null,null,null,null,null,null,null,null,null,null,null,null,null,null,null,null,null,null,null,null,null,0]
[0,0,0,0,0,0,0,0,0,null,{"$f":"0","v":0},0,null,null,null,null,null,null,null,null,null,null,null,null,null,null,null,null,null,null,null,null,null,null,null,null,null,null,null,null,null,null,null,null,null,null,null,null,null,null,0,0,{"$f":"IF(E3533=\"plate waste\",IF(OR(C3533=\"patient\",C3533=\"patient beverages\"),IF('Customer Info'!$M$27=0,AY3533*'Customer Info'!$M$18,AY3533*'Customer Info'!$M$27),IF(C3533=\"cafeteria\",IF('Customer Info'!$M$28=0,AY3533*'Customer Info'!$M$18,AY3533*'Customer Info'!$M$28),IF(C3533=\"other1\",IF('Customer Info'!$M$29=0,AY3533*'Customer Info'!$M$18,AY3533*'Customer Info'!$M$29),))),)","v":0},0,null,null,null,null,null,null,null,null,null,null,null,null,null,null,null,null,null,null,null,null,null,null,null,null,null,null,null,null,null,null,null,null,null,null,null,null,null,null,null,null,null,null,null,null,null,null,null,null,null,null,null,0]
[0,0,0,0,0,0,0,0,0,null,{"$f":"0","v":0},0,null,null,null,null,null,null,null,null,null,null,null,null,null,null,null,null,null,null,null,null,null,null,null,null,null,null,null,null,null,null,null,null,null,null,null,null,null,null,0,0,{"$f":"IF(E3554=\"plate waste\",IF(OR(C3554=\"patient\",C3554=\"patient beverages\"),IF('Customer Info'!$M$27=0,AY3554*'Customer Info'!$M$18,AY3554*'Customer Info'!$M$27),IF(C3554=\"cafeteria\",IF('Customer Info'!$M$28=0,AY3554*'Customer Info'!$M$18,AY3554*'Customer Info'!$M$28),IF(C3554=\"other1\",IF('Customer Info'!$M$29=0,AY3554*'Customer Info'!$M$18,AY3554*'Customer Info'!$M$29),))),)","v":0},0,null,null,null,null,null,null,null,null,null,null,null,null,null,null,null,null,null,null,null,null,null,null,null,null,null,null,null,null,null,null,null,null,null,null,null,null,null,null,null,null,null,null,null,null,null,null,null,null,null,null,null,0]
[0,0,0,0,0,0,0,0,0,null,{"$f":"0","v":0},0,null,null,null,null,null,null,null,null,null,null,null,null,null,null,null,null,null,null,null,null,null,null,null,null,null,null,null,null,null,null,null,null,null,null,null,null,null,null,0,0,{"$f":"IF(E3571=\"plate waste\",IF(OR(C3571=\"patient\",C3571=\"patient beverages\"),IF('Customer Info'!$M$27=0,AY3571*'Customer Info'!$M$18,AY3571*'Customer Info'!$M$27),IF(C3571=\"cafeteria\",IF('Customer Info'!$M$28=0,AY3571*'Customer Info'!$M$18,AY3571*'Customer Info'!$M$28),IF(C3571=\"other1\",IF('Customer Info'!$M$29=0,AY3571*'Customer Info'!$M$18,AY3571*'Customer Info'!$M$29),))),)","v":0},0,null,null,null,null,null,null,null,null,null,null,null,null,null,null,null,null,null,null,null,null,null,null,null,null,null,null,null,null,null,null,null,null,null,null,null,null,null,null,null,null,null,null,null,null,null,null,null,null,null,null,null,0]
[0,0,0,0,0,0,0,0,0,null,{"$f":"0","v":0},{"$f":"BB3581","v":0},null,null,null,null,null,null,null,null,null,null,null,null,null,null,null,null,null,null,null,null,null,null,null,null,null,null,null,null,null,null,null,null,null,null,null,null,null,null,0,0,{"$f":"IF(E3581=\"plate waste\",IF(OR(C3581=\"patient\",C3581=\"patient beverages\"),IF('Customer Info'!$M$27=0,AY3581*'Customer Info'!$M$18,AY3581*'Customer Info'!$M$27),IF(C3581=\"cafeteria\",IF('Customer Info'!$M$28=0,AY3581*'Customer Info'!$M$18,AY3581*'Customer Info'!$M$28),IF(C3581=\"other1\",IF('Customer Info'!$M$29=0,AY3581*'Customer Info'!$M$18,AY3581*'Customer Info'!$M$29),))),)","v":0},0,null,null,null,null,null,null,null,null,null,null,null,null,null,null,null,null,null,null,null,null,null,null,null,null,null,null,null,null,null,null,null,null,null,null,null,null,null,null,null,null,null,null,null,null,null,null,null,null,null,null,null,0]
[0,0,0,0,0,0,0,0,0,null,{"$f":"0","v":0},0,null,null,null,null,null,null,null,null,null,null,null,null,null,null,null,null,null,null,null,null,null,null,null,null,null,null,null,null,null,null,null,null,null,null,null,null,null,null,0,0,{"$f":"IF(E3604=\"plate waste\",IF(OR(C3604=\"patient\",C3604=\"patient beverages\"),IF('Customer Info'!$M$27=0,AY3604*'Customer Info'!$M$18,AY3604*'Customer Info'!$M$27),IF(C3604=\"cafeteria\",IF('Customer Info'!$M$28=0,AY3604*'Customer Info'!$M$18,AY3604*'Customer Info'!$M$28),IF(C3604=\"other1\",IF('Customer Info'!$M$29=0,AY3604*'Customer Info'!$M$18,AY3604*'Customer Info'!$M$29),))),)","v":0},0,null,null,null,null,null,null,null,null,null,null,null,null,null,null,null,null,null,null,null,null,null,null,null,null,null,null,null,null,null,null,null,null,null,null,null,null,null,null,null,null,null,null,null,null,null,null,null,null,null,null,null,0]
[0,0,0,0,0,0,0,0,0,null,{"$f":"0","v":0},0,null,null,null,null,null,null,null,null,null,null,null,null,null,null,null,null,null,null,null,null,null,null,null,null,null,null,null,null,null,null,null,null,null,null,null,null,null,null,0,0,{"$f":"IF(E3621=\"plate waste\",IF(OR(C3621=\"patient\",C3621=\"patient beverages\"),IF('Customer Info'!$M$27=0,AY3621*'Customer Info'!$M$18,AY3621*'Customer Info'!$M$27),IF(C3621=\"cafeteria\",IF('Customer Info'!$M$28=0,AY3621*'Customer Info'!$M$18,AY3621*'Customer Info'!$M$28),IF(C3621=\"other1\",IF('Customer Info'!$M$29=0,AY3621*'Customer Info'!$M$18,AY3621*'Customer Info'!$M$29),))),)","v":0},0,null,null,null,null,null,null,null,null,null,null,null,null,null,null,null,null,null,null,null,null,null,null,null,null,null,null,null,null,null,null,null,null,null,null,null,null,null,null,null,null,null,null,null,null,null,null,null,null,null,null,null,0]
[0,0,0,0,0,0,0,0,0,null,{"$f":"0","v":0},0,null,null,null,null,null,null,null,null,null,null,null,null,null,null,null,null,null,null,null,null,null,null,null,null,null,null,null,null,null,null,null,null,null,null,null,null,null,null,0,0,{"$f":"IF(E3630=\"plate waste\",IF(OR(C3630=\"patient\",C3630=\"patient beverages\"),IF('Customer Info'!$M$27=0,AY3630*'Customer Info'!$M$18,AY3630*'Customer Info'!$M$27),IF(C3630=\"cafeteria\",IF('Customer Info'!$M$28=0,AY3630*'Customer Info'!$M$18,AY3630*'Customer Info'!$M$28),IF(C3630=\"other1\",IF('Customer Info'!$M$29=0,AY3630*'Customer Info'!$M$18,AY3630*'Customer Info'!$M$29),))),)","v":0},0,null,null,null,null,null,null,null,null,null,null,null,null,null,null,null,null,null,null,null,null,null,null,null,null,null,null,null,null,null,null,null,null,null,null,null,null,null,null,null,null,null,null,null,null,null,null,null,null,null,null,null,0]
[0,0,0,0,0,0,0,0,0,null,{"$f":"0","v":0},0,null,null,null,null,null,null,null,null,null,null,null,null,null,null,null,null,null,null,null,null,null,null,null,null,null,null,null,null,null,null,null,null,null,null,null,null,null,null,0,0,{"$f":"IF(E3638=\"plate waste\",IF(OR(C3638=\"patient\",C3638=\"patient beverages\"),IF('Customer Info'!$M$27=0,AY3638*'Customer Info'!$M$18,AY3638*'Customer Info'!$M$27),IF(C3638=\"cafeteria\",IF('Customer Info'!$M$28=0,AY3638*'Customer Info'!$M$18,AY3638*'Customer Info'!$M$28),IF(C3638=\"other1\",IF('Customer Info'!$M$29=0,AY3638*'Customer Info'!$M$18,AY3638*'Customer Info'!$M$29),))),)","v":0},0,null,null,null,null,null,null,null,null,null,null,null,null,null,null,null,null,null,null,null,null,null,null,null,null,null,null,null,null,null,null,null,null,null,null,null,null,null,null,null,null,null,null,null,null,null,null,null,null,null,null,null,0]
[0,0,0,0,0,0,0,0,0,null,{"$f":"0","v":0},0,null,null,null,null,null,null,null,null,null,null,null,null,null,null,null,null,null,null,null,null,null,null,null,null,null,null,null,null,null,null,null,null,null,null,null,null,null,null,0,0,{"$f":"IF(E3655=\"plate waste\",IF(OR(C3655=\"patient\",C3655=\"patient beverages\"),IF('Customer Info'!$M$27=0,AY3655*'Customer Info'!$M$18,AY3655*'Customer Info'!$M$27),IF(C3655=\"cafeteria\",IF('Customer Info'!$M$28=0,AY3655*'Customer Info'!$M$18,AY3655*'Customer Info'!$M$28),IF(C3655=\"other1\",IF('Customer Info'!$M$29=0,AY3655*'Customer Info'!$M$18,AY3655*'Customer Info'!$M$29),))),)","v":0},0,null,null,null,null,null,null,null,null,null,null,null,null,null,null,null,null,null,null,null,null,null,null,null,null,null,null,null,null,null,null,null,null,null,null,null,null,null,null,null,null,null,null,null,null,null,null,null,null,null,null,null,0]
[0,0,0,0,0,0,0,0,0,null,{"$f":"0","v":0},0,null,null,null,null,null,null,null,null,null,null,null,null,null,null,null,null,null,null,null,null,null,null,null,null,null,null,null,null,null,null,null,null,null,null,null,null,null,null,0,0,{"$f":"IF(E3678=\"plate waste\",IF(OR(C3678=\"patient\",C3678=\"patient beverages\"),IF('Customer Info'!$M$27=0,AY3678*'Customer Info'!$M$18,AY3678*'Customer Info'!$M$27),IF(C3678=\"cafeteria\",IF('Customer Info'!$M$28=0,AY3678*'Customer Info'!$M$18,AY3678*'Customer Info'!$M$28),IF(C3678=\"other1\",IF('Customer Info'!$M$29=0,AY3678*'Customer Info'!$M$18,AY3678*'Customer Info'!$M$29),))),)","v":0},0,null,null,null,null,null,null,null,null,null,null,null,null,null,null,null,null,null,null,null,null,null,null,null,null,null,null,null,null,null,null,null,null,null,null,null,null,null,null,null,null,null,null,null,null,null,null,null,null,null,null,null,0]
[0,0,0,0,0,0,0,0,0,null,{"$f":"0","v":0},0,null,null,null,null,null,null,null,null,null,null,null,null,null,null,null,null,null,null,null,null,null,null,null,null,null,null,null,null,null,null,null,null,null,null,null,null,null,null,0,0,{"$f":"IF(E3688=\"plate waste\",IF(OR(C3688=\"patient\",C3688=\"patient beverages\"),IF('Customer Info'!$M$27=0,AY3688*'Customer Info'!$M$18,AY3688*'Customer Info'!$M$27),IF(C3688=\"cafeteria\",IF('Customer Info'!$M$28=0,AY3688*'Customer Info'!$M$18,AY3688*'Customer Info'!$M$28),IF(C3688=\"other1\",IF('Customer Info'!$M$29=0,AY3688*'Customer Info'!$M$18,AY3688*'Customer Info'!$M$29),))),)","v":0},0,null,null,null,null,null,null,null,null,null,null,null,null,null,null,null,null,null,null,null,null,null,null,null,null,null,null,null,null,null,null,null,null,null,null,null,null,null,null,null,null,null,null,null,null,null,null,null,null,null,null,null,0]
[0,0,0,0,0,0,0,0,0,null,{"$f":"0","v":0},0,null,null,null,null,null,null,null,null,null,null,null,null,null,null,null,null,null,null,null,null,null,null,null,null,null,null,null,null,null,null,null,null,null,null,null,null,null,null,0,0,{"$f":"IF(E3705=\"plate waste\",IF(OR(C3705=\"patient\",C3705=\"patient beverages\"),IF('Customer Info'!$M$27=0,AY3705*'Customer Info'!$M$18,AY3705*'Customer Info'!$M$27),IF(C3705=\"cafeteria\",IF('Customer Info'!$M$28=0,AY3705*'Customer Info'!$M$18,AY3705*'Customer Info'!$M$28),IF(C3705=\"other1\",IF('Customer Info'!$M$29=0,AY3705*'Customer Info'!$M$18,AY3705*'Customer Info'!$M$29),))),)","v":0},0,null,null,null,null,null,null,null,null,null,null,null,null,null,null,null,null,null,null,null,null,null,null,null,null,null,null,null,null,null,null,null,null,null,null,null,null,null,null,null,null,null,null,null,null,null,null,null,null,null,null,null,0]
[0,0,0,0,0,0,0,0,0,null,{"$f":"0","v":0},0,null,null,null,null,null,null,null,null,null,null,null,null,null,null,null,null,null,null,null,null,null,null,null,null,null,null,null,null,null,null,null,null,null,null,null,null,null,null,0,0,{"$f":"IF(E3726=\"plate waste\",IF(OR(C3726=\"patient\",C3726=\"patient beverages\"),IF('Customer Info'!$M$27=0,AY3726*'Customer Info'!$M$18,AY3726*'Customer Info'!$M$27),IF(C3726=\"cafeteria\",IF('Customer Info'!$M$28=0,AY3726*'Customer Info'!$M$18,AY3726*'Customer Info'!$M$28),IF(C3726=\"other1\",IF('Customer Info'!$M$29=0,AY3726*'Customer Info'!$M$18,AY3726*'Customer Info'!$M$29),))),)","v":0},0,null,null,null,null,null,null,null,null,null,null,null,null,null,null,null,null,null,null,null,null,null,null,null,null,null,null,null,null,null,null,null,null,null,null,null,null,null,null,null,null,null,null,null,null,null,null,null,null,null,null,null,0]
[0,0,0,0,0,0,0,0,0,null,{"$f":"0","v":0},0,null,null,null,null,null,null,null,null,null,null,null,null,null,null,null,null,null,null,null,null,null,null,null,null,null,null,null,null,null,null,null,null,null,null,null,null,null,null,0,0,{"$f":"IF(E3738=\"plate waste\",IF(OR(C3738=\"patient\",C3738=\"patient beverages\"),IF('Customer Info'!$M$27=0,AY3738*'Customer Info'!$M$18,AY3738*'Customer Info'!$M$27),IF(C3738=\"cafeteria\",IF('Customer Info'!$M$28=0,AY3738*'Customer Info'!$M$18,AY3738*'Customer Info'!$M$28),IF(C3738=\"other1\",IF('Customer Info'!$M$29=0,AY3738*'Customer Info'!$M$18,AY3738*'Customer Info'!$M$29),))),)","v":0},0,null,null,null,null,null,null,null,null,null,null,null,null,null,null,null,null,null,null,null,null,null,null,null,null,null,null,null,null,null,null,null,null,null,null,null,null,null,null,null,null,null,null,null,null,null,null,null,null,null,null,null,0]
[0,0,0,0,0,0,0,0,0,null,{"$f":"0","v":0},0,null,null,null,null,null,null,null,null,null,null,null,null,null,null,null,null,null,null,null,null,null,null,null,null,null,null,null,null,null,null,null,null,null,null,null,null,null,null,0,0,{"$f":"IF(E3755=\"plate waste\",IF(OR(C3755=\"patient\",C3755=\"patient beverages\"),IF('Customer Info'!$M$27=0,AY3755*'Customer Info'!$M$18,AY3755*'Customer Info'!$M$27),IF(C3755=\"cafeteria\",IF('Customer Info'!$M$28=0,AY3755*'Customer Info'!$M$18,AY3755*'Customer Info'!$M$28),IF(C3755=\"other1\",IF('Customer Info'!$M$29=0,AY3755*'Customer Info'!$M$18,AY3755*'Customer Info'!$M$29),))),)","v":0},0,null,null,null,null,null,null,null,null,null,null,null,null,null,null,null,null,null,null,null,null,null,null,null,null,null,null,null,null,null,null,null,null,null,null,null,null,null,null,null,null,null,null,null,null,null,null,null,null,null,null,null,0]
[0,0,0,0,0,0,0,0,0,null,{"$f":"0","v":0},0,null,null,null,null,null,null,null,null,null,null,null,null,null,null,null,null,null,null,null,null,null,null,null,null,null,null,null,null,null,null,null,null,null,null,null,null,null,null,0,0,{"$f":"IF(E3772=\"plate waste\",IF(OR(C3772=\"patient\",C3772=\"patient beverages\"),IF('Customer Info'!$M$27=0,AY3772*'Customer Info'!$M$18,AY3772*'Customer Info'!$M$27),IF(C3772=\"cafeteria\",IF('Customer Info'!$M$28=0,AY3772*'Customer Info'!$M$18,AY3772*'Customer Info'!$M$28),IF(C3772=\"other1\",IF('Customer Info'!$M$29=0,AY3772*'Customer Info'!$M$18,AY3772*'Customer Info'!$M$29),))),)","v":0},0,null,null,null,null,null,null,null,null,null,null,null,null,null,null,null,null,null,null,null,null,null,null,null,null,null,null,null,null,null,null,null,null,null,null,null,null,null,null,null,null,null,null,null,null,null,null,null,null,null,null,null,0]
[0,0,0,0,0,0,0,0,0,null,{"$f":"0","v":0},0,null,null,null,null,null,null,null,null,null,null,null,null,null,null,null,null,null,null,null,null,null,null,null,null,null,null,null,null,null,null,null,null,null,null,null,null,null,null,0,0,{"$f":"IF(E3790=\"plate waste\",IF(OR(C3790=\"patient\",C3790=\"patient beverages\"),IF('Customer Info'!$M$27=0,AY3790*'Customer Info'!$M$18,AY3790*'Customer Info'!$M$27),IF(C3790=\"cafeteria\",IF('Customer Info'!$M$28=0,AY3790*'Customer Info'!$M$18,AY3790*'Customer Info'!$M$28),IF(C3790=\"other1\",IF('Customer Info'!$M$29=0,AY3790*'Customer Info'!$M$18,AY3790*'Customer Info'!$M$29),))),)","v":0},0,null,null,null,null,null,null,null,null,null,null,null,null,null,null,null,null,null,null,null,null,null,null,null,null,null,null,null,null,null,null,null,null,null,null,null,null,null,null,null,null,null,null,null,null,null,null,null,null,null,null,null,0]
[0,0,0,0,0,0,0,0,0,null,{"$f":"0","v":0},0,null,null,null,null,null,null,null,null,null,null,null,null,null,null,null,null,null,null,null,null,null,null,null,null,null,null,null,null,null,null,null,null,null,null,null,null,null,null,0,0,{"$f":"IF(E3805=\"plate waste\",IF(OR(C3805=\"patient\",C3805=\"patient beverages\"),IF('Customer Info'!$M$27=0,AY3805*'Customer Info'!$M$18,AY3805*'Customer Info'!$M$27),IF(C3805=\"cafeteria\",IF('Customer Info'!$M$28=0,AY3805*'Customer Info'!$M$18,AY3805*'Customer Info'!$M$28),IF(C3805=\"other1\",IF('Customer Info'!$M$29=0,AY3805*'Customer Info'!$M$18,AY3805*'Customer Info'!$M$29),))),)","v":0},0,null,null,null,null,null,null,null,null,null,null,null,null,null,null,null,null,null,null,null,null,null,null,null,null,null,null,null,null,null,null,null,null,null,null,null,null,null,null,null,null,null,null,null,null,null,null,null,null,null,null,null,0]
[0,0,0,0,0,0,0,0,0,null,{"$f":"0","v":0},0,null,null,null,null,null,null,null,null,null,null,null,null,null,null,null,null,null,null,null,null,null,null,null,null,null,null,null,null,null,null,null,null,null,null,null,null,null,null,0,0,{"$f":"IF(E3822=\"plate waste\",IF(OR(C3822=\"patient\",C3822=\"patient beverages\"),IF('Customer Info'!$M$27=0,AY3822*'Customer Info'!$M$18,AY3822*'Customer Info'!$M$27),IF(C3822=\"cafeteria\",IF('Customer Info'!$M$28=0,AY3822*'Customer Info'!$M$18,AY3822*'Customer Info'!$M$28),IF(C3822=\"other1\",IF('Customer Info'!$M$29=0,AY3822*'Customer Info'!$M$18,AY3822*'Customer Info'!$M$29),))),)","v":0},0,null,null,null,null,null,null,null,null,null,null,null,null,null,null,null,null,null,null,null,null,null,null,null,null,null,null,null,null,null,null,null,null,null,null,null,null,null,null,null,null,null,null,null,null,null,null,null,null,null,null,null,0]
[0,0,0,0,0,0,0,0,0,null,{"$f":"0","v":0},0,null,null,null,null,null,null,null,null,null,null,null,null,null,null,null,null,null,null,null,null,null,null,null,null,null,null,null,null,null,null,null,null,null,null,null,null,null,null,0,0,{"$f":"IF(E3839=\"plate waste\",IF(OR(C3839=\"patient\",C3839=\"patient beverages\"),IF('Customer Info'!$M$27=0,AY3839*'Customer Info'!$M$18,AY3839*'Customer Info'!$M$27),IF(C3839=\"cafeteria\",IF('Customer Info'!$M$28=0,AY3839*'Customer Info'!$M$18,AY3839*'Customer Info'!$M$28),IF(C3839=\"other1\",IF('Customer Info'!$M$29=0,AY3839*'Customer Info'!$M$18,AY3839*'Customer Info'!$M$29),))),)","v":0},0,null,null,null,null,null,null,null,null,null,null,null,null,null,null,null,null,null,null,null,null,null,null,null,null,null,null,null,null,null,null,null,null,null,null,null,null,null,null,null,null,null,null,null,null,null,null,null,null,null,null,null,0]
[0,0,0,0,0,0,0,0,0,null,{"$f":"0","v":0},0,null,null,null,null,null,null,null,null,null,null,null,null,null,null,null,null,null,null,null,null,null,null,null,null,null,null,null,null,null,null,null,null,null,null,null,null,null,null,0,0,{"$f":"IF(E3855=\"plate waste\",IF(OR(C3855=\"patient\",C3855=\"patient beverages\"),IF('Customer Info'!$M$27=0,AY3855*'Customer Info'!$M$18,AY3855*'Customer Info'!$M$27),IF(C3855=\"cafeteria\",IF('Customer Info'!$M$28=0,AY3855*'Customer Info'!$M$18,AY3855*'Customer Info'!$M$28),IF(C3855=\"other1\",IF('Customer Info'!$M$29=0,AY3855*'Customer Info'!$M$18,AY3855*'Customer Info'!$M$29),))),)","v":0},0,null,null,null,null,null,null,null,null,null,null,null,null,null,null,null,null,null,null,null,null,null,null,null,null,null,null,null,null,null,null,null,null,null,null,null,null,null,null,null,null,null,null,null,null,null,null,null,null,null,null,null,0]
[0,0,0,0,0,0,0,0,0,null,{"$f":"0","v":0},0,null,null,null,null,null,null,null,null,null,null,null,null,null,null,null,null,null,null,null,null,null,null,null,null,null,null,null,null,null,null,null,null,null,null,null,null,null,null,0,0,{"$f":"IF(E3872=\"plate waste\",IF(OR(C3872=\"patient\",C3872=\"patient beverages\"),IF('Customer Info'!$M$27=0,AY3872*'Customer Info'!$M$18,AY3872*'Customer Info'!$M$27),IF(C3872=\"cafeteria\",IF('Customer Info'!$M$28=0,AY3872*'Customer Info'!$M$18,AY3872*'Customer Info'!$M$28),IF(C3872=\"other1\",IF('Customer Info'!$M$29=0,AY3872*'Customer Info'!$M$18,AY3872*'Customer Info'!$M$29),))),)","v":0},0,null,null,null,null,null,null,null,null,null,null,null,null,null,null,null,null,null,null,null,null,null,null,null,null,null,null,null,null,null,null,null,null,null,null,null,null,null,null,null,null,null,null,null,null,null,null,null,null,null,null,null,0]
[0,0,0,0,0,0,0,0,0,null,{"$f":"0","v":0},0,null,null,null,null,null,null,null,null,null,null,null,null,null,null,null,null,null,null,null,null,null,null,null,null,null,null,null,null,null,null,null,null,null,null,null,null,null,null,0,0,{"$f":"IF(E3887=\"plate waste\",IF(OR(C3887=\"patient\",C3887=\"patient beverages\"),IF('Customer Info'!$M$27=0,AY3887*'Customer Info'!$M$18,AY3887*'Customer Info'!$M$27),IF(C3887=\"cafeteria\",IF('Customer Info'!$M$28=0,AY3887*'Customer Info'!$M$18,AY3887*'Customer Info'!$M$28),IF(C3887=\"other1\",IF('Customer Info'!$M$29=0,AY3887*'Customer Info'!$M$18,AY3887*'Customer Info'!$M$29),))),)","v":0},{"$f":"BA3887","v":0},null,null,null,null,null,null,null,null,null,null,null,null,null,null,null,null,null,null,null,null,null,null,null,null,null,null,null,null,null,null,null,null,null,null,null,null,null,null,null,null,null,null,null,null,null,null,null,null,null,null,null,{"$f":"IF(C3887=\"patient beverages\",L3887,)","v":0}]
[{"$f":"IF(AX3889=0,,\"dinner\")","v":0},0,0,0,0,{"$f":"IF(AX3889=0,,\"assumed plate waste-dinner\")","v":0},0,0,0,null,{"$f":"0","v":0},0,null,null,null,null,null,null,null,null,null,null,null,null,null,null,null,null,null,null,null,null,null,null,null,null,null,null,null,null,null,null,null,null,null,null,null,null,null,null,0,0,{"$f":"IF(E3889=\"plate waste\",IF(OR(C3889=\"patient\",C3889=\"patient beverages\"),IF('Customer Info'!$M$27=0,AY3889*'Customer Info'!$M$18,AY3889*'Customer Info'!$M$27),IF(C3889=\"cafeteria\",IF('Customer Info'!$M$28=0,AY3889*'Customer Info'!$M$18,AY3889*'Customer Info'!$M$28),IF(C3889=\"other1\",IF('Customer Info'!$M$29=0,AY3889*'Customer Info'!$M$18,AY3889*'Customer Info'!$M$29),))),)","v":0},0,null,null,null,null,null,null,null,null,null,null,null,null,null,null,null,null,null,null,null,null,null,null,null,null,null,null,null,null,null,null,null,null,null,null,null,null,null,null,null,null,null,null,null,null,null,null,null,null,null,null,null,0]
[0,0,0,0,0,0,0,0,0,null,{"$f":"0","v":0},0,null,null,null,null,null,null,null,null,null,null,null,null,null,null,null,null,null,null,null,null,null,null,null,null,null,null,null,null,null,null,null,null,null,null,null,null,null,null,0,0,{"$f":"IF(E3906=\"plate waste\",IF(OR(C3906=\"patient\",C3906=\"patient beverages\"),IF('Customer Info'!$M$27=0,AY3906*'Customer Info'!$M$18,AY3906*'Customer Info'!$M$27),IF(C3906=\"cafeteria\",IF('Customer Info'!$M$28=0,AY3906*'Customer Info'!$M$18,AY3906*'Customer Info'!$M$28),IF(C3906=\"other1\",IF('Customer Info'!$M$29=0,AY3906*'Customer Info'!$M$18,AY3906*'Customer Info'!$M$29),))),)","v":0},0,null,null,null,null,null,null,null,null,null,null,null,null,null,null,null,null,null,null,null,null,null,null,null,null,null,null,null,null,null,null,null,null,null,null,null,null,null,null,null,null,null,null,null,null,null,null,null,null,null,null,null,0]
[0,0,0,0,0,0,0,0,0,null,{"$f":"0","v":0},0,null,null,null,null,null,null,null,null,null,null,null,null,null,null,null,null,null,null,null,null,null,null,null,null,null,null,null,null,null,null,null,null,null,null,null,null,null,null,0,0,{"$f":"IF(E3920=\"plate waste\",IF(OR(C3920=\"patient\",C3920=\"patient beverages\"),IF('Customer Info'!$M$27=0,AY3920*'Customer Info'!$M$18,AY3920*'Customer Info'!$M$27),IF(C3920=\"cafeteria\",IF('Customer Info'!$M$28=0,AY3920*'Customer Info'!$M$18,AY3920*'Customer Info'!$M$28),IF(C3920=\"other1\",IF('Customer Info'!$M$29=0,AY3920*'Customer Info'!$M$18,AY3920*'Customer Info'!$M$29),))),)","v":0},0,null,null,null,null,null,null,null,null,null,null,null,null,null,null,null,null,null,null,null,null,null,null,null,null,null,null,null,null,null,null,null,null,null,null,null,null,null,null,null,null,null,null,null,null,null,null,null,null,null,null,null,0]
[0,0,0,0,0,0,0,0,0,null,{"$f":"0","v":0},0,null,null,null,null,null,null,null,null,null,null,null,null,null,null,null,null,null,null,null,null,null,null,null,null,null,null,null,null,null,null,null,null,null,null,null,null,null,null,0,0,{"$f":"IF(E3939=\"plate waste\",IF(OR(C3939=\"patient\",C3939=\"patient beverages\"),IF('Customer Info'!$M$27=0,AY3939*'Customer Info'!$M$18,AY3939*'Customer Info'!$M$27),IF(C3939=\"cafeteria\",IF('Customer Info'!$M$28=0,AY3939*'Customer Info'!$M$18,AY3939*'Customer Info'!$M$28),IF(C3939=\"other1\",IF('Customer Info'!$M$29=0,AY3939*'Customer Info'!$M$18,AY3939*'Customer Info'!$M$29),))),)","v":0},0,null,null,null,null,null,null,null,null,null,null,null,null,null,null,null,null,null,null,null,null,null,null,null,null,null,null,null,null,null,null,null,null,null,null,null,null,null,null,null,null,null,null,null,null,null,null,null,null,null,null,null,0]
[0,0,0,0,0,0,0,0,0,null,{"$f":"0","v":0},0,null,null,null,null,null,null,null,null,null,null,null,null,null,null,null,null,null,null,null,null,null,null,null,null,null,null,null,null,null,null,null,null,null,null,null,null,null,null,0,0,{"$f":"IF(E3956=\"plate waste\",IF(OR(C3956=\"patient\",C3956=\"patient beverages\"),IF('Customer Info'!$M$27=0,AY3956*'Customer Info'!$M$18,AY3956*'Customer Info'!$M$27),IF(C3956=\"cafeteria\",IF('Customer Info'!$M$28=0,AY3956*'Customer Info'!$M$18,AY3956*'Customer Info'!$M$28),IF(C3956=\"other1\",IF('Customer Info'!$M$29=0,AY3956*'Customer Info'!$M$18,AY3956*'Customer Info'!$M$29),))),)","v":0},0,null,null,null,null,null,null,null,null,null,null,null,null,null,null,null,null,null,null,null,null,null,null,null,null,null,null,null,null,null,null,null,null,null,null,null,null,null,null,null,null,null,null,null,null,null,null,null,null,null,null,null,0]
[0,0,0,0,0,0,0,0,0,null,{"$f":"0","v":0},0,null,null,null,null,null,null,null,null,null,null,null,null,null,null,null,null,null,null,null,null,null,null,null,null,null,null,null,null,null,null,null,null,null,null,null,null,null,null,0,0,{"$f":"IF(E3968=\"plate waste\",IF(OR(C3968=\"patient\",C3968=\"patient beverages\"),IF('Customer Info'!$M$27=0,AY3968*'Customer Info'!$M$18,AY3968*'Customer Info'!$M$27),IF(C3968=\"cafeteria\",IF('Customer Info'!$M$28=0,AY3968*'Customer Info'!$M$18,AY3968*'Customer Info'!$M$28),IF(C3968=\"other1\",IF('Customer Info'!$M$29=0,AY3968*'Customer Info'!$M$18,AY3968*'Customer Info'!$M$29),))),)","v":0},0,null,null,null,null,null,null,null,null,null,null,null,null,null,null,null,null,null,null,null,null,null,null,null,null,null,null,null,null,null,null,null,null,null,null,null,null,null,null,null,null,null,null,null,null,null,null,null,null,null,null,null,0]
[0,0,0,0,0,0,0,0,0,null,{"$f":"0","v":0},0,null,null,null,null,null,null,null,null,null,null,null,null,null,null,null,null,null,null,null,null,null,null,null,null,null,null,null,null,null,null,null,null,null,null,null,null,null,null,0,0,{"$f":"IF(E3989=\"plate waste\",IF(OR(C3989=\"patient\",C3989=\"patient beverages\"),IF('Customer Info'!$M$27=0,AY3989*'Customer Info'!$M$18,AY3989*'Customer Info'!$M$27),IF(C3989=\"cafeteria\",IF('Customer Info'!$M$28=0,AY3989*'Customer Info'!$M$18,AY3989*'Customer Info'!$M$28),IF(C3989=\"other1\",IF('Customer Info'!$M$29=0,AY3989*'Customer Info'!$M$18,AY3989*'Customer Info'!$M$29),))),)","v":0},0,null,null,null,null,null,null,null,null,null,null,null,null,null,null,null,null,null,null,null,null,null,null,null,null,null,null,null,null,null,null,null,null,null,null,null,null,null,null,null,null,null,null,null,null,null,null,null,null,null,null,null,0]
[0,0,0,0,0,0,0,0,0,null,{"$f":"0","v":0},0,null,null,null,null,null,null,null,null,null,null,null,null,null,null,null,null,null,null,null,null,null,null,null,null,null,null,null,null,null,null,null,null,null,null,null,null,null,null,0,0,{"$f":"IF(E4006=\"plate waste\",IF(OR(C4006=\"patient\",C4006=\"patient beverages\"),IF('Customer Info'!$M$27=0,AY4006*'Customer Info'!$M$18,AY4006*'Customer Info'!$M$27),IF(C4006=\"cafeteria\",IF('Customer Info'!$M$28=0,AY4006*'Customer Info'!$M$18,AY4006*'Customer Info'!$M$28),IF(C4006=\"other1\",IF('Customer Info'!$M$29=0,AY4006*'Customer Info'!$M$18,AY4006*'Customer Info'!$M$29),))),)","v":0},0,null,null,null,null,null,null,null,null,null,null,null,null,null,null,null,null,null,null,null,null,null,null,null,null,null,null,null,null,null,null,null,null,null,null,null,null,null,null,null,null,null,null,null,null,null,null,null,null,null,null,null,0]
[0,0,0,0,0,0,0,0,0,null,{"$f":"0","v":0},0,null,null,null,null,null,null,null,null,null,null,null,null,null,null,null,null,null,null,null,null,null,null,null,null,null,null,null,null,null,null,null,null,null,null,null,null,null,null,0,0,{"$f":"IF(E4016=\"plate waste\",IF(OR(C4016=\"patient\",C4016=\"patient beverages\"),IF('Customer Info'!$M$27=0,AY4016*'Customer Info'!$M$18,AY4016*'Customer Info'!$M$27),IF(C4016=\"cafeteria\",IF('Customer Info'!$M$28=0,AY4016*'Customer Info'!$M$18,AY4016*'Customer Info'!$M$28),IF(C4016=\"other1\",IF('Customer Info'!$M$29=0,AY4016*'Customer Info'!$M$18,AY4016*'Customer Info'!$M$29),))),)","v":0},0,null,null,null,null,null,null,null,null,null,null,null,null,null,null,null,null,null,null,null,null,null,null,null,null,null,null,null,null,null,null,null,null,null,null,null,null,null,null,null,null,null,null,null,null,null,null,null,null,null,null,null,0]
[0,0,0,0,0,0,0,0,0,null,{"$f":"0","v":0},0,null,null,null,null,null,null,null,null,null,null,null,null,null,null,null,null,null,null,null,null,null,null,null,null,null,null,null,null,null,null,null,null,null,null,null,null,null,null,0,0,{"$f":"IF(E4039=\"plate waste\",IF(OR(C4039=\"patient\",C4039=\"patient beverages\"),IF('Customer Info'!$M$27=0,AY4039*'Customer Info'!$M$18,AY4039*'Customer Info'!$M$27),IF(C4039=\"cafeteria\",IF('Customer Info'!$M$28=0,AY4039*'Customer Info'!$M$18,AY4039*'Customer Info'!$M$28),IF(C4039=\"other1\",IF('Customer Info'!$M$29=0,AY4039*'Customer Info'!$M$18,AY4039*'Customer Info'!$M$29),))),)","v":0},0,null,null,null,null,null,null,null,null,null,null,null,null,null,null,null,null,null,null,null,null,null,null,null,null,null,null,null,null,null,null,null,null,null,null,null,null,null,null,null,null,null,null,null,null,null,null,null,null,null,null,null,0]
[0,0,0,0,0,0,0,0,0,null,{"$f":"0","v":0},0,null,null,null,null,null,null,null,null,null,null,null,null,null,null,null,null,null,null,null,null,null,null,null,null,null,null,null,null,null,null,null,null,null,null,null,null,null,null,0,0,{"$f":"IF(E4056=\"plate waste\",IF(OR(C4056=\"patient\",C4056=\"patient beverages\"),IF('Customer Info'!$M$27=0,AY4056*'Customer Info'!$M$18,AY4056*'Customer Info'!$M$27),IF(C4056=\"cafeteria\",IF('Customer Info'!$M$28=0,AY4056*'Customer Info'!$M$18,AY4056*'Customer Info'!$M$28),IF(C4056=\"other1\",IF('Customer Info'!$M$29=0,AY4056*'Customer Info'!$M$18,AY4056*'Customer Info'!$M$29),))),)","v":0},0,null,null,null,null,null,null,null,null,null,null,null,null,null,null,null,null,null,null,null,null,null,null,null,null,null,null,null,null,null,null,null,null,null,null,null,null,null,null,null,null,null,null,null,null,null,null,null,null,null,null,null,0]
[0,0,0,0,0,0,0,0,0,null,{"$f":"0","v":0},0,null,null,null,null,null,null,null,null,null,null,null,null,null,null,null,null,null,null,null,null,null,null,null,null,null,null,null,null,null,null,null,null,null,null,null,null,null,null,0,0,{"$f":"IF(E4064=\"plate waste\",IF(OR(C4064=\"patient\",C4064=\"patient beverages\"),IF('Customer Info'!$M$27=0,AY4064*'Customer Info'!$M$18,AY4064*'Customer Info'!$M$27),IF(C4064=\"cafeteria\",IF('Customer Info'!$M$28=0,AY4064*'Customer Info'!$M$18,AY4064*'Customer Info'!$M$28),IF(C4064=\"other1\",IF('Customer Info'!$M$29=0,AY4064*'Customer Info'!$M$18,AY4064*'Customer Info'!$M$29),))),)","v":0},0,null,null,null,null,null,null,null,null,null,null,null,null,null,null,null,null,null,null,null,null,null,null,null,null,null,null,null,null,null,null,null,null,null,null,null,null,null,null,null,null,null,null,null,null,null,null,null,null,null,null,null,0]
[0,0,0,0,0,0,0,0,0,null,{"$f":"0","v":0},0,null,null,null,null,null,null,null,null,null,null,null,null,null,null,null,null,null,null,null,null,null,null,null,null,null,null,null,null,null,null,null,null,null,null,null,null,null,null,0,0,{"$f":"IF(E4089=\"plate waste\",IF(OR(C4089=\"patient\",C4089=\"patient beverages\"),IF('Customer Info'!$M$27=0,AY4089*'Customer Info'!$M$18,AY4089*'Customer Info'!$M$27),IF(C4089=\"cafeteria\",IF('Customer Info'!$M$28=0,AY4089*'Customer Info'!$M$18,AY4089*'Customer Info'!$M$28),IF(C4089=\"other1\",IF('Customer Info'!$M$29=0,AY4089*'Customer Info'!$M$18,AY4089*'Customer Info'!$M$29),))),)","v":0},0,null,null,null,null,null,null,null,null,null,null,null,null,null,null,null,null,null,null,null,null,null,null,null,null,null,null,null,null,null,null,null,null,null,null,null,null,null,null,null,null,null,null,null,null,null,null,null,null,null,null,null,0]
[0,0,0,0,0,0,0,0,0,null,{"$f":"0","v":0},0,null,null,null,null,null,null,null,null,null,null,null,null,null,null,null,null,null,null,null,null,null,null,null,null,null,null,null,null,null,null,null,null,null,null,null,null,null,null,0,0,{"$f":"IF(E4106=\"plate waste\",IF(OR(C4106=\"patient\",C4106=\"patient beverages\"),IF('Customer Info'!$M$27=0,AY4106*'Customer Info'!$M$18,AY4106*'Customer Info'!$M$27),IF(C4106=\"cafeteria\",IF('Customer Info'!$M$28=0,AY4106*'Customer Info'!$M$18,AY4106*'Customer Info'!$M$28),IF(C4106=\"other1\",IF('Customer Info'!$M$29=0,AY4106*'Customer Info'!$M$18,AY4106*'Customer Info'!$M$29),))),)","v":0},0,null,null,null,null,null,null,null,null,null,null,null,null,null,null,null,null,null,null,null,null,null,null,null,null,null,null,null,null,null,null,null,null,null,null,null,null,null,null,null,null,null,null,null,null,null,null,null,null,null,null,null,0]
[0,0,0,0,0,0,0,0,0,null,{"$f":"0","v":0},0,null,null,null,null,null,null,null,null,null,null,null,null,null,null,null,null,null,null,null,null,null,null,null,null,null,null,null,null,null,null,null,null,null,null,null,null,null,null,0,0,{"$f":"IF(E4112=\"plate waste\",IF(OR(C4112=\"patient\",C4112=\"patient beverages\"),IF('Customer Info'!$M$27=0,AY4112*'Customer Info'!$M$18,AY4112*'Customer Info'!$M$27),IF(C4112=\"cafeteria\",IF('Customer Info'!$M$28=0,AY4112*'Customer Info'!$M$18,AY4112*'Customer Info'!$M$28),IF(C4112=\"other1\",IF('Customer Info'!$M$29=0,AY4112*'Customer Info'!$M$18,AY4112*'Customer Info'!$M$29),))),)","v":0},0,null,null,null,null,null,null,null,null,null,null,null,null,null,null,null,null,null,null,null,null,null,null,null,null,null,null,null,null,null,null,null,null,null,null,null,null,null,null,null,null,null,null,null,null,null,null,null,null,null,null,null,0]
[0,0,0,0,0,0,0,0,0,null,{"$f":"0","v":0},0,null,null,null,null,null,null,null,null,null,null,null,null,null,null,null,null,null,null,null,null,null,null,null,null,null,null,null,null,null,null,null,null,null,null,null,null,null,null,0,0,{"$f":"IF(E4123=\"plate waste\",IF(OR(C4123=\"patient\",C4123=\"patient beverages\"),IF('Customer Info'!$M$27=0,AY4123*'Customer Info'!$M$18,AY4123*'Customer Info'!$M$27),IF(C4123=\"cafeteria\",IF('Customer Info'!$M$28=0,AY4123*'Customer Info'!$M$18,AY4123*'Customer Info'!$M$28),IF(C4123=\"other1\",IF('Customer Info'!$M$29=0,AY4123*'Customer Info'!$M$18,AY4123*'Customer Info'!$M$29),))),)","v":0},0,null,null,null,null,null,null,null,null,null,null,null,null,null,null,null,null,null,null,null,null,null,null,null,null,null,null,null,null,null,null,null,null,null,null,null,null,null,null,null,null,null,null,null,null,null,null,null,null,null,null,null,0]
[0,0,0,0,0,0,0,0,0,null,{"$f":"0","v":0},0,null,null,null,null,null,null,null,null,null,null,null,null,null,null,null,null,null,null,null,null,null,null,null,null,null,null,null,null,null,null,null,null,null,null,null,null,null,null,0,0,{"$f":"IF(E4140=\"plate waste\",IF(OR(C4140=\"patient\",C4140=\"patient beverages\"),IF('Customer Info'!$M$27=0,AY4140*'Customer Info'!$M$18,AY4140*'Customer Info'!$M$27),IF(C4140=\"cafeteria\",IF('Customer Info'!$M$28=0,AY4140*'Customer Info'!$M$18,AY4140*'Customer Info'!$M$28),IF(C4140=\"other1\",IF('Customer Info'!$M$29=0,AY4140*'Customer Info'!$M$18,AY4140*'Customer Info'!$M$29),))),)","v":0},0,null,null,null,null,null,null,null,null,null,null,null,null,null,null,null,null,null,null,null,null,null,null,null,null,null,null,null,null,null,null,null,null,null,null,null,null,null,null,null,null,null,null,null,null,null,null,null,null,null,null,null,0]
[0,0,0,0,0,0,0,0,0,null,{"$f":"0","v":0},{"$f":"BB4157","v":0},null,null,null,null,null,null,null,null,null,null,null,null,null,null,null,null,null,null,null,null,null,null,null,null,null,null,null,null,null,null,null,null,null,null,null,null,null,null,0,0,{"$f":"IF(E4157=\"plate waste\",IF(OR(C4157=\"patient\",C4157=\"patient beverages\"),IF('Customer Info'!$M$27=0,AY4157*'Customer Info'!$M$18,AY4157*'Customer Info'!$M$27),IF(C4157=\"cafeteria\",IF('Customer Info'!$M$28=0,AY4157*'Customer Info'!$M$18,AY4157*'Customer Info'!$M$28),IF(C4157=\"other1\",IF('Customer Info'!$M$29=0,AY4157*'Customer Info'!$M$18,AY4157*'Customer Info'!$M$29),))),)","v":0},0,null,null,null,null,null,null,null,null,null,null,null,null,null,null,null,null,null,null,null,null,null,null,null,null,null,null,null,null,null,null,null,null,null,null,null,null,null,null,null,null,null,null,null,null,null,null,null,null,null,null,null,0]
[0,0,0,0,0,0,0,0,0,null,{"$f":"0","v":0},0,null,null,null,null,null,null,null,null,null,null,null,null,null,null,null,null,null,null,null,null,null,null,null,null,null,null,null,null,null,null,null,null,null,null,null,null,null,null,0,0,{"$f":"IF(E4171=\"plate waste\",IF(OR(C4171=\"patient\",C4171=\"patient beverages\"),IF('Customer Info'!$M$27=0,AY4171*'Customer Info'!$M$18,AY4171*'Customer Info'!$M$27),IF(C4171=\"cafeteria\",IF('Customer Info'!$M$28=0,AY4171*'Customer Info'!$M$18,AY4171*'Customer Info'!$M$28),IF(C4171=\"other1\",IF('Customer Info'!$M$29=0,AY4171*'Customer Info'!$M$18,AY4171*'Customer Info'!$M$29),))),)","v":0},0,null,null,null,null,null,null,null,null,null,null,null,null,null,null,null,null,null,null,null,null,null,null,null,null,null,null,null,null,null,null,null,null,null,null,null,null,null,null,null,null,null,null,null,null,null,null,null,null,null,null,null,0]
[0,0,0,0,0,0,0,0,0,null,{"$f":"0","v":0},0,null,null,null,null,null,null,null,null,null,null,null,null,null,null,null,null,null,null,null,null,null,null,null,null,null,null,null,null,null,null,null,null,null,null,null,null,null,null,0,0,{"$f":"IF(E4172=\"plate waste\",IF(OR(C4172=\"patient\",C4172=\"patient beverages\"),IF('Customer Info'!$M$27=0,AY4172*'Customer Info'!$M$18,AY4172*'Customer Info'!$M$27),IF(C4172=\"cafeteria\",IF('Customer Info'!$M$28=0,AY4172*'Customer Info'!$M$18,AY4172*'Customer Info'!$M$28),IF(C4172=\"other1\",IF('Customer Info'!$M$29=0,AY4172*'Customer Info'!$M$18,AY4172*'Customer Info'!$M$29),))),)","v":0},0,null,null,null,null,null,null,null,null,null,null,null,null,null,null,null,null,null,null,null,null,null,null,null,null,null,null,null,null,null,null,null,null,null,null,null,null,null,null,null,null,null,null,null,null,null,null,null,null,null,null,null,0]
[0,0,0,0,0,0,0,0,0,null,{"$f":"0","v":0},0,null,null,null,null,null,null,null,null,null,null,null,null,null,null,null,null,null,null,null,null,null,null,null,null,null,null,null,null,null,null,null,null,null,null,null,null,null,null,0,0,{"$f":"IF(E4173=\"plate waste\",IF(OR(C4173=\"patient\",C4173=\"patient beverages\"),IF('Customer Info'!$M$27=0,AY4173*'Customer Info'!$M$18,AY4173*'Customer Info'!$M$27),IF(C4173=\"cafeteria\",IF('Customer Info'!$M$28=0,AY4173*'Customer Info'!$M$18,AY4173*'Customer Info'!$M$28),IF(C4173=\"other1\",IF('Customer Info'!$M$29=0,AY4173*'Customer Info'!$M$18,AY4173*'Customer Info'!$M$29),))),)","v":0},0,null,null,null,null,null,null,null,null,null,null,null,null,null,null,null,null,null,null,null,null,null,null,null,null,null,null,null,null,null,null,null,null,null,null,null,null,null,null,null,null,null,null,null,null,null,null,null,null,null,null,null,0]
[0,0,0,0,0,0,0,0,0,null,{"$f":"0","v":0},0,null,null,null,null,null,null,null,null,null,null,null,null,null,null,null,null,null,null,null,null,null,null,null,null,null,null,null,null,null,null,null,null,null,null,null,null,null,null,0,0,{"$f":"IF(E4174=\"plate waste\",IF(OR(C4174=\"patient\",C4174=\"patient beverages\"),IF('Customer Info'!$M$27=0,AY4174*'Customer Info'!$M$18,AY4174*'Customer Info'!$M$27),IF(C4174=\"cafeteria\",IF('Customer Info'!$M$28=0,AY4174*'Customer Info'!$M$18,AY4174*'Customer Info'!$M$28),IF(C4174=\"other1\",IF('Customer Info'!$M$29=0,AY4174*'Customer Info'!$M$18,AY4174*'Customer Info'!$M$29),))),)","v":0},0,null,null,null,null,null,null,null,null,null,null,null,null,null,null,null,null,null,null,null,null,null,null,null,null,null,null,null,null,null,null,null,null,null,null,null,null,null,null,null,null,null,null,null,null,null,null,null,null,null,null,null,0]
[0,0,0,0,0,0,0,0,0,null,{"$f":"0","v":0},0,null,null,null,null,null,null,null,null,null,null,null,null,null,null,null,null,null,null,null,null,null,null,null,null,null,null,null,null,null,null,null,null,null,null,null,null,null,null,0,0,{"$f":"IF(E4175=\"plate waste\",IF(OR(C4175=\"patient\",C4175=\"patient beverages\"),IF('Customer Info'!$M$27=0,AY4175*'Customer Info'!$M$18,AY4175*'Customer Info'!$M$27),IF(C4175=\"cafeteria\",IF('Customer Info'!$M$28=0,AY4175*'Customer Info'!$M$18,AY4175*'Customer Info'!$M$28),IF(C4175=\"other1\",IF('Customer Info'!$M$29=0,AY4175*'Customer Info'!$M$18,AY4175*'Customer Info'!$M$29),))),)","v":0},0,null,null,null,null,null,null,null,null,null,null,null,null,null,null,null,null,null,null,null,null,null,null,null,null,null,null,null,null,null,null,null,null,null,null,null,null,null,null,null,null,null,null,null,null,null,null,null,null,null,null,null,0]
[0,0,0,0,0,0,0,0,0,null,{"$f":"0","v":0},0,null,null,null,null,null,null,null,null,null,null,null,null,null,null,null,null,null,null,null,null,null,null,null,null,null,null,null,null,null,null,null,null,null,null,null,null,null,null,0,0,{"$f":"IF(E4176=\"plate waste\",IF(OR(C4176=\"patient\",C4176=\"patient beverages\"),IF('Customer Info'!$M$27=0,AY4176*'Customer Info'!$M$18,AY4176*'Customer Info'!$M$27),IF(C4176=\"cafeteria\",IF('Customer Info'!$M$28=0,AY4176*'Customer Info'!$M$18,AY4176*'Customer Info'!$M$28),IF(C4176=\"other1\",IF('Customer Info'!$M$29=0,AY4176*'Customer Info'!$M$18,AY4176*'Customer Info'!$M$29),))),)","v":0},0,null,null,null,null,null,null,null,null,null,null,null,null,null,null,null,null,null,null,null,null,null,null,null,null,null,null,null,null,null,null,null,null,null,null,null,null,null,null,null,null,null,null,null,null,null,null,null,null,null,null,null,0]
[0,0,0,0,0,0,0,0,0,null,{"$f":"0","v":0},0,null,null,null,null,null,null,null,null,null,null,null,null,null,null,null,null,null,null,null,null,null,null,null,null,null,null,null,null,null,null,null,null,null,null,null,null,null,null,0,0,{"$f":"IF(E4177=\"plate waste\",IF(OR(C4177=\"patient\",C4177=\"patient beverages\"),IF('Customer Info'!$M$27=0,AY4177*'Customer Info'!$M$18,AY4177*'Customer Info'!$M$27),IF(C4177=\"cafeteria\",IF('Customer Info'!$M$28=0,AY4177*'Customer Info'!$M$18,AY4177*'Customer Info'!$M$28),IF(C4177=\"other1\",IF('Customer Info'!$M$29=0,AY4177*'Customer Info'!$M$18,AY4177*'Customer Info'!$M$29),))),)","v":0},0,null,null,null,null,null,null,null,null,null,null,null,null,null,null,null,null,null,null,null,null,null,null,null,null,null,null,null,null,null,null,null,null,null,null,null,null,null,null,null,null,null,null,null,null,null,null,null,null,null,null,null,0]
[0,0,0,0,0,0,0,0,0,null,{"$f":"0","v":0},0,null,null,null,null,null,null,null,null,null,null,null,null,null,null,null,null,null,null,null,null,null,null,null,null,null,null,null,null,null,null,null,null,null,null,null,null,null,null,0,0,{"$f":"IF(E4178=\"plate waste\",IF(OR(C4178=\"patient\",C4178=\"patient beverages\"),IF('Customer Info'!$M$27=0,AY4178*'Customer Info'!$M$18,AY4178*'Customer Info'!$M$27),IF(C4178=\"cafeteria\",IF('Customer Info'!$M$28=0,AY4178*'Customer Info'!$M$18,AY4178*'Customer Info'!$M$28),IF(C4178=\"other1\",IF('Customer Info'!$M$29=0,AY4178*'Customer Info'!$M$18,AY4178*'Customer Info'!$M$29),))),)","v":0},0,null,null,null,null,null,null,null,null,null,null,null,null,null,null,null,null,null,null,null,null,null,null,null,null,null,null,null,null,null,null,null,null,null,null,null,null,null,null,null,null,null,null,null,null,null,null,null,null,null,null,null,0]
[0,0,0,0,0,0,0,0,0,null,{"$f":"0","v":0},0,null,null,null,null,null,null,null,null,null,null,null,null,null,null,null,null,null,null,null,null,null,null,null,null,null,null,null,null,null,null,null,null,null,null,null,null,null,null,0,0,{"$f":"IF(E4179=\"plate waste\",IF(OR(C4179=\"patient\",C4179=\"patient beverages\"),IF('Customer Info'!$M$27=0,AY4179*'Customer Info'!$M$18,AY4179*'Customer Info'!$M$27),IF(C4179=\"cafeteria\",IF('Customer Info'!$M$28=0,AY4179*'Customer Info'!$M$18,AY4179*'Customer Info'!$M$28),IF(C4179=\"other1\",IF('Customer Info'!$M$29=0,AY4179*'Customer Info'!$M$18,AY4179*'Customer Info'!$M$29),))),)","v":0},0,null,null,null,null,null,null,null,null,null,null,null,null,null,null,null,null,null,null,null,null,null,null,null,null,null,null,null,null,null,null,null,null,null,null,null,null,null,null,null,null,null,null,null,null,null,null,null,null,null,null,null,0]
[0,0,0,0,0,0,0,0,0,null,{"$f":"0","v":0},0,null,null,null,null,null,null,null,null,null,null,null,null,null,null,null,null,null,null,null,null,null,null,null,null,null,null,null,null,null,null,null,null,null,null,null,null,null,null,0,0,{"$f":"IF(E4180=\"plate waste\",IF(OR(C4180=\"patient\",C4180=\"patient beverages\"),IF('Customer Info'!$M$27=0,AY4180*'Customer Info'!$M$18,AY4180*'Customer Info'!$M$27),IF(C4180=\"cafeteria\",IF('Customer Info'!$M$28=0,AY4180*'Customer Info'!$M$18,AY4180*'Customer Info'!$M$28),IF(C4180=\"other1\",IF('Customer Info'!$M$29=0,AY4180*'Customer Info'!$M$18,AY4180*'Customer Info'!$M$29),))),)","v":0},0,null,null,null,null,null,null,null,null,null,null,null,null,null,null,null,null,null,null,null,null,null,null,null,null,null,null,null,null,null,null,null,null,null,null,null,null,null,null,null,null,null,null,null,null,null,null,null,null,null,null,null,0]
[0,0,0,0,0,0,0,0,0,null,{"$f":"0","v":0},0,null,null,null,null,null,null,null,null,null,null,null,null,null,null,null,null,null,null,null,null,null,null,null,null,null,null,null,null,null,null,null,null,null,null,null,null,null,null,0,0,{"$f":"IF(E4181=\"plate waste\",IF(OR(C4181=\"patient\",C4181=\"patient beverages\"),IF('Customer Info'!$M$27=0,AY4181*'Customer Info'!$M$18,AY4181*'Customer Info'!$M$27),IF(C4181=\"cafeteria\",IF('Customer Info'!$M$28=0,AY4181*'Customer Info'!$M$18,AY4181*'Customer Info'!$M$28),IF(C4181=\"other1\",IF('Customer Info'!$M$29=0,AY4181*'Customer Info'!$M$18,AY4181*'Customer Info'!$M$29),))),)","v":0},0,null,null,null,null,null,null,null,null,null,null,null,null,null,null,null,null,null,null,null,null,null,null,null,null,null,null,null,null,null,null,null,null,null,null,null,null,null,null,null,null,null,null,null,null,null,null,null,null,null,null,null,0]
[0,0,0,0,0,0,0,0,0,null,{"$f":"0","v":0},0,null,null,null,null,null,null,null,null,null,null,null,null,null,null,null,null,null,null,null,null,null,null,null,null,null,null,null,null,null,null,null,null,null,null,null,null,null,null,0,0,{"$f":"IF(E4182=\"plate waste\",IF(OR(C4182=\"patient\",C4182=\"patient beverages\"),IF('Customer Info'!$M$27=0,AY4182*'Customer Info'!$M$18,AY4182*'Customer Info'!$M$27),IF(C4182=\"cafeteria\",IF('Customer Info'!$M$28=0,AY4182*'Customer Info'!$M$18,AY4182*'Customer Info'!$M$28),IF(C4182=\"other1\",IF('Customer Info'!$M$29=0,AY4182*'Customer Info'!$M$18,AY4182*'Customer Info'!$M$29),))),)","v":0},0,null,null,null,null,null,null,null,null,null,null,null,null,null,null,null,null,null,null,null,null,null,null,null,null,null,null,null,null,null,null,null,null,null,null,null,null,null,null,null,null,null,null,null,null,null,null,null,null,null,null,null,0]
[0,0,0,0,0,0,0,0,0,null,{"$f":"0","v":0},0,null,null,null,null,null,null,null,null,null,null,null,null,null,null,null,null,null,null,null,null,null,null,null,null,null,null,null,null,null,null,null,null,null,null,null,null,null,null,0,0,{"$f":"IF(E4183=\"plate waste\",IF(OR(C4183=\"patient\",C4183=\"patient beverages\"),IF('Customer Info'!$M$27=0,AY4183*'Customer Info'!$M$18,AY4183*'Customer Info'!$M$27),IF(C4183=\"cafeteria\",IF('Customer Info'!$M$28=0,AY4183*'Customer Info'!$M$18,AY4183*'Customer Info'!$M$28),IF(C4183=\"other1\",IF('Customer Info'!$M$29=0,AY4183*'Customer Info'!$M$18,AY4183*'Customer Info'!$M$29),))),)","v":0},0,null,null,null,null,null,null,null,null,null,null,null,null,null,null,null,null,null,null,null,null,null,null,null,null,null,null,null,null,null,null,null,null,null,null,null,null,null,null,null,null,null,null,null,null,null,null,null,null,null,null,null,0]
[0,0,0,0,0,0,0,0,0,null,{"$f":"0","v":0},0,null,null,null,null,null,null,null,null,null,null,null,null,null,null,null,null,null,null,null,null,null,null,null,null,null,null,null,null,null,null,null,null,null,null,null,null,null,null,0,0,{"$f":"IF(E4184=\"plate waste\",IF(OR(C4184=\"patient\",C4184=\"patient beverages\"),IF('Customer Info'!$M$27=0,AY4184*'Customer Info'!$M$18,AY4184*'Customer Info'!$M$27),IF(C4184=\"cafeteria\",IF('Customer Info'!$M$28=0,AY4184*'Customer Info'!$M$18,AY4184*'Customer Info'!$M$28),IF(C4184=\"other1\",IF('Customer Info'!$M$29=0,AY4184*'Customer Info'!$M$18,AY4184*'Customer Info'!$M$29),))),)","v":0},0,null,null,null,null,null,null,null,null,null,null,null,null,null,null,null,null,null,null,null,null,null,null,null,null,null,null,null,null,null,null,null,null,null,null,null,null,null,null,null,null,null,null,null,null,null,null,null,null,null,null,null,0]
[0,0,0,0,0,0,0,0,0,null,{"$f":"0","v":0},0,null,null,null,null,null,null,null,null,null,null,null,null,null,null,null,null,null,null,null,null,null,null,null,null,null,null,null,null,null,null,null,null,null,null,null,null,null,null,0,0,{"$f":"IF(E4185=\"plate waste\",IF(OR(C4185=\"patient\",C4185=\"patient beverages\"),IF('Customer Info'!$M$27=0,AY4185*'Customer Info'!$M$18,AY4185*'Customer Info'!$M$27),IF(C4185=\"cafeteria\",IF('Customer Info'!$M$28=0,AY4185*'Customer Info'!$M$18,AY4185*'Customer Info'!$M$28),IF(C4185=\"other1\",IF('Customer Info'!$M$29=0,AY4185*'Customer Info'!$M$18,AY4185*'Customer Info'!$M$29),))),)","v":0},0,null,null,null,null,null,null,null,null,null,null,null,null,null,null,null,null,null,null,null,null,null,null,null,null,null,null,null,null,null,null,null,null,null,null,null,null,null,null,null,null,null,null,null,null,null,null,null,null,null,null,null,0]
[0,0,0,0,0,0,0,0,0,null,{"$f":"0","v":0},0,null,null,null,null,null,null,null,null,null,null,null,null,null,null,null,null,null,null,null,null,null,null,null,null,null,null,null,null,null,null,null,null,null,null,null,null,null,null,0,0,{"$f":"IF(E4186=\"plate waste\",IF(OR(C4186=\"patient\",C4186=\"patient beverages\"),IF('Customer Info'!$M$27=0,AY4186*'Customer Info'!$M$18,AY4186*'Customer Info'!$M$27),IF(C4186=\"cafeteria\",IF('Customer Info'!$M$28=0,AY4186*'Customer Info'!$M$18,AY4186*'Customer Info'!$M$28),IF(C4186=\"other1\",IF('Customer Info'!$M$29=0,AY4186*'Customer Info'!$M$18,AY4186*'Customer Info'!$M$29),))),)","v":0},0,null,null,null,null,null,null,null,null,null,null,null,null,null,null,null,null,null,null,null,null,null,null,null,null,null,null,null,null,null,null,null,null,null,null,null,null,null,null,null,null,null,null,null,null,null,null,null,null,null,null,null,0]
[0,0,0,0,0,0,0,0,0,null,{"$f":"0","v":0},0,null,null,null,null,null,null,null,null,null,null,null,null,null,null,null,null,null,null,null,null,null,null,null,null,null,null,null,null,null,null,null,null,null,null,null,null,null,null,0,0,{"$f":"IF(E4187=\"plate waste\",IF(OR(C4187=\"patient\",C4187=\"patient beverages\"),IF('Customer Info'!$M$27=0,AY4187*'Customer Info'!$M$18,AY4187*'Customer Info'!$M$27),IF(C4187=\"cafeteria\",IF('Customer Info'!$M$28=0,AY4187*'Customer Info'!$M$18,AY4187*'Customer Info'!$M$28),IF(C4187=\"other1\",IF('Customer Info'!$M$29=0,AY4187*'Customer Info'!$M$18,AY4187*'Customer Info'!$M$29),))),)","v":0},0,null,null,null,null,null,null,null,null,null,null,null,null,null,null,null,null,null,null,null,null,null,null,null,null,null,null,null,null,null,null,null,null,null,null,null,null,null,null,null,null,null,null,null,null,null,null,null,null,null,null,null,0]
[0,0,0,0,0,0,0,0,0,null,{"$f":"0","v":0},0,null,null,null,null,null,null,null,null,null,null,null,null,null,null,null,null,null,null,null,null,null,null,null,null,null,null,null,null,null,null,null,null,null,null,null,null,null,null,0,0,{"$f":"IF(E4188=\"plate waste\",IF(OR(C4188=\"patient\",C4188=\"patient beverages\"),IF('Customer Info'!$M$27=0,AY4188*'Customer Info'!$M$18,AY4188*'Customer Info'!$M$27),IF(C4188=\"cafeteria\",IF('Customer Info'!$M$28=0,AY4188*'Customer Info'!$M$18,AY4188*'Customer Info'!$M$28),IF(C4188=\"other1\",IF('Customer Info'!$M$29=0,AY4188*'Customer Info'!$M$18,AY4188*'Customer Info'!$M$29),))),)","v":0},0,null,null,null,null,null,null,null,null,null,null,null,null,null,null,null,null,null,null,null,null,null,null,null,null,null,null,null,null,null,null,null,null,null,null,null,null,null,null,null,null,null,null,null,null,null,null,null,null,null,null,null,0]
[0,{"$f":"IF(AX4189=0,,B279)","v":0},{"$f":"IF(AX4189=0,,C279)","v":0},{"$f":"IF(AX4189=0,,D279)","v":0},{"$f":"IF(AX4189=0,,E279)","v":0},0,{"$f":"IF(AX4189=0,,G279)","v":0},{"$f":"IF(AX4189=0,,H279)","v":0},{"$f":"IF(AY4189=0,,I279*(BB4189/K279))","v":0},null,{"$f":"0","v":0},0,null,null,null,null,null,null,null,null,null,null,null,null,null,null,null,null,null,null,null,null,null,null,null,null,null,null,null,null,null,null,null,null,null,null,null,null,null,null,{"$f":"CX279","v":0},{"$f":"IF(B4189=0,AY4189,AY4189*24/B4189)","v":0},{"$f":"IF(E4189=\"plate waste\",IF(OR(C4189=\"patient\",C4189=\"patient beverages\"),IF('Customer Info'!$M$27=0,AY4189*'Customer Info'!$M$18,AY4189*'Customer Info'!$M$27),IF(C4189=\"cafeteria\",IF('Customer Info'!$M$28=0,AY4189*'Customer Info'!$M$18,AY4189*'Customer Info'!$M$28),IF(C4189=\"other1\",IF('Customer Info'!$M$29=0,AY4189*'Customer Info'!$M$18,AY4189*'Customer Info'!$M$29),))),)","v":0},0,null,null,null,null,null,null,null,null,null,null,null,null,null,null,null,null,null,null,null,null,null,null,null,null,null,null,null,null,null,null,null,null,null,null,null,null,null,null,null,null,null,null,null,null,null,null,null,null,null,null,null,0]
[{"$f":"IF(AX4190=0,,\"other\")","v":0},0,0,0,0,{"$f":"IF(AX4190=0,,\"assumed plate waste-other meal\")","v":0},0,0,0,null,{"$f":"0","v":0},0,null,null,null,null,null,null,null,null,null,null,null,null,null,null,null,null,null,null,null,null,null,null,null,null,null,null,null,null,null,null,null,null,null,null,null,null,null,null,0,0,{"$f":"IF(E4190=\"plate waste\",IF(OR(C4190=\"patient\",C4190=\"patient beverages\"),IF('Customer Info'!$M$27=0,AY4190*'Customer Info'!$M$18,AY4190*'Customer Info'!$M$27),IF(C4190=\"cafeteria\",IF('Customer Info'!$M$28=0,AY4190*'Customer Info'!$M$18,AY4190*'Customer Info'!$M$28),IF(C4190=\"other1\",IF('Customer Info'!$M$29=0,AY4190*'Customer Info'!$M$18,AY4190*'Customer Info'!$M$29),))),)","v":0},0,null,null,null,null,null,null,null,null,null,null,null,null,null,null,null,null,null,null,null,null,null,null,null,null,null,null,null,null,null,null,null,null,null,null,null,null,null,null,null,null,null,null,null,null,null,null,null,null,null,null,null,0]
[0,0,0,0,0,0,0,0,0,null,{"$f":"0","v":0},0,null,null,null,null,null,null,null,null,null,null,null,null,null,null,null,null,null,null,null,null,null,null,null,null,null,null,null,null,null,null,null,null,null,null,null,null,null,null,0,0,{"$f":"IF(E4191=\"plate waste\",IF(OR(C4191=\"patient\",C4191=\"patient beverages\"),IF('Customer Info'!$M$27=0,AY4191*'Customer Info'!$M$18,AY4191*'Customer Info'!$M$27),IF(C4191=\"cafeteria\",IF('Customer Info'!$M$28=0,AY4191*'Customer Info'!$M$18,AY4191*'Customer Info'!$M$28),IF(C4191=\"other1\",IF('Customer Info'!$M$29=0,AY4191*'Customer Info'!$M$18,AY4191*'Customer Info'!$M$29),))),)","v":0},0,null,null,null,null,null,null,null,null,null,null,null,null,null,null,null,null,null,null,null,null,null,null,null,null,null,null,null,null,null,null,null,null,null,null,null,null,null,null,null,null,null,null,null,null,null,null,null,null,null,null,null,0]
[0,0,0,0,0,0,0,0,0,null,{"$f":"0","v":0},0,null,null,null,null,null,null,null,null,null,null,null,null,null,null,null,null,null,null,null,null,null,null,null,null,null,null,null,null,null,null,null,null,null,null,null,null,null,null,0,0,{"$f":"IF(E4192=\"plate waste\",IF(OR(C4192=\"patient\",C4192=\"patient beverages\"),IF('Customer Info'!$M$27=0,AY4192*'Customer Info'!$M$18,AY4192*'Customer Info'!$M$27),IF(C4192=\"cafeteria\",IF('Customer Info'!$M$28=0,AY4192*'Customer Info'!$M$18,AY4192*'Customer Info'!$M$28),IF(C4192=\"other1\",IF('Customer Info'!$M$29=0,AY4192*'Customer Info'!$M$18,AY4192*'Customer Info'!$M$29),))),)","v":0},0,null,null,null,null,null,null,null,null,null,null,null,null,null,null,null,null,null,null,null,null,null,null,null,null,null,null,null,null,null,null,null,null,null,null,null,null,null,null,null,null,null,null,null,null,null,null,null,null,null,null,null,0]
[0,0,0,0,0,0,0,0,0,null,{"$f":"0","v":0},0,null,null,null,null,null,null,null,null,null,null,null,null,null,null,null,null,null,null,null,null,null,null,null,null,null,null,null,null,null,null,null,null,null,null,null,null,null,null,0,0,{"$f":"IF(E4193=\"plate waste\",IF(OR(C4193=\"patient\",C4193=\"patient beverages\"),IF('Customer Info'!$M$27=0,AY4193*'Customer Info'!$M$18,AY4193*'Customer Info'!$M$27),IF(C4193=\"cafeteria\",IF('Customer Info'!$M$28=0,AY4193*'Customer Info'!$M$18,AY4193*'Customer Info'!$M$28),IF(C4193=\"other1\",IF('Customer Info'!$M$29=0,AY4193*'Customer Info'!$M$18,AY4193*'Customer Info'!$M$29),))),)","v":0},0,null,null,null,null,null,null,null,null,null,null,null,null,null,null,null,null,null,null,null,null,null,null,null,null,null,null,null,null,null,null,null,null,null,null,null,null,null,null,null,null,null,null,null,null,null,null,null,null,null,null,null,0]
[0,0,0,0,0,0,0,0,0,null,{"$f":"0","v":0},0,null,null,null,null,null,null,null,null,null,null,null,null,null,null,null,null,null,null,null,null,null,null,null,null,null,null,null,null,null,null,null,null,null,null,null,null,null,null,0,0,{"$f":"IF(E4194=\"plate waste\",IF(OR(C4194=\"patient\",C4194=\"patient beverages\"),IF('Customer Info'!$M$27=0,AY4194*'Customer Info'!$M$18,AY4194*'Customer Info'!$M$27),IF(C4194=\"cafeteria\",IF('Customer Info'!$M$28=0,AY4194*'Customer Info'!$M$18,AY4194*'Customer Info'!$M$28),IF(C4194=\"other1\",IF('Customer Info'!$M$29=0,AY4194*'Customer Info'!$M$18,AY4194*'Customer Info'!$M$29),))),)","v":0},0,null,null,null,null,null,null,null,null,null,null,null,null,null,null,null,null,null,null,null,null,null,null,null,null,null,null,null,null,null,null,null,null,null,null,null,null,null,null,null,null,null,null,null,null,null,null,null,null,null,null,null,0]
[0,0,0,0,0,0,0,0,0,null,{"$f":"0","v":0},0,null,null,null,null,null,null,null,null,null,null,null,null,null,null,null,null,null,null,null,null,null,null,null,null,null,null,null,null,null,null,null,null,null,null,null,null,null,null,0,0,{"$f":"IF(E4195=\"plate waste\",IF(OR(C4195=\"patient\",C4195=\"patient beverages\"),IF('Customer Info'!$M$27=0,AY4195*'Customer Info'!$M$18,AY4195*'Customer Info'!$M$27),IF(C4195=\"cafeteria\",IF('Customer Info'!$M$28=0,AY4195*'Customer Info'!$M$18,AY4195*'Customer Info'!$M$28),IF(C4195=\"other1\",IF('Customer Info'!$M$29=0,AY4195*'Customer Info'!$M$18,AY4195*'Customer Info'!$M$29),))),)","v":0},0,null,null,null,null,null,null,null,null,null,null,null,null,null,null,null,null,null,null,null,null,null,null,null,null,null,null,null,null,null,null,null,null,null,null,null,null,null,null,null,null,null,null,null,null,null,null,null,null,null,null,null,0]
[0,0,0,0,0,0,0,0,0,null,{"$f":"0","v":0},0,null,null,null,null,null,null,null,null,null,null,null,null,null,null,null,null,null,null,null,null,null,null,null,null,null,null,null,null,null,null,null,null,null,null,null,null,null,null,0,0,{"$f":"IF(E4196=\"plate waste\",IF(OR(C4196=\"patient\",C4196=\"patient beverages\"),IF('Customer Info'!$M$27=0,AY4196*'Customer Info'!$M$18,AY4196*'Customer Info'!$M$27),IF(C4196=\"cafeteria\",IF('Customer Info'!$M$28=0,AY4196*'Customer Info'!$M$18,AY4196*'Customer Info'!$M$28),IF(C4196=\"other1\",IF('Customer Info'!$M$29=0,AY4196*'Customer Info'!$M$18,AY4196*'Customer Info'!$M$29),))),)","v":0},0,null,null,null,null,null,null,null,null,null,null,null,null,null,null,null,null,null,null,null,null,null,null,null,null,null,null,null,null,null,null,null,null,null,null,null,null,null,null,null,null,null,null,null,null,null,null,null,null,null,null,null,0]
[0,0,0,0,0,0,0,0,0,null,{"$f":"0","v":0},0,null,null,null,null,null,null,null,null,null,null,null,null,null,null,null,null,null,null,null,null,null,null,null,null,null,null,null,null,null,null,null,null,null,null,null,null,null,null,0,0,{"$f":"IF(E4197=\"plate waste\",IF(OR(C4197=\"patient\",C4197=\"patient beverages\"),IF('Customer Info'!$M$27=0,AY4197*'Customer Info'!$M$18,AY4197*'Customer Info'!$M$27),IF(C4197=\"cafeteria\",IF('Customer Info'!$M$28=0,AY4197*'Customer Info'!$M$18,AY4197*'Customer Info'!$M$28),IF(C4197=\"other1\",IF('Customer Info'!$M$29=0,AY4197*'Customer Info'!$M$18,AY4197*'Customer Info'!$M$29),))),)","v":0},0,null,null,null,null,null,null,null,null,null,null,null,null,null,null,null,null,null,null,null,null,null,null,null,null,null,null,null,null,null,null,null,null,null,null,null,null,null,null,null,null,null,null,null,null,null,null,null,null,null,null,null,0]
[0,0,0,0,0,0,0,0,0,null,{"$f":"0","v":0},0,null,null,null,null,null,null,null,null,null,null,null,null,null,null,null,null,null,null,null,null,null,null,null,null,null,null,null,null,null,null,null,null,null,null,null,null,null,null,0,0,{"$f":"IF(E4198=\"plate waste\",IF(OR(C4198=\"patient\",C4198=\"patient beverages\"),IF('Customer Info'!$M$27=0,AY4198*'Customer Info'!$M$18,AY4198*'Customer Info'!$M$27),IF(C4198=\"cafeteria\",IF('Customer Info'!$M$28=0,AY4198*'Customer Info'!$M$18,AY4198*'Customer Info'!$M$28),IF(C4198=\"other1\",IF('Customer Info'!$M$29=0,AY4198*'Customer Info'!$M$18,AY4198*'Customer Info'!$M$29),))),)","v":0},0,null,null,null,null,null,null,null,null,null,null,null,null,null,null,null,null,null,null,null,null,null,null,null,null,null,null,null,null,null,null,null,null,null,null,null,null,null,null,null,null,null,null,null,null,null,null,null,null,null,null,null,0]
[0,0,0,0,0,0,0,0,0,null,{"$f":"0","v":0},0,null,null,null,null,null,null,null,null,null,null,null,null,null,null,null,null,null,null,null,null,null,null,null,null,null,null,null,null,null,null,null,null,null,null,null,null,null,null,0,0,{"$f":"IF(E4199=\"plate waste\",IF(OR(C4199=\"patient\",C4199=\"patient beverages\"),IF('Customer Info'!$M$27=0,AY4199*'Customer Info'!$M$18,AY4199*'Customer Info'!$M$27),IF(C4199=\"cafeteria\",IF('Customer Info'!$M$28=0,AY4199*'Customer Info'!$M$18,AY4199*'Customer Info'!$M$28),IF(C4199=\"other1\",IF('Customer Info'!$M$29=0,AY4199*'Customer Info'!$M$18,AY4199*'Customer Info'!$M$29),))),)","v":0},0,null,null,null,null,null,null,null,null,null,null,null,null,null,null,null,null,null,null,null,null,null,null,null,null,null,null,null,null,null,null,null,null,null,null,null,null,null,null,null,null,null,null,null,null,null,null,null,null,null,null,null,0]
[0,0,0,0,0,0,0,0,0,null,{"$f":"0","v":0},0,null,null,null,null,null,null,null,null,null,null,null,null,null,null,null,null,null,null,null,null,null,null,null,null,null,null,null,null,null,null,null,null,null,null,null,null,null,null,0,0,{"$f":"IF(E4200=\"plate waste\",IF(OR(C4200=\"patient\",C4200=\"patient beverages\"),IF('Customer Info'!$M$27=0,AY4200*'Customer Info'!$M$18,AY4200*'Customer Info'!$M$27),IF(C4200=\"cafeteria\",IF('Customer Info'!$M$28=0,AY4200*'Customer Info'!$M$18,AY4200*'Customer Info'!$M$28),IF(C4200=\"other1\",IF('Customer Info'!$M$29=0,AY4200*'Customer Info'!$M$18,AY4200*'Customer Info'!$M$29),))),)","v":0},0,null,null,null,null,null,null,null,null,null,null,null,null,null,null,null,null,null,null,null,null,null,null,null,null,null,null,null,null,null,null,null,null,null,null,null,null,null,null,null,null,null,null,null,null,null,null,null,null,null,null,null,0]
[0,0,0,0,0,0,0,0,0,null,{"$f":"0","v":0},0,null,null,null,null,null,null,null,null,null,null,null,null,null,null,null,null,null,null,null,null,null,null,null,null,null,null,null,null,null,null,null,null,null,null,null,null,null,null,0,0,{"$f":"IF(E4201=\"plate waste\",IF(OR(C4201=\"patient\",C4201=\"patient beverages\"),IF('Customer Info'!$M$27=0,AY4201*'Customer Info'!$M$18,AY4201*'Customer Info'!$M$27),IF(C4201=\"cafeteria\",IF('Customer Info'!$M$28=0,AY4201*'Customer Info'!$M$18,AY4201*'Customer Info'!$M$28),IF(C4201=\"other1\",IF('Customer Info'!$M$29=0,AY4201*'Customer Info'!$M$18,AY4201*'Customer Info'!$M$29),))),)","v":0},0,null,null,null,null,null,null,null,null,null,null,null,null,null,null,null,null,null,null,null,null,null,null,null,null,null,null,null,null,null,null,null,null,null,null,null,null,null,null,null,null,null,null,null,null,null,null,null,null,null,null,null,0]
[0,0,0,0,0,0,0,0,0,null,{"$f":"0","v":0},0,null,null,null,null,null,null,null,null,null,null,null,null,null,null,null,null,null,null,null,null,null,null,null,null,null,null,null,null,null,null,null,null,null,null,null,null,null,null,0,0,{"$f":"IF(E4202=\"plate waste\",IF(OR(C4202=\"patient\",C4202=\"patient beverages\"),IF('Customer Info'!$M$27=0,AY4202*'Customer Info'!$M$18,AY4202*'Customer Info'!$M$27),IF(C4202=\"cafeteria\",IF('Customer Info'!$M$28=0,AY4202*'Customer Info'!$M$18,AY4202*'Customer Info'!$M$28),IF(C4202=\"other1\",IF('Customer Info'!$M$29=0,AY4202*'Customer Info'!$M$18,AY4202*'Customer Info'!$M$29),))),)","v":0},0,null,null,null,null,null,null,null,null,null,null,null,null,null,null,null,null,null,null,null,null,null,null,null,null,null,null,null,null,null,null,null,null,null,null,null,null,null,null,null,null,null,null,null,null,null,null,null,null,null,null,null,0]
[0,0,0,0,0,0,0,0,0,null,{"$f":"0","v":0},0,null,null,null,null,null,null,null,null,null,null,null,null,null,null,null,null,null,null,null,null,null,null,null,null,null,null,null,null,null,null,null,null,null,null,null,null,null,null,0,0,{"$f":"IF(E4203=\"plate waste\",IF(OR(C4203=\"patient\",C4203=\"patient beverages\"),IF('Customer Info'!$M$27=0,AY4203*'Customer Info'!$M$18,AY4203*'Customer Info'!$M$27),IF(C4203=\"cafeteria\",IF('Customer Info'!$M$28=0,AY4203*'Customer Info'!$M$18,AY4203*'Customer Info'!$M$28),IF(C4203=\"other1\",IF('Customer Info'!$M$29=0,AY4203*'Customer Info'!$M$18,AY4203*'Customer Info'!$M$29),))),)","v":0},0,null,null,null,null,null,null,null,null,null,null,null,null,null,null,null,null,null,null,null,null,null,null,null,null,null,null,null,null,null,null,null,null,null,null,null,null,null,null,null,null,null,null,null,null,null,null,null,null,null,null,null,0]
[0,0,0,0,0,0,0,0,0,null,{"$f":"0","v":0},0,null,null,null,null,null,null,null,null,null,null,null,null,null,null,null,null,null,null,null,null,null,null,null,null,null,null,null,null,null,null,null,null,null,null,null,null,null,null,0,0,{"$f":"IF(E4204=\"plate waste\",IF(OR(C4204=\"patient\",C4204=\"patient beverages\"),IF('Customer Info'!$M$27=0,AY4204*'Customer Info'!$M$18,AY4204*'Customer Info'!$M$27),IF(C4204=\"cafeteria\",IF('Customer Info'!$M$28=0,AY4204*'Customer Info'!$M$18,AY4204*'Customer Info'!$M$28),IF(C4204=\"other1\",IF('Customer Info'!$M$29=0,AY4204*'Customer Info'!$M$18,AY4204*'Customer Info'!$M$29),))),)","v":0},0,null,null,null,null,null,null,null,null,null,null,null,null,null,null,null,null,null,null,null,null,null,null,null,null,null,null,null,null,null,null,null,null,null,null,null,null,null,null,null,null,null,null,null,null,null,null,null,null,null,null,null,0]
[0,0,0,0,0,0,0,0,0,null,{"$f":"0","v":0},0,null,null,null,null,null,null,null,null,null,null,null,null,null,null,null,null,null,null,null,null,null,null,null,null,null,null,null,null,null,null,null,null,null,null,null,null,null,null,0,0,{"$f":"IF(E4205=\"plate waste\",IF(OR(C4205=\"patient\",C4205=\"patient beverages\"),IF('Customer Info'!$M$27=0,AY4205*'Customer Info'!$M$18,AY4205*'Customer Info'!$M$27),IF(C4205=\"cafeteria\",IF('Customer Info'!$M$28=0,AY4205*'Customer Info'!$M$18,AY4205*'Customer Info'!$M$28),IF(C4205=\"other1\",IF('Customer Info'!$M$29=0,AY4205*'Customer Info'!$M$18,AY4205*'Customer Info'!$M$29),))),)","v":0},0,null,null,null,null,null,null,null,null,null,null,null,null,null,null,null,null,null,null,null,null,null,null,null,null,null,null,null,null,null,null,null,null,null,null,null,null,null,null,null,null,null,null,null,null,null,null,null,null,null,null,null,0]
[0,0,0,0,0,0,0,0,0,null,{"$f":"0","v":0},0,null,null,null,null,null,null,null,null,null,null,null,null,null,null,null,null,null,null,null,null,null,null,null,null,null,null,null,null,null,null,null,null,null,null,null,null,null,null,0,0,{"$f":"IF(E4206=\"plate waste\",IF(OR(C4206=\"patient\",C4206=\"patient beverages\"),IF('Customer Info'!$M$27=0,AY4206*'Customer Info'!$M$18,AY4206*'Customer Info'!$M$27),IF(C4206=\"cafeteria\",IF('Customer Info'!$M$28=0,AY4206*'Customer Info'!$M$18,AY4206*'Customer Info'!$M$28),IF(C4206=\"other1\",IF('Customer Info'!$M$29=0,AY4206*'Customer Info'!$M$18,AY4206*'Customer Info'!$M$29),))),)","v":0},0,null,null,null,null,null,null,null,null,null,null,null,null,null,null,null,null,null,null,null,null,null,null,null,null,null,null,null,null,null,null,null,null,null,null,null,null,null,null,null,null,null,null,null,null,null,null,null,null,null,null,null,0]
[0,0,0,0,0,0,0,0,0,null,{"$f":"0","v":0},0,null,null,null,null,null,null,null,null,null,null,null,null,null,null,null,null,null,null,null,null,null,null,null,null,null,null,null,null,null,null,null,null,null,null,null,null,null,null,0,0,{"$f":"IF(E4207=\"plate waste\",IF(OR(C4207=\"patient\",C4207=\"patient beverages\"),IF('Customer Info'!$M$27=0,AY4207*'Customer Info'!$M$18,AY4207*'Customer Info'!$M$27),IF(C4207=\"cafeteria\",IF('Customer Info'!$M$28=0,AY4207*'Customer Info'!$M$18,AY4207*'Customer Info'!$M$28),IF(C4207=\"other1\",IF('Customer Info'!$M$29=0,AY4207*'Customer Info'!$M$18,AY4207*'Customer Info'!$M$29),))),)","v":0},{"$f":"BA4207","v":0},null,null,null,null,null,null,null,null,null,null,null,null,null,null,null,null,null,null,null,null,null,null,null,null,null,null,null,null,null,null,null,null,null,null,null,null,null,null,null,null,null,null,null,null,null,null,null,null,null,null,null,{"$f":"IF(C4207=\"patient beverages\",L4207,)","v":0}]
[0,0,0,0,0,0,0,0,0,null,{"$f":"0","v":0},0,null,null,null,null,null,null,null,null,null,null,null,null,null,null,null,null,null,null,null,null,null,null,null,null,null,null,null,null,null,null,null,null,null,null,null,null,null,null,0,0,{"$f":"IF(E4208=\"plate waste\",IF(OR(C4208=\"patient\",C4208=\"patient beverages\"),IF('Customer Info'!$M$27=0,AY4208*'Customer Info'!$M$18,AY4208*'Customer Info'!$M$27),IF(C4208=\"cafeteria\",IF('Customer Info'!$M$28=0,AY4208*'Customer Info'!$M$18,AY4208*'Customer Info'!$M$28),IF(C4208=\"other1\",IF('Customer Info'!$M$29=0,AY4208*'Customer Info'!$M$18,AY4208*'Customer Info'!$M$29),))),)","v":0},0,null,null,null,null,null,null,null,null,null,null,null,null,null,null,null,null,null,null,null,null,null,null,null,null,null,null,null,null,null,null,null,null,null,null,null,null,null,null,null,null,null,null,null,null,null,null,null,null,null,null,null,0]
[0,0,0,0,0,0,0,0,0,null,{"$f":"0","v":0},0,null,null,null,null,null,null,null,null,null,null,null,null,null,null,null,null,null,null,null,null,null,null,null,null,null,null,null,null,null,null,null,null,null,null,null,null,null,null,0,0,{"$f":"IF(E4209=\"plate waste\",IF(OR(C4209=\"patient\",C4209=\"patient beverages\"),IF('Customer Info'!$M$27=0,AY4209*'Customer Info'!$M$18,AY4209*'Customer Info'!$M$27),IF(C4209=\"cafeteria\",IF('Customer Info'!$M$28=0,AY4209*'Customer Info'!$M$18,AY4209*'Customer Info'!$M$28),IF(C4209=\"other1\",IF('Customer Info'!$M$29=0,AY4209*'Customer Info'!$M$18,AY4209*'Customer Info'!$M$29),))),)","v":0},0,null,null,null,null,null,null,null,null,null,null,null,null,null,null,null,null,null,null,null,null,null,null,null,null,null,null,null,null,null,null,null,null,null,null,null,null,null,null,null,null,null,null,null,null,null,null,null,null,null,null,null,0]
[0,0,0,0,0,0,0,0,0,null,{"$f":"0","v":0},0,null,null,null,null,null,null,null,null,null,null,null,null,null,null,null,null,null,null,null,null,null,null,null,null,null,null,null,null,null,null,null,null,null,null,null,null,null,null,0,0,{"$f":"IF(E4210=\"plate waste\",IF(OR(C4210=\"patient\",C4210=\"patient beverages\"),IF('Customer Info'!$M$27=0,AY4210*'Customer Info'!$M$18,AY4210*'Customer Info'!$M$27),IF(C4210=\"cafeteria\",IF('Customer Info'!$M$28=0,AY4210*'Customer Info'!$M$18,AY4210*'Customer Info'!$M$28),IF(C4210=\"other1\",IF('Customer Info'!$M$29=0,AY4210*'Customer Info'!$M$18,AY4210*'Customer Info'!$M$29),))),)","v":0},0,null,null,null,null,null,null,null,null,null,null,null,null,null,null,null,null,null,null,null,null,null,null,null,null,null,null,null,null,null,null,null,null,null,null,null,null,null,null,null,null,null,null,null,null,null,null,null,null,null,null,null,0]
[0,0,0,0,0,0,0,0,0,null,{"$f":"0","v":0},0,null,null,null,null,null,null,null,null,null,null,null,null,null,null,null,null,null,null,null,null,null,null,null,null,null,null,null,null,null,null,null,null,null,null,null,null,null,null,0,0,{"$f":"IF(E4211=\"plate waste\",IF(OR(C4211=\"patient\",C4211=\"patient beverages\"),IF('Customer Info'!$M$27=0,AY4211*'Customer Info'!$M$18,AY4211*'Customer Info'!$M$27),IF(C4211=\"cafeteria\",IF('Customer Info'!$M$28=0,AY4211*'Customer Info'!$M$18,AY4211*'Customer Info'!$M$28),IF(C4211=\"other1\",IF('Customer Info'!$M$29=0,AY4211*'Customer Info'!$M$18,AY4211*'Customer Info'!$M$29),))),)","v":0},0,null,null,null,null,null,null,null,null,null,null,null,null,null,null,null,null,null,null,null,null,null,null,null,null,null,null,null,null,null,null,null,null,null,null,null,null,null,null,null,null,null,null,null,null,null,null,null,null,null,null,null,0]
[0,0,0,0,0,0,0,0,0,null,{"$f":"0","v":0},0,null,null,null,null,null,null,null,null,null,null,null,null,null,null,null,null,null,null,null,null,null,null,null,null,null,null,null,null,null,null,null,null,null,null,null,null,null,null,0,0,{"$f":"IF(E4212=\"plate waste\",IF(OR(C4212=\"patient\",C4212=\"patient beverages\"),IF('Customer Info'!$M$27=0,AY4212*'Customer Info'!$M$18,AY4212*'Customer Info'!$M$27),IF(C4212=\"cafeteria\",IF('Customer Info'!$M$28=0,AY4212*'Customer Info'!$M$18,AY4212*'Customer Info'!$M$28),IF(C4212=\"other1\",IF('Customer Info'!$M$29=0,AY4212*'Customer Info'!$M$18,AY4212*'Customer Info'!$M$29),))),)","v":0},0,null,null,null,null,null,null,null,null,null,null,null,null,null,null,null,null,null,null,null,null,null,null,null,null,null,null,null,null,null,null,null,null,null,null,null,null,null,null,null,null,null,null,null,null,null,null,null,null,null,null,null,0]
[0,0,0,0,0,0,0,0,0,null,{"$f":"0","v":0},0,null,null,null,null,null,null,null,null,null,null,null,null,null,null,null,null,null,null,null,null,null,null,null,null,null,null,null,null,null,null,null,null,null,null,null,null,null,null,0,0,{"$f":"IF(E4213=\"plate waste\",IF(OR(C4213=\"patient\",C4213=\"patient beverages\"),IF('Customer Info'!$M$27=0,AY4213*'Customer Info'!$M$18,AY4213*'Customer Info'!$M$27),IF(C4213=\"cafeteria\",IF('Customer Info'!$M$28=0,AY4213*'Customer Info'!$M$18,AY4213*'Customer Info'!$M$28),IF(C4213=\"other1\",IF('Customer Info'!$M$29=0,AY4213*'Customer Info'!$M$18,AY4213*'Customer Info'!$M$29),))),)","v":0},0,null,null,null,null,null,null,null,null,null,null,null,null,null,null,null,null,null,null,null,null,null,null,null,null,null,null,null,null,null,null,null,null,null,null,null,null,null,null,null,null,null,null,null,null,null,null,null,null,null,null,null,0]
[0,0,0,0,0,0,0,0,0,null,{"$f":"0","v":0},0,null,null,null,null,null,null,null,null,null,null,null,null,null,null,null,null,null,null,null,null,null,null,null,null,null,null,null,null,null,null,null,null,null,null,null,null,null,null,0,0,{"$f":"IF(E4214=\"plate waste\",IF(OR(C4214=\"patient\",C4214=\"patient beverages\"),IF('Customer Info'!$M$27=0,AY4214*'Customer Info'!$M$18,AY4214*'Customer Info'!$M$27),IF(C4214=\"cafeteria\",IF('Customer Info'!$M$28=0,AY4214*'Customer Info'!$M$18,AY4214*'Customer Info'!$M$28),IF(C4214=\"other1\",IF('Customer Info'!$M$29=0,AY4214*'Customer Info'!$M$18,AY4214*'Customer Info'!$M$29),))),)","v":0},0,null,null,null,null,null,null,null,null,null,null,null,null,null,null,null,null,null,null,null,null,null,null,null,null,null,null,null,null,null,null,null,null,null,null,null,null,null,null,null,null,null,null,null,null,null,null,null,null,null,null,null,0]
[0,0,0,0,0,0,0,0,0,null,{"$f":"0","v":0},0,null,null,null,null,null,null,null,null,null,null,null,null,null,null,null,null,null,null,null,null,null,null,null,null,null,null,null,null,null,null,null,null,null,null,null,null,null,null,0,0,{"$f":"IF(E4215=\"plate waste\",IF(OR(C4215=\"patient\",C4215=\"patient beverages\"),IF('Customer Info'!$M$27=0,AY4215*'Customer Info'!$M$18,AY4215*'Customer Info'!$M$27),IF(C4215=\"cafeteria\",IF('Customer Info'!$M$28=0,AY4215*'Customer Info'!$M$18,AY4215*'Customer Info'!$M$28),IF(C4215=\"other1\",IF('Customer Info'!$M$29=0,AY4215*'Customer Info'!$M$18,AY4215*'Customer Info'!$M$29),))),)","v":0},0,null,null,null,null,null,null,null,null,null,null,null,null,null,null,null,null,null,null,null,null,null,null,null,null,null,null,null,null,null,null,null,null,null,null,null,null,null,null,null,null,null,null,null,null,null,null,null,null,null,null,null,0]
[0,0,0,0,0,0,0,0,0,null,{"$f":"0","v":0},0,null,null,null,null,null,null,null,null,null,null,null,null,null,null,null,null,null,null,null,null,null,null,null,null,null,null,null,null,null,null,null,null,null,null,null,null,null,null,0,0,{"$f":"IF(E4216=\"plate waste\",IF(OR(C4216=\"patient\",C4216=\"patient beverages\"),IF('Customer Info'!$M$27=0,AY4216*'Customer Info'!$M$18,AY4216*'Customer Info'!$M$27),IF(C4216=\"cafeteria\",IF('Customer Info'!$M$28=0,AY4216*'Customer Info'!$M$18,AY4216*'Customer Info'!$M$28),IF(C4216=\"other1\",IF('Customer Info'!$M$29=0,AY4216*'Customer Info'!$M$18,AY4216*'Customer Info'!$M$29),))),)","v":0},0,null,null,null,null,null,null,null,null,null,null,null,null,null,null,null,null,null,null,null,null,null,null,null,null,null,null,null,null,null,null,null,null,null,null,null,null,null,null,null,null,null,null,null,null,null,null,null,null,null,null,null,0]
[0,0,0,0,0,0,0,0,0,null,{"$f":"0","v":0},0,null,null,null,null,null,null,null,null,null,null,null,null,null,null,null,null,null,null,null,null,null,null,null,null,null,null,null,null,null,null,null,null,null,null,null,null,null,null,0,0,{"$f":"IF(E4217=\"plate waste\",IF(OR(C4217=\"patient\",C4217=\"patient beverages\"),IF('Customer Info'!$M$27=0,AY4217*'Customer Info'!$M$18,AY4217*'Customer Info'!$M$27),IF(C4217=\"cafeteria\",IF('Customer Info'!$M$28=0,AY4217*'Customer Info'!$M$18,AY4217*'Customer Info'!$M$28),IF(C4217=\"other1\",IF('Customer Info'!$M$29=0,AY4217*'Customer Info'!$M$18,AY4217*'Customer Info'!$M$29),))),)","v":0},0,null,null,null,null,null,null,null,null,null,null,null,null,null,null,null,null,null,null,null,null,null,null,null,null,null,null,null,null,null,null,null,null,null,null,null,null,null,null,null,null,null,null,null,null,null,null,null,null,null,null,null,0]
[0,0,0,0,0,0,0,0,0,null,{"$f":"0","v":0},0,null,null,null,null,null,null,null,null,null,null,null,null,null,null,null,null,null,null,null,null,null,null,null,null,null,null,null,null,null,null,null,null,null,null,null,null,null,null,0,0,{"$f":"IF(E4218=\"plate waste\",IF(OR(C4218=\"patient\",C4218=\"patient beverages\"),IF('Customer Info'!$M$27=0,AY4218*'Customer Info'!$M$18,AY4218*'Customer Info'!$M$27),IF(C4218=\"cafeteria\",IF('Customer Info'!$M$28=0,AY4218*'Customer Info'!$M$18,AY4218*'Customer Info'!$M$28),IF(C4218=\"other1\",IF('Customer Info'!$M$29=0,AY4218*'Customer Info'!$M$18,AY4218*'Customer Info'!$M$29),))),)","v":0},0,null,null,null,null,null,null,null,null,null,null,null,null,null,null,null,null,null,null,null,null,null,null,null,null,null,null,null,null,null,null,null,null,null,null,null,null,null,null,null,null,null,null,null,null,null,null,null,null,null,null,null,0]
[0,0,0,0,0,0,0,0,0,null,{"$f":"0","v":0},0,null,null,null,null,null,null,null,null,null,null,null,null,null,null,null,null,null,null,null,null,null,null,null,null,null,null,null,null,null,null,null,null,null,null,null,null,null,null,0,0,{"$f":"IF(E4219=\"plate waste\",IF(OR(C4219=\"patient\",C4219=\"patient beverages\"),IF('Customer Info'!$M$27=0,AY4219*'Customer Info'!$M$18,AY4219*'Customer Info'!$M$27),IF(C4219=\"cafeteria\",IF('Customer Info'!$M$28=0,AY4219*'Customer Info'!$M$18,AY4219*'Customer Info'!$M$28),IF(C4219=\"other1\",IF('Customer Info'!$M$29=0,AY4219*'Customer Info'!$M$18,AY4219*'Customer Info'!$M$29),))),)","v":0},0,null,null,null,null,null,null,null,null,null,null,null,null,null,null,null,null,null,null,null,null,null,null,null,null,null,null,null,null,null,null,null,null,null,null,null,null,null,null,null,null,null,null,null,null,null,null,null,null,null,null,null,0]
[0,0,0,0,0,0,0,0,0,null,{"$f":"0","v":0},0,null,null,null,null,null,null,null,null,null,null,null,null,null,null,null,null,null,null,null,null,null,null,null,null,null,null,null,null,null,null,null,null,null,null,null,null,null,null,0,0,{"$f":"IF(E4220=\"plate waste\",IF(OR(C4220=\"patient\",C4220=\"patient beverages\"),IF('Customer Info'!$M$27=0,AY4220*'Customer Info'!$M$18,AY4220*'Customer Info'!$M$27),IF(C4220=\"cafeteria\",IF('Customer Info'!$M$28=0,AY4220*'Customer Info'!$M$18,AY4220*'Customer Info'!$M$28),IF(C4220=\"other1\",IF('Customer Info'!$M$29=0,AY4220*'Customer Info'!$M$18,AY4220*'Customer Info'!$M$29),))),)","v":0},0,null,null,null,null,null,null,null,null,null,null,null,null,null,null,null,null,null,null,null,null,null,null,null,null,null,null,null,null,null,null,null,null,null,null,null,null,null,null,null,null,null,null,null,null,null,null,null,null,null,null,null,0]
[0,0,0,0,0,0,0,0,0,null,{"$f":"0","v":0},{"$f":"BB4221","v":0},null,null,null,null,null,null,null,null,null,null,null,null,null,null,null,null,null,null,null,null,null,null,null,null,null,null,null,null,null,null,null,null,null,null,null,null,null,null,0,0,{"$f":"IF(E4221=\"plate waste\",IF(OR(C4221=\"patient\",C4221=\"patient beverages\"),IF('Customer Info'!$M$27=0,AY4221*'Customer Info'!$M$18,AY4221*'Customer Info'!$M$27),IF(C4221=\"cafeteria\",IF('Customer Info'!$M$28=0,AY4221*'Customer Info'!$M$18,AY4221*'Customer Info'!$M$28),IF(C4221=\"other1\",IF('Customer Info'!$M$29=0,AY4221*'Customer Info'!$M$18,AY4221*'Customer Info'!$M$29),))),)","v":0},0,null,null,null,null,null,null,null,null,null,null,null,null,null,null,null,null,null,null,null,null,null,null,null,null,null,null,null,null,null,null,null,null,null,null,null,null,null,null,null,null,null,null,null,null,null,null,null,null,null,null,null,0]
[0,0,0,0,0,0,0,0,0,null,{"$f":"0","v":0},0,null,null,null,null,null,null,null,null,null,null,null,null,null,null,null,null,null,null,null,null,null,null,null,null,null,null,null,null,null,null,null,null,null,null,null,null,null,null,0,0,{"$f":"IF(E4222=\"plate waste\",IF(OR(C4222=\"patient\",C4222=\"patient beverages\"),IF('Customer Info'!$M$27=0,AY4222*'Customer Info'!$M$18,AY4222*'Customer Info'!$M$27),IF(C4222=\"cafeteria\",IF('Customer Info'!$M$28=0,AY4222*'Customer Info'!$M$18,AY4222*'Customer Info'!$M$28),IF(C4222=\"other1\",IF('Customer Info'!$M$29=0,AY4222*'Customer Info'!$M$18,AY4222*'Customer Info'!$M$29),))),)","v":0},0,null,null,null,null,null,null,null,null,null,null,null,null,null,null,null,null,null,null,null,null,null,null,null,null,null,null,null,null,null,null,null,null,null,null,null,null,null,null,null,null,null,null,null,null,null,null,null,null,null,null,null,0]
[0,0,0,0,0,0,0,0,0,null,{"$f":"0","v":0},0,null,null,null,null,null,null,null,null,null,null,null,null,null,null,null,null,null,null,null,null,null,null,null,null,null,null,null,null,null,null,null,null,null,null,null,null,null,null,0,0,{"$f":"IF(E4223=\"plate waste\",IF(OR(C4223=\"patient\",C4223=\"patient beverages\"),IF('Customer Info'!$M$27=0,AY4223*'Customer Info'!$M$18,AY4223*'Customer Info'!$M$27),IF(C4223=\"cafeteria\",IF('Customer Info'!$M$28=0,AY4223*'Customer Info'!$M$18,AY4223*'Customer Info'!$M$28),IF(C4223=\"other1\",IF('Customer Info'!$M$29=0,AY4223*'Customer Info'!$M$18,AY4223*'Customer Info'!$M$29),))),)","v":0},0,null,null,null,null,null,null,null,null,null,null,null,null,null,null,null,null,null,null,null,null,null,null,null,null,null,null,null,null,null,null,null,null,null,null,null,null,null,null,null,null,null,null,null,null,null,null,null,null,null,null,null,0]
[0,0,0,0,0,0,0,0,0,null,{"$f":"0","v":0},0,null,null,null,null,null,null,null,null,null,null,null,null,null,null,null,null,null,null,null,null,null,null,null,null,null,null,null,null,null,null,null,null,null,null,null,null,null,null,0,0,{"$f":"IF(E4224=\"plate waste\",IF(OR(C4224=\"patient\",C4224=\"patient beverages\"),IF('Customer Info'!$M$27=0,AY4224*'Customer Info'!$M$18,AY4224*'Customer Info'!$M$27),IF(C4224=\"cafeteria\",IF('Customer Info'!$M$28=0,AY4224*'Customer Info'!$M$18,AY4224*'Customer Info'!$M$28),IF(C4224=\"other1\",IF('Customer Info'!$M$29=0,AY4224*'Customer Info'!$M$18,AY4224*'Customer Info'!$M$29),))),)","v":0},0,null,null,null,null,null,null,null,null,null,null,null,null,null,null,null,null,null,null,null,null,null,null,null,null,null,null,null,null,null,null,null,null,null,null,null,null,null,null,null,null,null,null,null,null,null,null,null,null,null,null,null,0]
[0,0,0,0,0,0,0,0,0,null,{"$f":"0","v":0},0,null,null,null,null,null,null,null,null,null,null,null,null,null,null,null,null,null,null,null,null,null,null,null,null,null,null,null,null,null,null,null,null,null,null,null,null,null,null,0,0,{"$f":"IF(E4225=\"plate waste\",IF(OR(C4225=\"patient\",C4225=\"patient beverages\"),IF('Customer Info'!$M$27=0,AY4225*'Customer Info'!$M$18,AY4225*'Customer Info'!$M$27),IF(C4225=\"cafeteria\",IF('Customer Info'!$M$28=0,AY4225*'Customer Info'!$M$18,AY4225*'Customer Info'!$M$28),IF(C4225=\"other1\",IF('Customer Info'!$M$29=0,AY4225*'Customer Info'!$M$18,AY4225*'Customer Info'!$M$29),))),)","v":0},0,null,null,null,null,null,null,null,null,null,null,null,null,null,null,null,null,null,null,null,null,null,null,null,null,null,null,null,null,null,null,null,null,null,null,null,null,null,null,null,null,null,null,null,null,null,null,null,null,null,null,null,0]
[0,0,0,0,0,0,0,0,0,null,{"$f":"0","v":0},0,null,null,null,null,null,null,null,null,null,null,null,null,null,null,null,null,null,null,null,null,null,null,null,null,null,null,null,null,null,null,null,null,null,null,null,null,null,null,0,0,{"$f":"IF(E4226=\"plate waste\",IF(OR(C4226=\"patient\",C4226=\"patient beverages\"),IF('Customer Info'!$M$27=0,AY4226*'Customer Info'!$M$18,AY4226*'Customer Info'!$M$27),IF(C4226=\"cafeteria\",IF('Customer Info'!$M$28=0,AY4226*'Customer Info'!$M$18,AY4226*'Customer Info'!$M$28),IF(C4226=\"other1\",IF('Customer Info'!$M$29=0,AY4226*'Customer Info'!$M$18,AY4226*'Customer Info'!$M$29),))),)","v":0},0,null,null,null,null,null,null,null,null,null,null,null,null,null,null,null,null,null,null,null,null,null,null,null,null,null,null,null,null,null,null,null,null,null,null,null,null,null,null,null,null,null,null,null,null,null,null,null,null,null,null,null,0]
[0,0,0,0,0,0,0,0,0,null,{"$f":"0","v":0},0,null,null,null,null,null,null,null,null,null,null,null,null,null,null,null,null,null,null,null,null,null,null,null,null,null,null,null,null,null,null,null,null,null,null,null,null,null,null,0,0,{"$f":"IF(E4227=\"plate waste\",IF(OR(C4227=\"patient\",C4227=\"patient beverages\"),IF('Customer Info'!$M$27=0,AY4227*'Customer Info'!$M$18,AY4227*'Customer Info'!$M$27),IF(C4227=\"cafeteria\",IF('Customer Info'!$M$28=0,AY4227*'Customer Info'!$M$18,AY4227*'Customer Info'!$M$28),IF(C4227=\"other1\",IF('Customer Info'!$M$29=0,AY4227*'Customer Info'!$M$18,AY4227*'Customer Info'!$M$29),))),)","v":0},0,null,null,null,null,null,null,null,null,null,null,null,null,null,null,null,null,null,null,null,null,null,null,null,null,null,null,null,null,null,null,null,null,null,null,null,null,null,null,null,null,null,null,null,null,null,null,null,null,null,null,null,0]
[0,0,0,0,0,0,0,0,0,null,{"$f":"0","v":0},0,null,null,null,null,null,null,null,null,null,null,null,null,null,null,null,null,null,null,null,null,null,null,null,null,null,null,null,null,null,null,null,null,null,null,null,null,null,null,0,0,{"$f":"IF(E4228=\"plate waste\",IF(OR(C4228=\"patient\",C4228=\"patient beverages\"),IF('Customer Info'!$M$27=0,AY4228*'Customer Info'!$M$18,AY4228*'Customer Info'!$M$27),IF(C4228=\"cafeteria\",IF('Customer Info'!$M$28=0,AY4228*'Customer Info'!$M$18,AY4228*'Customer Info'!$M$28),IF(C4228=\"other1\",IF('Customer Info'!$M$29=0,AY4228*'Customer Info'!$M$18,AY4228*'Customer Info'!$M$29),))),)","v":0},0,null,null,null,null,null,null,null,null,null,null,null,null,null,null,null,null,null,null,null,null,null,null,null,null,null,null,null,null,null,null,null,null,null,null,null,null,null,null,null,null,null,null,null,null,null,null,null,null,null,null,null,0]
[0,0,0,0,0,0,0,0,0,null,{"$f":"0","v":0},0,null,null,null,null,null,null,null,null,null,null,null,null,null,null,null,null,null,null,null,null,null,null,null,null,null,null,null,null,null,null,null,null,null,null,null,null,null,null,0,0,{"$f":"IF(E4229=\"plate waste\",IF(OR(C4229=\"patient\",C4229=\"patient beverages\"),IF('Customer Info'!$M$27=0,AY4229*'Customer Info'!$M$18,AY4229*'Customer Info'!$M$27),IF(C4229=\"cafeteria\",IF('Customer Info'!$M$28=0,AY4229*'Customer Info'!$M$18,AY4229*'Customer Info'!$M$28),IF(C4229=\"other1\",IF('Customer Info'!$M$29=0,AY4229*'Customer Info'!$M$18,AY4229*'Customer Info'!$M$29),))),)","v":0},0,null,null,null,null,null,null,null,null,null,null,null,null,null,null,null,null,null,null,null,null,null,null,null,null,null,null,null,null,null,null,null,null,null,null,null,null,null,null,null,null,null,null,null,null,null,null,null,null,null,null,null,0]
[0,0,0,0,0,0,0,0,0,null,{"$f":"0","v":0},0,null,null,null,null,null,null,null,null,null,null,null,null,null,null,null,null,null,null,null,null,null,null,null,null,null,null,null,null,null,null,null,null,null,null,null,null,null,null,0,0,{"$f":"IF(E4230=\"plate waste\",IF(OR(C4230=\"patient\",C4230=\"patient beverages\"),IF('Customer Info'!$M$27=0,AY4230*'Customer Info'!$M$18,AY4230*'Customer Info'!$M$27),IF(C4230=\"cafeteria\",IF('Customer Info'!$M$28=0,AY4230*'Customer Info'!$M$18,AY4230*'Customer Info'!$M$28),IF(C4230=\"other1\",IF('Customer Info'!$M$29=0,AY4230*'Customer Info'!$M$18,AY4230*'Customer Info'!$M$29),))),)","v":0},0,null,null,null,null,null,null,null,null,null,null,null,null,null,null,null,null,null,null,null,null,null,null,null,null,null,null,null,null,null,null,null,null,null,null,null,null,null,null,null,null,null,null,null,null,null,null,null,null,null,null,null,0]
[0,0,0,0,0,0,0,0,0,null,{"$f":"0","v":0},0,null,null,null,null,null,null,null,null,null,null,null,null,null,null,null,null,null,null,null,null,null,null,null,null,null,null,null,null,null,null,null,null,null,null,null,null,null,null,0,0,{"$f":"IF(E4231=\"plate waste\",IF(OR(C4231=\"patient\",C4231=\"patient beverages\"),IF('Customer Info'!$M$27=0,AY4231*'Customer Info'!$M$18,AY4231*'Customer Info'!$M$27),IF(C4231=\"cafeteria\",IF('Customer Info'!$M$28=0,AY4231*'Customer Info'!$M$18,AY4231*'Customer Info'!$M$28),IF(C4231=\"other1\",IF('Customer Info'!$M$29=0,AY4231*'Customer Info'!$M$18,AY4231*'Customer Info'!$M$29),))),)","v":0},0,null,null,null,null,null,null,null,null,null,null,null,null,null,null,null,null,null,null,null,null,null,null,null,null,null,null,null,null,null,null,null,null,null,null,null,null,null,null,null,null,null,null,null,null,null,null,null,null,null,null,null,0]
[0,0,0,0,0,0,0,0,0,null,{"$f":"0","v":0},0,null,null,null,null,null,null,null,null,null,null,null,null,null,null,null,null,null,null,null,null,null,null,null,null,null,null,null,null,null,null,null,null,null,null,null,null,null,null,0,0,{"$f":"IF(E4232=\"plate waste\",IF(OR(C4232=\"patient\",C4232=\"patient beverages\"),IF('Customer Info'!$M$27=0,AY4232*'Customer Info'!$M$18,AY4232*'Customer Info'!$M$27),IF(C4232=\"cafeteria\",IF('Customer Info'!$M$28=0,AY4232*'Customer Info'!$M$18,AY4232*'Customer Info'!$M$28),IF(C4232=\"other1\",IF('Customer Info'!$M$29=0,AY4232*'Customer Info'!$M$18,AY4232*'Customer Info'!$M$29),))),)","v":0},0,null,null,null,null,null,null,null,null,null,null,null,null,null,null,null,null,null,null,null,null,null,null,null,null,null,null,null,null,null,null,null,null,null,null,null,null,null,null,null,null,null,null,null,null,null,null,null,null,null,null,null,0]

{"sheet":"Overview","index":3,"n_rows":252,"n_cols":8,"rows_kept":252,"cut":false,"hidden":false,"merged":[[45,1,45,7],[67,1,67,7],[251,1,252,7],[246,5,246,7],[247,5,247,7],[246,2,246,4],[247,2,247,4],[246,1,248,1],[211,4,211,5],[212,4,212,5],[245,1,245,7],[242,0,243,8],[221,1,221,7],[218,0,219,8],[213,4,213,5],[215,4,215,5],[208,1,208,7],[209,4,210,6],[186,1,186,7],[109,1,110,7],[164,1,164,7],[161,0,162,8],[209,1,210,2],[0,0,3,8],[115,1,115,7],[139,1,139,7],[5,0,6,8],[14,6,14,7],[15,6,15,7],[8,1,8,7],[16,6,16,7],[17,6,17,7],[18,6,18,7],[12,4,12,5],[112,0,113,8],[136,0,137,8],[20,1,20,7],[42,0,43,8],[89,1,89,7]]}
["Food Waste Assessment Results"]
[]
[]
[]
[]
["Summary Information"]
[]
[]
[null,"Total Food Waste Generated"]
[null,"Summary","lbs","tons"]
[null,"Daily Food Waste",{"$f":"C19","v":647.47609758371914},{"$f":"C11/2000","v":0.32373804879185958}]
[null,"Weekly Food Waste",{"$f":"D19","v":4532.3326830860342},{"$f":"C12/2000","v":2.2661663415430171}]
[null,"Yearly Food Waste",{"$f":"F19","v":236328.77561805749},{"$f":"C13/2000","v":118.16438780902875}]
[]
[null,"Disposal Summary (lbs)","per day","per week","per month","per year","percent"]
[null,"Landfilled Food",{"$f":"GETPIVOTDATA(\"Scaled Food Weight (lbs/day)\",$B$50)","v":573.48869705321511},{"$f":"C16*7","v":4014.4208793725056},{"$f":"C16*30.5","v":17491.405260123061},{"$f":"C16*365","v":209323.37442442353},{"$f":"(IF($F$19=0,0,F16/$F$19))","v":0.88572952606804545}]
[null,"Donated Food",{"$f":"GETPIVOTDATA(\"Scaled Food Weight (lbs/day)\",$B$72)","v":15.374005305039788},{"$f":"C17*7","v":107.61803713527851},{"$f":"C17*30.5","v":468.90716180371351},{"$f":"C17*365","v":5611.5119363395224},{"$f":"(IF($F$19=0,0,F17/$F$19))","v":2.3744514063782744E-2}]
[null,"Recycled Food*",{"$f":"GETPIVOTDATA(\"Scaled Food Weight (lbs/day)\",$B$94)","v":58.613395225464181},410.29376657824929,{"$f":"C18*30.5","v":1787.7085543766575},21393.889257294428,9.0525959868171704E-2]
[null,"Total",{"$f":"GETPIVOTDATA(\"Scaled Food Weight (lbs/day)\",$B$25)","v":647.47609758371914},{"$f":"C19*7","v":4532.3326830860342},{"$f":"C19*30.5","v":19748.020976303433},{"$f":"C19*365","v":236328.77561805749},{"$f":"SUM(G16:H18)","v":0.99999999999999989}]
[null,"* Food sent to compost, anaerobic digestion (food waste to energy), animal feed, animal bedding, rendering, etc."]
[null,"Total Food Waste Distribution by Source"]
[null,"Percent of Total",{"$f":"G19","v":0.99999999999999989}]
[null,"Disposal Method","(Multiple Items)"]
[]
[null,"Source Location","Food Weight (lbs/day)"]
[null,"patient",217.22310006568168]
[null,"cafeteria",202.2156112852665]
[null,"patient beverages",158.66218729377886]
[null,"kitchen",63.225596816976122]
[null,"other1",6.1496021220159154]
[null,"coffee bar",0]
[null,"other2",0]
[null,"Total",647.47609758371914]
[]
[]
[]
[]
[]
[]
[null,"See Source tab for details"]
[]
[]
["Disposal Methods"]
[]
[]
[null,"Landfilled Food Waste by Source"]
[null,"Percent of Total",{"$f":"G16","v":0.88572952606804545}]
[null,"Disposal Method","landfill"]
[]
[null,"Source Location","Food Weight (lbs/day)"]
[null,"patient",212.61089847416974]
[null,"cafeteria",202.21561128526648]
[null,"patient beverages",158.66218729377886]
[null,"kitchen",0]
[null,"coffee bar",0]
[null,"other1",0]
[null,"other2",0]
[null,"Landfill Total",573.48869705321511]
[]
[]
[]
[]
[]
[]
[null,"See Source tab for details"]
[]
[]
[null,"Donated Surplus by Source"]
[null,"Percent of Total",{"$f":"G17","v":2.3744514063782744E-2}]
[null,"Disposal Method","donation"]
[]
[null,"Source Location","Food Weight (lbs/day)"]
[null,"kitchen",15.374005305039788]
[null,"patient",0]
[null,"other2",0]
[null,"coffee bar",0]
[null,"patient beverages",0]
[null,"other1",0]
[null,"cafeteria",0]
[null,"Donation Total",15.374005305039788]
[]
[]
[]
[]
[]
[]
[null,"See Source tab for details"]
[]
[]
[null,"Recycled* Food Waste by Source"]
[null,"Percent of Total",{"$f":"G18","v":9.0525959868171704E-2}]
[null,"Disposal Method","(Multiple Items)"]
[]
[null,"Source Location","Food Weight (lbs/day)"]
[null,"kitchen",47.851591511936334]
[null,"other1",6.1496021220159154]
[null,"patient",4.6122015915119361]
[null,"coffee bar",0]
[null,"patient beverages",0]
[null,"other2",0]
[null,"cafeteria",0]
[null,"Recycled Total",58.613395225464181]
[]
[]
[]
[]
[]
[]
[null,"See Source tab for details"]
[null,"*Includes items that are composted, sent to animal feed or industrial uses such as food waste to energy (e.g. anaerobic digestion) and animal bedding"]
[]
[]
["Meal Service Overview"]
[]
[]
[null,"Food Waste by Meal Distribution"]
[null,"Source Location","Food Weight (lbs/day)"]
[null,"dinner",269.37052350143853]
[null,"lunch",212.85597803450469]
[null,"breakfast",165.24959604777587]
[null,"other",0]
[null,"Total",647.47609758371914]
[]
[]
[]
[]
[]
[]
[]
[]
[]
[]
[]
[]
[]
[]
["Loss Reason Overview"]
[]
[]
[null,"Food Waste by Loss Reason"]
[null,"Source Location","Food Weight (lbs/day)"]
[null,"plate waste",565.4173442680692]
[null,"prep waste",44.200265251989386]
[null,"surplus",31.70888594164456]
[null,"quality",6.1496021220159154]
[null,"expired",0]
[null,"other",0]
[null,"Total",647.47609758371914]
[]
[]
[]
[]
[]
[]
[]
[]
[]
[]
[]
[null,"See Loss Reason Tab for details"]
[]
["Post-Consumer Overview"]
[]
[]
[null,"Pre Vs. Post Consumer Food Waste"]
[null,"Food Waste","lbs/day"]
[null,"Pre-Consumer",{"$f":"'Log Sheet'!CZ9","v":82.058753315649867}]
[null,"Post-Consumer",{"$f":"'Log Sheet'!CY9","v":481.03271659494027}]
[null,"Total",{"$f":"SUM(C167:C168)","v":563.09146991059015}]
[]
[]
[]
[]
[]
[]
[]
[]
[]
[]
[]
[]
[]
[]
[]
[]
[]
[null,"Plate Waste Distribution based on Source"]
[null,"Loss Reason","plate waste"]
[]
[null,"Source Location","Food Weight (lbs/day)"]
[null,"patient",204.5395456890239]
[null,"cafeteria",202.21561128526648]
[null,"patient beverages",158.66218729377886]
[null,"other2",0]
[null,"coffee bar",0]
[null,"kitchen",0]
[null,"other1",0]
[null,"Total",565.4173442680692]
[]
[]
[]
[]
[]
[]
[]
[]
[null,"See Loss Reason Tab for details"]
[]
[null,"Patient Beverage Information (Optional)"]
[null,"Number of Unopened Beverages Disposed Of:",null,null,"Weight of Unopened Beverages Disposed Of:"]
[]
[null,"Number per Day",{"$f":"'Log Sheet'!DA9","v":309.02622723727768},null,"lbs per Day",null,{"$f":"'Log Sheet'!DB9","v":158.66218729377886}]
[null,"Number per Week",{"$f":"C212*7","v":2163.183590660944},null,"lbs per Week",null,{"$f":"G212*7","v":1110.6353110564519}]
[null,"% retuned unopened",{"$f":"IF('Customer Info'!$J$27=0,\"Hover for info\",$C$212/'Customer Info'!$J$27)","v":0.42920309338510787}]
[]
[null,"Number per Year",{"$f":"C212*365","v":112794.57294160636},null,"Lbs per Year",null,{"$f":"G213*365","v":405381.88853560493}]
[]
[]
["Landfill Diversion Rate"]
[]
[]
[null,"Percent of Food Waste Diverted from Landfill"]
[null,"Food Waste","lbs/year"]
[null,"Landfilled Food",{"$f":"F16","v":209323.37442442353}]
[null,"Donated Food",{"$f":"F17","v":5611.5119363395224}]
[null,"Recycled Food",{"$f":"F18","v":21393.889257294428}]
[]
[null,"Overall Diversion Rate",{"$f":"IF(SUM(C224:C226)=0,0,SUM(C225:C226)/SUM(C224:C226))","v":0.11427047393195447}]
[]
[]
[]
[]
[]
[]
[]
[]
[]
[]
[]
[]
[]
[]
["NYS Food System Sustainability Clearinghouse Estimation Tool"]
[]
[]
[null,"Food Waste - Actual vs. Estimate**"]
[null,"Assessment Day vs. Max Potential","Assessment Day",null,null,"Full Capacity"]
[null,null,{"$f":"\"\"&'Customer Info'!E13&\" Occupied Beds\"","v":"240 Occupied Beds"},null,null,{"$f":"\"\"&'Customer Info'!E12&\" Staffed Beds\"","v":"250 Staffed Beds"}]
[null,null,"Estimated","Actual","Result","Estimated","Actual","Result"]
[null,"Tons/ Week",{"$f":"IF('Customer Info'!E10=\"Hospital\", 3.42*'Customer Info'!E13*7/2000, 1.8*'Customer Info'!E13*7/2000)","v":2.8727999999999998},{"$f":"D12","v":2.2661663415430171},{"$f":"IF(D250<=C250,ROUND(ABS(D250-C250)/D250,2)*100&\"% LOWER\",ROUND(ABS(D250-C250)/D250,2)*100&\"% HIGHER\")","v":"27% LOWER"},{"$f":"IF('Customer Info'!E10=\"Hospital\", 3.42*'Customer Info'!E12*7/2000, 1.8*'Customer Info'!E12*7/2000)","v":2.9925000000000002},{"$f":"IF('Customer Info'!E13=0,D12,D12*'Customer Info'!E12/'Customer Info'!E13)","v":2.3605899391073093},{"$f":"IF(G250<=F250,ROUND(ABS(G250-F250)/G250,2)*100&\"% LOWER\",ROUND(ABS(G250-F250)/G250,2)*100&\"% HIGHER\")","v":"27% LOWER"}]
[null,"*http://www.rit.edu/affiliate/nysp2i/food/food-waste-estimator"]
[null,"**Healthcare facilities that follow best practices to limit food waste are typically 10-35% below the estimate. See the Clearinghouse (http://bit.ly/NYSP2IFoodStudy) for more information.\nHospitals following best practice techniques to limit food waste are typically 10-35% below the estimation. See the Clearinghouse (link) for more information.\n"]

{"sheet":"Source","index":4,"n_rows":16,"n_cols":20,"rows_kept":16,"cut":false,"hidden":false,"merged":[]}
["Food Waste by Source: Includes all food waste items regardless of disposal method."]
[]
[{"$f":"B4","v":"kitchen"},null,null,{"$f":"E4","v":"cafeteria"},null,null,{"$f":"H4","v":"patient"},null,null,{"$f":"K4","v":"patient beverages"},null,null,{"$f":"N4","v":"coffee bar"},null,null,{"$f":"Q4","v":"other1"},null,null,{"$f":"T4","v":"other2"}]
["Source Location","kitchen",null,"Source Location","cafeteria",null,"Source Location","patient",null,"Source Location","patient beverages",null,"Source Location","coffee bar",null,"Source Location","other1",null,"Source Location","other2"]
[]
["Source Location","Food Weight (lbs/day)",null,"Source Location","Food Weight (lbs/day)",null,"Source Location","Food Weight (lbs/day)",null,"Source Location","Food Weight (lbs/day)",null,"Source Location","Food Weight (lbs/day)",null,"Source Location","Food Weight (lbs/day)",null,"Source Location","Food Weight (lbs/day)"]
["prep waste",39.588063660477452,null,"plate waste",202.2156112852665,null,"plate waste",204.5395456890239,null,"plate waste",158.66218729377886,null,"Total",null,null,"quality",6.1496021220159154,null,"Total"]
["Potato peels and trimmings",8.6478779840848805,null,"Pizza, French fries, pasta, roast beef",61.168965517241382,null,"Pancakes, eggs, sausage, applesauce",47.540970596404897,null,"Milk, Juice – sorted out",104.94583548271893,null,null,null,null,"Burned rice – rice cooker is broken",6.1496021220159154]
["Cut watermelon and cantaloupe rinds",30.940185676392574,null,"Pizza, French fries, rice, chicken",110.37836990595613,null,"Sandwiches, grilled chicken, salad, rice",72.451410658307211,null,"assumed patient beverage waste-dinner",53.71635181105993,null,null,null,null,"Total",6.1496021220159154]
["surplus",23.637533156498669,null,"assumed plate waste - breakfast",30.668275862068967,null,"Refused meal (patient non-selected, ER) – sandwich, salad & dressing, milk",3.2932459390139646,null,"Total",158.66218729377886]
["Rice, pasta",15.374005305039788,null,"Total",202.2156112852665,null,"Pasta, bread, salad, salmon",81.253918495297796]
["Scrambled Eggs, Pancakes",3.4591511936339518,null,null,null,null,"surplus",8.0713527851458888]
["Pre-made sandwiches",4.8043766578249336,null,null,null,null,"Pan scrapes, leftovers from serving line",8.0713527851458888]
["Total",63.225596816976122,null,null,null,null,"prep waste",4.6122015915119361]
[null,null,null,null,null,null,"Carrot, onion, pepper and lettuce trimmings",4.6122015915119361]
[null,null,null,null,null,null,"Total",217.22310006568171]

{"sheet":"Loss Reason","index":5,"n_rows":20,"n_cols":17,"rows_kept":20,"cut":false,"hidden":false,"merged":[]}
["Food Waste by Loss Reason: Includes all food waste items regardless of disposal method."]
[]
[{"$f":"B4","v":"plate waste"},null,null,{"$f":"E4","v":"prep waste"},null,null,{"$f":"H4","v":"expired"},null,null,{"$f":"K4","v":"surplus"},null,null,{"$f":"N4","v":"quality"},null,null,{"$f":"Q4","v":"other"}]
["Loss Reason","plate waste",null,"Loss Reason","prep waste",null,"Loss Reason","expired",null,"Loss Reason","surplus",null,"Loss Reason","quality",null,"Loss Reason","other"]
[]
["Source Location","Food Weight (lbs/day)",null,"Source Location","Food Weight (lbs/day)",null,"Source Location","Food Weight (lbs/day)",null,"Source Location","Food Weight (lbs/day)",null,"Source Location","Food Weight (lbs/day)",null,"Source Location","Food Weight (lbs/day)"]
["patient",204.5395456890239,null,"kitchen",39.588063660477452,null,"Total",null,null,"kitchen",23.637533156498669,null,"other1",6.1496021220159154,null,"Total"]
["Pancakes, eggs, sausage, applesauce",47.540970596404897,null,"Potato peels and trimmings",8.6478779840848805,null,null,null,null,"Rice, pasta",15.374005305039788,null,"Burned rice – rice cooker is broken",6.1496021220159154]
["Sandwiches, grilled chicken, salad, rice",72.451410658307211,null,"Cut watermelon and cantaloupe rinds",30.940185676392574,null,null,null,null,"Scrambled Eggs, Pancakes",3.4591511936339518,null,"Total",6.1496021220159154]
["Refused meal (patient non-selected, ER) – sandwich, salad & dressing, milk",3.2932459390139646,null,"patient",4.6122015915119361,null,null,null,null,"Pre-made sandwiches",4.8043766578249336]
["Pasta, bread, salad, salmon",81.253918495297796,null,"Carrot, onion, pepper and lettuce trimmings",4.6122015915119361,null,null,null,null,"patient",8.0713527851458888]
["cafeteria",202.2156112852665,null,"Total",44.200265251989386,null,null,null,null,"Pan scrapes, leftovers from serving line",8.0713527851458888]
["Pizza, French fries, pasta, roast beef",61.168965517241382,null,null,null,null,null,null,null,"Total",31.70888594164456]
["Pizza, French fries, rice, chicken",110.37836990595613]
["assumed plate waste - breakfast",30.668275862068967]
["patient beverages",158.66218729377886]
["Milk, Juice – sorted out",104.94583548271893]
["assumed patient beverage waste-dinner",53.71635181105993]
[null,0]
["Total",565.4173442680692]

{"sheet":"Surplus","index":6,"n_rows":47,"n_cols":12,"rows_kept":47,"cut":false,"hidden":false,"merged":[[9,7,9,11],[0,0,3,12],[31,4,31,5],[9,1,9,5],[36,7,36,8],[36,10,36,11],[31,7,31,11],[31,1,31,2]]}
["Food Waste Assessment Results"]
[]
[]
[]
[]
[]
[]
[]
[]
[null,"Increasing Food Waste Prevention",null,null,null,null,null,"Increasing Food Waste Donation"]
[]
[]
[]
[]
[]
[]
[]
[]
[]
[]
[]
[]
[]
[]
[]
[]
[]
[]
[]
[]
[]
[null,"Surplus Food Details",null,null,"Surplus Food Impact",null,null,"Donation Summary"]
[null,"Loss Reason","surplus",null,{"$f":"GETPIVOTDATA(\"Scaled Food Weight (lbs/day)\",$B$35)","v":31.70888594164456},"lbs/day",null,null,"Lbs/day",null,"Lbs/year","% Increase"]
[null,null,null,null,{"$f":"E33*365","v":11573.743368700265},"lbs/year",null,"Current Amount",{"$f":"GETPIVOTDATA(\"Scaled Food Weight (lbs/day)\",$H$41)","v":15.374005305039788},null,{"$f":"I34*365","v":5611.5119363395224},"-"]
[null,"Source Location","Food Weight (lbs/day)",null,null,null,null,"Potential Amount",{"$f":"I34+GETPIVOTDATA(\"Scaled Food Weight (lbs/day)\",$K$41)","v":31.70888594164456},null,{"$f":"I35*365","v":11573.743368700265},{"$f":"IF(I34=0,I35/100,((I35-I34)/I34))*100","v":106.24999999999997}]
[null,"kitchen",23.637533156498669]
[null,"Rice, pasta",15.374005305039788,null,null,null,null,"Current Donation",null,null,"Potential to Donate"]
[null,"Scrambled Eggs, Pancakes",3.4591511936339518,null,null,null,null,null,null,null,"Loss Reason","surplus"]
[null,"Pre-made sandwiches",4.8043766578249336,null,null,null,null,"Disposal Method","donation",null,"Disposal Method","(Multiple Items)"]
[null,"patient",8.0713527851458888]
[null,"Pan scrapes, leftovers from serving line",8.0713527851458888,null,null,null,null,"Source Location","Food Weight (lbs/day)",null,"Source Location","Food Weight (lbs/day)"]
[null,"Total",31.70888594164456,null,null,null,null,"kitchen",15.374005305039788,null,"kitchen",8.2635278514588855]
[null,null,null,null,null,null,null,"Rice, pasta",15.374005305039788,null,"Scrambled Eggs, Pancakes",3.4591511936339518]
[null,null,null,null,null,null,null,"Total",15.374005305039788,null,"Pre-made sandwiches",4.8043766578249336]
[null,null,null,null,null,null,null,null,null,null,"patient",8.0713527851458888]
[null,null,null,null,null,null,null,null,null,null,"Pan scrapes, leftovers from serving line",8.0713527851458888]
[null,null,null,null,null,null,null,null,null,null,"Total",16.334880636604773]

{"sheet":"Recycling","index":7,"n_rows":61,"n_cols":6,"rows_kept":61,"cut":false,"hidden":false,"merged":[[42,1,42,2],[42,4,42,5],[0,0,3,6],[9,1,9,5],[24,1,29,5],[30,1,30,5],[32,1,32,5]]}
["Food Waste Assessment Results"]
[]
[]
[]
[]
[]
[]
[]
[]
[null,"Increasing Food Waste Recycling"]
[]
[]
[]
[]
[]
[]
[]
[]
[]
[]
[]
[]
[]
[]
[]
[]
[]
[]
[]
[]
[]
[]
[null,"Recycling Summary"]
[null,null,"Lbs/day",null,"Lbs/year","% Increase"]
[null,"Current Recycled Amount",{"$f":"GETPIVOTDATA(\"Scaled Food Weight (lbs/day)\",$B$47)","v":58.613395225464181},null,{"$f":"C35*365","v":21393.889257294428},"-"]
[null,"Potential Recycled Amount",{"$f":"GETPIVOTDATA(\"Scaled Food Weight (lbs/day)\",$E$47)+C35","v":624.03073949353336},null,{"$f":"C36*365","v":227771.21991513966},{"$f":"IF(C35=0,C36/100,((C36-C35)/C35))*100","v":964.65550595237937}]
[]
[]
[]
[]
[]
[]
[null,"Current Recycling",null,null,"Additional Potential to Recycle"]
[null,null,null,null,"Loss Reason","(Multiple Items)"]
[null,"Disposal Method","(Multiple Items)",null,"Disposal Method","landfill"]
[]
[null,"Source Location","Food Weight (lbs/day)",null,"Source Location","Food Weight (lbs/day)"]
[null,"kitchen",47.851591511936334,null,"patient",204.5395456890239]
[null,"Potato peels and trimmings",8.6478779840848805,null,"Pancakes, eggs, sausage, applesauce",47.540970596404897]
[null,"Cut watermelon and cantaloupe rinds",30.940185676392574,null,"Sandwiches, grilled chicken, salad, rice",72.451410658307211]
[null,"Scrambled Eggs, Pancakes",3.4591511936339518,null,"Refused meal (patient non-selected, ER) – sandwich, salad & dressing, milk",3.2932459390139646]
[null,"Pre-made sandwiches",4.8043766578249336,null,"Pasta, bread, salad, salmon",81.253918495297796]
[null,"other1",6.1496021220159154,null,"cafeteria",202.2156112852665]
[null,"Burned rice – rice cooker is broken",6.1496021220159154,null,"Pizza, French fries, pasta, roast beef",61.168965517241382]
[null,"patient",4.6122015915119361,null,"Pizza, French fries, rice, chicken",110.37836990595613]
[null,"Carrot, onion, pepper and lettuce trimmings",4.6122015915119361,null,"assumed plate waste - breakfast",30.668275862068967]
[null,"Total",58.613395225464181,null,"patient beverages",158.66218729377886]
[null,null,null,null,"Milk, Juice – sorted out",104.94583548271893]
[null,null,null,null,"assumed patient beverage waste-dinner",53.71635181105993]
[null,null,null,null,null,0]
[null,null,null,null,"Total",565.4173442680692]